Workbook

Sheet １月
D1: 卵 用 鶏 | G1: 肉 用 鶏 | J1: 合 計 | N1: 累 計 | P1: Bの対前年
A2: 所別 | B2: 件数 | C2: 入検(A) | D2: 解放(B) | E2: B/A | F2: 入検(A) | G2: 解放(B) | H2: B/A | I2: 入検(A) | J2: 解放(B) | K2: B/A | L2: 件数 | M2: 入検(A) | N2: 解放(B) | O2: B/A | P2: 同期比 (%) | Q2: 前年同期累計 | R2: 前年同期合計
A3: 横浜本所 | E3: =IF(ISERROR(D3/C3),"",D3/C3) | H3: =IF(ISERROR(G3/F3),"",G3/F3) | I3: =C3+F3 -> 0 | J3: =D3+G3 -> 0 | K3: =IF(ISERROR(J3/I3),"",J3/I3) | L3: =B3 -> 0 | M3: =I3 -> 0 | N3: =J3 -> 0 | O3: =IF(ISERROR(N3/M3),"",N3/M3) | P3: =IF(ISERROR(N3/Q3),"",N3/Q3) | Q3: =R3 -> 0 | R3: 0
A4: 静岡出張所 | E4: =IF(ISERROR(D4/C4),"",D4/C4) | H4: =IF(ISERROR(G4/F4),"",G4/F4) | I4: =C4+F4 -> 0 | J4: =D4+G4 -> 0 | K4: =IF(ISERROR(J4/I4),"",J4/I4) | L4: =B4 -> 0 | M4: =I4 -> 0 | N4: =J4 -> 0 | O4: =IF(ISERROR(N4/M4),"",N4/M4) | P4: =IF(ISERROR(N4/Q4),"",N4/Q4) | Q4: =R4 -> 0 | R4: 0
A5: 北海道・東北支所 | E5: =IF(ISERROR(D5/C5),"",D5/C5) | H5: =IF(ISERROR(G5/F5),"",G5/F5) | I5: =C5+F5 -> 0 | J5: =D5+G5 -> 0 | K5: =IF(ISERROR(J5/I5),"",J5/I5) | L5: =B5 -> 0 | M5: =I5 -> 0 | N5: =J5 -> 0 | O5: =IF(ISERROR(N5/M5),"",N5/M5) | P5: =IF(ISERROR(N5/Q5),"",N5/Q5) | Q5: =R5 -> 0 | R5: 0
A6: 仙台空港出張所 | E6: =IF(ISERROR(D6/C6),"",D6/C6) | H6: =IF(ISERROR(G6/F6),"",G6/F6) | I6: =C6+F6 -> 0 | J6: =D6+G6 -> 0 | K6: =IF(ISERROR(J6/I6),"",J6/I6) | L6: =B6 -> 0 | M6: =I6 -> 0 | N6: =J6 -> 0 | O6: =IF(ISERROR(N6/M6),"",N6/M6) | P6: =IF(ISERROR(N6/Q6),"",N6/Q6) | Q6: =R6 -> 0 | R6: 0
A7: 成田支所 | E7: =IF(ISERROR(D7/C7),"",D7/C7) | H7: =IF(ISERROR(G7/F7),"",G7/F7) | I7: =C7+F7 -> 0 | J7: =D7+G7 -> 0 | K7: =IF(ISERROR(J7/I7),"",J7/I7) | L7: =B7 -> 0 | M7: =I7 -> 0 | N7: =J7 -> 0 | O7: =IF(ISERROR(N7/M7),"",N7/M7) | P7: =IF(ISERROR(N7/Q7),"",N7/Q7) | Q7: =R7 -> 0 | R7: 0
A8: 中部空港支所 | E8: =IF(ISERROR(D8/C8),"",D8/C8) | H8: =IF(ISERROR(G8/F8),"",G8/F8) | I8: =C8+F8 -> 0 | J8: =D8+G8 -> 0 | K8: =IF(ISERROR(J8/I8),"",J8/I8) | L8: =B8 -> 0 | M8: =I8 -> 0 | N8: =J8 -> 0 | O8: =IF(ISERROR(N8/M8),"",N8/M8) | P8: =IF(ISERROR(N8/Q8),"",N8/Q8) | Q8: =R8 -> 0 | R8: 0
A9: 名古屋出張所 | E9: =IF(ISERROR(D9/C9),"",D9/C9) | H9: =IF(ISERROR(G9/F9),"",G9/F9) | I9: =C9+F9 -> 0 | J9: =D9+G9 -> 0 | K9: =IF(ISERROR(J9/I9),"",J9/I9) | L9: =B9 -> 0 | M9: =I9 -> 0 | N9: =J9 -> 0 | O9: =IF(ISERROR(N9/M9),"",N9/M9) | P9: =IF(ISERROR(N9/Q9),"",N9/Q9) | Q9: =R9 -> 0 | R9: 0
A10: 神戸支所 | E10: =IF(ISERROR(D10/C10),"",D10/C10) | H10: =IF(ISERROR(G10/F10),"",G10/F10) | I10: =C10+F10 -> 0 | J10: =D10+G10 -> 0 | K10: =IF(ISERROR(J10/I10),"",J10/I10) | L10: =B10 -> 0 | M10: =I10 -> 0 | N10: =J10 -> 0 | O10: =IF(ISERROR(N10/M10),"",N10/M10) | P10: =IF(ISERROR(N10/Q10),"",N10/Q10) | Q10: =R10 -> 0 | R10: 0
A11: 大阪出張所 | E11: =IF(ISERROR(D11/C11),"",D11/C11) | H11: =IF(ISERROR(G11/F11),"",G11/F11) | I11: =C11+F11 -> 0 | J11: =D11+G11 -> 0 | K11: =IF(ISERROR(J11/I11),"",J11/I11) | L11: =B11 -> 0 | M11: =I11 -> 0 | N11: =J11 -> 0 | O11: =IF(ISERROR(N11/M11),"",N11/M11) | P11: =IF(ISERROR(N11/Q11),"",N11/Q11) | Q11: =R11 -> 0 | R11: 0
A12: 広島空港出張所 | E12: =IF(ISERROR(D12/C12),"",D12/C12) | H12: =IF(ISERROR(G12/F12),"",G12/F12) | I12: =C12+F12 -> 0 | J12: =D12+G12 -> 0 | K12: =IF(ISERROR(J12/I12),"",J12/I12) | L12: =B12 -> 0 | M12: =I12 -> 0 | N12: =J12 -> 0 | O12: =IF(ISERROR(N12/M12),"",N12/M12) | P12: =IF(ISERROR(N12/Q12),"",N12/Q12) | Q12: =R12 -> 0 | R12: 0
A13: 岡山空港出張所 | E13: =IF(ISERROR(D13/C13),"",D13/C13) | H13: =IF(ISERROR(G13/F13),"",G13/F13) | I13: =C13+F13 -> 0 | J13: =D13+G13 -> 0 | K13: =IF(ISERROR(J13/I13),"",J13/I13) | L13: =B13 -> 0 | M13: =I13 -> 0 | N13: =J13 -> 0 | O13: =IF(ISERROR(N13/M13),"",N13/M13) | P13: =IF(ISERROR(N13/Q13),"",N13/Q13) | Q13: =R13 -> 0 | R13: 0
A14: 門司支所 | E14: =IF(ISERROR(D14/C14),"",D14/C14) | H14: =IF(ISERROR(G14/F14),"",G14/F14) | I14: =C14+F14 -> 0 | J14: =D14+G14 -> 0 | K14: =IF(ISERROR(J14/I14),"",J14/I14) | L14: =B14 -> 0 | M14: =I14 -> 0 | N14: =J14 -> 0 | O14: =IF(ISERROR(N14/M14),"",N14/M14) | P14: =IF(ISERROR(N14/Q14),"",N14/Q14) | Q14: =R14 -> 0 | R14: 0
... A18: 沖縄支所 | E18: =IF(ISERROR(D18/C18),"",D18/C18) | H18: =IF(ISERROR(G18/F18),"",G18/F18) | I18: =C18+F18 -> 0 | J18: =D18+G18 -> 0 | K18: =IF(ISERROR(J18/I18),"",J18/I18) | L18: =B18 -> 0 | M18: =I18 -> 0 | N18: =J18 -> 0 | O18: =IF(ISERROR(N18/M18),"",N18/M18) | P18: =IF(ISERROR(N18/Q18),"",N18/Q18) | Q18: =R18 -> 0 | R18: 0
A19: 合計 | B19: =SUM(B3:B18) -> 0 | C19: =SUM(C3:C18) -> 0 | D19: =SUM(D3:D18) -> 0 | E19: =IF(ISERROR(D19/C19),"",D19/C19) | F19: =SUM(F3:F18) -> 0 | G19: =SUM(G3:G18) -> 0 | H19: =IF(ISERROR(G19/F19),"",G19/F19) | I19: =SUM(I3:I18) -> 0 | J19: =SUM(J3:J18) -> 0 | K19: =IF(ISERROR(J19/I19),"",J19/I19) | Q19: =SUM(Q3:Q18) -> 0 | R19: =SUM(R3:R18) -> 0
A20: 前年同期合計
A21: 対前年比(%) | B21: =IFERROR(B19/B20,"") | C21: =IFERROR(C19/C20,"") | D21: =IFERROR(D19/D20,"") | F21: =IFERROR(F19/F20,"") | G21: =IFERROR(G19/G20,"") | I21: =IFERROR(I19/I20,"") | J21: =IFERROR(J19/J20,"")
A22: 累計 | B22: =B19 -> 0 | C22: =C19 -> 0 | D22: =D19 -> 0 | E22: =IF(ISERROR(D22/C22)," ",(D22/C22)) | F22: =F19 -> 0 | G22: =G19 -> 0 | H22: =IF(ISERROR(G22/F22)," ",(G22/F22)) | L22: =SUM(L3:L18) -> 0 | M22: =SUM(M3:M18) -> 0 | N22: =SUM(N3:N18) -> 0 | O22: =IF(ISERROR(N22/M22),"",N22/M22) | P22: =IF(ISERROR(N22/Q19)," ",(N22/Q19))
A23: 前年同期累計 | E23: =IF(ISERROR(D23/C23),"",D23/C23) | H23: =IF(ISERROR(G23/F23)," ",(G23/F23)) | L23: =B23 -> 0 | M23: =C23+F23 -> 0 | N23: =D23+G23 -> 0 | O23: =IF(ISERROR(N23/M23),"",N23/M23)
A24: 対前年比(%) | B24: =IFERROR(B22/B23,"") | C24: =IFERROR(C22/C23,"") | D24: =IFERROR(D22/D23,"") | F24: =IFERROR(F22/F23,"") | G24: =IFERROR(G22/G23,"") | L24: =IFERROR(L22/L23,"") | M24: =IFERROR(M22/M23,"") | N24: =IFERROR(N22/N23,"")

Sheet ２月
D1: 卵 用 鶏 | G1: 肉 用 鶏 | J1: 合 計 | N1: 累 計 | P1: Bの対前年
A2: 所別 | B2: 件数 | C2: 入検(A) | D2: 解放(B) | E2: B/A | F2: 入検(A) | G2: 解放(B) | H2: B/A | I2: 入検(A) | J2: 解放(B) | K2: B/A | L2: 件数 | M2: 入検(A) | N2: 解放(B) | O2: B/A | P2: 同期比 (%) | Q2: 前年同期累計 | R2: 前年同期合計
A3: 横浜本所 | E3: =IF(ISERROR(D3/C3),"",D3/C3) | H3: =IF(ISERROR(G3/F3),"",G3/F3) | I3: =C3+F3 -> 0 | J3: =D3+G3 -> 0 | K3: =IF(ISERROR(J3/I3),"",J3/I3) | L3: =B3+'１月'!L3 -> 0 | M3: =I3+'１月'!M3 -> 0 | N3: =J3+'１月'!N3 -> 0 | O3: =IF(ISERROR(N3/M3),"",N3/M3) | P3: =IF(ISERROR(N3/Q3),"",N3/Q3) | Q3: =R3+'１月'!Q3 -> 0 | R3: 0
A4: 静岡出張所 | E4: =IF(ISERROR(D4/C4),"",D4/C4) | H4: =IF(ISERROR(G4/F4),"",G4/F4) | I4: =C4+F4 -> 0 | J4: =D4+G4 -> 0 | K4: =IF(ISERROR(J4/I4),"",J4/I4) | L4: =B4+'１月'!L4 -> 0 | M4: =I4+'１月'!M4 -> 0 | N4: =J4+'１月'!N4 -> 0 | O4: =IF(ISERROR(N4/M4),"",N4/M4) | P4: =IF(ISERROR(N4/Q4),"",N4/Q4) | Q4: =R4+'１月'!Q4 -> 0 | R4: 0
A5: 北海道・東北支所 | E5: =IF(ISERROR(D5/C5),"",D5/C5) | H5: =IF(ISERROR(G5/F5),"",G5/F5) | I5: =C5+F5 -> 0 | J5: =D5+G5 -> 0 | K5: =IF(ISERROR(J5/I5),"",J5/I5) | L5: =B5+'１月'!L5 -> 0 | M5: =I5+'１月'!M5 -> 0 | N5: =J5+'１月'!N5 -> 0 | O5: =IF(ISERROR(N5/M5),"",N5/M5) | P5: =IF(ISERROR(N5/Q5),"",N5/Q5) | Q5: =R5+'１月'!Q5 -> 0 | R5: 0
A6: 仙台空港出張所 | E6: =IF(ISERROR(D6/C6),"",D6/C6) | H6: =IF(ISERROR(G6/F6),"",G6/F6) | I6: =C6+F6 -> 0 | J6: =D6+G6 -> 0 | K6: =IF(ISERROR(J6/I6),"",J6/I6) | L6: =B6+'１月'!L6 -> 0 | M6: =I6+'１月'!M6 -> 0 | N6: =J6+'１月'!N6 -> 0 | O6: =IF(ISERROR(N6/M6),"",N6/M6) | P6: =IF(ISERROR(N6/Q6),"",N6/Q6) -> 0 | Q6: =R6+'１月'!Q6 -> 2797 | R6: 2797
A7: 成田支所 | E7: =IF(ISERROR(D7/C7),"",D7/C7) | H7: =IF(ISERROR(G7/F7),"",G7/F7) | I7: =C7+F7 -> 0 | J7: =D7+G7 -> 0 | K7: =IF(ISERROR(J7/I7),"",J7/I7) | L7: =B7+'１月'!L7 -> 0 | M7: =I7+'１月'!M7 -> 0 | N7: =J7+'１月'!N7 -> 0 | O7: =IF(ISERROR(N7/M7),"",N7/M7) | P7: =IF(ISERROR(N7/Q7),"",N7/Q7) | Q7: =R7+'１月'!Q7 -> 0 | R7: 0
A8: 中部空港支所 | E8: =IF(ISERROR(D8/C8),"",D8/C8) | H8: =IF(ISERROR(G8/F8),"",G8/F8) | I8: =C8+F8 -> 0 | J8: =D8+G8 -> 0 | K8: =IF(ISERROR(J8/I8),"",J8/I8) | L8: =B8+'１月'!L8 -> 0 | M8: =I8+'１月'!M8 -> 0 | N8: =J8+'１月'!N8 -> 0 | O8: =IF(ISERROR(N8/M8),"",N8/M8) | P8: =IF(ISERROR(N8/Q8),"",N8/Q8) | Q8: =R8+'１月'!Q8 -> 0 | R8: 0
A9: 名古屋出張所 | E9: =IF(ISERROR(D9/C9),"",D9/C9) | H9: =IF(ISERROR(G9/F9),"",G9/F9) | I9: =C9+F9 -> 0 | J9: =D9+G9 -> 0 | K9: =IF(ISERROR(J9/I9),"",J9/I9) | L9: =B9+'１月'!L9 -> 0 | M9: =I9+'１月'!M9 -> 0 | N9: =J9+'１月'!N9 -> 0 | O9: =IF(ISERROR(N9/M9),"",N9/M9) | P9: =IF(ISERROR(N9/Q9),"",N9/Q9) | Q9: =R9+'１月'!Q9 -> 0 | R9: 0
A10: 神戸支所 | E10: =IF(ISERROR(D10/C10),"",D10/C10) | H10: =IF(ISERROR(G10/F10),"",G10/F10) | I10: =C10+F10 -> 0 | J10: =D10+G10 -> 0 | K10: =IF(ISERROR(J10/I10),"",J10/I10) | L10: =B10+'１月'!L10 -> 0 | M10: =I10+'１月'!M10 -> 0 | N10: =J10+'１月'!N10 -> 0 | O10: =IF(ISERROR(N10/M10),"",N10/M10) | P10: =IF(ISERROR(N10/Q10),"",N10/Q10) | Q10: =R10+'１月'!Q10 -> 0 | R10: 0
A11: 大阪出張所 | E11: =IF(ISERROR(D11/C11),"",D11/C11) | H11: =IF(ISERROR(G11/F11),"",G11/F11) | I11: =C11+F11 -> 0 | J11: =D11+G11 -> 0 | K11: =IF(ISERROR(J11/I11),"",J11/I11) | L11: =B11+'１月'!L11 -> 0 | M11: =I11+'１月'!M11 -> 0 | N11: =J11+'１月'!N11 -> 0 | O11: =IF(ISERROR(N11/M11),"",N11/M11) | P11: =IF(ISERROR(N11/Q11),"",N11/Q11) | Q11: =R11+'１月'!Q11 -> 0 | R11: 0
A12: 広島空港出張所 | E12: =IF(ISERROR(D12/C12),"",D12/C12) | H12: =IF(ISERROR(G12/F12),"",G12/F12) | I12: =C12+F12 -> 0 | J12: =D12+G12 -> 0 | K12: =IF(ISERROR(J12/I12),"",J12/I12) | L12: =B12+'１月'!L12 -> 0 | M12: =I12+'１月'!M12 -> 0 | N12: =J12+'１月'!N12 -> 0 | O12: =IF(ISERROR(N12/M12),"",N12/M12) | P12: =IF(ISERROR(N12/Q12),"",N12/Q12) | Q12: =R12+'１月'!Q12 -> 0 | R12: 0
A13: 岡山空港出張所 | E13: =IF(ISERROR(D13/C13),"",D13/C13) | H13: =IF(ISERROR(G13/F13),"",G13/F13) | I13: =C13+F13 -> 0 | J13: =D13+G13 -> 0 | K13: =IF(ISERROR(J13/I13),"",J13/I13) | L13: =B13+'１月'!L13 -> 0 | M13: =I13+'１月'!M13 -> 0 | N13: =J13+'１月'!N13 -> 0 | O13: =IF(ISERROR(N13/M13),"",N13/M13) | P13: =IF(ISERROR(N13/Q13),"",N13/Q13) -> 0 | Q13: =R13+'１月'!Q13 -> 25373 | R13: 25373
A14: 門司支所 | E14: =IF(ISERROR(D14/C14),"",D14/C14) | H14: =IF(ISERROR(G14/F14),"",G14/F14) | I14: =C14+F14 -> 0 | J14: =D14+G14 -> 0 | K14: =IF(ISERROR(J14/I14),"",J14/I14) | L14: =B14+'１月'!L14 -> 0 | M14: =I14+'１月'!M14 -> 0 | N14: =J14+'１月'!N14 -> 0 | O14: =IF(ISERROR(N14/M14),"",N14/M14) | P14: =IF(ISERROR(N14/Q14),"",N14/Q14) | Q14: =R14+'１月'!Q14 -> 0 | R14: 0
... A18: 沖縄支所 | E18: =IF(ISERROR(D18/C18),"",D18/C18) | H18: =IF(ISERROR(G18/F18),"",G18/F18) | I18: =C18+F18 -> 0 | J18: =D18+G18 -> 0 | K18: =IF(ISERROR(J18/I18),"",J18/I18) | L18: =B18+'１月'!L18 -> 0 | M18: =I18+'１月'!M18 -> 0 | N18: =J18+'１月'!N18 -> 0 | O18: =IF(ISERROR(N18/M18),"",N18/M18) | P18: =IF(ISERROR(N18/Q18),"",N18/Q18) | Q18: =R18+'１月'!Q18 -> 0 | R18: 0
A19: 合計 | B19: =SUM(B3:B18) -> 0 | C19: =SUM(C3:C18) -> 0 | D19: =SUM(D3:D18) -> 0 | E19: =IF(ISERROR(D19/C19),"",D19/C19) | F19: =SUM(F3:F18) -> 0 | G19: =SUM(G3:G18) -> 0 | H19: =IF(ISERROR(G19/F19),"",G19/F19) | I19: =SUM(I3:I18) -> 0 | J19: =SUM(J3:J18) -> 0 | K19: =IF(ISERROR(J19/I19),"",J19/I19) | Q19: =SUM(Q3:Q18) -> 44384 | R19: =SUM(R3:R18) -> 44384
A20: 前年同期合計 | B20: 3 | C20: 3056 | D20: 2797 | E20: 0.91524869 | F20: 42428 | G20: 41587 | H20: 0.98017818 | I20: 45484 | J20: 44384 | K20: 0.97581567
A21: 対前年比(%) | B21: =IFERROR(B19/B20,"") -> 0 | C21: =IFERROR(C19/C20,"") -> 0 | D21: =IFERROR(D19/D20,"") -> 0 | F21: =IFERROR(F19/F20,"") -> 0 | G21: =IFERROR(G19/G20,"") -> 0 | I21: =IFERROR(I19/I20,"") -> 0 | J21: =IFERROR(J19/J20,"") -> 0
A22: 累計 | B22: =B19+'１月'!B22 -> 0 | C22: =C19+'１月'!C22 -> 0 | D22: =D19+'１月'!D22 -> 0 | E22: =IF(ISERROR(D22/C22)," ",(D22/C22)) | F22: =F19+'１月'!F22 -> 0 | G22: =G19+'１月'!G22 -> 0 | H22: =IF(ISERROR(G22/F22)," ",(G22/F22)) | L22: =SUM(L3:L18) -> 0 | M22: =SUM(M3:M18) -> 0 | N22: =SUM(N3:N18) -> 0 | O22: =IF(ISERROR(N22/M22),"",N22/M22) | P22: =IF(ISERROR(N22/Q19)," ",(N22/Q19)) -> 0
A23: 前年同期累計 | B23: =B20+'１月'!B23 -> 3 | C23: =C20+'１月'!C23 -> 3056 | D23: =D20+'１月'!D23 -> 2797 | E23: =IF(ISERROR(D23/C23),"",D23/C23) -> 0.91524869 | F23: =F20+'１月'!F23 -> 42428 | G23: =G20+'１月'!G23 -> 41587 | H23: =IF(ISERROR(G23/F23)," ",(G23/F23)) -> 0.98017818 | L23: =B23 -> 3 | M23: =C23+F23 -> 45484 | N23: =D23+G23 -> 44384 | O23: =IF(ISERROR(N23/M23),"",N23/M23) -> 0.97581567
A24: 対前年比(%) | B24: =IFERROR(B22/B23,"") -> 0 | C24: =IFERROR(C22/C23,"") -> 0 | D24: =IFERROR(D22/D23,"") -> 0 | F24: =IFERROR(F22/F23,"") -> 0 | G24: =IFERROR(G22/G23,"") -> 0 | L24: =IFERROR(L22/L23,"") -> 0 | M24: =IFERROR(M22/M23,"") -> 0 | N24: =IFERROR(N22/N23,"") -> 0

Sheet ３月
D1: 卵 用 鶏 | G1: 肉 用 鶏 | J1: 合 計 | N1: 累 計 | P1: Bの対前年
A2: 所別 | B2: 件数 | C2: 入検(A) | D2: 解放(B) | E2: B/A | F2: 入検(A) | G2: 解放(B) | H2: B/A | I2: 入検(A) | J2: 解放(B) | K2: B/A | L2: 件数 | M2: 入検(A) | N2: 解放(B) | O2: B/A | P2: 同期比 (%) | Q2: 前年同期累計 | R2: 前年同期合計
A3: 横浜本所 | E3: =IF(ISERROR(D3/C3),"",D3/C3) | H3: =IF(ISERROR(G3/F3),"",G3/F3) | I3: =C3+F3 -> 0 | J3: =D3+G3 -> 0 | K3: =IF(ISERROR(J3/I3),"",J3/I3) | L3: =B3+'２月'!L3 -> 0 | M3: =I3+'２月'!M3 -> 0 | N3: =J3+'２月'!N3 -> 0 | O3: =IF(ISERROR(N3/M3),"",N3/M3) | P3: =IF(ISERROR(N3/Q3),"",N3/Q3) | Q3: =R3+'２月'!Q3 -> 0 | R3: 0
A4: 静岡出張所 | E4: =IF(ISERROR(D4/C4),"",D4/C4) | H4: =IF(ISERROR(G4/F4),"",G4/F4) | I4: =C4+F4 -> 0 | J4: =D4+G4 -> 0 | K4: =IF(ISERROR(J4/I4),"",J4/I4) | L4: =B4+'２月'!L4 -> 0 | M4: =I4+'２月'!M4 -> 0 | N4: =J4+'２月'!N4 -> 0 | O4: =IF(ISERROR(N4/M4),"",N4/M4) | P4: =IF(ISERROR(N4/Q4),"",N4/Q4) | Q4: =R4+'２月'!Q4 -> 0 | R4: 0
A5: 北海道・東北支所 | E5: =IF(ISERROR(D5/C5),"",D5/C5) | H5: =IF(ISERROR(G5/F5),"",G5/F5) | I5: =C5+F5 -> 0 | J5: =D5+G5 -> 0 | K5: =IF(ISERROR(J5/I5),"",J5/I5) | L5: =B5+'２月'!L5 -> 0 | M5: =I5+'２月'!M5 -> 0 | N5: =J5+'２月'!N5 -> 0 | O5: =IF(ISERROR(N5/M5),"",N5/M5) | P5: =IF(ISERROR(N5/Q5),"",N5/Q5) | Q5: =R5+'２月'!Q5 -> 0 | R5: 0
A6: 仙台空港出張所 | E6: =IF(ISERROR(D6/C6),"",D6/C6) | H6: =IF(ISERROR(G6/F6),"",G6/F6) | I6: =C6+F6 -> 0 | J6: =D6+G6 -> 0 | K6: =IF(ISERROR(J6/I6),"",J6/I6) | L6: =B6+'２月'!L6 -> 0 | M6: =I6+'２月'!M6 -> 0 | N6: =J6+'２月'!N6 -> 0 | O6: =IF(ISERROR(N6/M6),"",N6/M6) | P6: =IF(ISERROR(N6/Q6),"",N6/Q6) -> 0 | Q6: =R6+'２月'!Q6 -> 13388 | R6: 10591
A7: 成田支所 | E7: =IF(ISERROR(D7/C7),"",D7/C7) | H7: =IF(ISERROR(G7/F7),"",G7/F7) | I7: =C7+F7 -> 0 | J7: =D7+G7 -> 0 | K7: =IF(ISERROR(J7/I7),"",J7/I7) | L7: =B7+'２月'!L7 -> 0 | M7: =I7+'２月'!M7 -> 0 | N7: =J7+'２月'!N7 -> 0 | O7: =IF(ISERROR(N7/M7),"",N7/M7) | P7: =IF(ISERROR(N7/Q7),"",N7/Q7) -> 0 | Q7: =R7+'２月'!Q7 -> 2493 | R7: 2493 | X7: =IF(ISERROR(N22/Q19)," ",(N22/Q19)) -> 0
A8: 中部空港支所 | E8: =IF(ISERROR(D8/C8),"",D8/C8) | H8: =IF(ISERROR(G8/F8),"",G8/F8) | I8: =C8+F8 -> 0 | J8: =D8+G8 -> 0 | K8: =IF(ISERROR(J8/I8),"",J8/I8) | L8: =B8+'２月'!L8 -> 0 | M8: =I8+'２月'!M8 -> 0 | N8: =J8+'２月'!N8 -> 0 | O8: =IF(ISERROR(N8/M8),"",N8/M8) | P8: =IF(ISERROR(N8/Q8),"",N8/Q8) | Q8: =R8+'２月'!Q8 -> 0 | R8: 0
A9: 名古屋出張所 | E9: =IF(ISERROR(D9/C9),"",D9/C9) | H9: =IF(ISERROR(G9/F9),"",G9/F9) | I9: =C9+F9 -> 0 | J9: =D9+G9 -> 0 | K9: =IF(ISERROR(J9/I9),"",J9/I9) | L9: =B9+'２月'!L9 -> 0 | M9: =I9+'２月'!M9 -> 0 | N9: =J9+'２月'!N9 -> 0 | O9: =IF(ISERROR(N9/M9),"",N9/M9) | P9: =IF(ISERROR(N9/Q9),"",N9/Q9) | Q9: =R9+'２月'!Q9 -> 0 | R9: 0
A10: 神戸支所 | E10: =IF(ISERROR(D10/C10),"",D10/C10) | H10: =IF(ISERROR(G10/F10),"",G10/F10) | I10: =C10+F10 -> 0 | J10: =D10+G10 -> 0 | K10: =IF(ISERROR(J10/I10),"",J10/I10) | L10: =B10+'２月'!L10 -> 0 | M10: =I10+'２月'!M10 -> 0 | N10: =J10+'２月'!N10 -> 0 | O10: =IF(ISERROR(N10/M10),"",N10/M10) | P10: =IF(ISERROR(N10/Q10),"",N10/Q10) | Q10: =R10+'２月'!Q10 -> 0 | R10: 0
A11: 大阪出張所 | E11: =IF(ISERROR(D11/C11),"",D11/C11) | H11: =IF(ISERROR(G11/F11),"",G11/F11) | I11: =C11+F11 -> 0 | J11: =D11+G11 -> 0 | K11: =IF(ISERROR(J11/I11),"",J11/I11) | L11: =B11+'２月'!L11 -> 0 | M11: =I11+'２月'!M11 -> 0 | N11: =J11+'２月'!N11 -> 0 | O11: =IF(ISERROR(N11/M11),"",N11/M11) | P11: =IF(ISERROR(N11/Q11),"",N11/Q11) | Q11: =R11+'２月'!Q11 -> 0 | R11: 0
A12: 広島空港出張所 | E12: =IF(ISERROR(D12/C12),"",D12/C12) | H12: =IF(ISERROR(G12/F12),"",G12/F12) | I12: =C12+F12 -> 0 | J12: =D12+G12 -> 0 | K12: =IF(ISERROR(J12/I12),"",J12/I12) | L12: =B12+'２月'!L12 -> 0 | M12: =I12+'２月'!M12 -> 0 | N12: =J12+'２月'!N12 -> 0 | O12: =IF(ISERROR(N12/M12),"",N12/M12) | P12: =IF(ISERROR(N12/Q12),"",N12/Q12) | Q12: =R12+'２月'!Q12 -> 0 | R12: 0
A13: 岡山空港出張所 | E13: =IF(ISERROR(D13/C13),"",D13/C13) | H13: =IF(ISERROR(G13/F13),"",G13/F13) | I13: =C13+F13 -> 0 | J13: =D13+G13 -> 0 | K13: =IF(ISERROR(J13/I13),"",J13/I13) | L13: =B13+'２月'!L13 -> 0 | M13: =I13+'２月'!M13 -> 0 | N13: =J13+'２月'!N13 -> 0 | O13: =IF(ISERROR(N13/M13),"",N13/M13) | P13: =IF(ISERROR(N13/Q13),"",N13/Q13) -> 0 | Q13: =R13+'２月'!Q13 -> 25373 | R13: 0
A14: 門司支所 | E14: =IF(ISERROR(D14/C14),"",D14/C14) | H14: =IF(ISERROR(G14/F14),"",G14/F14) | I14: =C14+F14 -> 0 | J14: =D14+G14 -> 0 | K14: =IF(ISERROR(J14/I14),"",J14/I14) | L14: =B14+'２月'!L14 -> 0 | M14: =I14+'２月'!M14 -> 0 | N14: =J14+'２月'!N14 -> 0 | O14: =IF(ISERROR(N14/M14),"",N14/M14) | P14: =IF(ISERROR(N14/Q14),"",N14/Q14) | Q14: =R14+'２月'!Q14 -> 0 | R14: 0
A15: 博多出張所 | E15: =IF(ISERROR(D15/C15),"",D15/C15) | H15: =IF(ISERROR(G15/F15),"",G15/F15) | I15: =C15+F15 -> 0 | J15: =D15+G15 -> 0 | K15: =IF(ISERROR(J15/I15),"",J15/I15) | L15: =B15+'２月'!L15 -> 0 | M15: =I15+'２月'!M15 -> 0 | N15: =J15+'２月'!N15 -> 0 | O15: =IF(ISERROR(N15/M15),"",N15/M15) | P15: =IF(ISERROR(N15/Q15),"",N15/Q15) | Q15: =R15+'２月'!Q15 -> 0 | R15: 0
A16: 福岡空港出張所 | E16: =IF(ISERROR(D16/C16),"",D16/C16) | H16: =IF(ISERROR(G16/F16),"",G16/F16) | I16: =C16+F16 -> 0 | J16: =D16+G16 -> 0 | K16: =IF(ISERROR(J16/I16),"",J16/I16) | L16: =B16+'２月'!L16 -> 0 | M16: =I16+'２月'!M16 -> 0 | N16: =J16+'２月'!N16 -> 0 | O16: =IF(ISERROR(N16/M16),"",N16/M16) | P16: =IF(ISERROR(N16/Q16),"",N16/Q16) | Q16: =R16+'２月'!Q16 -> 0 | R16: 0
A17: 鹿児島空港出張所 | E17: =IF(ISERROR(D17/C17),"",D17/C17) | H17: =IF(ISERROR(G17/F17),"",G17/F17) | I17: =C17+F17 -> 0 | J17: =D17+G17 -> 0 | K17: =IF(ISERROR(J17/I17),"",J17/I17) | L17: =B17+'２月'!L17 -> 0 | M17: =I17+'２月'!M17 -> 0 | N17: =J17+'２月'!N17 -> 0 | O17: =IF(ISERROR(N17/M17),"",N17/M17) | P17: =IF(ISERROR(N17/Q17),"",N17/Q17) -> 0 | Q17: =R17+'２月'!Q17 -> 16214 | R17: 0
A18: 沖縄支所 | E18: =IF(ISERROR(D18/C18),"",D18/C18) | H18: =IF(ISERROR(G18/F18),"",G18/F18) | I18: =C18+F18 -> 0 | J18: =D18+G18 -> 0 | K18: =IF(ISERROR(J18/I18),"",J18/I18) | L18: =B18+'２月'!L18 -> 0 | M18: =I18+'２月'!M18 -> 0 | N18: =J18+'２月'!N18 -> 0 | O18: =IF(ISERROR(N18/M18),"",N18/M18) | P18: =IF(ISERROR(N18/Q18),"",N18/Q18) | Q18: =R18+'２月'!Q18 -> 0 | R18: 0
A19: 合計 | B19: =SUM(B3:B18) -> 0 | C19: =SUM(C3:C18) -> 0 | D19: =SUM(D3:D18) -> 0 | E19: =IF(ISERROR(D19/C19),"",D19/C19) | F19: =SUM(F3:F18) -> 0 | G19: =SUM(G3:G18) -> 0 | H19: =IF(ISERROR(G19/F19),"",G19/F19) | I19: =SUM(I3:I18) -> 0 | J19: =SUM(J3:J18) -> 0 | K19: =IF(ISERROR(J19/I19),"",J19/I19) | Q19: =SUM(Q3:Q18) -> 57468 | R19: =SUM(R3:R18) -> 13084
A20: 前年同期合計 | B20: 2 | C20: 0 | D20: 0 | F20: 13313 | G20: 13084 | H20: 0.98279877 | I20: 13313 | J20: 13084 | K20: 0.98279877
A21: 対前年比(%) | B21: =IFERROR(B19/B20,"") -> 0 | C21: =IFERROR(C19/C20,"") | D21: =IFERROR(D19/D20,"") | F21: =IFERROR(F19/F20,"") -> 0 | G21: =IFERROR(G19/G20,"") -> 0 | I21: =IFERROR(I19/I20,"") -> 0 | J21: =IFERROR(J19/J20,"") -> 0
A22: 累計 | B22: =B19+'２月'!B22 -> 0 | C22: =C19+'２月'!C22 -> 0 | D22: =D19+'２月'!D22 -> 0 | E22: =IF(ISERROR(D22/C22)," ",(D22/C22)) | F22: =F19+'２月'!F22 -> 0 | G22: =G19+'２月'!G22 -> 0 | H22: =IF(ISERROR(G22/F22)," ",(G22/F22)) | L22: =SUM(L3:L18) -> 0 | M22: =SUM(M3:M18) -> 0 | N22: =SUM(N3:N18) -> 0 | O22: =IF(ISERROR(N22/M22),"",N22/M22) | P22: =IF(ISERROR(N22/Q19)," ",(N22/Q19)) -> 0
A23: 前年同期累計 | B23: =B20+'２月'!B23 -> 5 | C23: =C20+'２月'!C23 -> 3056 | D23: =D20+'２月'!D23 -> 2797 | E23: =IF(ISERROR(D23/C23),"",D23/C23) -> 0.91524869 | F23: =F20+'２月'!F23 -> 55741 | G23: =G20+'２月'!G23 -> 54671 | H23: =IF(ISERROR(G23/F23)," ",(G23/F23)) -> 0.98080408 | L23: =B23 -> 5 | M23: =C23+F23 -> 58797 | N23: =D23+G23 -> 57468 | O23: =IF(ISERROR(N23/M23),"",N23/M23) -> 0.97739681
A24: 対前年比(%) | B24: =IFERROR(B22/B23,"") -> 0 | C24: =IFERROR(C22/C23,"") -> 0 | D24: =IFERROR(D22/D23,"") -> 0 | F24: =IFERROR(F22/F23,"") -> 0 | G24: =IFERROR(G22/G23,"") -> 0 | L24: =IFERROR(L22/L23,"") -> 0 | M24: =IFERROR(M22/M23,"") -> 0 | N24: =IFERROR(N22/N23,"") -> 0

Sheet ４月
D1: 卵 用 鶏 | G1: 肉 用 鶏 | J1: 合 計 | N1: 累 計 | P1: Bの対前年
A2: 所別 | B2: 件数 | C2: 入検(A) | D2: 解放(B) | E2: B/A | F2: 入検(A) | G2: 解放(B) | H2: B/A | I2: 入検(A) | J2: 解放(B) | K2: B/A | L2: 件数 | M2: 入検(A) | N2: 解放(B) | O2: B/A | P2: 同期比 (%) | Q2: 前年同期累計 | R2: 前年同期合計
A3: 横浜本所 | E3: =IF(ISERROR(D3/C3),"",D3/C3) | H3: =IF(ISERROR(G3/F3),"",G3/F3) | I3: =C3+F3 -> 0 | J3: =D3+G3 -> 0 | K3: =IF(ISERROR(J3/I3),"",J3/I3) | L3: =B3+'３月'!L3 -> 0 | M3: =I3+'３月'!M3 -> 0 | N3: =J3+'３月'!N3 -> 0 | O3: =IF(ISERROR(N3/M3),"",N3/M3) | P3: =IF(ISERROR(N3/Q3),"",N3/Q3) -> 0 | Q3: =R3+'３月'!Q3 -> 23784 | R3: 23784
A4: 静岡出張所 | E4: =IF(ISERROR(D4/C4),"",D4/C4) | H4: =IF(ISERROR(G4/F4),"",G4/F4) | I4: =C4+F4 -> 0 | J4: =D4+G4 -> 0 | K4: =IF(ISERROR(J4/I4),"",J4/I4) | L4: =B4+'３月'!L4 -> 0 | M4: =I4+'３月'!M4 -> 0 | N4: =J4+'３月'!N4 -> 0 | O4: =IF(ISERROR(N4/M4),"",N4/M4) | P4: =IF(ISERROR(N4/Q4),"",N4/Q4) -> 0 | Q4: =R4+'３月'!Q4 -> 5685 | R4: 5685
A5: 北海道・東北支所 | E5: =IF(ISERROR(D5/C5),"",D5/C5) | H5: =IF(ISERROR(G5/F5),"",G5/F5) | I5: =C5+F5 -> 0 | J5: =D5+G5 -> 0 | K5: =IF(ISERROR(J5/I5),"",J5/I5) | L5: =B5+'３月'!L5 -> 0 | M5: =I5+'３月'!M5 -> 0 | N5: =J5+'３月'!N5 -> 0 | O5: =IF(ISERROR(N5/M5),"",N5/M5) | P5: =IF(ISERROR(N5/Q5),"",N5/Q5) | Q5: =R5+'３月'!Q5 -> 0 | R5: 0
A6: 仙台空港出張所 | E6: =IF(ISERROR(D6/C6),"",D6/C6) | H6: =IF(ISERROR(G6/F6),"",G6/F6) | I6: =C6+F6 -> 0 | J6: =D6+G6 -> 0 | K6: =IF(ISERROR(J6/I6),"",J6/I6) | L6: =B6+'３月'!L6 -> 0 | M6: =I6+'３月'!M6 -> 0 | N6: =J6+'３月'!N6 -> 0 | O6: =IF(ISERROR(N6/M6),"",N6/M6) | P6: =IF(ISERROR(N6/Q6),"",N6/Q6) -> 0 | Q6: =R6+'３月'!Q6 -> 13388 | R6: 0
A7: 成田支所 | E7: =IF(ISERROR(D7/C7),"",D7/C7) | H7: =IF(ISERROR(G7/F7),"",G7/F7) | I7: =C7+F7 -> 0 | J7: =D7+G7 -> 0 | K7: =IF(ISERROR(J7/I7),"",J7/I7) | L7: =B7+'３月'!L7 -> 0 | M7: =I7+'３月'!M7 -> 0 | N7: =J7+'３月'!N7 -> 0 | O7: =IF(ISERROR(N7/M7),"",N7/M7) | P7: =IF(ISERROR(N7/Q7),"",N7/Q7) -> 0 | Q7: =R7+'３月'!Q7 -> 2493 | R7: 0
A8: 中部空港支所 | E8: =IF(ISERROR(D8/C8),"",D8/C8) | H8: =IF(ISERROR(G8/F8),"",G8/F8) | I8: =C8+F8 -> 0 | J8: =D8+G8 -> 0 | K8: =IF(ISERROR(J8/I8),"",J8/I8) | L8: =B8+'３月'!L8 -> 0 | M8: =I8+'３月'!M8 -> 0 | N8: =J8+'３月'!N8 -> 0 | O8: =IF(ISERROR(N8/M8),"",N8/M8) | P8: =IF(ISERROR(N8/Q8),"",N8/Q8) | Q8: =R8+'３月'!Q8 -> 0 | R8: 0
A9: 名古屋出張所 | E9: =IF(ISERROR(D9/C9),"",D9/C9) | H9: =IF(ISERROR(G9/F9),"",G9/F9) | I9: =C9+F9 -> 0 | J9: =D9+G9 -> 0 | K9: =IF(ISERROR(J9/I9),"",J9/I9) | L9: =B9+'３月'!L9 -> 0 | M9: =I9+'３月'!M9 -> 0 | N9: =J9+'３月'!N9 -> 0 | O9: =IF(ISERROR(N9/M9),"",N9/M9) | P9: =IF(ISERROR(N9/Q9),"",N9/Q9) | Q9: =R9+'３月'!Q9 -> 0 | R9: 0
A10: 神戸支所 | E10: =IF(ISERROR(D10/C10),"",D10/C10) | H10: =IF(ISERROR(G10/F10),"",G10/F10) | I10: =C10+F10 -> 0 | J10: =D10+G10 -> 0 | K10: =IF(ISERROR(J10/I10),"",J10/I10) | L10: =B10+'３月'!L10 -> 0 | M10: =I10+'３月'!M10 -> 0 | N10: =J10+'３月'!N10 -> 0 | O10: =IF(ISERROR(N10/M10),"",N10/M10) | P10: =IF(ISERROR(N10/Q10),"",N10/Q10) | Q10: =R10+'３月'!Q10 -> 0 | R10: 0
A11: 大阪出張所 | E11: =IF(ISERROR(D11/C11),"",D11/C11) | H11: =IF(ISERROR(G11/F11),"",G11/F11) | I11: =C11+F11 -> 0 | J11: =D11+G11 -> 0 | K11: =IF(ISERROR(J11/I11),"",J11/I11) | L11: =B11+'３月'!L11 -> 0 | M11: =I11+'３月'!M11 -> 0 | N11: =J11+'３月'!N11 -> 0 | O11: =IF(ISERROR(N11/M11),"",N11/M11) | P11: =IF(ISERROR(N11/Q11),"",N11/Q11) | Q11: =R11+'３月'!Q11 -> 0 | R11: 0
A12: 広島空港出張所 | E12: =IF(ISERROR(D12/C12),"",D12/C12) | H12: =IF(ISERROR(G12/F12),"",G12/F12) | I12: =C12+F12 -> 0 | J12: =D12+G12 -> 0 | K12: =IF(ISERROR(J12/I12),"",J12/I12) | L12: =B12+'３月'!L12 -> 0 | M12: =I12+'３月'!M12 -> 0 | N12: =J12+'３月'!N12 -> 0 | O12: =IF(ISERROR(N12/M12),"",N12/M12) | P12: =IF(ISERROR(N12/Q12),"",N12/Q12) | Q12: =R12+'３月'!Q12 -> 0 | R12: 0
A13: 岡山空港出張所 | E13: =IF(ISERROR(D13/C13),"",D13/C13) | H13: =IF(ISERROR(G13/F13),"",G13/F13) | I13: =C13+F13 -> 0 | J13: =D13+G13 -> 0 | K13: =IF(ISERROR(J13/I13),"",J13/I13) | L13: =B13+'３月'!L13 -> 0 | M13: =I13+'３月'!M13 -> 0 | N13: =J13+'３月'!N13 -> 0 | O13: =IF(ISERROR(N13/M13),"",N13/M13) | P13: =IF(ISERROR(N13/Q13),"",N13/Q13) -> 0 | Q13: =R13+'３月'!Q13 -> 25373 | R13: 0
A14: 門司支所 | E14: =IF(ISERROR(D14/C14),"",D14/C14) | H14: =IF(ISERROR(G14/F14),"",G14/F14) | I14: =C14+F14 -> 0 | J14: =D14+G14 -> 0 | K14: =IF(ISERROR(J14/I14),"",J14/I14) | L14: =B14+'３月'!L14 -> 0 | M14: =I14+'３月'!M14 -> 0 | N14: =J14+'３月'!N14 -> 0 | O14: =IF(ISERROR(N14/M14),"",N14/M14) | P14: =IF(ISERROR(N14/Q14),"",N14/Q14) | Q14: =R14+'３月'!Q14 -> 0 | R14: 0
... A18: 沖縄支所 | E18: =IF(ISERROR(D18/C18),"",D18/C18) | H18: =IF(ISERROR(G18/F18),"",G18/F18) | I18: =C18+F18 -> 0 | J18: =D18+G18 -> 0 | K18: =IF(ISERROR(J18/I18),"",J18/I18) | L18: =B18+'３月'!L18 -> 0 | M18: =I18+'３月'!M18 -> 0 | N18: =J18+'３月'!N18 -> 0 | O18: =IF(ISERROR(N18/M18),"",N18/M18) | P18: =IF(ISERROR(N18/Q18),"",N18/Q18) | Q18: =R18+'３月'!Q18 -> 0 | R18: 0
A19: 合計 | B19: =SUM(B3:B18) -> 0 | C19: =SUM(C3:C18) -> 0 | D19: =SUM(D3:D18) -> 0 | E19: =IF(ISERROR(D19/C19),"",D19/C19) | F19: =SUM(F3:F18) -> 0 | G19: =SUM(G3:G18) -> 0 | H19: =IF(ISERROR(G19/F19),"",G19/F19) | I19: =SUM(I3:I18) -> 0 | J19: =SUM(J3:J18) -> 0 | K19: =IF(ISERROR(J19/I19),"",J19/I19) | L19: =IF(ISERROR(N19/M19),"",N19/M19) | P19: =IF(ISERROR(N19/Q19),"",N19/Q19) -> 0 | Q19: =SUM(Q3:Q18) -> 86937 | R19: =SUM(R3:R18) -> 29469
A20: 前年同期合計 | B20: 2 | C20: 29730 | D20: 29469 | E20: 0.99122099 | F20: 0 | G20: 0 | I20: 29730 | J20: 29469 | K20: 0.99122099
A21: 対前年比(%) | B21: =IFERROR(B19/B20,"") -> 0 | C21: =IFERROR(C19/C20,"") -> 0 | D21: =IFERROR(D19/D20,"") -> 0 | F21: =IFERROR(F19/F20,"") | G21: =IFERROR(G19/G20,"") | I21: =IFERROR(I19/I20,"") -> 0 | J21: =IFERROR(J19/J20,"") -> 0
A22: 累計 | B22: =B19+'３月'!B22 -> 0 | C22: =C19+'３月'!C22 -> 0 | D22: =D19+'３月'!D22 -> 0 | E22: =IF(ISERROR(D22/C22)," ",(D22/C22)) | F22: =F19+'３月'!F22 -> 0 | G22: =G19+'３月'!G22 -> 0 | H22: =IF(ISERROR(G22/F22)," ",(G22/F22)) | L22: =SUM(L3:L18) -> 0 | M22: =SUM(M3:M18) -> 0 | N22: =SUM(N3:N18) -> 0 | O22: =IF(ISERROR(N22/M22),"",N22/M22) | P22: =IF(ISERROR(N22/Q19)," ",(N22/Q19)) -> 0
A23: 前年同期累計 | B23: =B20+'３月'!B23 -> 7 | C23: =C20+'３月'!C23 -> 32786 | D23: =D20+'３月'!D23 -> 32266 | E23: =IF(ISERROR(D23/C23),"",D23/C23) -> 0.98413957 | F23: =F20+'３月'!F23 -> 55741 | G23: =G20+'３月'!G23 -> 54671 | H23: =IF(ISERROR(G23/F23)," ",(G23/F23)) -> 0.98080408 | L23: =B23 -> 7 | M23: =C23+F23 -> 88527 | N23: =D23+G23 -> 86937 | O23: =IF(ISERROR(N23/M23),"",N23/M23) -> 0.98203938
A24: 対前年比(%) | B24: =IFERROR(B22/B23,"") -> 0 | C24: =IFERROR(C22/C23,"") -> 0 | D24: =IFERROR(D22/D23,"") -> 0 | F24: =IFERROR(F22/F23,"") -> 0 | G24: =IFERROR(G22/G23,"") -> 0 | L24: =IFERROR(L22/L23,"") -> 0 | M24: =IFERROR(M22/M23,"") -> 0 | N24: =IFERROR(N22/N23,"") -> 0

Sheet ５月
D1: 卵 用 鶏 | G1: 肉 用 鶏 | J1: 合 計 | N1: 累 計 | P1: Bの対前年
A2: 所別 | B2: 件数 | C2: 入検(A) | D2: 解放(B) | E2: B/A | F2: 入検(A) | G2: 解放(B) | H2: B/A | I2: 入検(A) | J2: 解放(B) | K2: B/A | L2: 件数 | M2: 入検(A) | N2: 解放(B) | O2: B/A | P2: 同期比 (%) | Q2: 前年同期累計 | R2: 前年同期合計
A3: 横浜本所 | E3: =IF(ISERROR(D3/C3),"",D3/C3) | H3: =IF(ISERROR(G3/F3),"",G3/F3) | I3: =C3+F3 -> 0 | J3: =D3+G3 -> 0 | K3: =IF(ISERROR(J3/I3),"",J3/I3) | L3: =B3+'４月'!L3 -> 0 | M3: =I3+'４月'!M3 -> 0 | N3: =J3+'４月'!N3 -> 0 | O3: =IF(ISERROR(N3/M3),"",N3/M3) | P3: =IF(ISERROR(N3/Q3),"",N3/Q3) -> 0 | Q3: =R3+'４月'!Q3 -> 52007 | R3: 28223
A4: 静岡出張所 | E4: =IF(ISERROR(D4/C4),"",D4/C4) | H4: =IF(ISERROR(G4/F4),"",G4/F4) | I4: =C4+F4 -> 0 | J4: =D4+G4 -> 0 | K4: =IF(ISERROR(J4/I4),"",J4/I4) | L4: =B4+'４月'!L4 -> 0 | M4: =I4+'４月'!M4 -> 0 | N4: =J4+'４月'!N4 -> 0 | O4: =IF(ISERROR(N4/M4),"",N4/M4) | P4: =IF(ISERROR(N4/Q4),"",N4/Q4) -> 0 | Q4: =R4+'４月'!Q4 -> 13711 | R4: 8026
A5: 北海道・東北支所 | E5: =IF(ISERROR(D5/C5),"",D5/C5) | H5: =IF(ISERROR(G5/F5),"",G5/F5) | I5: =C5+F5 -> 0 | J5: =D5+G5 -> 0 | K5: =IF(ISERROR(J5/I5),"",J5/I5) | L5: =B5+'４月'!L5 -> 0 | M5: =I5+'４月'!M5 -> 0 | N5: =J5+'４月'!N5 -> 0 | O5: =IF(ISERROR(N5/M5),"",N5/M5) | P5: =IF(ISERROR(N5/Q5),"",N5/Q5) | Q5: =R5+'４月'!Q5 -> 0 | R5: 0
A6: 仙台空港出張所 | E6: =IF(ISERROR(D6/C6),"",D6/C6) | H6: =IF(ISERROR(G6/F6),"",G6/F6) | I6: =C6+F6 -> 0 | J6: =D6+G6 -> 0 | K6: =IF(ISERROR(J6/I6),"",J6/I6) | L6: =B6+'４月'!L6 -> 0 | M6: =I6+'４月'!M6 -> 0 | N6: =J6+'４月'!N6 -> 0 | O6: =IF(ISERROR(N6/M6),"",N6/M6) | P6: =IF(ISERROR(N6/Q6),"",N6/Q6) -> 0 | Q6: =R6+'４月'!Q6 -> 13388 | R6: 0
A7: 成田支所 | E7: =IF(ISERROR(D7/C7),"",D7/C7) | H7: =IF(ISERROR(G7/F7),"",G7/F7) | I7: =C7+F7 -> 0 | J7: =D7+G7 -> 0 | K7: =IF(ISERROR(J7/I7),"",J7/I7) | L7: =B7+'４月'!L7 -> 0 | M7: =I7+'４月'!M7 -> 0 | N7: =J7+'４月'!N7 -> 0 | O7: =IF(ISERROR(N7/M7),"",N7/M7) | P7: =IF(ISERROR(N7/Q7),"",N7/Q7) -> 0 | Q7: =R7+'４月'!Q7 -> 2493 | R7: 0
A8: 中部空港支所 | E8: =IF(ISERROR(D8/C8),"",D8/C8) | H8: =IF(ISERROR(G8/F8),"",G8/F8) | I8: =C8+F8 -> 0 | J8: =D8+G8 -> 0 | K8: =IF(ISERROR(J8/I8),"",J8/I8) | L8: =B8+'４月'!L8 -> 0 | M8: =I8+'４月'!M8 -> 0 | N8: =J8+'４月'!N8 -> 0 | O8: =IF(ISERROR(N8/M8),"",N8/M8) | P8: =IF(ISERROR(N8/Q8),"",N8/Q8) | Q8: =R8+'４月'!Q8 -> 0 | R8: 0
A9: 名古屋出張所 | E9: =IF(ISERROR(D9/C9),"",D9/C9) | H9: =IF(ISERROR(G9/F9),"",G9/F9) | I9: =C9+F9 -> 0 | J9: =D9+G9 -> 0 | K9: =IF(ISERROR(J9/I9),"",J9/I9) | L9: =B9+'４月'!L9 -> 0 | M9: =I9+'４月'!M9 -> 0 | N9: =J9+'４月'!N9 -> 0 | O9: =IF(ISERROR(N9/M9),"",N9/M9) | P9: =IF(ISERROR(N9/Q9),"",N9/Q9) | Q9: =R9+'４月'!Q9 -> 0 | R9: 0
A10: 神戸支所 | E10: =IF(ISERROR(D10/C10),"",D10/C10) | H10: =IF(ISERROR(G10/F10),"",G10/F10) | I10: =C10+F10 -> 0 | J10: =D10+G10 -> 0 | K10: =IF(ISERROR(J10/I10),"",J10/I10) | L10: =B10+'４月'!L10 -> 0 | M10: =I10+'４月'!M10 -> 0 | N10: =J10+'４月'!N10 -> 0 | O10: =IF(ISERROR(N10/M10),"",N10/M10) | P10: =IF(ISERROR(N10/Q10),"",N10/Q10) | Q10: =R10+'４月'!Q10 -> 0 | R10: 0
A11: 大阪出張所 | E11: =IF(ISERROR(D11/C11),"",D11/C11) | H11: =IF(ISERROR(G11/F11),"",G11/F11) | I11: =C11+F11 -> 0 | J11: =D11+G11 -> 0 | K11: =IF(ISERROR(J11/I11),"",J11/I11) | L11: =B11+'４月'!L11 -> 0 | M11: =I11+'４月'!M11 -> 0 | N11: =J11+'４月'!N11 -> 0 | O11: =IF(ISERROR(N11/M11),"",N11/M11) | P11: =IF(ISERROR(N11/Q11),"",N11/Q11) | Q11: =R11+'４月'!Q11 -> 0 | R11: 0
A12: 広島空港出張所 | E12: =IF(ISERROR(D12/C12),"",D12/C12) | H12: =IF(ISERROR(G12/F12),"",G12/F12) | I12: =C12+F12 -> 0 | J12: =D12+G12 -> 0 | K12: =IF(ISERROR(J12/I12),"",J12/I12) | L12: =B12+'４月'!L12 -> 0 | M12: =I12+'４月'!M12 -> 0 | N12: =J12+'４月'!N12 -> 0 | O12: =IF(ISERROR(N12/M12),"",N12/M12) | P12: =IF(ISERROR(N12/Q12),"",N12/Q12) | Q12: =R12+'４月'!Q12 -> 0 | R12: 0
A13: 岡山空港出張所 | E13: =IF(ISERROR(D13/C13),"",D13/C13) | H13: =IF(ISERROR(G13/F13),"",G13/F13) | I13: =C13+F13 -> 0 | J13: =D13+G13 -> 0 | K13: =IF(ISERROR(J13/I13),"",J13/I13) | L13: =B13+'４月'!L13 -> 0 | M13: =I13+'４月'!M13 -> 0 | N13: =J13+'４月'!N13 -> 0 | O13: =IF(ISERROR(N13/M13),"",N13/M13) | P13: =IF(ISERROR(N13/Q13),"",N13/Q13) -> 0 | Q13: =R13+'４月'!Q13 -> 25373 | R13: 0
A14: 門司支所 | E14: =IF(ISERROR(D14/C14),"",D14/C14) | H14: =IF(ISERROR(G14/F14),"",G14/F14) | I14: =C14+F14 -> 0 | J14: =D14+G14 -> 0 | K14: =IF(ISERROR(J14/I14),"",J14/I14) | L14: =B14+'４月'!L14 -> 0 | M14: =I14+'４月'!M14 -> 0 | N14: =J14+'４月'!N14 -> 0 | O14: =IF(ISERROR(N14/M14),"",N14/M14) | P14: =IF(ISERROR(N14/Q14),"",N14/Q14) -> 0 | Q14: =R14+'４月'!Q14 -> 3078 | R14: 3078
... A18: 沖縄支所 | E18: =IF(ISERROR(D18/C18),"",D18/C18) | H18: =IF(ISERROR(G18/F18),"",G18/F18) | I18: =C18+F18 -> 0 | J18: =D18+G18 -> 0 | K18: =IF(ISERROR(J18/I18),"",J18/I18) | L18: =B18+'４月'!L18 -> 0 | M18: =I18+'４月'!M18 -> 0 | N18: =J18+'４月'!N18 -> 0 | O18: =IF(ISERROR(N18/M18),"",N18/M18) | P18: =IF(ISERROR(N18/Q18),"",N18/Q18) | Q18: =R18+'４月'!Q18 -> 0 | R18: 0
A19: 合計 | B19: =SUM(B3:B18) -> 0 | C19: =SUM(C3:C18) -> 0 | D19: =SUM(D3:D18) -> 0 | E19: =IF(ISERROR(D19/C19),"",D19/C19) | F19: =SUM(F3:F18) -> 0 | G19: =SUM(G3:G18) -> 0 | H19: =IF(ISERROR(G19/F19),"",G19/F19) | I19: =SUM(I3:I18) -> 0 | J19: =SUM(J3:J18) -> 0 | K19: =IF(ISERROR(J19/I19),"",J19/I19) | Q19: =SUM(Q3:Q18) -> 126264 | R19: =SUM(R3:R18) -> 39327
A20: 前年同期合計 | B20: 3 | C20: 8233 | D20: 8026 | E20: 0.97485728 | F20: 33399 | G20: 31301 | H20: 0.93718375 | I20: 41632 | J20: 39327 | K20: 0.94463394
A21: 対前年比(%) | B21: =IFERROR(B19/B20,"") -> 0 | C21: =IFERROR(C19/C20,"") -> 0 | D21: =IFERROR(D19/D20,"") -> 0 | F21: =IFERROR(F19/F20,"") -> 0 | G21: =IFERROR(G19/G20,"") -> 0 | I21: =IFERROR(I19/I20,"") -> 0 | J21: =IFERROR(J19/J20,"") -> 0
A22: 累計 | B22: =B19+'４月'!B22 -> 0 | C22: =C19+'４月'!C22 -> 0 | D22: =D19+'４月'!D22 -> 0 | E22: =IF(ISERROR(D22/C22)," ",(D22/C22)) | F22: =F19+'４月'!F22 -> 0 | G22: =G19+'４月'!G22 -> 0 | H22: =IF(ISERROR(G22/F22)," ",(G22/F22)) | L22: =SUM(L3:L18) -> 0 | M22: =SUM(M3:M18) -> 0 | N22: =SUM(N3:N18) -> 0 | O22: =IF(ISERROR(N22/M22),"",N22/M22) | P22: =IF(ISERROR(N22/Q19)," ",(N22/Q19)) -> 0
A23: 前年同期累計 | B23: =B20+'４月'!B23 -> 10 | C23: =C20+'４月'!C23 -> 41019 | D23: =D20+'４月'!D23 -> 40292 | E23: =IF(ISERROR(D23/C23),"",D23/C23) -> 0.98227651 | F23: =F20+'４月'!F23 -> 89140 | G23: =G20+'４月'!G23 -> 85972 | H23: =IF(ISERROR(G23/F23)," ",(G23/F23)) -> 0.9644604 | L23: =B23 -> 10 | M23: =C23+F23 -> 130159 | N23: =D23+G23 -> 126264 | O23: =IF(ISERROR(N23/M23),"",N23/M23) -> 0.97007506
A24: 対前年比(%) | B24: =IFERROR(B22/B23,"") -> 0 | C24: =IFERROR(C22/C23,"") -> 0 | D24: =IFERROR(D22/D23,"") -> 0 | F24: =IFERROR(F22/F23,"") -> 0 | G24: =IFERROR(G22/G23,"") -> 0 | L24: =IFERROR(L22/L23,"") -> 0 | M24: =IFERROR(M22/M23,"") -> 0 | N24: =IFERROR(N22/N23,"") -> 0

Sheet ６月
D1: 卵 用 鶏 | G1: 肉 用 鶏 | J1: 合 計 | N1: 累 計 | P1: Bの対前年
A2: 所別 | B2: 件数 | C2: 入検(A) | D2: 解放(B) | E2: B/A | F2: 入検(A) | G2: 解放(B) | H2: B/A | I2: 入検(A) | J2: 解放(B) | K2: B/A | L2: 件数 | M2: 入検(A) | N2: 解放(B) | O2: B/A | P2: 同期比 (%) | Q2: 前年同期累計 | R2: 前年同期合計
A3: 横浜本所 | E3: =IF(ISERROR(D3/C3),"",D3/C3) | H3: =IF(ISERROR(G3/F3),"",G3/F3) | I3: =C3+F3 -> 0 | J3: =D3+G3 -> 0 | K3: =IF(ISERROR(J3/I3),"",J3/I3) | L3: =B3+'５月'!L3 -> 0 | M3: =I3+'５月'!M3 -> 0 | N3: =J3+'５月'!N3 -> 0 | O3: =IF(ISERROR(N3/M3),"",N3/M3) | P3: =IF(ISERROR(N3/Q3),"",N3/Q3) -> 0 | Q3: =R3+'５月'!Q3 -> 52007 | R3: 0
A4: 静岡出張所 | E4: =IF(ISERROR(D4/C4),"",D4/C4) | H4: =IF(ISERROR(G4/F4),"",G4/F4) | I4: =C4+F4 -> 0 | J4: =D4+G4 -> 0 | K4: =IF(ISERROR(J4/I4),"",J4/I4) | L4: =B4+'５月'!L4 -> 0 | M4: =I4+'５月'!M4 -> 0 | N4: =J4+'５月'!N4 -> 0 | O4: =IF(ISERROR(N4/M4),"",N4/M4) | P4: =IF(ISERROR(N4/Q4),"",N4/Q4) -> 0 | Q4: =R4+'５月'!Q4 -> 13711 | R4: 0
A5: 北海道・東北支所 | E5: =IF(ISERROR(D5/C5),"",D5/C5) | H5: =IF(ISERROR(G5/F5),"",G5/F5) | I5: =C5+F5 -> 0 | J5: =D5+G5 -> 0 | K5: =IF(ISERROR(J5/I5),"",J5/I5) | L5: =B5+'５月'!L5 -> 0 | M5: =I5+'５月'!M5 -> 0 | N5: =J5+'５月'!N5 -> 0 | O5: =IF(ISERROR(N5/M5),"",N5/M5) | P5: =IF(ISERROR(N5/Q5),"",N5/Q5) | Q5: =R5+'５月'!Q5 -> 0 | R5: 0
A6: 仙台空港出張所 | E6: =IF(ISERROR(D6/C6),"",D6/C6) | H6: =IF(ISERROR(G6/F6),"",G6/F6) | I6: =C6+F6 -> 0 | J6: =D6+G6 -> 0 | K6: =IF(ISERROR(J6/I6),"",J6/I6) | L6: =B6+'５月'!L6 -> 0 | M6: =I6+'５月'!M6 -> 0 | N6: =J6+'５月'!N6 -> 0 | O6: =IF(ISERROR(N6/M6),"",N6/M6) | P6: =IF(ISERROR(N6/Q6),"",N6/Q6) -> 0 | Q6: =R6+'５月'!Q6 -> 13388 | R6: 0
A7: 成田支所 | E7: =IF(ISERROR(D7/C7),"",D7/C7) | H7: =IF(ISERROR(G7/F7),"",G7/F7) | I7: =C7+F7 -> 0 | J7: =D7+G7 -> 0 | K7: =IF(ISERROR(J7/I7),"",J7/I7) | L7: =B7+'５月'!L7 -> 0 | M7: =I7+'５月'!M7 -> 0 | N7: =J7+'５月'!N7 -> 0 | O7: =IF(ISERROR(N7/M7),"",N7/M7) | P7: =IF(ISERROR(N7/Q7),"",N7/Q7) -> 0 | Q7: =R7+'５月'!Q7 -> 4166 | R7: 1673
A8: 中部空港支所 | E8: =IF(ISERROR(D8/C8),"",D8/C8) | H8: =IF(ISERROR(G8/F8),"",G8/F8) | I8: =C8+F8 -> 0 | J8: =D8+G8 -> 0 | K8: =IF(ISERROR(J8/I8),"",J8/I8) | L8: =B8+'５月'!L8 -> 0 | M8: =I8+'５月'!M8 -> 0 | N8: =J8+'５月'!N8 -> 0 | O8: =IF(ISERROR(N8/M8),"",N8/M8) | P8: =IF(ISERROR(N8/Q8),"",N8/Q8) | Q8: =R8+'５月'!Q8 -> 0 | R8: 0
A9: 名古屋出張所 | E9: =IF(ISERROR(D9/C9),"",D9/C9) | H9: =IF(ISERROR(G9/F9),"",G9/F9) | I9: =C9+F9 -> 0 | J9: =D9+G9 -> 0 | K9: =IF(ISERROR(J9/I9),"",J9/I9) | L9: =B9+'５月'!L9 -> 0 | M9: =I9+'５月'!M9 -> 0 | N9: =J9+'５月'!N9 -> 0 | O9: =IF(ISERROR(N9/M9),"",N9/M9) | P9: =IF(ISERROR(N9/Q9),"",N9/Q9) | Q9: =R9+'５月'!Q9 -> 0 | R9: 0
A10: 神戸支所 | E10: =IF(ISERROR(D10/C10),"",D10/C10) | H10: =IF(ISERROR(G10/F10),"",G10/F10) | I10: =C10+F10 -> 0 | J10: =D10+G10 -> 0 | K10: =IF(ISERROR(J10/I10),"",J10/I10) | L10: =B10+'５月'!L10 -> 0 | M10: =I10+'５月'!M10 -> 0 | N10: =J10+'５月'!N10 -> 0 | O10: =IF(ISERROR(N10/M10),"",N10/M10) | P10: =IF(ISERROR(N10/Q10),"",N10/Q10) | Q10: =R10+'５月'!Q10 -> 0 | R10: 0
A11: 大阪出張所 | E11: =IF(ISERROR(D11/C11),"",D11/C11) | H11: =IF(ISERROR(G11/F11),"",G11/F11) | I11: =C11+F11 -> 0 | J11: =D11+G11 -> 0 | K11: =IF(ISERROR(J11/I11),"",J11/I11) | L11: =B11+'５月'!L11 -> 0 | M11: =I11+'５月'!M11 -> 0 | N11: =J11+'５月'!N11 -> 0 | O11: =IF(ISERROR(N11/M11),"",N11/M11) | P11: =IF(ISERROR(N11/Q11),"",N11/Q11) | Q11: =R11+'５月'!Q11 -> 0 | R11: 0
A12: 広島空港出張所 | E12: =IF(ISERROR(D12/C12),"",D12/C12) | H12: =IF(ISERROR(G12/F12),"",G12/F12) | I12: =C12+F12 -> 0 | J12: =D12+G12 -> 0 | K12: =IF(ISERROR(J12/I12),"",J12/I12) | L12: =B12+'５月'!L12 -> 0 | M12: =I12+'５月'!M12 -> 0 | N12: =J12+'５月'!N12 -> 0 | O12: =IF(ISERROR(N12/M12),"",N12/M12) | P12: =IF(ISERROR(N12/Q12),"",N12/Q12) | Q12: =R12+'５月'!Q12 -> 0 | R12: 0
A13: 岡山空港出張所 | E13: =IF(ISERROR(D13/C13),"",D13/C13) | H13: =IF(ISERROR(G13/F13),"",G13/F13) | I13: =C13+F13 -> 0 | J13: =D13+G13 -> 0 | K13: =IF(ISERROR(J13/I13),"",J13/I13) | L13: =B13+'５月'!L13 -> 0 | M13: =I13+'５月'!M13 -> 0 | N13: =J13+'５月'!N13 -> 0 | O13: =IF(ISERROR(N13/M13),"",N13/M13) | P13: =IF(ISERROR(N13/Q13),"",N13/Q13) -> 0 | Q13: =R13+'５月'!Q13 -> 53437 | R13: 28064
A14: 門司支所 | E14: =IF(ISERROR(D14/C14),"",D14/C14) | H14: =IF(ISERROR(G14/F14),"",G14/F14) | I14: =C14+F14 -> 0 | J14: =D14+G14 -> 0 | K14: =IF(ISERROR(J14/I14),"",J14/I14) | L14: =B14+'５月'!L14 -> 0 | M14: =I14+'５月'!M14 -> 0 | N14: =J14+'５月'!N14 -> 0 | O14: =IF(ISERROR(N14/M14),"",N14/M14) | P14: =IF(ISERROR(N14/Q14),"",N14/Q14) -> 0 | Q14: =R14+'５月'!Q14 -> 3078 | R14: 0
... A18: 沖縄支所 | E18: =IF(ISERROR(D18/C18),"",D18/C18) | H18: =IF(ISERROR(G18/F18),"",G18/F18) | I18: =C18+F18 -> 0 | J18: =D18+G18 -> 0 | K18: =IF(ISERROR(J18/I18),"",J18/I18) | L18: =B18+'５月'!L18 -> 0 | M18: =I18+'５月'!M18 -> 0 | N18: =J18+'５月'!N18 -> 0 | O18: =IF(ISERROR(N18/M18),"",N18/M18) | P18: =IF(ISERROR(N18/Q18),"",N18/Q18) | Q18: =R18+'５月'!Q18 -> 0 | R18: 0
A19: 合計 | Q19: =SUM(Q3:Q18) -> 156001 | R19: =SUM(R3:R18) -> 29737
A20: 前年同期合計 | B20: 2 | C20: 0 | D20: 0 | F20: 30489 | G20: 29737 | H20: 0.97533537 | I20: 30489 | J20: 29737 | K20: 0.97533537
A21: 対前年比(%) | B21: =IFERROR(B19/B20,"") -> 0 | C21: =IFERROR(C19/C20,"") | D21: =IFERROR(D19/D20,"") | F21: =IFERROR(F19/F20,"") -> 0 | G21: =IFERROR(G19/G20,"") -> 0 | I21: =IFERROR(I19/I20,"") -> 0 | J21: =IFERROR(J19/J20,"") -> 0
A22: 累計 | B22: =B19+'５月'!B22 -> 0 | C22: =C19+'５月'!C22 -> 0 | D22: =D19+'５月'!D22 -> 0 | E22: =IF(ISERROR(D22/C22)," ",(D22/C22)) | F22: =F19+'５月'!F22 -> 0 | G22: =G19+'５月'!G22 -> 0 | H22: =IF(ISERROR(G22/F22)," ",(G22/F22)) | L22: =SUM(L3:L18) -> 0 | M22: =SUM(M3:M18) -> 0 | N22: =SUM(N3:N18) -> 0 | O22: =IF(ISERROR(N22/M22),"",N22/M22) | P22: =IF(ISERROR(N22/Q19)," ",(N22/Q19)) -> 0
A23: 前年同期累計 | B23: =B20+'５月'!B23 -> 12 | C23: =C20+'５月'!C23 -> 41019 | D23: =D20+'５月'!D23 -> 40292 | E23: =IF(ISERROR(D23/C23),"",D23/C23) -> 0.98227651 | F23: =F20+'５月'!F23 -> 119629 | G23: =G20+'５月'!G23 -> 115709 | H23: =IF(ISERROR(G23/F23)," ",(G23/F23)) -> 0.96723203 | L23: =B23 -> 12 | M23: =C23+F23 -> 160648 | N23: =D23+G23 -> 156001 | O23: =IF(ISERROR(N23/M23),"",N23/M23) -> 0.9710734
A24: 対前年比(%) | B24: =IFERROR(B22/B23,"") -> 0 | C24: =IFERROR(C22/C23,"") -> 0 | D24: =IFERROR(D22/D23,"") -> 0 | F24: =IFERROR(F22/F23,"") -> 0 | G24: =IFERROR(G22/G23,"") -> 0 | L24: =IFERROR(L22/L23,"") -> 0 | M24: =IFERROR(M22/M23,"") -> 0 | N24: =IFERROR(N22/N23,"") -> 0

Sheet ７月
D1: 卵 用 鶏 | G1: 肉 用 鶏 | J1: 合 計 | N1: 累 計 | P1: Bの対前年
A2: 所別 | B2: 件数 | C2: 入検(A) | D2: 解放(B) | E2: B/A | F2: 入検(A) | G2: 解放(B) | H2: B/A | I2: 入検(A) | J2: 解放(B) | K2: B/A | L2: 件数 | M2: 入検(A) | N2: 解放(B) | O2: B/A | P2: 同期比 (%) | Q2: 前年同期累計 | R2: 前年同期合計
A3: 横浜本所 | E3: =IF(ISERROR(D3/C3),"",D3/C3) | H3: =IF(ISERROR(G3/F3),"",G3/F3) | I3: =C3+F3 -> 0 | J3: =D3+G3 -> 0 | K3: =IF(ISERROR(J3/I3),"",J3/I3) | L3: =B3+'６月'!L3 -> 0 | M3: =I3+'６月'!M3 -> 0 | N3: =J3+'６月'!N3 -> 0 | O3: =IF(ISERROR(N3/M3),"",N3/M3) | P3: =IF(ISERROR(N3/Q3),"",N3/Q3) -> 0 | Q3: =R3+'６月'!Q3 -> 68638 | R3: 16631
A4: 静岡出張所 | E4: =IF(ISERROR(D4/C4),"",D4/C4) | H4: =IF(ISERROR(G4/F4),"",G4/F4) | I4: =C4+F4 -> 0 | J4: =D4+G4 -> 0 | K4: =IF(ISERROR(J4/I4),"",J4/I4) | L4: =B4+'６月'!L4 -> 0 | M4: =I4+'６月'!M4 -> 0 | N4: =J4+'６月'!N4 -> 0 | O4: =IF(ISERROR(N4/M4),"",N4/M4) | P4: =IF(ISERROR(N4/Q4),"",N4/Q4) -> 0 | Q4: =R4+'６月'!Q4 -> 13711 | R4: 0
A5: 北海道・東北支所 | E5: =IF(ISERROR(D5/C5),"",D5/C5) | H5: =IF(ISERROR(G5/F5),"",G5/F5) | I5: =C5+F5 -> 0 | J5: =D5+G5 -> 0 | K5: =IF(ISERROR(J5/I5),"",J5/I5) | L5: =B5+'６月'!L5 -> 0 | M5: =I5+'６月'!M5 -> 0 | N5: =J5+'６月'!N5 -> 0 | O5: =IF(ISERROR(N5/M5),"",N5/M5) | P5: =IF(ISERROR(N5/Q5),"",N5/Q5) | Q5: =R5+'６月'!Q5 -> 0 | R5: 0
A6: 仙台空港出張所 | E6: =IF(ISERROR(D6/C6),"",D6/C6) | H6: =IF(ISERROR(G6/F6),"",G6/F6) | I6: =C6+F6 -> 0 | J6: =D6+G6 -> 0 | K6: =IF(ISERROR(J6/I6),"",J6/I6) | L6: =B6+'６月'!L6 -> 0 | M6: =I6+'６月'!M6 -> 0 | N6: =J6+'６月'!N6 -> 0 | O6: =IF(ISERROR(N6/M6),"",N6/M6) | P6: =IF(ISERROR(N6/Q6),"",N6/Q6) -> 0 | Q6: =R6+'６月'!Q6 -> 13388 | R6: 0
A7: 成田支所 | E7: =IF(ISERROR(D7/C7),"",D7/C7) | H7: =IF(ISERROR(G7/F7),"",G7/F7) | I7: =C7+F7 -> 0 | J7: =D7+G7 -> 0 | K7: =IF(ISERROR(J7/I7),"",J7/I7) | L7: =B7+'６月'!L7 -> 0 | M7: =I7+'６月'!M7 -> 0 | N7: =J7+'６月'!N7 -> 0 | O7: =IF(ISERROR(N7/M7),"",N7/M7) | P7: =IF(ISERROR(N7/Q7),"",N7/Q7) -> 0 | Q7: =R7+'６月'!Q7 -> 4166 | R7: 0
A8: 中部空港支所 | E8: =IF(ISERROR(D8/C8),"",D8/C8) | H8: =IF(ISERROR(G8/F8),"",G8/F8) | I8: =C8+F8 -> 0 | J8: =D8+G8 -> 0 | K8: =IF(ISERROR(J8/I8),"",J8/I8) | L8: =B8+'６月'!L8 -> 0 | M8: =I8+'６月'!M8 -> 0 | N8: =J8+'６月'!N8 -> 0 | O8: =IF(ISERROR(N8/M8),"",N8/M8) | P8: =IF(ISERROR(N8/Q8),"",N8/Q8) | Q8: =R8+'６月'!Q8 -> 0 | R8: 0
A9: 名古屋出張所 | E9: =IF(ISERROR(D9/C9),"",D9/C9) | H9: =IF(ISERROR(G9/F9),"",G9/F9) | I9: =C9+F9 -> 0 | J9: =D9+G9 -> 0 | K9: =IF(ISERROR(J9/I9),"",J9/I9) | L9: =B9+'６月'!L9 -> 0 | M9: =I9+'６月'!M9 -> 0 | N9: =J9+'６月'!N9 -> 0 | O9: =IF(ISERROR(N9/M9),"",N9/M9) | P9: =IF(ISERROR(N9/Q9),"",N9/Q9) | Q9: =R9+'６月'!Q9 -> 0 | R9: 0
A10: 神戸支所 | E10: =IF(ISERROR(D10/C10),"",D10/C10) | H10: =IF(ISERROR(G10/F10),"",G10/F10) | I10: =C10+F10 -> 0 | J10: =D10+G10 -> 0 | K10: =IF(ISERROR(J10/I10),"",J10/I10) | L10: =B10+'６月'!L10 -> 0 | M10: =I10+'６月'!M10 -> 0 | N10: =J10+'６月'!N10 -> 0 | O10: =IF(ISERROR(N10/M10),"",N10/M10) | P10: =IF(ISERROR(N10/Q10),"",N10/Q10) | Q10: =R10+'６月'!Q10 -> 0 | R10: 0
A11: 大阪出張所 | E11: =IF(ISERROR(D11/C11),"",D11/C11) | H11: =IF(ISERROR(G11/F11),"",G11/F11) | I11: =C11+F11 -> 0 | J11: =D11+G11 -> 0 | K11: =IF(ISERROR(J11/I11),"",J11/I11) | L11: =B11+'６月'!L11 -> 0 | M11: =I11+'６月'!M11 -> 0 | N11: =J11+'６月'!N11 -> 0 | O11: =IF(ISERROR(N11/M11),"",N11/M11) | P11: =IF(ISERROR(N11/Q11),"",N11/Q11) | Q11: =R11+'６月'!Q11 -> 0 | R11: 0
A12: 広島空港出張所 | E12: =IF(ISERROR(D12/C12),"",D12/C12) | H12: =IF(ISERROR(G12/F12),"",G12/F12) | I12: =C12+F12 -> 0 | J12: =D12+G12 -> 0 | K12: =IF(ISERROR(J12/I12),"",J12/I12) | L12: =B12+'６月'!L12 -> 0 | M12: =I12+'６月'!M12 -> 0 | N12: =J12+'６月'!N12 -> 0 | O12: =IF(ISERROR(N12/M12),"",N12/M12) | P12: =IF(ISERROR(N12/Q12),"",N12/Q12) | Q12: =R12+'６月'!Q12 -> 0 | R12: 0
A13: 岡山空港出張所 | E13: =IF(ISERROR(D13/C13),"",D13/C13) | H13: =IF(ISERROR(G13/F13),"",G13/F13) | I13: =C13+F13 -> 0 | J13: =D13+G13 -> 0 | K13: =IF(ISERROR(J13/I13),"",J13/I13) | L13: =B13+'６月'!L13 -> 0 | M13: =I13+'６月'!M13 -> 0 | N13: =J13+'６月'!N13 -> 0 | O13: =IF(ISERROR(N13/M13),"",N13/M13) | P13: =IF(ISERROR(N13/Q13),"",N13/Q13) -> 0 | Q13: =R13+'６月'!Q13 -> 53437 | R13: 0
A14: 門司支所 | E14: =IF(ISERROR(D14/C14),"",D14/C14) | H14: =IF(ISERROR(G14/F14),"",G14/F14) | I14: =C14+F14 -> 0 | J14: =D14+G14 -> 0 | K14: =IF(ISERROR(J14/I14),"",J14/I14) | L14: =B14+'６月'!L14 -> 0 | M14: =I14+'６月'!M14 -> 0 | N14: =J14+'６月'!N14 -> 0 | O14: =IF(ISERROR(N14/M14),"",N14/M14) | P14: =IF(ISERROR(N14/Q14),"",N14/Q14) -> 0 | Q14: =R14+'６月'!Q14 -> 10484 | R14: 7406
... A18: 沖縄支所 | E18: =IF(ISERROR(D18/C18),"",D18/C18) | H18: =IF(ISERROR(G18/F18),"",G18/F18) | I18: =C18+F18 -> 0 | J18: =D18+G18 -> 0 | K18: =IF(ISERROR(J18/I18),"",J18/I18) | L18: =B18+'６月'!L18 -> 0 | M18: =I18+'６月'!M18 -> 0 | N18: =J18+'６月'!N18 -> 0 | O18: =IF(ISERROR(N18/M18),"",N18/M18) | P18: =IF(ISERROR(N18/Q18),"",N18/Q18) | Q18: =R18+'６月'!Q18 -> 0 | R18: 0
A19: 合計 | B19: =SUM(B3:B18) -> 0 | C19: =SUM(C3:C18) -> 0 | D19: =SUM(D3:D18) -> 0 | E19: =IF(ISERROR(D19/C19),"",D19/C19) | F19: =SUM(F3:F18) -> 0 | G19: =SUM(G3:G18) -> 0 | H19: =IF(ISERROR(G19/F19),"",G19/F19) | I19: =SUM(I3:I18) -> 0 | J19: =SUM(J3:J18) -> 0 | K19: =IF(ISERROR(J19/I19),"",J19/I19) | Q19: =SUM(Q3:Q18) -> 180038 | R19: =SUM(R3:R18) -> 24037
A20: 前年同期合計 | B20: 2 | C20: 0 | D20: 0 | F20: 24971 | G20: 24037 | H20: 0.96259661 | I20: 24971 | J20: 24037 | K20: 0.96259661
A21: 対前年比(%) | B21: =IFERROR(B19/B20,"") -> 0 | C21: =IFERROR(C19/C20,"") | D21: =IFERROR(D19/D20,"") | F21: =IFERROR(F19/F20,"") -> 0 | G21: =IFERROR(G19/G20,"") -> 0 | I21: =IFERROR(I19/I20,"") -> 0 | J21: =IFERROR(J19/J20,"") -> 0
A22: 累計 | B22: =B19+'６月'!B22 -> 0 | C22: =C19+'６月'!C22 -> 0 | D22: =D19+'６月'!D22 -> 0 | E22: =IF(ISERROR(D22/C22)," ",(D22/C22)) | F22: =F19+'６月'!F22 -> 0 | G22: =G19+'６月'!G22 -> 0 | H22: =IF(ISERROR(G22/F22)," ",(G22/F22)) | L22: =SUM(L3:L18) -> 0 | M22: =SUM(M3:M18) -> 0 | N22: =SUM(N3:N18) -> 0 | O22: =IF(ISERROR(N22/M22),"",N22/M22) | P22: =IF(ISERROR(N22/Q19)," ",(N22/Q19)) -> 0
A23: 前年同期累計 | B23: =B20+'６月'!B23 -> 14 | C23: =C20+'６月'!C23 -> 41019 | D23: =D20+'６月'!D23 -> 40292 | E23: =IF(ISERROR(D23/C23),"",D23/C23) -> 0.98227651 | F23: =F20+'６月'!F23 -> 144600 | G23: =G20+'６月'!G23 -> 139746 | H23: =IF(ISERROR(G23/F23)," ",(G23/F23)) -> 0.96643154 | L23: =B23 -> 14 | M23: =C23+F23 -> 185619 | N23: =D23+G23 -> 180038 | O23: =IF(ISERROR(N23/M23),"",N23/M23) -> 0.96993303
A24: 対前年比(%) | B24: =IFERROR(B22/B23,"") -> 0 | C24: =IFERROR(C22/C23,"") -> 0 | D24: =IFERROR(D22/D23,"") -> 0 | F24: =IFERROR(F22/F23,"") -> 0 | G24: =IFERROR(G22/G23,"") -> 0 | L24: =IFERROR(L22/L23,"") -> 0 | M24: =IFERROR(M22/M23,"") -> 0 | N24: =IFERROR(N22/N23,"") -> 0

Sheet ８月
D1: 卵 用 鶏 | G1: 肉 用 鶏 | J1: 合 計 | N1: 累 計 | P1: Bの対前年
A2: 所別 | B2: 件数 | C2: 入検(A) | D2: 解放(B) | E2: B/A | F2: 入検(A) | G2: 解放(B) | H2: B/A | I2: 入検(A) | J2: 解放(B) | K2: B/A | L2: 件数 | M2: 入検(A) | N2: 解放(B) | O2: B/A | P2: 同期比 (%) | Q2: 前年同期累計 | R2: 前年同期合計
A3: 横浜本所 | E3: =IF(ISERROR(D3/C3),"",D3/C3) | H3: =IF(ISERROR(G3/F3),"",G3/F3) | I3: =C3+F3 -> 0 | J3: =D3+G3 -> 0 | K3: =IF(ISERROR(J3/I3),"",J3/I3) | L3: =B3+'７月'!L3 -> 0 | M3: =I3+'７月'!M3 -> 0 | N3: =J3+'７月'!N3 -> 0 | O3: =IF(ISERROR(N3/M3),"",N3/M3) | P3: =IF(ISERROR(N3/Q3),"",N3/Q3) -> 0 | Q3: =R3+'７月'!Q3 -> 85027 | R3: 16389
A4: 静岡出張所 | E4: =IF(ISERROR(D4/C4),"",D4/C4) | H4: =IF(ISERROR(G4/F4),"",G4/F4) | I4: =C4+F4 -> 0 | J4: =D4+G4 -> 0 | K4: =IF(ISERROR(J4/I4),"",J4/I4) | L4: =B4+'７月'!L4 -> 0 | M4: =I4+'７月'!M4 -> 0 | N4: =J4+'７月'!N4 -> 0 | O4: =IF(ISERROR(N4/M4),"",N4/M4) | P4: =IF(ISERROR(N4/Q4),"",N4/Q4) -> 0 | Q4: =R4+'７月'!Q4 -> 17276 | R4: 3565
A5: 北海道・東北支所 | E5: =IF(ISERROR(D5/C5),"",D5/C5) | H5: =IF(ISERROR(G5/F5),"",G5/F5) | I5: =C5+F5 -> 0 | J5: =D5+G5 -> 0 | K5: =IF(ISERROR(J5/I5),"",J5/I5) | L5: =B5+'７月'!L5 -> 0 | M5: =I5+'７月'!M5 -> 0 | N5: =J5+'７月'!N5 -> 0 | O5: =IF(ISERROR(N5/M5),"",N5/M5) | P5: =IF(ISERROR(N5/Q5),"",N5/Q5) | Q5: =R5+'７月'!Q5 -> 0 | R5: 0
A6: 仙台空港出張所 | E6: =IF(ISERROR(D6/C6),"",D6/C6) | H6: =IF(ISERROR(G6/F6),"",G6/F6) | I6: =C6+F6 -> 0 | J6: =D6+G6 -> 0 | K6: =IF(ISERROR(J6/I6),"",J6/I6) | L6: =B6+'７月'!L6 -> 0 | M6: =I6+'７月'!M6 -> 0 | N6: =J6+'７月'!N6 -> 0 | O6: =IF(ISERROR(N6/M6),"",N6/M6) | P6: =IF(ISERROR(N6/Q6),"",N6/Q6) -> 0 | Q6: =R6+'７月'!Q6 -> 13388 | R6: 0
A7: 成田支所 | E7: =IF(ISERROR(D7/C7),"",D7/C7) | H7: =IF(ISERROR(G7/F7),"",G7/F7) | I7: =C7+F7 -> 0 | J7: =D7+G7 -> 0 | K7: =IF(ISERROR(J7/I7),"",J7/I7) | L7: =B7+'７月'!L7 -> 0 | M7: =I7+'７月'!M7 -> 0 | N7: =J7+'７月'!N7 -> 0 | O7: =IF(ISERROR(N7/M7),"",N7/M7) | P7: =IF(ISERROR(N7/Q7),"",N7/Q7) -> 0 | Q7: =R7+'７月'!Q7 -> 4166 | R7: 0
A8: 中部空港支所 | E8: =IF(ISERROR(D8/C8),"",D8/C8) | H8: =IF(ISERROR(G8/F8),"",G8/F8) | I8: =C8+F8 -> 0 | J8: =D8+G8 -> 0 | K8: =IF(ISERROR(J8/I8),"",J8/I8) | L8: =B8+'７月'!L8 -> 0 | M8: =I8+'７月'!M8 -> 0 | N8: =J8+'７月'!N8 -> 0 | O8: =IF(ISERROR(N8/M8),"",N8/M8) | P8: =IF(ISERROR(N8/Q8),"",N8/Q8) | Q8: =R8+'７月'!Q8 -> 0 | R8: 0
A9: 名古屋出張所 | E9: =IF(ISERROR(D9/C9),"",D9/C9) | H9: =IF(ISERROR(G9/F9),"",G9/F9) | I9: =C9+F9 -> 0 | J9: =D9+G9 -> 0 | K9: =IF(ISERROR(J9/I9),"",J9/I9) | L9: =B9+'７月'!L9 -> 0 | M9: =I9+'７月'!M9 -> 0 | N9: =J9+'７月'!N9 -> 0 | O9: =IF(ISERROR(N9/M9),"",N9/M9) | P9: =IF(ISERROR(N9/Q9),"",N9/Q9) | Q9: =R9+'７月'!Q9 -> 0 | R9: 0
A10: 神戸支所 | E10: =IF(ISERROR(D10/C10),"",D10/C10) | H10: =IF(ISERROR(G10/F10),"",G10/F10) | I10: =C10+F10 -> 0 | J10: =D10+G10 -> 0 | K10: =IF(ISERROR(J10/I10),"",J10/I10) | L10: =B10+'７月'!L10 -> 0 | M10: =I10+'７月'!M10 -> 0 | N10: =J10+'７月'!N10 -> 0 | O10: =IF(ISERROR(N10/M10),"",N10/M10) | P10: =IF(ISERROR(N10/Q10),"",N10/Q10) | Q10: =R10+'７月'!Q10 -> 0 | R10: 0
A11: 大阪出張所 | E11: =IF(ISERROR(D11/C11),"",D11/C11) | H11: =IF(ISERROR(G11/F11),"",G11/F11) | I11: =C11+F11 -> 0 | J11: =D11+G11 -> 0 | K11: =IF(ISERROR(J11/I11),"",J11/I11) | L11: =B11+'７月'!L11 -> 0 | M11: =I11+'７月'!M11 -> 0 | N11: =J11+'７月'!N11 -> 0 | O11: =IF(ISERROR(N11/M11),"",N11/M11) | P11: =IF(ISERROR(N11/Q11),"",N11/Q11) | Q11: =R11+'７月'!Q11 -> 0 | R11: 0
A12: 広島空港出張所 | E12: =IF(ISERROR(D12/C12),"",D12/C12) | H12: =IF(ISERROR(G12/F12),"",G12/F12) | I12: =C12+F12 -> 0 | J12: =D12+G12 -> 0 | K12: =IF(ISERROR(J12/I12),"",J12/I12) | L12: =B12+'７月'!L12 -> 0 | M12: =I12+'７月'!M12 -> 0 | N12: =J12+'７月'!N12 -> 0 | O12: =IF(ISERROR(N12/M12),"",N12/M12) | P12: =IF(ISERROR(N12/Q12),"",N12/Q12) | Q12: =R12+'７月'!Q12 -> 0 | R12: 0
A13: 岡山空港出張所 | E13: =IF(ISERROR(D13/C13),"",D13/C13) | H13: =IF(ISERROR(G13/F13),"",G13/F13) | I13: =C13+F13 -> 0 | J13: =D13+G13 -> 0 | K13: =IF(ISERROR(J13/I13),"",J13/I13) | L13: =B13+'７月'!L13 -> 0 | M13: =I13+'７月'!M13 -> 0 | N13: =J13+'７月'!N13 -> 0 | O13: =IF(ISERROR(N13/M13),"",N13/M13) | P13: =IF(ISERROR(N13/Q13),"",N13/Q13) -> 0 | Q13: =R13+'７月'!Q13 -> 53437 | R13: 0
A14: 門司支所 | E14: =IF(ISERROR(D14/C14),"",D14/C14) | H14: =IF(ISERROR(G14/F14),"",G14/F14) | I14: =C14+F14 -> 0 | J14: =D14+G14 -> 0 | K14: =IF(ISERROR(J14/I14),"",J14/I14) | L14: =B14+'７月'!L14 -> 0 | M14: =I14+'７月'!M14 -> 0 | N14: =J14+'７月'!N14 -> 0 | O14: =IF(ISERROR(N14/M14),"",N14/M14) | P14: =IF(ISERROR(N14/Q14),"",N14/Q14) -> 0 | Q14: =R14+'７月'!Q14 -> 10484 | R14: 0
... A18: 沖縄支所 | E18: =IF(ISERROR(D18/C18),"",D18/C18) | H18: =IF(ISERROR(G18/F18),"",G18/F18) | I18: =C18+F18 -> 0 | J18: =D18+G18 -> 0 | K18: =IF(ISERROR(J18/I18),"",J18/I18) | L18: =B18+'７月'!L18 -> 0 | M18: =I18+'７月'!M18 -> 0 | N18: =J18+'７月'!N18 -> 0 | O18: =IF(ISERROR(N18/M18),"",N18/M18) | P18: =IF(ISERROR(N18/Q18),"",N18/Q18) | Q18: =R18+'７月'!Q18 -> 0 | R18: 0
A19: 合計 | B19: =SUM(B3:B18) -> 0 | C19: =SUM(C3:C18) -> 0 | D19: =SUM(D3:D18) -> 0 | E19: =IF(ISERROR(D19/C19),"",D19/C19) | F19: =SUM(F3:F18) -> 0 | G19: =SUM(G3:G18) -> 0 | H19: =IF(ISERROR(G19/F19),"",G19/F19) | I19: =SUM(I3:I18) -> 0 | J19: =SUM(J3:J18) -> 0 | K19: =IF(ISERROR(J19/I19),"",J19/I19) | Q19: =SUM(Q3:Q18) -> 199992 | R19: =SUM(R3:R18) -> 19954
A20: 前年同期合計 | B20: 3 | C20: 22892 | D20: 19954 | E20: 0.87165822 | F20: 0 | G20: 0 | I20: 22892 | J20: 19954 | K20: 0.87165822
A21: 対前年比(%) | B21: =IFERROR(B19/B20,"") -> 0 | C21: =IFERROR(C19/C20,"") -> 0 | D21: =IFERROR(D19/D20,"") -> 0 | F21: =IFERROR(F19/F20,"") | G21: =IFERROR(G19/G20,"") | I21: =IFERROR(I19/I20,"") -> 0 | J21: =IFERROR(J19/J20,"") -> 0
A22: 累計 | B22: =B19+'７月'!B22 -> 0 | C22: =C19+'７月'!C22 -> 0 | D22: =D19+'７月'!D22 -> 0 | E22: =IF(ISERROR(D22/C22)," ",(D22/C22)) | F22: =F19+'７月'!F22 -> 0 | G22: =G19+'７月'!G22 -> 0 | H22: =IF(ISERROR(G22/F22)," ",(G22/F22)) | L22: =SUM(L3:L18) -> 0 | M22: =SUM(M3:M18) -> 0 | N22: =SUM(N3:N18) -> 0 | O22: =IF(ISERROR(N22/M22),"",N22/M22) | P22: =IF(ISERROR(N22/Q19)," ",(N22/Q19)) -> 0
A23: 前年同期累計 | B23: =B20+'７月'!B23 -> 17 | C23: =C20+'７月'!C23 -> 63911 | D23: =D20+'７月'!D23 -> 60246 | E23: =IF(ISERROR(D23/C23),"",D23/C23) -> 0.94265463 | F23: =F20+'７月'!F23 -> 144600 | G23: =G20+'７月'!G23 -> 139746 | H23: =IF(ISERROR(G23/F23)," ",(G23/F23)) -> 0.96643154 | L23: =B23 -> 17 | M23: =C23+F23 -> 208511 | N23: =D23+G23 -> 199992 | O23: =IF(ISERROR(N23/M23),"",N23/M23) -> 0.95914364
A24: 対前年比(%) | B24: =IFERROR(B22/B23,"") -> 0 | C24: =IFERROR(C22/C23,"") -> 0 | D24: =IFERROR(D22/D23,"") -> 0 | F24: =IFERROR(F22/F23,"") -> 0 | G24: =IFERROR(G22/G23,"") -> 0 | L24: =IFERROR(L22/L23,"") -> 0 | M24: =IFERROR(M22/M23,"") -> 0 | N24: =IFERROR(N22/N23,"") -> 0

Sheet ９月
D1: 卵 用 鶏 | G1: 肉 用 鶏 | J1: 合 計 | N1: 累 計 | P1: Bの対前年
A2: 所別 | B2: 件数 | C2: 入検(A) | D2: 解放(B) | E2: B/A | F2: 入検(A) | G2: 解放(B) | H2: B/A | I2: 入検(A) | J2: 解放(B) | K2: B/A | L2: 件数 | M2: 入検(A) | N2: 解放(B) | O2: B/A | P2: 同期比 (%) | Q2: 前年同期累計 | R2: 前年同期合計
A3: 横浜本所 | E3: =IF(ISERROR(D3/C3),"",D3/C3) | H3: =IF(ISERROR(G3/F3),"",G3/F3) | I3: =C3+F3 -> 0 | J3: =D3+G3 -> 0 | K3: =IF(ISERROR(J3/I3),"",J3/I3) | L3: =B3+'８月'!L3 -> 0 | M3: =I3+'８月'!M3 -> 0 | N3: =J3+'８月'!N3 -> 0 | O3: =IF(ISERROR(N3/M3),"",N3/M3) | P3: =IF(ISERROR(N3/Q3),"",N3/Q3) -> 0 | Q3: =R3+'８月'!Q3 -> 85027 | R3: 0
A4: 静岡出張所 | E4: =IF(ISERROR(D4/C4),"",D4/C4) | H4: =IF(ISERROR(G4/F4),"",G4/F4) | I4: =C4+F4 -> 0 | J4: =D4+G4 -> 0 | K4: =IF(ISERROR(J4/I4),"",J4/I4) | L4: =B4+'８月'!L4 -> 0 | M4: =I4+'８月'!M4 -> 0 | N4: =J4+'８月'!N4 -> 0 | O4: =IF(ISERROR(N4/M4),"",N4/M4) | P4: =IF(ISERROR(N4/Q4),"",N4/Q4) -> 0 | Q4: =R4+'８月'!Q4 -> 24068 | R4: 6792
A5: 北海道・東北支所 | E5: =IF(ISERROR(D5/C5),"",D5/C5) | H5: =IF(ISERROR(G5/F5),"",G5/F5) | I5: =C5+F5 -> 0 | J5: =D5+G5 -> 0 | K5: =IF(ISERROR(J5/I5),"",J5/I5) | L5: =B5+'８月'!L5 -> 0 | M5: =I5+'８月'!M5 -> 0 | N5: =J5+'８月'!N5 -> 0 | O5: =IF(ISERROR(N5/M5),"",N5/M5) | P5: =IF(ISERROR(N5/Q5),"",N5/Q5) | Q5: =R5+'８月'!Q5 -> 0 | R5: 0
A6: 仙台空港出張所 | E6: =IF(ISERROR(D6/C6),"",D6/C6) | H6: =IF(ISERROR(G6/F6),"",G6/F6) | I6: =C6+F6 -> 0 | J6: =D6+G6 -> 0 | K6: =IF(ISERROR(J6/I6),"",J6/I6) | L6: =B6+'８月'!L6 -> 0 | M6: =I6+'８月'!M6 -> 0 | N6: =J6+'８月'!N6 -> 0 | O6: =IF(ISERROR(N6/M6),"",N6/M6) | P6: =IF(ISERROR(N6/Q6),"",N6/Q6) -> 0 | Q6: =R6+'８月'!Q6 -> 21183 | R6: 7795
A7: 成田支所 | E7: =IF(ISERROR(D7/C7),"",D7/C7) | H7: =IF(ISERROR(G7/F7),"",G7/F7) | I7: =C7+F7 -> 0 | J7: =D7+G7 -> 0 | K7: =IF(ISERROR(J7/I7),"",J7/I7) | L7: =B7+'８月'!L7 -> 0 | M7: =I7+'８月'!M7 -> 0 | N7: =J7+'８月'!N7 -> 0 | O7: =IF(ISERROR(N7/M7),"",N7/M7) | P7: =IF(ISERROR(N7/Q7),"",N7/Q7) -> 0 | Q7: =R7+'８月'!Q7 -> 4166 | R7: 0
A8: 中部空港支所 | E8: =IF(ISERROR(D8/C8),"",D8/C8) | H8: =IF(ISERROR(G8/F8),"",G8/F8) | I8: =C8+F8 -> 0 | J8: =D8+G8 -> 0 | K8: =IF(ISERROR(J8/I8),"",J8/I8) | L8: =B8+'８月'!L8 -> 0 | M8: =I8+'８月'!M8 -> 0 | N8: =J8+'８月'!N8 -> 0 | O8: =IF(ISERROR(N8/M8),"",N8/M8) | P8: =IF(ISERROR(N8/Q8),"",N8/Q8) | Q8: =R8+'８月'!Q8 -> 0 | R8: 0
A9: 名古屋出張所 | E9: =IF(ISERROR(D9/C9),"",D9/C9) | H9: =IF(ISERROR(G9/F9),"",G9/F9) | I9: =C9+F9 -> 0 | J9: =D9+G9 -> 0 | K9: =IF(ISERROR(J9/I9),"",J9/I9) | L9: =B9+'８月'!L9 -> 0 | M9: =I9+'８月'!M9 -> 0 | N9: =J9+'８月'!N9 -> 0 | O9: =IF(ISERROR(N9/M9),"",N9/M9) | P9: =IF(ISERROR(N9/Q9),"",N9/Q9) | Q9: =R9+'８月'!Q9 -> 0 | R9: 0
A10: 神戸支所 | E10: =IF(ISERROR(D10/C10),"",D10/C10) | H10: =IF(ISERROR(G10/F10),"",G10/F10) | I10: =C10+F10 -> 0 | J10: =D10+G10 -> 0 | K10: =IF(ISERROR(J10/I10),"",J10/I10) | L10: =B10+'８月'!L10 -> 0 | M10: =I10+'８月'!M10 -> 0 | N10: =J10+'８月'!N10 -> 0 | O10: =IF(ISERROR(N10/M10),"",N10/M10) | P10: =IF(ISERROR(N10/Q10),"",N10/Q10) -> 0 | Q10: =R10+'８月'!Q10 -> 9329 | R10: 9329
A11: 大阪出張所 | E11: =IF(ISERROR(D11/C11),"",D11/C11) | H11: =IF(ISERROR(G11/F11),"",G11/F11) | I11: =C11+F11 -> 0 | J11: =D11+G11 -> 0 | K11: =IF(ISERROR(J11/I11),"",J11/I11) | L11: =B11+'８月'!L11 -> 0 | M11: =I11+'８月'!M11 -> 0 | N11: =J11+'８月'!N11 -> 0 | O11: =IF(ISERROR(N11/M11),"",N11/M11) | P11: =IF(ISERROR(N11/Q11),"",N11/Q11) | Q11: =R11+'８月'!Q11 -> 0 | R11: 0
A12: 広島空港出張所 | E12: =IF(ISERROR(D12/C12),"",D12/C12) | H12: =IF(ISERROR(G12/F12),"",G12/F12) | I12: =C12+F12 -> 0 | J12: =D12+G12 -> 0 | K12: =IF(ISERROR(J12/I12),"",J12/I12) | L12: =B12+'８月'!L12 -> 0 | M12: =I12+'８月'!M12 -> 0 | N12: =J12+'８月'!N12 -> 0 | O12: =IF(ISERROR(N12/M12),"",N12/M12) | P12: =IF(ISERROR(N12/Q12),"",N12/Q12) | Q12: =R12+'８月'!Q12 -> 0 | R12: 0
A13: 岡山空港出張所 | E13: =IF(ISERROR(D13/C13),"",D13/C13) | H13: =IF(ISERROR(G13/F13),"",G13/F13) | I13: =C13+F13 -> 0 | J13: =D13+G13 -> 0 | K13: =IF(ISERROR(J13/I13),"",J13/I13) | L13: =B13+'８月'!L13 -> 0 | M13: =I13+'８月'!M13 -> 0 | N13: =J13+'８月'!N13 -> 0 | O13: =IF(ISERROR(N13/M13),"",N13/M13) | P13: =IF(ISERROR(N13/Q13),"",N13/Q13) -> 0 | Q13: =R13+'８月'!Q13 -> 76570 | R13: 23133
A14: 門司支所 | E14: =IF(ISERROR(D14/C14),"",D14/C14) | H14: =IF(ISERROR(G14/F14),"",G14/F14) | I14: =C14+F14 -> 0 | J14: =D14+G14 -> 0 | K14: =IF(ISERROR(J14/I14),"",J14/I14) | L14: =B14+'８月'!L14 -> 0 | M14: =I14+'８月'!M14 -> 0 | N14: =J14+'８月'!N14 -> 0 | O14: =IF(ISERROR(N14/M14),"",N14/M14) | P14: =IF(ISERROR(N14/Q14),"",N14/Q14) -> 0 | Q14: =R14+'８月'!Q14 -> 10484 | R14: 0
... A18: 沖縄支所 | E18: =IF(ISERROR(D18/C18),"",D18/C18) | H18: =IF(ISERROR(G18/F18),"",G18/F18) | I18: =C18+F18 -> 0 | J18: =D18+G18 -> 0 | K18: =IF(ISERROR(J18/I18),"",J18/I18) | L18: =B18+'８月'!L18 -> 0 | M18: =I18+'８月'!M18 -> 0 | N18: =J18+'８月'!N18 -> 0 | O18: =IF(ISERROR(N18/M18),"",N18/M18) | P18: =IF(ISERROR(N18/Q18),"",N18/Q18) | Q18: =R18+'８月'!Q18 -> 0 | R18: 0
A19: 合計 | B19: =SUM(B3:B18) -> 0 | C19: =SUM(C3:C18) -> 0 | D19: =SUM(D3:D18) -> 0 | E19: =IF(ISERROR(D19/C19),"",D19/C19) | F19: =SUM(F3:F18) -> 0 | G19: =SUM(G3:G18) -> 0 | H19: =IF(ISERROR(G19/F19),"",G19/F19) | I19: =SUM(I3:I18) -> 0 | J19: =SUM(J3:J18) -> 0 | K19: =IF(ISERROR(J19/I19),"",J19/I19) | Q19: =SUM(Q3:Q18) -> 247041 | R19: =SUM(R3:R18) -> 47049
A20: 前年同期合計 | B20: 6 | C20: 0 | D20: 0 | F20: 49448 | G20: 47049 | H20: 0.95148439 | I20: 49448 | J20: 47049 | K20: 0.95148439
A21: 対前年比(%) | B21: =IFERROR(B19/B20,"") -> 0 | C21: =IFERROR(C19/C20,"") | D21: =IFERROR(D19/D20,"") | F21: =IFERROR(F19/F20,"") -> 0 | G21: =IFERROR(G19/G20,"") -> 0 | I21: =IFERROR(I19/I20,"") -> 0 | J21: =IFERROR(J19/J20,"") -> 0
A22: 累計 | B22: =B19+'８月'!B22 -> 0 | C22: =C19+'８月'!C22 -> 0 | D22: =D19+'８月'!D22 -> 0 | E22: =IF(ISERROR(D22/C22)," ",(D22/C22)) | F22: =F19+'８月'!F22 -> 0 | G22: =G19+'８月'!G22 -> 0 | H22: =IF(ISERROR(G22/F22)," ",(G22/F22)) | L22: =SUM(L3:L18) -> 0 | M22: =SUM(M3:M18) -> 0 | N22: =SUM(N3:N18) -> 0 | O22: =IF(ISERROR(N22/M22),"",N22/M22) | P22: =IF(ISERROR(N22/Q19)," ",(N22/Q19)) -> 0
A23: 前年同期累計 | B23: =B20+'８月'!B23 -> 23 | C23: =C20+'８月'!C23 -> 63911 | D23: =D20+'８月'!D23 -> 60246 | E23: =IF(ISERROR(D23/C23),"",D23/C23) -> 0.94265463 | F23: =F20+'８月'!F23 -> 194048 | G23: =G20+'８月'!G23 -> 186795 | H23: =IF(ISERROR(G23/F23)," ",(G23/F23)) -> 0.96262265 | L23: =B23 -> 23 | M23: =C23+F23 -> 257959 | N23: =D23+G23 -> 247041 | O23: =IF(ISERROR(N23/M23),"",N23/M23) -> 0.95767544
A24: 対前年比(%) | B24: =IFERROR(B22/B23,"") -> 0 | C24: =IFERROR(C22/C23,"") -> 0 | D24: =IFERROR(D22/D23,"") -> 0 | F24: =IFERROR(F22/F23,"") -> 0 | G24: =IFERROR(G22/G23,"") -> 0 | L24: =IFERROR(L22/L23,"") -> 0 | M24: =IFERROR(M22/M23,"") -> 0 | N24: =IFERROR(N22/N23,"") -> 0

Sheet １０月
D1: 卵 用 鶏 | G1: 肉 用 鶏 | J1: 合 計 | N1: 累 計 | P1: Bの対前年
A2: 所別 | B2: 件数 | C2: 入検(A) | D2: 解放(B) | E2: B/A | F2: 入検(A) | G2: 解放(B) | H2: B/A | I2: 入検(A) | J2: 解放(B) | K2: B/A | L2: 件数 | M2: 入検(A) | N2: 解放(B) | O2: B/A | P2: 同期比 (%) | Q2: 前年同期累計 | R2: 前年同期合計
A3: 横浜本所 | E3: =IF(ISERROR(D3/C3),"",D3/C3) | H3: =IF(ISERROR(G3/F3),"",G3/F3) | I3: =C3+F3 -> 0 | J3: =D3+G3 -> 0 | K3: =IF(ISERROR(J3/I3),"",J3/I3) | L3: =B3+'９月'!L3 -> 0 | M3: =I3+'９月'!M3 -> 0 | N3: =J3+'９月'!N3 -> 0 | O3: =IF(ISERROR(N3/M3),"",N3/M3) | P3: =IF(ISERROR(N3/Q3),"",N3/Q3) -> 0 | Q3: =R3+'９月'!Q3 -> 85027 | R3: 0
A4: 静岡出張所 | E4: =IF(ISERROR(D4/C4),"",D4/C4) | H4: =IF(ISERROR(G4/F4),"",G4/F4) | I4: =C4+F4 -> 0 | J4: =D4+G4 -> 0 | K4: =IF(ISERROR(J4/I4),"",J4/I4) | L4: =B4+'９月'!L4 -> 0 | M4: =I4+'９月'!M4 -> 0 | N4: =J4+'９月'!N4 -> 0 | O4: =IF(ISERROR(N4/M4),"",N4/M4) | P4: =IF(ISERROR(N4/Q4),"",N4/Q4) -> 0 | Q4: =R4+'９月'!Q4 -> 56637 | R4: 32569
A5: 北海道・東北支所 | E5: =IF(ISERROR(D5/C5),"",D5/C5) | H5: =IF(ISERROR(G5/F5),"",G5/F5) | I5: =C5+F5 -> 0 | J5: =D5+G5 -> 0 | K5: =IF(ISERROR(J5/I5),"",J5/I5) | L5: =B5+'９月'!L5 -> 0 | M5: =I5+'９月'!M5 -> 0 | N5: =J5+'９月'!N5 -> 0 | O5: =IF(ISERROR(N5/M5),"",N5/M5) | P5: =IF(ISERROR(N5/Q5),"",N5/Q5) | Q5: =R5+'９月'!Q5 -> 0 | R5: 0
A6: 仙台空港出張所 | E6: =IF(ISERROR(D6/C6),"",D6/C6) | H6: =IF(ISERROR(G6/F6),"",G6/F6) | I6: =C6+F6 -> 0 | J6: =D6+G6 -> 0 | K6: =IF(ISERROR(J6/I6),"",J6/I6) | L6: =B6+'９月'!L6 -> 0 | M6: =I6+'９月'!M6 -> 0 | N6: =J6+'９月'!N6 -> 0 | O6: =IF(ISERROR(N6/M6),"",N6/M6) | P6: =IF(ISERROR(N6/Q6),"",N6/Q6) -> 0 | Q6: =R6+'９月'!Q6 -> 32509 | R6: 11326
A7: 成田支所 | E7: =IF(ISERROR(D7/C7),"",D7/C7) | H7: =IF(ISERROR(G7/F7),"",G7/F7) | I7: =C7+F7 -> 0 | J7: =D7+G7 -> 0 | K7: =IF(ISERROR(J7/I7),"",J7/I7) | L7: =B7+'９月'!L7 -> 0 | M7: =I7+'９月'!M7 -> 0 | N7: =J7+'９月'!N7 -> 0 | O7: =IF(ISERROR(N7/M7),"",N7/M7) | P7: =IF(ISERROR(N7/Q7),"",N7/Q7) -> 0 | Q7: =R7+'９月'!Q7 -> 4166 | R7: 0
A8: 中部空港支所 | E8: =IF(ISERROR(D8/C8),"",D8/C8) | H8: =IF(ISERROR(G8/F8),"",G8/F8) | I8: =C8+F8 -> 0 | J8: =D8+G8 -> 0 | K8: =IF(ISERROR(J8/I8),"",J8/I8) | L8: =B8+'９月'!L8 -> 0 | M8: =I8+'９月'!M8 -> 0 | N8: =J8+'９月'!N8 -> 0 | O8: =IF(ISERROR(N8/M8),"",N8/M8) | P8: =IF(ISERROR(N8/Q8),"",N8/Q8) | Q8: =R8+'９月'!Q8 -> 0 | R8: 0
A9: 名古屋出張所 | E9: =IF(ISERROR(D9/C9),"",D9/C9) | H9: =IF(ISERROR(G9/F9),"",G9/F9) | I9: =C9+F9 -> 0 | J9: =D9+G9 -> 0 | K9: =IF(ISERROR(J9/I9),"",J9/I9) | L9: =B9+'９月'!L9 -> 0 | M9: =I9+'９月'!M9 -> 0 | N9: =J9+'９月'!N9 -> 0 | O9: =IF(ISERROR(N9/M9),"",N9/M9) | P9: =IF(ISERROR(N9/Q9),"",N9/Q9) | Q9: =R9+'９月'!Q9 -> 0 | R9: 0
A10: 神戸支所 | E10: =IF(ISERROR(D10/C10),"",D10/C10) | H10: =IF(ISERROR(G10/F10),"",G10/F10) | I10: =C10+F10 -> 0 | J10: =D10+G10 -> 0 | K10: =IF(ISERROR(J10/I10),"",J10/I10) | L10: =B10+'９月'!L10 -> 0 | M10: =I10+'９月'!M10 -> 0 | N10: =J10+'９月'!N10 -> 0 | O10: =IF(ISERROR(N10/M10),"",N10/M10) | P10: =IF(ISERROR(N10/Q10),"",N10/Q10) -> 0 | Q10: =R10+'９月'!Q10 -> 9329 | R10: 0
A11: 大阪出張所 | E11: =IF(ISERROR(D11/C11),"",D11/C11) | H11: =IF(ISERROR(G11/F11),"",G11/F11) | I11: =C11+F11 -> 0 | J11: =D11+G11 -> 0 | K11: =IF(ISERROR(J11/I11),"",J11/I11) | L11: =B11+'９月'!L11 -> 0 | M11: =I11+'９月'!M11 -> 0 | N11: =J11+'９月'!N11 -> 0 | O11: =IF(ISERROR(N11/M11),"",N11/M11) | P11: =IF(ISERROR(N11/Q11),"",N11/Q11) | Q11: =R11+'９月'!Q11 -> 0 | R11: 0
A12: 広島空港出張所 | E12: =IF(ISERROR(D12/C12),"",D12/C12) | H12: =IF(ISERROR(G12/F12),"",G12/F12) | I12: =C12+F12 -> 0 | J12: =D12+G12 -> 0 | K12: =IF(ISERROR(J12/I12),"",J12/I12) | L12: =B12+'９月'!L12 -> 0 | M12: =I12+'９月'!M12 -> 0 | N12: =J12+'９月'!N12 -> 0 | O12: =IF(ISERROR(N12/M12),"",N12/M12) | P12: =IF(ISERROR(N12/Q12),"",N12/Q12) | Q12: =R12+'９月'!Q12 -> 0 | R12: 0
A13: 岡山空港出張所 | E13: =IF(ISERROR(D13/C13),"",D13/C13) | H13: =IF(ISERROR(G13/F13),"",G13/F13) | I13: =C13+F13 -> 0 | J13: =D13+G13 -> 0 | K13: =IF(ISERROR(J13/I13),"",J13/I13) | L13: =B13+'９月'!L13 -> 0 | M13: =I13+'９月'!M13 -> 0 | N13: =J13+'９月'!N13 -> 0 | O13: =IF(ISERROR(N13/M13),"",N13/M13) | P13: =IF(ISERROR(N13/Q13),"",N13/Q13) -> 0 | Q13: =R13+'９月'!Q13 -> 76570 | R13: 0
A14: 門司支所 | E14: =IF(ISERROR(D14/C14),"",D14/C14) | H14: =IF(ISERROR(G14/F14),"",G14/F14) | I14: =C14+F14 -> 0 | J14: =D14+G14 -> 0 | K14: =IF(ISERROR(J14/I14),"",J14/I14) | L14: =B14+'９月'!L14 -> 0 | M14: =I14+'９月'!M14 -> 0 | N14: =J14+'９月'!N14 -> 0 | O14: =IF(ISERROR(N14/M14),"",N14/M14) | P14: =IF(ISERROR(N14/Q14),"",N14/Q14) -> 0 | Q14: =R14+'９月'!Q14 -> 15572 | R14: 5088
... A18: 沖縄支所 | E18: =IF(ISERROR(D18/C18),"",D18/C18) | H18: =IF(ISERROR(G18/F18),"",G18/F18) | I18: =C18+F18 -> 0 | J18: =D18+G18 -> 0 | K18: =IF(ISERROR(J18/I18),"",J18/I18) | L18: =B18+'９月'!L18 -> 0 | M18: =I18+'９月'!M18 -> 0 | N18: =J18+'９月'!N18 -> 0 | O18: =IF(ISERROR(N18/M18),"",N18/M18) | P18: =IF(ISERROR(N18/Q18),"",N18/Q18) | Q18: =R18+'９月'!Q18 -> 0 | R18: 0
A19: 合計 | B19: =SUM(B3:B18) -> 0 | C19: =SUM(C3:C18) -> 0 | D19: =SUM(D3:D18) -> 0 | E19: =IF(ISERROR(D19/C19),"",D19/C19) | F19: =SUM(F3:F18) -> 0 | G19: =SUM(G3:G18) -> 0 | H19: =IF(ISERROR(G19/F19),"",G19/F19) | I19: =SUM(I3:I18) -> 0 | J19: =SUM(J3:J18) -> 0 | K19: =IF(ISERROR(J19/I19),"",J19/I19) | Q19: =SUM(Q3:Q18) -> 310843 | R19: =SUM(R3:R18) -> 63802
A20: 前年同期合計 | B20: 5 | C20: 22861 | D20: 20859 | E20: 0.91242728 | F20: 44430 | G20: 42943 | H20: 0.96653162 | I20: 67291 | J20: 63802 | K20: 0.94815057
A21: 対前年比(%) | B21: =IFERROR(B19/B20,"") -> 0 | C21: =IFERROR(C19/C20,"") -> 0 | D21: =IFERROR(D19/D20,"") -> 0 | F21: =IFERROR(F19/F20,"") -> 0 | G21: =IFERROR(G19/G20,"") -> 0 | I21: =IFERROR(I19/I20,"") -> 0 | J21: =IFERROR(J19/J20,"") -> 0
A22: 累計 | B22: =B19+'９月'!B22 -> 0 | C22: =C19+'９月'!C22 -> 0 | D22: =D19+'９月'!D22 -> 0 | E22: =IF(ISERROR(D22/C22)," ",(D22/C22)) | F22: =F19+'９月'!F22 -> 0 | G22: =G19+'９月'!G22 -> 0 | H22: =IF(ISERROR(G22/F22)," ",(G22/F22)) | L22: =SUM(L3:L18) -> 0 | M22: =SUM(M3:M18) -> 0 | N22: =SUM(N3:N18) -> 0 | O22: =IF(ISERROR(N22/M22),"",N22/M22) | P22: =IF(ISERROR(N22/Q19)," ",(N22/Q19)) -> 0
A23: 前年同期累計 | B23: =B20+'９月'!B23 -> 28 | C23: =C20+'９月'!C23 -> 86772 | D23: =D20+'９月'!D23 -> 81105 | E23: =IF(ISERROR(D23/C23),"",D23/C23) -> 0.93469091 | F23: =F20+'９月'!F23 -> 238478 | G23: =G20+'９月'!G23 -> 229738 | H23: =IF(ISERROR(G23/F23)," ",(G23/F23)) -> 0.96335092 | L23: =B23 -> 28 | M23: =C23+F23 -> 325250 | N23: =D23+G23 -> 310843 | O23: =IF(ISERROR(N23/M23),"",N23/M23) -> 0.95570484
A24: 対前年比(%) | B24: =IFERROR(B22/B23,"") -> 0 | C24: =IFERROR(C22/C23,"") -> 0 | D24: =IFERROR(D22/D23,"") -> 0 | F24: =IFERROR(F22/F23,"") -> 0 | G24: =IFERROR(G22/G23,"") -> 0 | L24: =IFERROR(L22/L23,"") -> 0 | M24: =IFERROR(M22/M23,"") -> 0 | N24: =IFERROR(N22/N23,"") -> 0

Sheet １１月
D1: 卵 用 鶏 | G1: 肉 用 鶏 | J1: 合 計 | N1: 累 計 | P1: Bの対前年
A2: 所別 | B2: 件数 | C2: 入検(A) | D2: 解放(B) | E2: B/A | F2: 入検(A) | G2: 解放(B) | H2: B/A | I2: 入検(A) | J2: 解放(B) | K2: B/A | L2: 件数 | M2: 入検(A) | N2: 解放(B) | O2: B/A | P2: 同期比 (%) | Q2: 前年同期累計 | R2: 前年同期合計
A3: 横浜本所 | E3: =IF(ISERROR(D3/C3),"",D3/C3) | H3: =IF(ISERROR(G3/F3),"",G3/F3) | I3: =C3+F3 -> 0 | J3: =D3+G3 -> 0 | K3: =IF(ISERROR(J3/I3),"",J3/I3) | L3: =B3+'１０月'!L3 -> 0 | M3: =I3+'１０月'!M3 -> 0 | N3: =J3+'１０月'!N3 -> 0 | O3: =IF(ISERROR(N3/M3),"",N3/M3) | P3: =IF(ISERROR(N3/Q3),"",N3/Q3) -> 0 | Q3: =R3+'１０月'!Q3 -> 94668 | R3: 9641
A4: 静岡出張所 | E4: =IF(ISERROR(D4/C4),"",D4/C4) | H4: =IF(ISERROR(G4/F4),"",G4/F4) | I4: =C4+F4 -> 0 | J4: =D4+G4 -> 0 | K4: =IF(ISERROR(J4/I4),"",J4/I4) | L4: =B4+'１０月'!L4 -> 0 | M4: =I4+'１０月'!M4 -> 0 | N4: =J4+'１０月'!N4 -> 0 | O4: =IF(ISERROR(N4/M4),"",N4/M4) | P4: =IF(ISERROR(N4/Q4),"",N4/Q4) -> 0 | Q4: =R4+'１０月'!Q4 -> 56637 | R4: 0
A5: 北海道・東北支所 | E5: =IF(ISERROR(D5/C5),"",D5/C5) | H5: =IF(ISERROR(G5/F5),"",G5/F5) | I5: =C5+F5 -> 0 | J5: =D5+G5 -> 0 | K5: =IF(ISERROR(J5/I5),"",J5/I5) | L5: =B5+'１０月'!L5 -> 0 | M5: =I5+'１０月'!M5 -> 0 | N5: =J5+'１０月'!N5 -> 0 | O5: =IF(ISERROR(N5/M5),"",N5/M5) | P5: =IF(ISERROR(N5/Q5),"",N5/Q5) | Q5: =R5+'１０月'!Q5 -> 0 | R5: 0
A6: 仙台空港出張所 | E6: =IF(ISERROR(D6/C6),"",D6/C6) | H6: =IF(ISERROR(G6/F6),"",G6/F6) | I6: =C6+F6 -> 0 | J6: =D6+G6 -> 0 | K6: =IF(ISERROR(J6/I6),"",J6/I6) | L6: =B6+'１０月'!L6 -> 0 | M6: =I6+'１０月'!M6 -> 0 | N6: =J6+'１０月'!N6 -> 0 | O6: =IF(ISERROR(N6/M6),"",N6/M6) | P6: =IF(ISERROR(N6/Q6),"",N6/Q6) -> 0 | Q6: =R6+'１０月'!Q6 -> 32509 | R6: 0
A7: 成田支所 | E7: =IF(ISERROR(D7/C7),"",D7/C7) | H7: =IF(ISERROR(G7/F7),"",G7/F7) | I7: =C7+F7 -> 0 | J7: =D7+G7 -> 0 | K7: =IF(ISERROR(J7/I7),"",J7/I7) | L7: =B7+'１０月'!L7 -> 0 | M7: =I7+'１０月'!M7 -> 0 | N7: =J7+'１０月'!N7 -> 0 | O7: =IF(ISERROR(N7/M7),"",N7/M7) | P7: =IF(ISERROR(N7/Q7),"",N7/Q7) -> 0 | Q7: =R7+'１０月'!Q7 -> 4166 | R7: 0
A8: 中部空港支所 | E8: =IF(ISERROR(D8/C8),"",D8/C8) | H8: =IF(ISERROR(G8/F8),"",G8/F8) | I8: =C8+F8 -> 0 | J8: =D8+G8 -> 0 | K8: =IF(ISERROR(J8/I8),"",J8/I8) | L8: =B8+'１０月'!L8 -> 0 | M8: =I8+'１０月'!M8 -> 0 | N8: =J8+'１０月'!N8 -> 0 | O8: =IF(ISERROR(N8/M8),"",N8/M8) | P8: =IF(ISERROR(N8/Q8),"",N8/Q8) -> 0 | Q8: =R8+'１０月'!Q8 -> 10328 | R8: 10328
A9: 名古屋出張所 | E9: =IF(ISERROR(D9/C9),"",D9/C9) | H9: =IF(ISERROR(G9/F9),"",G9/F9) | I9: =C9+F9 -> 0 | J9: =D9+G9 -> 0 | K9: =IF(ISERROR(J9/I9),"",J9/I9) | L9: =B9+'１０月'!L9 -> 0 | M9: =I9+'１０月'!M9 -> 0 | N9: =J9+'１０月'!N9 -> 0 | O9: =IF(ISERROR(N9/M9),"",N9/M9) | P9: =IF(ISERROR(N9/Q9),"",N9/Q9) | Q9: =R9+'１０月'!Q9 -> 0 | R9: 0
A10: 神戸支所 | E10: =IF(ISERROR(D10/C10),"",D10/C10) | H10: =IF(ISERROR(G10/F10),"",G10/F10) | I10: =C10+F10 -> 0 | J10: =D10+G10 -> 0 | K10: =IF(ISERROR(J10/I10),"",J10/I10) | L10: =B10+'１０月'!L10 -> 0 | M10: =I10+'１０月'!M10 -> 0 | N10: =J10+'１０月'!N10 -> 0 | O10: =IF(ISERROR(N10/M10),"",N10/M10) | P10: =IF(ISERROR(N10/Q10),"",N10/Q10) -> 0 | Q10: =R10+'１０月'!Q10 -> 9329 | R10: 0
A11: 大阪出張所 | E11: =IF(ISERROR(D11/C11),"",D11/C11) | H11: =IF(ISERROR(G11/F11),"",G11/F11) | I11: =C11+F11 -> 0 | J11: =D11+G11 -> 0 | K11: =IF(ISERROR(J11/I11),"",J11/I11) | L11: =B11+'１０月'!L11 -> 0 | M11: =I11+'１０月'!M11 -> 0 | N11: =J11+'１０月'!N11 -> 0 | O11: =IF(ISERROR(N11/M11),"",N11/M11) | P11: =IF(ISERROR(N11/Q11),"",N11/Q11) | Q11: =R11+'１０月'!Q11 -> 0 | R11: 0
A12: 広島空港出張所 | E12: =IF(ISERROR(D12/C12),"",D12/C12) | H12: =IF(ISERROR(G12/F12),"",G12/F12) | I12: =C12+F12 -> 0 | J12: =D12+G12 -> 0 | K12: =IF(ISERROR(J12/I12),"",J12/I12) | L12: =B12+'１０月'!L12 -> 0 | M12: =I12+'１０月'!M12 -> 0 | N12: =J12+'１０月'!N12 -> 0 | O12: =IF(ISERROR(N12/M12),"",N12/M12) | P12: =IF(ISERROR(N12/Q12),"",N12/Q12) | Q12: =R12+'１０月'!Q12 -> 0 | R12: 0
A13: 岡山空港出張所 | E13: =IF(ISERROR(D13/C13),"",D13/C13) | H13: =IF(ISERROR(G13/F13),"",G13/F13) | I13: =C13+F13 -> 0 | J13: =D13+G13 -> 0 | K13: =IF(ISERROR(J13/I13),"",J13/I13) | L13: =B13+'１０月'!L13 -> 0 | M13: =I13+'１０月'!M13 -> 0 | N13: =J13+'１０月'!N13 -> 0 | O13: =IF(ISERROR(N13/M13),"",N13/M13) | P13: =IF(ISERROR(N13/Q13),"",N13/Q13) -> 0 | Q13: =R13+'１０月'!Q13 -> 98303 | R13: 21733
A14: 門司支所 | E14: =IF(ISERROR(D14/C14),"",D14/C14) | H14: =IF(ISERROR(G14/F14),"",G14/F14) | I14: =C14+F14 -> 0 | J14: =D14+G14 -> 0 | K14: =IF(ISERROR(J14/I14),"",J14/I14) | L14: =B14+'１０月'!L14 -> 0 | M14: =I14+'１０月'!M14 -> 0 | N14: =J14+'１０月'!N14 -> 0 | O14: =IF(ISERROR(N14/M14),"",N14/M14) | P14: =IF(ISERROR(N14/Q14),"",N14/Q14) -> 0 | Q14: =R14+'１０月'!Q14 -> 15572 | R14: 0
... A18: 沖縄支所 | E18: =IF(ISERROR(D18/C18),"",D18/C18) | H18: =IF(ISERROR(G18/F18),"",G18/F18) | I18: =C18+F18 -> 0 | J18: =D18+G18 -> 0 | K18: =IF(ISERROR(J18/I18),"",J18/I18) | L18: =B18+'１０月'!L18 -> 0 | M18: =I18+'１０月'!M18 -> 0 | N18: =J18+'１０月'!N18 -> 0 | O18: =IF(ISERROR(N18/M18),"",N18/M18) | P18: =IF(ISERROR(N18/Q18),"",N18/Q18) | Q18: =R18+'１０月'!Q18 -> 0 | R18: 0
A19: 合計 | B19: =SUM(B3:B18) -> 0 | C19: =SUM(C3:C18) -> 0 | D19: =SUM(D3:D18) -> 0 | E19: =IF(ISERROR(D19/C19),"",D19/C19) | F19: =SUM(F3:F18) -> 0 | G19: =SUM(G3:G18) -> 0 | H19: =IF(ISERROR(G19/F19),"",G19/F19) | I19: =SUM(I3:I18) -> 0 | J19: =SUM(J3:J18) -> 0 | K19: =IF(ISERROR(J19/I19),"",J19/I19) | Q19: =SUM(Q3:Q18) -> 368516 | R19: =SUM(R3:R18) -> 57673
A20: 前年同期合計 | B20: 6 | C20: 21376 | D20: 19969 | E20: 0.93417852 | F20: 41436 | G20: 37704 | H20: 0.90993339 | I20: 62812 | J20: 57673 | K20: 0.91818442
A21: 対前年比(%) | B21: =IFERROR(B19/B20,"") -> 0 | C21: =IFERROR(C19/C20,"") -> 0 | D21: =IFERROR(D19/D20,"") -> 0 | F21: =IFERROR(F19/F20,"") -> 0 | G21: =IFERROR(G19/G20,"") -> 0 | I21: =IFERROR(I19/I20,"") -> 0 | J21: =IFERROR(J19/J20,"") -> 0
A22: 累計 | B22: =B19+'１０月'!B22 -> 0 | C22: =C19+'１０月'!C22 -> 0 | D22: =D19+'１０月'!D22 -> 0 | E22: =IF(ISERROR(D22/C22)," ",(D22/C22)) | F22: =F19+'１０月'!F22 -> 0 | G22: =G19+'１０月'!G22 -> 0 | H22: =IF(ISERROR(G22/F22)," ",(G22/F22)) | L22: =SUM(L3:L18) -> 0 | M22: =SUM(M3:M18) -> 0 | N22: =SUM(N3:N18) -> 0 | O22: =IF(ISERROR(N22/M22),"",N22/M22) | P22: =IF(ISERROR(N22/Q19)," ",(N22/Q19)) -> 0
A23: 前年同期累計 | B23: =B20+'１０月'!B23 -> 34 | C23: =C20+'１０月'!C23 -> 108148 | D23: =D20+'１０月'!D23 -> 101074 | E23: =IF(ISERROR(D23/C23),"",D23/C23) -> 0.93458964 | F23: =F20+'１０月'!F23 -> 279914 | G23: =G20+'１０月'!G23 -> 267442 | H23: =IF(ISERROR(G23/F23)," ",(G23/F23)) -> 0.95544346 | L23: =B23 -> 34 | M23: =C23+F23 -> 388062 | N23: =D23+G23 -> 368516 | O23: =IF(ISERROR(N23/M23),"",N23/M23) -> 0.94963176
A24: 対前年比(%) | B24: =IFERROR(B22/B23,"") -> 0 | C24: =IFERROR(C22/C23,"") -> 0 | D24: =IFERROR(D22/D23,"") -> 0 | F24: =IFERROR(F22/F23,"") -> 0 | G24: =IFERROR(G22/G23,"") -> 0 | L24: =IFERROR(L22/L23,"") -> 0 | M24: =IFERROR(M22/M23,"") -> 0 | N24: =IFERROR(N22/N23,"") -> 0

Sheet １２月
D1: 卵 用 鶏 | G1: 肉 用 鶏 | J1: 合 計 | N1: 累 計 | P1: Bの対前年
A2: 所別 | B2: 件数 | C2: 入検(A) | D2: 解放(B) | E2: B/A | F2: 入検(A) | G2: 解放(B) | H2: B/A | I2: 入検(A) | J2: 解放(B) | K2: B/A | L2: 件数 | M2: 入検(A) | N2: 解放(B) | O2: B/A | P2: 同期比 (%) | Q2: 前年同期累計 | R2: 前年同期合計
A3: 横浜本所 | E3: =IF(ISERROR(D3/C3),"",D3/C3) | H3: =IF(ISERROR(G3/F3),"",G3/F3) | I3: =C3+F3 -> 0 | J3: =D3+G3 -> 0 | K3: =IF(ISERROR(J3/I3),"",J3/I3) | L3: =B3+'１１月'!L3 -> 0 | M3: =I3+'１１月'!M3 -> 0 | N3: =J3+'１１月'!N3 -> 0 | O3: =IF(ISERROR(N3/M3),"",N3/M3) | P3: =IF(ISERROR(N3/Q3),"",N3/Q3) -> 0 | Q3: =R3+'１１月'!Q3 -> 116927 | R3: 22259
A4: 静岡出張所 | E4: =IF(ISERROR(D4/C4),"",D4/C4) | H4: =IF(ISERROR(G4/F4),"",G4/F4) | I4: =C4+F4 -> 0 | J4: =D4+G4 -> 0 | K4: =IF(ISERROR(J4/I4),"",J4/I4) | L4: =B4+'１１月'!L4 -> 0 | M4: =I4+'１１月'!M4 -> 0 | N4: =J4+'１１月'!N4 -> 0 | O4: =IF(ISERROR(N4/M4),"",N4/M4) | P4: =IF(ISERROR(N4/Q4),"",N4/Q4) -> 0 | Q4: =R4+'１１月'!Q4 -> 67928 | R4: 11291
A5: 北海道・東北支所 | E5: =IF(ISERROR(D5/C5),"",D5/C5) | H5: =IF(ISERROR(G5/F5),"",G5/F5) | I5: =C5+F5 -> 0 | J5: =D5+G5 -> 0 | K5: =IF(ISERROR(J5/I5),"",J5/I5) | L5: =B5+'１１月'!L5 -> 0 | M5: =I5+'１１月'!M5 -> 0 | N5: =J5+'１１月'!N5 -> 0 | O5: =IF(ISERROR(N5/M5),"",N5/M5) | P5: =IF(ISERROR(N5/Q5),"",N5/Q5) | Q5: =R5+'１１月'!Q5 -> 0 | R5: 0
A6: 仙台空港出張所 | E6: =IF(ISERROR(D6/C6),"",D6/C6) | H6: =IF(ISERROR(G6/F6),"",G6/F6) | I6: =C6+F6 -> 0 | J6: =D6+G6 -> 0 | K6: =IF(ISERROR(J6/I6),"",J6/I6) | L6: =B6+'１１月'!L6 -> 0 | M6: =I6+'１１月'!M6 -> 0 | N6: =J6+'１１月'!N6 -> 0 | O6: =IF(ISERROR(N6/M6),"",N6/M6) | P6: =IF(ISERROR(N6/Q6),"",N6/Q6) -> 0 | Q6: =R6+'１１月'!Q6 -> 36462 | R6: 3953
A7: 成田支所 | E7: =IF(ISERROR(D7/C7),"",D7/C7) | H7: =IF(ISERROR(G7/F7),"",G7/F7) | I7: =C7+F7 -> 0 | J7: =D7+G7 -> 0 | K7: =IF(ISERROR(J7/I7),"",J7/I7) | L7: =B7+'１１月'!L7 -> 0 | M7: =I7+'１１月'!M7 -> 0 | N7: =J7+'１１月'!N7 -> 0 | O7: =IF(ISERROR(N7/M7),"",N7/M7) | P7: =IF(ISERROR(N7/Q7),"",N7/Q7) -> 0 | Q7: =R7+'１１月'!Q7 -> 4166 | R7: 0
A8: 中部空港支所 | E8: =IF(ISERROR(D8/C8),"",D8/C8) | H8: =IF(ISERROR(G8/F8),"",G8/F8) | I8: =C8+F8 -> 0 | J8: =D8+G8 -> 0 | K8: =IF(ISERROR(J8/I8),"",J8/I8) | L8: =B8+'１１月'!L8 -> 0 | M8: =I8+'１１月'!M8 -> 0 | N8: =J8+'１１月'!N8 -> 0 | O8: =IF(ISERROR(N8/M8),"",N8/M8) | P8: =IF(ISERROR(N8/Q8),"",N8/Q8) -> 0 | Q8: =R8+'１１月'!Q8 -> 10328 | R8: 0
A9: 名古屋出張所 | E9: =IF(ISERROR(D9/C9),"",D9/C9) | H9: =IF(ISERROR(G9/F9),"",G9/F9) | I9: =C9+F9 -> 0 | J9: =D9+G9 -> 0 | K9: =IF(ISERROR(J9/I9),"",J9/I9) | L9: =B9+'１１月'!L9 -> 0 | M9: =I9+'１１月'!M9 -> 0 | N9: =J9+'１１月'!N9 -> 0 | O9: =IF(ISERROR(N9/M9),"",N9/M9) | P9: =IF(ISERROR(N9/Q9),"",N9/Q9) | Q9: =R9+'１１月'!Q9 -> 0 | R9: 0
A10: 神戸支所 | E10: =IF(ISERROR(D10/C10),"",D10/C10) | H10: =IF(ISERROR(G10/F10),"",G10/F10) | I10: =C10+F10 -> 0 | J10: =D10+G10 -> 0 | K10: =IF(ISERROR(J10/I10),"",J10/I10) | L10: =B10+'１１月'!L10 -> 0 | M10: =I10+'１１月'!M10 -> 0 | N10: =J10+'１１月'!N10 -> 0 | O10: =IF(ISERROR(N10/M10),"",N10/M10) | P10: =IF(ISERROR(N10/Q10),"",N10/Q10) -> 0 | Q10: =R10+'１１月'!Q10 -> 10286 | R10: 957
A11: 大阪出張所 | E11: =IF(ISERROR(D11/C11),"",D11/C11) | H11: =IF(ISERROR(G11/F11),"",G11/F11) | I11: =C11+F11 -> 0 | J11: =D11+G11 -> 0 | K11: =IF(ISERROR(J11/I11),"",J11/I11) | L11: =B11+'１１月'!L11 -> 0 | M11: =I11+'１１月'!M11 -> 0 | N11: =J11+'１１月'!N11 -> 0 | O11: =IF(ISERROR(N11/M11),"",N11/M11) | P11: =IF(ISERROR(N11/Q11),"",N11/Q11) | Q11: =R11+'１１月'!Q11 -> 0 | R11: 0
A12: 広島空港出張所 | E12: =IF(ISERROR(D12/C12),"",D12/C12) | H12: =IF(ISERROR(G12/F12),"",G12/F12) | I12: =C12+F12 -> 0 | J12: =D12+G12 -> 0 | K12: =IF(ISERROR(J12/I12),"",J12/I12) | L12: =B12+'１１月'!L12 -> 0 | M12: =I12+'１１月'!M12 -> 0 | N12: =J12+'１１月'!N12 -> 0 | O12: =IF(ISERROR(N12/M12),"",N12/M12) | P12: =IF(ISERROR(N12/Q12),"",N12/Q12) | Q12: =R12+'１１月'!Q12 -> 0 | R12: 0
A13: 岡山空港出張所 | E13: =IF(ISERROR(D13/C13),"",D13/C13) | H13: =IF(ISERROR(G13/F13),"",G13/F13) | I13: =C13+F13 -> 0 | J13: =D13+G13 -> 0 | K13: =IF(ISERROR(J13/I13),"",J13/I13) | L13: =B13+'１１月'!L13 -> 0 | M13: =I13+'１１月'!M13 -> 0 | N13: =J13+'１１月'!N13 -> 0 | O13: =IF(ISERROR(N13/M13),"",N13/M13) | P13: =IF(ISERROR(N13/Q13),"",N13/Q13) -> 0 | Q13: =R13+'１１月'!Q13 -> 128338 | R13: 30035
A14: 門司支所 | E14: =IF(ISERROR(D14/C14),"",D14/C14) | H14: =IF(ISERROR(G14/F14),"",G14/F14) | I14: =C14+F14 -> 0 | J14: =D14+G14 -> 0 | K14: =IF(ISERROR(J14/I14),"",J14/I14) | L14: =B14+'１１月'!L14 -> 0 | M14: =I14+'１１月'!M14 -> 0 | N14: =J14+'１１月'!N14 -> 0 | O14: =IF(ISERROR(N14/M14),"",N14/M14) | P14: =IF(ISERROR(N14/Q14),"",N14/Q14) -> 0 | Q14: =R14+'１１月'!Q14 -> 15572 | R14: 0
... A18: 沖縄支所 | E18: =IF(ISERROR(D18/C18),"",D18/C18) | H18: =IF(ISERROR(G18/F18),"",G18/F18) | I18: =C18+F18 -> 0 | J18: =D18+G18 -> 0 | K18: =IF(ISERROR(J18/I18),"",J18/I18) | L18: =B18+'１１月'!L18 -> 0 | M18: =I18+'１１月'!M18 -> 0 | N18: =J18+'１１月'!N18 -> 0 | O18: =IF(ISERROR(N18/M18),"",N18/M18) | P18: =IF(ISERROR(N18/Q18),"",N18/Q18) | Q18: =R18+'１１月'!Q18 -> 0 | R18: 0
A19: 合計 | B19: =SUM(B3:B18) -> 0 | C19: =SUM(C3:C18) -> 0 | D19: =SUM(D3:D18) -> 0 | E19: =IF(ISERROR(D19/C19),"",D19/C19) | F19: =SUM(F3:F18) -> 0 | G19: =SUM(G3:G18) -> 0 | H19: =IF(ISERROR(G19/F19),"",G19/F19) | I19: =SUM(I3:I18) -> 0 | J19: =SUM(J3:J18) -> 0 | K19: =IF(ISERROR(J19/I19),"",J19/I19) | Q19: =SUM(Q3:Q18) -> 438309 | R19: =SUM(R3:R18) -> 69793
A20: 前年同期合計 | B20: 11 | C20: 0 | D20: 0 | F20: 73149 | G20: 69793 | H20: 0.95412104 | I20: 73149 | J20: 69793 | K20: 0.95412104
A21: 対前年比(%) | B21: =IFERROR(B19/B20,"") -> 0 | C21: =IFERROR(C19/C20,"") | D21: =IFERROR(D19/D20,"") | F21: =IFERROR(F19/F20,"") -> 0 | G21: =IFERROR(G19/G20,"") -> 0 | I21: =IFERROR(I19/I20,"") -> 0 | J21: =IFERROR(J19/J20,"") -> 0
A22: 累計 | B22: =B19+'１１月'!B22 -> 0 | C22: =C19+'１１月'!C22 -> 0 | D22: =D19+'１１月'!D22 -> 0 | E22: =IF(ISERROR(D22/C22)," ",(D22/C22)) | F22: =F19+'１１月'!F22 -> 0 | G22: =G19+'１１月'!G22 -> 0 | H22: =IF(ISERROR(G22/F22)," ",(G22/F22)) | L22: =SUM(L3:L18) -> 0 | M22: =SUM(M3:M18) -> 0 | N22: =SUM(N3:N18) -> 0 | O22: =IF(ISERROR(N22/M22),"",N22/M22) | P22: =IF(ISERROR(N22/Q19)," ",(N22/Q19)) -> 0
A23: 前年同期累計 | B23: =B20+'１１月'!B23 -> 45 | C23: =C20+'１１月'!C23 -> 108148 | D23: =D20+'１１月'!D23 -> 101074 | E23: =IF(ISERROR(D23/C23),"",D23/C23) -> 0.93458964 | F23: =F20+'１１月'!F23 -> 353063 | G23: =G20+'１１月'!G23 -> 337235 | H23: =IF(ISERROR(G23/F23)," ",(G23/F23)) -> 0.95516947 | L23: =B23 -> 45 | M23: =C23+F23 -> 461211 | N23: =D23+G23 -> 438309 | O23: =IF(ISERROR(N23/M23),"",N23/M23) -> 0.95034377
A24: 対前年比(%) | B24: =IFERROR(B22/B23,"") -> 0 | C24: =IFERROR(C22/C23,"") -> 0 | D24: =IFERROR(D22/D23,"") -> 0 | F24: =IFERROR(F22/F23,"") -> 0 | G24: =IFERROR(G22/G23,"") -> 0 | L24: =IFERROR(L22/L23,"") -> 0 | M24: =IFERROR(M22/M23,"") -> 0 | N24: =IFERROR(N22/N23,"") -> 0
