Workbook

Sheet 総括表
C2: １．総括表
C4: ※１ 着色セルは自動で計算されます。
C5: ※２ すべての項目を算定する必要はありません。
C6: ※３ 本表では、地域資源活用価値創出整備事業（農福連携型）で比較的算定対象になりやすいと想定される効果項目を抜粋しています。 このほかの効果項目については、「農山漁村振興交付金（地域資源活用価値創出対策のうち地域資源活用価値創出整備事業） 費用対効果算定要領」（令和４年４月１日付け３農振第3018号農村振興局長通知）をご参照いただき、年効果額の内訳を追加してください。
K10: 算定対象として想定される施設の例
C11: 区 分 | G11: 数値 | I11: 備考 | K11: 農業 生産 施設 | L11: 農産物加工施設 | N11: 農産物等販売施設 | P11: 付帯 施設
C12: 総事業費 ① | G12: =事業費!G17 -> 0 | H12: (千円) | M12: 加工用に 作付面積 を増加 | O12: 販売用に 作付面積 を増加
C13: 年総効果額 ② | G13: =SUM(G15,G21,G24,G26) -> 0 | H13: (千円/年)
C14: （内訳）
D15: 農林漁業生産効果 | G15: =G16 -> 0
E16: 農業生産向上等効果 | G16: =SUM(G17:G20) -> 0
F17: 作付増加効果 | G17: =作付増加!L26 -> 0 | K17: ○ | M17: △ | O17: △
F18: 単収増加効果 | G18: =単収増加!L26 -> 0 | K18: ○
F19: 品質等向上効果 | G19: =品質向上!L26 -> 0 | K19: ○
F20: 農畜産物加工効果 | G20: =農産加工!M28 -> 0 | L20: ○ | M20: ○
D21: 地域間交流効果 | G21: =SUM(G22:G23) -> 0
E22: 農林水産物販売促進効果 | G22: =販売促進!I22 -> 0 | N22: ○ | O22: ○
E23: 農林水産物流通・販売経費節減効果 | G23: =流通経費!G20 -> 0 | N23: ○ | O23: ○
D24: 地域活性化効果 | G24: =G25 -> 0
E25: 就業機会増加効果 | G25: =就業機会!I24 -> 0 | K25: ○ | L25: ○ | M25: ○ | N25: ○ | O25: ○ | P25: ○
D26: 維持管理費等節減効果 | G26: =維持管理!G25 -> 0 | K26: ○ | L26: ○ | M26: ○ | N26: ○ | O26: ○ | P26: ○
C27: 総合耐用年数 ③ | G27: =ROUNDDOWN(事業費!E18,1) -> #DIV/0! | H27: (年) | I27: 小数点以下１桁まで算出 | K27: 注）本表は参考例です。実際の事業計画に従って算定項目を 選択してください。
C28: 還元率 ④ | G28: =ROUNDUP((0.04*(1+0.04)^G27)/((1+0.04)^G27-1),6) -> #DIV/0!
C29: 妥当投資額 ⑤＝②÷④ | G29: =ROUND(G13/ROUND(G28,4),0) -> #DIV/0! | H29: (千円)
C30: 廃用損失額 ⑥ | G30: =廃用損失!L15 -> 0 | H30: (千円) | K30: ←本事業の施設整備に伴い、廃用または用途が転用される 施設がある場合は廃用損失額を算定してください。
C31: 投資効率 ⑦＝（⑤－⑥）÷① | G31: =ROUNDDOWN((G29-G30)/G12,2) -> #DIV/0! | I31: 1.0以上であること 小数点以下２桁まで算出

Sheet 事業費
C2: ２．総事業費と総合耐用年数
D4: 総事業費には、施設整備に要する総額（交付金＋自己資金）と整備する施設の耐用年数を入力します。 例えば、既存の建物をそのまま利用して加工機器を導入する場合、交付金を用いて新たに導入する加工機器の事業費と耐用年数を算定します。
D6: ※１ 下表の着色セルは自動で計算されます。
D7: ※２ 行が不足する場合は追加してください。列の幅が不足する場合は調整してください。
D8: 施設等名 | E8: 耐用年数 | F8: 事業費 | H8: 年事業費
H9: （減価額）
F10: （千円） | H10: （千円）
E11: ① | F11: ② | H11: ③＝②÷①
H12: =IFERROR(ROUND(F12/E12,0),"")
H13: =IFERROR(ROUND(F13/E13,0),"")
H14: =IFERROR(ROUND(F14/E14,0),"")
H15: =IFERROR(ROUND(F15/E15,0),"")
H16: =IFERROR(ROUND(F16/E16,0),"")
D17: 計 | E17: － | F17: ④ | G17: =SUM(F12:G16) -> 0 | H17: ⑤ | I17: =SUM(H12:I16) -> 0
D18: 総合耐用年数＝④÷⑤ | E18: =ROUNDDOWN(G17/I17,1) -> #DIV/0!
D20: 【参考】よく用いられる耐用年数
D21: 建 物 | K21: 構 築 物
D22: 工場用のもの（建材により以下の該当するもの） | K22: 農林漁業用のもの（主な材質により以下の該当するもの）
D23: 木造・合成樹脂造 | G23: 15 | H23: 年 | K23: コンクリート造、れんが造、石造又はブロック造 | N23: 17 | O23: 年
D24: 木骨モルタル造 | G24: 14 | H24: 年
D25: 鉄骨鉄筋コンクリート造、鉄筋コンクリート造 | G25: 38 | H25: 年 | K25: 金属造 | N25: 14 | O25: 年
D26: れんが造、石造、ブロック造 | G26: 34 | H26: 年 | K26: 木造 | N26: 5 | O26: 年
D27: 金属造（骨格材の肉厚により以下の該当するもの）
D28: ４mm超 | G28: 31 | H28: 年 | K28: 機 械 ・ 装 置
D29: ３mmを超え４mmまで | G29: 24 | H29: 年 | K29: 農業用設備 | N29: 7 | O29: 年
D30: ３mm以下 | G30: 17 | H30: 年 | K30: 食品製造業用設備 | N30: 10 | O30: 年
D31: 店舗用のもの（建材により以下の該当するもの） | K31: 小売業用設備（材質により以下の該当するもの）
D32: 木造・合成樹脂造 | G32: 22 | H32: 年 | K32: 主として金属製 | N32: 17 | O32: 年
D33: 木骨モルタル造 | G33: 20 | H33: 年 | K33: その他のもの | N33: 8 | O33: 年
D34: 鉄骨鉄筋コンクリート造、鉄筋コンクリート造 | G34: 39 | H34: 年
D35: れんが造、石造、ブロック造 | G35: 38 | H35: 年 | K35: このほかの耐用年数は、こちらのサイトで「耐用年数」と検索してください。
D36: 金属造（骨格材の肉厚により以下の該当するもの） | K36: https://elaws.e-gov.go.jp/ | L36: （減価償却資産の耐用年数等に関する省令）
D37: ４mm超 | G37: 34 | H37: 年
D38: ３mmを超え４mmまで | G38: 27 | H38: 年
D39: ３mm以下 | G39: 19 | H39: 年

Sheet 作付増加
C2: ３．効果算定表
C4: （１）作付増加効果
D5: 施設の整備により農作物の作付面積が増加する場合に算定します。
D7: 現況作付面積 | E7: ：事業実施前の作付面積
D8: 計画作付面積 | E8: ：事業実施後の作付面積
D9: 現況単収 | E9: ：事業実施前の単位面積当たり収量（年間で複数回収穫している場合は１回当たりの収穫量×収穫回数）
E10: 新規導入作物の場合は取組地域内または近傍地域の実績による
D11: 現況生産物単価 | E11: ：出荷時の価格（系統出荷の場合はJAや市場の買取価格、直売の場合は設定価格）
E12: 新規導入作物の場合は取組地域内または近傍地域の実績による
D13: 純益率 | E13: ：下表から選択、該当がない場合は栽培管理作業が類似するものを選択
D14: 按分率 | E14: ：他の補助も受ける場合、事業費の割合等により設定（本事業のみの場合は100％）
D16: ※１ 下表の着色セルは自動で計算されます。 | M16: 注）面積換算：１ha＝100a＝10,000㎡、10a=1,000㎡
D17: ※２ 行が不足する場合は追加してください。また、列の幅が不足する場合は調整してください。
D18: 対象作物 | E18: 現況 作付面積 | F18: 計画 作付面積 | G18: 作付面積 増減 | H18: 現況 単収 | I18: 現況 生産物 単価 | J18: 純益率 | K18: 按分率 | L18: 年効果額
E19: (ha) | F19: (ha) | G19: (ha) | H19: （kg/10a） | I19: （千円/t） | J19: （％） | K19: （％） | L19: （千円）
E20: ① | F20: ② | G20: ③＝②－① | H20: ④ | I20: ⑤ | J20: ⑥ | K20: ⑦ | L20: ⑧＝(③×④×⑤×⑥×⑦)÷100
G21: =F21-E21 -> 0 | K21: 100 | L21: =ROUND(G21*(H21/100)*I21*(J21/100)*(K21/100),0) -> 0
G22: =F22-E22 -> 0 | K22: 100 | L22: =ROUND(G22*(H22/100)*I22*(J22/100)*(K22/100),0) -> 0
G23: =F23-E23 -> 0 | K23: 100 | L23: =ROUND(G23*(H23/100)*I23*(J23/100)*(K23/100),0) -> 0
G24: =F24-E24 -> 0 | K24: 100 | L24: =ROUND(G24*(H24/100)*I24*(J24/100)*(K24/100),0) -> 0
G25: =F25-E25 -> 0 | K25: 100 | L25: =ROUND(G25*(H25/100)*I25*(J25/100)*(K25/100),0) -> 0
D26: 計 | L26: =SUM(L21:L25) -> 0
D27: 出典：現況作付面積（○○○）、計画作付面積（○○○）、
D28: 現況単収（○○○）、現況生産物単価（○○○）
D29: 純益率一覧表（作付増減）
G30: 単位：％
D31: 作 物 名 | G31: 純益率 | I31: 左表により難い場合は次式で算出。
G32: （作付増減）
D33: 水稲 | E33: 北海道 | G33: 26 | I33: 作付増減純益率（％）
E34: 都府県 | G34: －
D35: 麦類 | E35: 大麦 | G35: 9
E36: 小麦 | F36: 田 | G36: － | I36: ＝100－ | J36: 単位面積当たりの生産費 | N36: ×100
F37: 畑 | G37: － | J37: 単位面積当たりの主産物価格
D38: 豆類 | E38: 大豆 | F38: 田 | G38: －
F39: 畑 | G39: －
D40: いも類 | E40: いも類 | G40: 31
D41: 野菜 | E41: 果菜類 | G41: 17
E42: 葉茎菜類 | G42: 16
E43: 根菜類 | G43: 12
D44: 工芸作物 | E44: 原料用かんしょ | G44: －
...

Sheet 単収増加
C2: ３．効果算定表
C4: （２）単収増加効果
D5: 施設の整備を契機に露地栽培から施設栽培に切り替え、栽培条件の向上や冬季の収穫が可能になるなど、年間を通じた単位面積当たりの収穫量の増加が見込まれる場合に算定します。 ※ 事業実施後の新規導入作物は算定対象になりません。
D7: 現況単収 | E7: ：事業実施前の単位面積当たり収量（年間で複数回収穫している場合は１回当たりの収穫量×収穫回数）
D8: 計画単収 | E8: ：事業実施後の単位面積当たり収量見込み（年間で複数回収穫する場合は１回当たりの収穫量×収穫回数）
D9: 効果発生面積 | E9: ：単位面積当たり収量の向上が見込まれる作付面積
D10: 現況生産物単価 | E10: ：出荷時の価格（系統出荷の場合はJAや市場の買取価格、直売の場合は設定価格）
E11: 新規導入作物の場合は取組地域内または近傍地域の実績による
E12: 作付増加効果を算定している場合は数値を整合させる
D13: 純益率 | E13: ：下表から選択、該当がない場合は栽培管理作業が類似するものを選択
D14: 按分率 | E14: ：他の補助も受ける場合、事業費の割合等により設定（本事業のみの場合は100％）
D16: ※１ 下表の着色セルは自動で計算されます。 | M16: 注）面積換算：１ha＝100a＝10,000㎡、10a=1,000㎡
D17: ※２ 行が不足する場合は追加してください。列の幅が不足する場合は調整してください。
D18: 対象作物 | E18: 現況 単収 | F18: 計画 単収 | G18: 単収 増加 | H18: 効果 発生面積 | I18: 現況 生産物 単価 | J18: 純益率 | K18: 按分率 | L18: 年効果額
E19: （kg/10a） | F19: （kg/10a） | G19: （kg/10a） | H19: （ha） | I19: （千円/t） | J19: （％） | K19: （％） | L19: （千円）
E20: ① | F20: ② | G20: ③＝②－① | H20: ④ | I20: ⑤ | J20: ⑥ | K20: ⑦ | L20: ⑧＝(③×④×⑤×⑥×⑦)÷100
G21: =F21-E21 -> 0 | K21: 100 | L21: =ROUND(G21*(H21/100)*I21*(J21/100)*(K21/100),0) -> 0
G22: =F22-E22 -> 0 | K22: 100 | L22: =ROUND(G22*(H22/100)*I22*(J22/100)*(K22/100),0) -> 0
G23: =F23-E23 -> 0 | K23: 100 | L23: =ROUND(G23*(H23/100)*I23*(J23/100)*(K23/100),0) -> 0
G24: =F24-E24 -> 0 | K24: 100 | L24: =ROUND(G24*(H24/100)*I24*(J24/100)*(K24/100),0) -> 0
G25: =F25-E25 -> 0 | K25: 100 | L25: =ROUND(G25*(H25/100)*I25*(J25/100)*(K25/100),0) -> 0
D26: 計 | L26: =SUM(L21:L25) -> 0
D27: 出典：現況単収（○○○）、計画単収（○○○）、
D28: 効果発生面積（○○○）、現況生産物単価（○○○）
D29: 純益率一覧表（単収増加）
G30: 単位：％
D31: 作 物 名 | G31: 純益率 | I31: 左表により難い場合は次式で算出。
G32: （単収増加）
D33: 水稲 | E33: 北海道 | G33: 92 | H33: 単収増加純益率（％）＝100-（100－作付増減純益率※１）×0.110※２
E34: 都府県 | G34: 89
D35: 麦類 | E35: 大麦 | G35: 90
E36: 小麦 | F36: 田 | G36: 84 | H36: ※１ 作付増減純益率（％）
F37: 畑 | G37: 87 | J37: ＝100－ | K37: 単位面積当たりの生産費 | N37: ×100
D38: 豆類 | E38: 大豆 | F38: 田 | G38: 88 | K38: 単位面積当たりの主産物価格
F39: 畑 | G39: 88
D40: いも類 | E40: いも類 | G40: 92 | H40: ※２ 0.110：作付増減生産費に対する単収増加生産費の比率（定数）
D41: 野菜 | E41: 果菜類 | G41: 91
E42: 葉茎菜類 | G42: 91
E43: 根菜類 | G43: 90
D44: 工芸作物 | E44: 原料用かんしょ | G44: 83
...

Sheet 品質向上
C2: ３．効果算定表
C4: （３）品質等向上効果
D5: 施設の整備を契機に栽培条件が改善し、農作物の品質向上（価格の上昇）が見込まれる場合に算定します。 ※ 事業実施後の新規導入作物は算定対象になりません。
D7: 効果発生面積 | E7: ：品質の向上が見込まれる作付面積
D8: 計画単収 | E8: ：事業実施後の単位面積当たり収量見込み（年間で複数回収穫する場合は１回当たりの収穫量×収穫回数）
E9: 単収増加効果を算定している場合は数値を整合させる
D10: 生産物単価（現況） | E10: ：出荷時の価格（系統出荷の場合はJAや市場の買取価格、直売の場合は設定価格）
E11: 作付増加効果や単収増加効果を算定している場合は数値を整合させる
D12: 生産物単価（計画） | E12: ：類似する栽培形態の生産者からの聞き取り等により設定（出荷単価の見込み）
D13: 按分率 | E13: ：他の補助も受ける場合に事業費の割合等により設定（本事業のみの場合は100％）
D15: ※１ 下表の着色セルは自動で計算されます。 | L15: 注）面積換算：１ha＝100a＝10,000㎡、10a=1,000㎡
D16: ※２ 行が不足する場合は追加してください。列の幅が不足する場合は調整してください。
D17: 対象作物 | E17: 効果 発生面積 | F17: 計画 単収 | G17: 効果 発生量 | H17: 生産物単価（千円/t） | K17: 按分率 | L17: 年効果額
H18: 現況 | I18: 計画 | J18: 上昇額
E19: （ha） | F19: （kg/10a） | G19: （t） | K19: （％） | L19: （千円）
E20: ① | F20: ② | G20: ③＝(①×②)÷100 | H20: ④ | I20: ⑤ | J20: ⑥＝⑤－④ | K20: ⑦ | L20: ⑧＝③×⑥×⑦
G21: =ROUND((E21*F21)/100,2) -> 0 | J21: =I21-H21 -> 0 | K21: 100 | L21: =ROUND(G21*J21*(K21/100),0) -> 0
G22: =ROUND((E22*F22)/100,2) -> 0 | J22: =I22-H22 -> 0 | K22: 100 | L22: =ROUND(G22*J22*(K22/100),0) -> 0
G23: =ROUND((E23*F23)/100,2) -> 0 | J23: =I23-H23 -> 0 | K23: 100 | L23: =ROUND(G23*J23*(K23/100),0) -> 0
G24: =ROUND((E24*F24)/100,2) -> 0 | J24: =I24-H24 -> 0 | K24: 100 | L24: =ROUND(G24*J24*(K24/100),0) -> 0
G25: =ROUND((E25*F25)/100,2) -> 0 | J25: =I25-H25 -> 0 | K25: 100 | L25: =ROUND(G25*J25*(K25/100),0) -> 0
D26: 計 | L26: =SUM(L21:L25) -> 0
D27: 出典：効果発生面積（○○○）、計画単収（○○○）、
D28: 生産物単価（現況）（○○○）、生産物単価（計画）（○○○）

Sheet 農産加工
C2: ３．効果算定表
C4: （４）農畜産物加工効果
D5: 自家生産及び連携する農業経営体等が生産する農畜産物を原材料として供給する農産物加工施設を整備する場合に算定します。
D7: 効果要因 | E7: ：製品名（例：○○に加工）
D8: 効果発生面積 | E8: ：加工品仕向けの作付面積
E9: 作付増加効果を算定している場合は、作付増加効果の計画作付面積を超えないように注意
D10: 計画単収 | E10: ：事業実施後の単位面積当たり収量見込みを基本とし、歩留まりを考慮
E11: 規格外品など一部を加工品として利用する場合は加工仕向分の量
E12: 品質向上効果を算定している場合は、最大でも品質向上効果における計画単収を超えないように注意
D13: 生産物単価（現況） | E13: ：出荷時の価格（系統出荷の場合はJAや市場の買取価格、直売の場合は設定価格）
D14: 生産物単価（計画） | E14: ：単位重量当たりの原材料から加工された製品の価格
D15: 按分率 | E15: ：他の補助も受ける場合、事業費の割合等により設定（本事業のみの場合は100％）
D17: ※１ 下表の着色セルは自動で計算されます。 | M17: 注）面積換算：１ha＝100a＝10,000㎡、10a=1,000㎡
D18: ※２ 行が不足する場合は追加してください。列の幅が不足する場合は調整してください。
D19: 作物名 | E19: 効果要因 | F19: 効果 発生面積 | G19: 計画 単収 | H19: 効果 発生量 | I19: 生産物単価（千円/t） | L19: 按分率 | M19: 年効果額
I20: 現況 | J20: 計画 | K20: 上昇額
F21: （ha） | G21: （kg/10a） | H21: （t） | L21: （％） | M21: （千円）
F22: ① | G22: ② | H22: ③＝(①×②)÷100 | I22: ④ | J22: ⑤ | K22: ⑥＝⑤－④ | L22: ⑦ | M22: ⑧＝③×⑥×⑦
H23: =ROUND(F23*(G23/100),2) -> 0 | K23: =J23-I23 -> 0 | L23: 100 | M23: =ROUND(H23*K23*(L23/100),0) -> 0
H24: =ROUND(F24*(G24/100),2) -> 0 | K24: =J24-I24 -> 0 | L24: 100 | M24: =ROUND(H24*K24*(L24/100),0) -> 0
H25: =ROUND(F25*(G25/100),2) -> 0 | K25: =J25-I25 -> 0 | L25: 100 | M25: =ROUND(H25*K25*(L25/100),0) -> 0
H26: =ROUND(F26*(G26/100),2) -> 0 | K26: =J26-I26 -> 0 | L26: 100 | M26: =ROUND(H26*K26*(L26/100),0) -> 0
H27: =ROUND(F27*(G27/100),2) -> 0 | K27: =J27-I27 -> 0 | L27: 100 | M27: =ROUND(H27*K27*(L27/100),0) -> 0
D28: 計 | M28: =SUM(M23:M27) -> 0
D29: 出典：効果発生面積（○○○）、計画単収（○○○）、
D30: 生産物単価（現況）（○○○）、計画生産物単価（計画）（○○○）

Sheet 販売促進
C2: ３．効果算定表
C4: （５）農林水産物販売促進効果
D5: 自家生産及び連携する農業経営体等が生産・製造する農林水産物や加工品の販売施設を整備する場合に算定します。
D7: 現在販売量 | E7: ：事業実施前の販売量
D8: 計画販売量 | E8: ：事業実施後に見込まれる販売量
D9: 計画販売単価 | E9: ：先行類似施設や収支計画等を基に小売価格を設定
D10: 生産に係る経費 | E10: ：事業実施後に想定される生産費（推計し難い場合は現状の生産費）
D12: ※１ 下表の着色セルは自動で計算されます。
D13: ※２ 行が不足する場合は追加してください。
D14: 農林水産物名 | E14: 現在販売量 | F14: 計画販売量 | G14: 計画販売単価 | H14: 生産に係る経費 | I14: 年効果額
E15: （t） | F15: （t） | G15: （千円/t） | H15: （千円/t） | I15: （千円）
E16: ① | F16: ② | G16: ③ | H16: ④ | I16: （②－①）×（③－④）
I17: =ROUND((F17-E17)*(G17-H17),0) -> 0
I18: =ROUND((F18-E18)*(G18-H18),0) -> 0
I19: =ROUND((F19-E19)*(G19-H19),0) -> 0
I20: =ROUND((F20-E20)*(G20-H20),0) -> 0
I21: =ROUND((F21-E21)*(G21-H21),0) -> 0
D22: 計 | I22: =SUM(I17:I21) -> 0
D23: 出典：現在販売量（○○○）、計画販売量（○○○）、
D24: 計画販売単価（○○○）、生産に係る経費（○○○）

Sheet 流通経費
C2: ３．効果算定表
C4: （６）農林水産物流通・販売経費節減効果
D5: 自家生産及び連携する農業経営体等が生産・製造する農林水産物や加工品の販売施設を整備することで、流通や販売に要する経費の増減が見込まれる場合に算定します。
D7: 現在流通・販売経費 | E7: ：事業実施前の流通・販売経費
D8: 計画流通・販売経費 | E8: ：事業実施後に見込まれる流通・販売経費
D10: ※１ 下表の着色セルは自動で計算されます。
D11: ※２ 行が不足する場合は追加してください。
D12: 農林水産物名 | E12: 現在流通・販売経費 | F12: 計画流通・販売経費 | G12: 年効果額
E13: （千円） | F13: （千円） | G13: （千円）
E14: ① | F14: ② | G14: ①－②
G15: =E15-F15 -> 0
G16: =E16-F16 -> 0
G17: =E17-F17 -> 0
G18: =E18-F18 -> 0
G19: =E19-F19 -> 0
D20: 計 | G20: =SUM(G15:G19) -> 0
D21: 出典：現在流通・販売経費（○○○）、計画流通・販売経費（○○○）

Sheet 就業機会
C2: ３．効果算定表
C4: （７）就業機会増加効果
D5: 施設整備に伴う作業量の増加や労働環境の整備により、新たに農業及び農業関連事業に携わる者の就労が見込まれる場合に算定します。
D7: 新規常勤雇用人数 | E7: ：事業実施後に常勤雇用契約により新たに雇用が見込まれる者の人数
D8: 常勤雇用賃金 | E8: ：事業実施後の上記雇用契約者の年間平均賃金
D9: 新規常勤雇用人数 | E9: ：事業実施後に非常勤雇用契約により新たに雇用が見込まれる者の人数
E10: または雇用契約によらず新たに就労が見込まれる者の人数
D11: 営業日数 | E11: ：非常勤雇用者または雇用契約によらない就労者の年間総労働時間の見込みを８時間/日で除した値
D12: 非常勤雇用賃金 | E12: ：事業実施後に見込まれる非常勤雇用者または雇用契約によらない就労者の１人１日当たりの賃金または工賃
D14: ※１ 下表の着色セルは自動で計算されます。
D15: ※２ 作業ごとに雇用や就労の形態が異なるなど、平均値を設定し難い場合は行を追加してください。
D16: 新規常勤雇用人数 | E16: 常勤雇用賃金 | F16: 新規非常勤雇用人数 （または雇用契約に よらない就労者数） | G16: 営業日数 | H16: 非常勤雇用賃金 （または就労者工賃） | I16: 年効果額
D17: （人） | E17: （千円/人） | F17: （人） | G17: （日） | H17: （千円/人日） | I17: （千円）
D18: ① | E18: ② | F18: ③ | G18: ④ | H18: ⑤ | I18: ①×②＋③×④×⑤
I19: =ROUND((D19*E19)+(F19*G19*H19),0) -> 0
I20: =ROUND((D20*E20)+(F20*G20*H20),0) -> 0
I21: =ROUND((D21*E21)+(F21*G21*H21),0) -> 0
I22: =ROUND((D22*E22)+(F22*G22*H22),0) -> 0
I23: =ROUND((D23*E23)+(F23*G23*H23),0) -> 0
D24: 計 | I24: =SUM(I19:I23) -> 0
D25: 出典：新規常勤雇用人数（○○○）、常勤雇用賃金（○○○）、新規非常勤雇用人数（○○○）、
D26: 営業日数（○○○）、非常勤雇用賃金（○○○）

Sheet 維持管理
C2: ３．効果算定表
C4: （８）維持管理費節減効果
D5: 老朽化した施設を改修することで節減される維持管理費または新たな施設の整備により維持管理費が発生する効果（マイナス効果）を算定します。
D7: 現在年平均維持管理費 | E7: ：事業実施前に要していた維持管理費
E8: 本事業で整備される施設が新設の場合は０千円
D9: 計画年平均維持管理費 | E9: ：事業実施後に要する維持管理費の見込み額
D11: 維持管理費…水道光熱費のほか、保守点検、清掃、簡易な修繕などに要する費用
D12: 数年に１度行う低コスト耐候性ハウスのプラスチックフィルムの張替えなども年当たりに平準化して算入
D13: （例：５年に１度2,000千円で張替え…400千円／年として加算）
D15: ※１ 下表の着色セルは自動で計算されます。
D16: ※２ 行が不足する場合は追加してください。
D17: 施設等名 | E17: 現在 年平均維持管理費 | F17: 計画 年平均維持管理費 | G17: 年効果額
E18: （千円） | F18: （千円） | G18: （千円）
E19: ① | F19: ② | G19: ①－②
G20: =E20-F20 -> 0
G21: =E21-F21 -> 0
G22: =E22-F22 -> 0
G23: =E23-F23 -> 0
G24: =E24-F24 -> 0
D25: 計 | G25: =SUM(G20:G24) -> 0
D26: 出典：現在年平均維持管理費（○○○）、計画年平均維持管理費（○○○）

Sheet 廃用損失
C2: ４．廃用損失額
C4: 本事業での施設整備に伴い、既存の施設を廃用または他の目的に転用する場合に算定します。
C6: ※１ 下表の着色セルは自動で計算されます。
C7: ※２ 行が不足するときは追加してください。
C8: ※３ 廃用または転用される時点の残存価格が明らかな場合は、「廃用損失額」欄に金額を直接入力してください。
C9: 施設名 | D9: 同左簿価 (整備・購入時の価格) ※更新した場合はその価格 | E9: 耐用年数 (減価償却期間) | F9: 年減価額 | G9: 設置・購入年 （西暦） ※更新した場合はその年 | I9: 新たに整備する施設の利用開始年 （西暦） | K9: 経過年数 | L9: 廃用損失額 ※最小値”0”
D10: （円） | E10: （年） | F10: （円） | K10: （年） | L10: （千円）
D11: ① | E11: ② | F11: ③＝①÷② | G11: ④ | I11: ⑤ | K11: ⑥＝ ⑤－④ | L11: (①－（③×⑥）)÷1000
F12: =ROUND(D12/E12,0) -> #DIV/0! | H12: 年 | J12: 年 | K12: =IF(G12>I12,"error",I12-G12) -> 0 | L12: =IF(K12>=E12,0,ROUND((D12-(F12*K12))/1000,0)) -> 0
F13: =ROUND(D13/E13,0) -> #DIV/0! | H13: 年 | J13: 年 | K13: =IF(G13>I13,"error",I13-G13) -> 0 | L13: =IF(K13>=E13,0,ROUND((D13-(F13*K13))/1000,0)) -> 0
F14: =ROUND(D14/E14,0) -> #DIV/0! | H14: 年 | J14: 年 | K14: =IF(G14>I14,"error",I14-G14) -> 0 | L14: =IF(K14>=E14,0,ROUND((D14-(F14*K14))/1000,0)) -> 0
C15: 合 計 | L15: =SUM(L12:L14) -> 0
C16: 出典：簿価(整備・購入時の価格)（○○○）、設置・購入年（○○○）
C18: 【参考】よく用いられる耐用年数
C19: 建 物 | H19: 構 築 物
C20: 工場用のもの（建材により以下の該当するもの） | H20: 農林漁業用のもの（主な材質により以下の該当するもの）
C21: 木造・合成樹脂造 | E21: 15 | F21: 年 | H21: コンクリート造、れんが造、石造又はブロック造 | M21: 17 | N21: 年
C22: 木骨モルタル造 | E22: 14 | F22: 年 | H22: 金属造 | M22: 14 | N22: 年
C23: 鉄骨鉄筋コンクリート造、鉄筋コンクリート造 | E23: 38 | F23: 年 | H23: 木造 | M23: 5 | N23: 年
C24: れんが造、石造、ブロック造 | E24: 34 | F24: 年
C25: 金属造（骨格材の肉厚により以下の該当するもの） | H25: 機 械 ・ 装 置
C26: ４mm超 | E26: 31 | F26: 年 | H26: 農業用設備 | M26: 7 | N26: 年
C27: ３mmを超え４mmまで | E27: 24 | F27: 年 | H27: 食品製造業用設備 | M27: 10 | N27: 年
C28: ３mm以下 | E28: 17 | F28: 年 | H28: 小売業用設備（材質により以下の該当するもの）
C29: 店舗用のもの（建材により以下の該当するもの） | H29: 主として金属製 | M29: 17 | N29: 年
C30: 木造・合成樹脂造 | E30: 22 | F30: 年 | H30: その他のもの | M30: 8 | N30: 年
C31: 木骨モルタル造 | E31: 20 | F31: 年
C32: 鉄骨鉄筋コンクリート造、鉄筋コンクリート造 | E32: 39 | F32: 年 | H32: このほかの耐用年数は、こちらのサイトで「耐用年数」と検索してください。
C33: れんが造、石造、ブロック造 | E33: 38 | F33: 年 | H33: https://elaws.e-gov.go.jp/ | N33: （減価償却資産の耐用年数等に関する省令）
C34: 金属造（骨格材の肉厚により以下の該当するもの）
C35: ４mm超 | E35: 34 | F35: 年
C36: ３mmを超え４mmまで | E36: 27 | F36: 年
C37: ３mm以下 | E37: 19 | F37: 年
