Workbook
Name グラフ表示: INDIRECT([1]計算用シート!$C$2)
Name ドロップダウンリスト: ドロップダウンリスト!$A$1:$E$1
Name 海面漁業・養殖業: ドロップダウンリスト!$C$2:$C$4
Name 畜産: ドロップダウンリスト!$B$2:$B$6
Name 野菜※ばれいしょを除く: ドロップダウンリスト!$A$2:$A$9
Name 林業産出額・漁業産出額: ドロップダウンリスト!$E$2:$E$3
Name 六次産業化: ドロップダウンリスト!$D$2:$D$3

Sheet なんばんBOOK
A1: 令和７年 なんばんＢＯＯＫ（電子版）
A3: ChapterⅢ 北海道の全国ランキング
B4: データ区分
B5: 野菜※ばれいしょを除く
B7: 項目 | K7: =IFERROR(_xlfn.XLOOKUP(計算用シート!$C$1,計算用シート!$D$4:$W$4,計算用シート!$D$6:$W$6),"-") -> 令和５年産
B8: たまねぎ
A12: =IFERROR(_xlfn.XLOOKUP(計算用シート!$C$1,計算用シート!$D$4:$W$4,計算用シート!$D$7:$W$7),"-") -> 作付面積 | E12: =IFERROR(_xlfn.XLOOKUP(計算用シート!$C$1,計算用シート!$D$4:$W$4,計算用シート!$D$10:$W$10),"-") -> 10a当たり収量 | I12: =IFERROR(_xlfn.XLOOKUP(計算用シート!$C$1,計算用シート!$D$4:$W$4,計算用シート!$D$13:$W$13),"-") -> 収穫量
A13: 順位 | B13: 都道府県 | C13: =IFERROR(_xlfn.XLOOKUP(計算用シート!$C$1,計算用シート!$D$4:$W$4,計算用シート!$D$8:$W$8),"-") -> 作付面積 | D13: =IFERROR(_xlfn.XLOOKUP(計算用シート!$C$1,計算用シート!$D$4:$W$4,計算用シート!$D$9:$W$9),"-") -> シェア | E13: 順位 | F13: 都道府県 | G13: =IFERROR(_xlfn.XLOOKUP(計算用シート!$C$1,計算用シート!$D$4:$W$4,計算用シート!$D$11:$W$11),"-") -> 10a当たり収量 | H13: =IFERROR(_xlfn.XLOOKUP(計算用シート!$C$1,計算用シート!$D$4:$W$4,計算用シート!$D$12:$W$12),"-") -> 全国比 | I13: 順位 | J13: 都道府県 | K13: =IFERROR(_xlfn.XLOOKUP(計算用シート!$C$1,計算用シート!$D$4:$W$4,計算用シート!$D$14:$W$14),"-") -> 収穫量 | L13: =IFERROR(_xlfn.XLOOKUP(計算用シート!$C$1,計算用シート!$D$4:$W$4,計算用シート!$D$15:$W$15),"-") -> シェア
C14: =IFERROR(_xlfn.XLOOKUP(計算用シート!$C$1,計算用シート!$D$4:$W$4,計算用シート!$D$16:$W$16),"-") -> ha | D14: ％ | G14: =IFERROR(_xlfn.XLOOKUP(計算用シート!$C$1,計算用シート!$D$4:$W$4,計算用シート!$D$17:$W$17),"-") -> ㎏ | H14: ％ | K14: =IFERROR(_xlfn.XLOOKUP(計算用シート!$C$1,計算用シート!$D$4:$W$4,計算用シート!$D$18:$W$18),"-") -> t | L14: ％
B15: 全国 | C15: =IFERROR(_xlfn.XLOOKUP(計算用シート!$C$1,計算用シート!$D$4:$W$4,計算用シート!$D$26:$W$26,0),"-") -> 25500 | D15: 100 | F15: 全国 | G15: =IFERROR(_xlfn.XLOOKUP(計算用シート!$C$1,計算用シート!$D$4:$W$4,計算用シート!$D48:$W48,0),"-") -> 4600 | H15: 100 | J15: 全国 | K15: =IFERROR(_xlfn.XLOOKUP(計算用シート!$C$1,計算用シート!$D$4:$W$4,計算用シート!$D70:$W70,0),"-") -> 1174000 | L15: 100
A17: =IFERROR(_xlfn.XLOOKUP(計算用シート!$C$1,計算用シート!$D$4:$W$4,計算用シート!$D34:$W34,0),"-") -> 1 | B17: =IFERROR(_xlfn.XLOOKUP(計算用シート!$C$1,計算用シート!$D$4:$W$4,計算用シート!$D19:$W19,0),"-") -> 北海道 | C17: =IFERROR(_xlfn.XLOOKUP(計算用シート!$C$1,計算用シート!$D$4:$W$4,計算用シート!$D27:$W27,0),"-") -> 14900 | D17: =IFERROR(ROUND(C17/$C$15*100,1),"- ") -> 58.4 | E17: =IFERROR(_xlfn.XLOOKUP(計算用シート!$C$1,計算用シート!$D$4:$W$4,計算用シート!$D56:$W56,0),"-") -> 1 | F17: =IFERROR(_xlfn.XLOOKUP(計算用シート!$C$1,計算用シート!$D$4:$W$4,計算用シート!$D41:$W41,0),"-") -> 兵庫 | G17: =IFERROR(_xlfn.XLOOKUP(計算用シート!$C$1,計算用シート!$D$4:$W$4,計算用シート!$D49:$W49,0),"-") -> 5930 | H17: =IFERROR(ROUND(G17/$G$15*100,1),"- ") -> 128.9 | I17: =IFERROR(_xlfn.XLOOKUP(計算用シート!$C$1,計算用シート!$D$4:$W$4,計算用シート!$D78:$W78,0),"-") -> 1 | J17: =IFERROR(_xlfn.XLOOKUP(計算用シート!$C$1,計算用シート!$D$4:$W$4,計算用シート!$D63:$W63,0),"-") -> 北海道 | K17: =IFERROR(_xlfn.XLOOKUP(計算用シート!$C$1,計算用シート!$D$4:$W$4,計算用シート!$D71:$W71,0),"-") -> 752500 | L17: =IFERROR(ROUND(K17/$K$15*100,1),"- ") -> 64.1
A18: =IFERROR(_xlfn.XLOOKUP(計算用シート!$C$1,計算用シート!$D$4:$W$4,計算用シート!$D35:$W35,0),"-") -> 2 | B18: =IFERROR(_xlfn.XLOOKUP(計算用シート!$C$1,計算用シート!$D$4:$W$4,計算用シート!$D20:$W20,0),"-") -> 佐賀 | C18: =IFERROR(_xlfn.XLOOKUP(計算用シート!$C$1,計算用シート!$D$4:$W$4,計算用シート!$D28:$W28,0),"-") -> 2130 | D18: =IFERROR(ROUND(C18/$C$15*100,1),"- ") -> 8.4 | E18: =IFERROR(_xlfn.XLOOKUP(計算用シート!$C$1,計算用シート!$D$4:$W$4,計算用シート!$D57:$W57,0),"-") -> 2 | F18: =IFERROR(_xlfn.XLOOKUP(計算用シート!$C$1,計算用シート!$D$4:$W$4,計算用シート!$D42:$W42,0),"-") -> 愛知 | G18: =IFERROR(_xlfn.XLOOKUP(計算用シート!$C$1,計算用シート!$D$4:$W$4,計算用シート!$D50:$W50,0),"-") -> 5190 | H18: =IFERROR(ROUND(G18/$G$15*100,1),"- ") -> 112.8 | I18: =IFERROR(_xlfn.XLOOKUP(計算用シート!$C$1,計算用シート!$D$4:$W$4,計算用シート!$D79:$W79,0),"-") -> 2 | J18: =IFERROR(_xlfn.XLOOKUP(計算用シート!$C$1,計算用シート!$D$4:$W$4,計算用シート!$D64:$W64,0),"-") -> 兵庫 | K18: =IFERROR(_xlfn.XLOOKUP(計算用シート!$C$1,計算用シート!$D$4:$W$4,計算用シート!$D72:$W72,0),"-") -> 97800 | L18: =IFERROR(ROUND(K18/$K$15*100,1),"- ") -> 8.3
A19: =IFERROR(_xlfn.XLOOKUP(計算用シート!$C$1,計算用シート!$D$4:$W$4,計算用シート!$D36:$W36,0),"-") -> 3 | B19: =IFERROR(_xlfn.XLOOKUP(計算用シート!$C$1,計算用シート!$D$4:$W$4,計算用シート!$D21:$W21,0),"-") -> 兵庫 | C19: =IFERROR(_xlfn.XLOOKUP(計算用シート!$C$1,計算用シート!$D$4:$W$4,計算用シート!$D29:$W29,0),"-") -> 1650 | D19: =IFERROR(ROUND(C19/$C$15*100,1),"- ") -> 6.5 | E19: =IFERROR(_xlfn.XLOOKUP(計算用シート!$C$1,計算用シート!$D$4:$W$4,計算用シート!$D58:$W58,0),"-") -> 3 | F19: =IFERROR(_xlfn.XLOOKUP(計算用シート!$C$1,計算用シート!$D$4:$W$4,計算用シート!$D43:$W43,0),"-") -> 北海道 | G19: =IFERROR(_xlfn.XLOOKUP(計算用シート!$C$1,計算用シート!$D$4:$W$4,計算用シート!$D51:$W51,0),"-") -> 5050 | H19: =IFERROR(ROUND(G19/$G$15*100,1),"- ") -> 109.8 | I19: =IFERROR(_xlfn.XLOOKUP(計算用シート!$C$1,計算用シート!$D$4:$W$4,計算用シート!$D80:$W80,0),"-") -> 3 | J19: =IFERROR(_xlfn.XLOOKUP(計算用シート!$C$1,計算用シート!$D$4:$W$4,計算用シート!$D65:$W65,0),"-") -> 佐賀 | K19: =IFERROR(_xlfn.XLOOKUP(計算用シート!$C$1,計算用シート!$D$4:$W$4,計算用シート!$D73:$W73,0),"-") -> 97600 | L19: =IFERROR(ROUND(K19/$K$15*100,1),"- ") -> 8.3
A20: =IFERROR(_xlfn.XLOOKUP(計算用シート!$C$1,計算用シート!$D$4:$W$4,計算用シート!$D37:$W37,0),"-") -> 4 | B20: =IFERROR(_xlfn.XLOOKUP(計算用シート!$C$1,計算用シート!$D$4:$W$4,計算用シート!$D22:$W22,0),"-") -> 長崎 | C20: =IFERROR(_xlfn.XLOOKUP(計算用シート!$C$1,計算用シート!$D$4:$W$4,計算用シート!$D30:$W30,0),"-") -> 762 | D20: =IFERROR(ROUND(C20/$C$15*100,1),"- ") -> 3 | E20: =IFERROR(_xlfn.XLOOKUP(計算用シート!$C$1,計算用シート!$D$4:$W$4,計算用シート!$D59:$W59,0),"-") -> 4 | F20: =IFERROR(_xlfn.XLOOKUP(計算用シート!$C$1,計算用シート!$D$4:$W$4,計算用シート!$D44:$W44,0),"-") -> 香川 | G20: =IFERROR(_xlfn.XLOOKUP(計算用シート!$C$1,計算用シート!$D$4:$W$4,計算用シート!$D52:$W52,0),"-") -> 5020 | H20: =IFERROR(ROUND(G20/$G$15*100,1),"- ") -> 109.1 | I20: =IFERROR(_xlfn.XLOOKUP(計算用シート!$C$1,計算用シート!$D$4:$W$4,計算用シート!$D81:$W81,0),"-") -> 4 | J20: =IFERROR(_xlfn.XLOOKUP(計算用シート!$C$1,計算用シート!$D$4:$W$4,計算用シート!$D66:$W66,0),"-") -> 長崎 | K20: =IFERROR(_xlfn.XLOOKUP(計算用シート!$C$1,計算用シート!$D$4:$W$4,計算用シート!$D74:$W74,0),"-") -> 29900 | L20: =IFERROR(ROUND(K20/$K$15*100,1),"- ") -> 2.5
A21: =IFERROR(_xlfn.XLOOKUP(計算用シート!$C$1,計算用シート!$D$4:$W$4,計算用シート!$D38:$W38,0),"-") -> 5 | B21: =IFERROR(_xlfn.XLOOKUP(計算用シート!$C$1,計算用シート!$D$4:$W$4,計算用シート!$D23:$W23,0),"-") -> 愛知 | C21: =IFERROR(_xlfn.XLOOKUP(計算用シート!$C$1,計算用シート!$D$4:$W$4,計算用シート!$D31:$W31,0),"-") -> 468 | D21: =IFERROR(ROUND(C21/$C$15*100,1),"- ") -> 1.8 | E21: =IFERROR(_xlfn.XLOOKUP(計算用シート!$C$1,計算用シート!$D$4:$W$4,計算用シート!$D60:$W60,0),"-") -> 5 | F21: =IFERROR(_xlfn.XLOOKUP(計算用シート!$C$1,計算用シート!$D$4:$W$4,計算用シート!$D45:$W45,0),"-") -> 富山 | G21: =IFERROR(_xlfn.XLOOKUP(計算用シート!$C$1,計算用シート!$D$4:$W$4,計算用シート!$D53:$W53,0),"-") -> 4950 | H21: =IFERROR(ROUND(G21/$G$15*100,1),"- ") -> 107.6 | I21: =IFERROR(_xlfn.XLOOKUP(計算用シート!$C$1,計算用シート!$D$4:$W$4,計算用シート!$D82:$W82,0),"-") -> 5 | J21: =IFERROR(_xlfn.XLOOKUP(計算用シート!$C$1,計算用シート!$D$4:$W$4,計算用シート!$D67:$W67,0),"-") -> 愛知 | K21: =IFERROR(_xlfn.XLOOKUP(計算用シート!$C$1,計算用シート!$D$4:$W$4,計算用シート!$D75:$W75,0),"-") -> 24300 | L21: =IFERROR(ROUND(K21/$K$15*100,1),"- ") -> 2.1
A22: =IF(ISERROR(_xlfn.XLOOKUP(計算用シート!$C$1,計算用シート!$D$4:$W$4,計算用シート!$D85:$W85))=TRUE,"",IF(_xlfn.XLOOKUP(計算用シート!$C$1,計算用シート!$D$4:$W$4,計算用シート!$D85:$W85)="","",_xlfn.XLOOKUP(計算用シート!$C$1,計算用シート!$D$4:$W$4,計算用シート!$D85:$W85)))
A23: =IF(ISERROR(_xlfn.XLOOKUP(計算用シート!$C$1,計算用シート!$D$4:$W$4,計算用シート!$D86:$W86))=TRUE,"",IF(_xlfn.XLOOKUP(計算用シート!$C$1,計算用シート!$D$4:$W$4,計算用シート!$D86:$W86)="","",_xlfn.XLOOKUP(計算用シート!$C$1,計算用シート!$D$4:$W$4,計算用シート!$D86:$W86)))
A24: =IF(ISERROR(_xlfn.XLOOKUP(計算用シート!$C$1,計算用シート!$D$4:$W$4,計算用シート!$D87:$W87))=TRUE,"",IF(_xlfn.XLOOKUP(計算用シート!$C$1,計算用シート!$D$4:$W$4,計算用シート!$D87:$W87)="","",_xlfn.XLOOKUP(計算用シート!$C$1,計算用シート!$D$4:$W$4,計算用シート!$D87:$W87)))

Sheet ドロップダウンリスト
A1: 野菜※ばれいしょを除く | B1: 畜産 | C1: 海面漁業・養殖業 | D1: 六次産業化 | E1: 林業産出額・漁業産出額
A2: たまねぎ | B2: 乳用牛 | C2: 海面漁業・養殖業生産量 | D2: 農業生産関連事業 | E2: 林業産出額
A3: かぼちゃ | B3: 肉用牛 | C3: 海面漁業 主要魚種別漁獲量 | D3: 漁業生産関連事業 | E3: 漁業産出額
A4: スイートコーン | B4: 豚 | C4: 海面養殖業 主要魚種別収獲量
A5: やまのいも | B5: 採卵鶏
A6: にんじん | B6: 生乳生産量
A7: アスパラガス
A8: ブロッコリー
A9: だいこん
A11: 他掲載候補↓
A12: にんにく
A13: トマト
A14: さやいんげん
A15: えだまめ
A16: メロン

Sheet 計算用シート
B1: 表示データ→ | C1: =なんばんBOOK!B5&"_"&なんばんBOOK!B8 -> 野菜※ばれいしょを除く_たまねぎ
A3: 注1：色付きセルはベタ打ち | C3: 作成時メモ（課題等）→ ※全体向けメモは右端 | D3: 更新済み | E3: 更新済み | F3: 更新済み | G3: 更新済み | H3: 更新済み | I3: 更新済み | J3: 更新済み | K3: 更新済み | L3: 更新済み | M3: 更新済み | N3: センサス年のため調査休止 令和２年なんばんBOOKの編集と同様前年の結果のまま掲載とする | O3: センサス年のため調査休止 令和２年なんばんBOOKの編集と同様前年の結果のまま掲載とする | P3: 更新済み | Q3: 更新済み | R3: 上位3位まで 更新済み | S3: 上位3位まで 更新済み | T3: 更新済み | U3: 更新済み | V3: 更新済み | W3: 更新済み
A4: 注2：この色のセルは要更新・要確認 | D4: 野菜※ばれいしょを除く_たまねぎ | E4: 野菜※ばれいしょを除く_かぼちゃ | F4: 野菜※ばれいしょを除く_スイートコーン | G4: 野菜※ばれいしょを除く_やまのいも | H4: 野菜※ばれいしょを除く_にんじん | I4: 野菜※ばれいしょを除く_アスパラガス | J4: 野菜※ばれいしょを除く_ブロッコリー | K4: 野菜※ばれいしょを除く_だいこん | L4: 畜産_乳用牛 | M4: 畜産_肉用牛 | N4: 畜産_豚 | O4: 畜産_採卵鶏 | P4: 畜産_生乳生産量 | Q4: 海面漁業・養殖業_海面漁業・養殖業生産量 | R4: 海面漁業・養殖業_海面漁業 主要魚種別漁獲量 | S4: 海面漁業・養殖業_海面養殖業 主要魚種別収獲量 | T4: 六次産業化_農業生産関連事業 | U4: 六次産業化_漁業生産関連事業 | V4: 林業産出額・漁業産出額_林業産出額 | W4: 林業産出額・漁業産出額_漁業産出額
D5: たまねぎ | E5: かぼちゃ | F5: スイートコーン | G5: やまのいも | H5: にんじん | I5: アスパラガス | J5: ブロッコリー | K5: だいこん | L5: 乳用牛 | M5: 肉用牛 | N5: 豚 | O5: 採卵鶏 | P5: 生乳生産量 | Q5: 海面漁業・養殖業生産量 | R5: 海面漁業 主要魚種別漁獲量 | S5: 海面養殖業 主要魚種別収獲量 | T5: 農業生産関連事業 | U5: 漁業生産関連事業 | V5: 林業産出額 | W5: 漁業産出額
B6: データ年 ※手入力で更新 | D6: 令和５年産 | E6: 令和５年産 | F6: 令和５年産 | G6: 令和５年産 | H6: 令和５年産 | I6: 令和５年産 | J6: 令和５年産 | K6: 令和５年産 | L6: 令和７年 ２月１日現在 | M6: 令和７年 ２月１日現在 | N6: 令和６年 ２月１日現在 | O6: 令和６年 ２月１日現在 | P6: 令和５年 | Q6: 令和６年 （概数値） | R6: 令和６年 （概数値） | S6: 令和６年 （概数値） | T6: 令和５年度 | U6: 令和５年度 | V6: 令和５年 | W6: 令和５年
C7: 表頭１ | D7: 作付面積 | E7: 作付面積 | F7: 作付面積 | G7: 作付面積 | H7: 作付面積 | I7: 作付面積 | J7: 作付面積 | K7: 作付面積 | L7: 飼養戸数 | M7: 飼養戸数 | N7: 飼養戸数 | O7: 飼養戸数（種鶏のみを除く） | P7: 生乳生産量 | Q7: 海面漁業・養殖業生産量 | R7: ほたてがい | S7: ほたてがい | T7: 年間販売金額 | U7: 年間販売金額 | V7: 林業産出額 | W7: 海面漁業・養殖業産出額
D8: 作付面積 | E8: 作付面積 | F8: 作付面積 | G8: 作付面積 | H8: 作付面積 | I8: 作付面積 | J8: 作付面積 | K8: 作付面積 | L8: 飼養戸数 | M8: 飼養戸数 | N8: 飼養戸数 | O8: 飼養戸数 | P8: 生産量 | Q8: 生産量 | R8: 漁獲量 | S8: 収獲量 | T8: 総額 | U8: 総額 | V8: 産出額 | W8: 産出額
D9: シェア | E9: シェア | F9: シェア | G9: シェア | H9: シェア | I9: シェア | J9: シェア | K9: シェア | L9: シェア | M9: シェア | N9: シェア | O9: シェア | P9: シェア | Q9: シェア | R9: シェア | S9: シェア | T9: シェア | U9: シェア | V9: シェア | W9: シェア
C10: 表頭２ | D10: 10a当たり収量 | E10: 10a当たり収量 | F10: 10a当たり収量 | G10: 10a当たり収量 | H10: 10a当たり収量 | I10: 10a当たり収量 | J10: 10a当たり収量 | K10: 10a当たり収量 | L10: 飼養頭数（めす） | M10: 飼養頭数 | N10: 飼養頭数 | O10: 飼養羽数（種鶏を除く） | P10: 乳製品向け処理量 | Q10: 海面漁業漁獲量 | R10: すけとうだら | S10: こんぶ類 | T10: 事業体数 | U10: 事業体数 | V10: うち木材生産 | W10: 海面漁業産出額
D11: 10a当たり収量 | E11: 10a当たり収量 | F11: 10a当たり収量 | G11: 10a当たり収量 | H11: 10a当たり収量 | I11: 10a当たり収量 | J11: 10a当たり収量 | K11: 10a当たり収量 | L11: 飼養頭数 | M11: 飼養頭数 | N11: 飼養頭数 | O11: 飼養羽数 | P11: 処理量 | Q11: 漁獲量 | R11: 漁獲量 | S11: 収獲量 | T11: 事業体数 | U11: 事業体数 | V11: 産出額 | W11: 産出額
D12: 全国比 | E12: 全国比 | F12: 全国比 | G12: 全国比 | H12: 全国比 | I12: 全国比 | J12: 全国比 | K12: 全国比 | L12: シェア | M12: シェア | N12: シェア | O12: シェア | P12: シェア | Q12: シェア | R12: シェア | S12: シェア | T12: シェア | U12: シェア | V12: シェア | W12: シェア
C13: 表頭３ | D13: 収穫量 | E13: 収穫量 | F13: 収穫量 | G13: 収穫量 | H13: 収穫量 | I13: 収穫量 | J13: 収穫量 | K13: 収穫量 | L13: １戸当たり飼養頭数 | M13: １戸当たり飼養頭数 | N13: １戸当たり飼養頭数 | O13: １戸当たり成鶏めす飼養羽数 | P13: 牛乳生産量 | Q13: 海面養殖業収獲量 | R13: さけ類 | V13: うち栽培きのこ類生産 | W13: 海面養殖業産出額
D14: 収穫量 | E14: 収穫量 | F14: 収穫量 | G14: 収穫量 | H14: 収穫量 | I14: 収穫量 | J14: 収穫量 | K14: 収穫量 | L14: １戸当たり飼養頭数 | M14: １戸当たり飼養頭数 | N14: １戸当たり飼養頭数 | O14: １戸当たり 成鶏めす飼養羽数 | P14: 生産量 | Q14: 収獲量 | R14: 漁獲量 | V14: 産出額 | W14: 産出額
D15: シェア | E15: シェア | F15: シェア | G15: シェア | H15: シェア | I15: シェア | J15: シェア | K15: シェア | L15: 全国比 | M15: 全国比 | N15: 全国比 | O15: 全国比 | P15: シェア | Q15: シェア | R15: シェア | V15: シェア | W15: シェア
C16: 単位 | D16: ha | E16: ha | F16: ha | G16: ha | H16: ha | I16: ha | J16: ha | K16: ha | L16: 戸 | M16: 戸 | N16: 戸 | O16: 戸 | P16: t | Q16: 100t | R16: 100t | S16: 100t | T16: 100万円 | U16: 100万円 | V16: 1,000万円 | W16: 100万円
D17: ㎏ | E17: ㎏ | F17: ㎏ | G17: ㎏ | H17: ㎏ | I17: ㎏ | J17: ㎏ | K17: ㎏ | L17: 頭 | M17: 頭 | N17: 頭 | O17: 千羽 | P17: t | Q17: 100t | R17: 100t | S17: 100t | T17: 事業体数 | U17: 事業体数 | V17: 1,000万円 | W17: 100万円
D18: t | E18: t | F18: t | G18: t | H18: t | I18: t | J18: t | K18: t | L18: 頭 | M18: 頭 | N18: 頭 | O18: 千羽 | P18: kl | Q18: 100t | R18: 100t | V18: 1,000万円 | W18: 100万円
B19: 〈表頭１〉のデータ | C19: 都道府県名 1 | D19: =貼_たまねぎ!T15 -> 北海道 | E19: =貼_かぼちゃ!T15 -> 北海道 | F19: =貼_スイートコーン!$T15 -> 北海道 | G19: =貼_やまのいも!$T15 -> 青森 | H19: =貼_にんじん!U15 -> 北海道 | I19: =貼_アスパラガス!T15 -> 北海道 | J19: =貼_ブロッコリー!T15 -> 北海道 | K19: =貼_だいこん!T15 -> 北海道 | L19: ='貼_乳(1)'!AC21 -> 北海道 | M19: ='貼_肉(1)'!BB17 -> 鹿児島 | N19: ='貼_豚(1)'!AA19 -> 鹿児島 | O19: ='貼_採卵鶏(1)'!Y17 -> 愛知 | P19: =貼_生乳生産量!AC14 -> 北海道 | Q19: =貼_海面漁業!DD10 -> 北海道 | R19: =貼_海面漁業!DM10 -> 北海道 | S19: =貼_海面養殖業!BA11 -> 北海道 | T19: =貼_農業生産関連事業!AE11 -> 北海道 | U19: =貼_漁業生産関連事業!U11 -> 北海道 | V19: =貼_林業産出額!AL9 -> 長野 | W19: =貼_漁業産出額!CV9 -> 北海道
C20: 2 | D20: =貼_たまねぎ!T16 -> 佐賀 | E20: =貼_かぼちゃ!T16 -> 鹿児島 | F20: =貼_スイートコーン!$T16 -> 千葉 | G20: =貼_やまのいも!$T16 -> 北海道 | H20: =貼_にんじん!U16 -> 千葉 | I20: =貼_アスパラガス!T16 -> 長野 | J20: =貼_ブロッコリー!T16 -> 香川 | K20: =貼_だいこん!T16 -> 青森 | L20: ='貼_乳(1)'!AC22 -> 岩手 | M20: ='貼_肉(1)'!BB18 -> 宮崎 | N20: ='貼_豚(1)'!AA20 -> 宮崎 | O20: ='貼_採卵鶏(1)'!Y18 -> 鹿児島 | P20: =貼_生乳生産量!AC15 -> 栃木 | Q20: =貼_海面漁業!DD11 -> 長崎 | R20: =貼_海面漁業!DM11 -> 青森 | S20: =貼_海面養殖業!BA12 -> 青森 | T20: =貼_農業生産関連事業!AE12 -> 静岡 | U20: =貼_漁業生産関連事業!U12 -> 鹿児島 | V20: =貼_林業産出額!AL10 -> 新潟 | W20: =貼_漁業産出額!CV10 -> 長崎
C21: 3 | D21: =貼_たまねぎ!T17 -> 兵庫 | E21: =貼_かぼちゃ!T17 -> 長野 | F21: =貼_スイートコーン!$T17 -> 茨城 | G21: =貼_やまのいも!$T17 -> 千葉 | H21: =貼_にんじん!U17 -> 青森 | I21: =貼_アスパラガス!T17 -> 福島 | J21: =貼_ブロッコリー!T17 -> 埼玉 | K21: =貼_だいこん!T17 -> 千葉 | L21: ='貼_乳(1)'!AC23 -> 栃木 | M21: ='貼_肉(1)'!BB19 -> 岩手 | N21: ='貼_豚(1)'!AA21 -> 千葉 | O21: ='貼_採卵鶏(1)'!Y19 -> 千葉 | P21: =貼_生乳生産量!AC16 -> 熊本 | Q21: =貼_海面漁業!DD12 -> 宮城 | R21: - | S21: =貼_海面養殖業!BA13 -> 宮城 | T21: =貼_農業生産関連事業!AE13 -> 熊本 | U21: =貼_漁業生産関連事業!U13 -> 三重 | V21: =貼_林業産出額!AL11 -> 北海道 | W21: =貼_漁業産出額!CV11 -> 愛媛
C22: 4 | D22: =貼_たまねぎ!T18 -> 長崎 | E22: =貼_かぼちゃ!T18 -> 茨城 | F22: =貼_スイートコーン!$T18 -> 群馬 | G22: =貼_やまのいも!$T18 -> 群馬 | H22: =貼_にんじん!U18 -> 徳島 | I22: =貼_アスパラガス!T18 -> 秋田 | J22: =貼_ブロッコリー!T18 -> 長野 | K22: =貼_だいこん!T18 -> 鹿児島 | L22: ='貼_乳(1)'!AC24 -> 熊本 | M22: ='貼_肉(1)'!BB20 -> 宮城 | N22: ='貼_豚(1)'!AA22 -> 茨城 | O22: ='貼_採卵鶏(1)'!Y20 -> 茨城 | P22: =貼_生乳生産量!AC17 -> 群馬 | Q22: =貼_海面漁業!DD13 -> 静岡 | T22: =貼_農業生産関連事業!AE14 -> 千葉 | U22: =貼_漁業生産関連事業!U14 -> 宮崎 | V22: =貼_林業産出額!AL12 -> 宮崎 | W22: =貼_漁業産出額!CV12 -> 宮城
C23: 5 | D23: =貼_たまねぎ!T19 -> 愛知 | E23: =貼_かぼちゃ!T19 -> 長崎 | F23: =貼_スイートコーン!$T19 -> 長野 | G23: =貼_やまのいも!$T19 -> 長野 | H23: =貼_にんじん!U19 -> 茨城 | I23: =貼_アスパラガス!T19 -> 山形 | J23: =貼_ブロッコリー!T19 -> 長崎 | K23: =貼_だいこん!T19 -> 宮崎 | L23: ='貼_乳(1)'!AC25 -> 宮城 | M23: ='貼_肉(1)'!BB22 -> 北海道 | N23: ='貼_豚(1)'!AA23 -> 北海道 | O23: ='貼_採卵鶏(1)'!Y23 -> 北海道 | P23: =貼_生乳生産量!AC18 -> 岩手 | Q23: =貼_海面漁業!DD14 -> 愛媛 | T23: =貼_農業生産関連事業!AE15 -> 愛媛 | U23: =貼_漁業生産関連事業!U15 -> 長崎 | V23: =貼_林業産出額!AL13 -> 岩手 | W23: =貼_漁業産出額!CV13 -> 鹿児島
C26: データ（全国値） | D26: =貼_たまねぎ!C15 -> 25500 | E26: =貼_かぼちゃ!$C15 -> 13800 | F26: =貼_スイートコーン!$C15 -> 20900 | G26: =貼_やまのいも!$C15 -> 6350 | H26: =貼_にんじん!D15 -> 16300 | I26: =貼_アスパラガス!C15 -> 4140 | J26: =貼_ブロッコリー!C15 -> 17300 | K26: =貼_だいこん!$C15 -> 27300 | L26: ='貼_乳(1)'!E11 -> 11300 | M26: ='貼_肉(1)'!E12 -> 34000 | N26: ='貼_豚(1)'!F15 -> 3130 | O26: ='貼_採卵鶏(1)'!G13 -> 1640 | P26: =貼_生乳生産量!E12 -> 7298933 | Q26: =貼_海面漁業!D9+貼_海面養殖業!C11 -> 35883 | R26: =貼_海面漁業!BY9 -> 3167 | S26: =貼_海面養殖業!R11 -> 1194 | T26: =貼_農業生産関連事業!C11 -> 2208274 | U26: =貼_漁業生産関連事業!C11 -> 232785 | V26: =貼_林業産出額!C55 -> 47484 | W26: =貼_漁業産出額!D8 -> 1522601
C27: 1 | D27: =貼_たまねぎ!U15 -> 14900 | E27: =貼_かぼちゃ!$U15 -> 6410 | F27: =貼_スイートコーン!$U15 -> 6910 | G27: =貼_やまのいも!$U15 -> 2140 | H27: =貼_にんじん!V15 -> 4280 | I27: =貼_アスパラガス!U15 -> 1030 | J27: =貼_ブロッコリー!U15 -> 3230 | K27: =貼_だいこん!$U15 -> 2640 | L27: ='貼_乳(1)'!AD21 -> 4970 | M27: ='貼_肉(1)'!BC17 -> 5530 | N27: ='貼_豚(1)'!AB19 -> 387 | O27: ='貼_採卵鶏(1)'!Z17 -> 109 | P27: =貼_生乳生産量!AD14 -> 4146981 | Q27: =貼_海面漁業!DE10 -> 8975 | R27: =貼_海面漁業!DN10 -> 3166 | S27: =貼_海面養殖業!BB11 -> 845 | T27: =貼_農業生産関連事業!AF11 -> 159794 | U27: =貼_漁業生産関連事業!V11 -> 66630 | V27: =貼_林業産出額!AM9 -> 6075 | W27: =貼_漁業産出額!CW9 -> 283586
C28: 2 | D28: =貼_たまねぎ!U16 -> 2130 | E28: =貼_かぼちゃ!U16 -> 644 | F28: =貼_スイートコーン!$U16 -> 1620 | G28: =貼_やまのいも!$U16 -> 1800 | H28: =貼_にんじん!V16 -> 2760 | I28: =貼_アスパラガス!U16 -> 545 | J28: =貼_ブロッコリー!U16 -> 1290 | K28: =貼_だいこん!$U16 -> 2640 | L28: ='貼_乳(1)'!AD22 -> 650 | M28: ='貼_肉(1)'!BC18 -> 4000 | N28: ='貼_豚(1)'!AB20 -> 261 | O28: ='貼_採卵鶏(1)'!Z18 -> 98 | P28: =貼_生乳生産量!AD15 -> 341645 | Q28: =貼_海面漁業!DE11 -> 3207 | R28: =貼_海面漁業!DN11 -> 1 | S28: =貼_海面養殖業!BB12 -> 313 | T28: =貼_農業生産関連事業!AF12 -> 108064 | U28: =貼_漁業生産関連事業!V12 -> 15665 | V28: =貼_林業産出額!AM10 -> 4723 | W28: =貼_漁業産出額!CW10 -> 123813
C29: 3 | D29: =貼_たまねぎ!U17 -> 1650 | E29: =貼_かぼちゃ!U17 -> 545 | F29: =貼_スイートコーン!$U17 -> 1350 | G29: =貼_やまのいも!$U17 -> 466 | H29: =貼_にんじん!V17 -> 1190 | I29: =貼_アスパラガス!U17 -> 330 | J29: =貼_ブロッコリー!U17 -> 1210 | K29: =貼_だいこん!$U17 -> 2470 | L29: ='貼_乳(1)'!AD23 -> 531 | M29: ='貼_肉(1)'!BC19 -> 2910 | N29: ='貼_豚(1)'!AB21 -> 216 | O29: ='貼_採卵鶏(1)'!Z19 -> 88 | P29: =貼_生乳生産量!AD16 -> 256330 | Q29: =貼_海面漁業!DE12 -> 2255 | R29: - | S29: =貼_海面養殖業!BB13 -> 31 | T29: =貼_農業生産関連事業!AF13 -> 88904 | U29: =貼_漁業生産関連事業!V13 -> 14557 | V29: =貼_林業産出額!AM11 -> 4340 | W29: =貼_漁業産出額!CW11 -> 108574
C30: 4 | D30: =貼_たまねぎ!U18 -> 762 | E30: =貼_かぼちゃ!U18 -> 390 | F30: =貼_スイートコーン!$U18 -> 1180 | G30: =貼_やまのいも!$U18 -> 354 | H30: =貼_にんじん!V18 -> 936 | I30: =貼_アスパラガス!U18 -> 318 | J30: =貼_ブロッコリー!U18 -> 1150 | K30: =貼_だいこん!$U18 -> 2050 | L30: ='貼_乳(1)'!AD24 -> 438 | M30: ='貼_肉(1)'!BC20 -> 2180 | N30: ='貼_豚(1)'!AB22 -> 208 | O30: ='貼_採卵鶏(1)'!Z20 -> 78 | P30: =貼_生乳生産量!AD17 -> 201618 | Q30: =貼_海面漁業!DE13 -> 1646 | T30: =貼_農業生産関連事業!AF14 -> 85247 | U30: =貼_漁業生産関連事業!V14 -> 13710 | V30: =貼_林業産出額!AM12 -> 2945 | W30: =貼_漁業産出額!CW12 -> 88766
C31: 5 | D31: =貼_たまねぎ!U19 -> 468 | E31: =貼_かぼちゃ!U19 -> 390 | F31: =貼_スイートコーン!$U19 -> 1050 | G31: =貼_やまのいも!$U19 -> 260 | H31: =貼_にんじん!V19 -> 794 | I31: =貼_アスパラガス!U19 -> 310 | J31: =貼_ブロッコリー!U19 -> 1040 | K31: =貼_だいこん!$U19 -> 1550 | L31: ='貼_乳(1)'!AD25 -> 349 | M31: ='貼_肉(1)'!BC22 -> 2030 | N31: ='貼_豚(1)'!AB23 -> 186 | O31: ='貼_採卵鶏(1)'!Z23 -> 56 | P31: =貼_生乳生産量!AD18 -> 198506 | Q31: =貼_海面漁業!DE14 -> 1303 | T31: =貼_農業生産関連事業!AF15 -> 83414 | U31: =貼_漁業生産関連事業!V15 -> 10017 | V31: =貼_林業産出額!AM13 -> 1923 | W31: =貼_漁業産出額!CW13 -> 76782
C32: 6 | D32: =貼_たまねぎ!U20 -> 324 | E32: =貼_かぼちゃ!U20 -> 389 | F32: =貼_スイートコーン!$U20 -> 701 | G32: =貼_やまのいも!$U20 -> 173 | H32: =貼_にんじん!V20 -> 779 | I32: =貼_アスパラガス!U20 -> 238 | J32: =貼_ブロッコリー!U20 -> 984 | K32: =貼_だいこん!$U20 -> 1220 | L32: ='貼_乳(1)'!AD26 -> 342 | P32: =貼_生乳生産量!AD19 -> 185038 | Q32: =貼_海面漁業!DE15 -> 1125 | T32: =貼_農業生産関連事業!AF16 -> 81244 | U32: =貼_漁業生産関連事業!V16 -> 9241 | V32: =貼_林業産出額!AM14 -> 1875 | W32: =貼_漁業産出額!CW14 -> 61935
C33: 7 | D33: =貼_たまねぎ!U21 -> 305 | E33: =貼_かぼちゃ!U21 -> 347 | F33: =貼_スイートコーン!$U21 -> 607 | G33: =貼_やまのいも!$U21 -> 101 | H33: =貼_にんじん!V21 -> 728 | I33: =貼_アスパラガス!U21 -> 185 | J33: =貼_ブロッコリー!U21 -> 936 | K33: =貼_だいこん!$U21 -> 1090 | L33: ='貼_乳(1)'!AD27 -> 342 | P33: =貼_生乳生産量!AD20 -> 181275 | Q33: =貼_海面漁業!DE16 -> 1017 | T33: =貼_農業生産関連事業!AF17 -> 77312 | U33: =貼_漁業生産関連事業!V17 -> 8832 | V33: =貼_林業産出額!AM15 -> 1648 | W33: =貼_漁業産出額!CW15 -> 60881
C34: 順位 | D34: =_xlfn.RANK.EQ(D27,D$27:D$31,0) -> 1 | E34: =_xlfn.RANK.EQ(E27,E$27:E$31,0) -> 1 | F34: =_xlfn.RANK.EQ(F27,F$27:F$31,0) -> 1 | G34: =_xlfn.RANK.EQ(G27,G$27:G$31,0) -> 1 | H34: =_xlfn.RANK.EQ(H27,H$27:H$31,0) -> 1 | I34: =_xlfn.RANK.EQ(I27,I$27:I$31,0) -> 1 | J34: =_xlfn.RANK.EQ(J27,J$27:J$31,0) -> 1 | K34: =_xlfn.RANK.EQ(K27,K$27:K$31,0) -> 1 | ... Q34: =_xlfn.RANK.EQ(Q27,Q$27:Q$31,0) -> 1 | R34: =IFERROR(_xlfn.RANK.EQ(R27,R$27:R$31,0),"-") -> 1 | S34: =_xlfn.RANK.EQ(S27,S$27:S$31,0) -> 1 | T34: =_xlfn.RANK.EQ(T27,T$27:T$31,0) -> 1 | U34: =_xlfn.RANK.EQ(U27,U$27:U$31,0) -> 1 | V34: =_xlfn.RANK.EQ(V27,V$27:V$31,0) -> 1 | W34: =_xlfn.RANK.EQ(W27,W$27:W$31,0) -> 1
D35: =_xlfn.RANK.EQ(D28,D$27:D$31,0) -> 2 | E35: =_xlfn.RANK.EQ(E28,E$27:E$31,0) -> 2 | F35: =_xlfn.RANK.EQ(F28,F$27:F$31,0) -> 2 | G35: =_xlfn.RANK.EQ(G28,G$27:G$31,0) -> 2 | H35: =_xlfn.RANK.EQ(H28,H$27:H$31,0) -> 2 | I35: =_xlfn.RANK.EQ(I28,I$27:I$31,0) -> 2 | J35: =_xlfn.RANK.EQ(J28,J$27:J$31,0) -> 2 | K35: =_xlfn.RANK.EQ(K28,K$27:K$31,0) -> 1 | ... Q35: =_xlfn.RANK.EQ(Q28,Q$27:Q$31,0) -> 2 | R35: =IFERROR(_xlfn.RANK.EQ(R28,R$27:R$31,0),"-") -> 2 | S35: =_xlfn.RANK.EQ(S28,S$27:S$31,0) -> 2 | T35: =_xlfn.RANK.EQ(T28,T$27:T$31,0) -> 2 | U35: =_xlfn.RANK.EQ(U28,U$27:U$31,0) -> 2 | V35: =_xlfn.RANK.EQ(V28,V$27:V$31,0) -> 2 | W35: =_xlfn.RANK.EQ(W28,W$27:W$31,0) -> 2
D36: =_xlfn.RANK.EQ(D29,D$27:D$31,0) -> 3 | E36: =_xlfn.RANK.EQ(E29,E$27:E$31,0) -> 3 | F36: =_xlfn.RANK.EQ(F29,F$27:F$31,0) -> 3 | G36: =_xlfn.RANK.EQ(G29,G$27:G$31,0) -> 3 | H36: =_xlfn.RANK.EQ(H29,H$27:H$31,0) -> 3 | I36: =_xlfn.RANK.EQ(I29,I$27:I$31,0) -> 3 | J36: =_xlfn.RANK.EQ(J29,J$27:J$31,0) -> 3 | K36: =_xlfn.RANK.EQ(K29,K$27:K$31,0) -> 3 | ... Q36: =_xlfn.RANK.EQ(Q29,Q$27:Q$31,0) -> 3 | R36: =IFERROR(_xlfn.RANK.EQ(R29,R$27:R$31,0),"-") -> - | S36: =_xlfn.RANK.EQ(S29,S$27:S$31,0) -> 3 | T36: =_xlfn.RANK.EQ(T29,T$27:T$31,0) -> 3 | U36: =_xlfn.RANK.EQ(U29,U$27:U$31,0) -> 3 | V36: =_xlfn.RANK.EQ(V29,V$27:V$31,0) -> 3 | W36: =_xlfn.RANK.EQ(W29,W$27:W$31,0) -> 3
D37: =_xlfn.RANK.EQ(D30,D$27:D$31,0) -> 4 | E37: =_xlfn.RANK.EQ(E30,E$27:E$31,0) -> 4 | F37: =_xlfn.RANK.EQ(F30,F$27:F$31,0) -> 4 | G37: =_xlfn.RANK.EQ(G30,G$27:G$31,0) -> 4 | H37: =_xlfn.RANK.EQ(H30,H$27:H$31,0) -> 4 | I37: =_xlfn.RANK.EQ(I30,I$27:I$31,0) -> 4 | J37: =_xlfn.RANK.EQ(J30,J$27:J$31,0) -> 4 | K37: =_xlfn.RANK.EQ(K30,K$27:K$31,0) -> 4 | ... Q37: =_xlfn.RANK.EQ(Q30,Q$27:Q$31,0) -> 4 | T37: =_xlfn.RANK.EQ(T30,T$27:T$31,0) -> 4 | U37: =_xlfn.RANK.EQ(U30,U$27:U$31,0) -> 4 | V37: =_xlfn.RANK.EQ(V30,V$27:V$31,0) -> 4 | W37: =_xlfn.RANK.EQ(W30,W$27:W$31,0) -> 4
D38: =_xlfn.RANK.EQ(D31,D$27:D$31,0) -> 5 | E38: =_xlfn.RANK.EQ(E31,E$27:E$31,0) -> 4 | F38: =_xlfn.RANK.EQ(F31,F$27:F$31,0) -> 5 | G38: =_xlfn.RANK.EQ(G31,G$27:G$31,0) -> 5 | H38: =_xlfn.RANK.EQ(H31,H$27:H$31,0) -> 5 | I38: =_xlfn.RANK.EQ(I31,I$27:I$31,0) -> 5 | J38: =_xlfn.RANK.EQ(J31,J$27:J$31,0) -> 5 | K38: =_xlfn.RANK.EQ(K31,K$27:K$31,0) -> 5 | L38: =_xlfn.RANK.EQ(L31,L$27:L$31,0) -> 5 | M38: ='貼_肉(1)'!BA22 -> 6 | N38: =_xlfn.RANK.EQ(N31,N$27:N$31,0) -> 5 | O38: ='貼_採卵鶏(1)'!X23 -> 7 | P38: =_xlfn.RANK.EQ(P31,P$27:P$31,0) -> 5 | Q38: =_xlfn.RANK.EQ(Q31,Q$27:Q$31,0) -> 5 | T38: =_xlfn.RANK.EQ(T31,T$27:T$31,0) -> 5 | U38: =_xlfn.RANK.EQ(U31,U$27:U$31,0) -> 5 | V38: =_xlfn.RANK.EQ(V31,V$27:V$31,0) -> 5 | W38: =_xlfn.RANK.EQ(W31,W$27:W$31,0) -> 5
B41: 〈表頭２〉のデータ | C41: 都道府県名 1 | D41: =貼_たまねぎ!AD15 -> 兵庫 | E41: =貼_かぼちゃ!$AD15 -> 千葉 | F41: =貼_スイートコーン!$AD15 -> 埼玉 | G41: =貼_やまのいも!$AD15 -> 北海道 | H41: =貼_にんじん!AE15 -> 徳島 | I41: =貼_アスパラガス!AD15 -> 熊本 | J41: =貼_ブロッコリー!AD15 -> 愛知 | K41: =貼_だいこん!$AD15 -> 徳島 | L41: ='貼_乳(1)'!AM21 -> 北海道 | M41: ='貼_肉(1)'!BL17 -> 北海道 | N41: ='貼_豚(1)'!AK19 -> 鹿児島 | O41: ='貼_採卵鶏(1)'!AI17 -> 千葉 | P41: =貼_乳製品向け処理量!AA13 -> 北海道 | Q41: =貼_海面漁業!CU10 -> 北海道 | R41: =貼_海面漁業!DV10 -> 北海道 | S41: =貼_海面養殖業!BJ11 -> 北海道 | T41: =貼_農業生産関連事業!AO11 -> 長野 | U41: =貼_漁業生産関連事業!AE11 -> 北海道 | V41: =貼_林業産出額!AV9 -> 北海道 | W41: =貼_漁業産出額!DF9 -> 北海道
C42: 2 | D42: =貼_たまねぎ!AD16 -> 愛知 | E42: =貼_かぼちゃ!AD16 -> 茨城 | F42: =貼_スイートコーン!$AD16 -> 茨城 | G42: =貼_やまのいも!$AD16 -> 鳥取 | H42: =貼_にんじん!AE16 -> 愛知 | I42: =貼_アスパラガス!AD16 -> 佐賀 | J42: =貼_ブロッコリー!AD16 -> 大阪 | K42: =貼_だいこん!$AD16 -> 和歌山 | L42: ='貼_乳(1)'!AM22 -> 栃木 | M42: ='貼_肉(1)'!BL18 -> 鹿児島 | N42: ='貼_豚(1)'!AK20 -> 北海道 | O42: ='貼_採卵鶏(1)'!AI18 -> 茨城 | P42: =貼_乳製品向け処理量!AA14 -> 茨城 | Q42: =貼_海面漁業!CU11 -> 長崎 | R42: =貼_海面漁業!DV11 -> 青森 | S42: =貼_海面養殖業!BJ12 -> 岩手 | T42: =貼_農業生産関連事業!AO12 -> 北海道 | U42: =貼_漁業生産関連事業!AE12 -> 長崎 | V42: =貼_林業産出額!AV10 -> 宮崎 | W42: =貼_漁業産出額!DF10 -> 長崎
C43: 3 | D43: =貼_たまねぎ!AD17 -> 北海道 | E43: =貼_かぼちゃ!AD17 -> 神奈川 | F43: =貼_スイートコーン!$AD17 -> 山梨 | G43: =貼_やまのいも!$AD17 -> 茨城 | H43: =貼_にんじん!AE17 -> 長崎 | I43: =貼_アスパラガス!AD17 -> 福岡 | J43: =貼_ブロッコリー!AD17 -> 埼玉 | K43: =貼_だいこん!$AD17 -> 神奈川 | L43: ='貼_乳(1)'!AM23 -> 熊本 | M43: ='貼_肉(1)'!BL19 -> 宮崎 | N43: ='貼_豚(1)'!AK21 -> 宮崎 | O43: ='貼_採卵鶏(1)'!AI19 -> 鹿児島 | P43: =貼_乳製品向け処理量!AA15 -> 熊本 | Q43: =貼_海面漁業!CU12 -> 茨城 | R43: =貼_海面漁業!DV12 -> 岩手 | S43: - | T43: =貼_農業生産関連事業!AO13 -> 静岡 | U43: =貼_漁業生産関連事業!AE13 -> 鹿児島 | V43: =貼_林業産出額!AV11 -> 岩手 | W43: =貼_漁業産出額!DF11 -> 宮城
C44: 4 | D44: =貼_たまねぎ!AD18 -> 香川 | E44: =貼_かぼちゃ!AD18 -> 岡山 | F44: =貼_スイートコーン!$AD18 -> 愛知 | G44: =貼_やまのいも!$AD18 -> 長野 | H44: =貼_にんじん!AE18 -> 千葉 | I44: =貼_アスパラガス!AD18 -> 長崎 | J44: =貼_ブロッコリー!AD18 -> 徳島 | K44: =貼_だいこん!$AD18 -> 長崎 | L44: ='貼_乳(1)'!AM24 -> 岩手 | M44: ='貼_肉(1)'!BL20 -> 熊本 | N44: ='貼_豚(1)'!AK22 -> 群馬 | O44: ='貼_採卵鶏(1)'!AI20 -> 岡山 | P44: =貼_乳製品向け処理量!AA16 -> 岩手 | Q44: =貼_海面漁業!CU13 -> 宮城 | T44: =貼_農業生産関連事業!AO14 -> 千葉 | U44: =貼_漁業生産関連事業!AE14 -> 静岡 | V44: =貼_林業産出額!AV12 -> 熊本 | W44: =貼_漁業産出額!DF12 -> 静岡
C45: 5 | D45: =貼_たまねぎ!AD19 -> 富山 | E45: =貼_かぼちゃ!AD22 -> 北海道 | F45: =貼_スイートコーン!$AD19 -> 北海道 | G45: =貼_やまのいも!$AD19 -> 青森 | H45: =貼_にんじん!AE21 -> 北海道 | I45: =貼_アスパラガス!AD27 -> 北海道 | J45: =貼_ブロッコリー!AD37 -> 北海道 | K45: =貼_だいこん!$AD20 -> 北海道 | L45: ='貼_乳(1)'!AM25 -> 群馬 | M45: ='貼_肉(1)'!BL21 -> 長崎 | N45: ='貼_豚(1)'!AK23 -> 千葉 | O45: ='貼_採卵鶏(1)'!AI27 -> 北海道 | P45: =貼_乳製品向け処理量!AA17 -> 福島 | Q45: =貼_海面漁業!CU14 -> 静岡 | T45: =貼_農業生産関連事業!AO15 -> 茨城 | U45: =貼_漁業生産関連事業!AE15 -> 福井 | V45: =貼_林業産出額!AV13 -> 大分 | W45: =貼_漁業産出額!DF13 -> 青森
U46: =貼_漁業生産関連事業!AE16 -> 広島
C48: データ（全国値） | D48: =貼_たまねぎ!D15 -> 4600 | E48: =貼_かぼちゃ!$D15 -> 1160 | F48: =貼_スイートコーン!$D15 -> 1020 | G48: =貼_やまのいも!$D15 -> 2580 | H48: =貼_にんじん!E15 -> 3480 | I48: =貼_アスパラガス!D15 -> 594 | J48: =貼_ブロッコリー!$D15 -> 991 | K48: =貼_だいこん!$D15 -> 4180 | L48: ='貼_乳(1)'!F11 -> 1293000 | M48: ='貼_肉(1)'!G12 -> 2595000 | N48: ='貼_豚(1)'!H15 -> 8798000 | O48: ='貼_採卵鶏(1)'!J13 -> 168599 | P48: =貼_乳製品向け処理量!E12 -> 3402222 | Q48: =貼_海面漁業!D9 -> 27871 | R48: =貼_海面漁業!AQ9 -> 1236 | S48: =貼_海面養殖業!Y11 -> 246 | T48: =貼_農業生産関連事業!D11 -> 56550 | U48: =貼_漁業生産関連事業!D11 -> 2960 | V48: =貼_林業産出額!E55 -> 24810 | W48: =貼_漁業産出額!E8 -> 949537
C49: 1 | D49: =貼_たまねぎ!AE15 -> 5930 | E49: =貼_かぼちゃ!$AE15 -> 1770 | F49: =貼_スイートコーン!$AE15 -> 1200 | G49: =貼_やまのいも!$AE15 -> 4490 | H49: =貼_にんじん!AF15 -> 5280 | I49: =貼_アスパラガス!AE15 -> 2270 | J49: =貼_ブロッコリー!$AE15 -> 1530 | K49: =貼_だいこん!$AE15 -> 7070 | L49: ='貼_乳(1)'!AN21 -> 816800 | M49: ='貼_肉(1)'!BM17 -> 544700 | N49: ='貼_豚(1)'!AL19 -> 1200000 | O49: ='貼_採卵鶏(1)'!AJ17 -> 14129 | P49: =貼_乳製品向け処理量!AB13 -> 3067540 | Q49: =貼_海面漁業!CV10 -> 7858 | R49: =貼_海面漁業!DW10 -> 1188 | S49: =貼_海面養殖業!BK11 -> 204 | T49: =貼_農業生産関連事業!AP11 -> 4110 | U49: =貼_漁業生産関連事業!AF11 -> 330 | V49: =貼_林業産出額!AW9 -> 3495 | W49: =貼_漁業産出額!DG9 -> 239620
C50: 2 | D50: =貼_たまねぎ!AE16 -> 5190 | E50: =貼_かぼちゃ!AE16 -> 1650 | F50: =貼_スイートコーン!$AE16 -> 1190 | G50: =貼_やまのいも!$AE16 -> 2730 | H50: =貼_にんじん!AF16 -> 5070 | I50: =貼_アスパラガス!AE16 -> 1990 | J50: =貼_ブロッコリー!$AE16 -> 1420 | K50: =貼_だいこん!$AE16 -> 7000 | L50: ='貼_乳(1)'!AN22 -> 51400 | M50: ='貼_肉(1)'!BM18 -> 360400 | N50: ='貼_豚(1)'!AL20 -> 752200 | O50: ='貼_採卵鶏(1)'!AJ18 -> 12109 | P50: =貼_乳製品向け処理量!AB14 -> 66459 | Q50: =貼_海面漁業!CV11 -> 2974 | R50: =貼_海面漁業!DW11 -> 27 | S50: =貼_海面養殖業!BK12 -> 36 | T50: =貼_農業生産関連事業!AP12 -> 2610 | U50: =貼_漁業生産関連事業!AF12 -> 250 | V50: =貼_林業産出額!AW10 -> 2439 | W50: =貼_漁業産出額!DG10 -> 70943
C51: 3 | D51: =貼_たまねぎ!AE17 -> 5050 | E51: =貼_かぼちゃ!AE17 -> 1610 | F51: =貼_スイートコーン!$AE17 -> 1180 | G51: =貼_やまのいも!$AE17 -> 2720 | H51: =貼_にんじん!AF17 -> 4200 | I51: =貼_アスパラガス!AE17 -> 1910 | J51: =貼_ブロッコリー!$AE17 -> 1260 | K51: =貼_だいこん!$AE17 -> 6950 | L51: ='貼_乳(1)'!AN23 -> 41900 | M51: ='貼_肉(1)'!BM19 -> 248400 | N51: ='貼_豚(1)'!AL21 -> 721900 | O51: ='貼_採卵鶏(1)'!AJ19 -> 10196 | P51: =貼_乳製品向け処理量!AB15 -> 54009 | Q51: =貼_海面漁業!CV12 -> 2318 | R51: =貼_海面漁業!DW12 -> 19 | S51: - | T51: =貼_農業生産関連事業!AP13 -> 2610 | U51: =貼_漁業生産関連事業!AF13 -> 170 | V51: =貼_林業産出額!AW11 -> 1486 | W51: =貼_漁業産出額!DG11 -> 58454
C52: 4 | D52: =貼_たまねぎ!AE18 -> 5020 | E52: =貼_かぼちゃ!AE18 -> 1280 | F52: =貼_スイートコーン!$AE18 -> 1150 | G52: =貼_やまのいも!$AE18 -> 2440 | H52: =貼_にんじん!AF18 -> 4050 | I52: =貼_アスパラガス!AE18 -> 1780 | J52: =貼_ブロッコリー!$AE18 -> 1210 | K52: =貼_だいこん!$AE18 -> 6460 | L52: ='貼_乳(1)'!AN24 -> 37600 | M52: ='貼_肉(1)'!BM20 -> 133200 | N52: ='貼_豚(1)'!AL22 -> 610800 | O52: ='貼_採卵鶏(1)'!AJ20 -> 10036 | P52: =貼_乳製品向け処理量!AB16 -> 42373 | Q52: =貼_海面漁業!CV13 -> 1627 | T52: =貼_農業生産関連事業!AP14 -> 2500 | U52: =貼_漁業生産関連事業!AF14 -> 160 | V52: =貼_林業産出額!AW12 -> 1441 | W52: =貼_漁業産出額!DG12 -> 51064
C53: 5 | D53: =貼_たまねぎ!AE19 -> 4950 | E53: =貼_かぼちゃ!AE22 -> 1190 | F53: =貼_スイートコーン!$AE19 -> 1130 | G53: =貼_やまのいも!$AE19 -> 2300 | H53: =貼_にんじん!AF21 -> 3670 | I53: =貼_アスパラガス!$AE27 -> 341 | J53: =貼_ブロッコリー!AE37 -> 825 | K53: =貼_だいこん!$AE20 -> 4820 | L53: ='貼_乳(1)'!AN25 -> 31000 | M53: ='貼_肉(1)'!BM21 -> 91100 | N53: ='貼_豚(1)'!AL23 -> 580700 | O53: ='貼_採卵鶏(1)'!AJ27 -> 5670 | P53: =貼_乳製品向け処理量!AB17 -> 39954 | Q53: =貼_海面漁業!CV14 -> 1622 | T53: =貼_農業生産関連事業!AP15 -> 2260 | U53: =貼_漁業生産関連事業!AF15 -> 130 | V53: =貼_林業産出額!AW13 -> 1356 | W53: =貼_漁業産出額!DG13 -> 34295
C54: 6 | D54: =貼_たまねぎ!AE20 -> 4580 | F54: =貼_スイートコーン!$AE20 -> 1110 | G54: =貼_やまのいも!$AE20 -> 1660 | H54: =貼_にんじん!AF20 -> 3800 | L54: ='貼_乳(1)'!AN26 -> 25200 | M54: ='貼_肉(1)'!BM22 -> 83500 | N54: ='貼_豚(1)'!AL24 -> 459100 | P54: =貼_乳製品向け処理量!AB18 -> 24673 | Q54: =貼_海面漁業!CV15 -> 1011 | T54: =貼_農業生産関連事業!AP16 -> 2050 | U54: =貼_漁業生産関連事業!AF16 -> 130 | V54: =貼_林業産出額!AW14 -> 1069 | W54: =貼_漁業産出額!DG14 -> 33564
C55: 7 | D55: =貼_たまねぎ!AE21 -> 4580 | F55: =貼_スイートコーン!$AE21 -> 1100 | G55: =貼_やまのいも!$AE21 -> 1320 | H55: =貼_にんじん!AF21 -> 3670 | L55: ='貼_乳(1)'!AN27 -> 22900 | M55: ='貼_肉(1)'!BM23 -> 81800 | N55: ='貼_豚(1)'!AL25 -> 424000 | P55: =貼_乳製品向け処理量!AB19 -> 16725 | Q55: =貼_海面漁業!CV16 -> 899 | T55: =貼_農業生産関連事業!AP17 -> 1800 | U55: =貼_漁業生産関連事業!AF17 -> 120 | V55: =貼_林業産出額!AW15 -> 943 | W55: =貼_漁業産出額!DG15 -> 30928
C56: 順位 | D56: =_xlfn.RANK.EQ(D49,D$49:D$53,0) -> 1 | E56: =_xlfn.RANK.EQ(E49,E$49:E$53,0) -> 1 | F56: =_xlfn.RANK.EQ(F49,F$49:F$53,0) -> 1 | G56: =_xlfn.RANK.EQ(G49,G$49:G$53,0) -> 1 | H56: =_xlfn.RANK.EQ(H49,H$49:H$53,0) -> 1 | I56: =_xlfn.RANK.EQ(I49,I$49:I$53,0) -> 1 | J56: =_xlfn.RANK.EQ(J49,J$49:J$53,0) -> 1 | K56: =_xlfn.RANK.EQ(K49,K$49:K$53,0) -> 1 | ... T56: =_xlfn.RANK.EQ(T49,T$49:T$53,0) -> 1 | U56: =_xlfn.RANK.EQ(U49,U$49:U$54,0) -> 1 | V56: =_xlfn.RANK.EQ(V49,V$49:V$53,0) -> 1 | W56: =_xlfn.RANK.EQ(W49,W$49:W$53,0) -> 1
D57: =_xlfn.RANK.EQ(D50,D$49:D$53,0) -> 2 | E57: =_xlfn.RANK.EQ(E50,E$49:E$53,0) -> 2 | F57: =_xlfn.RANK.EQ(F50,F$49:F$53,0) -> 2 | G57: =_xlfn.RANK.EQ(G50,G$49:G$53,0) -> 2 | H57: =_xlfn.RANK.EQ(H50,H$49:H$53,0) -> 2 | I57: =_xlfn.RANK.EQ(I50,I$49:I$53,0) -> 2 | J57: =_xlfn.RANK.EQ(J50,J$49:J$53,0) -> 2 | K57: =_xlfn.RANK.EQ(K50,K$49:K$53,0) -> 2 | ... T57: =_xlfn.RANK.EQ(T50,T$49:T$53,0) -> 2 | U57: =_xlfn.RANK.EQ(U50,U$49:U$54,0) -> 2 | V57: =_xlfn.RANK.EQ(V50,V$49:V$53,0) -> 2 | W57: =_xlfn.RANK.EQ(W50,W$49:W$53,0) -> 2
D58: =_xlfn.RANK.EQ(D51,D$49:D$53,0) -> 3 | E58: =_xlfn.RANK.EQ(E51,E$49:E$53,0) -> 3 | F58: =_xlfn.RANK.EQ(F51,F$49:F$53,0) -> 3 | G58: =_xlfn.RANK.EQ(G51,G$49:G$53,0) -> 3 | H58: =_xlfn.RANK.EQ(H51,H$49:H$53,0) -> 3 | I58: =_xlfn.RANK.EQ(I51,I$49:I$53,0) -> 3 | J58: =_xlfn.RANK.EQ(J51,J$49:J$53,0) -> 3 | K58: =_xlfn.RANK.EQ(K51,K$49:K$53,0) -> 3 | ... R58: =_xlfn.RANK.EQ(R51,R$49:R$53,0) -> 3 | S58: - | T58: =_xlfn.RANK.EQ(T51,T$49:T$53,0) -> 2 | U58: =_xlfn.RANK.EQ(U51,U$49:U$54,0) -> 3 | V58: =_xlfn.RANK.EQ(V51,V$49:V$53,0) -> 3 | W58: =_xlfn.RANK.EQ(W51,W$49:W$53,0) -> 3
D59: =_xlfn.RANK.EQ(D52,D$49:D$53,0) -> 4 | E59: =_xlfn.RANK.EQ(E52,E$49:E$53,0) -> 4 | F59: =_xlfn.RANK.EQ(F52,F$49:F$53,0) -> 4 | G59: =_xlfn.RANK.EQ(G52,G$49:G$53,0) -> 4 | H59: =_xlfn.RANK.EQ(H52,H$49:H$53,0) -> 4 | I59: =_xlfn.RANK.EQ(I52,I$49:I$53,0) -> 4 | J59: =_xlfn.RANK.EQ(J52,J$49:J$53,0) -> 4 | K59: =_xlfn.RANK.EQ(K52,K$49:K$53,0) -> 4 | ... Q59: =_xlfn.RANK.EQ(Q52,Q$49:Q$53,0) -> 4 | T59: =_xlfn.RANK.EQ(T52,T$49:T$53,0) -> 4 | U59: =_xlfn.RANK.EQ(U52,U$49:U$54,0) -> 4 | V59: =_xlfn.RANK.EQ(V52,V$49:V$53,0) -> 4 | W59: =_xlfn.RANK.EQ(W52,W$49:W$53,0) -> 4
D60: =_xlfn.RANK.EQ(D53,D$49:D$53,0) -> 5 | E60: =貼_かぼちゃ!AC22 -> 8 | F60: =_xlfn.RANK.EQ(F53,F$49:F$53,0) -> 5 | G60: =_xlfn.RANK.EQ(G53,G$49:G$53,0) -> 5 | H60: =貼_にんじん!AD21 -> 7 | I60: =貼_アスパラガス!AC27 -> 13 | J60: =貼_ブロッコリー!AC37 -> 23 | K60: =貼_だいこん!AC20 -> 6 | L60: =_xlfn.RANK.EQ(L53,L$49:L$53,0) -> 5 | M60: =_xlfn.RANK.EQ(M53,M$49:M$53,0) -> 5 | N60: =_xlfn.RANK.EQ(N53,N$49:N$53,0) -> 5 | O60: ='貼_採卵鶏(1)'!AH27 -> 11 | P60: =_xlfn.RANK.EQ(P53,P$49:P$53,0) -> 5 | Q60: =_xlfn.RANK.EQ(Q53,Q$49:Q$53,0) -> 5 | T60: =_xlfn.RANK.EQ(T53,T$49:T$53,0) -> 5 | U60: =_xlfn.RANK.EQ(U53,U$49:U$54,0) -> 5 | V60: =_xlfn.RANK.EQ(V53,V$49:V$53,0) -> 5 | W60: =_xlfn.RANK.EQ(W53,W$49:W$53,0) -> 5
U61: =_xlfn.RANK.EQ(U54,U$49:U$54,0) -> 5
B63: 〈表頭３〉のデータ | C63: 都道府県名 1 | D63: =貼_たまねぎ!$AN15 -> 北海道 | E63: =貼_かぼちゃ!$AN15 -> 北海道 | F63: =貼_スイートコーン!$AN15 -> 北海道 | G63: =貼_やまのいも!$AN15 -> 北海道 | H63: =貼_にんじん!AO15 -> 北海道 | I63: =貼_アスパラガス!AN15 -> 北海道 | J63: =貼_ブロッコリー!$AN15 -> 北海道 | K63: =貼_だいこん!$AN15 -> 千葉 | L63: ='貼_乳(1)'!AW21 -> 三重 | M63: ='貼_肉(1)'!BV17 -> 滋賀 | N63: ='貼_豚(1)'!AU19 -> 島根 | O63: ='貼_採卵鶏(1)'!AS17 -> 青森 | P63: =貼_牛乳生産量!AB13 -> 北海道 | Q63: =貼_海面養殖業!AR11 -> 北海道 | R63: =貼_海面漁業!EE10 -> 北海道 | V63: =貼_林業産出額!BF9 -> 長野 | W63: =貼_漁業産出額!DP9 -> 愛媛
C64: 2 | D64: =貼_たまねぎ!AN16 -> 兵庫 | E64: =貼_かぼちゃ!$AN16 -> 鹿児島 | F64: =貼_スイートコーン!$AN16 -> 千葉 | G64: =貼_やまのいも!$AN16 -> 青森 | H64: =貼_にんじん!AO16 -> 千葉 | I64: =貼_アスパラガス!AN16 -> 熊本 | J64: =貼_ブロッコリー!$AN16 -> 埼玉 | K64: =貼_だいこん!$AN16 -> 北海道 | L64: ='貼_乳(1)'!AW22 -> 北海道 | M64: ='貼_肉(1)'!BV18 -> 北海道 | N64: ='貼_豚(1)'!AU20 -> 青森 | O64: ='貼_採卵鶏(1)'!AS18 -> 岩手 | P64: =貼_牛乳生産量!AB14 -> 神奈川 | Q64: =貼_海面養殖業!AR12 -> 広島 | R64: =貼_海面漁業!EE11 -> 青森 | V64: =貼_林業産出額!BF10 -> 新潟 | W64: =貼_漁業産出額!DP10 -> 鹿児島
C65: 3 | D65: =貼_たまねぎ!AN17 -> 佐賀 | E65: =貼_かぼちゃ!$AN17 -> 長野 | F65: =貼_スイートコーン!$AN17 -> 茨城 | G65: =貼_やまのいも!$AN17 -> 長野 | H65: =貼_にんじん!AO17 -> 徳島 | I65: =貼_アスパラガス!AN17 -> 佐賀 | J65: =貼_ブロッコリー!$AN17 -> 愛知 | K65: =貼_だいこん!$AN17 -> 青森 | L65: ='貼_乳(1)'!AW23 -> 島根 | M65: ='貼_肉(1)'!BV19 -> 三重 | N65: ='貼_豚(1)'!AU21 -> 広島 | O65: ='貼_採卵鶏(1)'!AS19 -> 広島 | P65: =貼_牛乳生産量!AB15 -> 茨城 | Q65: =貼_海面養殖業!AR13 -> 愛媛 | R65: =貼_海面漁業!EE12 -> 岩手 | V65: =貼_林業産出額!BF11 -> 福岡 | W65: =貼_漁業産出額!DP11 -> 長崎
C66: 4 | D66: =貼_たまねぎ!AN18 -> 長崎 | E66: =貼_かぼちゃ!$AN18 -> 茨城 | F66: =貼_スイートコーン!$AN18 -> 群馬 | G66: =貼_やまのいも!$AN18 -> 千葉 | H66: =貼_にんじん!AO18 -> 青森 | I66: =貼_アスパラガス!AN18 -> 栃木 | J66: =貼_ブロッコリー!$AN18 -> 香川 | K66: =貼_だいこん!$AN18 -> 鹿児島 | L66: ='貼_乳(1)'!AW24 -> 大分 | M66: ='貼_肉(1)'!BV20 -> 静岡 | N66: ='貼_豚(1)'!AU22 -> 岩手 | O66: ='貼_採卵鶏(1)'!AS20 -> 岡山 | P66: =貼_牛乳生産量!AB16 -> 千葉 | Q66: =貼_海面養殖業!AR14 -> 宮城 | V66: =貼_林業産出額!BF12 -> 北海道 | W66: =貼_漁業産出額!DP12 -> 北海道
C67: 5 | D67: =貼_たまねぎ!AN19 -> 愛知 | E67: =貼_かぼちゃ!$AN19 -> 長崎 | F67: =貼_スイートコーン!$AN19 -> 山梨 | G67: =貼_やまのいも!$AN19 -> 群馬 | H67: =貼_にんじん!AO19 -> 長崎 | I67: =貼_アスパラガス!AN19 -> 長崎 | J67: =貼_ブロッコリー!$AN19 -> 徳島 | K67: =貼_だいこん!$AN19 -> 神奈川 | L67: ='貼_乳(1)'!AW25 -> 和歌山 | M67: ='貼_肉(1)'!BV21 -> 千葉 | N67: ='貼_豚(1)'!AU27 -> 北海道 | O67: ='貼_採卵鶏(1)'!AS35 -> 北海道 | P67: =貼_牛乳生産量!AB17 -> 栃木 | Q67: =貼_海面養殖業!AR15 -> 兵庫 | V67: =貼_林業産出額!BF13 -> 静岡 | W67: =貼_漁業産出額!DP13 -> 熊本
C70: データ（全国値） | D70: =貼_たまねぎ!$E15 -> 1174000 | E70: =貼_かぼちゃ!$E15 -> 159900 | F70: =貼_スイートコーン!$E15 -> 212400 | G70: =貼_やまのいも!$E15 -> 163700 | H70: =貼_にんじん!F15 -> 567000 | I70: =貼_アスパラガス!E15 -> 24600 | J70: =貼_ブロッコリー!$E15 -> 171400 | K70: =貼_だいこん!$E15 -> 1141000 | L70: ='貼_乳(1)'!Q11 -> 114.4 | M70: ='貼_肉(1)'!AP12 -> 76.3 | N70: ='貼_豚(1)'!N15 -> 2810.9 | O70: ='貼_採卵鶏(1)'!N13 -> 79.1 | P70: =貼_牛乳生産量!E12 -> 3086762 | Q70: =貼_海面養殖業!C11 -> 8012 | R70: =貼_海面漁業!W9 -> 467 | V70: =貼_林業産出額!N55 -> 21981 | W70: =貼_養殖業産出額!D8 -> 573064
C71: 1 | D71: =貼_たまねぎ!$AO15 -> 752500 | E71: =貼_かぼちゃ!$AO15 -> 76300 | F71: =貼_スイートコーン!$AO15 -> 78100 | G71: =貼_やまのいも!$AO15 -> 80800 | H71: =貼_にんじん!AP15 -> 156900 | I71: =貼_アスパラガス!AO15 -> 3510 | J71: =貼_ブロッコリー!$AO15 -> 26600 | K71: =貼_だいこん!$AO15 -> 146800 | L71: ='貼_乳(1)'!AX21 -> 270.8 | M71: ='貼_肉(1)'!BW17 -> 272 | N71: ='貼_豚(1)'!AV19 -> 7840 | O71: ='貼_採卵鶏(1)'!AT17 -> 204.3 | P71: =貼_牛乳生産量!AC13 -> 455199 | Q71: =貼_海面養殖業!AS11 -> 1117 | R71: =貼_海面漁業!EF10 -> 464 | V71: =貼_林業産出額!BG9 -> 5408 | W71: =貼_漁業産出額!DQ9 -> 84881
C72: 2 | D72: =貼_たまねぎ!AO16 -> 97800 | E72: =貼_かぼちゃ!$AO16 -> 7730 | F72: =貼_スイートコーン!$AO16 -> 17800 | G72: =貼_やまのいも!$AO16 -> 49200 | H72: =貼_にんじん!AP16 -> 111800 | I72: =貼_アスパラガス!AO16 -> 2270 | J72: =貼_ブロッコリー!$AO16 -> 15200 | K72: =貼_だいこん!$AO16 -> 127200 | L72: ='貼_乳(1)'!AX22 -> 164.3 | M72: ='貼_肉(1)'!BW18 -> 268.3 | N72: ='貼_豚(1)'!AV20 -> 6975 | O72: ='貼_採卵鶏(1)'!AT18 -> 188.4 | P72: =貼_牛乳生産量!AC14 -> 201593 | Q72: =貼_海面養殖業!AS12 -> 960 | R72: =貼_海面漁業!EF11 -> 1 | V72: =貼_林業産出額!BG10 -> 4573 | W72: =貼_漁業産出額!DQ10 -> 56634
C73: 3 | D73: =貼_たまねぎ!AO17 -> 97600 | E73: =貼_かぼちゃ!$AO17 -> 6650 | F73: =貼_スイートコーン!$AO17 -> 16100 | G73: =貼_やまのいも!$AO17 -> 6340 | H73: =貼_にんじん!AP17 -> 49400 | I73: =貼_アスパラガス!AO17 -> 2250 | J73: =貼_ブロッコリー!$AO17 -> 14300 | K73: =貼_だいこん!$AO17 -> 102900 | L73: ='貼_乳(1)'!AX23 -> 152.2 | M73: ='貼_肉(1)'!BW19 -> 227.6 | N73: ='貼_豚(1)'!AV21 -> 6150 | O73: ='貼_採卵鶏(1)'!AT19 -> 153.3 | P73: =貼_牛乳生産量!AC15 -> 180315 | Q73: =貼_海面養殖業!AS13 -> 677 | R73: =貼_海面漁業!EF12 -> 1 | V73: =貼_林業産出額!BG11 -> 1293 | W73: =貼_漁業産出額!DQ11 -> 52870
C74: 4 | D74: =貼_たまねぎ!AO18 -> 29900 | E74: =貼_かぼちゃ!$AO18 -> 6440 | F74: =貼_スイートコーン!$AO18 -> 13100 | G74: =貼_やまのいも!$AO18 -> 5360 | H74: =貼_にんじん!AP18 -> 35100 | I74: =貼_アスパラガス!AO18 -> 1700 | J74: =貼_ブロッコリー!$AO18 -> 13700 | K74: =貼_だいこん!$AO18 -> 94500 | L74: ='貼_乳(1)'!AX24 -> 126.6 | M74: ='貼_肉(1)'!BW20 -> 197.9 | N74: ='貼_豚(1)'!AV22 -> 5531.3 | O74: ='貼_採卵鶏(1)'!AT20 -> 147.7 | P74: =貼_牛乳生産量!AC16 -> 162425 | Q74: =貼_海面養殖業!AS14 -> 628 | V74: =貼_林業産出額!BG12 -> 767 | W74: =貼_漁業産出額!DQ12 -> 43966
C75: 5 | D75: =貼_たまねぎ!AO19 -> 24300 | E75: =貼_かぼちゃ!$AO19 -> 4520 | F75: =貼_スイートコーン!$AO19 -> 8270 | G75: =貼_やまのいも!$AO19 -> 3890 | H75: =貼_にんじん!AP19 -> 32700 | I75: =貼_アスパラガス!AO19 -> 1640 | J75: =貼_ブロッコリー!$AO19 -> 11900 | K75: =貼_だいこん!$AO19 -> 73000 | L75: ='貼_乳(1)'!AX25 -> 102 | M75: ='貼_肉(1)'!BW21 -> 193.3 | N75: ='貼_豚(1)'!AV27 -> 4044.1 | O75: ='貼_採卵鶏(1)'!AT35 -> 80.8 | P75: =貼_牛乳生産量!AC17 -> 159517 | Q75: =貼_海面養殖業!AS15 -> 609 | V75: =貼_林業産出額!BG13 -> 722 | W75: =貼_漁業産出額!DQ13 -> 38115
C76: 6 | D76: =貼_たまねぎ!AO20 -> 13200 | E76: =貼_かぼちゃ!$AO20 -> 3560 | F76: =貼_スイートコーン!$AO20 -> 8060 | G76: =貼_やまのいも!$AO20 -> 2870 | H76: =貼_にんじん!AP20 -> 27200 | I76: =貼_アスパラガス!AO20 -> 1630 | J76: =貼_ブロッコリー!$AO20 -> 11400 | K76: =貼_だいこん!$AO20 -> 62900 | L76: ='貼_乳(1)'!AX26 -> 99.6 | M76: ='貼_肉(1)'!BW22 -> 164.8 | P76: =貼_牛乳生産量!AC18 -> 130195 | Q76: =貼_海面養殖業!AS16 -> 478 | V76: =貼_林業産出額!BG14 -> 688 | W76: =貼_漁業産出額!DQ14 -> 30312
C77: 7 | D77: =貼_たまねぎ!AO21 -> 11700 | E77: =貼_かぼちゃ!$AO21 -> 3460 | F77: =貼_スイートコーン!$AO21 -> 7280 | G77: =貼_やまのいも!$AO21 -> 2750 | H77: =貼_にんじん!AP21 -> 23500 | I77: =貼_アスパラガス!AO21 -> 1620 | J77: =貼_ブロッコリー!$AO21 -> 10900 | K77: =貼_だいこん!$AO21 -> 48200 | L77: ='貼_乳(1)'!AX27 -> 97 | M77: ='貼_肉(1)'!BW23 -> 152.5 | P77: =貼_牛乳生産量!AC19 -> 129095 | Q77: =貼_海面養殖業!AS17 -> 435 | V77: =貼_林業産出額!BG15 -> 528 | W77: =貼_漁業産出額!DQ15 -> 29953
C78: 順位 | D78: =_xlfn.RANK.EQ(D71,D$71:D$75,0) -> 1 | E78: =_xlfn.RANK.EQ(E71,E$71:E$75,0) -> 1 | F78: =_xlfn.RANK.EQ(F71,F$71:F$75,0) -> 1 | G78: =_xlfn.RANK.EQ(G71,G$71:G$75,0) -> 1 | H78: =_xlfn.RANK.EQ(H71,H$71:H$75,0) -> 1 | I78: =_xlfn.RANK.EQ(I71,I$71:I$75,0) -> 1 | J78: =_xlfn.RANK.EQ(J71,J$71:J$75,0) -> 1 | K78: =_xlfn.RANK.EQ(K71,K$71:K$75,0) -> 1 | ... R78: =_xlfn.RANK.EQ(R71,R$71:R$75,0) -> 1 | V78: =_xlfn.RANK.EQ(V71,V$71:V$75,0) -> 1 | W78: =_xlfn.RANK.EQ(W71,W$71:W$75,0) -> 1
D79: =_xlfn.RANK.EQ(D72,D$71:D$75,0) -> 2 | E79: =_xlfn.RANK.EQ(E72,E$71:E$75,0) -> 2 | F79: =_xlfn.RANK.EQ(F72,F$71:F$75,0) -> 2 | G79: =_xlfn.RANK.EQ(G72,G$71:G$75,0) -> 2 | H79: =_xlfn.RANK.EQ(H72,H$71:H$75,0) -> 2 | I79: =_xlfn.RANK.EQ(I72,I$71:I$75,0) -> 2 | J79: =_xlfn.RANK.EQ(J72,J$71:J$75,0) -> 2 | K79: =_xlfn.RANK.EQ(K72,K$71:K$75,0) -> 2 | ... R79: =_xlfn.RANK.EQ(R72,R$71:R$75,0) -> 2 | V79: =_xlfn.RANK.EQ(V72,V$71:V$75,0) -> 2 | W79: =_xlfn.RANK.EQ(W72,W$71:W$75,0) -> 2
D80: =_xlfn.RANK.EQ(D73,D$71:D$75,0) -> 3 | E80: =_xlfn.RANK.EQ(E73,E$71:E$75,0) -> 3 | F80: =_xlfn.RANK.EQ(F73,F$71:F$75,0) -> 3 | G80: =_xlfn.RANK.EQ(G73,G$71:G$75,0) -> 3 | H80: =_xlfn.RANK.EQ(H73,H$71:H$75,0) -> 3 | I80: =_xlfn.RANK.EQ(I73,I$71:I$75,0) -> 3 | J80: =_xlfn.RANK.EQ(J73,J$71:J$75,0) -> 3 | K80: =_xlfn.RANK.EQ(K73,K$71:K$75,0) -> 3 | ... R80: =_xlfn.RANK.EQ(R73,R$71:R$75,0) -> 2 | V80: =_xlfn.RANK.EQ(V73,V$71:V$75,0) -> 3 | W80: =_xlfn.RANK.EQ(W73,W$71:W$75,0) -> 3
D81: =_xlfn.RANK.EQ(D74,D$71:D$75,0) -> 4 | E81: =_xlfn.RANK.EQ(E74,E$71:E$75,0) -> 4 | F81: =_xlfn.RANK.EQ(F74,F$71:F$75,0) -> 4 | G81: =_xlfn.RANK.EQ(G74,G$71:G$75,0) -> 4 | H81: =_xlfn.RANK.EQ(H74,H$71:H$75,0) -> 4 | I81: =_xlfn.RANK.EQ(I74,I$71:I$75,0) -> 4 | J81: =_xlfn.RANK.EQ(J74,J$71:J$75,0) -> 4 | K81: =_xlfn.RANK.EQ(K74,K$71:K$75,0) -> 4 | ... Q81: =_xlfn.RANK.EQ(Q74,Q$71:Q$75,0) -> 4 | V81: =_xlfn.RANK.EQ(V74,V$71:V$75,0) -> 4 | W81: =_xlfn.RANK.EQ(W74,W$71:W$75,0) -> 4
D82: =_xlfn.RANK.EQ(D75,D$71:D$75,0) -> 5 | E82: =_xlfn.RANK.EQ(E75,E$71:E$75,0) -> 5 | F82: =_xlfn.RANK.EQ(F75,F$71:F$75,0) -> 5 | G82: =_xlfn.RANK.EQ(G75,G$71:G$75,0) -> 5 | H82: =_xlfn.RANK.EQ(H75,H$71:H$75,0) -> 5 | I82: =_xlfn.RANK.EQ(I75,I$71:I$75,0) -> 5 | J82: =_xlfn.RANK.EQ(J75,J$71:J$75,0) -> 5 | K82: =_xlfn.RANK.EQ(K75,K$71:K$75,0) -> 5 | ... M82: =_xlfn.RANK.EQ(M75,M$71:M$75,0) -> 5 | N82: ='貼_豚(1)'!AT27 -> 9 | O82: ='貼_採卵鶏(1)'!AR35 -> 19 | P82: =_xlfn.RANK.EQ(P75,P$71:P$75,0) -> 5 | Q82: =_xlfn.RANK.EQ(Q75,Q$71:Q$75,0) -> 5 | V82: =_xlfn.RANK.EQ(V75,V$71:V$75,0) -> 5 | W82: =_xlfn.RANK.EQ(W75,W$71:W$75,0) -> 5
C85: 注釈 | N85: 注： 令和７年は、2025年農林業センサス実施年のため、豚、採卵鶏等の調査は休止した。 | O85: 注： 令和７年は、2025年農林業センサス実施年のため、豚、採卵鶏等の調査は休止した。 | Q85: 注： 海面漁業・養殖業生産量とは、海面漁業漁獲量と海面養殖業収獲量の合計である。 | R85: 注：１ 上位3位まで掲載した。 | S85: 注：１ 上位3位まで掲載した。 | T85: 注： 農業生産関連事業とは、農業経営体又は農業協同組合等による「農産加工」、 | U85: 注： 漁業生産関連事業とは、漁業経営体又は漁業協同組合等による「水産加工」、 | V85: 注： 都道府県別産出額には、全国値には含まれる木材生産におけるパルプ工場に直接入荷されるパルプ用素材、輸出丸太及び | W85: 注：捕鯨量を除く。
N86: そのため豚、採卵鶏は令和６年２月１日現在の調査結果を掲載している。 | O86: そのため豚、採卵鶏は令和６年２月１日現在の調査結果を掲載している。 | Q86: なお、海面漁業漁獲量と海面養殖業収獲量いずれかで秘匿措置が取られている都道府県については除外した。 | R86: ２ 100ｔ以上の都道府県を表章した。 | S86: ２ 100ｔ以上の都道府県を表章した。 | T86: 「消費者に直接販売」、「観光農園」、「農家民宿」及び「農家レストラン」の | U86: 「消費者に直接販売」、「漁家民宿」及び「漁家レストラン」の漁業生産に関連 | V86: 燃料用チップ素材の産出額、薪炭生産におけるまきの産出額、林野副産物採取における木ろう及び生うるしの産出額を含まない。
T87: 農業生産に関連した事業をいう。 | U87: した事業をいう。 | V87: また、全国値には含まない木材生産における県外移出されたしいたけ原木の産出額を含む。

Sheet 野菜→

Sheet 貼_たまねぎ
A3: ３ 令和５年産都道府県別の作付面積、10ａ当たり収量、収穫量及び出荷量
A5: (25) たまねぎ
C9: 作付面積 | D9: 10ａ当たり 収 量 | E9: 収穫量 | F9: 出荷量 | G9: 対前年産比
A10: 全国農業地域 | K10: (参考)
A11: ・ | G11: 作付面積 | H11: 10ａ当たり 収 量 | I11: 収穫量 | J11: 出荷量 | K11: 対平均 収量比 | N11: たまねぎ(XLOOKUP)
A12: 都 道 府 県
N13: 作付面積 | X13: 10a当たり収量 | AH13: 収穫量
C14: ha | D14: kg | E14: ｔ | F14: ｔ | G14: ％ | H14: ％ | I14: ％ | J14: ％ | K14: ％
A15: 全国 | C15: 25500 | D15: 4600 | E15: 1174000 | F15: 1066000 | G15: 101 | H15: 95 | I15: 96 | J15: 96 | K15: 96 | N15: 1 | O15: 北海道 | P15: =IFERROR(_xlfn.XLOOKUP(O15,$A$29:$A$75,$C$29:$C$75),"-") -> 14900 | Q15: =IFERROR(_xlfn.RANK.EQ(P15,$P$15:$P$61,0)+COUNTIF($P$15:P15,P15)-1,"-") -> 1 | S15: =IFERROR(RANK(U15,$U$15:$U$61,0),"-") -> 1 | T15: =IFERROR(INDEX($O$15:$O$61,MATCH(N15,$Q$15:$Q$61,0)),"-") -> 北海道 | U15: =IFERROR(LARGE($P$15:$P$61,N15),"-") -> 14900 | V15: =IFERROR(ROUND(U15/$C$15*100,1),"-") -> 58.4 | X15: 1 | Y15: 北海道 | Z15: =IFERROR(_xlfn.XLOOKUP(Y15,$A$29:$A$75,$D$29:$D$75),"-") -> 5050 | AA15: =IFERROR(_xlfn.RANK.EQ(Z15,$Z$15:$Z$61,0)+COUNTIF($Z$15:Z15,Z15)-1,"-") -> 3 | AC15: =IFERROR(RANK(AE15,$AE$15:$AE$61,0),"-") -> 1 | AD15: =IFERROR(INDEX($Y$15:$Y$61,MATCH(X15,$AA$15:$AA$61,0)),"-") -> 兵庫 | AE15: =IFERROR(LARGE($Z$15:$Z$61,X15),"-") -> 5930 | AF15: =IFERROR(ROUND(AE15/$D$15*100,1),"-") -> 128.9 | AH15: 1 | AI15: 北海道 | AJ15: =IFERROR(_xlfn.XLOOKUP(AI15,$A$29:$A$75,$E$29:$E$75),"-") -> 752500 | AK15: =IFERROR(_xlfn.RANK.EQ(AJ15,$AJ$15:$AJ$61,0)+COUNTIF($AJ$15:AJ15,AJ15)-1,"-") -> 1 | AM15: =IFERROR(RANK(AO15,$AO$15:$AO$61,0),"-") -> 1 | AN15: =IFERROR(INDEX($AI$15:$AI$61,MATCH(AH15,$AK$15:$AK$61,0)),"-") -> 北海道 | AO15: =IFERROR(LARGE($AJ$15:$AJ$61,AH15),"-") -> 752500 | AP15: =IFERROR(ROUND(AO15/$E$15*100,1),"-") -> 64.1
A16: （全国農業地域） | N16: 2 | O16: 青森 | P16: =IFERROR(_xlfn.XLOOKUP(O16,$A$29:$A$75,$C$29:$C$75),"-") -> … | Q16: =IFERROR(_xlfn.RANK.EQ(P16,$P$15:$P$61,0)+COUNTIF($P$15:P16,P16)-1,"-") -> - | S16: =IFERROR(RANK(U16,$U$15:$U$61,0),"-") -> 2 | T16: =IFERROR(INDEX($O$15:$O$61,MATCH(N16,$Q$15:$Q$61,0)),"-") -> 佐賀 | U16: =IFERROR(LARGE($P$15:$P$61,N16),"-") -> 2130 | V16: =IFERROR(ROUND(U16/$C$15*100,1),"-") -> 8.4 | X16: 2 | Y16: 青森 | Z16: =IFERROR(_xlfn.XLOOKUP(Y16,$A$29:$A$75,$D$29:$D$75),"-") -> … | AA16: =IFERROR(_xlfn.RANK.EQ(Z16,$Z$15:$Z$61,0)+COUNTIF($Z$15:Z16,Z16)-1,"-") -> - | AC16: =IFERROR(RANK(AE16,$AE$15:$AE$61,0),"-") -> 2 | AD16: =IFERROR(INDEX($Y$15:$Y$61,MATCH(X16,$AA$15:$AA$61,0)),"-") -> 愛知 | AE16: =IFERROR(LARGE($Z$15:$Z$61,X16),"-") -> 5190 | AF16: =IFERROR(ROUND(AE16/$D$15*100,1),"-") -> 112.8 | AH16: 2 | AI16: 青森 | AJ16: =IFERROR(_xlfn.XLOOKUP(AI16,$A$29:$A$75,$E$29:$E$75),"-") -> … | AK16: =IFERROR(_xlfn.RANK.EQ(AJ16,$AJ$15:$AJ$61,0)+COUNTIF($AJ$15:AJ16,AJ16)-1,"-") -> - | AM16: =IFERROR(RANK(AO16,$AO$15:$AO$61,0),"-") -> 2 | AN16: =IFERROR(INDEX($AI$15:$AI$61,MATCH(AH16,$AK$15:$AK$61,0)),"-") -> 兵庫 | AO16: =IFERROR(LARGE($AJ$15:$AJ$61,AH16),"-") -> 97800 | AP16: =IFERROR(ROUND(AO16/$E$15*100,1),"-") -> 8.3
A17: 北海道 | C17: 14900 | D17: 5050 | E17: 752500 | F17: 706600 | G17: 101 | H17: 91 | I17: 91 | J17: 91 | K17: 91 | N17: 3 | O17: 岩手 | P17: =IFERROR(_xlfn.XLOOKUP(O17,$A$29:$A$75,$C$29:$C$75),"-") -> … | Q17: =IFERROR(_xlfn.RANK.EQ(P17,$P$15:$P$61,0)+COUNTIF($P$15:P17,P17)-1,"-") -> - | S17: =IFERROR(RANK(U17,$U$15:$U$61,0),"-") -> 3 | T17: =IFERROR(INDEX($O$15:$O$61,MATCH(N17,$Q$15:$Q$61,0)),"-") -> 兵庫 | U17: =IFERROR(LARGE($P$15:$P$61,N17),"-") -> 1650 | V17: =IFERROR(ROUND(U17/$C$15*100,1),"-") -> 6.5 | X17: 3 | Y17: 岩手 | Z17: =IFERROR(_xlfn.XLOOKUP(Y17,$A$29:$A$75,$D$29:$D$75),"-") -> … | AA17: =IFERROR(_xlfn.RANK.EQ(Z17,$Z$15:$Z$61,0)+COUNTIF($Z$15:Z17,Z17)-1,"-") -> - | AC17: =IFERROR(RANK(AE17,$AE$15:$AE$61,0),"-") -> 3 | AD17: =IFERROR(INDEX($Y$15:$Y$61,MATCH(X17,$AA$15:$AA$61,0)),"-") -> 北海道 | AE17: =IFERROR(LARGE($Z$15:$Z$61,X17),"-") -> 5050 | AF17: =IFERROR(ROUND(AE17/$D$15*100,1),"-") -> 109.8 | AH17: 3 | AI17: 岩手 | AJ17: =IFERROR(_xlfn.XLOOKUP(AI17,$A$29:$A$75,$E$29:$E$75),"-") -> … | AK17: =IFERROR(_xlfn.RANK.EQ(AJ17,$AJ$15:$AJ$61,0)+COUNTIF($AJ$15:AJ17,AJ17)-1,"-") -> - | AM17: =IFERROR(RANK(AO17,$AO$15:$AO$61,0),"-") -> 3 | AN17: =IFERROR(INDEX($AI$15:$AI$61,MATCH(AH17,$AK$15:$AK$61,0)),"-") -> 佐賀 | AO17: =IFERROR(LARGE($AJ$15:$AJ$61,AH17),"-") -> 97600 | AP17: =IFERROR(ROUND(AO17/$E$15*100,1),"-") -> 8.3
A18: 都府県 | C18: … | D18: … | E18: … | F18: … | G18: nc | H18: nc | I18: nc | J18: nc | K18: nc | N18: 4 | O18: 宮城 | P18: =IFERROR(_xlfn.XLOOKUP(O18,$A$29:$A$75,$C$29:$C$75),"-") -> … | Q18: =IFERROR(_xlfn.RANK.EQ(P18,$P$15:$P$61,0)+COUNTIF($P$15:P18,P18)-1,"-") -> - | S18: =IFERROR(RANK(U18,$U$15:$U$61,0),"-") -> 4 | T18: =IFERROR(INDEX($O$15:$O$61,MATCH(N18,$Q$15:$Q$61,0)),"-") -> 長崎 | U18: =IFERROR(LARGE($P$15:$P$61,N18),"-") -> 762 | V18: =IFERROR(ROUND(U18/$C$15*100,1),"-") -> 3 | X18: 4 | Y18: 宮城 | Z18: =IFERROR(_xlfn.XLOOKUP(Y18,$A$29:$A$75,$D$29:$D$75),"-") -> … | AA18: =IFERROR(_xlfn.RANK.EQ(Z18,$Z$15:$Z$61,0)+COUNTIF($Z$15:Z18,Z18)-1,"-") -> - | AC18: =IFERROR(RANK(AE18,$AE$15:$AE$61,0),"-") -> 4 | AD18: =IFERROR(INDEX($Y$15:$Y$61,MATCH(X18,$AA$15:$AA$61,0)),"-") -> 香川 | AE18: =IFERROR(LARGE($Z$15:$Z$61,X18),"-") -> 5020 | AF18: =IFERROR(ROUND(AE18/$D$15*100,1),"-") -> 109.1 | AH18: 4 | AI18: 宮城 | AJ18: =IFERROR(_xlfn.XLOOKUP(AI18,$A$29:$A$75,$E$29:$E$75),"-") -> … | AK18: =IFERROR(_xlfn.RANK.EQ(AJ18,$AJ$15:$AJ$61,0)+COUNTIF($AJ$15:AJ18,AJ18)-1,"-") -> - | AM18: =IFERROR(RANK(AO18,$AO$15:$AO$61,0),"-") -> 4 | AN18: =IFERROR(INDEX($AI$15:$AI$61,MATCH(AH18,$AK$15:$AK$61,0)),"-") -> 長崎 | AO18: =IFERROR(LARGE($AJ$15:$AJ$61,AH18),"-") -> 29900 | AP18: =IFERROR(ROUND(AO18/$E$15*100,1),"-") -> 2.5
A19: 東北 | C19: … | D19: … | E19: … | F19: … | G19: nc | H19: nc | I19: nc | J19: nc | K19: nc | N19: 5 | O19: 秋田 | P19: =IFERROR(_xlfn.XLOOKUP(O19,$A$29:$A$75,$C$29:$C$75),"-") -> … | Q19: =IFERROR(_xlfn.RANK.EQ(P19,$P$15:$P$61,0)+COUNTIF($P$15:P19,P19)-1,"-") -> - | S19: =IFERROR(RANK(U19,$U$15:$U$61,0),"-") -> 5 | T19: =IFERROR(INDEX($O$15:$O$61,MATCH(N19,$Q$15:$Q$61,0)),"-") -> 愛知 | U19: =IFERROR(LARGE($P$15:$P$61,N19),"-") -> 468 | V19: =IFERROR(ROUND(U19/$C$15*100,1),"-") -> 1.8 | X19: 5 | Y19: 秋田 | Z19: =IFERROR(_xlfn.XLOOKUP(Y19,$A$29:$A$75,$D$29:$D$75),"-") -> … | AA19: =IFERROR(_xlfn.RANK.EQ(Z19,$Z$15:$Z$61,0)+COUNTIF($Z$15:Z19,Z19)-1,"-") -> - | AC19: =IFERROR(RANK(AE19,$AE$15:$AE$61,0),"-") -> 5 | AD19: =IFERROR(INDEX($Y$15:$Y$61,MATCH(X19,$AA$15:$AA$61,0)),"-") -> 富山 | AE19: =IFERROR(LARGE($Z$15:$Z$61,X19),"-") -> 4950 | AF19: =IFERROR(ROUND(AE19/$D$15*100,1),"-") -> 107.6 | AH19: 5 | AI19: 秋田 | AJ19: =IFERROR(_xlfn.XLOOKUP(AI19,$A$29:$A$75,$E$29:$E$75),"-") -> … | AK19: =IFERROR(_xlfn.RANK.EQ(AJ19,$AJ$15:$AJ$61,0)+COUNTIF($AJ$15:AJ19,AJ19)-1,"-") -> - | AM19: =IFERROR(RANK(AO19,$AO$15:$AO$61,0),"-") -> 5 | AN19: =IFERROR(INDEX($AI$15:$AI$61,MATCH(AH19,$AK$15:$AK$61,0)),"-") -> 愛知 | AO19: =IFERROR(LARGE($AJ$15:$AJ$61,AH19),"-") -> 24300 | AP19: =IFERROR(ROUND(AO19/$E$15*100,1),"-") -> 2.1
A20: 北陸 | C20: … | D20: … | E20: … | F20: … | G20: nc | H20: nc | I20: nc | J20: nc | K20: nc | N20: 6 | O20: 山形 | P20: =IFERROR(_xlfn.XLOOKUP(O20,$A$29:$A$75,$C$29:$C$75),"-") -> … | Q20: =IFERROR(_xlfn.RANK.EQ(P20,$P$15:$P$61,0)+COUNTIF($P$15:P20,P20)-1,"-") -> - | S20: =IFERROR(RANK(U20,$U$15:$U$61,0),"-") -> 6 | T20: =IFERROR(INDEX($O$15:$O$61,MATCH(N20,$Q$15:$Q$61,0)),"-") -> 静岡 | U20: =IFERROR(LARGE($P$15:$P$61,N20),"-") -> 324 | V20: =IFERROR(ROUND(U20/$C$15*100,1),"-") -> 1.3 | X20: 6 | Y20: 山形 | Z20: =IFERROR(_xlfn.XLOOKUP(Y20,$A$29:$A$75,$D$29:$D$75),"-") -> … | AA20: =IFERROR(_xlfn.RANK.EQ(Z20,$Z$15:$Z$61,0)+COUNTIF($Z$15:Z20,Z20)-1,"-") -> - | AC20: =IFERROR(RANK(AE20,$AE$15:$AE$61,0),"-") -> 6 | AD20: =IFERROR(INDEX($Y$15:$Y$61,MATCH(X20,$AA$15:$AA$61,0)),"-") -> 栃木 | AE20: =IFERROR(LARGE($Z$15:$Z$61,X20),"-") -> 4580 | AF20: =IFERROR(ROUND(AE20/$D$15*100,1),"-") -> 99.6 | AH20: 6 | AI20: 山形 | AJ20: =IFERROR(_xlfn.XLOOKUP(AI20,$A$29:$A$75,$E$29:$E$75),"-") -> … | AK20: =IFERROR(_xlfn.RANK.EQ(AJ20,$AJ$15:$AJ$61,0)+COUNTIF($AJ$15:AJ20,AJ20)-1,"-") -> - | AM20: =IFERROR(RANK(AO20,$AO$15:$AO$61,0),"-") -> 6 | AN20: =IFERROR(INDEX($AI$15:$AI$61,MATCH(AH20,$AK$15:$AK$61,0)),"-") -> 静岡 | AO20: =IFERROR(LARGE($AJ$15:$AJ$61,AH20),"-") -> 13200 | AP20: =IFERROR(ROUND(AO20/$E$15*100,1),"-") -> 1.1
A21: 関東・東山 | C21: … | D21: … | E21: … | F21: … | G21: nc | H21: nc | I21: nc | J21: nc | K21: nc | N21: 7 | O21: 福島 | P21: =IFERROR(_xlfn.XLOOKUP(O21,$A$29:$A$75,$C$29:$C$75),"-") -> 170 | Q21: =IFERROR(_xlfn.RANK.EQ(P21,$P$15:$P$61,0)+COUNTIF($P$15:P21,P21)-1,"-") -> 15 | S21: =IFERROR(RANK(U21,$U$15:$U$61,0),"-") -> 7 | T21: =IFERROR(INDEX($O$15:$O$61,MATCH(N21,$Q$15:$Q$61,0)),"-") -> 熊本 | U21: =IFERROR(LARGE($P$15:$P$61,N21),"-") -> 305 | V21: =IFERROR(ROUND(U21/$C$15*100,1),"-") -> 1.2 | X21: 7 | Y21: 福島 | Z21: =IFERROR(_xlfn.XLOOKUP(Y21,$A$29:$A$75,$D$29:$D$75),"-") -> 1730 | AA21: =IFERROR(_xlfn.RANK.EQ(Z21,$Z$15:$Z$61,0)+COUNTIF($Z$15:Z21,Z21)-1,"-") -> 25 | AC21: =IFERROR(RANK(AE21,$AE$15:$AE$61,0),"-") -> 6 | AD21: =IFERROR(INDEX($Y$15:$Y$61,MATCH(X21,$AA$15:$AA$61,0)),"-") -> 佐賀 | AE21: =IFERROR(LARGE($Z$15:$Z$61,X21),"-") -> 4580 | AF21: =IFERROR(ROUND(AE21/$D$15*100,1),"-") -> 99.6 | AH21: 7 | AI21: 福島 | AJ21: =IFERROR(_xlfn.XLOOKUP(AI21,$A$29:$A$75,$E$29:$E$75),"-") -> 2940 | AK21: =IFERROR(_xlfn.RANK.EQ(AJ21,$AJ$15:$AJ$61,0)+COUNTIF($AJ$15:AJ21,AJ21)-1,"-") -> 24 | AM21: =IFERROR(RANK(AO21,$AO$15:$AO$61,0),"-") -> 7 | AN21: =IFERROR(INDEX($AI$15:$AI$61,MATCH(AH21,$AK$15:$AK$61,0)),"-") -> 熊本 | AO21: =IFERROR(LARGE($AJ$15:$AJ$61,AH21),"-") -> 11700 | AP21: =IFERROR(ROUND(AO21/$E$15*100,1),"-") -> 1
A22: 東海 | C22: 1010 | D22: 4260 | E22: 43000 | F22: 37000 | G22: 99 | H22: 101 | I22: 100 | J22: 101 | K22: 102 | N22: 8 | O22: 茨城 | P22: =IFERROR(_xlfn.XLOOKUP(O22,$A$29:$A$75,$C$29:$C$75),"-") -> 175 | Q22: =IFERROR(_xlfn.RANK.EQ(P22,$P$15:$P$61,0)+COUNTIF($P$15:P22,P22)-1,"-") -> 13 | S22: =IFERROR(RANK(U22,$U$15:$U$61,0),"-") -> 8 | T22: =IFERROR(INDEX($O$15:$O$61,MATCH(N22,$Q$15:$Q$61,0)),"-") -> 栃木 | U22: =IFERROR(LARGE($P$15:$P$61,N22),"-") -> 230 | V22: =IFERROR(ROUND(U22/$C$15*100,1),"-") -> 0.9 | X22: 8 | Y22: 茨城 | Z22: =IFERROR(_xlfn.XLOOKUP(Y22,$A$29:$A$75,$D$29:$D$75),"-") -> 3260 | AA22: =IFERROR(_xlfn.RANK.EQ(Z22,$Z$15:$Z$61,0)+COUNTIF($Z$15:Z22,Z22)-1,"-") -> 18 | AC22: =IFERROR(RANK(AE22,$AE$15:$AE$61,0),"-") -> 8 | AD22: =IFERROR(INDEX($Y$15:$Y$61,MATCH(X22,$AA$15:$AA$61,0)),"-") -> 和歌山 | AE22: =IFERROR(LARGE($Z$15:$Z$61,X22),"-") -> 4460 | AF22: =IFERROR(ROUND(AE22/$D$15*100,1),"-") -> 97 | AH22: 8 | AI22: 茨城 | AJ22: =IFERROR(_xlfn.XLOOKUP(AI22,$A$29:$A$75,$E$29:$E$75),"-") -> 5710 | AK22: =IFERROR(_xlfn.RANK.EQ(AJ22,$AJ$15:$AJ$61,0)+COUNTIF($AJ$15:AJ22,AJ22)-1,"-") -> 15 | AM22: =IFERROR(RANK(AO22,$AO$15:$AO$61,0),"-") -> 8 | AN22: =IFERROR(INDEX($AI$15:$AI$61,MATCH(AH22,$AK$15:$AK$61,0)),"-") -> 栃木 | AO22: =IFERROR(LARGE($AJ$15:$AJ$61,AH22),"-") -> 10500 | AP22: =IFERROR(ROUND(AO22/$E$15*100,1),"-") -> 0.9
A23: 近畿 | C23: … | D23: … | E23: … | F23: … | G23: nc | H23: nc | I23: nc | J23: nc | K23: nc | N23: 9 | O23: 栃木 | P23: =IFERROR(_xlfn.XLOOKUP(O23,$A$29:$A$75,$C$29:$C$75),"-") -> 230 | Q23: =IFERROR(_xlfn.RANK.EQ(P23,$P$15:$P$61,0)+COUNTIF($P$15:P23,P23)-1,"-") -> 8 | S23: =IFERROR(RANK(U23,$U$15:$U$61,0),"-") -> 9 | T23: =IFERROR(INDEX($O$15:$O$61,MATCH(N23,$Q$15:$Q$61,0)),"-") -> 愛媛 | U23: =IFERROR(LARGE($P$15:$P$61,N23),"-") -> 215 | V23: =IFERROR(ROUND(U23/$C$15*100,1),"-") -> 0.8 | X23: 9 | Y23: 栃木 | Z23: =IFERROR(_xlfn.XLOOKUP(Y23,$A$29:$A$75,$D$29:$D$75),"-") -> 4580 | AA23: =IFERROR(_xlfn.RANK.EQ(Z23,$Z$15:$Z$61,0)+COUNTIF($Z$15:Z23,Z23)-1,"-") -> 6 | AC23: =IFERROR(RANK(AE23,$AE$15:$AE$61,0),"-") -> 9 | AD23: =IFERROR(INDEX($Y$15:$Y$61,MATCH(X23,$AA$15:$AA$61,0)),"-") -> 群馬 | AE23: =IFERROR(LARGE($Z$15:$Z$61,X23),"-") -> 4250 | AF23: =IFERROR(ROUND(AE23/$D$15*100,1),"-") -> 92.4 | AH23: 9 | AI23: 栃木 | AJ23: =IFERROR(_xlfn.XLOOKUP(AI23,$A$29:$A$75,$E$29:$E$75),"-") -> 10500 | AK23: =IFERROR(_xlfn.RANK.EQ(AJ23,$AJ$15:$AJ$61,0)+COUNTIF($AJ$15:AJ23,AJ23)-1,"-") -> 8 | AM23: =IFERROR(RANK(AO23,$AO$15:$AO$61,0),"-") -> 9 | AN23: =IFERROR(INDEX($AI$15:$AI$61,MATCH(AH23,$AK$15:$AK$61,0)),"-") -> 香川 | AO23: =IFERROR(LARGE($AJ$15:$AJ$61,AH23),"-") -> 9540 | AP23: =IFERROR(ROUND(AO23/$E$15*100,1),"-") -> 0.8
A24: 中国 | C24: … | D24: … | E24: … | F24: … | G24: nc | H24: nc | I24: nc | J24: nc | K24: nc | N24: 10 | O24: 群馬 | P24: =IFERROR(_xlfn.XLOOKUP(O24,$A$29:$A$75,$C$29:$C$75),"-") -> 187 | Q24: =IFERROR(_xlfn.RANK.EQ(P24,$P$15:$P$61,0)+COUNTIF($P$15:P24,P24)-1,"-") -> 12 | S24: =IFERROR(RANK(U24,$U$15:$U$61,0),"-") -> 10 | T24: =IFERROR(INDEX($O$15:$O$61,MATCH(N24,$Q$15:$Q$61,0)),"-") -> 香川 | U24: =IFERROR(LARGE($P$15:$P$61,N24),"-") -> 190 | V24: =IFERROR(ROUND(U24/$C$15*100,1),"-") -> 0.7 | X24: 10 | Y24: 群馬 | Z24: =IFERROR(_xlfn.XLOOKUP(Y24,$A$29:$A$75,$D$29:$D$75),"-") -> 4250 | AA24: =IFERROR(_xlfn.RANK.EQ(Z24,$Z$15:$Z$61,0)+COUNTIF($Z$15:Z24,Z24)-1,"-") -> 9 | AC24: =IFERROR(RANK(AE24,$AE$15:$AE$61,0),"-") -> 10 | AD24: =IFERROR(INDEX($Y$15:$Y$61,MATCH(X24,$AA$15:$AA$61,0)),"-") -> 静岡 | AE24: =IFERROR(LARGE($Z$15:$Z$61,X24),"-") -> 4080 | AF24: =IFERROR(ROUND(AE24/$D$15*100,1),"-") -> 88.7 | AH24: 10 | AI24: 群馬 | AJ24: =IFERROR(_xlfn.XLOOKUP(AI24,$A$29:$A$75,$E$29:$E$75),"-") -> 7950 | AK24: =IFERROR(_xlfn.RANK.EQ(AJ24,$AJ$15:$AJ$61,0)+COUNTIF($AJ$15:AJ24,AJ24)-1,"-") -> 11 | AM24: =IFERROR(RANK(AO24,$AO$15:$AO$61,0),"-") -> 10 | AN24: =IFERROR(INDEX($AI$15:$AI$61,MATCH(AH24,$AK$15:$AK$61,0)),"-") -> 富山 | AO24: =IFERROR(LARGE($AJ$15:$AJ$61,AH24),"-") -> 9360 | AP24: =IFERROR(ROUND(AO24/$E$15*100,1),"-") -> 0.8
A25: 四国 | C25: … | D25: … | E25: … | F25: … | G25: nc | H25: nc | I25: nc | J25: nc | K25: nc | N25: 11 | O25: 埼玉 | P25: =IFERROR(_xlfn.XLOOKUP(O25,$A$29:$A$75,$C$29:$C$75),"-") -> 141 | Q25: =IFERROR(_xlfn.RANK.EQ(P25,$P$15:$P$61,0)+COUNTIF($P$15:P25,P25)-1,"-") -> 20 | S25: =IFERROR(RANK(U25,$U$15:$U$61,0),"-") -> 11 | T25: =IFERROR(INDEX($O$15:$O$61,MATCH(N25,$Q$15:$Q$61,0)),"-") -> 富山 | U25: =IFERROR(LARGE($P$15:$P$61,N25),"-") -> 189 | V25: =IFERROR(ROUND(U25/$C$15*100,1),"-") -> 0.7 | X25: 11 | Y25: 埼玉 | Z25: =IFERROR(_xlfn.XLOOKUP(Y25,$A$29:$A$75,$D$29:$D$75),"-") -> 3460 | AA25: =IFERROR(_xlfn.RANK.EQ(Z25,$Z$15:$Z$61,0)+COUNTIF($Z$15:Z25,Z25)-1,"-") -> 15 | AC25: =IFERROR(RANK(AE25,$AE$15:$AE$61,0),"-") -> 11 | AD25: =IFERROR(INDEX($Y$15:$Y$61,MATCH(X25,$AA$15:$AA$61,0)),"-") -> 長崎 | AE25: =IFERROR(LARGE($Z$15:$Z$61,X25),"-") -> 3930 | AF25: =IFERROR(ROUND(AE25/$D$15*100,1),"-") -> 85.4 | AH25: 11 | AI25: 埼玉 | AJ25: =IFERROR(_xlfn.XLOOKUP(AI25,$A$29:$A$75,$E$29:$E$75),"-") -> 4880 | AK25: =IFERROR(_xlfn.RANK.EQ(AJ25,$AJ$15:$AJ$61,0)+COUNTIF($AJ$15:AJ25,AJ25)-1,"-") -> 17 | AM25: =IFERROR(RANK(AO25,$AO$15:$AO$61,0),"-") -> 11 | AN25: =IFERROR(INDEX($AI$15:$AI$61,MATCH(AH25,$AK$15:$AK$61,0)),"-") -> 群馬 | AO25: =IFERROR(LARGE($AJ$15:$AJ$61,AH25),"-") -> 7950 | AP25: =IFERROR(ROUND(AO25/$E$15*100,1),"-") -> 0.7
A26: 九州 | C26: … | D26: … | E26: … | F26: … | G26: nc | H26: nc | I26: nc | J26: nc | K26: nc | N26: 12 | O26: 千葉 | P26: =IFERROR(_xlfn.XLOOKUP(O26,$A$29:$A$75,$C$29:$C$75),"-") -> 168 | Q26: =IFERROR(_xlfn.RANK.EQ(P26,$P$15:$P$61,0)+COUNTIF($P$15:P26,P26)-1,"-") -> 16 | S26: =IFERROR(RANK(U26,$U$15:$U$61,0),"-") -> 12 | T26: =IFERROR(INDEX($O$15:$O$61,MATCH(N26,$Q$15:$Q$61,0)),"-") -> 群馬 | U26: =IFERROR(LARGE($P$15:$P$61,N26),"-") -> 187 | V26: =IFERROR(ROUND(U26/$C$15*100,1),"-") -> 0.7 | X26: 12 | Y26: 千葉 | Z26: =IFERROR(_xlfn.XLOOKUP(Y26,$A$29:$A$75,$D$29:$D$75),"-") -> 3420 | AA26: =IFERROR(_xlfn.RANK.EQ(Z26,$Z$15:$Z$61,0)+COUNTIF($Z$15:Z26,Z26)-1,"-") -> 16 | AC26: =IFERROR(RANK(AE26,$AE$15:$AE$61,0),"-") -> 12 | AD26: =IFERROR(INDEX($Y$15:$Y$61,MATCH(X26,$AA$15:$AA$61,0)),"-") -> 熊本 | AE26: =IFERROR(LARGE($Z$15:$Z$61,X26),"-") -> 3850 | AF26: =IFERROR(ROUND(AE26/$D$15*100,1),"-") -> 83.7 | AH26: 12 | AI26: 千葉 | AJ26: =IFERROR(_xlfn.XLOOKUP(AI26,$A$29:$A$75,$E$29:$E$75),"-") -> 5750 | AK26: =IFERROR(_xlfn.RANK.EQ(AJ26,$AJ$15:$AJ$61,0)+COUNTIF($AJ$15:AJ26,AJ26)-1,"-") -> 14 | AM26: =IFERROR(RANK(AO26,$AO$15:$AO$61,0),"-") -> 12 | AN26: =IFERROR(INDEX($AI$15:$AI$61,MATCH(AH26,$AK$15:$AK$61,0)),"-") -> 愛媛 | AO26: =IFERROR(LARGE($AJ$15:$AJ$61,AH26),"-") -> 7160 | AP26: =IFERROR(ROUND(AO26/$E$15*100,1),"-") -> 0.6
A27: 沖縄 | C27: … | D27: … | E27: … | F27: … | G27: nc | H27: nc | I27: nc | J27: nc | K27: nc | N27: 13 | O27: 東京 | P27: =IFERROR(_xlfn.XLOOKUP(O27,$A$29:$A$75,$C$29:$C$75),"-") -> … | Q27: =IFERROR(_xlfn.RANK.EQ(P27,$P$15:$P$61,0)+COUNTIF($P$15:P27,P27)-1,"-") -> - | S27: =IFERROR(RANK(U27,$U$15:$U$61,0),"-") -> 13 | T27: =IFERROR(INDEX($O$15:$O$61,MATCH(N27,$Q$15:$Q$61,0)),"-") -> 茨城 | U27: =IFERROR(LARGE($P$15:$P$61,N27),"-") -> 175 | V27: =IFERROR(ROUND(U27/$C$15*100,1),"-") -> 0.7 | X27: 13 | Y27: 東京 | Z27: =IFERROR(_xlfn.XLOOKUP(Y27,$A$29:$A$75,$D$29:$D$75),"-") -> … | AA27: =IFERROR(_xlfn.RANK.EQ(Z27,$Z$15:$Z$61,0)+COUNTIF($Z$15:Z27,Z27)-1,"-") -> - | AC27: =IFERROR(RANK(AE27,$AE$15:$AE$61,0),"-") -> 13 | AD27: =IFERROR(INDEX($Y$15:$Y$61,MATCH(X27,$AA$15:$AA$61,0)),"-") -> 大阪 | AE27: =IFERROR(LARGE($Z$15:$Z$61,X27),"-") -> 3630 | AF27: =IFERROR(ROUND(AE27/$D$15*100,1),"-") -> 78.9 | AH27: 13 | AI27: 東京 | AJ27: =IFERROR(_xlfn.XLOOKUP(AI27,$A$29:$A$75,$E$29:$E$75),"-") -> … | AK27: =IFERROR(_xlfn.RANK.EQ(AJ27,$AJ$15:$AJ$61,0)+COUNTIF($AJ$15:AJ27,AJ27)-1,"-") -> - | AM27: =IFERROR(RANK(AO27,$AO$15:$AO$61,0),"-") -> 13 | AN27: =IFERROR(INDEX($AI$15:$AI$61,MATCH(AH27,$AK$15:$AK$61,0)),"-") -> 岡山 | AO27: =IFERROR(LARGE($AJ$15:$AJ$61,AH27),"-") -> 6120 | AP27: =IFERROR(ROUND(AO27/$E$15*100,1),"-") -> 0.5
A28: （都道府県） | N28: 14 | O28: 神奈川 | P28: =IFERROR(_xlfn.XLOOKUP(O28,$A$29:$A$75,$C$29:$C$75),"-") -> … | Q28: =IFERROR(_xlfn.RANK.EQ(P28,$P$15:$P$61,0)+COUNTIF($P$15:P28,P28)-1,"-") -> - | S28: =IFERROR(RANK(U28,$U$15:$U$61,0),"-") -> 14 | T28: =IFERROR(INDEX($O$15:$O$61,MATCH(N28,$Q$15:$Q$61,0)),"-") -> 岡山 | U28: =IFERROR(LARGE($P$15:$P$61,N28),"-") -> 174 | V28: =IFERROR(ROUND(U28/$C$15*100,1),"-") -> 0.7 | X28: 14 | Y28: 神奈川 | Z28: =IFERROR(_xlfn.XLOOKUP(Y28,$A$29:$A$75,$D$29:$D$75),"-") -> … | AA28: =IFERROR(_xlfn.RANK.EQ(Z28,$Z$15:$Z$61,0)+COUNTIF($Z$15:Z28,Z28)-1,"-") -> - | AC28: =IFERROR(RANK(AE28,$AE$15:$AE$61,0),"-") -> 14 | AD28: =IFERROR(INDEX($Y$15:$Y$61,MATCH(X28,$AA$15:$AA$61,0)),"-") -> 岡山 | AE28: =IFERROR(LARGE($Z$15:$Z$61,X28),"-") -> 3520 | AF28: =IFERROR(ROUND(AE28/$D$15*100,1),"-") -> 76.5 | AH28: 14 | AI28: 神奈川 | AJ28: =IFERROR(_xlfn.XLOOKUP(AI28,$A$29:$A$75,$E$29:$E$75),"-") -> … | AK28: =IFERROR(_xlfn.RANK.EQ(AJ28,$AJ$15:$AJ$61,0)+COUNTIF($AJ$15:AJ28,AJ28)-1,"-") -> - | AM28: =IFERROR(RANK(AO28,$AO$15:$AO$61,0),"-") -> 14 | AN28: =IFERROR(INDEX($AI$15:$AI$61,MATCH(AH28,$AK$15:$AK$61,0)),"-") -> 千葉 | AO28: =IFERROR(LARGE($AJ$15:$AJ$61,AH28),"-") -> 5750 | AP28: =IFERROR(ROUND(AO28/$E$15*100,1),"-") -> 0.5
A29: 北海道 | C29: 14900 | D29: 5050 | E29: 752500 | F29: 706600 | G29: 101 | H29: 91 | I29: 91 | J29: 91 | K29: 91 | N29: 15 | O29: 新潟 | P29: =IFERROR(_xlfn.XLOOKUP(O29,$A$29:$A$75,$C$29:$C$75),"-") -> … | Q29: =IFERROR(_xlfn.RANK.EQ(P29,$P$15:$P$61,0)+COUNTIF($P$15:P29,P29)-1,"-") -> - | S29: =IFERROR(RANK(U29,$U$15:$U$61,0),"-") -> 15 | T29: =IFERROR(INDEX($O$15:$O$61,MATCH(N29,$Q$15:$Q$61,0)),"-") -> 福島 | U29: =IFERROR(LARGE($P$15:$P$61,N29),"-") -> 170 | V29: =IFERROR(ROUND(U29/$C$15*100,1),"-") -> 0.7 | X29: 15 | Y29: 新潟 | Z29: =IFERROR(_xlfn.XLOOKUP(Y29,$A$29:$A$75,$D$29:$D$75),"-") -> … | AA29: =IFERROR(_xlfn.RANK.EQ(Z29,$Z$15:$Z$61,0)+COUNTIF($Z$15:Z29,Z29)-1,"-") -> - | AC29: =IFERROR(RANK(AE29,$AE$15:$AE$61,0),"-") -> 15 | AD29: =IFERROR(INDEX($Y$15:$Y$61,MATCH(X29,$AA$15:$AA$61,0)),"-") -> 埼玉 | AE29: =IFERROR(LARGE($Z$15:$Z$61,X29),"-") -> 3460 | AF29: =IFERROR(ROUND(AE29/$D$15*100,1),"-") -> 75.2 | AH29: 15 | AI29: 新潟 | AJ29: =IFERROR(_xlfn.XLOOKUP(AI29,$A$29:$A$75,$E$29:$E$75),"-") -> … | AK29: =IFERROR(_xlfn.RANK.EQ(AJ29,$AJ$15:$AJ$61,0)+COUNTIF($AJ$15:AJ29,AJ29)-1,"-") -> - | AM29: =IFERROR(RANK(AO29,$AO$15:$AO$61,0),"-") -> 15 | AN29: =IFERROR(INDEX($AI$15:$AI$61,MATCH(AH29,$AK$15:$AK$61,0)),"-") -> 茨城 | AO29: =IFERROR(LARGE($AJ$15:$AJ$61,AH29),"-") -> 5710 | AP29: =IFERROR(ROUND(AO29/$E$15*100,1),"-") -> 0.5
A30: 青森 | C30: … | D30: … | E30: … | F30: … | G30: nc | H30: nc | I30: nc | J30: nc | K30: nc | N30: 16 | O30: 富山 | P30: =IFERROR(_xlfn.XLOOKUP(O30,$A$29:$A$75,$C$29:$C$75),"-") -> 189 | Q30: =IFERROR(_xlfn.RANK.EQ(P30,$P$15:$P$61,0)+COUNTIF($P$15:P30,P30)-1,"-") -> 11 | S30: =IFERROR(RANK(U30,$U$15:$U$61,0),"-") -> 16 | T30: =IFERROR(INDEX($O$15:$O$61,MATCH(N30,$Q$15:$Q$61,0)),"-") -> 千葉 | U30: =IFERROR(LARGE($P$15:$P$61,N30),"-") -> 168 | V30: =IFERROR(ROUND(U30/$C$15*100,1),"-") -> 0.7 | X30: 16 | Y30: 富山 | Z30: =IFERROR(_xlfn.XLOOKUP(Y30,$A$29:$A$75,$D$29:$D$75),"-") -> 4950 | AA30: =IFERROR(_xlfn.RANK.EQ(Z30,$Z$15:$Z$61,0)+COUNTIF($Z$15:Z30,Z30)-1,"-") -> 5 | AC30: =IFERROR(RANK(AE30,$AE$15:$AE$61,0),"-") -> 16 | AD30: =IFERROR(INDEX($Y$15:$Y$61,MATCH(X30,$AA$15:$AA$61,0)),"-") -> 千葉 | AE30: =IFERROR(LARGE($Z$15:$Z$61,X30),"-") -> 3420 | AF30: =IFERROR(ROUND(AE30/$D$15*100,1),"-") -> 74.3 | AH30: 16 | AI30: 富山 | AJ30: =IFERROR(_xlfn.XLOOKUP(AI30,$A$29:$A$75,$E$29:$E$75),"-") -> 9360 | AK30: =IFERROR(_xlfn.RANK.EQ(AJ30,$AJ$15:$AJ$61,0)+COUNTIF($AJ$15:AJ30,AJ30)-1,"-") -> 10 | AM30: =IFERROR(RANK(AO30,$AO$15:$AO$61,0),"-") -> 16 | AN30: =IFERROR(INDEX($AI$15:$AI$61,MATCH(AH30,$AK$15:$AK$61,0)),"-") -> 長野 | AO30: =IFERROR(LARGE($AJ$15:$AJ$61,AH30),"-") -> 5170 | AP30: =IFERROR(ROUND(AO30/$E$15*100,1),"-") -> 0.4
A31: 岩手 | C31: … | D31: … | E31: … | F31: … | G31: nc | H31: nc | I31: nc | J31: nc | K31: nc | N31: 17 | O31: 石川 | P31: =IFERROR(_xlfn.XLOOKUP(O31,$A$29:$A$75,$C$29:$C$75),"-") -> … | Q31: =IFERROR(_xlfn.RANK.EQ(P31,$P$15:$P$61,0)+COUNTIF($P$15:P31,P31)-1,"-") -> - | S31: =IFERROR(RANK(U31,$U$15:$U$61,0),"-") -> 16 | T31: =IFERROR(INDEX($O$15:$O$61,MATCH(N31,$Q$15:$Q$61,0)),"-") -> 長野 | U31: =IFERROR(LARGE($P$15:$P$61,N31),"-") -> 168 | V31: =IFERROR(ROUND(U31/$C$15*100,1),"-") -> 0.7 | X31: 17 | Y31: 石川 | Z31: =IFERROR(_xlfn.XLOOKUP(Y31,$A$29:$A$75,$D$29:$D$75),"-") -> … | AA31: =IFERROR(_xlfn.RANK.EQ(Z31,$Z$15:$Z$61,0)+COUNTIF($Z$15:Z31,Z31)-1,"-") -> - | AC31: =IFERROR(RANK(AE31,$AE$15:$AE$61,0),"-") -> 17 | AD31: =IFERROR(INDEX($Y$15:$Y$61,MATCH(X31,$AA$15:$AA$61,0)),"-") -> 愛媛 | AE31: =IFERROR(LARGE($Z$15:$Z$61,X31),"-") -> 3330 | AF31: =IFERROR(ROUND(AE31/$D$15*100,1),"-") -> 72.4 | AH31: 17 | AI31: 石川 | AJ31: =IFERROR(_xlfn.XLOOKUP(AI31,$A$29:$A$75,$E$29:$E$75),"-") -> … | AK31: =IFERROR(_xlfn.RANK.EQ(AJ31,$AJ$15:$AJ$61,0)+COUNTIF($AJ$15:AJ31,AJ31)-1,"-") -> - | AM31: =IFERROR(RANK(AO31,$AO$15:$AO$61,0),"-") -> 17 | AN31: =IFERROR(INDEX($AI$15:$AI$61,MATCH(AH31,$AK$15:$AK$61,0)),"-") -> 埼玉 | AO31: =IFERROR(LARGE($AJ$15:$AJ$61,AH31),"-") -> 4880 | AP31: =IFERROR(ROUND(AO31/$E$15*100,1),"-") -> 0.4
A32: 宮城 | C32: … | D32: … | E32: … | F32: … | G32: nc | H32: nc | I32: nc | J32: nc | K32: nc | N32: 18 | O32: 福井 | P32: =IFERROR(_xlfn.XLOOKUP(O32,$A$29:$A$75,$C$29:$C$75),"-") -> … | Q32: =IFERROR(_xlfn.RANK.EQ(P32,$P$15:$P$61,0)+COUNTIF($P$15:P32,P32)-1,"-") -> - | S32: =IFERROR(RANK(U32,$U$15:$U$61,0),"-") -> 18 | T32: =IFERROR(INDEX($O$15:$O$61,MATCH(N32,$Q$15:$Q$61,0)),"-") -> 山口 | U32: =IFERROR(LARGE($P$15:$P$61,N32),"-") -> 166 | V32: =IFERROR(ROUND(U32/$C$15*100,1),"-") -> 0.7 | X32: 18 | Y32: 福井 | Z32: =IFERROR(_xlfn.XLOOKUP(Y32,$A$29:$A$75,$D$29:$D$75),"-") -> … | AA32: =IFERROR(_xlfn.RANK.EQ(Z32,$Z$15:$Z$61,0)+COUNTIF($Z$15:Z32,Z32)-1,"-") -> - | AC32: =IFERROR(RANK(AE32,$AE$15:$AE$61,0),"-") -> 18 | AD32: =IFERROR(INDEX($Y$15:$Y$61,MATCH(X32,$AA$15:$AA$61,0)),"-") -> 茨城 | AE32: =IFERROR(LARGE($Z$15:$Z$61,X32),"-") -> 3260 | AF32: =IFERROR(ROUND(AE32/$D$15*100,1),"-") -> 70.9 | AH32: 18 | AI32: 福井 | AJ32: =IFERROR(_xlfn.XLOOKUP(AI32,$A$29:$A$75,$E$29:$E$75),"-") -> … | AK32: =IFERROR(_xlfn.RANK.EQ(AJ32,$AJ$15:$AJ$61,0)+COUNTIF($AJ$15:AJ32,AJ32)-1,"-") -> - | AM32: =IFERROR(RANK(AO32,$AO$15:$AO$61,0),"-") -> 18 | AN32: =IFERROR(INDEX($AI$15:$AI$61,MATCH(AH32,$AK$15:$AK$61,0)),"-") -> 山口 | AO32: =IFERROR(LARGE($AJ$15:$AJ$61,AH32),"-") -> 4810 | AP32: =IFERROR(ROUND(AO32/$E$15*100,1),"-") -> 0.4
A33: 秋田 | C33: … | D33: … | E33: … | F33: … | G33: nc | H33: nc | I33: nc | J33: nc | K33: nc | N33: 19 | O33: 山梨 | P33: =IFERROR(_xlfn.XLOOKUP(O33,$A$29:$A$75,$C$29:$C$75),"-") -> … | Q33: =IFERROR(_xlfn.RANK.EQ(P33,$P$15:$P$61,0)+COUNTIF($P$15:P33,P33)-1,"-") -> - | S33: =IFERROR(RANK(U33,$U$15:$U$61,0),"-") -> 19 | T33: =IFERROR(INDEX($O$15:$O$61,MATCH(N33,$Q$15:$Q$61,0)),"-") -> 島根 | U33: =IFERROR(LARGE($P$15:$P$61,N33),"-") -> 154 | V33: =IFERROR(ROUND(U33/$C$15*100,1),"-") -> 0.6 | X33: 19 | Y33: 山梨 | Z33: =IFERROR(_xlfn.XLOOKUP(Y33,$A$29:$A$75,$D$29:$D$75),"-") -> … | AA33: =IFERROR(_xlfn.RANK.EQ(Z33,$Z$15:$Z$61,0)+COUNTIF($Z$15:Z33,Z33)-1,"-") -> - | AC33: =IFERROR(RANK(AE33,$AE$15:$AE$61,0),"-") -> 19 | AD33: =IFERROR(INDEX($Y$15:$Y$61,MATCH(X33,$AA$15:$AA$61,0)),"-") -> 長野 | AE33: =IFERROR(LARGE($Z$15:$Z$61,X33),"-") -> 3080 | AF33: =IFERROR(ROUND(AE33/$D$15*100,1),"-") -> 67 | AH33: 19 | AI33: 山梨 | AJ33: =IFERROR(_xlfn.XLOOKUP(AI33,$A$29:$A$75,$E$29:$E$75),"-") -> … | AK33: =IFERROR(_xlfn.RANK.EQ(AJ33,$AJ$15:$AJ$61,0)+COUNTIF($AJ$15:AJ33,AJ33)-1,"-") -> - | AM33: =IFERROR(RANK(AO33,$AO$15:$AO$61,0),"-") -> 19 | AN33: =IFERROR(INDEX($AI$15:$AI$61,MATCH(AH33,$AK$15:$AK$61,0)),"-") -> 福岡 | AO33: =IFERROR(LARGE($AJ$15:$AJ$61,AH33),"-") -> 4290 | AP33: =IFERROR(ROUND(AO33/$E$15*100,1),"-") -> 0.4
A34: 山形 | C34: … | D34: … | E34: … | F34: … | G34: nc | H34: nc | I34: nc | J34: nc | K34: nc | N34: 20 | O34: 長野 | P34: =IFERROR(_xlfn.XLOOKUP(O34,$A$29:$A$75,$C$29:$C$75),"-") -> 168 | Q34: =IFERROR(_xlfn.RANK.EQ(P34,$P$15:$P$61,0)+COUNTIF($P$15:P34,P34)-1,"-") -> 17 | S34: =IFERROR(RANK(U34,$U$15:$U$61,0),"-") -> 20 | T34: =IFERROR(INDEX($O$15:$O$61,MATCH(N34,$Q$15:$Q$61,0)),"-") -> 埼玉 | U34: =IFERROR(LARGE($P$15:$P$61,N34),"-") -> 141 | V34: =IFERROR(ROUND(U34/$C$15*100,1),"-") -> 0.6 | X34: 20 | Y34: 長野 | Z34: =IFERROR(_xlfn.XLOOKUP(Y34,$A$29:$A$75,$D$29:$D$75),"-") -> 3080 | AA34: =IFERROR(_xlfn.RANK.EQ(Z34,$Z$15:$Z$61,0)+COUNTIF($Z$15:Z34,Z34)-1,"-") -> 19 | AC34: =IFERROR(RANK(AE34,$AE$15:$AE$61,0),"-") -> 20 | AD34: =IFERROR(INDEX($Y$15:$Y$61,MATCH(X34,$AA$15:$AA$61,0)),"-") -> 福岡 | AE34: =IFERROR(LARGE($Z$15:$Z$61,X34),"-") -> 3040 | AF34: =IFERROR(ROUND(AE34/$D$15*100,1),"-") -> 66.1 | AH34: 20 | AI34: 長野 | AJ34: =IFERROR(_xlfn.XLOOKUP(AI34,$A$29:$A$75,$E$29:$E$75),"-") -> 5170 | AK34: =IFERROR(_xlfn.RANK.EQ(AJ34,$AJ$15:$AJ$61,0)+COUNTIF($AJ$15:AJ34,AJ34)-1,"-") -> 16 | AM34: =IFERROR(RANK(AO34,$AO$15:$AO$61,0),"-") -> 20 | AN34: =IFERROR(INDEX($AI$15:$AI$61,MATCH(AH34,$AK$15:$AK$61,0)),"-") -> 和歌山 | AO34: =IFERROR(LARGE($AJ$15:$AJ$61,AH34),"-") -> 4100 | AP34: =IFERROR(ROUND(AO34/$E$15*100,1),"-") -> 0.3
A35: 福島 | C35: 170 | D35: 1730 | E35: 2940 | F35: 1590 | G35: 98 | H35: 96 | I35: 93 | J35: 90 | K35: 91 | N35: 21 | O35: 岐阜 | P35: =IFERROR(_xlfn.XLOOKUP(O35,$A$29:$A$75,$C$29:$C$75),"-") -> 100 | Q35: =IFERROR(_xlfn.RANK.EQ(P35,$P$15:$P$61,0)+COUNTIF($P$15:P35,P35)-1,"-") -> 23 | S35: =IFERROR(RANK(U35,$U$15:$U$61,0),"-") -> 20 | T35: =IFERROR(INDEX($O$15:$O$61,MATCH(N35,$Q$15:$Q$61,0)),"-") -> 福岡 | U35: =IFERROR(LARGE($P$15:$P$61,N35),"-") -> 141 | V35: =IFERROR(ROUND(U35/$C$15*100,1),"-") -> 0.6 | X35: 21 | Y35: 岐阜 | Z35: =IFERROR(_xlfn.XLOOKUP(Y35,$A$29:$A$75,$D$29:$D$75),"-") -> 2390 | AA35: =IFERROR(_xlfn.RANK.EQ(Z35,$Z$15:$Z$61,0)+COUNTIF($Z$15:Z35,Z35)-1,"-") -> 24 | AC35: =IFERROR(RANK(AE35,$AE$15:$AE$61,0),"-") -> 21 | AD35: =IFERROR(INDEX($Y$15:$Y$61,MATCH(X35,$AA$15:$AA$61,0)),"-") -> 山口 | AE35: =IFERROR(LARGE($Z$15:$Z$61,X35),"-") -> 2900 | AF35: =IFERROR(ROUND(AE35/$D$15*100,1),"-") -> 63 | AH35: 21 | AI35: 岐阜 | AJ35: =IFERROR(_xlfn.XLOOKUP(AI35,$A$29:$A$75,$E$29:$E$75),"-") -> 2390 | AK35: =IFERROR(_xlfn.RANK.EQ(AJ35,$AJ$15:$AJ$61,0)+COUNTIF($AJ$15:AJ35,AJ35)-1,"-") -> 25 | AM35: =IFERROR(RANK(AO35,$AO$15:$AO$61,0),"-") -> 21 | AN35: =IFERROR(INDEX($AI$15:$AI$61,MATCH(AH35,$AK$15:$AK$61,0)),"-") -> 島根 | AO35: =IFERROR(LARGE($AJ$15:$AJ$61,AH35),"-") -> 3880 | AP35: =IFERROR(ROUND(AO35/$E$15*100,1),"-") -> 0.3
A36: 茨城 | C36: 175 | D36: 3260 | E36: 5710 | F36: 3960 | G36: 101 | H36: 104 | I36: 105 | J36: 104 | K36: 102 | N36: 22 | O36: 静岡 | P36: =IFERROR(_xlfn.XLOOKUP(O36,$A$29:$A$75,$C$29:$C$75),"-") -> 324 | Q36: =IFERROR(_xlfn.RANK.EQ(P36,$P$15:$P$61,0)+COUNTIF($P$15:P36,P36)-1,"-") -> 6 | S36: =IFERROR(RANK(U36,$U$15:$U$61,0),"-") -> 22 | T36: =IFERROR(INDEX($O$15:$O$61,MATCH(N36,$Q$15:$Q$61,0)),"-") -> 三重 | U36: =IFERROR(LARGE($P$15:$P$61,N36),"-") -> 117 | V36: =IFERROR(ROUND(U36/$C$15*100,1),"-") -> 0.5 | X36: 22 | Y36: 静岡 | Z36: =IFERROR(_xlfn.XLOOKUP(Y36,$A$29:$A$75,$D$29:$D$75),"-") -> 4080 | AA36: =IFERROR(_xlfn.RANK.EQ(Z36,$Z$15:$Z$61,0)+COUNTIF($Z$15:Z36,Z36)-1,"-") -> 10 | AC36: =IFERROR(RANK(AE36,$AE$15:$AE$61,0),"-") -> 22 | AD36: =IFERROR(INDEX($Y$15:$Y$61,MATCH(X36,$AA$15:$AA$61,0)),"-") -> 三重 | AE36: =IFERROR(LARGE($Z$15:$Z$61,X36),"-") -> 2640 | AF36: =IFERROR(ROUND(AE36/$D$15*100,1),"-") -> 57.4 | AH36: 22 | AI36: 静岡 | AJ36: =IFERROR(_xlfn.XLOOKUP(AI36,$A$29:$A$75,$E$29:$E$75),"-") -> 13200 | AK36: =IFERROR(_xlfn.RANK.EQ(AJ36,$AJ$15:$AJ$61,0)+COUNTIF($AJ$15:AJ36,AJ36)-1,"-") -> 6 | AM36: =IFERROR(RANK(AO36,$AO$15:$AO$61,0),"-") -> 22 | AN36: =IFERROR(INDEX($AI$15:$AI$61,MATCH(AH36,$AK$15:$AK$61,0)),"-") -> 大阪 | AO36: =IFERROR(LARGE($AJ$15:$AJ$61,AH36),"-") -> 3520 | AP36: =IFERROR(ROUND(AO36/$E$15*100,1),"-") -> 0.3
A37: 栃木 | C37: 230 | D37: 4580 | E37: 10500 | F37: 8740 | G37: 98 | H37: 104 | I37: 102 | J37: 103 | K37: 95 | N37: 23 | O37: 愛知 | P37: =IFERROR(_xlfn.XLOOKUP(O37,$A$29:$A$75,$C$29:$C$75),"-") -> 468 | Q37: =IFERROR(_xlfn.RANK.EQ(P37,$P$15:$P$61,0)+COUNTIF($P$15:P37,P37)-1,"-") -> 5 | S37: =IFERROR(RANK(U37,$U$15:$U$61,0),"-") -> 23 | T37: =IFERROR(INDEX($O$15:$O$61,MATCH(N37,$Q$15:$Q$61,0)),"-") -> 岐阜 | U37: =IFERROR(LARGE($P$15:$P$61,N37),"-") -> 100 | V37: =IFERROR(ROUND(U37/$C$15*100,1),"-") -> 0.4 | X37: 23 | Y37: 愛知 | Z37: =IFERROR(_xlfn.XLOOKUP(Y37,$A$29:$A$75,$D$29:$D$75),"-") -> 5190 | AA37: =IFERROR(_xlfn.RANK.EQ(Z37,$Z$15:$Z$61,0)+COUNTIF($Z$15:Z37,Z37)-1,"-") -> 2 | AC37: =IFERROR(RANK(AE37,$AE$15:$AE$61,0),"-") -> 23 | AD37: =IFERROR(INDEX($Y$15:$Y$61,MATCH(X37,$AA$15:$AA$61,0)),"-") -> 島根 | AE37: =IFERROR(LARGE($Z$15:$Z$61,X37),"-") -> 2520 | AF37: =IFERROR(ROUND(AE37/$D$15*100,1),"-") -> 54.8 | AH37: 23 | AI37: 愛知 | AJ37: =IFERROR(_xlfn.XLOOKUP(AI37,$A$29:$A$75,$E$29:$E$75),"-") -> 24300 | AK37: =IFERROR(_xlfn.RANK.EQ(AJ37,$AJ$15:$AJ$61,0)+COUNTIF($AJ$15:AJ37,AJ37)-1,"-") -> 5 | AM37: =IFERROR(RANK(AO37,$AO$15:$AO$61,0),"-") -> 23 | AN37: =IFERROR(INDEX($AI$15:$AI$61,MATCH(AH37,$AK$15:$AK$61,0)),"-") -> 三重 | AO37: =IFERROR(LARGE($AJ$15:$AJ$61,AH37),"-") -> 3090 | AP37: =IFERROR(ROUND(AO37/$E$15*100,1),"-") -> 0.3
A38: 群馬 | C38: 187 | D38: 4250 | E38: 7950 | F38: 7240 | G38: 94 | H38: 94 | I38: 89 | J38: 89 | K38: 100 | N38: 24 | O38: 三重 | P38: =IFERROR(_xlfn.XLOOKUP(O38,$A$29:$A$75,$C$29:$C$75),"-") -> 117 | Q38: =IFERROR(_xlfn.RANK.EQ(P38,$P$15:$P$61,0)+COUNTIF($P$15:P38,P38)-1,"-") -> 22 | S38: =IFERROR(RANK(U38,$U$15:$U$61,0),"-") -> 24 | T38: =IFERROR(INDEX($O$15:$O$61,MATCH(N38,$Q$15:$Q$61,0)),"-") -> 大阪 | U38: =IFERROR(LARGE($P$15:$P$61,N38),"-") -> 97 | V38: =IFERROR(ROUND(U38/$C$15*100,1),"-") -> 0.4 | X38: 24 | Y38: 三重 | Z38: =IFERROR(_xlfn.XLOOKUP(Y38,$A$29:$A$75,$D$29:$D$75),"-") -> 2640 | AA38: =IFERROR(_xlfn.RANK.EQ(Z38,$Z$15:$Z$61,0)+COUNTIF($Z$15:Z38,Z38)-1,"-") -> 22 | AC38: =IFERROR(RANK(AE38,$AE$15:$AE$61,0),"-") -> 24 | AD38: =IFERROR(INDEX($Y$15:$Y$61,MATCH(X38,$AA$15:$AA$61,0)),"-") -> 岐阜 | AE38: =IFERROR(LARGE($Z$15:$Z$61,X38),"-") -> 2390 | AF38: =IFERROR(ROUND(AE38/$D$15*100,1),"-") -> 52 | AH38: 24 | AI38: 三重 | AJ38: =IFERROR(_xlfn.XLOOKUP(AI38,$A$29:$A$75,$E$29:$E$75),"-") -> 3090 | AK38: =IFERROR(_xlfn.RANK.EQ(AJ38,$AJ$15:$AJ$61,0)+COUNTIF($AJ$15:AJ38,AJ38)-1,"-") -> 23 | AM38: =IFERROR(RANK(AO38,$AO$15:$AO$61,0),"-") -> 24 | AN38: =IFERROR(INDEX($AI$15:$AI$61,MATCH(AH38,$AK$15:$AK$61,0)),"-") -> 福島 | AO38: =IFERROR(LARGE($AJ$15:$AJ$61,AH38),"-") -> 2940 | AP38: =IFERROR(ROUND(AO38/$E$15*100,1),"-") -> 0.3
A39: 埼玉 | C39: 141 | D39: 3460 | E39: 4880 | F39: 3570 | G39: 97 | H39: 125 | I39: 122 | J39: 126 | K39: 100 | N39: 25 | O39: 滋賀 | P39: =IFERROR(_xlfn.XLOOKUP(O39,$A$29:$A$75,$C$29:$C$75),"-") -> … | Q39: =IFERROR(_xlfn.RANK.EQ(P39,$P$15:$P$61,0)+COUNTIF($P$15:P39,P39)-1,"-") -> - | S39: =IFERROR(RANK(U39,$U$15:$U$61,0),"-") -> 25 | T39: =IFERROR(INDEX($O$15:$O$61,MATCH(N39,$Q$15:$Q$61,0)),"-") -> 和歌山 | U39: =IFERROR(LARGE($P$15:$P$61,N39),"-") -> 92 | V39: =IFERROR(ROUND(U39/$C$15*100,1),"-") -> 0.4 | X39: 25 | Y39: 滋賀 | Z39: =IFERROR(_xlfn.XLOOKUP(Y39,$A$29:$A$75,$D$29:$D$75),"-") -> … | AA39: =IFERROR(_xlfn.RANK.EQ(Z39,$Z$15:$Z$61,0)+COUNTIF($Z$15:Z39,Z39)-1,"-") -> - | AC39: =IFERROR(RANK(AE39,$AE$15:$AE$61,0),"-") -> 25 | AD39: =IFERROR(INDEX($Y$15:$Y$61,MATCH(X39,$AA$15:$AA$61,0)),"-") -> 福島 | AE39: =IFERROR(LARGE($Z$15:$Z$61,X39),"-") -> 1730 | AF39: =IFERROR(ROUND(AE39/$D$15*100,1),"-") -> 37.6 | AH39: 25 | AI39: 滋賀 | AJ39: =IFERROR(_xlfn.XLOOKUP(AI39,$A$29:$A$75,$E$29:$E$75),"-") -> … | AK39: =IFERROR(_xlfn.RANK.EQ(AJ39,$AJ$15:$AJ$61,0)+COUNTIF($AJ$15:AJ39,AJ39)-1,"-") -> - | AM39: =IFERROR(RANK(AO39,$AO$15:$AO$61,0),"-") -> 25 | AN39: =IFERROR(INDEX($AI$15:$AI$61,MATCH(AH39,$AK$15:$AK$61,0)),"-") -> 岐阜 | AO39: =IFERROR(LARGE($AJ$15:$AJ$61,AH39),"-") -> 2390 | AP39: =IFERROR(ROUND(AO39/$E$15*100,1),"-") -> 0.2
A40: 千葉 | C40: 168 | D40: 3420 | E40: 5750 | F40: 3610 | G40: 97 | H40: 96 | I40: 93 | J40: 93 | K40: 102 | N40: 26 | O40: 京都 | P40: =IFERROR(_xlfn.XLOOKUP(O40,$A$29:$A$75,$C$29:$C$75),"-") -> … | Q40: =IFERROR(_xlfn.RANK.EQ(P40,$P$15:$P$61,0)+COUNTIF($P$15:P40,P40)-1,"-") -> - | S40: =IFERROR(RANK(U40,$U$15:$U$61,0),"-") -> - | T40: =IFERROR(INDEX($O$15:$O$61,MATCH(N40,$Q$15:$Q$61,0)),"-") -> - | U40: =IFERROR(LARGE($P$15:$P$61,N40),"-") -> - | V40: =IFERROR(ROUND(U40/$C$15*100,1),"-") -> - | X40: 26 | Y40: 京都 | Z40: =IFERROR(_xlfn.XLOOKUP(Y40,$A$29:$A$75,$D$29:$D$75),"-") -> … | AA40: =IFERROR(_xlfn.RANK.EQ(Z40,$Z$15:$Z$61,0)+COUNTIF($Z$15:Z40,Z40)-1,"-") -> - | AC40: =IFERROR(RANK(AE40,$AE$15:$AE$61,0),"-") -> - | AD40: =IFERROR(INDEX($Y$15:$Y$61,MATCH(X40,$AA$15:$AA$61,0)),"-") -> - | AE40: =IFERROR(LARGE($Z$15:$Z$61,X40),"-") -> - | AF40: =IFERROR(ROUND(AE40/$D$15*100,1),"-") -> - | AH40: 26 | AI40: 京都 | AJ40: =IFERROR(_xlfn.XLOOKUP(AI40,$A$29:$A$75,$E$29:$E$75),"-") -> … | AK40: =IFERROR(_xlfn.RANK.EQ(AJ40,$AJ$15:$AJ$61,0)+COUNTIF($AJ$15:AJ40,AJ40)-1,"-") -> - | AM40: =IFERROR(RANK(AO40,$AO$15:$AO$61,0),"-") -> - | AN40: =IFERROR(INDEX($AI$15:$AI$61,MATCH(AH40,$AK$15:$AK$61,0)),"-") -> - | AO40: =IFERROR(LARGE($AJ$15:$AJ$61,AH40),"-") -> - | AP40: =IFERROR(ROUND(AO40/$E$15*100,1),"-") -> -
A41: 東京 | C41: … | D41: … | E41: … | F41: … | G41: nc | H41: nc | I41: nc | J41: nc | K41: nc | N41: 27 | O41: 大阪 | P41: =IFERROR(_xlfn.XLOOKUP(O41,$A$29:$A$75,$C$29:$C$75),"-") -> 97 | Q41: =IFERROR(_xlfn.RANK.EQ(P41,$P$15:$P$61,0)+COUNTIF($P$15:P41,P41)-1,"-") -> 24 | S41: =IFERROR(RANK(U41,$U$15:$U$61,0),"-") -> - | T41: =IFERROR(INDEX($O$15:$O$61,MATCH(N41,$Q$15:$Q$61,0)),"-") -> - | U41: =IFERROR(LARGE($P$15:$P$61,N41),"-") -> - | V41: =IFERROR(ROUND(U41/$C$15*100,1),"-") -> - | X41: 27 | Y41: 大阪 | Z41: =IFERROR(_xlfn.XLOOKUP(Y41,$A$29:$A$75,$D$29:$D$75),"-") -> 3630 | AA41: =IFERROR(_xlfn.RANK.EQ(Z41,$Z$15:$Z$61,0)+COUNTIF($Z$15:Z41,Z41)-1,"-") -> 13 | AC41: =IFERROR(RANK(AE41,$AE$15:$AE$61,0),"-") -> - | AD41: =IFERROR(INDEX($Y$15:$Y$61,MATCH(X41,$AA$15:$AA$61,0)),"-") -> - | AE41: =IFERROR(LARGE($Z$15:$Z$61,X41),"-") -> - | AF41: =IFERROR(ROUND(AE41/$D$15*100,1),"-") -> - | AH41: 27 | AI41: 大阪 | AJ41: =IFERROR(_xlfn.XLOOKUP(AI41,$A$29:$A$75,$E$29:$E$75),"-") -> 3520 | AK41: =IFERROR(_xlfn.RANK.EQ(AJ41,$AJ$15:$AJ$61,0)+COUNTIF($AJ$15:AJ41,AJ41)-1,"-") -> 22 | AM41: =IFERROR(RANK(AO41,$AO$15:$AO$61,0),"-") -> - | AN41: =IFERROR(INDEX($AI$15:$AI$61,MATCH(AH41,$AK$15:$AK$61,0)),"-") -> - | AO41: =IFERROR(LARGE($AJ$15:$AJ$61,AH41),"-") -> - | AP41: =IFERROR(ROUND(AO41/$E$15*100,1),"-") -> -
A42: 神奈川 | C42: … | D42: … | E42: … | F42: … | G42: nc | H42: nc | I42: nc | J42: nc | K42: nc | N42: 28 | O42: 兵庫 | P42: =IFERROR(_xlfn.XLOOKUP(O42,$A$29:$A$75,$C$29:$C$75),"-") -> 1650 | Q42: =IFERROR(_xlfn.RANK.EQ(P42,$P$15:$P$61,0)+COUNTIF($P$15:P42,P42)-1,"-") -> 3 | S42: =IFERROR(RANK(U42,$U$15:$U$61,0),"-") -> - | T42: =IFERROR(INDEX($O$15:$O$61,MATCH(N42,$Q$15:$Q$61,0)),"-") -> - | U42: =IFERROR(LARGE($P$15:$P$61,N42),"-") -> - | V42: =IFERROR(ROUND(U42/$C$15*100,1),"-") -> - | X42: 28 | Y42: 兵庫 | Z42: =IFERROR(_xlfn.XLOOKUP(Y42,$A$29:$A$75,$D$29:$D$75),"-") -> 5930 | AA42: =IFERROR(_xlfn.RANK.EQ(Z42,$Z$15:$Z$61,0)+COUNTIF($Z$15:Z42,Z42)-1,"-") -> 1 | AC42: =IFERROR(RANK(AE42,$AE$15:$AE$61,0),"-") -> - | AD42: =IFERROR(INDEX($Y$15:$Y$61,MATCH(X42,$AA$15:$AA$61,0)),"-") -> - | AE42: =IFERROR(LARGE($Z$15:$Z$61,X42),"-") -> - | AF42: =IFERROR(ROUND(AE42/$D$15*100,1),"-") -> - | AH42: 28 | AI42: 兵庫 | AJ42: =IFERROR(_xlfn.XLOOKUP(AI42,$A$29:$A$75,$E$29:$E$75),"-") -> 97800 | AK42: =IFERROR(_xlfn.RANK.EQ(AJ42,$AJ$15:$AJ$61,0)+COUNTIF($AJ$15:AJ42,AJ42)-1,"-") -> 2 | AM42: =IFERROR(RANK(AO42,$AO$15:$AO$61,0),"-") -> - | AN42: =IFERROR(INDEX($AI$15:$AI$61,MATCH(AH42,$AK$15:$AK$61,0)),"-") -> - | AO42: =IFERROR(LARGE($AJ$15:$AJ$61,AH42),"-") -> - | AP42: =IFERROR(ROUND(AO42/$E$15*100,1),"-") -> -
A43: 新潟 | C43: … | D43: … | E43: … | F43: … | G43: nc | H43: nc | I43: nc | J43: nc | K43: nc | N43: 29 | O43: 奈良 | P43: =IFERROR(_xlfn.XLOOKUP(O43,$A$29:$A$75,$C$29:$C$75),"-") -> … | Q43: =IFERROR(_xlfn.RANK.EQ(P43,$P$15:$P$61,0)+COUNTIF($P$15:P43,P43)-1,"-") -> - | S43: =IFERROR(RANK(U43,$U$15:$U$61,0),"-") -> - | T43: =IFERROR(INDEX($O$15:$O$61,MATCH(N43,$Q$15:$Q$61,0)),"-") -> - | U43: =IFERROR(LARGE($P$15:$P$61,N43),"-") -> - | V43: =IFERROR(ROUND(U43/$C$15*100,1),"-") -> - | X43: 29 | Y43: 奈良 | Z43: =IFERROR(_xlfn.XLOOKUP(Y43,$A$29:$A$75,$D$29:$D$75),"-") -> … | AA43: =IFERROR(_xlfn.RANK.EQ(Z43,$Z$15:$Z$61,0)+COUNTIF($Z$15:Z43,Z43)-1,"-") -> - | AC43: =IFERROR(RANK(AE43,$AE$15:$AE$61,0),"-") -> - | AD43: =IFERROR(INDEX($Y$15:$Y$61,MATCH(X43,$AA$15:$AA$61,0)),"-") -> - | AE43: =IFERROR(LARGE($Z$15:$Z$61,X43),"-") -> - | AF43: =IFERROR(ROUND(AE43/$D$15*100,1),"-") -> - | AH43: 29 | AI43: 奈良 | AJ43: =IFERROR(_xlfn.XLOOKUP(AI43,$A$29:$A$75,$E$29:$E$75),"-") -> … | AK43: =IFERROR(_xlfn.RANK.EQ(AJ43,$AJ$15:$AJ$61,0)+COUNTIF($AJ$15:AJ43,AJ43)-1,"-") -> - | AM43: =IFERROR(RANK(AO43,$AO$15:$AO$61,0),"-") -> - | AN43: =IFERROR(INDEX($AI$15:$AI$61,MATCH(AH43,$AK$15:$AK$61,0)),"-") -> - | AO43: =IFERROR(LARGE($AJ$15:$AJ$61,AH43),"-") -> - | AP43: =IFERROR(ROUND(AO43/$E$15*100,1),"-") -> -
A44: 富山 | C44: 189 | D44: 4950 | E44: 9360 | F44: 8660 | G44: 107 | H44: 111 | I44: 119 | J44: 120 | K44: 118 | N44: 30 | O44: 和歌山 | P44: =IFERROR(_xlfn.XLOOKUP(O44,$A$29:$A$75,$C$29:$C$75),"-") -> 92 | Q44: =IFERROR(_xlfn.RANK.EQ(P44,$P$15:$P$61,0)+COUNTIF($P$15:P44,P44)-1,"-") -> 25 | S44: =IFERROR(RANK(U44,$U$15:$U$61,0),"-") -> - | T44: =IFERROR(INDEX($O$15:$O$61,MATCH(N44,$Q$15:$Q$61,0)),"-") -> - | U44: =IFERROR(LARGE($P$15:$P$61,N44),"-") -> - | V44: =IFERROR(ROUND(U44/$C$15*100,1),"-") -> - | X44: 30 | Y44: 和歌山 | Z44: =IFERROR(_xlfn.XLOOKUP(Y44,$A$29:$A$75,$D$29:$D$75),"-") -> 4460 | AA44: =IFERROR(_xlfn.RANK.EQ(Z44,$Z$15:$Z$61,0)+COUNTIF($Z$15:Z44,Z44)-1,"-") -> 8 | AC44: =IFERROR(RANK(AE44,$AE$15:$AE$61,0),"-") -> - | AD44: =IFERROR(INDEX($Y$15:$Y$61,MATCH(X44,$AA$15:$AA$61,0)),"-") -> - | AE44: =IFERROR(LARGE($Z$15:$Z$61,X44),"-") -> - | AF44: =IFERROR(ROUND(AE44/$D$15*100,1),"-") -> - | AH44: 30 | AI44: 和歌山 | AJ44: =IFERROR(_xlfn.XLOOKUP(AI44,$A$29:$A$75,$E$29:$E$75),"-") -> 4100 | AK44: =IFERROR(_xlfn.RANK.EQ(AJ44,$AJ$15:$AJ$61,0)+COUNTIF($AJ$15:AJ44,AJ44)-1,"-") -> 20 | AM44: =IFERROR(RANK(AO44,$AO$15:$AO$61,0),"-") -> - | AN44: =IFERROR(INDEX($AI$15:$AI$61,MATCH(AH44,$AK$15:$AK$61,0)),"-") -> - | AO44: =IFERROR(LARGE($AJ$15:$AJ$61,AH44),"-") -> - | AP44: =IFERROR(ROUND(AO44/$E$15*100,1),"-") -> -
A45: 石川 | C45: … | D45: … | E45: … | F45: … | G45: nc | H45: nc | I45: nc | J45: nc | K45: nc | N45: 31 | O45: 鳥取 | P45: =IFERROR(_xlfn.XLOOKUP(O45,$A$29:$A$75,$C$29:$C$75),"-") -> … | Q45: =IFERROR(_xlfn.RANK.EQ(P45,$P$15:$P$61,0)+COUNTIF($P$15:P45,P45)-1,"-") -> - | S45: =IFERROR(RANK(U45,$U$15:$U$61,0),"-") -> - | T45: =IFERROR(INDEX($O$15:$O$61,MATCH(N45,$Q$15:$Q$61,0)),"-") -> - | U45: =IFERROR(LARGE($P$15:$P$61,N45),"-") -> - | V45: =IFERROR(ROUND(U45/$C$15*100,1),"-") -> - | X45: 31 | Y45: 鳥取 | Z45: =IFERROR(_xlfn.XLOOKUP(Y45,$A$29:$A$75,$D$29:$D$75),"-") -> … | AA45: =IFERROR(_xlfn.RANK.EQ(Z45,$Z$15:$Z$61,0)+COUNTIF($Z$15:Z45,Z45)-1,"-") -> - | AC45: =IFERROR(RANK(AE45,$AE$15:$AE$61,0),"-") -> - | AD45: =IFERROR(INDEX($Y$15:$Y$61,MATCH(X45,$AA$15:$AA$61,0)),"-") -> - | AE45: =IFERROR(LARGE($Z$15:$Z$61,X45),"-") -> - | AF45: =IFERROR(ROUND(AE45/$D$15*100,1),"-") -> - | AH45: 31 | AI45: 鳥取 | AJ45: =IFERROR(_xlfn.XLOOKUP(AI45,$A$29:$A$75,$E$29:$E$75),"-") -> … | AK45: =IFERROR(_xlfn.RANK.EQ(AJ45,$AJ$15:$AJ$61,0)+COUNTIF($AJ$15:AJ45,AJ45)-1,"-") -> - | AM45: =IFERROR(RANK(AO45,$AO$15:$AO$61,0),"-") -> - | AN45: =IFERROR(INDEX($AI$15:$AI$61,MATCH(AH45,$AK$15:$AK$61,0)),"-") -> - | AO45: =IFERROR(LARGE($AJ$15:$AJ$61,AH45),"-") -> - | AP45: =IFERROR(ROUND(AO45/$E$15*100,1),"-") -> -
A46: 福井 | C46: … | D46: … | E46: … | F46: … | G46: nc | H46: nc | I46: nc | J46: nc | K46: nc | N46: 32 | O46: 島根 | P46: =IFERROR(_xlfn.XLOOKUP(O46,$A$29:$A$75,$C$29:$C$75),"-") -> 154 | Q46: =IFERROR(_xlfn.RANK.EQ(P46,$P$15:$P$61,0)+COUNTIF($P$15:P46,P46)-1,"-") -> 19 | S46: =IFERROR(RANK(U46,$U$15:$U$61,0),"-") -> - | T46: =IFERROR(INDEX($O$15:$O$61,MATCH(N46,$Q$15:$Q$61,0)),"-") -> - | U46: =IFERROR(LARGE($P$15:$P$61,N46),"-") -> - | V46: =IFERROR(ROUND(U46/$C$15*100,1),"-") -> - | X46: 32 | Y46: 島根 | Z46: =IFERROR(_xlfn.XLOOKUP(Y46,$A$29:$A$75,$D$29:$D$75),"-") -> 2520 | AA46: =IFERROR(_xlfn.RANK.EQ(Z46,$Z$15:$Z$61,0)+COUNTIF($Z$15:Z46,Z46)-1,"-") -> 23 | AC46: =IFERROR(RANK(AE46,$AE$15:$AE$61,0),"-") -> - | AD46: =IFERROR(INDEX($Y$15:$Y$61,MATCH(X46,$AA$15:$AA$61,0)),"-") -> - | AE46: =IFERROR(LARGE($Z$15:$Z$61,X46),"-") -> - | AF46: =IFERROR(ROUND(AE46/$D$15*100,1),"-") -> - | AH46: 32 | AI46: 島根 | AJ46: =IFERROR(_xlfn.XLOOKUP(AI46,$A$29:$A$75,$E$29:$E$75),"-") -> 3880 | AK46: =IFERROR(_xlfn.RANK.EQ(AJ46,$AJ$15:$AJ$61,0)+COUNTIF($AJ$15:AJ46,AJ46)-1,"-") -> 21 | AM46: =IFERROR(RANK(AO46,$AO$15:$AO$61,0),"-") -> - | AN46: =IFERROR(INDEX($AI$15:$AI$61,MATCH(AH46,$AK$15:$AK$61,0)),"-") -> - | AO46: =IFERROR(LARGE($AJ$15:$AJ$61,AH46),"-") -> - | AP46: =IFERROR(ROUND(AO46/$E$15*100,1),"-") -> -
A47: 山梨 | C47: … | D47: … | E47: … | F47: … | G47: nc | H47: nc | I47: nc | J47: nc | K47: nc | N47: 33 | O47: 岡山 | P47: =IFERROR(_xlfn.XLOOKUP(O47,$A$29:$A$75,$C$29:$C$75),"-") -> 174 | Q47: =IFERROR(_xlfn.RANK.EQ(P47,$P$15:$P$61,0)+COUNTIF($P$15:P47,P47)-1,"-") -> 14 | S47: =IFERROR(RANK(U47,$U$15:$U$61,0),"-") -> - | T47: =IFERROR(INDEX($O$15:$O$61,MATCH(N47,$Q$15:$Q$61,0)),"-") -> - | U47: =IFERROR(LARGE($P$15:$P$61,N47),"-") -> - | V47: =IFERROR(ROUND(U47/$C$15*100,1),"-") -> - | X47: 33 | Y47: 岡山 | Z47: =IFERROR(_xlfn.XLOOKUP(Y47,$A$29:$A$75,$D$29:$D$75),"-") -> 3520 | AA47: =IFERROR(_xlfn.RANK.EQ(Z47,$Z$15:$Z$61,0)+COUNTIF($Z$15:Z47,Z47)-1,"-") -> 14 | AC47: =IFERROR(RANK(AE47,$AE$15:$AE$61,0),"-") -> - | AD47: =IFERROR(INDEX($Y$15:$Y$61,MATCH(X47,$AA$15:$AA$61,0)),"-") -> - | AE47: =IFERROR(LARGE($Z$15:$Z$61,X47),"-") -> - | AF47: =IFERROR(ROUND(AE47/$D$15*100,1),"-") -> - | AH47: 33 | AI47: 岡山 | AJ47: =IFERROR(_xlfn.XLOOKUP(AI47,$A$29:$A$75,$E$29:$E$75),"-") -> 6120 | AK47: =IFERROR(_xlfn.RANK.EQ(AJ47,$AJ$15:$AJ$61,0)+COUNTIF($AJ$15:AJ47,AJ47)-1,"-") -> 13 | AM47: =IFERROR(RANK(AO47,$AO$15:$AO$61,0),"-") -> - | AN47: =IFERROR(INDEX($AI$15:$AI$61,MATCH(AH47,$AK$15:$AK$61,0)),"-") -> - | AO47: =IFERROR(LARGE($AJ$15:$AJ$61,AH47),"-") -> - | AP47: =IFERROR(ROUND(AO47/$E$15*100,1),"-") -> -
A48: 長野 | C48: 168 | D48: 3080 | E48: 5170 | F48: 3100 | G48: 101 | H48: 104 | I48: 105 | J48: 108 | K48: 106 | N48: 34 | O48: 広島 | P48: =IFERROR(_xlfn.XLOOKUP(O48,$A$29:$A$75,$C$29:$C$75),"-") -> … | Q48: =IFERROR(_xlfn.RANK.EQ(P48,$P$15:$P$61,0)+COUNTIF($P$15:P48,P48)-1,"-") -> - | S48: =IFERROR(RANK(U48,$U$15:$U$61,0),"-") -> - | T48: =IFERROR(INDEX($O$15:$O$61,MATCH(N48,$Q$15:$Q$61,0)),"-") -> - | U48: =IFERROR(LARGE($P$15:$P$61,N48),"-") -> - | V48: =IFERROR(ROUND(U48/$C$15*100,1),"-") -> - | X48: 34 | Y48: 広島 | Z48: =IFERROR(_xlfn.XLOOKUP(Y48,$A$29:$A$75,$D$29:$D$75),"-") -> … | AA48: =IFERROR(_xlfn.RANK.EQ(Z48,$Z$15:$Z$61,0)+COUNTIF($Z$15:Z48,Z48)-1,"-") -> - | AC48: =IFERROR(RANK(AE48,$AE$15:$AE$61,0),"-") -> - | AD48: =IFERROR(INDEX($Y$15:$Y$61,MATCH(X48,$AA$15:$AA$61,0)),"-") -> - | AE48: =IFERROR(LARGE($Z$15:$Z$61,X48),"-") -> - | AF48: =IFERROR(ROUND(AE48/$D$15*100,1),"-") -> - | AH48: 34 | AI48: 広島 | AJ48: =IFERROR(_xlfn.XLOOKUP(AI48,$A$29:$A$75,$E$29:$E$75),"-") -> … | AK48: =IFERROR(_xlfn.RANK.EQ(AJ48,$AJ$15:$AJ$61,0)+COUNTIF($AJ$15:AJ48,AJ48)-1,"-") -> - | AM48: =IFERROR(RANK(AO48,$AO$15:$AO$61,0),"-") -> - | AN48: =IFERROR(INDEX($AI$15:$AI$61,MATCH(AH48,$AK$15:$AK$61,0)),"-") -> - | AO48: =IFERROR(LARGE($AJ$15:$AJ$61,AH48),"-") -> - | AP48: =IFERROR(ROUND(AO48/$E$15*100,1),"-") -> -
A49: 岐阜 | C49: 100 | D49: 2390 | E49: 2390 | F49: 1310 | G49: 99 | H49: 87 | I49: 86 | J49: 89 | K49: 88 | N49: 35 | O49: 山口 | P49: =IFERROR(_xlfn.XLOOKUP(O49,$A$29:$A$75,$C$29:$C$75),"-") -> 166 | Q49: =IFERROR(_xlfn.RANK.EQ(P49,$P$15:$P$61,0)+COUNTIF($P$15:P49,P49)-1,"-") -> 18 | S49: =IFERROR(RANK(U49,$U$15:$U$61,0),"-") -> - | T49: =IFERROR(INDEX($O$15:$O$61,MATCH(N49,$Q$15:$Q$61,0)),"-") -> - | U49: =IFERROR(LARGE($P$15:$P$61,N49),"-") -> - | V49: =IFERROR(ROUND(U49/$C$15*100,1),"-") -> - | X49: 35 | Y49: 山口 | Z49: =IFERROR(_xlfn.XLOOKUP(Y49,$A$29:$A$75,$D$29:$D$75),"-") -> 2900 | AA49: =IFERROR(_xlfn.RANK.EQ(Z49,$Z$15:$Z$61,0)+COUNTIF($Z$15:Z49,Z49)-1,"-") -> 21 | AC49: =IFERROR(RANK(AE49,$AE$15:$AE$61,0),"-") -> - | AD49: =IFERROR(INDEX($Y$15:$Y$61,MATCH(X49,$AA$15:$AA$61,0)),"-") -> - | AE49: =IFERROR(LARGE($Z$15:$Z$61,X49),"-") -> - | AF49: =IFERROR(ROUND(AE49/$D$15*100,1),"-") -> - | AH49: 35 | AI49: 山口 | AJ49: =IFERROR(_xlfn.XLOOKUP(AI49,$A$29:$A$75,$E$29:$E$75),"-") -> 4810 | AK49: =IFERROR(_xlfn.RANK.EQ(AJ49,$AJ$15:$AJ$61,0)+COUNTIF($AJ$15:AJ49,AJ49)-1,"-") -> 18 | AM49: =IFERROR(RANK(AO49,$AO$15:$AO$61,0),"-") -> - | AN49: =IFERROR(INDEX($AI$15:$AI$61,MATCH(AH49,$AK$15:$AK$61,0)),"-") -> - | AO49: =IFERROR(LARGE($AJ$15:$AJ$61,AH49),"-") -> - | AP49: =IFERROR(ROUND(AO49/$E$15*100,1),"-") -> -
A50: 静岡 | C50: 324 | D50: 4080 | E50: 13200 | F50: 12000 | G50: 99 | H50: 109 | I50: 107 | J50: 107 | K50: 107 | N50: 36 | O50: 徳島 | P50: =IFERROR(_xlfn.XLOOKUP(O50,$A$29:$A$75,$C$29:$C$75),"-") -> … | Q50: =IFERROR(_xlfn.RANK.EQ(P50,$P$15:$P$61,0)+COUNTIF($P$15:P50,P50)-1,"-") -> - | S50: =IFERROR(RANK(U50,$U$15:$U$61,0),"-") -> - | T50: =IFERROR(INDEX($O$15:$O$61,MATCH(N50,$Q$15:$Q$61,0)),"-") -> - | U50: =IFERROR(LARGE($P$15:$P$61,N50),"-") -> - | V50: =IFERROR(ROUND(U50/$C$15*100,1),"-") -> - | X50: 36 | Y50: 徳島 | Z50: =IFERROR(_xlfn.XLOOKUP(Y50,$A$29:$A$75,$D$29:$D$75),"-") -> … | AA50: =IFERROR(_xlfn.RANK.EQ(Z50,$Z$15:$Z$61,0)+COUNTIF($Z$15:Z50,Z50)-1,"-") -> - | AC50: =IFERROR(RANK(AE50,$AE$15:$AE$61,0),"-") -> - | AD50: =IFERROR(INDEX($Y$15:$Y$61,MATCH(X50,$AA$15:$AA$61,0)),"-") -> - | AE50: =IFERROR(LARGE($Z$15:$Z$61,X50),"-") -> - | AF50: =IFERROR(ROUND(AE50/$D$15*100,1),"-") -> - | AH50: 36 | AI50: 徳島 | AJ50: =IFERROR(_xlfn.XLOOKUP(AI50,$A$29:$A$75,$E$29:$E$75),"-") -> … | AK50: =IFERROR(_xlfn.RANK.EQ(AJ50,$AJ$15:$AJ$61,0)+COUNTIF($AJ$15:AJ50,AJ50)-1,"-") -> - | AM50: =IFERROR(RANK(AO50,$AO$15:$AO$61,0),"-") -> - | AN50: =IFERROR(INDEX($AI$15:$AI$61,MATCH(AH50,$AK$15:$AK$61,0)),"-") -> - | AO50: =IFERROR(LARGE($AJ$15:$AJ$61,AH50),"-") -> - | AP50: =IFERROR(ROUND(AO50/$E$15*100,1),"-") -> -
A51: 愛知 | C51: 468 | D51: 5190 | E51: 24300 | F51: 21900 | G51: 99 | H51: 99 | I51: 97 | J51: 98 | K51: 100 | N51: 37 | O51: 香川 | P51: =IFERROR(_xlfn.XLOOKUP(O51,$A$29:$A$75,$C$29:$C$75),"-") -> 190 | Q51: =IFERROR(_xlfn.RANK.EQ(P51,$P$15:$P$61,0)+COUNTIF($P$15:P51,P51)-1,"-") -> 10 | S51: =IFERROR(RANK(U51,$U$15:$U$61,0),"-") -> - | T51: =IFERROR(INDEX($O$15:$O$61,MATCH(N51,$Q$15:$Q$61,0)),"-") -> - | U51: =IFERROR(LARGE($P$15:$P$61,N51),"-") -> - | V51: =IFERROR(ROUND(U51/$C$15*100,1),"-") -> - | X51: 37 | Y51: 香川 | Z51: =IFERROR(_xlfn.XLOOKUP(Y51,$A$29:$A$75,$D$29:$D$75),"-") -> 5020 | AA51: =IFERROR(_xlfn.RANK.EQ(Z51,$Z$15:$Z$61,0)+COUNTIF($Z$15:Z51,Z51)-1,"-") -> 4 | AC51: =IFERROR(RANK(AE51,$AE$15:$AE$61,0),"-") -> - | AD51: =IFERROR(INDEX($Y$15:$Y$61,MATCH(X51,$AA$15:$AA$61,0)),"-") -> - | AE51: =IFERROR(LARGE($Z$15:$Z$61,X51),"-") -> - | AF51: =IFERROR(ROUND(AE51/$D$15*100,1),"-") -> - | AH51: 37 | AI51: 香川 | AJ51: =IFERROR(_xlfn.XLOOKUP(AI51,$A$29:$A$75,$E$29:$E$75),"-") -> 9540 | AK51: =IFERROR(_xlfn.RANK.EQ(AJ51,$AJ$15:$AJ$61,0)+COUNTIF($AJ$15:AJ51,AJ51)-1,"-") -> 9 | AM51: =IFERROR(RANK(AO51,$AO$15:$AO$61,0),"-") -> - | AN51: =IFERROR(INDEX($AI$15:$AI$61,MATCH(AH51,$AK$15:$AK$61,0)),"-") -> - | AO51: =IFERROR(LARGE($AJ$15:$AJ$61,AH51),"-") -> - | AP51: =IFERROR(ROUND(AO51/$E$15*100,1),"-") -> -
A52: 三重 | C52: 117 | D52: 2640 | E52: 3090 | F52: 1750 | G52: 99 | H52: 106 | I52: 105 | J52: 105 | K52: 99 | N52: 38 | O52: 愛媛 | P52: =IFERROR(_xlfn.XLOOKUP(O52,$A$29:$A$75,$C$29:$C$75),"-") -> 215 | Q52: =IFERROR(_xlfn.RANK.EQ(P52,$P$15:$P$61,0)+COUNTIF($P$15:P52,P52)-1,"-") -> 9 | S52: =IFERROR(RANK(U52,$U$15:$U$61,0),"-") -> - | T52: =IFERROR(INDEX($O$15:$O$61,MATCH(N52,$Q$15:$Q$61,0)),"-") -> - | U52: =IFERROR(LARGE($P$15:$P$61,N52),"-") -> - | V52: =IFERROR(ROUND(U52/$C$15*100,1),"-") -> - | X52: 38 | Y52: 愛媛 | Z52: =IFERROR(_xlfn.XLOOKUP(Y52,$A$29:$A$75,$D$29:$D$75),"-") -> 3330 | AA52: =IFERROR(_xlfn.RANK.EQ(Z52,$Z$15:$Z$61,0)+COUNTIF($Z$15:Z52,Z52)-1,"-") -> 17 | AC52: =IFERROR(RANK(AE52,$AE$15:$AE$61,0),"-") -> - | AD52: =IFERROR(INDEX($Y$15:$Y$61,MATCH(X52,$AA$15:$AA$61,0)),"-") -> - | AE52: =IFERROR(LARGE($Z$15:$Z$61,X52),"-") -> - | AF52: =IFERROR(ROUND(AE52/$D$15*100,1),"-") -> - | AH52: 38 | AI52: 愛媛 | AJ52: =IFERROR(_xlfn.XLOOKUP(AI52,$A$29:$A$75,$E$29:$E$75),"-") -> 7160 | AK52: =IFERROR(_xlfn.RANK.EQ(AJ52,$AJ$15:$AJ$61,0)+COUNTIF($AJ$15:AJ52,AJ52)-1,"-") -> 12 | AM52: =IFERROR(RANK(AO52,$AO$15:$AO$61,0),"-") -> - | AN52: =IFERROR(INDEX($AI$15:$AI$61,MATCH(AH52,$AK$15:$AK$61,0)),"-") -> - | AO52: =IFERROR(LARGE($AJ$15:$AJ$61,AH52),"-") -> - | AP52: =IFERROR(ROUND(AO52/$E$15*100,1),"-") -> -
A53: 滋賀 | C53: … | D53: … | E53: … | F53: … | G53: nc | H53: nc | I53: nc | J53: nc | K53: nc | N53: 39 | O53: 高知 | P53: =IFERROR(_xlfn.XLOOKUP(O53,$A$29:$A$75,$C$29:$C$75),"-") -> … | Q53: =IFERROR(_xlfn.RANK.EQ(P53,$P$15:$P$61,0)+COUNTIF($P$15:P53,P53)-1,"-") -> - | S53: =IFERROR(RANK(U53,$U$15:$U$61,0),"-") -> - | T53: =IFERROR(INDEX($O$15:$O$61,MATCH(N53,$Q$15:$Q$61,0)),"-") -> - | U53: =IFERROR(LARGE($P$15:$P$61,N53),"-") -> - | V53: =IFERROR(ROUND(U53/$C$15*100,1),"-") -> - | X53: 39 | Y53: 高知 | Z53: =IFERROR(_xlfn.XLOOKUP(Y53,$A$29:$A$75,$D$29:$D$75),"-") -> … | AA53: =IFERROR(_xlfn.RANK.EQ(Z53,$Z$15:$Z$61,0)+COUNTIF($Z$15:Z53,Z53)-1,"-") -> - | AC53: =IFERROR(RANK(AE53,$AE$15:$AE$61,0),"-") -> - | AD53: =IFERROR(INDEX($Y$15:$Y$61,MATCH(X53,$AA$15:$AA$61,0)),"-") -> - | AE53: =IFERROR(LARGE($Z$15:$Z$61,X53),"-") -> - | AF53: =IFERROR(ROUND(AE53/$D$15*100,1),"-") -> - | AH53: 39 | AI53: 高知 | AJ53: =IFERROR(_xlfn.XLOOKUP(AI53,$A$29:$A$75,$E$29:$E$75),"-") -> … | AK53: =IFERROR(_xlfn.RANK.EQ(AJ53,$AJ$15:$AJ$61,0)+COUNTIF($AJ$15:AJ53,AJ53)-1,"-") -> - | AM53: =IFERROR(RANK(AO53,$AO$15:$AO$61,0),"-") -> - | AN53: =IFERROR(INDEX($AI$15:$AI$61,MATCH(AH53,$AK$15:$AK$61,0)),"-") -> - | AO53: =IFERROR(LARGE($AJ$15:$AJ$61,AH53),"-") -> - | AP53: =IFERROR(ROUND(AO53/$E$15*100,1),"-") -> -
A54: 京都 | C54: … | D54: … | E54: … | F54: … | G54: nc | H54: nc | I54: nc | J54: nc | K54: nc | N54: 40 | O54: 福岡 | P54: =IFERROR(_xlfn.XLOOKUP(O54,$A$29:$A$75,$C$29:$C$75),"-") -> 141 | Q54: =IFERROR(_xlfn.RANK.EQ(P54,$P$15:$P$61,0)+COUNTIF($P$15:P54,P54)-1,"-") -> 21 | S54: =IFERROR(RANK(U54,$U$15:$U$61,0),"-") -> - | T54: =IFERROR(INDEX($O$15:$O$61,MATCH(N54,$Q$15:$Q$61,0)),"-") -> - | U54: =IFERROR(LARGE($P$15:$P$61,N54),"-") -> - | V54: =IFERROR(ROUND(U54/$C$15*100,1),"-") -> - | X54: 40 | Y54: 福岡 | Z54: =IFERROR(_xlfn.XLOOKUP(Y54,$A$29:$A$75,$D$29:$D$75),"-") -> 3040 | AA54: =IFERROR(_xlfn.RANK.EQ(Z54,$Z$15:$Z$61,0)+COUNTIF($Z$15:Z54,Z54)-1,"-") -> 20 | AC54: =IFERROR(RANK(AE54,$AE$15:$AE$61,0),"-") -> - | AD54: =IFERROR(INDEX($Y$15:$Y$61,MATCH(X54,$AA$15:$AA$61,0)),"-") -> - | AE54: =IFERROR(LARGE($Z$15:$Z$61,X54),"-") -> - | AF54: =IFERROR(ROUND(AE54/$D$15*100,1),"-") -> - | AH54: 40 | AI54: 福岡 | AJ54: =IFERROR(_xlfn.XLOOKUP(AI54,$A$29:$A$75,$E$29:$E$75),"-") -> 4290 | AK54: =IFERROR(_xlfn.RANK.EQ(AJ54,$AJ$15:$AJ$61,0)+COUNTIF($AJ$15:AJ54,AJ54)-1,"-") -> 19 | AM54: =IFERROR(RANK(AO54,$AO$15:$AO$61,0),"-") -> - | AN54: =IFERROR(INDEX($AI$15:$AI$61,MATCH(AH54,$AK$15:$AK$61,0)),"-") -> - | AO54: =IFERROR(LARGE($AJ$15:$AJ$61,AH54),"-") -> - | AP54: =IFERROR(ROUND(AO54/$E$15*100,1),"-") -> -
A55: 大阪 | C55: 97 | D55: 3630 | E55: 3520 | F55: 3200 | G55: 97 | H55: 116 | I55: 112 | J55: 112 | K55: 102 | N55: 41 | O55: 佐賀 | P55: =IFERROR(_xlfn.XLOOKUP(O55,$A$29:$A$75,$C$29:$C$75),"-") -> 2130 | Q55: =IFERROR(_xlfn.RANK.EQ(P55,$P$15:$P$61,0)+COUNTIF($P$15:P55,P55)-1,"-") -> 2 | S55: =IFERROR(RANK(U55,$U$15:$U$61,0),"-") -> - | T55: =IFERROR(INDEX($O$15:$O$61,MATCH(N55,$Q$15:$Q$61,0)),"-") -> - | U55: =IFERROR(LARGE($P$15:$P$61,N55),"-") -> - | V55: =IFERROR(ROUND(U55/$C$15*100,1),"-") -> - | X55: 41 | Y55: 佐賀 | Z55: =IFERROR(_xlfn.XLOOKUP(Y55,$A$29:$A$75,$D$29:$D$75),"-") -> 4580 | AA55: =IFERROR(_xlfn.RANK.EQ(Z55,$Z$15:$Z$61,0)+COUNTIF($Z$15:Z55,Z55)-1,"-") -> 7 | AC55: =IFERROR(RANK(AE55,$AE$15:$AE$61,0),"-") -> - | AD55: =IFERROR(INDEX($Y$15:$Y$61,MATCH(X55,$AA$15:$AA$61,0)),"-") -> - | AE55: =IFERROR(LARGE($Z$15:$Z$61,X55),"-") -> - | AF55: =IFERROR(ROUND(AE55/$D$15*100,1),"-") -> - | AH55: 41 | AI55: 佐賀 | AJ55: =IFERROR(_xlfn.XLOOKUP(AI55,$A$29:$A$75,$E$29:$E$75),"-") -> 97600 | AK55: =IFERROR(_xlfn.RANK.EQ(AJ55,$AJ$15:$AJ$61,0)+COUNTIF($AJ$15:AJ55,AJ55)-1,"-") -> 3 | AM55: =IFERROR(RANK(AO55,$AO$15:$AO$61,0),"-") -> - | AN55: =IFERROR(INDEX($AI$15:$AI$61,MATCH(AH55,$AK$15:$AK$61,0)),"-") -> - | AO55: =IFERROR(LARGE($AJ$15:$AJ$61,AH55),"-") -> - | AP55: =IFERROR(ROUND(AO55/$E$15*100,1),"-") -> -
A56: 兵庫 | C56: 1650 | D56: 5930 | E56: 97800 | F56: 90100 | G56: 103 | H56: 110 | I56: 113 | J56: 114 | K56: 104 | N56: 42 | O56: 長崎 | P56: =IFERROR(_xlfn.XLOOKUP(O56,$A$29:$A$75,$C$29:$C$75),"-") -> 762 | Q56: =IFERROR(_xlfn.RANK.EQ(P56,$P$15:$P$61,0)+COUNTIF($P$15:P56,P56)-1,"-") -> 4 | S56: =IFERROR(RANK(U56,$U$15:$U$61,0),"-") -> - | T56: =IFERROR(INDEX($O$15:$O$61,MATCH(N56,$Q$15:$Q$61,0)),"-") -> - | U56: =IFERROR(LARGE($P$15:$P$61,N56),"-") -> - | V56: =IFERROR(ROUND(U56/$C$15*100,1),"-") -> - | X56: 42 | Y56: 長崎 | Z56: =IFERROR(_xlfn.XLOOKUP(Y56,$A$29:$A$75,$D$29:$D$75),"-") -> 3930 | AA56: =IFERROR(_xlfn.RANK.EQ(Z56,$Z$15:$Z$61,0)+COUNTIF($Z$15:Z56,Z56)-1,"-") -> 11 | AC56: =IFERROR(RANK(AE56,$AE$15:$AE$61,0),"-") -> - | AD56: =IFERROR(INDEX($Y$15:$Y$61,MATCH(X56,$AA$15:$AA$61,0)),"-") -> - | AE56: =IFERROR(LARGE($Z$15:$Z$61,X56),"-") -> - | AF56: =IFERROR(ROUND(AE56/$D$15*100,1),"-") -> - | AH56: 42 | AI56: 長崎 | AJ56: =IFERROR(_xlfn.XLOOKUP(AI56,$A$29:$A$75,$E$29:$E$75),"-") -> 29900 | AK56: =IFERROR(_xlfn.RANK.EQ(AJ56,$AJ$15:$AJ$61,0)+COUNTIF($AJ$15:AJ56,AJ56)-1,"-") -> 4 | AM56: =IFERROR(RANK(AO56,$AO$15:$AO$61,0),"-") -> - | AN56: =IFERROR(INDEX($AI$15:$AI$61,MATCH(AH56,$AK$15:$AK$61,0)),"-") -> - | AO56: =IFERROR(LARGE($AJ$15:$AJ$61,AH56),"-") -> - | AP56: =IFERROR(ROUND(AO56/$E$15*100,1),"-") -> -
A57: 奈良 | C57: … | D57: … | E57: … | F57: … | G57: nc | H57: nc | I57: nc | J57: nc | K57: nc | N57: 43 | O57: 熊本 | P57: =IFERROR(_xlfn.XLOOKUP(O57,$A$29:$A$75,$C$29:$C$75),"-") -> 305 | Q57: =IFERROR(_xlfn.RANK.EQ(P57,$P$15:$P$61,0)+COUNTIF($P$15:P57,P57)-1,"-") -> 7 | S57: =IFERROR(RANK(U57,$U$15:$U$61,0),"-") -> - | T57: =IFERROR(INDEX($O$15:$O$61,MATCH(N57,$Q$15:$Q$61,0)),"-") -> - | U57: =IFERROR(LARGE($P$15:$P$61,N57),"-") -> - | V57: =IFERROR(ROUND(U57/$C$15*100,1),"-") -> - | X57: 43 | Y57: 熊本 | Z57: =IFERROR(_xlfn.XLOOKUP(Y57,$A$29:$A$75,$D$29:$D$75),"-") -> 3850 | AA57: =IFERROR(_xlfn.RANK.EQ(Z57,$Z$15:$Z$61,0)+COUNTIF($Z$15:Z57,Z57)-1,"-") -> 12 | AC57: =IFERROR(RANK(AE57,$AE$15:$AE$61,0),"-") -> - | AD57: =IFERROR(INDEX($Y$15:$Y$61,MATCH(X57,$AA$15:$AA$61,0)),"-") -> - | AE57: =IFERROR(LARGE($Z$15:$Z$61,X57),"-") -> - | AF57: =IFERROR(ROUND(AE57/$D$15*100,1),"-") -> - | AH57: 43 | AI57: 熊本 | AJ57: =IFERROR(_xlfn.XLOOKUP(AI57,$A$29:$A$75,$E$29:$E$75),"-") -> 11700 | AK57: =IFERROR(_xlfn.RANK.EQ(AJ57,$AJ$15:$AJ$61,0)+COUNTIF($AJ$15:AJ57,AJ57)-1,"-") -> 7 | AM57: =IFERROR(RANK(AO57,$AO$15:$AO$61,0),"-") -> - | AN57: =IFERROR(INDEX($AI$15:$AI$61,MATCH(AH57,$AK$15:$AK$61,0)),"-") -> - | AO57: =IFERROR(LARGE($AJ$15:$AJ$61,AH57),"-") -> - | AP57: =IFERROR(ROUND(AO57/$E$15*100,1),"-") -> -
A58: 和歌山 | C58: 92 | D58: 4460 | E58: 4100 | F58: 3330 | G58: 94 | H58: 106 | I58: 100 | J58: 100 | K58: 107 | N58: 44 | O58: 大分 | P58: =IFERROR(_xlfn.XLOOKUP(O58,$A$29:$A$75,$C$29:$C$75),"-") -> … | Q58: =IFERROR(_xlfn.RANK.EQ(P58,$P$15:$P$61,0)+COUNTIF($P$15:P58,P58)-1,"-") -> - | S58: =IFERROR(RANK(U58,$U$15:$U$61,0),"-") -> - | T58: =IFERROR(INDEX($O$15:$O$61,MATCH(N58,$Q$15:$Q$61,0)),"-") -> - | U58: =IFERROR(LARGE($P$15:$P$61,N58),"-") -> - | V58: =IFERROR(ROUND(U58/$C$15*100,1),"-") -> - | X58: 44 | Y58: 大分 | Z58: =IFERROR(_xlfn.XLOOKUP(Y58,$A$29:$A$75,$D$29:$D$75),"-") -> … | AA58: =IFERROR(_xlfn.RANK.EQ(Z58,$Z$15:$Z$61,0)+COUNTIF($Z$15:Z58,Z58)-1,"-") -> - | AC58: =IFERROR(RANK(AE58,$AE$15:$AE$61,0),"-") -> - | AD58: =IFERROR(INDEX($Y$15:$Y$61,MATCH(X58,$AA$15:$AA$61,0)),"-") -> - | AE58: =IFERROR(LARGE($Z$15:$Z$61,X58),"-") -> - | AF58: =IFERROR(ROUND(AE58/$D$15*100,1),"-") -> - | AH58: 44 | AI58: 大分 | AJ58: =IFERROR(_xlfn.XLOOKUP(AI58,$A$29:$A$75,$E$29:$E$75),"-") -> … | AK58: =IFERROR(_xlfn.RANK.EQ(AJ58,$AJ$15:$AJ$61,0)+COUNTIF($AJ$15:AJ58,AJ58)-1,"-") -> - | AM58: =IFERROR(RANK(AO58,$AO$15:$AO$61,0),"-") -> - | AN58: =IFERROR(INDEX($AI$15:$AI$61,MATCH(AH58,$AK$15:$AK$61,0)),"-") -> - | AO58: =IFERROR(LARGE($AJ$15:$AJ$61,AH58),"-") -> - | AP58: =IFERROR(ROUND(AO58/$E$15*100,1),"-") -> -
A59: 鳥取 | C59: … | D59: … | E59: … | F59: … | G59: nc | H59: nc | I59: nc | J59: nc | K59: nc | N59: 45 | O59: 宮崎 | P59: =IFERROR(_xlfn.XLOOKUP(O59,$A$29:$A$75,$C$29:$C$75),"-") -> … | Q59: =IFERROR(_xlfn.RANK.EQ(P59,$P$15:$P$61,0)+COUNTIF($P$15:P59,P59)-1,"-") -> - | S59: =IFERROR(RANK(U59,$U$15:$U$61,0),"-") -> - | T59: =IFERROR(INDEX($O$15:$O$61,MATCH(N59,$Q$15:$Q$61,0)),"-") -> - | U59: =IFERROR(LARGE($P$15:$P$61,N59),"-") -> - | V59: =IFERROR(ROUND(U59/$C$15*100,1),"-") -> - | X59: 45 | Y59: 宮崎 | Z59: =IFERROR(_xlfn.XLOOKUP(Y59,$A$29:$A$75,$D$29:$D$75),"-") -> … | AA59: =IFERROR(_xlfn.RANK.EQ(Z59,$Z$15:$Z$61,0)+COUNTIF($Z$15:Z59,Z59)-1,"-") -> - | AC59: =IFERROR(RANK(AE59,$AE$15:$AE$61,0),"-") -> - | AD59: =IFERROR(INDEX($Y$15:$Y$61,MATCH(X59,$AA$15:$AA$61,0)),"-") -> - | AE59: =IFERROR(LARGE($Z$15:$Z$61,X59),"-") -> - | AF59: =IFERROR(ROUND(AE59/$D$15*100,1),"-") -> - | AH59: 45 | AI59: 宮崎 | AJ59: =IFERROR(_xlfn.XLOOKUP(AI59,$A$29:$A$75,$E$29:$E$75),"-") -> … | AK59: =IFERROR(_xlfn.RANK.EQ(AJ59,$AJ$15:$AJ$61,0)+COUNTIF($AJ$15:AJ59,AJ59)-1,"-") -> - | AM59: =IFERROR(RANK(AO59,$AO$15:$AO$61,0),"-") -> - | AN59: =IFERROR(INDEX($AI$15:$AI$61,MATCH(AH59,$AK$15:$AK$61,0)),"-") -> - | AO59: =IFERROR(LARGE($AJ$15:$AJ$61,AH59),"-") -> - | AP59: =IFERROR(ROUND(AO59/$E$15*100,1),"-") -> -
A60: 島根 | C60: 154 | D60: 2520 | E60: 3880 | F60: 2640 | G60: 111 | H60: 97 | I60: 107 | J60: 112 | K60: 97 | N60: 46 | O60: 鹿児島 | P60: =IFERROR(_xlfn.XLOOKUP(O60,$A$29:$A$75,$C$29:$C$75),"-") -> … | Q60: =IFERROR(_xlfn.RANK.EQ(P60,$P$15:$P$61,0)+COUNTIF($P$15:P60,P60)-1,"-") -> - | S60: =IFERROR(RANK(U60,$U$15:$U$61,0),"-") -> - | T60: =IFERROR(INDEX($O$15:$O$61,MATCH(N60,$Q$15:$Q$61,0)),"-") -> - | U60: =IFERROR(LARGE($P$15:$P$61,N60),"-") -> - | V60: =IFERROR(ROUND(U60/$C$15*100,1),"-") -> - | X60: 46 | Y60: 鹿児島 | Z60: =IFERROR(_xlfn.XLOOKUP(Y60,$A$29:$A$75,$D$29:$D$75),"-") -> … | AA60: =IFERROR(_xlfn.RANK.EQ(Z60,$Z$15:$Z$61,0)+COUNTIF($Z$15:Z60,Z60)-1,"-") -> - | AC60: =IFERROR(RANK(AE60,$AE$15:$AE$61,0),"-") -> - | AD60: =IFERROR(INDEX($Y$15:$Y$61,MATCH(X60,$AA$15:$AA$61,0)),"-") -> - | AE60: =IFERROR(LARGE($Z$15:$Z$61,X60),"-") -> - | AF60: =IFERROR(ROUND(AE60/$D$15*100,1),"-") -> - | AH60: 46 | AI60: 鹿児島 | AJ60: =IFERROR(_xlfn.XLOOKUP(AI60,$A$29:$A$75,$E$29:$E$75),"-") -> … | AK60: =IFERROR(_xlfn.RANK.EQ(AJ60,$AJ$15:$AJ$61,0)+COUNTIF($AJ$15:AJ60,AJ60)-1,"-") -> - | AM60: =IFERROR(RANK(AO60,$AO$15:$AO$61,0),"-") -> - | AN60: =IFERROR(INDEX($AI$15:$AI$61,MATCH(AH60,$AK$15:$AK$61,0)),"-") -> - | AO60: =IFERROR(LARGE($AJ$15:$AJ$61,AH60),"-") -> - | AP60: =IFERROR(ROUND(AO60/$E$15*100,1),"-") -> -
A61: 岡山 | C61: 174 | D61: 3520 | E61: 6120 | F61: 4590 | G61: 118 | H61: 115 | I61: 136 | J61: 136 | K61: 105 | N61: 47 | O61: 沖縄 | P61: =IFERROR(_xlfn.XLOOKUP(O61,$A$29:$A$75,$C$29:$C$75),"-") -> … | Q61: =IFERROR(_xlfn.RANK.EQ(P61,$P$15:$P$61,0)+COUNTIF($P$15:P61,P61)-1,"-") -> - | S61: =IFERROR(RANK(U61,$U$15:$U$61,0),"-") -> - | T61: =IFERROR(INDEX($O$15:$O$61,MATCH(N61,$Q$15:$Q$61,0)),"-") -> - | U61: =IFERROR(LARGE($P$15:$P$61,N61),"-") -> - | V61: =IFERROR(ROUND(U61/$C$15*100,1),"-") -> - | X61: 47 | Y61: 沖縄 | Z61: =IFERROR(_xlfn.XLOOKUP(Y61,$A$29:$A$75,$D$29:$D$75),"-") -> … | AA61: =IFERROR(_xlfn.RANK.EQ(Z61,$Z$15:$Z$61,0)+COUNTIF($Z$15:Z61,Z61)-1,"-") -> - | AC61: =IFERROR(RANK(AE61,$AE$15:$AE$61,0),"-") -> - | AD61: =IFERROR(INDEX($Y$15:$Y$61,MATCH(X61,$AA$15:$AA$61,0)),"-") -> - | AE61: =IFERROR(LARGE($Z$15:$Z$61,X61),"-") -> - | AF61: =IFERROR(ROUND(AE61/$D$15*100,1),"-") -> - | AH61: 47 | AI61: 沖縄 | AJ61: =IFERROR(_xlfn.XLOOKUP(AI61,$A$29:$A$75,$E$29:$E$75),"-") -> … | AK61: =IFERROR(_xlfn.RANK.EQ(AJ61,$AJ$15:$AJ$61,0)+COUNTIF($AJ$15:AJ61,AJ61)-1,"-") -> - | AM61: =IFERROR(RANK(AO61,$AO$15:$AO$61,0),"-") -> - | AN61: =IFERROR(INDEX($AI$15:$AI$61,MATCH(AH61,$AK$15:$AK$61,0)),"-") -> - | AO61: =IFERROR(LARGE($AJ$15:$AJ$61,AH61),"-") -> - | AP61: =IFERROR(ROUND(AO61/$E$15*100,1),"-") -> -
A62: 広島 | C62: … | D62: … | E62: … | F62: … | G62: nc | H62: nc | I62: nc | J62: nc | K62: nc
A63: 山口 | C63: 166 | D63: 2900 | E63: 4810 | F63: 3520 | G63: 98 | H63: 109 | I63: 106 | J63: 106 | K63: 99
A64: 徳島 | C64: … | D64: … | E64: … | F64: … | G64: nc | H64: nc | I64: nc | J64: nc | K64: nc | N64: たまねぎ(VLOOKUP)
A65: 香川 | C65: 190 | D65: 5020 | E65: 9540 | F65: 8480 | G65: 108 | H65: 103 | I65: 111 | J65: 111 | K65: 111
A66: 愛媛 | C66: 215 | D66: 3330 | E66: 7160 | F66: 5550 | G66: 82 | H66: 112 | I66: 92 | J66: 91 | K66: 106 | N66: 作付面積 | X66: 10a当たり収量 | AH66: 収穫量
A67: 高知 | C67: … | D67: … | E67: … | F67: … | G67: nc | H67: nc | I67: nc | J67: nc | K67: nc
A68: 福岡 | C68: 141 | D68: 3040 | E68: 4290 | F68: 2510 | G68: 101 | H68: 107 | I68: 109 | J68: 113 | K68: 99 | N68: 1 | O68: 北海道 | P68: =IFERROR(VLOOKUP(O68,$A$29:$E$75,3,FALSE),"-") -> 14900 | Q68: =IFERROR(_xlfn.RANK.EQ(P68,$P$68:$P$114,0)+COUNTIF($P$68:P68,P68)-1,"-") -> 1 | S68: =IFERROR(RANK(U68,$U$68:$U$114,0),"-") -> 1 | T68: =IFERROR(INDEX($O$68:$O$114,MATCH(N68,$Q$68:$Q$114,0)),"-") -> 北海道 | U68: =IFERROR(LARGE($P$68:$P$114,N68),"-") -> 14900 | V68: =IFERROR(ROUND(U68/$C$15*100,1),"-") -> 58.4 | X68: 1 | Y68: 北海道 | Z68: =IFERROR(VLOOKUP(Y68,$A$29:$E$75,4,FALSE),"-") -> 5050 | AA68: =IFERROR(_xlfn.RANK.EQ(Z68,$Z$68:$Z$114,0)+COUNTIF($Z$68:Z68,Z68)-1,"-") -> 3 | AC68: =IFERROR(RANK(AE68,$AE$68:$AE$114,0),"-") -> 1 | AD68: =IFERROR(INDEX($Y$68:$Y$114,MATCH(X68,$AA$68:$AA$114,0)),"-") -> 兵庫 | AE68: =IFERROR(LARGE($Z$68:$Z$114,X68),"-") -> 5930 | AF68: =IFERROR(ROUND(AE68/$D$15*100,1),"-") -> 128.9 | AH68: 1 | AI68: 北海道 | AJ68: =IFERROR(VLOOKUP(AI68,$A$29:$E$75,5,FALSE),"-") -> 752500 | AK68: =IFERROR(_xlfn.RANK.EQ(AJ68,$AJ$68:$AJ$114,0)+COUNTIF($AJ$68:AJ68,AJ68)-1,"-") -> 1 | AM68: =IFERROR(RANK(AO68,$AO$68:$AO$114,0),"-") -> 1 | AN68: =IFERROR(INDEX($AI$68:$AI$114,MATCH(AH68,$AK$68:$AK$114,0)),"-") -> 北海道 | AO68: =IFERROR(LARGE($AJ$68:$AJ$114,AH68),"-") -> 752500 | AP68: =IFERROR(ROUND(AO68/$E$15*100,1),"-") -> 64.1
A69: 佐賀 | C69: 2130 | D69: 4580 | E69: 97600 | F69: 90700 | G69: 106 | H69: 110 | I69: 116 | J69: 116 | K69: 94 | N69: 2 | O69: 青森 | P69: =IFERROR(VLOOKUP(O69,$A$29:$E$75,3,FALSE),"-") -> … | Q69: =IFERROR(_xlfn.RANK.EQ(P69,$P$68:$P$114,0)+COUNTIF($P$68:P69,P69)-1,"-") -> - | S69: =IFERROR(RANK(U69,$U$68:$U$114,0),"-") -> 2 | T69: =IFERROR(INDEX($O$68:$O$114,MATCH(N69,$Q$68:$Q$114,0)),"-") -> 佐賀 | U69: =IFERROR(LARGE($P$68:$P$114,N69),"-") -> 2130 | V69: =IFERROR(ROUND(U69/$C$15*100,1),"-") -> 8.4 | X69: 2 | Y69: 青森 | Z69: =IFERROR(VLOOKUP(Y69,$A$29:$E$75,4,FALSE),"-") -> … | AA69: =IFERROR(_xlfn.RANK.EQ(Z69,$Z$68:$Z$114,0)+COUNTIF($Z$68:Z69,Z69)-1,"-") -> - | AC69: =IFERROR(RANK(AE69,$AE$68:$AE$114,0),"-") -> 2 | AD69: =IFERROR(INDEX($Y$68:$Y$114,MATCH(X69,$AA$68:$AA$114,0)),"-") -> 愛知 | AE69: =IFERROR(LARGE($Z$68:$Z$114,X69),"-") -> 5190 | AF69: =IFERROR(ROUND(AE69/$D$15*100,1),"-") -> 112.8 | AH69: 2 | AI69: 青森 | AJ69: =IFERROR(VLOOKUP(AI69,$A$29:$E$75,5,FALSE),"-") -> … | AK69: =IFERROR(_xlfn.RANK.EQ(AJ69,$AJ$68:$AJ$114,0)+COUNTIF($AJ$68:AJ69,AJ69)-1,"-") -> - | AM69: =IFERROR(RANK(AO69,$AO$68:$AO$114,0),"-") -> 2 | AN69: =IFERROR(INDEX($AI$68:$AI$114,MATCH(AH69,$AK$68:$AK$114,0)),"-") -> 兵庫 | AO69: =IFERROR(LARGE($AJ$68:$AJ$114,AH69),"-") -> 97800 | AP69: =IFERROR(ROUND(AO69/$E$15*100,1),"-") -> 8.3
A70: 長崎 | C70: 762 | D70: 3930 | E70: 29900 | F70: 27300 | G70: 101 | H70: 103 | I70: 104 | J70: 103 | K70: 105 | N70: 3 | O70: 岩手 | P70: =IFERROR(VLOOKUP(O70,$A$29:$E$75,3,FALSE),"-") -> … | Q70: =IFERROR(_xlfn.RANK.EQ(P70,$P$68:$P$114,0)+COUNTIF($P$68:P70,P70)-1,"-") -> - | S70: =IFERROR(RANK(U70,$U$68:$U$114,0),"-") -> 3 | T70: =IFERROR(INDEX($O$68:$O$114,MATCH(N70,$Q$68:$Q$114,0)),"-") -> 兵庫 | U70: =IFERROR(LARGE($P$68:$P$114,N70),"-") -> 1650 | V70: =IFERROR(ROUND(U70/$C$15*100,1),"-") -> 6.5 | X70: 3 | Y70: 岩手 | Z70: =IFERROR(VLOOKUP(Y70,$A$29:$E$75,4,FALSE),"-") -> … | AA70: =IFERROR(_xlfn.RANK.EQ(Z70,$Z$68:$Z$114,0)+COUNTIF($Z$68:Z70,Z70)-1,"-") -> - | AC70: =IFERROR(RANK(AE70,$AE$68:$AE$114,0),"-") -> 3 | AD70: =IFERROR(INDEX($Y$68:$Y$114,MATCH(X70,$AA$68:$AA$114,0)),"-") -> 北海道 | AE70: =IFERROR(LARGE($Z$68:$Z$114,X70),"-") -> 5050 | AF70: =IFERROR(ROUND(AE70/$D$15*100,1),"-") -> 109.8 | AH70: 3 | AI70: 岩手 | AJ70: =IFERROR(VLOOKUP(AI70,$A$29:$E$75,5,FALSE),"-") -> … | AK70: =IFERROR(_xlfn.RANK.EQ(AJ70,$AJ$68:$AJ$114,0)+COUNTIF($AJ$68:AJ70,AJ70)-1,"-") -> - | AM70: =IFERROR(RANK(AO70,$AO$68:$AO$114,0),"-") -> 3 | AN70: =IFERROR(INDEX($AI$68:$AI$114,MATCH(AH70,$AK$68:$AK$114,0)),"-") -> 佐賀 | AO70: =IFERROR(LARGE($AJ$68:$AJ$114,AH70),"-") -> 97600 | AP70: =IFERROR(ROUND(AO70/$E$15*100,1),"-") -> 8.3
A71: 熊本 | C71: 305 | D71: 3850 | E71: 11700 | F71: 9980 | G71: 97 | H71: 97 | I71: 94 | J71: 94 | K71: 102 | N71: 4 | O71: 宮城 | P71: =IFERROR(VLOOKUP(O71,$A$29:$E$75,3,FALSE),"-") -> … | Q71: =IFERROR(_xlfn.RANK.EQ(P71,$P$68:$P$114,0)+COUNTIF($P$68:P71,P71)-1,"-") -> - | S71: =IFERROR(RANK(U71,$U$68:$U$114,0),"-") -> 4 | T71: =IFERROR(INDEX($O$68:$O$114,MATCH(N71,$Q$68:$Q$114,0)),"-") -> 長崎 | U71: =IFERROR(LARGE($P$68:$P$114,N71),"-") -> 762 | V71: =IFERROR(ROUND(U71/$C$15*100,1),"-") -> 3 | X71: 4 | Y71: 宮城 | Z71: =IFERROR(VLOOKUP(Y71,$A$29:$E$75,4,FALSE),"-") -> … | AA71: =IFERROR(_xlfn.RANK.EQ(Z71,$Z$68:$Z$114,0)+COUNTIF($Z$68:Z71,Z71)-1,"-") -> - | AC71: =IFERROR(RANK(AE71,$AE$68:$AE$114,0),"-") -> 4 | AD71: =IFERROR(INDEX($Y$68:$Y$114,MATCH(X71,$AA$68:$AA$114,0)),"-") -> 香川 | AE71: =IFERROR(LARGE($Z$68:$Z$114,X71),"-") -> 5020 | AF71: =IFERROR(ROUND(AE71/$D$15*100,1),"-") -> 109.1 | AH71: 4 | AI71: 宮城 | AJ71: =IFERROR(VLOOKUP(AI71,$A$29:$E$75,5,FALSE),"-") -> … | AK71: =IFERROR(_xlfn.RANK.EQ(AJ71,$AJ$68:$AJ$114,0)+COUNTIF($AJ$68:AJ71,AJ71)-1,"-") -> - | AM71: =IFERROR(RANK(AO71,$AO$68:$AO$114,0),"-") -> 4 | AN71: =IFERROR(INDEX($AI$68:$AI$114,MATCH(AH71,$AK$68:$AK$114,0)),"-") -> 長崎 | AO71: =IFERROR(LARGE($AJ$68:$AJ$114,AH71),"-") -> 29900 | AP71: =IFERROR(ROUND(AO71/$E$15*100,1),"-") -> 2.5
A72: 大分 | C72: … | D72: … | E72: … | F72: … | G72: nc | H72: nc | I72: nc | J72: nc | K72: nc | N72: 5 | O72: 秋田 | P72: =IFERROR(VLOOKUP(O72,$A$29:$E$75,3,FALSE),"-") -> … | Q72: =IFERROR(_xlfn.RANK.EQ(P72,$P$68:$P$114,0)+COUNTIF($P$68:P72,P72)-1,"-") -> - | S72: =IFERROR(RANK(U72,$U$68:$U$114,0),"-") -> 5 | T72: =IFERROR(INDEX($O$68:$O$114,MATCH(N72,$Q$68:$Q$114,0)),"-") -> 愛知 | U72: =IFERROR(LARGE($P$68:$P$114,N72),"-") -> 468 | V72: =IFERROR(ROUND(U72/$C$15*100,1),"-") -> 1.8 | X72: 5 | Y72: 秋田 | Z72: =IFERROR(VLOOKUP(Y72,$A$29:$E$75,4,FALSE),"-") -> … | AA72: =IFERROR(_xlfn.RANK.EQ(Z72,$Z$68:$Z$114,0)+COUNTIF($Z$68:Z72,Z72)-1,"-") -> - | AC72: =IFERROR(RANK(AE72,$AE$68:$AE$114,0),"-") -> 5 | AD72: =IFERROR(INDEX($Y$68:$Y$114,MATCH(X72,$AA$68:$AA$114,0)),"-") -> 富山 | AE72: =IFERROR(LARGE($Z$68:$Z$114,X72),"-") -> 4950 | AF72: =IFERROR(ROUND(AE72/$D$15*100,1),"-") -> 107.6 | AH72: 5 | AI72: 秋田 | AJ72: =IFERROR(VLOOKUP(AI72,$A$29:$E$75,5,FALSE),"-") -> … | AK72: =IFERROR(_xlfn.RANK.EQ(AJ72,$AJ$68:$AJ$114,0)+COUNTIF($AJ$68:AJ72,AJ72)-1,"-") -> - | AM72: =IFERROR(RANK(AO72,$AO$68:$AO$114,0),"-") -> 5 | AN72: =IFERROR(INDEX($AI$68:$AI$114,MATCH(AH72,$AK$68:$AK$114,0)),"-") -> 愛知 | AO72: =IFERROR(LARGE($AJ$68:$AJ$114,AH72),"-") -> 24300 | AP72: =IFERROR(ROUND(AO72/$E$15*100,1),"-") -> 2.1
A73: 宮崎 | C73: … | D73: … | E73: … | F73: … | G73: nc | H73: nc | I73: nc | J73: nc | K73: nc | N73: 6 | O73: 山形 | P73: =IFERROR(VLOOKUP(O73,$A$29:$E$75,3,FALSE),"-") -> … | Q73: =IFERROR(_xlfn.RANK.EQ(P73,$P$68:$P$114,0)+COUNTIF($P$68:P73,P73)-1,"-") -> - | S73: =IFERROR(RANK(U73,$U$68:$U$114,0),"-") -> 6 | T73: =IFERROR(INDEX($O$68:$O$114,MATCH(N73,$Q$68:$Q$114,0)),"-") -> 静岡 | U73: =IFERROR(LARGE($P$68:$P$114,N73),"-") -> 324 | V73: =IFERROR(ROUND(U73/$C$15*100,1),"-") -> 1.3 | X73: 6 | Y73: 山形 | Z73: =IFERROR(VLOOKUP(Y73,$A$29:$E$75,4,FALSE),"-") -> … | AA73: =IFERROR(_xlfn.RANK.EQ(Z73,$Z$68:$Z$114,0)+COUNTIF($Z$68:Z73,Z73)-1,"-") -> - | AC73: =IFERROR(RANK(AE73,$AE$68:$AE$114,0),"-") -> 6 | AD73: =IFERROR(INDEX($Y$68:$Y$114,MATCH(X73,$AA$68:$AA$114,0)),"-") -> 栃木 | AE73: =IFERROR(LARGE($Z$68:$Z$114,X73),"-") -> 4580 | AF73: =IFERROR(ROUND(AE73/$D$15*100,1),"-") -> 99.6 | AH73: 6 | AI73: 山形 | AJ73: =IFERROR(VLOOKUP(AI73,$A$29:$E$75,5,FALSE),"-") -> … | AK73: =IFERROR(_xlfn.RANK.EQ(AJ73,$AJ$68:$AJ$114,0)+COUNTIF($AJ$68:AJ73,AJ73)-1,"-") -> - | AM73: =IFERROR(RANK(AO73,$AO$68:$AO$114,0),"-") -> 6 | AN73: =IFERROR(INDEX($AI$68:$AI$114,MATCH(AH73,$AK$68:$AK$114,0)),"-") -> 静岡 | AO73: =IFERROR(LARGE($AJ$68:$AJ$114,AH73),"-") -> 13200 | AP73: =IFERROR(ROUND(AO73/$E$15*100,1),"-") -> 1.1
A74: 鹿児島 | C74: … | D74: … | E74: … | F74: … | G74: nc | H74: nc | I74: nc | J74: nc | K74: nc | N74: 7 | O74: 福島 | P74: =IFERROR(VLOOKUP(O74,$A$29:$E$75,3,FALSE),"-") -> 170 | Q74: =IFERROR(_xlfn.RANK.EQ(P74,$P$68:$P$114,0)+COUNTIF($P$68:P74,P74)-1,"-") -> 15 | S74: =IFERROR(RANK(U74,$U$68:$U$114,0),"-") -> 7 | T74: =IFERROR(INDEX($O$68:$O$114,MATCH(N74,$Q$68:$Q$114,0)),"-") -> 熊本 | U74: =IFERROR(LARGE($P$68:$P$114,N74),"-") -> 305 | V74: =IFERROR(ROUND(U74/$C$15*100,1),"-") -> 1.2 | X74: 7 | Y74: 福島 | Z74: =IFERROR(VLOOKUP(Y74,$A$29:$E$75,4,FALSE),"-") -> 1730 | AA74: =IFERROR(_xlfn.RANK.EQ(Z74,$Z$68:$Z$114,0)+COUNTIF($Z$68:Z74,Z74)-1,"-") -> 25 | AC74: =IFERROR(RANK(AE74,$AE$68:$AE$114,0),"-") -> 6 | AD74: =IFERROR(INDEX($Y$68:$Y$114,MATCH(X74,$AA$68:$AA$114,0)),"-") -> 佐賀 | AE74: =IFERROR(LARGE($Z$68:$Z$114,X74),"-") -> 4580 | AF74: =IFERROR(ROUND(AE74/$D$15*100,1),"-") -> 99.6 | AH74: 7 | AI74: 福島 | AJ74: =IFERROR(VLOOKUP(AI74,$A$29:$E$75,5,FALSE),"-") -> 2940 | AK74: =IFERROR(_xlfn.RANK.EQ(AJ74,$AJ$68:$AJ$114,0)+COUNTIF($AJ$68:AJ74,AJ74)-1,"-") -> 24 | AM74: =IFERROR(RANK(AO74,$AO$68:$AO$114,0),"-") -> 7 | AN74: =IFERROR(INDEX($AI$68:$AI$114,MATCH(AH74,$AK$68:$AK$114,0)),"-") -> 熊本 | AO74: =IFERROR(LARGE($AJ$68:$AJ$114,AH74),"-") -> 11700 | AP74: =IFERROR(ROUND(AO74/$E$15*100,1),"-") -> 1
A75: 沖縄 | C75: … | D75: … | E75: … | F75: … | G75: nc | H75: nc | I75: nc | J75: nc | K75: nc | N75: 8 | O75: 茨城 | P75: =IFERROR(VLOOKUP(O75,$A$29:$E$75,3,FALSE),"-") -> 175 | Q75: =IFERROR(_xlfn.RANK.EQ(P75,$P$68:$P$114,0)+COUNTIF($P$68:P75,P75)-1,"-") -> 13 | S75: =IFERROR(RANK(U75,$U$68:$U$114,0),"-") -> 8 | T75: =IFERROR(INDEX($O$68:$O$114,MATCH(N75,$Q$68:$Q$114,0)),"-") -> 栃木 | U75: =IFERROR(LARGE($P$68:$P$114,N75),"-") -> 230 | V75: =IFERROR(ROUND(U75/$C$15*100,1),"-") -> 0.9 | X75: 8 | Y75: 茨城 | Z75: =IFERROR(VLOOKUP(Y75,$A$29:$E$75,4,FALSE),"-") -> 3260 | AA75: =IFERROR(_xlfn.RANK.EQ(Z75,$Z$68:$Z$114,0)+COUNTIF($Z$68:Z75,Z75)-1,"-") -> 18 | AC75: =IFERROR(RANK(AE75,$AE$68:$AE$114,0),"-") -> 8 | AD75: =IFERROR(INDEX($Y$68:$Y$114,MATCH(X75,$AA$68:$AA$114,0)),"-") -> 和歌山 | AE75: =IFERROR(LARGE($Z$68:$Z$114,X75),"-") -> 4460 | AF75: =IFERROR(ROUND(AE75/$D$15*100,1),"-") -> 97 | AH75: 8 | AI75: 茨城 | AJ75: =IFERROR(VLOOKUP(AI75,$A$29:$E$75,5,FALSE),"-") -> 5710 | AK75: =IFERROR(_xlfn.RANK.EQ(AJ75,$AJ$68:$AJ$114,0)+COUNTIF($AJ$68:AJ75,AJ75)-1,"-") -> 15 | AM75: =IFERROR(RANK(AO75,$AO$68:$AO$114,0),"-") -> 8 | AN75: =IFERROR(INDEX($AI$68:$AI$114,MATCH(AH75,$AK$68:$AK$114,0)),"-") -> 栃木 | AO75: =IFERROR(LARGE($AJ$68:$AJ$114,AH75),"-") -> 10500 | AP75: =IFERROR(ROUND(AO75/$E$15*100,1),"-") -> 0.9
N76: 9 | O76: 栃木 | P76: =IFERROR(VLOOKUP(O76,$A$29:$E$75,3,FALSE),"-") -> 230 | Q76: =IFERROR(_xlfn.RANK.EQ(P76,$P$68:$P$114,0)+COUNTIF($P$68:P76,P76)-1,"-") -> 8 | S76: =IFERROR(RANK(U76,$U$68:$U$114,0),"-") -> 9 | T76: =IFERROR(INDEX($O$68:$O$114,MATCH(N76,$Q$68:$Q$114,0)),"-") -> 愛媛 | U76: =IFERROR(LARGE($P$68:$P$114,N76),"-") -> 215 | V76: =IFERROR(ROUND(U76/$C$15*100,1),"-") -> 0.8 | X76: 9 | Y76: 栃木 | Z76: =IFERROR(VLOOKUP(Y76,$A$29:$E$75,4,FALSE),"-") -> 4580 | AA76: =IFERROR(_xlfn.RANK.EQ(Z76,$Z$68:$Z$114,0)+COUNTIF($Z$68:Z76,Z76)-1,"-") -> 6 | AC76: =IFERROR(RANK(AE76,$AE$68:$AE$114,0),"-") -> 9 | AD76: =IFERROR(INDEX($Y$68:$Y$114,MATCH(X76,$AA$68:$AA$114,0)),"-") -> 群馬 | AE76: =IFERROR(LARGE($Z$68:$Z$114,X76),"-") -> 4250 | AF76: =IFERROR(ROUND(AE76/$D$15*100,1),"-") -> 92.4 | AH76: 9 | AI76: 栃木 | AJ76: =IFERROR(VLOOKUP(AI76,$A$29:$E$75,5,FALSE),"-") -> 10500 | AK76: =IFERROR(_xlfn.RANK.EQ(AJ76,$AJ$68:$AJ$114,0)+COUNTIF($AJ$68:AJ76,AJ76)-1,"-") -> 8 | AM76: =IFERROR(RANK(AO76,$AO$68:$AO$114,0),"-") -> 9 | AN76: =IFERROR(INDEX($AI$68:$AI$114,MATCH(AH76,$AK$68:$AK$114,0)),"-") -> 香川 | AO76: =IFERROR(LARGE($AJ$68:$AJ$114,AH76),"-") -> 9540 | AP76: =IFERROR(ROUND(AO76/$E$15*100,1),"-") -> 0.8
A77: 関東農政局 | C77: … | D77: … | E77: … | F77: … | G77: nc | H77: nc | I77: nc | J77: nc | K77: nc | N77: 10 | O77: 群馬 | P77: =IFERROR(VLOOKUP(O77,$A$29:$E$75,3,FALSE),"-") -> 187 | Q77: =IFERROR(_xlfn.RANK.EQ(P77,$P$68:$P$114,0)+COUNTIF($P$68:P77,P77)-1,"-") -> 12 | S77: =IFERROR(RANK(U77,$U$68:$U$114,0),"-") -> 10 | T77: =IFERROR(INDEX($O$68:$O$114,MATCH(N77,$Q$68:$Q$114,0)),"-") -> 香川 | U77: =IFERROR(LARGE($P$68:$P$114,N77),"-") -> 190 | V77: =IFERROR(ROUND(U77/$C$15*100,1),"-") -> 0.7 | X77: 10 | Y77: 群馬 | Z77: =IFERROR(VLOOKUP(Y77,$A$29:$E$75,4,FALSE),"-") -> 4250 | AA77: =IFERROR(_xlfn.RANK.EQ(Z77,$Z$68:$Z$114,0)+COUNTIF($Z$68:Z77,Z77)-1,"-") -> 9 | AC77: =IFERROR(RANK(AE77,$AE$68:$AE$114,0),"-") -> 10 | AD77: =IFERROR(INDEX($Y$68:$Y$114,MATCH(X77,$AA$68:$AA$114,0)),"-") -> 静岡 | AE77: =IFERROR(LARGE($Z$68:$Z$114,X77),"-") -> 4080 | AF77: =IFERROR(ROUND(AE77/$D$15*100,1),"-") -> 88.7 | AH77: 10 | AI77: 群馬 | AJ77: =IFERROR(VLOOKUP(AI77,$A$29:$E$75,5,FALSE),"-") -> 7950 | AK77: =IFERROR(_xlfn.RANK.EQ(AJ77,$AJ$68:$AJ$114,0)+COUNTIF($AJ$68:AJ77,AJ77)-1,"-") -> 11 | AM77: =IFERROR(RANK(AO77,$AO$68:$AO$114,0),"-") -> 10 | AN77: =IFERROR(INDEX($AI$68:$AI$114,MATCH(AH77,$AK$68:$AK$114,0)),"-") -> 富山 | AO77: =IFERROR(LARGE($AJ$68:$AJ$114,AH77),"-") -> 9360 | AP77: =IFERROR(ROUND(AO77/$E$15*100,1),"-") -> 0.8
A78: 東海農政局 | C78: 685 | D78: 4350 | E78: 29800 | F78: 25000 | G78: 99 | H78: 98 | I78: 97 | J78: 98 | K78: 99 | N78: 11 | O78: 埼玉 | P78: =IFERROR(VLOOKUP(O78,$A$29:$E$75,3,FALSE),"-") -> 141 | Q78: =IFERROR(_xlfn.RANK.EQ(P78,$P$68:$P$114,0)+COUNTIF($P$68:P78,P78)-1,"-") -> 20 | S78: =IFERROR(RANK(U78,$U$68:$U$114,0),"-") -> 11 | T78: =IFERROR(INDEX($O$68:$O$114,MATCH(N78,$Q$68:$Q$114,0)),"-") -> 富山 | U78: =IFERROR(LARGE($P$68:$P$114,N78),"-") -> 189 | V78: =IFERROR(ROUND(U78/$C$15*100,1),"-") -> 0.7 | X78: 11 | Y78: 埼玉 | Z78: =IFERROR(VLOOKUP(Y78,$A$29:$E$75,4,FALSE),"-") -> 3460 | AA78: =IFERROR(_xlfn.RANK.EQ(Z78,$Z$68:$Z$114,0)+COUNTIF($Z$68:Z78,Z78)-1,"-") -> 15 | AC78: =IFERROR(RANK(AE78,$AE$68:$AE$114,0),"-") -> 11 | AD78: =IFERROR(INDEX($Y$68:$Y$114,MATCH(X78,$AA$68:$AA$114,0)),"-") -> 長崎 | AE78: =IFERROR(LARGE($Z$68:$Z$114,X78),"-") -> 3930 | AF78: =IFERROR(ROUND(AE78/$D$15*100,1),"-") -> 85.4 | AH78: 11 | AI78: 埼玉 | AJ78: =IFERROR(VLOOKUP(AI78,$A$29:$E$75,5,FALSE),"-") -> 4880 | AK78: =IFERROR(_xlfn.RANK.EQ(AJ78,$AJ$68:$AJ$114,0)+COUNTIF($AJ$68:AJ78,AJ78)-1,"-") -> 17 | AM78: =IFERROR(RANK(AO78,$AO$68:$AO$114,0),"-") -> 11 | AN78: =IFERROR(INDEX($AI$68:$AI$114,MATCH(AH78,$AK$68:$AK$114,0)),"-") -> 群馬 | AO78: =IFERROR(LARGE($AJ$68:$AJ$114,AH78),"-") -> 7950 | AP78: =IFERROR(ROUND(AO78/$E$15*100,1),"-") -> 0.7
A79: 中国四国農政局 | C79: … | D79: … | E79: … | F79: … | G79: nc | H79: nc | I79: nc | J79: nc | K79: nc | N79: 12 | O79: 千葉 | P79: =IFERROR(VLOOKUP(O79,$A$29:$E$75,3,FALSE),"-") -> 168 | Q79: =IFERROR(_xlfn.RANK.EQ(P79,$P$68:$P$114,0)+COUNTIF($P$68:P79,P79)-1,"-") -> 16 | S79: =IFERROR(RANK(U79,$U$68:$U$114,0),"-") -> 12 | T79: =IFERROR(INDEX($O$68:$O$114,MATCH(N79,$Q$68:$Q$114,0)),"-") -> 群馬 | U79: =IFERROR(LARGE($P$68:$P$114,N79),"-") -> 187 | V79: =IFERROR(ROUND(U79/$C$15*100,1),"-") -> 0.7 | X79: 12 | Y79: 千葉 | Z79: =IFERROR(VLOOKUP(Y79,$A$29:$E$75,4,FALSE),"-") -> 3420 | AA79: =IFERROR(_xlfn.RANK.EQ(Z79,$Z$68:$Z$114,0)+COUNTIF($Z$68:Z79,Z79)-1,"-") -> 16 | AC79: =IFERROR(RANK(AE79,$AE$68:$AE$114,0),"-") -> 12 | AD79: =IFERROR(INDEX($Y$68:$Y$114,MATCH(X79,$AA$68:$AA$114,0)),"-") -> 熊本 | AE79: =IFERROR(LARGE($Z$68:$Z$114,X79),"-") -> 3850 | AF79: =IFERROR(ROUND(AE79/$D$15*100,1),"-") -> 83.7 | AH79: 12 | AI79: 千葉 | AJ79: =IFERROR(VLOOKUP(AI79,$A$29:$E$75,5,FALSE),"-") -> 5750 | AK79: =IFERROR(_xlfn.RANK.EQ(AJ79,$AJ$68:$AJ$114,0)+COUNTIF($AJ$68:AJ79,AJ79)-1,"-") -> 14 | AM79: =IFERROR(RANK(AO79,$AO$68:$AO$114,0),"-") -> 12 | AN79: =IFERROR(INDEX($AI$68:$AI$114,MATCH(AH79,$AK$68:$AK$114,0)),"-") -> 愛媛 | AO79: =IFERROR(LARGE($AJ$68:$AJ$114,AH79),"-") -> 7160 | AP79: =IFERROR(ROUND(AO79/$E$15*100,1),"-") -> 0.6
N80: 13 | O80: 東京 | P80: =IFERROR(VLOOKUP(O80,$A$29:$E$75,3,FALSE),"-") -> … | Q80: =IFERROR(_xlfn.RANK.EQ(P80,$P$68:$P$114,0)+COUNTIF($P$68:P80,P80)-1,"-") -> - | S80: =IFERROR(RANK(U80,$U$68:$U$114,0),"-") -> 13 | T80: =IFERROR(INDEX($O$68:$O$114,MATCH(N80,$Q$68:$Q$114,0)),"-") -> 茨城 | U80: =IFERROR(LARGE($P$68:$P$114,N80),"-") -> 175 | V80: =IFERROR(ROUND(U80/$C$15*100,1),"-") -> 0.7 | X80: 13 | Y80: 東京 | Z80: =IFERROR(VLOOKUP(Y80,$A$29:$E$75,4,FALSE),"-") -> … | AA80: =IFERROR(_xlfn.RANK.EQ(Z80,$Z$68:$Z$114,0)+COUNTIF($Z$68:Z80,Z80)-1,"-") -> - | AC80: =IFERROR(RANK(AE80,$AE$68:$AE$114,0),"-") -> 13 | AD80: =IFERROR(INDEX($Y$68:$Y$114,MATCH(X80,$AA$68:$AA$114,0)),"-") -> 大阪 | AE80: =IFERROR(LARGE($Z$68:$Z$114,X80),"-") -> 3630 | AF80: =IFERROR(ROUND(AE80/$D$15*100,1),"-") -> 78.9 | AH80: 13 | AI80: 東京 | AJ80: =IFERROR(VLOOKUP(AI80,$A$29:$E$75,5,FALSE),"-") -> … | AK80: =IFERROR(_xlfn.RANK.EQ(AJ80,$AJ$68:$AJ$114,0)+COUNTIF($AJ$68:AJ80,AJ80)-1,"-") -> - | AM80: =IFERROR(RANK(AO80,$AO$68:$AO$114,0),"-") -> 13 | AN80: =IFERROR(INDEX($AI$68:$AI$114,MATCH(AH80,$AK$68:$AK$114,0)),"-") -> 岡山 | AO80: =IFERROR(LARGE($AJ$68:$AJ$114,AH80),"-") -> 6120 | AP80: =IFERROR(ROUND(AO80/$E$15*100,1),"-") -> 0.5
A81: 注： 「（参考）対平均収量比」とは、10ａ当たり平均収量（原則として前年産を起点とした過去７か年のうち、最高及び最低を除いた５か年の | N81: 14 | O81: 神奈川 | P81: =IFERROR(VLOOKUP(O81,$A$29:$E$75,3,FALSE),"-") -> … | Q81: =IFERROR(_xlfn.RANK.EQ(P81,$P$68:$P$114,0)+COUNTIF($P$68:P81,P81)-1,"-") -> - | S81: =IFERROR(RANK(U81,$U$68:$U$114,0),"-") -> 14 | T81: =IFERROR(INDEX($O$68:$O$114,MATCH(N81,$Q$68:$Q$114,0)),"-") -> 岡山 | U81: =IFERROR(LARGE($P$68:$P$114,N81),"-") -> 174 | V81: =IFERROR(ROUND(U81/$C$15*100,1),"-") -> 0.7 | X81: 14 | Y81: 神奈川 | Z81: =IFERROR(VLOOKUP(Y81,$A$29:$E$75,4,FALSE),"-") -> … | AA81: =IFERROR(_xlfn.RANK.EQ(Z81,$Z$68:$Z$114,0)+COUNTIF($Z$68:Z81,Z81)-1,"-") -> - | AC81: =IFERROR(RANK(AE81,$AE$68:$AE$114,0),"-") -> 14 | AD81: =IFERROR(INDEX($Y$68:$Y$114,MATCH(X81,$AA$68:$AA$114,0)),"-") -> 岡山 | AE81: =IFERROR(LARGE($Z$68:$Z$114,X81),"-") -> 3520 | AF81: =IFERROR(ROUND(AE81/$D$15*100,1),"-") -> 76.5 | AH81: 14 | AI81: 神奈川 | AJ81: =IFERROR(VLOOKUP(AI81,$A$29:$E$75,5,FALSE),"-") -> … | AK81: =IFERROR(_xlfn.RANK.EQ(AJ81,$AJ$68:$AJ$114,0)+COUNTIF($AJ$68:AJ81,AJ81)-1,"-") -> - | AM81: =IFERROR(RANK(AO81,$AO$68:$AO$114,0),"-") -> 14 | AN81: =IFERROR(INDEX($AI$68:$AI$114,MATCH(AH81,$AK$68:$AK$114,0)),"-") -> 千葉 | AO81: =IFERROR(LARGE($AJ$68:$AJ$114,AH81),"-") -> 5750 | AP81: =IFERROR(ROUND(AO81/$E$15*100,1),"-") -> 0.5
A82: 平均値）に対する当年産の10ａ当たり収量の比率である。 | N82: 15 | O82: 新潟 | P82: =IFERROR(VLOOKUP(O82,$A$29:$E$75,3,FALSE),"-") -> … | Q82: =IFERROR(_xlfn.RANK.EQ(P82,$P$68:$P$114,0)+COUNTIF($P$68:P82,P82)-1,"-") -> - | S82: =IFERROR(RANK(U82,$U$68:$U$114,0),"-") -> 15 | T82: =IFERROR(INDEX($O$68:$O$114,MATCH(N82,$Q$68:$Q$114,0)),"-") -> 福島 | U82: =IFERROR(LARGE($P$68:$P$114,N82),"-") -> 170 | V82: =IFERROR(ROUND(U82/$C$15*100,1),"-") -> 0.7 | X82: 15 | Y82: 新潟 | Z82: =IFERROR(VLOOKUP(Y82,$A$29:$E$75,4,FALSE),"-") -> … | AA82: =IFERROR(_xlfn.RANK.EQ(Z82,$Z$68:$Z$114,0)+COUNTIF($Z$68:Z82,Z82)-1,"-") -> - | AC82: =IFERROR(RANK(AE82,$AE$68:$AE$114,0),"-") -> 15 | AD82: =IFERROR(INDEX($Y$68:$Y$114,MATCH(X82,$AA$68:$AA$114,0)),"-") -> 埼玉 | AE82: =IFERROR(LARGE($Z$68:$Z$114,X82),"-") -> 3460 | AF82: =IFERROR(ROUND(AE82/$D$15*100,1),"-") -> 75.2 | AH82: 15 | AI82: 新潟 | AJ82: =IFERROR(VLOOKUP(AI82,$A$29:$E$75,5,FALSE),"-") -> … | AK82: =IFERROR(_xlfn.RANK.EQ(AJ82,$AJ$68:$AJ$114,0)+COUNTIF($AJ$68:AJ82,AJ82)-1,"-") -> - | AM82: =IFERROR(RANK(AO82,$AO$68:$AO$114,0),"-") -> 15 | AN82: =IFERROR(INDEX($AI$68:$AI$114,MATCH(AH82,$AK$68:$AK$114,0)),"-") -> 茨城 | AO82: =IFERROR(LARGE($AJ$68:$AJ$114,AH82),"-") -> 5710 | AP82: =IFERROR(ROUND(AO82/$E$15*100,1),"-") -> 0.5
A83: なお、過去７か年のうち、３か年分の10ａ当たり収量のデータが確保できない場合は、10ａ当たり平均収量を作成していない。 | N83: 16 | O83: 富山 | P83: =IFERROR(VLOOKUP(O83,$A$29:$E$75,3,FALSE),"-") -> 189 | Q83: =IFERROR(_xlfn.RANK.EQ(P83,$P$68:$P$114,0)+COUNTIF($P$68:P83,P83)-1,"-") -> 11 | S83: =IFERROR(RANK(U83,$U$68:$U$114,0),"-") -> 16 | T83: =IFERROR(INDEX($O$68:$O$114,MATCH(N83,$Q$68:$Q$114,0)),"-") -> 千葉 | U83: =IFERROR(LARGE($P$68:$P$114,N83),"-") -> 168 | V83: =IFERROR(ROUND(U83/$C$15*100,1),"-") -> 0.7 | X83: 16 | Y83: 富山 | Z83: =IFERROR(VLOOKUP(Y83,$A$29:$E$75,4,FALSE),"-") -> 4950 | AA83: =IFERROR(_xlfn.RANK.EQ(Z83,$Z$68:$Z$114,0)+COUNTIF($Z$68:Z83,Z83)-1,"-") -> 5 | AC83: =IFERROR(RANK(AE83,$AE$68:$AE$114,0),"-") -> 16 | AD83: =IFERROR(INDEX($Y$68:$Y$114,MATCH(X83,$AA$68:$AA$114,0)),"-") -> 千葉 | AE83: =IFERROR(LARGE($Z$68:$Z$114,X83),"-") -> 3420 | AF83: =IFERROR(ROUND(AE83/$D$15*100,1),"-") -> 74.3 | AH83: 16 | AI83: 富山 | AJ83: =IFERROR(VLOOKUP(AI83,$A$29:$E$75,5,FALSE),"-") -> 9360 | AK83: =IFERROR(_xlfn.RANK.EQ(AJ83,$AJ$68:$AJ$114,0)+COUNTIF($AJ$68:AJ83,AJ83)-1,"-") -> 10 | AM83: =IFERROR(RANK(AO83,$AO$68:$AO$114,0),"-") -> 16 | AN83: =IFERROR(INDEX($AI$68:$AI$114,MATCH(AH83,$AK$68:$AK$114,0)),"-") -> 長野 | AO83: =IFERROR(LARGE($AJ$68:$AJ$114,AH83),"-") -> 5170 | AP83: =IFERROR(ROUND(AO83/$E$15*100,1),"-") -> 0.4
N84: 17 | O84: 石川 | P84: =IFERROR(VLOOKUP(O84,$A$29:$E$75,3,FALSE),"-") -> … | Q84: =IFERROR(_xlfn.RANK.EQ(P84,$P$68:$P$114,0)+COUNTIF($P$68:P84,P84)-1,"-") -> - | S84: =IFERROR(RANK(U84,$U$68:$U$114,0),"-") -> 16 | T84: =IFERROR(INDEX($O$68:$O$114,MATCH(N84,$Q$68:$Q$114,0)),"-") -> 長野 | U84: =IFERROR(LARGE($P$68:$P$114,N84),"-") -> 168 | V84: =IFERROR(ROUND(U84/$C$15*100,1),"-") -> 0.7 | X84: 17 | Y84: 石川 | Z84: =IFERROR(VLOOKUP(Y84,$A$29:$E$75,4,FALSE),"-") -> … | AA84: =IFERROR(_xlfn.RANK.EQ(Z84,$Z$68:$Z$114,0)+COUNTIF($Z$68:Z84,Z84)-1,"-") -> - | AC84: =IFERROR(RANK(AE84,$AE$68:$AE$114,0),"-") -> 17 | AD84: =IFERROR(INDEX($Y$68:$Y$114,MATCH(X84,$AA$68:$AA$114,0)),"-") -> 愛媛 | AE84: =IFERROR(LARGE($Z$68:$Z$114,X84),"-") -> 3330 | AF84: =IFERROR(ROUND(AE84/$D$15*100,1),"-") -> 72.4 | AH84: 17 | AI84: 石川 | AJ84: =IFERROR(VLOOKUP(AI84,$A$29:$E$75,5,FALSE),"-") -> … | AK84: =IFERROR(_xlfn.RANK.EQ(AJ84,$AJ$68:$AJ$114,0)+COUNTIF($AJ$68:AJ84,AJ84)-1,"-") -> - | AM84: =IFERROR(RANK(AO84,$AO$68:$AO$114,0),"-") -> 17 | AN84: =IFERROR(INDEX($AI$68:$AI$114,MATCH(AH84,$AK$68:$AK$114,0)),"-") -> 埼玉 | AO84: =IFERROR(LARGE($AJ$68:$AJ$114,AH84),"-") -> 4880 | AP84: =IFERROR(ROUND(AO84/$E$15*100,1),"-") -> 0.4
N85: 18 | O85: 福井 | P85: =IFERROR(VLOOKUP(O85,$A$29:$E$75,3,FALSE),"-") -> … | Q85: =IFERROR(_xlfn.RANK.EQ(P85,$P$68:$P$114,0)+COUNTIF($P$68:P85,P85)-1,"-") -> - | S85: =IFERROR(RANK(U85,$U$68:$U$114,0),"-") -> 18 | T85: =IFERROR(INDEX($O$68:$O$114,MATCH(N85,$Q$68:$Q$114,0)),"-") -> 山口 | U85: =IFERROR(LARGE($P$68:$P$114,N85),"-") -> 166 | V85: =IFERROR(ROUND(U85/$C$15*100,1),"-") -> 0.7 | X85: 18 | Y85: 福井 | Z85: =IFERROR(VLOOKUP(Y85,$A$29:$E$75,4,FALSE),"-") -> … | AA85: =IFERROR(_xlfn.RANK.EQ(Z85,$Z$68:$Z$114,0)+COUNTIF($Z$68:Z85,Z85)-1,"-") -> - | AC85: =IFERROR(RANK(AE85,$AE$68:$AE$114,0),"-") -> 18 | AD85: =IFERROR(INDEX($Y$68:$Y$114,MATCH(X85,$AA$68:$AA$114,0)),"-") -> 茨城 | AE85: =IFERROR(LARGE($Z$68:$Z$114,X85),"-") -> 3260 | AF85: =IFERROR(ROUND(AE85/$D$15*100,1),"-") -> 70.9 | AH85: 18 | AI85: 福井 | AJ85: =IFERROR(VLOOKUP(AI85,$A$29:$E$75,5,FALSE),"-") -> … | AK85: =IFERROR(_xlfn.RANK.EQ(AJ85,$AJ$68:$AJ$114,0)+COUNTIF($AJ$68:AJ85,AJ85)-1,"-") -> - | AM85: =IFERROR(RANK(AO85,$AO$68:$AO$114,0),"-") -> 18 | AN85: =IFERROR(INDEX($AI$68:$AI$114,MATCH(AH85,$AK$68:$AK$114,0)),"-") -> 山口 | AO85: =IFERROR(LARGE($AJ$68:$AJ$114,AH85),"-") -> 4810 | AP85: =IFERROR(ROUND(AO85/$E$15*100,1),"-") -> 0.4
N86: 19 | O86: 山梨 | P86: =IFERROR(VLOOKUP(O86,$A$29:$E$75,3,FALSE),"-") -> … | Q86: =IFERROR(_xlfn.RANK.EQ(P86,$P$68:$P$114,0)+COUNTIF($P$68:P86,P86)-1,"-") -> - | S86: =IFERROR(RANK(U86,$U$68:$U$114,0),"-") -> 19 | T86: =IFERROR(INDEX($O$68:$O$114,MATCH(N86,$Q$68:$Q$114,0)),"-") -> 島根 | U86: =IFERROR(LARGE($P$68:$P$114,N86),"-") -> 154 | V86: =IFERROR(ROUND(U86/$C$15*100,1),"-") -> 0.6 | X86: 19 | Y86: 山梨 | Z86: =IFERROR(VLOOKUP(Y86,$A$29:$E$75,4,FALSE),"-") -> … | AA86: =IFERROR(_xlfn.RANK.EQ(Z86,$Z$68:$Z$114,0)+COUNTIF($Z$68:Z86,Z86)-1,"-") -> - | AC86: =IFERROR(RANK(AE86,$AE$68:$AE$114,0),"-") -> 19 | AD86: =IFERROR(INDEX($Y$68:$Y$114,MATCH(X86,$AA$68:$AA$114,0)),"-") -> 長野 | AE86: =IFERROR(LARGE($Z$68:$Z$114,X86),"-") -> 3080 | AF86: =IFERROR(ROUND(AE86/$D$15*100,1),"-") -> 67 | AH86: 19 | AI86: 山梨 | AJ86: =IFERROR(VLOOKUP(AI86,$A$29:$E$75,5,FALSE),"-") -> … | AK86: =IFERROR(_xlfn.RANK.EQ(AJ86,$AJ$68:$AJ$114,0)+COUNTIF($AJ$68:AJ86,AJ86)-1,"-") -> - | AM86: =IFERROR(RANK(AO86,$AO$68:$AO$114,0),"-") -> 19 | AN86: =IFERROR(INDEX($AI$68:$AI$114,MATCH(AH86,$AK$68:$AK$114,0)),"-") -> 福岡 | AO86: =IFERROR(LARGE($AJ$68:$AJ$114,AH86),"-") -> 4290 | AP86: =IFERROR(ROUND(AO86/$E$15*100,1),"-") -> 0.4
N87: 20 | O87: 長野 | P87: =IFERROR(VLOOKUP(O87,$A$29:$E$75,3,FALSE),"-") -> 168 | Q87: =IFERROR(_xlfn.RANK.EQ(P87,$P$68:$P$114,0)+COUNTIF($P$68:P87,P87)-1,"-") -> 17 | S87: =IFERROR(RANK(U87,$U$68:$U$114,0),"-") -> 20 | T87: =IFERROR(INDEX($O$68:$O$114,MATCH(N87,$Q$68:$Q$114,0)),"-") -> 埼玉 | U87: =IFERROR(LARGE($P$68:$P$114,N87),"-") -> 141 | V87: =IFERROR(ROUND(U87/$C$15*100,1),"-") -> 0.6 | X87: 20 | Y87: 長野 | Z87: =IFERROR(VLOOKUP(Y87,$A$29:$E$75,4,FALSE),"-") -> 3080 | AA87: =IFERROR(_xlfn.RANK.EQ(Z87,$Z$68:$Z$114,0)+COUNTIF($Z$68:Z87,Z87)-1,"-") -> 19 | AC87: =IFERROR(RANK(AE87,$AE$68:$AE$114,0),"-") -> 20 | AD87: =IFERROR(INDEX($Y$68:$Y$114,MATCH(X87,$AA$68:$AA$114,0)),"-") -> 福岡 | AE87: =IFERROR(LARGE($Z$68:$Z$114,X87),"-") -> 3040 | AF87: =IFERROR(ROUND(AE87/$D$15*100,1),"-") -> 66.1 | AH87: 20 | AI87: 長野 | AJ87: =IFERROR(VLOOKUP(AI87,$A$29:$E$75,5,FALSE),"-") -> 5170 | AK87: =IFERROR(_xlfn.RANK.EQ(AJ87,$AJ$68:$AJ$114,0)+COUNTIF($AJ$68:AJ87,AJ87)-1,"-") -> 16 | AM87: =IFERROR(RANK(AO87,$AO$68:$AO$114,0),"-") -> 20 | AN87: =IFERROR(INDEX($AI$68:$AI$114,MATCH(AH87,$AK$68:$AK$114,0)),"-") -> 和歌山 | AO87: =IFERROR(LARGE($AJ$68:$AJ$114,AH87),"-") -> 4100 | AP87: =IFERROR(ROUND(AO87/$E$15*100,1),"-") -> 0.3
N88: 21 | O88: 岐阜 | P88: =IFERROR(VLOOKUP(O88,$A$29:$E$75,3,FALSE),"-") -> 100 | Q88: =IFERROR(_xlfn.RANK.EQ(P88,$P$68:$P$114,0)+COUNTIF($P$68:P88,P88)-1,"-") -> 23 | S88: =IFERROR(RANK(U88,$U$68:$U$114,0),"-") -> 20 | T88: =IFERROR(INDEX($O$68:$O$114,MATCH(N88,$Q$68:$Q$114,0)),"-") -> 福岡 | U88: =IFERROR(LARGE($P$68:$P$114,N88),"-") -> 141 | V88: =IFERROR(ROUND(U88/$C$15*100,1),"-") -> 0.6 | X88: 21 | Y88: 岐阜 | Z88: =IFERROR(VLOOKUP(Y88,$A$29:$E$75,4,FALSE),"-") -> 2390 | AA88: =IFERROR(_xlfn.RANK.EQ(Z88,$Z$68:$Z$114,0)+COUNTIF($Z$68:Z88,Z88)-1,"-") -> 24 | AC88: =IFERROR(RANK(AE88,$AE$68:$AE$114,0),"-") -> 21 | AD88: =IFERROR(INDEX($Y$68:$Y$114,MATCH(X88,$AA$68:$AA$114,0)),"-") -> 山口 | AE88: =IFERROR(LARGE($Z$68:$Z$114,X88),"-") -> 2900 | AF88: =IFERROR(ROUND(AE88/$D$15*100,1),"-") -> 63 | AH88: 21 | AI88: 岐阜 | AJ88: =IFERROR(VLOOKUP(AI88,$A$29:$E$75,5,FALSE),"-") -> 2390 | AK88: =IFERROR(_xlfn.RANK.EQ(AJ88,$AJ$68:$AJ$114,0)+COUNTIF($AJ$68:AJ88,AJ88)-1,"-") -> 25 | AM88: =IFERROR(RANK(AO88,$AO$68:$AO$114,0),"-") -> 21 | AN88: =IFERROR(INDEX($AI$68:$AI$114,MATCH(AH88,$AK$68:$AK$114,0)),"-") -> 島根 | AO88: =IFERROR(LARGE($AJ$68:$AJ$114,AH88),"-") -> 3880 | AP88: =IFERROR(ROUND(AO88/$E$15*100,1),"-") -> 0.3
N89: 22 | O89: 静岡 | P89: =IFERROR(VLOOKUP(O89,$A$29:$E$75,3,FALSE),"-") -> 324 | Q89: =IFERROR(_xlfn.RANK.EQ(P89,$P$68:$P$114,0)+COUNTIF($P$68:P89,P89)-1,"-") -> 6 | S89: =IFERROR(RANK(U89,$U$68:$U$114,0),"-") -> 22 | T89: =IFERROR(INDEX($O$68:$O$114,MATCH(N89,$Q$68:$Q$114,0)),"-") -> 三重 | U89: =IFERROR(LARGE($P$68:$P$114,N89),"-") -> 117 | V89: =IFERROR(ROUND(U89/$C$15*100,1),"-") -> 0.5 | X89: 22 | Y89: 静岡 | Z89: =IFERROR(VLOOKUP(Y89,$A$29:$E$75,4,FALSE),"-") -> 4080 | AA89: =IFERROR(_xlfn.RANK.EQ(Z89,$Z$68:$Z$114,0)+COUNTIF($Z$68:Z89,Z89)-1,"-") -> 10 | AC89: =IFERROR(RANK(AE89,$AE$68:$AE$114,0),"-") -> 22 | AD89: =IFERROR(INDEX($Y$68:$Y$114,MATCH(X89,$AA$68:$AA$114,0)),"-") -> 三重 | AE89: =IFERROR(LARGE($Z$68:$Z$114,X89),"-") -> 2640 | AF89: =IFERROR(ROUND(AE89/$D$15*100,1),"-") -> 57.4 | AH89: 22 | AI89: 静岡 | AJ89: =IFERROR(VLOOKUP(AI89,$A$29:$E$75,5,FALSE),"-") -> 13200 | AK89: =IFERROR(_xlfn.RANK.EQ(AJ89,$AJ$68:$AJ$114,0)+COUNTIF($AJ$68:AJ89,AJ89)-1,"-") -> 6 | AM89: =IFERROR(RANK(AO89,$AO$68:$AO$114,0),"-") -> 22 | AN89: =IFERROR(INDEX($AI$68:$AI$114,MATCH(AH89,$AK$68:$AK$114,0)),"-") -> 大阪 | AO89: =IFERROR(LARGE($AJ$68:$AJ$114,AH89),"-") -> 3520 | AP89: =IFERROR(ROUND(AO89/$E$15*100,1),"-") -> 0.3
N90: 23 | O90: 愛知 | P90: =IFERROR(VLOOKUP(O90,$A$29:$E$75,3,FALSE),"-") -> 468 | Q90: =IFERROR(_xlfn.RANK.EQ(P90,$P$68:$P$114,0)+COUNTIF($P$68:P90,P90)-1,"-") -> 5 | S90: =IFERROR(RANK(U90,$U$68:$U$114,0),"-") -> 23 | T90: =IFERROR(INDEX($O$68:$O$114,MATCH(N90,$Q$68:$Q$114,0)),"-") -> 岐阜 | U90: =IFERROR(LARGE($P$68:$P$114,N90),"-") -> 100 | V90: =IFERROR(ROUND(U90/$C$15*100,1),"-") -> 0.4 | X90: 23 | Y90: 愛知 | Z90: =IFERROR(VLOOKUP(Y90,$A$29:$E$75,4,FALSE),"-") -> 5190 | AA90: =IFERROR(_xlfn.RANK.EQ(Z90,$Z$68:$Z$114,0)+COUNTIF($Z$68:Z90,Z90)-1,"-") -> 2 | AC90: =IFERROR(RANK(AE90,$AE$68:$AE$114,0),"-") -> 23 | AD90: =IFERROR(INDEX($Y$68:$Y$114,MATCH(X90,$AA$68:$AA$114,0)),"-") -> 島根 | AE90: =IFERROR(LARGE($Z$68:$Z$114,X90),"-") -> 2520 | AF90: =IFERROR(ROUND(AE90/$D$15*100,1),"-") -> 54.8 | AH90: 23 | AI90: 愛知 | AJ90: =IFERROR(VLOOKUP(AI90,$A$29:$E$75,5,FALSE),"-") -> 24300 | AK90: =IFERROR(_xlfn.RANK.EQ(AJ90,$AJ$68:$AJ$114,0)+COUNTIF($AJ$68:AJ90,AJ90)-1,"-") -> 5 | AM90: =IFERROR(RANK(AO90,$AO$68:$AO$114,0),"-") -> 23 | AN90: =IFERROR(INDEX($AI$68:$AI$114,MATCH(AH90,$AK$68:$AK$114,0)),"-") -> 三重 | AO90: =IFERROR(LARGE($AJ$68:$AJ$114,AH90),"-") -> 3090 | AP90: =IFERROR(ROUND(AO90/$E$15*100,1),"-") -> 0.3
N91: 24 | O91: 三重 | P91: =IFERROR(VLOOKUP(O91,$A$29:$E$75,3,FALSE),"-") -> 117 | Q91: =IFERROR(_xlfn.RANK.EQ(P91,$P$68:$P$114,0)+COUNTIF($P$68:P91,P91)-1,"-") -> 22 | S91: =IFERROR(RANK(U91,$U$68:$U$114,0),"-") -> 24 | T91: =IFERROR(INDEX($O$68:$O$114,MATCH(N91,$Q$68:$Q$114,0)),"-") -> 大阪 | U91: =IFERROR(LARGE($P$68:$P$114,N91),"-") -> 97 | V91: =IFERROR(ROUND(U91/$C$15*100,1),"-") -> 0.4 | X91: 24 | Y91: 三重 | Z91: =IFERROR(VLOOKUP(Y91,$A$29:$E$75,4,FALSE),"-") -> 2640 | AA91: =IFERROR(_xlfn.RANK.EQ(Z91,$Z$68:$Z$114,0)+COUNTIF($Z$68:Z91,Z91)-1,"-") -> 22 | AC91: =IFERROR(RANK(AE91,$AE$68:$AE$114,0),"-") -> 24 | AD91: =IFERROR(INDEX($Y$68:$Y$114,MATCH(X91,$AA$68:$AA$114,0)),"-") -> 岐阜 | AE91: =IFERROR(LARGE($Z$68:$Z$114,X91),"-") -> 2390 | AF91: =IFERROR(ROUND(AE91/$D$15*100,1),"-") -> 52 | AH91: 24 | AI91: 三重 | AJ91: =IFERROR(VLOOKUP(AI91,$A$29:$E$75,5,FALSE),"-") -> 3090 | AK91: =IFERROR(_xlfn.RANK.EQ(AJ91,$AJ$68:$AJ$114,0)+COUNTIF($AJ$68:AJ91,AJ91)-1,"-") -> 23 | AM91: =IFERROR(RANK(AO91,$AO$68:$AO$114,0),"-") -> 24 | AN91: =IFERROR(INDEX($AI$68:$AI$114,MATCH(AH91,$AK$68:$AK$114,0)),"-") -> 福島 | AO91: =IFERROR(LARGE($AJ$68:$AJ$114,AH91),"-") -> 2940 | AP91: =IFERROR(ROUND(AO91/$E$15*100,1),"-") -> 0.3
N92: 25 | O92: 滋賀 | P92: =IFERROR(VLOOKUP(O92,$A$29:$E$75,3,FALSE),"-") -> … | Q92: =IFERROR(_xlfn.RANK.EQ(P92,$P$68:$P$114,0)+COUNTIF($P$68:P92,P92)-1,"-") -> - | S92: =IFERROR(RANK(U92,$U$68:$U$114,0),"-") -> 25 | T92: =IFERROR(INDEX($O$68:$O$114,MATCH(N92,$Q$68:$Q$114,0)),"-") -> 和歌山 | U92: =IFERROR(LARGE($P$68:$P$114,N92),"-") -> 92 | V92: =IFERROR(ROUND(U92/$C$15*100,1),"-") -> 0.4 | X92: 25 | Y92: 滋賀 | Z92: =IFERROR(VLOOKUP(Y92,$A$29:$E$75,4,FALSE),"-") -> … | AA92: =IFERROR(_xlfn.RANK.EQ(Z92,$Z$68:$Z$114,0)+COUNTIF($Z$68:Z92,Z92)-1,"-") -> - | AC92: =IFERROR(RANK(AE92,$AE$68:$AE$114,0),"-") -> 25 | AD92: =IFERROR(INDEX($Y$68:$Y$114,MATCH(X92,$AA$68:$AA$114,0)),"-") -> 福島 | AE92: =IFERROR(LARGE($Z$68:$Z$114,X92),"-") -> 1730 | AF92: =IFERROR(ROUND(AE92/$D$15*100,1),"-") -> 37.6 | AH92: 25 | AI92: 滋賀 | AJ92: =IFERROR(VLOOKUP(AI92,$A$29:$E$75,5,FALSE),"-") -> … | AK92: =IFERROR(_xlfn.RANK.EQ(AJ92,$AJ$68:$AJ$114,0)+COUNTIF($AJ$68:AJ92,AJ92)-1,"-") -> - | AM92: =IFERROR(RANK(AO92,$AO$68:$AO$114,0),"-") -> 25 | AN92: =IFERROR(INDEX($AI$68:$AI$114,MATCH(AH92,$AK$68:$AK$114,0)),"-") -> 岐阜 | AO92: =IFERROR(LARGE($AJ$68:$AJ$114,AH92),"-") -> 2390 | AP92: =IFERROR(ROUND(AO92/$E$15*100,1),"-") -> 0.2
N93: 26 | O93: 京都 | P93: =IFERROR(VLOOKUP(O93,$A$29:$E$75,3,FALSE),"-") -> … | Q93: =IFERROR(_xlfn.RANK.EQ(P93,$P$68:$P$114,0)+COUNTIF($P$68:P93,P93)-1,"-") -> - | S93: =IFERROR(RANK(U93,$U$68:$U$114,0),"-") -> - | T93: =IFERROR(INDEX($O$68:$O$114,MATCH(N93,$Q$68:$Q$114,0)),"-") -> - | U93: =IFERROR(LARGE($P$68:$P$114,N93),"-") -> - | V93: =IFERROR(ROUND(U93/$C$15*100,1),"-") -> - | X93: 26 | Y93: 京都 | Z93: =IFERROR(VLOOKUP(Y93,$A$29:$E$75,4,FALSE),"-") -> … | AA93: =IFERROR(_xlfn.RANK.EQ(Z93,$Z$68:$Z$114,0)+COUNTIF($Z$68:Z93,Z93)-1,"-") -> - | AC93: =IFERROR(RANK(AE93,$AE$68:$AE$114,0),"-") -> - | AD93: =IFERROR(INDEX($Y$68:$Y$114,MATCH(X93,$AA$68:$AA$114,0)),"-") -> - | AE93: =IFERROR(LARGE($Z$68:$Z$114,X93),"-") -> - | AF93: =IFERROR(ROUND(AE93/$D$15*100,1),"-") -> - | AH93: 26 | AI93: 京都 | AJ93: =IFERROR(VLOOKUP(AI93,$A$29:$E$75,5,FALSE),"-") -> … | AK93: =IFERROR(_xlfn.RANK.EQ(AJ93,$AJ$68:$AJ$114,0)+COUNTIF($AJ$68:AJ93,AJ93)-1,"-") -> - | AM93: =IFERROR(RANK(AO93,$AO$68:$AO$114,0),"-") -> - | AN93: =IFERROR(INDEX($AI$68:$AI$114,MATCH(AH93,$AK$68:$AK$114,0)),"-") -> - | AO93: =IFERROR(LARGE($AJ$68:$AJ$114,AH93),"-") -> - | AP93: =IFERROR(ROUND(AO93/$E$15*100,1),"-") -> -
N94: 27 | O94: 大阪 | P94: =IFERROR(VLOOKUP(O94,$A$29:$E$75,3,FALSE),"-") -> 97 | Q94: =IFERROR(_xlfn.RANK.EQ(P94,$P$68:$P$114,0)+COUNTIF($P$68:P94,P94)-1,"-") -> 24 | S94: =IFERROR(RANK(U94,$U$68:$U$114,0),"-") -> - | T94: =IFERROR(INDEX($O$68:$O$114,MATCH(N94,$Q$68:$Q$114,0)),"-") -> - | U94: =IFERROR(LARGE($P$68:$P$114,N94),"-") -> - | V94: =IFERROR(ROUND(U94/$C$15*100,1),"-") -> - | X94: 27 | Y94: 大阪 | Z94: =IFERROR(VLOOKUP(Y94,$A$29:$E$75,4,FALSE),"-") -> 3630 | AA94: =IFERROR(_xlfn.RANK.EQ(Z94,$Z$68:$Z$114,0)+COUNTIF($Z$68:Z94,Z94)-1,"-") -> 13 | AC94: =IFERROR(RANK(AE94,$AE$68:$AE$114,0),"-") -> - | AD94: =IFERROR(INDEX($Y$68:$Y$114,MATCH(X94,$AA$68:$AA$114,0)),"-") -> - | AE94: =IFERROR(LARGE($Z$68:$Z$114,X94),"-") -> - | AF94: =IFERROR(ROUND(AE94/$D$15*100,1),"-") -> - | AH94: 27 | AI94: 大阪 | AJ94: =IFERROR(VLOOKUP(AI94,$A$29:$E$75,5,FALSE),"-") -> 3520 | AK94: =IFERROR(_xlfn.RANK.EQ(AJ94,$AJ$68:$AJ$114,0)+COUNTIF($AJ$68:AJ94,AJ94)-1,"-") -> 22 | AM94: =IFERROR(RANK(AO94,$AO$68:$AO$114,0),"-") -> - | AN94: =IFERROR(INDEX($AI$68:$AI$114,MATCH(AH94,$AK$68:$AK$114,0)),"-") -> - | AO94: =IFERROR(LARGE($AJ$68:$AJ$114,AH94),"-") -> - | AP94: =IFERROR(ROUND(AO94/$E$15*100,1),"-") -> -
N95: 28 | O95: 兵庫 | P95: =IFERROR(VLOOKUP(O95,$A$29:$E$75,3,FALSE),"-") -> 1650 | Q95: =IFERROR(_xlfn.RANK.EQ(P95,$P$68:$P$114,0)+COUNTIF($P$68:P95,P95)-1,"-") -> 3 | S95: =IFERROR(RANK(U95,$U$68:$U$114,0),"-") -> - | T95: =IFERROR(INDEX($O$68:$O$114,MATCH(N95,$Q$68:$Q$114,0)),"-") -> - | U95: =IFERROR(LARGE($P$68:$P$114,N95),"-") -> - | V95: =IFERROR(ROUND(U95/$C$15*100,1),"-") -> - | X95: 28 | Y95: 兵庫 | Z95: =IFERROR(VLOOKUP(Y95,$A$29:$E$75,4,FALSE),"-") -> 5930 | AA95: =IFERROR(_xlfn.RANK.EQ(Z95,$Z$68:$Z$114,0)+COUNTIF($Z$68:Z95,Z95)-1,"-") -> 1 | AC95: =IFERROR(RANK(AE95,$AE$68:$AE$114,0),"-") -> - | AD95: =IFERROR(INDEX($Y$68:$Y$114,MATCH(X95,$AA$68:$AA$114,0)),"-") -> - | AE95: =IFERROR(LARGE($Z$68:$Z$114,X95),"-") -> - | AF95: =IFERROR(ROUND(AE95/$D$15*100,1),"-") -> - | AH95: 28 | AI95: 兵庫 | AJ95: =IFERROR(VLOOKUP(AI95,$A$29:$E$75,5,FALSE),"-") -> 97800 | AK95: =IFERROR(_xlfn.RANK.EQ(AJ95,$AJ$68:$AJ$114,0)+COUNTIF($AJ$68:AJ95,AJ95)-1,"-") -> 2 | AM95: =IFERROR(RANK(AO95,$AO$68:$AO$114,0),"-") -> - | AN95: =IFERROR(INDEX($AI$68:$AI$114,MATCH(AH95,$AK$68:$AK$114,0)),"-") -> - | AO95: =IFERROR(LARGE($AJ$68:$AJ$114,AH95),"-") -> - | AP95: =IFERROR(ROUND(AO95/$E$15*100,1),"-") -> -
... N114: 47 | O114: 沖縄 | P114: =IFERROR(VLOOKUP(O114,$A$29:$E$75,3,FALSE),"-") -> … | Q114: =IFERROR(_xlfn.RANK.EQ(P114,$P$68:$P$114,0)+COUNTIF($P$68:P114,P114)-1,"-") -> - | S114: =IFERROR(RANK(U114,$U$68:$U$114,0),"-") -> - | T114: =IFERROR(INDEX($O$68:$O$114,MATCH(N114,$Q$68:$Q$114,0)),"-") -> - | U114: =IFERROR(LARGE($P$68:$P$114,N114),"-") -> - | V114: =IFERROR(ROUND(U114/$C$15*100,1),"-") -> - | X114: 47 | Y114: 沖縄 | Z114: =IFERROR(VLOOKUP(Y114,$A$29:$E$75,4,FALSE),"-") -> … | AA114: =IFERROR(_xlfn.RANK.EQ(Z114,$Z$68:$Z$114,0)+COUNTIF($Z$68:Z114,Z114)-1,"-") -> - | AC114: =IFERROR(RANK(AE114,$AE$68:$AE$114,0),"-") -> - | AD114: =IFERROR(INDEX($Y$68:$Y$114,MATCH(X114,$AA$68:$AA$114,0)),"-") -> - | AE114: =IFERROR(LARGE($Z$68:$Z$114,X114),"-") -> - | AF114: =IFERROR(ROUND(AE114/$D$15*100,1),"-") -> - | AH114: 47 | AI114: 沖縄 | AJ114: =IFERROR(VLOOKUP(AI114,$A$29:$E$75,5,FALSE),"-") -> … | AK114: =IFERROR(_xlfn.RANK.EQ(AJ114,$AJ$68:$AJ$114,0)+COUNTIF($AJ$68:AJ114,AJ114)-1,"-") -> - | AM114: =IFERROR(RANK(AO114,$AO$68:$AO$114,0),"-") -> - | AN114: =IFERROR(INDEX($AI$68:$AI$114,MATCH(AH114,$AK$68:$AK$114,0)),"-") -> - | AO114: =IFERROR(LARGE($AJ$68:$AJ$114,AH114),"-") -> - | AP114: =IFERROR(ROUND(AO114/$E$15*100,1),"-") -> -
N117: たまねぎ(正誤)
N119: 作付面積 | X119: 10a当たり収量 | AH119: 収穫量
N121: =IF(EXACT(N15,N68),"〇","NG") -> 〇 | O121: =IF(EXACT(O15,O68),"〇","NG") -> 〇 | P121: =IF(EXACT(P15,P68),"〇","NG") -> 〇 | Q121: =IF(EXACT(Q15,Q68),"〇","NG") -> 〇 | R121: =IF(EXACT(R15,R68),"〇","NG") -> 〇 | S121: =IF(EXACT(S15,S68),"〇","NG") -> 〇 | T121: =IF(EXACT(T15,T68),"〇","NG") -> 〇 | U121: =IF(EXACT(U15,U68),"〇","NG") -> 〇 | ... AP121: =IF(EXACT(AP15,AP68),"〇","NG") -> 〇
N122: =IF(EXACT(N16,N69),"〇","NG") -> 〇 | O122: =IF(EXACT(O16,O69),"〇","NG") -> 〇 | P122: =IF(EXACT(P16,P69),"〇","NG") -> 〇 | Q122: =IF(EXACT(Q16,Q69),"〇","NG") -> 〇 | R122: =IF(EXACT(R16,R69),"〇","NG") -> 〇 | S122: =IF(EXACT(S16,S69),"〇","NG") -> 〇 | T122: =IF(EXACT(T16,T69),"〇","NG") -> 〇 | U122: =IF(EXACT(U16,U69),"〇","NG") -> 〇 | ... AP122: =IF(EXACT(AP16,AP69),"〇","NG") -> 〇
N123: =IF(EXACT(N17,N70),"〇","NG") -> 〇 | O123: =IF(EXACT(O17,O70),"〇","NG") -> 〇 | P123: =IF(EXACT(P17,P70),"〇","NG") -> 〇 | Q123: =IF(EXACT(Q17,Q70),"〇","NG") -> 〇 | R123: =IF(EXACT(R17,R70),"〇","NG") -> 〇 | S123: =IF(EXACT(S17,S70),"〇","NG") -> 〇 | T123: =IF(EXACT(T17,T70),"〇","NG") -> 〇 | U123: =IF(EXACT(U17,U70),"〇","NG") -> 〇 | ... AP123: =IF(EXACT(AP17,AP70),"〇","NG") -> 〇
N124: =IF(EXACT(N18,N71),"〇","NG") -> 〇 | O124: =IF(EXACT(O18,O71),"〇","NG") -> 〇 | P124: =IF(EXACT(P18,P71),"〇","NG") -> 〇 | Q124: =IF(EXACT(Q18,Q71),"〇","NG") -> 〇 | R124: =IF(EXACT(R18,R71),"〇","NG") -> 〇 | S124: =IF(EXACT(S18,S71),"〇","NG") -> 〇 | T124: =IF(EXACT(T18,T71),"〇","NG") -> 〇 | U124: =IF(EXACT(U18,U71),"〇","NG") -> 〇 | ... AP124: =IF(EXACT(AP18,AP71),"〇","NG") -> 〇
N125: =IF(EXACT(N19,N72),"〇","NG") -> 〇 | O125: =IF(EXACT(O19,O72),"〇","NG") -> 〇 | P125: =IF(EXACT(P19,P72),"〇","NG") -> 〇 | Q125: =IF(EXACT(Q19,Q72),"〇","NG") -> 〇 | R125: =IF(EXACT(R19,R72),"〇","NG") -> 〇 | S125: =IF(EXACT(S19,S72),"〇","NG") -> 〇 | T125: =IF(EXACT(T19,T72),"〇","NG") -> 〇 | U125: =IF(EXACT(U19,U72),"〇","NG") -> 〇 | ... AP125: =IF(EXACT(AP19,AP72),"〇","NG") -> 〇
N126: =IF(EXACT(N20,N73),"〇","NG") -> 〇 | O126: =IF(EXACT(O20,O73),"〇","NG") -> 〇 | P126: =IF(EXACT(P20,P73),"〇","NG") -> 〇 | Q126: =IF(EXACT(Q20,Q73),"〇","NG") -> 〇 | R126: =IF(EXACT(R20,R73),"〇","NG") -> 〇 | S126: =IF(EXACT(S20,S73),"〇","NG") -> 〇 | T126: =IF(EXACT(T20,T73),"〇","NG") -> 〇 | U126: =IF(EXACT(U20,U73),"〇","NG") -> 〇 | ... AP126: =IF(EXACT(AP20,AP73),"〇","NG") -> 〇
N127: =IF(EXACT(N21,N74),"〇","NG") -> 〇 | O127: =IF(EXACT(O21,O74),"〇","NG") -> 〇 | P127: =IF(EXACT(P21,P74),"〇","NG") -> 〇 | Q127: =IF(EXACT(Q21,Q74),"〇","NG") -> 〇 | R127: =IF(EXACT(R21,R74),"〇","NG") -> 〇 | S127: =IF(EXACT(S21,S74),"〇","NG") -> 〇 | T127: =IF(EXACT(T21,T74),"〇","NG") -> 〇 | U127: =IF(EXACT(U21,U74),"〇","NG") -> 〇 | ... AP127: =IF(EXACT(AP21,AP74),"〇","NG") -> 〇
N128: =IF(EXACT(N22,N75),"〇","NG") -> 〇 | O128: =IF(EXACT(O22,O75),"〇","NG") -> 〇 | P128: =IF(EXACT(P22,P75),"〇","NG") -> 〇 | Q128: =IF(EXACT(Q22,Q75),"〇","NG") -> 〇 | R128: =IF(EXACT(R22,R75),"〇","NG") -> 〇 | S128: =IF(EXACT(S22,S75),"〇","NG") -> 〇 | T128: =IF(EXACT(T22,T75),"〇","NG") -> 〇 | U128: =IF(EXACT(U22,U75),"〇","NG") -> 〇 | ... AP128: =IF(EXACT(AP22,AP75),"〇","NG") -> 〇
...

Sheet 貼_かぼちゃ
A3: ３ 令和５年産都道府県別の作付面積、10ａ当たり収量、収穫量及び出荷量
A5: (28) かぼちゃ
C9: 作付面積 | D9: 10ａ当たり 収 量 | E9: 収穫量 | F9: 出荷量 | G9: 対前年産比
A10: 全国農業地域 | K10: (参考)
A11: ・ | G11: 作付面積 | H11: 10ａ当たり 収 量 | I11: 収穫量 | J11: 出荷量 | K11: 対平均 収量比 | N11: かぼちゃ（XLOOKUP)
A12: 都 道 府 県
N13: 作付面積 | X13: 10a当たり収量 | AH13: 収穫量
C14: ha | D14: kg | E14: ｔ | F14: ｔ | G14: ％ | H14: ％ | I14: ％ | J14: ％ | K14: ％
A15: 全国 | C15: 13800 | D15: 1160 | E15: 159900 | F15: 132900 | G15: 95 | H15: 92 | I15: 87 | J15: 89 | K15: 95 | N15: 1 | O15: 北海道 | P15: =IFERROR(_xlfn.XLOOKUP(O15,$A$29:$A$75,$C$29:$C$75),"-") -> 6410 | Q15: =IFERROR(_xlfn.RANK.EQ(P15,$P$15:$P$61,0)+COUNTIF($P$15:P15,P15)-1,"-") -> 1 | S15: =IFERROR(RANK(U15,$U$15:$U$61,0),"-") -> 1 | T15: =IFERROR(INDEX($O$15:$O$61,MATCH(N15,$Q$15:$Q$61,0)),"-") -> 北海道 | U15: =IFERROR(LARGE($P$15:$P$61,N15),"-") -> 6410 | V15: =IFERROR(ROUND(U15/$C$15*100,1),"-") -> 46.4 | X15: 1 | Y15: 北海道 | Z15: =IFERROR(_xlfn.XLOOKUP(Y15,$A$29:$A$75,$D$29:$D$75),"-") -> 1190 | AA15: =IFERROR(_xlfn.RANK.EQ(Z15,$Z$15:$Z$61,0)+COUNTIF($Z$15:Z15,Z15)-1,"-") -> 8 | AC15: =IFERROR(RANK(AE15,$AE$15:$AE$61,0),"-") -> 1 | AD15: =IFERROR(INDEX($Y$15:$Y$61,MATCH(X15,$AA$15:$AA$61,0)),"-") -> 千葉 | AE15: =IFERROR(LARGE($Z$15:$Z$61,X15),"-") -> 1770 | AF15: =IFERROR(ROUND(AE15/$D$15*100,1),"-") -> 152.6 | AH15: 1 | AI15: 北海道 | AJ15: =IFERROR(_xlfn.XLOOKUP(AI15,$A$29:$A$75,$E$29:$E$75),"-") -> 76300 | AK15: =IFERROR(_xlfn.RANK.EQ(AJ15,$AJ$15:$AJ$61,0)+COUNTIF($AJ$15:AJ15,AJ15)-1,"-") -> 1 | AM15: =IFERROR(RANK(AO15,$AO$15:$AO$61,0),"-") -> 1 | AN15: =IFERROR(INDEX($AI$15:$AI$61,MATCH(AH15,$AK$15:$AK$61,0)),"-") -> 北海道 | AO15: =IFERROR(LARGE($AJ$15:$AJ$61,AH15),"-") -> 76300 | AP15: =IFERROR(ROUND(AO15/$E$15*100,1),"-") -> 47.7
A16: （全国農業地域） | N16: 2 | O16: 青森 | P16: =IFERROR(_xlfn.XLOOKUP(O16,$A$29:$A$75,$C$29:$C$75),"-") -> 219 | Q16: =IFERROR(_xlfn.RANK.EQ(P16,$P$15:$P$61,0)+COUNTIF($P$15:P16,P16)-1,"-") -> 11 | S16: =IFERROR(RANK(U16,$U$15:$U$61,0),"-") -> 2 | T16: =IFERROR(INDEX($O$15:$O$61,MATCH(N16,$Q$15:$Q$61,0)),"-") -> 鹿児島 | U16: =IFERROR(LARGE($P$15:$P$61,N16),"-") -> 644 | V16: =IFERROR(ROUND(U16/$C$15*100,1),"-") -> 4.7 | X16: 2 | Y16: 青森 | Z16: =IFERROR(_xlfn.XLOOKUP(Y16,$A$29:$A$75,$D$29:$D$75),"-") -> 849 | AA16: =IFERROR(_xlfn.RANK.EQ(Z16,$Z$15:$Z$61,0)+COUNTIF($Z$15:Z16,Z16)-1,"-") -> 18 | AC16: =IFERROR(RANK(AE16,$AE$15:$AE$61,0),"-") -> 2 | AD16: =IFERROR(INDEX($Y$15:$Y$61,MATCH(X16,$AA$15:$AA$61,0)),"-") -> 茨城 | AE16: =IFERROR(LARGE($Z$15:$Z$61,X16),"-") -> 1650 | AF16: =IFERROR(ROUND(AE16/$D$15*100,1),"-") -> 142.2 | AH16: 2 | AI16: 青森 | AJ16: =IFERROR(_xlfn.XLOOKUP(AI16,$A$29:$A$75,$E$29:$E$75),"-") -> 1860 | AK16: =IFERROR(_xlfn.RANK.EQ(AJ16,$AJ$15:$AJ$61,0)+COUNTIF($AJ$15:AJ16,AJ16)-1,"-") -> 13 | AM16: =IFERROR(RANK(AO16,$AO$15:$AO$61,0),"-") -> 2 | AN16: =IFERROR(INDEX($AI$15:$AI$61,MATCH(AH16,$AK$15:$AK$61,0)),"-") -> 鹿児島 | AO16: =IFERROR(LARGE($AJ$15:$AJ$61,AH16),"-") -> 7730 | AP16: =IFERROR(ROUND(AO16/$E$15*100,1),"-") -> 4.8
A17: 北海道 | C17: 6410 | D17: 1190 | E17: 76300 | F17: 74700 | G17: 94 | H17: 86 | I17: 81 | J17: 85 | K17: 96 | N17: 3 | O17: 岩手 | P17: =IFERROR(_xlfn.XLOOKUP(O17,$A$29:$A$75,$C$29:$C$75),"-") -> 213 | Q17: =IFERROR(_xlfn.RANK.EQ(P17,$P$15:$P$61,0)+COUNTIF($P$15:P17,P17)-1,"-") -> 13 | S17: =IFERROR(RANK(U17,$U$15:$U$61,0),"-") -> 3 | T17: =IFERROR(INDEX($O$15:$O$61,MATCH(N17,$Q$15:$Q$61,0)),"-") -> 長野 | U17: =IFERROR(LARGE($P$15:$P$61,N17),"-") -> 545 | V17: =IFERROR(ROUND(U17/$C$15*100,1),"-") -> 3.9 | X17: 3 | Y17: 岩手 | Z17: =IFERROR(_xlfn.XLOOKUP(Y17,$A$29:$A$75,$D$29:$D$75),"-") -> 723 | AA17: =IFERROR(_xlfn.RANK.EQ(Z17,$Z$15:$Z$61,0)+COUNTIF($Z$15:Z17,Z17)-1,"-") -> 22 | AC17: =IFERROR(RANK(AE17,$AE$15:$AE$61,0),"-") -> 3 | AD17: =IFERROR(INDEX($Y$15:$Y$61,MATCH(X17,$AA$15:$AA$61,0)),"-") -> 神奈川 | AE17: =IFERROR(LARGE($Z$15:$Z$61,X17),"-") -> 1610 | AF17: =IFERROR(ROUND(AE17/$D$15*100,1),"-") -> 138.8 | AH17: 3 | AI17: 岩手 | AJ17: =IFERROR(_xlfn.XLOOKUP(AI17,$A$29:$A$75,$E$29:$E$75),"-") -> 1540 | AK17: =IFERROR(_xlfn.RANK.EQ(AJ17,$AJ$15:$AJ$61,0)+COUNTIF($AJ$15:AJ17,AJ17)-1,"-") -> 18 | AM17: =IFERROR(RANK(AO17,$AO$15:$AO$61,0),"-") -> 3 | AN17: =IFERROR(INDEX($AI$15:$AI$61,MATCH(AH17,$AK$15:$AK$61,0)),"-") -> 長野 | AO17: =IFERROR(LARGE($AJ$15:$AJ$61,AH17),"-") -> 6650 | AP17: =IFERROR(ROUND(AO17/$E$15*100,1),"-") -> 4.2
A18: 都府県 | C18: … | D18: … | E18: … | F18: … | G18: nc | H18: nc | I18: nc | J18: nc | K18: nc | N18: 4 | O18: 宮城 | P18: =IFERROR(_xlfn.XLOOKUP(O18,$A$29:$A$75,$C$29:$C$75),"-") -> 207 | Q18: =IFERROR(_xlfn.RANK.EQ(P18,$P$15:$P$61,0)+COUNTIF($P$15:P18,P18)-1,"-") -> 14 | S18: =IFERROR(RANK(U18,$U$15:$U$61,0),"-") -> 4 | T18: =IFERROR(INDEX($O$15:$O$61,MATCH(N18,$Q$15:$Q$61,0)),"-") -> 茨城 | U18: =IFERROR(LARGE($P$15:$P$61,N18),"-") -> 390 | V18: =IFERROR(ROUND(U18/$C$15*100,1),"-") -> 2.8 | X18: 4 | Y18: 宮城 | Z18: =IFERROR(_xlfn.XLOOKUP(Y18,$A$29:$A$75,$D$29:$D$75),"-") -> 754 | AA18: =IFERROR(_xlfn.RANK.EQ(Z18,$Z$15:$Z$61,0)+COUNTIF($Z$15:Z18,Z18)-1,"-") -> 20 | AC18: =IFERROR(RANK(AE18,$AE$15:$AE$61,0),"-") -> 4 | AD18: =IFERROR(INDEX($Y$15:$Y$61,MATCH(X18,$AA$15:$AA$61,0)),"-") -> 岡山 | AE18: =IFERROR(LARGE($Z$15:$Z$61,X18),"-") -> 1280 | AF18: =IFERROR(ROUND(AE18/$D$15*100,1),"-") -> 110.3 | AH18: 4 | AI18: 宮城 | AJ18: =IFERROR(_xlfn.XLOOKUP(AI18,$A$29:$A$75,$E$29:$E$75),"-") -> 1560 | AK18: =IFERROR(_xlfn.RANK.EQ(AJ18,$AJ$15:$AJ$61,0)+COUNTIF($AJ$15:AJ18,AJ18)-1,"-") -> 17 | AM18: =IFERROR(RANK(AO18,$AO$15:$AO$61,0),"-") -> 4 | AN18: =IFERROR(INDEX($AI$15:$AI$61,MATCH(AH18,$AK$15:$AK$61,0)),"-") -> 茨城 | AO18: =IFERROR(LARGE($AJ$15:$AJ$61,AH18),"-") -> 6440 | AP18: =IFERROR(ROUND(AO18/$E$15*100,1),"-") -> 4
A19: 東北 | C19: 1550 | D19: 755 | E19: 11700 | F19: 5980 | G19: 99 | H19: 96 | I19: 95 | J19: 96 | K19: 89 | N19: 5 | O19: 秋田 | P19: =IFERROR(_xlfn.XLOOKUP(O19,$A$29:$A$75,$C$29:$C$75),"-") -> 347 | Q19: =IFERROR(_xlfn.RANK.EQ(P19,$P$15:$P$61,0)+COUNTIF($P$15:P19,P19)-1,"-") -> 7 | S19: =IFERROR(RANK(U19,$U$15:$U$61,0),"-") -> 4 | T19: =IFERROR(INDEX($O$15:$O$61,MATCH(N19,$Q$15:$Q$61,0)),"-") -> 長崎 | U19: =IFERROR(LARGE($P$15:$P$61,N19),"-") -> 390 | V19: =IFERROR(ROUND(U19/$C$15*100,1),"-") -> 2.8 | X19: 5 | Y19: 秋田 | Z19: =IFERROR(_xlfn.XLOOKUP(Y19,$A$29:$A$75,$D$29:$D$75),"-") -> 771 | AA19: =IFERROR(_xlfn.RANK.EQ(Z19,$Z$15:$Z$61,0)+COUNTIF($Z$15:Z19,Z19)-1,"-") -> 19 | AC19: =IFERROR(RANK(AE19,$AE$15:$AE$61,0),"-") -> 5 | AD19: =IFERROR(INDEX($Y$15:$Y$61,MATCH(X19,$AA$15:$AA$61,0)),"-") -> 大分 | AE19: =IFERROR(LARGE($Z$15:$Z$61,X19),"-") -> 1270 | AF19: =IFERROR(ROUND(AE19/$D$15*100,1),"-") -> 109.5 | AH19: 5 | AI19: 秋田 | AJ19: =IFERROR(_xlfn.XLOOKUP(AI19,$A$29:$A$75,$E$29:$E$75),"-") -> 2680 | AK19: =IFERROR(_xlfn.RANK.EQ(AJ19,$AJ$15:$AJ$61,0)+COUNTIF($AJ$15:AJ19,AJ19)-1,"-") -> 8 | AM19: =IFERROR(RANK(AO19,$AO$15:$AO$61,0),"-") -> 5 | AN19: =IFERROR(INDEX($AI$15:$AI$61,MATCH(AH19,$AK$15:$AK$61,0)),"-") -> 長崎 | AO19: =IFERROR(LARGE($AJ$15:$AJ$61,AH19),"-") -> 4520 | AP19: =IFERROR(ROUND(AO19/$E$15*100,1),"-") -> 2.8
A20: 北陸 | C20: … | D20: … | E20: … | F20: … | G20: nc | H20: nc | I20: nc | J20: nc | K20: nc | N20: 6 | O20: 山形 | P20: =IFERROR(_xlfn.XLOOKUP(O20,$A$29:$A$75,$C$29:$C$75),"-") -> 286 | Q20: =IFERROR(_xlfn.RANK.EQ(P20,$P$15:$P$61,0)+COUNTIF($P$15:P20,P20)-1,"-") -> 8 | S20: =IFERROR(RANK(U20,$U$15:$U$61,0),"-") -> 6 | T20: =IFERROR(INDEX($O$15:$O$61,MATCH(N20,$Q$15:$Q$61,0)),"-") -> 沖縄 | U20: =IFERROR(LARGE($P$15:$P$61,N20),"-") -> 389 | V20: =IFERROR(ROUND(U20/$C$15*100,1),"-") -> 2.8 | X20: 6 | Y20: 山形 | Z20: =IFERROR(_xlfn.XLOOKUP(Y20,$A$29:$A$75,$D$29:$D$75),"-") -> 752 | AA20: =IFERROR(_xlfn.RANK.EQ(Z20,$Z$15:$Z$61,0)+COUNTIF($Z$15:Z20,Z20)-1,"-") -> 21 | AC20: =IFERROR(RANK(AE20,$AE$15:$AE$61,0),"-") -> 6 | AD20: =IFERROR(INDEX($Y$15:$Y$61,MATCH(X20,$AA$15:$AA$61,0)),"-") -> 長野 | AE20: =IFERROR(LARGE($Z$15:$Z$61,X20),"-") -> 1220 | AF20: =IFERROR(ROUND(AE20/$D$15*100,1),"-") -> 105.2 | AH20: 6 | AI20: 山形 | AJ20: =IFERROR(_xlfn.XLOOKUP(AI20,$A$29:$A$75,$E$29:$E$75),"-") -> 2150 | AK20: =IFERROR(_xlfn.RANK.EQ(AJ20,$AJ$15:$AJ$61,0)+COUNTIF($AJ$15:AJ20,AJ20)-1,"-") -> 11 | AM20: =IFERROR(RANK(AO20,$AO$15:$AO$61,0),"-") -> 6 | AN20: =IFERROR(INDEX($AI$15:$AI$61,MATCH(AH20,$AK$15:$AK$61,0)),"-") -> 沖縄 | AO20: =IFERROR(LARGE($AJ$15:$AJ$61,AH20),"-") -> 3560 | AP20: =IFERROR(ROUND(AO20/$E$15*100,1),"-") -> 2.2
A21: 関東・東山 | C21: … | D21: … | E21: … | F21: … | G21: nc | H21: nc | I21: nc | J21: nc | K21: nc | N21: 7 | O21: 福島 | P21: =IFERROR(_xlfn.XLOOKUP(O21,$A$29:$A$75,$C$29:$C$75),"-") -> 275 | Q21: =IFERROR(_xlfn.RANK.EQ(P21,$P$15:$P$61,0)+COUNTIF($P$15:P21,P21)-1,"-") -> 9 | S21: =IFERROR(RANK(U21,$U$15:$U$61,0),"-") -> 7 | T21: =IFERROR(INDEX($O$15:$O$61,MATCH(N21,$Q$15:$Q$61,0)),"-") -> 秋田 | U21: =IFERROR(LARGE($P$15:$P$61,N21),"-") -> 347 | V21: =IFERROR(ROUND(U21/$C$15*100,1),"-") -> 2.5 | X21: 7 | Y21: 福島 | Z21: =IFERROR(_xlfn.XLOOKUP(Y21,$A$29:$A$75,$D$29:$D$75),"-") -> 698 | AA21: =IFERROR(_xlfn.RANK.EQ(Z21,$Z$15:$Z$61,0)+COUNTIF($Z$15:Z21,Z21)-1,"-") -> 23 | AC21: =IFERROR(RANK(AE21,$AE$15:$AE$61,0),"-") -> 7 | AD21: =IFERROR(INDEX($Y$15:$Y$61,MATCH(X21,$AA$15:$AA$61,0)),"-") -> 鹿児島 | AE21: =IFERROR(LARGE($Z$15:$Z$61,X21),"-") -> 1200 | AF21: =IFERROR(ROUND(AE21/$D$15*100,1),"-") -> 103.4 | AH21: 7 | AI21: 福島 | AJ21: =IFERROR(_xlfn.XLOOKUP(AI21,$A$29:$A$75,$E$29:$E$75),"-") -> 1920 | AK21: =IFERROR(_xlfn.RANK.EQ(AJ21,$AJ$15:$AJ$61,0)+COUNTIF($AJ$15:AJ21,AJ21)-1,"-") -> 12 | AM21: =IFERROR(RANK(AO21,$AO$15:$AO$61,0),"-") -> 7 | AN21: =IFERROR(INDEX($AI$15:$AI$61,MATCH(AH21,$AK$15:$AK$61,0)),"-") -> 神奈川 | AO21: =IFERROR(LARGE($AJ$15:$AJ$61,AH21),"-") -> 3460 | AP21: =IFERROR(ROUND(AO21/$E$15*100,1),"-") -> 2.2
A22: 東海 | C22: … | D22: … | E22: … | F22: … | G22: nc | H22: nc | I22: nc | J22: nc | K22: nc | N22: 8 | O22: 茨城 | P22: =IFERROR(_xlfn.XLOOKUP(O22,$A$29:$A$75,$C$29:$C$75),"-") -> 390 | Q22: =IFERROR(_xlfn.RANK.EQ(P22,$P$15:$P$61,0)+COUNTIF($P$15:P22,P22)-1,"-") -> 4 | S22: =IFERROR(RANK(U22,$U$15:$U$61,0),"-") -> 8 | T22: =IFERROR(INDEX($O$15:$O$61,MATCH(N22,$Q$15:$Q$61,0)),"-") -> 山形 | U22: =IFERROR(LARGE($P$15:$P$61,N22),"-") -> 286 | V22: =IFERROR(ROUND(U22/$C$15*100,1),"-") -> 2.1 | X22: 8 | Y22: 茨城 | Z22: =IFERROR(_xlfn.XLOOKUP(Y22,$A$29:$A$75,$D$29:$D$75),"-") -> 1650 | AA22: =IFERROR(_xlfn.RANK.EQ(Z22,$Z$15:$Z$61,0)+COUNTIF($Z$15:Z22,Z22)-1,"-") -> 2 | AC22: =IFERROR(RANK(AE22,$AE$15:$AE$61,0),"-") -> 8 | AD22: =IFERROR(INDEX($Y$15:$Y$61,MATCH(X22,$AA$15:$AA$61,0)),"-") -> 北海道 | AE22: =IFERROR(LARGE($Z$15:$Z$61,X22),"-") -> 1190 | AF22: =IFERROR(ROUND(AE22/$D$15*100,1),"-") -> 102.6 | AH22: 8 | AI22: 茨城 | AJ22: =IFERROR(_xlfn.XLOOKUP(AI22,$A$29:$A$75,$E$29:$E$75),"-") -> 6440 | AK22: =IFERROR(_xlfn.RANK.EQ(AJ22,$AJ$15:$AJ$61,0)+COUNTIF($AJ$15:AJ22,AJ22)-1,"-") -> 4 | AM22: =IFERROR(RANK(AO22,$AO$15:$AO$61,0),"-") -> 8 | AN22: =IFERROR(INDEX($AI$15:$AI$61,MATCH(AH22,$AK$15:$AK$61,0)),"-") -> 秋田 | AO22: =IFERROR(LARGE($AJ$15:$AJ$61,AH22),"-") -> 2680 | AP22: =IFERROR(ROUND(AO22/$E$15*100,1),"-") -> 1.7
A23: 近畿 | C23: … | D23: … | E23: … | F23: … | G23: nc | H23: nc | I23: nc | J23: nc | K23: nc | N23: 9 | O23: 栃木 | P23: =IFERROR(_xlfn.XLOOKUP(O23,$A$29:$A$75,$C$29:$C$75),"-") -> … | Q23: =IFERROR(_xlfn.RANK.EQ(P23,$P$15:$P$61,0)+COUNTIF($P$15:P23,P23)-1,"-") -> - | S23: =IFERROR(RANK(U23,$U$15:$U$61,0),"-") -> 9 | T23: =IFERROR(INDEX($O$15:$O$61,MATCH(N23,$Q$15:$Q$61,0)),"-") -> 福島 | U23: =IFERROR(LARGE($P$15:$P$61,N23),"-") -> 275 | V23: =IFERROR(ROUND(U23/$C$15*100,1),"-") -> 2 | X23: 9 | Y23: 栃木 | Z23: =IFERROR(_xlfn.XLOOKUP(Y23,$A$29:$A$75,$D$29:$D$75),"-") -> … | AA23: =IFERROR(_xlfn.RANK.EQ(Z23,$Z$15:$Z$61,0)+COUNTIF($Z$15:Z23,Z23)-1,"-") -> - | AC23: =IFERROR(RANK(AE23,$AE$15:$AE$61,0),"-") -> 9 | AD23: =IFERROR(INDEX($Y$15:$Y$61,MATCH(X23,$AA$15:$AA$61,0)),"-") -> 三重 | AE23: =IFERROR(LARGE($Z$15:$Z$61,X23),"-") -> 1160 | AF23: =IFERROR(ROUND(AE23/$D$15*100,1),"-") -> 100 | AH23: 9 | AI23: 栃木 | AJ23: =IFERROR(_xlfn.XLOOKUP(AI23,$A$29:$A$75,$E$29:$E$75),"-") -> … | AK23: =IFERROR(_xlfn.RANK.EQ(AJ23,$AJ$15:$AJ$61,0)+COUNTIF($AJ$15:AJ23,AJ23)-1,"-") -> - | AM23: =IFERROR(RANK(AO23,$AO$15:$AO$61,0),"-") -> 8 | AN23: =IFERROR(INDEX($AI$15:$AI$61,MATCH(AH23,$AK$15:$AK$61,0)),"-") -> 新潟 | AO23: =IFERROR(LARGE($AJ$15:$AJ$61,AH23),"-") -> 2680 | AP23: =IFERROR(ROUND(AO23/$E$15*100,1),"-") -> 1.7
A24: 中国 | C24: … | D24: … | E24: … | F24: … | G24: nc | H24: nc | I24: nc | J24: nc | K24: nc | N24: 10 | O24: 群馬 | P24: =IFERROR(_xlfn.XLOOKUP(O24,$A$29:$A$75,$C$29:$C$75),"-") -> … | Q24: =IFERROR(_xlfn.RANK.EQ(P24,$P$15:$P$61,0)+COUNTIF($P$15:P24,P24)-1,"-") -> - | S24: =IFERROR(RANK(U24,$U$15:$U$61,0),"-") -> 10 | T24: =IFERROR(INDEX($O$15:$O$61,MATCH(N24,$Q$15:$Q$61,0)),"-") -> 新潟 | U24: =IFERROR(LARGE($P$15:$P$61,N24),"-") -> 250 | V24: =IFERROR(ROUND(U24/$C$15*100,1),"-") -> 1.8 | X24: 10 | Y24: 群馬 | Z24: =IFERROR(_xlfn.XLOOKUP(Y24,$A$29:$A$75,$D$29:$D$75),"-") -> … | AA24: =IFERROR(_xlfn.RANK.EQ(Z24,$Z$15:$Z$61,0)+COUNTIF($Z$15:Z24,Z24)-1,"-") -> - | AC24: =IFERROR(RANK(AE24,$AE$15:$AE$61,0),"-") -> 9 | AD24: =IFERROR(INDEX($Y$15:$Y$61,MATCH(X24,$AA$15:$AA$61,0)),"-") -> 長崎 | AE24: =IFERROR(LARGE($Z$15:$Z$61,X24),"-") -> 1160 | AF24: =IFERROR(ROUND(AE24/$D$15*100,1),"-") -> 100 | AH24: 10 | AI24: 群馬 | AJ24: =IFERROR(_xlfn.XLOOKUP(AI24,$A$29:$A$75,$E$29:$E$75),"-") -> … | AK24: =IFERROR(_xlfn.RANK.EQ(AJ24,$AJ$15:$AJ$61,0)+COUNTIF($AJ$15:AJ24,AJ24)-1,"-") -> - | AM24: =IFERROR(RANK(AO24,$AO$15:$AO$61,0),"-") -> 10 | AN24: =IFERROR(INDEX($AI$15:$AI$61,MATCH(AH24,$AK$15:$AK$61,0)),"-") -> 千葉 | AO24: =IFERROR(LARGE($AJ$15:$AJ$61,AH24),"-") -> 2300 | AP24: =IFERROR(ROUND(AO24/$E$15*100,1),"-") -> 1.4
A25: 四国 | C25: … | D25: … | E25: … | F25: … | G25: nc | H25: nc | I25: nc | J25: nc | K25: nc | N25: 11 | O25: 埼玉 | P25: =IFERROR(_xlfn.XLOOKUP(O25,$A$29:$A$75,$C$29:$C$75),"-") -> … | Q25: =IFERROR(_xlfn.RANK.EQ(P25,$P$15:$P$61,0)+COUNTIF($P$15:P25,P25)-1,"-") -> - | S25: =IFERROR(RANK(U25,$U$15:$U$61,0),"-") -> 11 | T25: =IFERROR(INDEX($O$15:$O$61,MATCH(N25,$Q$15:$Q$61,0)),"-") -> 青森 | U25: =IFERROR(LARGE($P$15:$P$61,N25),"-") -> 219 | V25: =IFERROR(ROUND(U25/$C$15*100,1),"-") -> 1.6 | X25: 11 | Y25: 埼玉 | Z25: =IFERROR(_xlfn.XLOOKUP(Y25,$A$29:$A$75,$D$29:$D$75),"-") -> … | AA25: =IFERROR(_xlfn.RANK.EQ(Z25,$Z$15:$Z$61,0)+COUNTIF($Z$15:Z25,Z25)-1,"-") -> - | AC25: =IFERROR(RANK(AE25,$AE$15:$AE$61,0),"-") -> 11 | AD25: =IFERROR(INDEX($Y$15:$Y$61,MATCH(X25,$AA$15:$AA$61,0)),"-") -> 広島 | AE25: =IFERROR(LARGE($Z$15:$Z$61,X25),"-") -> 1120 | AF25: =IFERROR(ROUND(AE25/$D$15*100,1),"-") -> 96.6 | AH25: 11 | AI25: 埼玉 | AJ25: =IFERROR(_xlfn.XLOOKUP(AI25,$A$29:$A$75,$E$29:$E$75),"-") -> … | AK25: =IFERROR(_xlfn.RANK.EQ(AJ25,$AJ$15:$AJ$61,0)+COUNTIF($AJ$15:AJ25,AJ25)-1,"-") -> - | AM25: =IFERROR(RANK(AO25,$AO$15:$AO$61,0),"-") -> 11 | AN25: =IFERROR(INDEX($AI$15:$AI$61,MATCH(AH25,$AK$15:$AK$61,0)),"-") -> 山形 | AO25: =IFERROR(LARGE($AJ$15:$AJ$61,AH25),"-") -> 2150 | AP25: =IFERROR(ROUND(AO25/$E$15*100,1),"-") -> 1.3
A26: 九州 | C26: … | D26: … | E26: … | F26: … | G26: nc | H26: nc | I26: nc | J26: nc | K26: nc | N26: 12 | O26: 千葉 | P26: =IFERROR(_xlfn.XLOOKUP(O26,$A$29:$A$75,$C$29:$C$75),"-") -> 130 | Q26: =IFERROR(_xlfn.RANK.EQ(P26,$P$15:$P$61,0)+COUNTIF($P$15:P26,P26)-1,"-") -> 18 | S26: =IFERROR(RANK(U26,$U$15:$U$61,0),"-") -> 12 | T26: =IFERROR(INDEX($O$15:$O$61,MATCH(N26,$Q$15:$Q$61,0)),"-") -> 神奈川 | U26: =IFERROR(LARGE($P$15:$P$61,N26),"-") -> 215 | V26: =IFERROR(ROUND(U26/$C$15*100,1),"-") -> 1.6 | X26: 12 | Y26: 千葉 | Z26: =IFERROR(_xlfn.XLOOKUP(Y26,$A$29:$A$75,$D$29:$D$75),"-") -> 1770 | AA26: =IFERROR(_xlfn.RANK.EQ(Z26,$Z$15:$Z$61,0)+COUNTIF($Z$15:Z26,Z26)-1,"-") -> 1 | AC26: =IFERROR(RANK(AE26,$AE$15:$AE$61,0),"-") -> 12 | AD26: =IFERROR(INDEX($Y$15:$Y$61,MATCH(X26,$AA$15:$AA$61,0)),"-") -> 新潟 | AE26: =IFERROR(LARGE($Z$15:$Z$61,X26),"-") -> 1070 | AF26: =IFERROR(ROUND(AE26/$D$15*100,1),"-") -> 92.2 | AH26: 12 | AI26: 千葉 | AJ26: =IFERROR(_xlfn.XLOOKUP(AI26,$A$29:$A$75,$E$29:$E$75),"-") -> 2300 | AK26: =IFERROR(_xlfn.RANK.EQ(AJ26,$AJ$15:$AJ$61,0)+COUNTIF($AJ$15:AJ26,AJ26)-1,"-") -> 10 | AM26: =IFERROR(RANK(AO26,$AO$15:$AO$61,0),"-") -> 12 | AN26: =IFERROR(INDEX($AI$15:$AI$61,MATCH(AH26,$AK$15:$AK$61,0)),"-") -> 福島 | AO26: =IFERROR(LARGE($AJ$15:$AJ$61,AH26),"-") -> 1920 | AP26: =IFERROR(ROUND(AO26/$E$15*100,1),"-") -> 1.2
A27: 沖縄 | C27: 389 | D27: 914 | E27: 3560 | F27: 3170 | G27: 103 | H27: 96 | I27: 100 | J27: 100 | K27: 103 | N27: 13 | O27: 東京 | P27: =IFERROR(_xlfn.XLOOKUP(O27,$A$29:$A$75,$C$29:$C$75),"-") -> … | Q27: =IFERROR(_xlfn.RANK.EQ(P27,$P$15:$P$61,0)+COUNTIF($P$15:P27,P27)-1,"-") -> - | S27: =IFERROR(RANK(U27,$U$15:$U$61,0),"-") -> 13 | T27: =IFERROR(INDEX($O$15:$O$61,MATCH(N27,$Q$15:$Q$61,0)),"-") -> 岩手 | U27: =IFERROR(LARGE($P$15:$P$61,N27),"-") -> 213 | V27: =IFERROR(ROUND(U27/$C$15*100,1),"-") -> 1.5 | X27: 13 | Y27: 東京 | Z27: =IFERROR(_xlfn.XLOOKUP(Y27,$A$29:$A$75,$D$29:$D$75),"-") -> … | AA27: =IFERROR(_xlfn.RANK.EQ(Z27,$Z$15:$Z$61,0)+COUNTIF($Z$15:Z27,Z27)-1,"-") -> - | AC27: =IFERROR(RANK(AE27,$AE$15:$AE$61,0),"-") -> 13 | AD27: =IFERROR(INDEX($Y$15:$Y$61,MATCH(X27,$AA$15:$AA$61,0)),"-") -> 佐賀 | AE27: =IFERROR(LARGE($Z$15:$Z$61,X27),"-") -> 1060 | AF27: =IFERROR(ROUND(AE27/$D$15*100,1),"-") -> 91.4 | AH27: 13 | AI27: 東京 | AJ27: =IFERROR(_xlfn.XLOOKUP(AI27,$A$29:$A$75,$E$29:$E$75),"-") -> … | AK27: =IFERROR(_xlfn.RANK.EQ(AJ27,$AJ$15:$AJ$61,0)+COUNTIF($AJ$15:AJ27,AJ27)-1,"-") -> - | AM27: =IFERROR(RANK(AO27,$AO$15:$AO$61,0),"-") -> 13 | AN27: =IFERROR(INDEX($AI$15:$AI$61,MATCH(AH27,$AK$15:$AK$61,0)),"-") -> 青森 | AO27: =IFERROR(LARGE($AJ$15:$AJ$61,AH27),"-") -> 1860 | AP27: =IFERROR(ROUND(AO27/$E$15*100,1),"-") -> 1.2
A28: （都道府県） | N28: 14 | O28: 神奈川 | P28: =IFERROR(_xlfn.XLOOKUP(O28,$A$29:$A$75,$C$29:$C$75),"-") -> 215 | Q28: =IFERROR(_xlfn.RANK.EQ(P28,$P$15:$P$61,0)+COUNTIF($P$15:P28,P28)-1,"-") -> 12 | S28: =IFERROR(RANK(U28,$U$15:$U$61,0),"-") -> 14 | T28: =IFERROR(INDEX($O$15:$O$61,MATCH(N28,$Q$15:$Q$61,0)),"-") -> 宮城 | U28: =IFERROR(LARGE($P$15:$P$61,N28),"-") -> 207 | V28: =IFERROR(ROUND(U28/$C$15*100,1),"-") -> 1.5 | X28: 14 | Y28: 神奈川 | Z28: =IFERROR(_xlfn.XLOOKUP(Y28,$A$29:$A$75,$D$29:$D$75),"-") -> 1610 | AA28: =IFERROR(_xlfn.RANK.EQ(Z28,$Z$15:$Z$61,0)+COUNTIF($Z$15:Z28,Z28)-1,"-") -> 3 | AC28: =IFERROR(RANK(AE28,$AE$15:$AE$61,0),"-") -> 14 | AD28: =IFERROR(INDEX($Y$15:$Y$61,MATCH(X28,$AA$15:$AA$61,0)),"-") -> 愛媛 | AE28: =IFERROR(LARGE($Z$15:$Z$61,X28),"-") -> 1040 | AF28: =IFERROR(ROUND(AE28/$D$15*100,1),"-") -> 89.7 | AH28: 14 | AI28: 神奈川 | AJ28: =IFERROR(_xlfn.XLOOKUP(AI28,$A$29:$A$75,$E$29:$E$75),"-") -> 3460 | AK28: =IFERROR(_xlfn.RANK.EQ(AJ28,$AJ$15:$AJ$61,0)+COUNTIF($AJ$15:AJ28,AJ28)-1,"-") -> 7 | AM28: =IFERROR(RANK(AO28,$AO$15:$AO$61,0),"-") -> 13 | AN28: =IFERROR(INDEX($AI$15:$AI$61,MATCH(AH28,$AK$15:$AK$61,0)),"-") -> 石川 | AO28: =IFERROR(LARGE($AJ$15:$AJ$61,AH28),"-") -> 1860 | AP28: =IFERROR(ROUND(AO28/$E$15*100,1),"-") -> 1.2
A29: 北海道 | C29: 6410 | D29: 1190 | E29: 76300 | F29: 74700 | G29: 94 | H29: 86 | I29: 81 | J29: 85 | K29: 96 | N29: 15 | O29: 新潟 | P29: =IFERROR(_xlfn.XLOOKUP(O29,$A$29:$A$75,$C$29:$C$75),"-") -> 250 | Q29: =IFERROR(_xlfn.RANK.EQ(P29,$P$15:$P$61,0)+COUNTIF($P$15:P29,P29)-1,"-") -> 10 | S29: =IFERROR(RANK(U29,$U$15:$U$61,0),"-") -> 15 | T29: =IFERROR(INDEX($O$15:$O$61,MATCH(N29,$Q$15:$Q$61,0)),"-") -> 石川 | U29: =IFERROR(LARGE($P$15:$P$61,N29),"-") -> 199 | V29: =IFERROR(ROUND(U29/$C$15*100,1),"-") -> 1.4 | X29: 15 | Y29: 新潟 | Z29: =IFERROR(_xlfn.XLOOKUP(Y29,$A$29:$A$75,$D$29:$D$75),"-") -> 1070 | AA29: =IFERROR(_xlfn.RANK.EQ(Z29,$Z$15:$Z$61,0)+COUNTIF($Z$15:Z29,Z29)-1,"-") -> 12 | AC29: =IFERROR(RANK(AE29,$AE$15:$AE$61,0),"-") -> 15 | AD29: =IFERROR(INDEX($Y$15:$Y$61,MATCH(X29,$AA$15:$AA$61,0)),"-") -> 香川 | AE29: =IFERROR(LARGE($Z$15:$Z$61,X29),"-") -> 1010 | AF29: =IFERROR(ROUND(AE29/$D$15*100,1),"-") -> 87.1 | AH29: 15 | AI29: 新潟 | AJ29: =IFERROR(_xlfn.XLOOKUP(AI29,$A$29:$A$75,$E$29:$E$75),"-") -> 2680 | AK29: =IFERROR(_xlfn.RANK.EQ(AJ29,$AJ$15:$AJ$61,0)+COUNTIF($AJ$15:AJ29,AJ29)-1,"-") -> 9 | AM29: =IFERROR(RANK(AO29,$AO$15:$AO$61,0),"-") -> 15 | AN29: =IFERROR(INDEX($AI$15:$AI$61,MATCH(AH29,$AK$15:$AK$61,0)),"-") -> 広島 | AO29: =IFERROR(LARGE($AJ$15:$AJ$61,AH29),"-") -> 1780 | AP29: =IFERROR(ROUND(AO29/$E$15*100,1),"-") -> 1.1
A30: 青森 | C30: 219 | D30: 849 | E30: 1860 | F30: 1190 | G30: 100 | H30: 108 | I30: 108 | J30: 106 | K30: 75 | N30: 16 | O30: 富山 | P30: =IFERROR(_xlfn.XLOOKUP(O30,$A$29:$A$75,$C$29:$C$75),"-") -> … | Q30: =IFERROR(_xlfn.RANK.EQ(P30,$P$15:$P$61,0)+COUNTIF($P$15:P30,P30)-1,"-") -> - | S30: =IFERROR(RANK(U30,$U$15:$U$61,0),"-") -> 16 | T30: =IFERROR(INDEX($O$15:$O$61,MATCH(N30,$Q$15:$Q$61,0)),"-") -> 広島 | U30: =IFERROR(LARGE($P$15:$P$61,N30),"-") -> 159 | V30: =IFERROR(ROUND(U30/$C$15*100,1),"-") -> 1.2 | X30: 16 | Y30: 富山 | Z30: =IFERROR(_xlfn.XLOOKUP(Y30,$A$29:$A$75,$D$29:$D$75),"-") -> … | AA30: =IFERROR(_xlfn.RANK.EQ(Z30,$Z$15:$Z$61,0)+COUNTIF($Z$15:Z30,Z30)-1,"-") -> - | AC30: =IFERROR(RANK(AE30,$AE$15:$AE$61,0),"-") -> 16 | AD30: =IFERROR(INDEX($Y$15:$Y$61,MATCH(X30,$AA$15:$AA$61,0)),"-") -> 石川 | AE30: =IFERROR(LARGE($Z$15:$Z$61,X30),"-") -> 936 | AF30: =IFERROR(ROUND(AE30/$D$15*100,1),"-") -> 80.7 | AH30: 16 | AI30: 富山 | AJ30: =IFERROR(_xlfn.XLOOKUP(AI30,$A$29:$A$75,$E$29:$E$75),"-") -> … | AK30: =IFERROR(_xlfn.RANK.EQ(AJ30,$AJ$15:$AJ$61,0)+COUNTIF($AJ$15:AJ30,AJ30)-1,"-") -> - | AM30: =IFERROR(RANK(AO30,$AO$15:$AO$61,0),"-") -> 16 | AN30: =IFERROR(INDEX($AI$15:$AI$61,MATCH(AH30,$AK$15:$AK$61,0)),"-") -> 三重 | AO30: =IFERROR(LARGE($AJ$15:$AJ$61,AH30),"-") -> 1760 | AP30: =IFERROR(ROUND(AO30/$E$15*100,1),"-") -> 1.1
A31: 岩手 | C31: 213 | D31: 723 | E31: 1540 | F31: 818 | G31: 98 | H31: 95 | I31: 93 | J31: 93 | K31: 86 | N31: 17 | O31: 石川 | P31: =IFERROR(_xlfn.XLOOKUP(O31,$A$29:$A$75,$C$29:$C$75),"-") -> 199 | Q31: =IFERROR(_xlfn.RANK.EQ(P31,$P$15:$P$61,0)+COUNTIF($P$15:P31,P31)-1,"-") -> 15 | S31: =IFERROR(RANK(U31,$U$15:$U$61,0),"-") -> 17 | T31: =IFERROR(INDEX($O$15:$O$61,MATCH(N31,$Q$15:$Q$61,0)),"-") -> 三重 | U31: =IFERROR(LARGE($P$15:$P$61,N31),"-") -> 152 | V31: =IFERROR(ROUND(U31/$C$15*100,1),"-") -> 1.1 | X31: 17 | Y31: 石川 | Z31: =IFERROR(_xlfn.XLOOKUP(Y31,$A$29:$A$75,$D$29:$D$75),"-") -> 936 | AA31: =IFERROR(_xlfn.RANK.EQ(Z31,$Z$15:$Z$61,0)+COUNTIF($Z$15:Z31,Z31)-1,"-") -> 16 | AC31: =IFERROR(RANK(AE31,$AE$15:$AE$61,0),"-") -> 17 | AD31: =IFERROR(INDEX($Y$15:$Y$61,MATCH(X31,$AA$15:$AA$61,0)),"-") -> 沖縄 | AE31: =IFERROR(LARGE($Z$15:$Z$61,X31),"-") -> 914 | AF31: =IFERROR(ROUND(AE31/$D$15*100,1),"-") -> 78.8 | AH31: 17 | AI31: 石川 | AJ31: =IFERROR(_xlfn.XLOOKUP(AI31,$A$29:$A$75,$E$29:$E$75),"-") -> 1860 | AK31: =IFERROR(_xlfn.RANK.EQ(AJ31,$AJ$15:$AJ$61,0)+COUNTIF($AJ$15:AJ31,AJ31)-1,"-") -> 14 | AM31: =IFERROR(RANK(AO31,$AO$15:$AO$61,0),"-") -> 17 | AN31: =IFERROR(INDEX($AI$15:$AI$61,MATCH(AH31,$AK$15:$AK$61,0)),"-") -> 宮城 | AO31: =IFERROR(LARGE($AJ$15:$AJ$61,AH31),"-") -> 1560 | AP31: =IFERROR(ROUND(AO31/$E$15*100,1),"-") -> 1
A32: 宮城 | C32: 207 | D32: 754 | E32: 1560 | F32: 695 | G32: 99 | H32: 107 | I32: 106 | J32: 106 | K32: 101 | N32: 18 | O32: 福井 | P32: =IFERROR(_xlfn.XLOOKUP(O32,$A$29:$A$75,$C$29:$C$75),"-") -> … | Q32: =IFERROR(_xlfn.RANK.EQ(P32,$P$15:$P$61,0)+COUNTIF($P$15:P32,P32)-1,"-") -> - | S32: =IFERROR(RANK(U32,$U$15:$U$61,0),"-") -> 18 | T32: =IFERROR(INDEX($O$15:$O$61,MATCH(N32,$Q$15:$Q$61,0)),"-") -> 千葉 | U32: =IFERROR(LARGE($P$15:$P$61,N32),"-") -> 130 | V32: =IFERROR(ROUND(U32/$C$15*100,1),"-") -> 0.9 | X32: 18 | Y32: 福井 | Z32: =IFERROR(_xlfn.XLOOKUP(Y32,$A$29:$A$75,$D$29:$D$75),"-") -> … | AA32: =IFERROR(_xlfn.RANK.EQ(Z32,$Z$15:$Z$61,0)+COUNTIF($Z$15:Z32,Z32)-1,"-") -> - | AC32: =IFERROR(RANK(AE32,$AE$15:$AE$61,0),"-") -> 18 | AD32: =IFERROR(INDEX($Y$15:$Y$61,MATCH(X32,$AA$15:$AA$61,0)),"-") -> 青森 | AE32: =IFERROR(LARGE($Z$15:$Z$61,X32),"-") -> 849 | AF32: =IFERROR(ROUND(AE32/$D$15*100,1),"-") -> 73.2 | AH32: 18 | AI32: 福井 | AJ32: =IFERROR(_xlfn.XLOOKUP(AI32,$A$29:$A$75,$E$29:$E$75),"-") -> … | AK32: =IFERROR(_xlfn.RANK.EQ(AJ32,$AJ$15:$AJ$61,0)+COUNTIF($AJ$15:AJ32,AJ32)-1,"-") -> - | AM32: =IFERROR(RANK(AO32,$AO$15:$AO$61,0),"-") -> 18 | AN32: =IFERROR(INDEX($AI$15:$AI$61,MATCH(AH32,$AK$15:$AK$61,0)),"-") -> 岩手 | AO32: =IFERROR(LARGE($AJ$15:$AJ$61,AH32),"-") -> 1540 | AP32: =IFERROR(ROUND(AO32/$E$15*100,1),"-") -> 1
A33: 秋田 | C33: 347 | D33: 771 | E33: 2680 | F33: 1340 | G33: 100 | H33: 104 | I33: 104 | J33: 105 | K33: 98 | N33: 19 | O33: 山梨 | P33: =IFERROR(_xlfn.XLOOKUP(O33,$A$29:$A$75,$C$29:$C$75),"-") -> … | Q33: =IFERROR(_xlfn.RANK.EQ(P33,$P$15:$P$61,0)+COUNTIF($P$15:P33,P33)-1,"-") -> - | S33: =IFERROR(RANK(U33,$U$15:$U$61,0),"-") -> 19 | T33: =IFERROR(INDEX($O$15:$O$61,MATCH(N33,$Q$15:$Q$61,0)),"-") -> 岡山 | U33: =IFERROR(LARGE($P$15:$P$61,N33),"-") -> 107 | V33: =IFERROR(ROUND(U33/$C$15*100,1),"-") -> 0.8 | X33: 19 | Y33: 山梨 | Z33: =IFERROR(_xlfn.XLOOKUP(Y33,$A$29:$A$75,$D$29:$D$75),"-") -> … | AA33: =IFERROR(_xlfn.RANK.EQ(Z33,$Z$15:$Z$61,0)+COUNTIF($Z$15:Z33,Z33)-1,"-") -> - | AC33: =IFERROR(RANK(AE33,$AE$15:$AE$61,0),"-") -> 19 | AD33: =IFERROR(INDEX($Y$15:$Y$61,MATCH(X33,$AA$15:$AA$61,0)),"-") -> 秋田 | AE33: =IFERROR(LARGE($Z$15:$Z$61,X33),"-") -> 771 | AF33: =IFERROR(ROUND(AE33/$D$15*100,1),"-") -> 66.5 | AH33: 19 | AI33: 山梨 | AJ33: =IFERROR(_xlfn.XLOOKUP(AI33,$A$29:$A$75,$E$29:$E$75),"-") -> … | AK33: =IFERROR(_xlfn.RANK.EQ(AJ33,$AJ$15:$AJ$61,0)+COUNTIF($AJ$15:AJ33,AJ33)-1,"-") -> - | AM33: =IFERROR(RANK(AO33,$AO$15:$AO$61,0),"-") -> 19 | AN33: =IFERROR(INDEX($AI$15:$AI$61,MATCH(AH33,$AK$15:$AK$61,0)),"-") -> 岡山 | AO33: =IFERROR(LARGE($AJ$15:$AJ$61,AH33),"-") -> 1370 | AP33: =IFERROR(ROUND(AO33/$E$15*100,1),"-") -> 0.9
A34: 山形 | C34: 286 | D34: 752 | E34: 2150 | F34: 1120 | G34: 99 | H34: 78 | I34: 77 | J34: 77 | K34: 78 | N34: 20 | O34: 長野 | P34: =IFERROR(_xlfn.XLOOKUP(O34,$A$29:$A$75,$C$29:$C$75),"-") -> 545 | Q34: =IFERROR(_xlfn.RANK.EQ(P34,$P$15:$P$61,0)+COUNTIF($P$15:P34,P34)-1,"-") -> 3 | S34: =IFERROR(RANK(U34,$U$15:$U$61,0),"-") -> 19 | T34: =IFERROR(INDEX($O$15:$O$61,MATCH(N34,$Q$15:$Q$61,0)),"-") -> 大分 | U34: =IFERROR(LARGE($P$15:$P$61,N34),"-") -> 107 | V34: =IFERROR(ROUND(U34/$C$15*100,1),"-") -> 0.8 | X34: 20 | Y34: 長野 | Z34: =IFERROR(_xlfn.XLOOKUP(Y34,$A$29:$A$75,$D$29:$D$75),"-") -> 1220 | AA34: =IFERROR(_xlfn.RANK.EQ(Z34,$Z$15:$Z$61,0)+COUNTIF($Z$15:Z34,Z34)-1,"-") -> 6 | AC34: =IFERROR(RANK(AE34,$AE$15:$AE$61,0),"-") -> 20 | AD34: =IFERROR(INDEX($Y$15:$Y$61,MATCH(X34,$AA$15:$AA$61,0)),"-") -> 宮城 | AE34: =IFERROR(LARGE($Z$15:$Z$61,X34),"-") -> 754 | AF34: =IFERROR(ROUND(AE34/$D$15*100,1),"-") -> 65 | AH34: 20 | AI34: 長野 | AJ34: =IFERROR(_xlfn.XLOOKUP(AI34,$A$29:$A$75,$E$29:$E$75),"-") -> 6650 | AK34: =IFERROR(_xlfn.RANK.EQ(AJ34,$AJ$15:$AJ$61,0)+COUNTIF($AJ$15:AJ34,AJ34)-1,"-") -> 3 | AM34: =IFERROR(RANK(AO34,$AO$15:$AO$61,0),"-") -> 20 | AN34: =IFERROR(INDEX($AI$15:$AI$61,MATCH(AH34,$AK$15:$AK$61,0)),"-") -> 大分 | AO34: =IFERROR(LARGE($AJ$15:$AJ$61,AH34),"-") -> 1360 | AP34: =IFERROR(ROUND(AO34/$E$15*100,1),"-") -> 0.9
A35: 福島 | C35: 275 | D35: 698 | E35: 1920 | F35: 816 | G35: 95 | H35: 97 | I35: 92 | J35: 95 | K35: 96 | N35: 21 | O35: 岐阜 | P35: =IFERROR(_xlfn.XLOOKUP(O35,$A$29:$A$75,$C$29:$C$75),"-") -> … | Q35: =IFERROR(_xlfn.RANK.EQ(P35,$P$15:$P$61,0)+COUNTIF($P$15:P35,P35)-1,"-") -> - | S35: =IFERROR(RANK(U35,$U$15:$U$61,0),"-") -> 21 | T35: =IFERROR(INDEX($O$15:$O$61,MATCH(N35,$Q$15:$Q$61,0)),"-") -> 山口 | U35: =IFERROR(LARGE($P$15:$P$61,N35),"-") -> 92 | V35: =IFERROR(ROUND(U35/$C$15*100,1),"-") -> 0.7 | X35: 21 | Y35: 岐阜 | Z35: =IFERROR(_xlfn.XLOOKUP(Y35,$A$29:$A$75,$D$29:$D$75),"-") -> … | AA35: =IFERROR(_xlfn.RANK.EQ(Z35,$Z$15:$Z$61,0)+COUNTIF($Z$15:Z35,Z35)-1,"-") -> - | AC35: =IFERROR(RANK(AE35,$AE$15:$AE$61,0),"-") -> 21 | AD35: =IFERROR(INDEX($Y$15:$Y$61,MATCH(X35,$AA$15:$AA$61,0)),"-") -> 山形 | AE35: =IFERROR(LARGE($Z$15:$Z$61,X35),"-") -> 752 | AF35: =IFERROR(ROUND(AE35/$D$15*100,1),"-") -> 64.8 | AH35: 21 | AI35: 岐阜 | AJ35: =IFERROR(_xlfn.XLOOKUP(AI35,$A$29:$A$75,$E$29:$E$75),"-") -> … | AK35: =IFERROR(_xlfn.RANK.EQ(AJ35,$AJ$15:$AJ$61,0)+COUNTIF($AJ$15:AJ35,AJ35)-1,"-") -> - | AM35: =IFERROR(RANK(AO35,$AO$15:$AO$61,0),"-") -> 21 | AN35: =IFERROR(INDEX($AI$15:$AI$61,MATCH(AH35,$AK$15:$AK$61,0)),"-") -> 愛媛 | AO35: =IFERROR(LARGE($AJ$15:$AJ$61,AH35),"-") -> 936 | AP35: =IFERROR(ROUND(AO35/$E$15*100,1),"-") -> 0.6
A36: 茨城 | C36: 390 | D36: 1650 | E36: 6440 | F36: 5260 | G36: 96 | H36: 106 | I36: 101 | J36: 101 | K36: 104 | N36: 22 | O36: 静岡 | P36: =IFERROR(_xlfn.XLOOKUP(O36,$A$29:$A$75,$C$29:$C$75),"-") -> … | Q36: =IFERROR(_xlfn.RANK.EQ(P36,$P$15:$P$61,0)+COUNTIF($P$15:P36,P36)-1,"-") -> - | S36: =IFERROR(RANK(U36,$U$15:$U$61,0),"-") -> 22 | T36: =IFERROR(INDEX($O$15:$O$61,MATCH(N36,$Q$15:$Q$61,0)),"-") -> 愛媛 | U36: =IFERROR(LARGE($P$15:$P$61,N36),"-") -> 90 | V36: =IFERROR(ROUND(U36/$C$15*100,1),"-") -> 0.7 | X36: 22 | Y36: 静岡 | Z36: =IFERROR(_xlfn.XLOOKUP(Y36,$A$29:$A$75,$D$29:$D$75),"-") -> … | AA36: =IFERROR(_xlfn.RANK.EQ(Z36,$Z$15:$Z$61,0)+COUNTIF($Z$15:Z36,Z36)-1,"-") -> - | AC36: =IFERROR(RANK(AE36,$AE$15:$AE$61,0),"-") -> 22 | AD36: =IFERROR(INDEX($Y$15:$Y$61,MATCH(X36,$AA$15:$AA$61,0)),"-") -> 岩手 | AE36: =IFERROR(LARGE($Z$15:$Z$61,X36),"-") -> 723 | AF36: =IFERROR(ROUND(AE36/$D$15*100,1),"-") -> 62.3 | AH36: 22 | AI36: 静岡 | AJ36: =IFERROR(_xlfn.XLOOKUP(AI36,$A$29:$A$75,$E$29:$E$75),"-") -> … | AK36: =IFERROR(_xlfn.RANK.EQ(AJ36,$AJ$15:$AJ$61,0)+COUNTIF($AJ$15:AJ36,AJ36)-1,"-") -> - | AM36: =IFERROR(RANK(AO36,$AO$15:$AO$61,0),"-") -> 22 | AN36: =IFERROR(INDEX($AI$15:$AI$61,MATCH(AH36,$AK$15:$AK$61,0)),"-") -> 佐賀 | AO36: =IFERROR(LARGE($AJ$15:$AJ$61,AH36),"-") -> 763 | AP36: =IFERROR(ROUND(AO36/$E$15*100,1),"-") -> 0.5
A37: 栃木 | C37: … | D37: … | E37: … | F37: … | G37: nc | H37: nc | I37: nc | J37: nc | K37: nc | N37: 23 | O37: 愛知 | P37: =IFERROR(_xlfn.XLOOKUP(O37,$A$29:$A$75,$C$29:$C$75),"-") -> … | Q37: =IFERROR(_xlfn.RANK.EQ(P37,$P$15:$P$61,0)+COUNTIF($P$15:P37,P37)-1,"-") -> - | S37: =IFERROR(RANK(U37,$U$15:$U$61,0),"-") -> 23 | T37: =IFERROR(INDEX($O$15:$O$61,MATCH(N37,$Q$15:$Q$61,0)),"-") -> 佐賀 | U37: =IFERROR(LARGE($P$15:$P$61,N37),"-") -> 72 | V37: =IFERROR(ROUND(U37/$C$15*100,1),"-") -> 0.5 | X37: 23 | Y37: 愛知 | Z37: =IFERROR(_xlfn.XLOOKUP(Y37,$A$29:$A$75,$D$29:$D$75),"-") -> … | AA37: =IFERROR(_xlfn.RANK.EQ(Z37,$Z$15:$Z$61,0)+COUNTIF($Z$15:Z37,Z37)-1,"-") -> - | AC37: =IFERROR(RANK(AE37,$AE$15:$AE$61,0),"-") -> 23 | AD37: =IFERROR(INDEX($Y$15:$Y$61,MATCH(X37,$AA$15:$AA$61,0)),"-") -> 福島 | AE37: =IFERROR(LARGE($Z$15:$Z$61,X37),"-") -> 698 | AF37: =IFERROR(ROUND(AE37/$D$15*100,1),"-") -> 60.2 | AH37: 23 | AI37: 愛知 | AJ37: =IFERROR(_xlfn.XLOOKUP(AI37,$A$29:$A$75,$E$29:$E$75),"-") -> … | AK37: =IFERROR(_xlfn.RANK.EQ(AJ37,$AJ$15:$AJ$61,0)+COUNTIF($AJ$15:AJ37,AJ37)-1,"-") -> - | AM37: =IFERROR(RANK(AO37,$AO$15:$AO$61,0),"-") -> 23 | AN37: =IFERROR(INDEX($AI$15:$AI$61,MATCH(AH37,$AK$15:$AK$61,0)),"-") -> 山口 | AO37: =IFERROR(LARGE($AJ$15:$AJ$61,AH37),"-") -> 551 | AP37: =IFERROR(ROUND(AO37/$E$15*100,1),"-") -> 0.3
A38: 群馬 | C38: … | D38: … | E38: … | F38: … | G38: nc | H38: nc | I38: nc | J38: nc | K38: nc | N38: 24 | O38: 三重 | P38: =IFERROR(_xlfn.XLOOKUP(O38,$A$29:$A$75,$C$29:$C$75),"-") -> 152 | Q38: =IFERROR(_xlfn.RANK.EQ(P38,$P$15:$P$61,0)+COUNTIF($P$15:P38,P38)-1,"-") -> 17 | S38: =IFERROR(RANK(U38,$U$15:$U$61,0),"-") -> 24 | T38: =IFERROR(INDEX($O$15:$O$61,MATCH(N38,$Q$15:$Q$61,0)),"-") -> 香川 | U38: =IFERROR(LARGE($P$15:$P$61,N38),"-") -> 34 | V38: =IFERROR(ROUND(U38/$C$15*100,1),"-") -> 0.2 | X38: 24 | Y38: 三重 | Z38: =IFERROR(_xlfn.XLOOKUP(Y38,$A$29:$A$75,$D$29:$D$75),"-") -> 1160 | AA38: =IFERROR(_xlfn.RANK.EQ(Z38,$Z$15:$Z$61,0)+COUNTIF($Z$15:Z38,Z38)-1,"-") -> 9 | AC38: =IFERROR(RANK(AE38,$AE$15:$AE$61,0),"-") -> 24 | AD38: =IFERROR(INDEX($Y$15:$Y$61,MATCH(X38,$AA$15:$AA$61,0)),"-") -> 山口 | AE38: =IFERROR(LARGE($Z$15:$Z$61,X38),"-") -> 599 | AF38: =IFERROR(ROUND(AE38/$D$15*100,1),"-") -> 51.6 | AH38: 24 | AI38: 三重 | AJ38: =IFERROR(_xlfn.XLOOKUP(AI38,$A$29:$A$75,$E$29:$E$75),"-") -> 1760 | AK38: =IFERROR(_xlfn.RANK.EQ(AJ38,$AJ$15:$AJ$61,0)+COUNTIF($AJ$15:AJ38,AJ38)-1,"-") -> 16 | AM38: =IFERROR(RANK(AO38,$AO$15:$AO$61,0),"-") -> 24 | AN38: =IFERROR(INDEX($AI$15:$AI$61,MATCH(AH38,$AK$15:$AK$61,0)),"-") -> 香川 | AO38: =IFERROR(LARGE($AJ$15:$AJ$61,AH38),"-") -> 343 | AP38: =IFERROR(ROUND(AO38/$E$15*100,1),"-") -> 0.2
A39: 埼玉 | C39: … | D39: … | E39: … | F39: … | G39: nc | H39: nc | I39: nc | J39: nc | K39: nc | N39: 25 | O39: 滋賀 | P39: =IFERROR(_xlfn.XLOOKUP(O39,$A$29:$A$75,$C$29:$C$75),"-") -> … | Q39: =IFERROR(_xlfn.RANK.EQ(P39,$P$15:$P$61,0)+COUNTIF($P$15:P39,P39)-1,"-") -> - | S39: =IFERROR(RANK(U39,$U$15:$U$61,0),"-") -> - | T39: =IFERROR(INDEX($O$15:$O$61,MATCH(N39,$Q$15:$Q$61,0)),"-") -> - | U39: =IFERROR(LARGE($P$15:$P$61,N39),"-") -> - | V39: =IFERROR(ROUND(U39/$C$15*100,1),"-") -> - | X39: 25 | Y39: 滋賀 | Z39: =IFERROR(_xlfn.XLOOKUP(Y39,$A$29:$A$75,$D$29:$D$75),"-") -> … | AA39: =IFERROR(_xlfn.RANK.EQ(Z39,$Z$15:$Z$61,0)+COUNTIF($Z$15:Z39,Z39)-1,"-") -> - | AC39: =IFERROR(RANK(AE39,$AE$15:$AE$61,0),"-") -> - | AD39: =IFERROR(INDEX($Y$15:$Y$61,MATCH(X39,$AA$15:$AA$61,0)),"-") -> - | AE39: =IFERROR(LARGE($Z$15:$Z$61,X39),"-") -> - | AF39: =IFERROR(ROUND(AE39/$D$15*100,1),"-") -> - | AH39: 25 | AI39: 滋賀 | AJ39: =IFERROR(_xlfn.XLOOKUP(AI39,$A$29:$A$75,$E$29:$E$75),"-") -> … | AK39: =IFERROR(_xlfn.RANK.EQ(AJ39,$AJ$15:$AJ$61,0)+COUNTIF($AJ$15:AJ39,AJ39)-1,"-") -> - | AM39: =IFERROR(RANK(AO39,$AO$15:$AO$61,0),"-") -> - | AN39: =IFERROR(INDEX($AI$15:$AI$61,MATCH(AH39,$AK$15:$AK$61,0)),"-") -> - | AO39: =IFERROR(LARGE($AJ$15:$AJ$61,AH39),"-") -> - | AP39: =IFERROR(ROUND(AO39/$E$15*100,1),"-") -> -
A40: 千葉 | C40: 130 | D40: 1770 | E40: 2300 | F40: 1660 | G40: 93 | H40: 104 | I40: 97 | J40: 97 | K40: 98 | N40: 26 | O40: 京都 | P40: =IFERROR(_xlfn.XLOOKUP(O40,$A$29:$A$75,$C$29:$C$75),"-") -> … | Q40: =IFERROR(_xlfn.RANK.EQ(P40,$P$15:$P$61,0)+COUNTIF($P$15:P40,P40)-1,"-") -> - | S40: =IFERROR(RANK(U40,$U$15:$U$61,0),"-") -> - | T40: =IFERROR(INDEX($O$15:$O$61,MATCH(N40,$Q$15:$Q$61,0)),"-") -> - | U40: =IFERROR(LARGE($P$15:$P$61,N40),"-") -> - | V40: =IFERROR(ROUND(U40/$C$15*100,1),"-") -> - | X40: 26 | Y40: 京都 | Z40: =IFERROR(_xlfn.XLOOKUP(Y40,$A$29:$A$75,$D$29:$D$75),"-") -> … | AA40: =IFERROR(_xlfn.RANK.EQ(Z40,$Z$15:$Z$61,0)+COUNTIF($Z$15:Z40,Z40)-1,"-") -> - | AC40: =IFERROR(RANK(AE40,$AE$15:$AE$61,0),"-") -> - | AD40: =IFERROR(INDEX($Y$15:$Y$61,MATCH(X40,$AA$15:$AA$61,0)),"-") -> - | AE40: =IFERROR(LARGE($Z$15:$Z$61,X40),"-") -> - | AF40: =IFERROR(ROUND(AE40/$D$15*100,1),"-") -> - | AH40: 26 | AI40: 京都 | AJ40: =IFERROR(_xlfn.XLOOKUP(AI40,$A$29:$A$75,$E$29:$E$75),"-") -> … | AK40: =IFERROR(_xlfn.RANK.EQ(AJ40,$AJ$15:$AJ$61,0)+COUNTIF($AJ$15:AJ40,AJ40)-1,"-") -> - | AM40: =IFERROR(RANK(AO40,$AO$15:$AO$61,0),"-") -> - | AN40: =IFERROR(INDEX($AI$15:$AI$61,MATCH(AH40,$AK$15:$AK$61,0)),"-") -> - | AO40: =IFERROR(LARGE($AJ$15:$AJ$61,AH40),"-") -> - | AP40: =IFERROR(ROUND(AO40/$E$15*100,1),"-") -> -
A41: 東京 | C41: … | D41: … | E41: … | F41: … | G41: nc | H41: nc | I41: nc | J41: nc | K41: nc | N41: 27 | O41: 大阪 | P41: =IFERROR(_xlfn.XLOOKUP(O41,$A$29:$A$75,$C$29:$C$75),"-") -> … | Q41: =IFERROR(_xlfn.RANK.EQ(P41,$P$15:$P$61,0)+COUNTIF($P$15:P41,P41)-1,"-") -> - | S41: =IFERROR(RANK(U41,$U$15:$U$61,0),"-") -> - | T41: =IFERROR(INDEX($O$15:$O$61,MATCH(N41,$Q$15:$Q$61,0)),"-") -> - | U41: =IFERROR(LARGE($P$15:$P$61,N41),"-") -> - | V41: =IFERROR(ROUND(U41/$C$15*100,1),"-") -> - | X41: 27 | Y41: 大阪 | Z41: =IFERROR(_xlfn.XLOOKUP(Y41,$A$29:$A$75,$D$29:$D$75),"-") -> … | AA41: =IFERROR(_xlfn.RANK.EQ(Z41,$Z$15:$Z$61,0)+COUNTIF($Z$15:Z41,Z41)-1,"-") -> - | AC41: =IFERROR(RANK(AE41,$AE$15:$AE$61,0),"-") -> - | AD41: =IFERROR(INDEX($Y$15:$Y$61,MATCH(X41,$AA$15:$AA$61,0)),"-") -> - | AE41: =IFERROR(LARGE($Z$15:$Z$61,X41),"-") -> - | AF41: =IFERROR(ROUND(AE41/$D$15*100,1),"-") -> - | AH41: 27 | AI41: 大阪 | AJ41: =IFERROR(_xlfn.XLOOKUP(AI41,$A$29:$A$75,$E$29:$E$75),"-") -> … | AK41: =IFERROR(_xlfn.RANK.EQ(AJ41,$AJ$15:$AJ$61,0)+COUNTIF($AJ$15:AJ41,AJ41)-1,"-") -> - | AM41: =IFERROR(RANK(AO41,$AO$15:$AO$61,0),"-") -> - | AN41: =IFERROR(INDEX($AI$15:$AI$61,MATCH(AH41,$AK$15:$AK$61,0)),"-") -> - | AO41: =IFERROR(LARGE($AJ$15:$AJ$61,AH41),"-") -> - | AP41: =IFERROR(ROUND(AO41/$E$15*100,1),"-") -> -
A42: 神奈川 | C42: 215 | D42: 1610 | E42: 3460 | F42: 2980 | G42: 97 | H42: 93 | I42: 91 | J42: 93 | K42: 94 | N42: 28 | O42: 兵庫 | P42: =IFERROR(_xlfn.XLOOKUP(O42,$A$29:$A$75,$C$29:$C$75),"-") -> … | Q42: =IFERROR(_xlfn.RANK.EQ(P42,$P$15:$P$61,0)+COUNTIF($P$15:P42,P42)-1,"-") -> - | S42: =IFERROR(RANK(U42,$U$15:$U$61,0),"-") -> - | T42: =IFERROR(INDEX($O$15:$O$61,MATCH(N42,$Q$15:$Q$61,0)),"-") -> - | U42: =IFERROR(LARGE($P$15:$P$61,N42),"-") -> - | V42: =IFERROR(ROUND(U42/$C$15*100,1),"-") -> - | X42: 28 | Y42: 兵庫 | Z42: =IFERROR(_xlfn.XLOOKUP(Y42,$A$29:$A$75,$D$29:$D$75),"-") -> … | AA42: =IFERROR(_xlfn.RANK.EQ(Z42,$Z$15:$Z$61,0)+COUNTIF($Z$15:Z42,Z42)-1,"-") -> - | AC42: =IFERROR(RANK(AE42,$AE$15:$AE$61,0),"-") -> - | AD42: =IFERROR(INDEX($Y$15:$Y$61,MATCH(X42,$AA$15:$AA$61,0)),"-") -> - | AE42: =IFERROR(LARGE($Z$15:$Z$61,X42),"-") -> - | AF42: =IFERROR(ROUND(AE42/$D$15*100,1),"-") -> - | AH42: 28 | AI42: 兵庫 | AJ42: =IFERROR(_xlfn.XLOOKUP(AI42,$A$29:$A$75,$E$29:$E$75),"-") -> … | AK42: =IFERROR(_xlfn.RANK.EQ(AJ42,$AJ$15:$AJ$61,0)+COUNTIF($AJ$15:AJ42,AJ42)-1,"-") -> - | AM42: =IFERROR(RANK(AO42,$AO$15:$AO$61,0),"-") -> - | AN42: =IFERROR(INDEX($AI$15:$AI$61,MATCH(AH42,$AK$15:$AK$61,0)),"-") -> - | AO42: =IFERROR(LARGE($AJ$15:$AJ$61,AH42),"-") -> - | AP42: =IFERROR(ROUND(AO42/$E$15*100,1),"-") -> -
A43: 新潟 | C43: 250 | D43: 1070 | E43: 2680 | F43: 1150 | G43: 86 | H43: 99 | I43: 86 | J43: 72 | K43: 171 | N43: 29 | O43: 奈良 | P43: =IFERROR(_xlfn.XLOOKUP(O43,$A$29:$A$75,$C$29:$C$75),"-") -> … | Q43: =IFERROR(_xlfn.RANK.EQ(P43,$P$15:$P$61,0)+COUNTIF($P$15:P43,P43)-1,"-") -> - | S43: =IFERROR(RANK(U43,$U$15:$U$61,0),"-") -> - | T43: =IFERROR(INDEX($O$15:$O$61,MATCH(N43,$Q$15:$Q$61,0)),"-") -> - | U43: =IFERROR(LARGE($P$15:$P$61,N43),"-") -> - | V43: =IFERROR(ROUND(U43/$C$15*100,1),"-") -> - | X43: 29 | Y43: 奈良 | Z43: =IFERROR(_xlfn.XLOOKUP(Y43,$A$29:$A$75,$D$29:$D$75),"-") -> … | AA43: =IFERROR(_xlfn.RANK.EQ(Z43,$Z$15:$Z$61,0)+COUNTIF($Z$15:Z43,Z43)-1,"-") -> - | AC43: =IFERROR(RANK(AE43,$AE$15:$AE$61,0),"-") -> - | AD43: =IFERROR(INDEX($Y$15:$Y$61,MATCH(X43,$AA$15:$AA$61,0)),"-") -> - | AE43: =IFERROR(LARGE($Z$15:$Z$61,X43),"-") -> - | AF43: =IFERROR(ROUND(AE43/$D$15*100,1),"-") -> - | AH43: 29 | AI43: 奈良 | AJ43: =IFERROR(_xlfn.XLOOKUP(AI43,$A$29:$A$75,$E$29:$E$75),"-") -> … | AK43: =IFERROR(_xlfn.RANK.EQ(AJ43,$AJ$15:$AJ$61,0)+COUNTIF($AJ$15:AJ43,AJ43)-1,"-") -> - | AM43: =IFERROR(RANK(AO43,$AO$15:$AO$61,0),"-") -> - | AN43: =IFERROR(INDEX($AI$15:$AI$61,MATCH(AH43,$AK$15:$AK$61,0)),"-") -> - | AO43: =IFERROR(LARGE($AJ$15:$AJ$61,AH43),"-") -> - | AP43: =IFERROR(ROUND(AO43/$E$15*100,1),"-") -> -
A44: 富山 | C44: … | D44: … | E44: … | F44: … | G44: nc | H44: nc | I44: nc | J44: nc | K44: nc | N44: 30 | O44: 和歌山 | P44: =IFERROR(_xlfn.XLOOKUP(O44,$A$29:$A$75,$C$29:$C$75),"-") -> … | Q44: =IFERROR(_xlfn.RANK.EQ(P44,$P$15:$P$61,0)+COUNTIF($P$15:P44,P44)-1,"-") -> - | S44: =IFERROR(RANK(U44,$U$15:$U$61,0),"-") -> - | T44: =IFERROR(INDEX($O$15:$O$61,MATCH(N44,$Q$15:$Q$61,0)),"-") -> - | U44: =IFERROR(LARGE($P$15:$P$61,N44),"-") -> - | V44: =IFERROR(ROUND(U44/$C$15*100,1),"-") -> - | X44: 30 | Y44: 和歌山 | Z44: =IFERROR(_xlfn.XLOOKUP(Y44,$A$29:$A$75,$D$29:$D$75),"-") -> … | AA44: =IFERROR(_xlfn.RANK.EQ(Z44,$Z$15:$Z$61,0)+COUNTIF($Z$15:Z44,Z44)-1,"-") -> - | AC44: =IFERROR(RANK(AE44,$AE$15:$AE$61,0),"-") -> - | AD44: =IFERROR(INDEX($Y$15:$Y$61,MATCH(X44,$AA$15:$AA$61,0)),"-") -> - | AE44: =IFERROR(LARGE($Z$15:$Z$61,X44),"-") -> - | AF44: =IFERROR(ROUND(AE44/$D$15*100,1),"-") -> - | AH44: 30 | AI44: 和歌山 | AJ44: =IFERROR(_xlfn.XLOOKUP(AI44,$A$29:$A$75,$E$29:$E$75),"-") -> … | AK44: =IFERROR(_xlfn.RANK.EQ(AJ44,$AJ$15:$AJ$61,0)+COUNTIF($AJ$15:AJ44,AJ44)-1,"-") -> - | AM44: =IFERROR(RANK(AO44,$AO$15:$AO$61,0),"-") -> - | AN44: =IFERROR(INDEX($AI$15:$AI$61,MATCH(AH44,$AK$15:$AK$61,0)),"-") -> - | AO44: =IFERROR(LARGE($AJ$15:$AJ$61,AH44),"-") -> - | AP44: =IFERROR(ROUND(AO44/$E$15*100,1),"-") -> -
A45: 石川 | C45: 199 | D45: 936 | E45: 1860 | F45: 1630 | G45: 95 | H45: 101 | I45: 96 | J45: 96 | K45: 91 | N45: 31 | O45: 鳥取 | P45: =IFERROR(_xlfn.XLOOKUP(O45,$A$29:$A$75,$C$29:$C$75),"-") -> … | Q45: =IFERROR(_xlfn.RANK.EQ(P45,$P$15:$P$61,0)+COUNTIF($P$15:P45,P45)-1,"-") -> - | S45: =IFERROR(RANK(U45,$U$15:$U$61,0),"-") -> - | T45: =IFERROR(INDEX($O$15:$O$61,MATCH(N45,$Q$15:$Q$61,0)),"-") -> - | U45: =IFERROR(LARGE($P$15:$P$61,N45),"-") -> - | V45: =IFERROR(ROUND(U45/$C$15*100,1),"-") -> - | X45: 31 | Y45: 鳥取 | Z45: =IFERROR(_xlfn.XLOOKUP(Y45,$A$29:$A$75,$D$29:$D$75),"-") -> … | AA45: =IFERROR(_xlfn.RANK.EQ(Z45,$Z$15:$Z$61,0)+COUNTIF($Z$15:Z45,Z45)-1,"-") -> - | AC45: =IFERROR(RANK(AE45,$AE$15:$AE$61,0),"-") -> - | AD45: =IFERROR(INDEX($Y$15:$Y$61,MATCH(X45,$AA$15:$AA$61,0)),"-") -> - | AE45: =IFERROR(LARGE($Z$15:$Z$61,X45),"-") -> - | AF45: =IFERROR(ROUND(AE45/$D$15*100,1),"-") -> - | AH45: 31 | AI45: 鳥取 | AJ45: =IFERROR(_xlfn.XLOOKUP(AI45,$A$29:$A$75,$E$29:$E$75),"-") -> … | AK45: =IFERROR(_xlfn.RANK.EQ(AJ45,$AJ$15:$AJ$61,0)+COUNTIF($AJ$15:AJ45,AJ45)-1,"-") -> - | AM45: =IFERROR(RANK(AO45,$AO$15:$AO$61,0),"-") -> - | AN45: =IFERROR(INDEX($AI$15:$AI$61,MATCH(AH45,$AK$15:$AK$61,0)),"-") -> - | AO45: =IFERROR(LARGE($AJ$15:$AJ$61,AH45),"-") -> - | AP45: =IFERROR(ROUND(AO45/$E$15*100,1),"-") -> -
A46: 福井 | C46: … | D46: … | E46: … | F46: … | G46: nc | H46: nc | I46: nc | J46: nc | K46: nc | N46: 32 | O46: 島根 | P46: =IFERROR(_xlfn.XLOOKUP(O46,$A$29:$A$75,$C$29:$C$75),"-") -> … | Q46: =IFERROR(_xlfn.RANK.EQ(P46,$P$15:$P$61,0)+COUNTIF($P$15:P46,P46)-1,"-") -> - | S46: =IFERROR(RANK(U46,$U$15:$U$61,0),"-") -> - | T46: =IFERROR(INDEX($O$15:$O$61,MATCH(N46,$Q$15:$Q$61,0)),"-") -> - | U46: =IFERROR(LARGE($P$15:$P$61,N46),"-") -> - | V46: =IFERROR(ROUND(U46/$C$15*100,1),"-") -> - | X46: 32 | Y46: 島根 | Z46: =IFERROR(_xlfn.XLOOKUP(Y46,$A$29:$A$75,$D$29:$D$75),"-") -> … | AA46: =IFERROR(_xlfn.RANK.EQ(Z46,$Z$15:$Z$61,0)+COUNTIF($Z$15:Z46,Z46)-1,"-") -> - | AC46: =IFERROR(RANK(AE46,$AE$15:$AE$61,0),"-") -> - | AD46: =IFERROR(INDEX($Y$15:$Y$61,MATCH(X46,$AA$15:$AA$61,0)),"-") -> - | AE46: =IFERROR(LARGE($Z$15:$Z$61,X46),"-") -> - | AF46: =IFERROR(ROUND(AE46/$D$15*100,1),"-") -> - | AH46: 32 | AI46: 島根 | AJ46: =IFERROR(_xlfn.XLOOKUP(AI46,$A$29:$A$75,$E$29:$E$75),"-") -> … | AK46: =IFERROR(_xlfn.RANK.EQ(AJ46,$AJ$15:$AJ$61,0)+COUNTIF($AJ$15:AJ46,AJ46)-1,"-") -> - | AM46: =IFERROR(RANK(AO46,$AO$15:$AO$61,0),"-") -> - | AN46: =IFERROR(INDEX($AI$15:$AI$61,MATCH(AH46,$AK$15:$AK$61,0)),"-") -> - | AO46: =IFERROR(LARGE($AJ$15:$AJ$61,AH46),"-") -> - | AP46: =IFERROR(ROUND(AO46/$E$15*100,1),"-") -> -
A47: 山梨 | C47: … | D47: … | E47: … | F47: … | G47: nc | H47: nc | I47: nc | J47: nc | K47: nc | N47: 33 | O47: 岡山 | P47: =IFERROR(_xlfn.XLOOKUP(O47,$A$29:$A$75,$C$29:$C$75),"-") -> 107 | Q47: =IFERROR(_xlfn.RANK.EQ(P47,$P$15:$P$61,0)+COUNTIF($P$15:P47,P47)-1,"-") -> 19 | S47: =IFERROR(RANK(U47,$U$15:$U$61,0),"-") -> - | T47: =IFERROR(INDEX($O$15:$O$61,MATCH(N47,$Q$15:$Q$61,0)),"-") -> - | U47: =IFERROR(LARGE($P$15:$P$61,N47),"-") -> - | V47: =IFERROR(ROUND(U47/$C$15*100,1),"-") -> - | X47: 33 | Y47: 岡山 | Z47: =IFERROR(_xlfn.XLOOKUP(Y47,$A$29:$A$75,$D$29:$D$75),"-") -> 1280 | AA47: =IFERROR(_xlfn.RANK.EQ(Z47,$Z$15:$Z$61,0)+COUNTIF($Z$15:Z47,Z47)-1,"-") -> 4 | AC47: =IFERROR(RANK(AE47,$AE$15:$AE$61,0),"-") -> - | AD47: =IFERROR(INDEX($Y$15:$Y$61,MATCH(X47,$AA$15:$AA$61,0)),"-") -> - | AE47: =IFERROR(LARGE($Z$15:$Z$61,X47),"-") -> - | AF47: =IFERROR(ROUND(AE47/$D$15*100,1),"-") -> - | AH47: 33 | AI47: 岡山 | AJ47: =IFERROR(_xlfn.XLOOKUP(AI47,$A$29:$A$75,$E$29:$E$75),"-") -> 1370 | AK47: =IFERROR(_xlfn.RANK.EQ(AJ47,$AJ$15:$AJ$61,0)+COUNTIF($AJ$15:AJ47,AJ47)-1,"-") -> 19 | AM47: =IFERROR(RANK(AO47,$AO$15:$AO$61,0),"-") -> - | AN47: =IFERROR(INDEX($AI$15:$AI$61,MATCH(AH47,$AK$15:$AK$61,0)),"-") -> - | AO47: =IFERROR(LARGE($AJ$15:$AJ$61,AH47),"-") -> - | AP47: =IFERROR(ROUND(AO47/$E$15*100,1),"-") -> -
A48: 長野 | C48: 545 | D48: 1220 | E48: 6650 | F48: 5270 | G48: 101 | H48: 99 | I48: 100 | J48: 101 | K48: 100 | N48: 34 | O48: 広島 | P48: =IFERROR(_xlfn.XLOOKUP(O48,$A$29:$A$75,$C$29:$C$75),"-") -> 159 | Q48: =IFERROR(_xlfn.RANK.EQ(P48,$P$15:$P$61,0)+COUNTIF($P$15:P48,P48)-1,"-") -> 16 | S48: =IFERROR(RANK(U48,$U$15:$U$61,0),"-") -> - | T48: =IFERROR(INDEX($O$15:$O$61,MATCH(N48,$Q$15:$Q$61,0)),"-") -> - | U48: =IFERROR(LARGE($P$15:$P$61,N48),"-") -> - | V48: =IFERROR(ROUND(U48/$C$15*100,1),"-") -> - | X48: 34 | Y48: 広島 | Z48: =IFERROR(_xlfn.XLOOKUP(Y48,$A$29:$A$75,$D$29:$D$75),"-") -> 1120 | AA48: =IFERROR(_xlfn.RANK.EQ(Z48,$Z$15:$Z$61,0)+COUNTIF($Z$15:Z48,Z48)-1,"-") -> 11 | AC48: =IFERROR(RANK(AE48,$AE$15:$AE$61,0),"-") -> - | AD48: =IFERROR(INDEX($Y$15:$Y$61,MATCH(X48,$AA$15:$AA$61,0)),"-") -> - | AE48: =IFERROR(LARGE($Z$15:$Z$61,X48),"-") -> - | AF48: =IFERROR(ROUND(AE48/$D$15*100,1),"-") -> - | AH48: 34 | AI48: 広島 | AJ48: =IFERROR(_xlfn.XLOOKUP(AI48,$A$29:$A$75,$E$29:$E$75),"-") -> 1780 | AK48: =IFERROR(_xlfn.RANK.EQ(AJ48,$AJ$15:$AJ$61,0)+COUNTIF($AJ$15:AJ48,AJ48)-1,"-") -> 15 | AM48: =IFERROR(RANK(AO48,$AO$15:$AO$61,0),"-") -> - | AN48: =IFERROR(INDEX($AI$15:$AI$61,MATCH(AH48,$AK$15:$AK$61,0)),"-") -> - | AO48: =IFERROR(LARGE($AJ$15:$AJ$61,AH48),"-") -> - | AP48: =IFERROR(ROUND(AO48/$E$15*100,1),"-") -> -
A49: 岐阜 | C49: … | D49: … | E49: … | F49: … | G49: nc | H49: nc | I49: nc | J49: nc | K49: nc | N49: 35 | O49: 山口 | P49: =IFERROR(_xlfn.XLOOKUP(O49,$A$29:$A$75,$C$29:$C$75),"-") -> 92 | Q49: =IFERROR(_xlfn.RANK.EQ(P49,$P$15:$P$61,0)+COUNTIF($P$15:P49,P49)-1,"-") -> 21 | S49: =IFERROR(RANK(U49,$U$15:$U$61,0),"-") -> - | T49: =IFERROR(INDEX($O$15:$O$61,MATCH(N49,$Q$15:$Q$61,0)),"-") -> - | U49: =IFERROR(LARGE($P$15:$P$61,N49),"-") -> - | V49: =IFERROR(ROUND(U49/$C$15*100,1),"-") -> - | X49: 35 | Y49: 山口 | Z49: =IFERROR(_xlfn.XLOOKUP(Y49,$A$29:$A$75,$D$29:$D$75),"-") -> 599 | AA49: =IFERROR(_xlfn.RANK.EQ(Z49,$Z$15:$Z$61,0)+COUNTIF($Z$15:Z49,Z49)-1,"-") -> 24 | AC49: =IFERROR(RANK(AE49,$AE$15:$AE$61,0),"-") -> - | AD49: =IFERROR(INDEX($Y$15:$Y$61,MATCH(X49,$AA$15:$AA$61,0)),"-") -> - | AE49: =IFERROR(LARGE($Z$15:$Z$61,X49),"-") -> - | AF49: =IFERROR(ROUND(AE49/$D$15*100,1),"-") -> - | AH49: 35 | AI49: 山口 | AJ49: =IFERROR(_xlfn.XLOOKUP(AI49,$A$29:$A$75,$E$29:$E$75),"-") -> 551 | AK49: =IFERROR(_xlfn.RANK.EQ(AJ49,$AJ$15:$AJ$61,0)+COUNTIF($AJ$15:AJ49,AJ49)-1,"-") -> 23 | AM49: =IFERROR(RANK(AO49,$AO$15:$AO$61,0),"-") -> - | AN49: =IFERROR(INDEX($AI$15:$AI$61,MATCH(AH49,$AK$15:$AK$61,0)),"-") -> - | AO49: =IFERROR(LARGE($AJ$15:$AJ$61,AH49),"-") -> - | AP49: =IFERROR(ROUND(AO49/$E$15*100,1),"-") -> -
A50: 静岡 | C50: … | D50: … | E50: … | F50: … | G50: nc | H50: nc | I50: nc | J50: nc | K50: nc | N50: 36 | O50: 徳島 | P50: =IFERROR(_xlfn.XLOOKUP(O50,$A$29:$A$75,$C$29:$C$75),"-") -> … | Q50: =IFERROR(_xlfn.RANK.EQ(P50,$P$15:$P$61,0)+COUNTIF($P$15:P50,P50)-1,"-") -> - | S50: =IFERROR(RANK(U50,$U$15:$U$61,0),"-") -> - | T50: =IFERROR(INDEX($O$15:$O$61,MATCH(N50,$Q$15:$Q$61,0)),"-") -> - | U50: =IFERROR(LARGE($P$15:$P$61,N50),"-") -> - | V50: =IFERROR(ROUND(U50/$C$15*100,1),"-") -> - | X50: 36 | Y50: 徳島 | Z50: =IFERROR(_xlfn.XLOOKUP(Y50,$A$29:$A$75,$D$29:$D$75),"-") -> … | AA50: =IFERROR(_xlfn.RANK.EQ(Z50,$Z$15:$Z$61,0)+COUNTIF($Z$15:Z50,Z50)-1,"-") -> - | AC50: =IFERROR(RANK(AE50,$AE$15:$AE$61,0),"-") -> - | AD50: =IFERROR(INDEX($Y$15:$Y$61,MATCH(X50,$AA$15:$AA$61,0)),"-") -> - | AE50: =IFERROR(LARGE($Z$15:$Z$61,X50),"-") -> - | AF50: =IFERROR(ROUND(AE50/$D$15*100,1),"-") -> - | AH50: 36 | AI50: 徳島 | AJ50: =IFERROR(_xlfn.XLOOKUP(AI50,$A$29:$A$75,$E$29:$E$75),"-") -> … | AK50: =IFERROR(_xlfn.RANK.EQ(AJ50,$AJ$15:$AJ$61,0)+COUNTIF($AJ$15:AJ50,AJ50)-1,"-") -> - | AM50: =IFERROR(RANK(AO50,$AO$15:$AO$61,0),"-") -> - | AN50: =IFERROR(INDEX($AI$15:$AI$61,MATCH(AH50,$AK$15:$AK$61,0)),"-") -> - | AO50: =IFERROR(LARGE($AJ$15:$AJ$61,AH50),"-") -> - | AP50: =IFERROR(ROUND(AO50/$E$15*100,1),"-") -> -
A51: 愛知 | C51: … | D51: … | E51: … | F51: … | G51: nc | H51: nc | I51: nc | J51: nc | K51: nc | N51: 37 | O51: 香川 | P51: =IFERROR(_xlfn.XLOOKUP(O51,$A$29:$A$75,$C$29:$C$75),"-") -> 34 | Q51: =IFERROR(_xlfn.RANK.EQ(P51,$P$15:$P$61,0)+COUNTIF($P$15:P51,P51)-1,"-") -> 24 | S51: =IFERROR(RANK(U51,$U$15:$U$61,0),"-") -> - | T51: =IFERROR(INDEX($O$15:$O$61,MATCH(N51,$Q$15:$Q$61,0)),"-") -> - | U51: =IFERROR(LARGE($P$15:$P$61,N51),"-") -> - | V51: =IFERROR(ROUND(U51/$C$15*100,1),"-") -> - | X51: 37 | Y51: 香川 | Z51: =IFERROR(_xlfn.XLOOKUP(Y51,$A$29:$A$75,$D$29:$D$75),"-") -> 1010 | AA51: =IFERROR(_xlfn.RANK.EQ(Z51,$Z$15:$Z$61,0)+COUNTIF($Z$15:Z51,Z51)-1,"-") -> 15 | AC51: =IFERROR(RANK(AE51,$AE$15:$AE$61,0),"-") -> - | AD51: =IFERROR(INDEX($Y$15:$Y$61,MATCH(X51,$AA$15:$AA$61,0)),"-") -> - | AE51: =IFERROR(LARGE($Z$15:$Z$61,X51),"-") -> - | AF51: =IFERROR(ROUND(AE51/$D$15*100,1),"-") -> - | AH51: 37 | AI51: 香川 | AJ51: =IFERROR(_xlfn.XLOOKUP(AI51,$A$29:$A$75,$E$29:$E$75),"-") -> 343 | AK51: =IFERROR(_xlfn.RANK.EQ(AJ51,$AJ$15:$AJ$61,0)+COUNTIF($AJ$15:AJ51,AJ51)-1,"-") -> 24 | AM51: =IFERROR(RANK(AO51,$AO$15:$AO$61,0),"-") -> - | AN51: =IFERROR(INDEX($AI$15:$AI$61,MATCH(AH51,$AK$15:$AK$61,0)),"-") -> - | AO51: =IFERROR(LARGE($AJ$15:$AJ$61,AH51),"-") -> - | AP51: =IFERROR(ROUND(AO51/$E$15*100,1),"-") -> -
A52: 三重 | C52: 152 | D52: 1160 | E52: 1760 | F52: 713 | G52: 98 | H52: 87 | I52: 85 | J52: 85 | K52: 89 | N52: 38 | O52: 愛媛 | P52: =IFERROR(_xlfn.XLOOKUP(O52,$A$29:$A$75,$C$29:$C$75),"-") -> 90 | Q52: =IFERROR(_xlfn.RANK.EQ(P52,$P$15:$P$61,0)+COUNTIF($P$15:P52,P52)-1,"-") -> 22 | S52: =IFERROR(RANK(U52,$U$15:$U$61,0),"-") -> - | T52: =IFERROR(INDEX($O$15:$O$61,MATCH(N52,$Q$15:$Q$61,0)),"-") -> - | U52: =IFERROR(LARGE($P$15:$P$61,N52),"-") -> - | V52: =IFERROR(ROUND(U52/$C$15*100,1),"-") -> - | X52: 38 | Y52: 愛媛 | Z52: =IFERROR(_xlfn.XLOOKUP(Y52,$A$29:$A$75,$D$29:$D$75),"-") -> 1040 | AA52: =IFERROR(_xlfn.RANK.EQ(Z52,$Z$15:$Z$61,0)+COUNTIF($Z$15:Z52,Z52)-1,"-") -> 14 | AC52: =IFERROR(RANK(AE52,$AE$15:$AE$61,0),"-") -> - | AD52: =IFERROR(INDEX($Y$15:$Y$61,MATCH(X52,$AA$15:$AA$61,0)),"-") -> - | AE52: =IFERROR(LARGE($Z$15:$Z$61,X52),"-") -> - | AF52: =IFERROR(ROUND(AE52/$D$15*100,1),"-") -> - | AH52: 38 | AI52: 愛媛 | AJ52: =IFERROR(_xlfn.XLOOKUP(AI52,$A$29:$A$75,$E$29:$E$75),"-") -> 936 | AK52: =IFERROR(_xlfn.RANK.EQ(AJ52,$AJ$15:$AJ$61,0)+COUNTIF($AJ$15:AJ52,AJ52)-1,"-") -> 21 | AM52: =IFERROR(RANK(AO52,$AO$15:$AO$61,0),"-") -> - | AN52: =IFERROR(INDEX($AI$15:$AI$61,MATCH(AH52,$AK$15:$AK$61,0)),"-") -> - | AO52: =IFERROR(LARGE($AJ$15:$AJ$61,AH52),"-") -> - | AP52: =IFERROR(ROUND(AO52/$E$15*100,1),"-") -> -
A53: 滋賀 | C53: … | D53: … | E53: … | F53: … | G53: nc | H53: nc | I53: nc | J53: nc | K53: nc | N53: 39 | O53: 高知 | P53: =IFERROR(_xlfn.XLOOKUP(O53,$A$29:$A$75,$C$29:$C$75),"-") -> … | Q53: =IFERROR(_xlfn.RANK.EQ(P53,$P$15:$P$61,0)+COUNTIF($P$15:P53,P53)-1,"-") -> - | S53: =IFERROR(RANK(U53,$U$15:$U$61,0),"-") -> - | T53: =IFERROR(INDEX($O$15:$O$61,MATCH(N53,$Q$15:$Q$61,0)),"-") -> - | U53: =IFERROR(LARGE($P$15:$P$61,N53),"-") -> - | V53: =IFERROR(ROUND(U53/$C$15*100,1),"-") -> - | X53: 39 | Y53: 高知 | Z53: =IFERROR(_xlfn.XLOOKUP(Y53,$A$29:$A$75,$D$29:$D$75),"-") -> … | AA53: =IFERROR(_xlfn.RANK.EQ(Z53,$Z$15:$Z$61,0)+COUNTIF($Z$15:Z53,Z53)-1,"-") -> - | AC53: =IFERROR(RANK(AE53,$AE$15:$AE$61,0),"-") -> - | AD53: =IFERROR(INDEX($Y$15:$Y$61,MATCH(X53,$AA$15:$AA$61,0)),"-") -> - | AE53: =IFERROR(LARGE($Z$15:$Z$61,X53),"-") -> - | AF53: =IFERROR(ROUND(AE53/$D$15*100,1),"-") -> - | AH53: 39 | AI53: 高知 | AJ53: =IFERROR(_xlfn.XLOOKUP(AI53,$A$29:$A$75,$E$29:$E$75),"-") -> … | AK53: =IFERROR(_xlfn.RANK.EQ(AJ53,$AJ$15:$AJ$61,0)+COUNTIF($AJ$15:AJ53,AJ53)-1,"-") -> - | AM53: =IFERROR(RANK(AO53,$AO$15:$AO$61,0),"-") -> - | AN53: =IFERROR(INDEX($AI$15:$AI$61,MATCH(AH53,$AK$15:$AK$61,0)),"-") -> - | AO53: =IFERROR(LARGE($AJ$15:$AJ$61,AH53),"-") -> - | AP53: =IFERROR(ROUND(AO53/$E$15*100,1),"-") -> -
A54: 京都 | C54: … | D54: … | E54: … | F54: … | G54: nc | H54: nc | I54: nc | J54: nc | K54: nc | N54: 40 | O54: 福岡 | P54: =IFERROR(_xlfn.XLOOKUP(O54,$A$29:$A$75,$C$29:$C$75),"-") -> … | Q54: =IFERROR(_xlfn.RANK.EQ(P54,$P$15:$P$61,0)+COUNTIF($P$15:P54,P54)-1,"-") -> - | S54: =IFERROR(RANK(U54,$U$15:$U$61,0),"-") -> - | T54: =IFERROR(INDEX($O$15:$O$61,MATCH(N54,$Q$15:$Q$61,0)),"-") -> - | U54: =IFERROR(LARGE($P$15:$P$61,N54),"-") -> - | V54: =IFERROR(ROUND(U54/$C$15*100,1),"-") -> - | X54: 40 | Y54: 福岡 | Z54: =IFERROR(_xlfn.XLOOKUP(Y54,$A$29:$A$75,$D$29:$D$75),"-") -> … | AA54: =IFERROR(_xlfn.RANK.EQ(Z54,$Z$15:$Z$61,0)+COUNTIF($Z$15:Z54,Z54)-1,"-") -> - | AC54: =IFERROR(RANK(AE54,$AE$15:$AE$61,0),"-") -> - | AD54: =IFERROR(INDEX($Y$15:$Y$61,MATCH(X54,$AA$15:$AA$61,0)),"-") -> - | AE54: =IFERROR(LARGE($Z$15:$Z$61,X54),"-") -> - | AF54: =IFERROR(ROUND(AE54/$D$15*100,1),"-") -> - | AH54: 40 | AI54: 福岡 | AJ54: =IFERROR(_xlfn.XLOOKUP(AI54,$A$29:$A$75,$E$29:$E$75),"-") -> … | AK54: =IFERROR(_xlfn.RANK.EQ(AJ54,$AJ$15:$AJ$61,0)+COUNTIF($AJ$15:AJ54,AJ54)-1,"-") -> - | AM54: =IFERROR(RANK(AO54,$AO$15:$AO$61,0),"-") -> - | AN54: =IFERROR(INDEX($AI$15:$AI$61,MATCH(AH54,$AK$15:$AK$61,0)),"-") -> - | AO54: =IFERROR(LARGE($AJ$15:$AJ$61,AH54),"-") -> - | AP54: =IFERROR(ROUND(AO54/$E$15*100,1),"-") -> -
A55: 大阪 | C55: … | D55: … | E55: … | F55: … | G55: nc | H55: nc | I55: nc | J55: nc | K55: nc | N55: 41 | O55: 佐賀 | P55: =IFERROR(_xlfn.XLOOKUP(O55,$A$29:$A$75,$C$29:$C$75),"-") -> 72 | Q55: =IFERROR(_xlfn.RANK.EQ(P55,$P$15:$P$61,0)+COUNTIF($P$15:P55,P55)-1,"-") -> 23 | S55: =IFERROR(RANK(U55,$U$15:$U$61,0),"-") -> - | T55: =IFERROR(INDEX($O$15:$O$61,MATCH(N55,$Q$15:$Q$61,0)),"-") -> - | U55: =IFERROR(LARGE($P$15:$P$61,N55),"-") -> - | V55: =IFERROR(ROUND(U55/$C$15*100,1),"-") -> - | X55: 41 | Y55: 佐賀 | Z55: =IFERROR(_xlfn.XLOOKUP(Y55,$A$29:$A$75,$D$29:$D$75),"-") -> 1060 | AA55: =IFERROR(_xlfn.RANK.EQ(Z55,$Z$15:$Z$61,0)+COUNTIF($Z$15:Z55,Z55)-1,"-") -> 13 | AC55: =IFERROR(RANK(AE55,$AE$15:$AE$61,0),"-") -> - | AD55: =IFERROR(INDEX($Y$15:$Y$61,MATCH(X55,$AA$15:$AA$61,0)),"-") -> - | AE55: =IFERROR(LARGE($Z$15:$Z$61,X55),"-") -> - | AF55: =IFERROR(ROUND(AE55/$D$15*100,1),"-") -> - | AH55: 41 | AI55: 佐賀 | AJ55: =IFERROR(_xlfn.XLOOKUP(AI55,$A$29:$A$75,$E$29:$E$75),"-") -> 763 | AK55: =IFERROR(_xlfn.RANK.EQ(AJ55,$AJ$15:$AJ$61,0)+COUNTIF($AJ$15:AJ55,AJ55)-1,"-") -> 22 | AM55: =IFERROR(RANK(AO55,$AO$15:$AO$61,0),"-") -> - | AN55: =IFERROR(INDEX($AI$15:$AI$61,MATCH(AH55,$AK$15:$AK$61,0)),"-") -> - | AO55: =IFERROR(LARGE($AJ$15:$AJ$61,AH55),"-") -> - | AP55: =IFERROR(ROUND(AO55/$E$15*100,1),"-") -> -
