Workbook
Name グラフ表示: INDIRECT([1]計算用シート!$C$2)
Name ドロップダウンリスト: ドロップダウンリスト!$A$1:$E$1
Name 海面漁業・養殖業: ドロップダウンリスト!$C$2:$C$4
Name 畜産: ドロップダウンリスト!$B$2:$B$6
Name 野菜※ばれいしょを除く: ドロップダウンリスト!$A$2:$A$9
Name 林業産出額・漁業産出額: ドロップダウンリスト!$E$2:$E$3
Name 六次産業化: ドロップダウンリスト!$D$2:$D$3

Sheet なんばんBOOK
A1: 令和７年 なんばんＢＯＯＫ（電子版）
A3: ChapterⅢ 北海道の全国ランキング
B4: データ区分
B5: 野菜※ばれいしょを除く
B7: 項目 | K7: =IFERROR(_xlfn.XLOOKUP(計算用シート!$C$1,計算用シート!$D$4:$W$4,計算用シート!$D$6:$W$6),"-") -> 令和５年産
B8: たまねぎ
A12: =IFERROR(_xlfn.XLOOKUP(計算用シート!$C$1,計算用シート!$D$4:$W$4,計算用シート!$D$7:$W$7),"-") -> 作付面積 | E12: =IFERROR(_xlfn.XLOOKUP(計算用シート!$C$1,計算用シート!$D$4:$W$4,計算用シート!$D$10:$W$10),"-") -> 10a当たり収量 | I12: =IFERROR(_xlfn.XLOOKUP(計算用シート!$C$1,計算用シート!$D$4:$W$4,計算用シート!$D$13:$W$13),"-") -> 収穫量
A13: 順位 | B13: 都道府県 | C13: =IFERROR(_xlfn.XLOOKUP(計算用シート!$C$1,計算用シート!$D$4:$W$4,計算用シート!$D$8:$W$8),"-") -> 作付面積 | D13: =IFERROR(_xlfn.XLOOKUP(計算用シート!$C$1,計算用シート!$D$4:$W$4,計算用シート!$D$9:$W$9),"-") -> シェア | E13: 順位 | F13: 都道府県 | G13: =IFERROR(_xlfn.XLOOKUP(計算用シート!$C$1,計算用シート!$D$4:$W$4,計算用シート!$D$11:$W$11),"-") -> 10a当たり収量 | H13: =IFERROR(_xlfn.XLOOKUP(計算用シート!$C$1,計算用シート!$D$4:$W$4,計算用シート!$D$12:$W$12),"-") -> 全国比 | I13: 順位 | J13: 都道府県 | K13: =IFERROR(_xlfn.XLOOKUP(計算用シート!$C$1,計算用シート!$D$4:$W$4,計算用シート!$D$14:$W$14),"-") -> 収穫量 | L13: =IFERROR(_xlfn.XLOOKUP(計算用シート!$C$1,計算用シート!$D$4:$W$4,計算用シート!$D$15:$W$15),"-") -> シェア
C14: =IFERROR(_xlfn.XLOOKUP(計算用シート!$C$1,計算用シート!$D$4:$W$4,計算用シート!$D$16:$W$16),"-") -> ha | D14: ％ | G14: =IFERROR(_xlfn.XLOOKUP(計算用シート!$C$1,計算用シート!$D$4:$W$4,計算用シート!$D$17:$W$17),"-") -> ㎏ | H14: ％ | K14: =IFERROR(_xlfn.XLOOKUP(計算用シート!$C$1,計算用シート!$D$4:$W$4,計算用シート!$D$18:$W$18),"-") -> t | L14: ％
B15: 全国 | C15: =IFERROR(_xlfn.XLOOKUP(計算用シート!$C$1,計算用シート!$D$4:$W$4,計算用シート!$D$26:$W$26,0),"-") -> 25500 | D15: 100 | F15: 全国 | G15: =IFERROR(_xlfn.XLOOKUP(計算用シート!$C$1,計算用シート!$D$4:$W$4,計算用シート!$D48:$W48,0),"-") -> 4600 | H15: 100 | J15: 全国 | K15: =IFERROR(_xlfn.XLOOKUP(計算用シート!$C$1,計算用シート!$D$4:$W$4,計算用シート!$D70:$W70,0),"-") -> 1174000 | L15: 100
A17: =IFERROR(_xlfn.XLOOKUP(計算用シート!$C$1,計算用シート!$D$4:$W$4,計算用シート!$D34:$W34,0),"-") -> 1 | B17: =IFERROR(_xlfn.XLOOKUP(計算用シート!$C$1,計算用シート!$D$4:$W$4,計算用シート!$D19:$W19,0),"-") -> 北海道 | C17: =IFERROR(_xlfn.XLOOKUP(計算用シート!$C$1,計算用シート!$D$4:$W$4,計算用シート!$D27:$W27,0),"-") -> 14900 | D17: =IFERROR(ROUND(C17/$C$15*100,1),"- ") -> 58.4 | E17: =IFERROR(_xlfn.XLOOKUP(計算用シート!$C$1,計算用シート!$D$4:$W$4,計算用シート!$D56:$W56,0),"-") -> 1 | F17: =IFERROR(_xlfn.XLOOKUP(計算用シート!$C$1,計算用シート!$D$4:$W$4,計算用シート!$D41:$W41,0),"-") -> 兵庫 | G17: =IFERROR(_xlfn.XLOOKUP(計算用シート!$C$1,計算用シート!$D$4:$W$4,計算用シート!$D49:$W49,0),"-") -> 5930 | H17: =IFERROR(ROUND(G17/$G$15*100,1),"- ") -> 128.9 | I17: =IFERROR(_xlfn.XLOOKUP(計算用シート!$C$1,計算用シート!$D$4:$W$4,計算用シート!$D78:$W78,0),"-") -> 1 | J17: =IFERROR(_xlfn.XLOOKUP(計算用シート!$C$1,計算用シート!$D$4:$W$4,計算用シート!$D63:$W63,0),"-") -> 北海道 | K17: =IFERROR(_xlfn.XLOOKUP(計算用シート!$C$1,計算用シート!$D$4:$W$4,計算用シート!$D71:$W71,0),"-") -> 752500 | L17: =IFERROR(ROUND(K17/$K$15*100,1),"- ") -> 64.1
A18: =IFERROR(_xlfn.XLOOKUP(計算用シート!$C$1,計算用シート!$D$4:$W$4,計算用シート!$D35:$W35,0),"-") -> 2 | B18: =IFERROR(_xlfn.XLOOKUP(計算用シート!$C$1,計算用シート!$D$4:$W$4,計算用シート!$D20:$W20,0),"-") -> 佐賀 | C18: =IFERROR(_xlfn.XLOOKUP(計算用シート!$C$1,計算用シート!$D$4:$W$4,計算用シート!$D28:$W28,0),"-") -> 2130 | D18: =IFERROR(ROUND(C18/$C$15*100,1),"- ") -> 8.4 | E18: =IFERROR(_xlfn.XLOOKUP(計算用シート!$C$1,計算用シート!$D$4:$W$4,計算用シート!$D57:$W57,0),"-") -> 2 | F18: =IFERROR(_xlfn.XLOOKUP(計算用シート!$C$1,計算用シート!$D$4:$W$4,計算用シート!$D42:$W42,0),"-") -> 愛知 | G18: =IFERROR(_xlfn.XLOOKUP(計算用シート!$C$1,計算用シート!$D$4:$W$4,計算用シート!$D50:$W50,0),"-") -> 5190 | H18: =IFERROR(ROUND(G18/$G$15*100,1),"- ") -> 112.8 | I18: =IFERROR(_xlfn.XLOOKUP(計算用シート!$C$1,計算用シート!$D$4:$W$4,計算用シート!$D79:$W79,0),"-") -> 2 | J18: =IFERROR(_xlfn.XLOOKUP(計算用シート!$C$1,計算用シート!$D$4:$W$4,計算用シート!$D64:$W64,0),"-") -> 兵庫 | K18: =IFERROR(_xlfn.XLOOKUP(計算用シート!$C$1,計算用シート!$D$4:$W$4,計算用シート!$D72:$W72,0),"-") -> 97800 | L18: =IFERROR(ROUND(K18/$K$15*100,1),"- ") -> 8.3
A19: =IFERROR(_xlfn.XLOOKUP(計算用シート!$C$1,計算用シート!$D$4:$W$4,計算用シート!$D36:$W36,0),"-") -> 3 | B19: =IFERROR(_xlfn.XLOOKUP(計算用シート!$C$1,計算用シート!$D$4:$W$4,計算用シート!$D21:$W21,0),"-") -> 兵庫 | C19: =IFERROR(_xlfn.XLOOKUP(計算用シート!$C$1,計算用シート!$D$4:$W$4,計算用シート!$D29:$W29,0),"-") -> 1650 | D19: =IFERROR(ROUND(C19/$C$15*100,1),"- ") -> 6.5 | E19: =IFERROR(_xlfn.XLOOKUP(計算用シート!$C$1,計算用シート!$D$4:$W$4,計算用シート!$D58:$W58,0),"-") -> 3 | F19: =IFERROR(_xlfn.XLOOKUP(計算用シート!$C$1,計算用シート!$D$4:$W$4,計算用シート!$D43:$W43,0),"-") -> 北海道 | G19: =IFERROR(_xlfn.XLOOKUP(計算用シート!$C$1,計算用シート!$D$4:$W$4,計算用シート!$D51:$W51,0),"-") -> 5050 | H19: =IFERROR(ROUND(G19/$G$15*100,1),"- ") -> 109.8 | I19: =IFERROR(_xlfn.XLOOKUP(計算用シート!$C$1,計算用シート!$D$4:$W$4,計算用シート!$D80:$W80,0),"-") -> 3 | J19: =IFERROR(_xlfn.XLOOKUP(計算用シート!$C$1,計算用シート!$D$4:$W$4,計算用シート!$D65:$W65,0),"-") -> 佐賀 | K19: =IFERROR(_xlfn.XLOOKUP(計算用シート!$C$1,計算用シート!$D$4:$W$4,計算用シート!$D73:$W73,0),"-") -> 97600 | L19: =IFERROR(ROUND(K19/$K$15*100,1),"- ") -> 8.3
A20: =IFERROR(_xlfn.XLOOKUP(計算用シート!$C$1,計算用シート!$D$4:$W$4,計算用シート!$D37:$W37,0),"-") -> 4 | B20: =IFERROR(_xlfn.XLOOKUP(計算用シート!$C$1,計算用シート!$D$4:$W$4,計算用シート!$D22:$W22,0),"-") -> 長崎 | C20: =IFERROR(_xlfn.XLOOKUP(計算用シート!$C$1,計算用シート!$D$4:$W$4,計算用シート!$D30:$W30,0),"-") -> 762 | D20: =IFERROR(ROUND(C20/$C$15*100,1),"- ") -> 3 | E20: =IFERROR(_xlfn.XLOOKUP(計算用シート!$C$1,計算用シート!$D$4:$W$4,計算用シート!$D59:$W59,0),"-") -> 4 | F20: =IFERROR(_xlfn.XLOOKUP(計算用シート!$C$1,計算用シート!$D$4:$W$4,計算用シート!$D44:$W44,0),"-") -> 香川 | G20: =IFERROR(_xlfn.XLOOKUP(計算用シート!$C$1,計算用シート!$D$4:$W$4,計算用シート!$D52:$W52,0),"-") -> 5020 | H20: =IFERROR(ROUND(G20/$G$15*100,1),"- ") -> 109.1 | I20: =IFERROR(_xlfn.XLOOKUP(計算用シート!$C$1,計算用シート!$D$4:$W$4,計算用シート!$D81:$W81,0),"-") -> 4 | J20: =IFERROR(_xlfn.XLOOKUP(計算用シート!$C$1,計算用シート!$D$4:$W$4,計算用シート!$D66:$W66,0),"-") -> 長崎 | K20: =IFERROR(_xlfn.XLOOKUP(計算用シート!$C$1,計算用シート!$D$4:$W$4,計算用シート!$D74:$W74,0),"-") -> 29900 | L20: =IFERROR(ROUND(K20/$K$15*100,1),"- ") -> 2.5
A21: =IFERROR(_xlfn.XLOOKUP(計算用シート!$C$1,計算用シート!$D$4:$W$4,計算用シート!$D38:$W38,0),"-") -> 5 | B21: =IFERROR(_xlfn.XLOOKUP(計算用シート!$C$1,計算用シート!$D$4:$W$4,計算用シート!$D23:$W23,0),"-") -> 愛知 | C21: =IFERROR(_xlfn.XLOOKUP(計算用シート!$C$1,計算用シート!$D$4:$W$4,計算用シート!$D31:$W31,0),"-") -> 468 | D21: =IFERROR(ROUND(C21/$C$15*100,1),"- ") -> 1.8 | E21: =IFERROR(_xlfn.XLOOKUP(計算用シート!$C$1,計算用シート!$D$4:$W$4,計算用シート!$D60:$W60,0),"-") -> 5 | F21: =IFERROR(_xlfn.XLOOKUP(計算用シート!$C$1,計算用シート!$D$4:$W$4,計算用シート!$D45:$W45,0),"-") -> 富山 | G21: =IFERROR(_xlfn.XLOOKUP(計算用シート!$C$1,計算用シート!$D$4:$W$4,計算用シート!$D53:$W53,0),"-") -> 4950 | H21: =IFERROR(ROUND(G21/$G$15*100,1),"- ") -> 107.6 | I21: =IFERROR(_xlfn.XLOOKUP(計算用シート!$C$1,計算用シート!$D$4:$W$4,計算用シート!$D82:$W82,0),"-") -> 5 | J21: =IFERROR(_xlfn.XLOOKUP(計算用シート!$C$1,計算用シート!$D$4:$W$4,計算用シート!$D67:$W67,0),"-") -> 愛知 | K21: =IFERROR(_xlfn.XLOOKUP(計算用シート!$C$1,計算用シート!$D$4:$W$4,計算用シート!$D75:$W75,0),"-") -> 24300 | L21: =IFERROR(ROUND(K21/$K$15*100,1),"- ") -> 2.1
A22: =IF(ISERROR(_xlfn.XLOOKUP(計算用シート!$C$1,計算用シート!$D$4:$W$4,計算用シート!$D85:$W85))=TRUE,"",IF(_xlfn.XLOOKUP(計算用シート!$C$1,計算用シート!$D$4:$W$4,計算用シート!$D85:$W85)="","",_xlfn.XLOOKUP(計算用シート!$C$1,計算用シート!$D$4:$W$4,計算用シート!$D85:$W85)))
A23: =IF(ISERROR(_xlfn.XLOOKUP(計算用シート!$C$1,計算用シート!$D$4:$W$4,計算用シート!$D86:$W86))=TRUE,"",IF(_xlfn.XLOOKUP(計算用シート!$C$1,計算用シート!$D$4:$W$4,計算用シート!$D86:$W86)="","",_xlfn.XLOOKUP(計算用シート!$C$1,計算用シート!$D$4:$W$4,計算用シート!$D86:$W86)))
A24: =IF(ISERROR(_xlfn.XLOOKUP(計算用シート!$C$1,計算用シート!$D$4:$W$4,計算用シート!$D87:$W87))=TRUE,"",IF(_xlfn.XLOOKUP(計算用シート!$C$1,計算用シート!$D$4:$W$4,計算用シート!$D87:$W87)="","",_xlfn.XLOOKUP(計算用シート!$C$1,計算用シート!$D$4:$W$4,計算用シート!$D87:$W87)))

Sheet ドロップダウンリスト
A1: 野菜※ばれいしょを除く | B1: 畜産 | C1: 海面漁業・養殖業 | D1: 六次産業化 | E1: 林業産出額・漁業産出額
A2: たまねぎ | B2: 乳用牛 | C2: 海面漁業・養殖業生産量 | D2: 農業生産関連事業 | E2: 林業産出額
A3: かぼちゃ | B3: 肉用牛 | C3: 海面漁業 主要魚種別漁獲量 | D3: 漁業生産関連事業 | E3: 漁業産出額
A4: スイートコーン | B4: 豚 | C4: 海面養殖業 主要魚種別収獲量
A5: やまのいも | B5: 採卵鶏
A6: にんじん | B6: 生乳生産量
A7: アスパラガス
A8: ブロッコリー
A9: だいこん
A11: 他掲載候補↓
A12: にんにく
A13: トマト
A14: さやいんげん
A15: えだまめ
A16: メロン

Sheet 計算用シート
B1: 表示データ→ | C1: =なんばんBOOK!B5&"_"&なんばんBOOK!B8 -> 野菜※ばれいしょを除く_たまねぎ
A3: 注1：色付きセルはベタ打ち | C3: 作成時メモ（課題等）→ ※全体向けメモは右端 | D3: 更新済み | E3: 更新済み | F3: 更新済み | G3: 更新済み | H3: 更新済み | I3: 更新済み | J3: 更新済み | K3: 更新済み | L3: 更新済み | M3: 更新済み | N3: センサス年のため調査休止 令和２年なんばんBOOKの編集と同様前年の結果のまま掲載とする | O3: センサス年のため調査休止 令和２年なんばんBOOKの編集と同様前年の結果のまま掲載とする | P3: 更新済み | Q3: 更新済み | R3: 上位3位まで 更新済み | S3: 上位3位まで 更新済み | T3: 更新済み | U3: 更新済み | V3: 更新済み | W3: 更新済み
A4: 注2：この色のセルは要更新・要確認 | D4: 野菜※ばれいしょを除く_たまねぎ | E4: 野菜※ばれいしょを除く_かぼちゃ | F4: 野菜※ばれいしょを除く_スイートコーン | G4: 野菜※ばれいしょを除く_やまのいも | H4: 野菜※ばれいしょを除く_にんじん | I4: 野菜※ばれいしょを除く_アスパラガス | J4: 野菜※ばれいしょを除く_ブロッコリー | K4: 野菜※ばれいしょを除く_だいこん | L4: 畜産_乳用牛 | M4: 畜産_肉用牛 | N4: 畜産_豚 | O4: 畜産_採卵鶏 | P4: 畜産_生乳生産量 | Q4: 海面漁業・養殖業_海面漁業・養殖業生産量 | R4: 海面漁業・養殖業_海面漁業 主要魚種別漁獲量 | S4: 海面漁業・養殖業_海面養殖業 主要魚種別収獲量 | T4: 六次産業化_農業生産関連事業 | U4: 六次産業化_漁業生産関連事業 | V4: 林業産出額・漁業産出額_林業産出額 | W4: 林業産出額・漁業産出額_漁業産出額
D5: たまねぎ | E5: かぼちゃ | F5: スイートコーン | G5: やまのいも | H5: にんじん | I5: アスパラガス | J5: ブロッコリー | K5: だいこん | L5: 乳用牛 | M5: 肉用牛 | N5: 豚 | O5: 採卵鶏 | P5: 生乳生産量 | Q5: 海面漁業・養殖業生産量 | R5: 海面漁業 主要魚種別漁獲量 | S5: 海面養殖業 主要魚種別収獲量 | T5: 農業生産関連事業 | U5: 漁業生産関連事業 | V5: 林業産出額 | W5: 漁業産出額
B6: データ年 ※手入力で更新 | D6: 令和５年産 | E6: 令和５年産 | F6: 令和５年産 | G6: 令和５年産 | H6: 令和５年産 | I6: 令和５年産 | J6: 令和５年産 | K6: 令和５年産 | L6: 令和７年 ２月１日現在 | M6: 令和７年 ２月１日現在 | N6: 令和６年 ２月１日現在 | O6: 令和６年 ２月１日現在 | P6: 令和５年 | Q6: 令和６年 （概数値） | R6: 令和６年 （概数値） | S6: 令和６年 （概数値） | T6: 令和５年度 | U6: 令和５年度 | V6: 令和５年 | W6: 令和５年
C7: 表頭１ | D7: 作付面積 | E7: 作付面積 | F7: 作付面積 | G7: 作付面積 | H7: 作付面積 | I7: 作付面積 | J7: 作付面積 | K7: 作付面積 | L7: 飼養戸数 | M7: 飼養戸数 | N7: 飼養戸数 | O7: 飼養戸数（種鶏のみを除く） | P7: 生乳生産量 | Q7: 海面漁業・養殖業生産量 | R7: ほたてがい | S7: ほたてがい | T7: 年間販売金額 | U7: 年間販売金額 | V7: 林業産出額 | W7: 海面漁業・養殖業産出額
D8: 作付面積 | E8: 作付面積 | F8: 作付面積 | G8: 作付面積 | H8: 作付面積 | I8: 作付面積 | J8: 作付面積 | K8: 作付面積 | L8: 飼養戸数 | M8: 飼養戸数 | N8: 飼養戸数 | O8: 飼養戸数 | P8: 生産量 | Q8: 生産量 | R8: 漁獲量 | S8: 収獲量 | T8: 総額 | U8: 総額 | V8: 産出額 | W8: 産出額
D9: シェア | E9: シェア | F9: シェア | G9: シェア | H9: シェア | I9: シェア | J9: シェア | K9: シェア | L9: シェア | M9: シェア | N9: シェア | O9: シェア | P9: シェア | Q9: シェア | R9: シェア | S9: シェア | T9: シェア | U9: シェア | V9: シェア | W9: シェア
C10: 表頭２ | D10: 10a当たり収量 | E10: 10a当たり収量 | F10: 10a当たり収量 | G10: 10a当たり収量 | H10: 10a当たり収量 | I10: 10a当たり収量 | J10: 10a当たり収量 | K10: 10a当たり収量 | L10: 飼養頭数（めす） | M10: 飼養頭数 | N10: 飼養頭数 | O10: 飼養羽数（種鶏を除く） | P10: 乳製品向け処理量 | Q10: 海面漁業漁獲量 | R10: すけとうだら | S10: こんぶ類 | T10: 事業体数 | U10: 事業体数 | V10: うち木材生産 | W10: 海面漁業産出額
D11: 10a当たり収量 | E11: 10a当たり収量 | F11: 10a当たり収量 | G11: 10a当たり収量 | H11: 10a当たり収量 | I11: 10a当たり収量 | J11: 10a当たり収量 | K11: 10a当たり収量 | L11: 飼養頭数 | M11: 飼養頭数 | N11: 飼養頭数 | O11: 飼養羽数 | P11: 処理量 | Q11: 漁獲量 | R11: 漁獲量 | S11: 収獲量 | T11: 事業体数 | U11: 事業体数 | V11: 産出額 | W11: 産出額
D12: 全国比 | E12: 全国比 | F12: 全国比 | G12: 全国比 | H12: 全国比 | I12: 全国比 | J12: 全国比 | K12: 全国比 | L12: シェア | M12: シェア | N12: シェア | O12: シェア | P12: シェア | Q12: シェア | R12: シェア | S12: シェア | T12: シェア | U12: シェア | V12: シェア | W12: シェア
C13: 表頭３ | D13: 収穫量 | E13: 収穫量 | F13: 収穫量 | G13: 収穫量 | H13: 収穫量 | I13: 収穫量 | J13: 収穫量 | K13: 収穫量 | L13: １戸当たり飼養頭数 | M13: １戸当たり飼養頭数 | N13: １戸当たり飼養頭数 | O13: １戸当たり成鶏めす飼養羽数 | P13: 牛乳生産量 | Q13: 海面養殖業収獲量 | R13: さけ類 | V13: うち栽培きのこ類生産 | W13: 海面養殖業産出額
D14: 収穫量 | E14: 収穫量 | F14: 収穫量 | G14: 収穫量 | H14: 収穫量 | I14: 収穫量 | J14: 収穫量 | K14: 収穫量 | L14: １戸当たり飼養頭数 | M14: １戸当たり飼養頭数 | N14: １戸当たり飼養頭数 | O14: １戸当たり 成鶏めす飼養羽数 | P14: 生産量 | Q14: 収獲量 | R14: 漁獲量 | V14: 産出額 | W14: 産出額
D15: シェア | E15: シェア | F15: シェア | G15: シェア | H15: シェア | I15: シェア | J15: シェア | K15: シェア | L15: 全国比 | M15: 全国比 | N15: 全国比 | O15: 全国比 | P15: シェア | Q15: シェア | R15: シェア | V15: シェア | W15: シェア
C16: 単位 | D16: ha | E16: ha | F16: ha | G16: ha | H16: ha | I16: ha | J16: ha | K16: ha | L16: 戸 | M16: 戸 | N16: 戸 | O16: 戸 | P16: t | Q16: 100t | R16: 100t | S16: 100t | T16: 100万円 | U16: 100万円 | V16: 1,000万円 | W16: 100万円
D17: ㎏ | E17: ㎏ | F17: ㎏ | G17: ㎏ | H17: ㎏ | I17: ㎏ | J17: ㎏ | K17: ㎏ | L17: 頭 | M17: 頭 | N17: 頭 | O17: 千羽 | P17: t | Q17: 100t | R17: 100t | S17: 100t | T17: 事業体数 | U17: 事業体数 | V17: 1,000万円 | W17: 100万円
D18: t | E18: t | F18: t | G18: t | H18: t | I18: t | J18: t | K18: t | L18: 頭 | M18: 頭 | N18: 頭 | O18: 千羽 | P18: kl | Q18: 100t | R18: 100t | V18: 1,000万円 | W18: 100万円
B19: 〈表頭１〉のデータ | C19: 都道府県名 1 | D19: =貼_たまねぎ!T15 -> 北海道 | E19: =貼_かぼちゃ!T15 -> 北海道 | F19: =貼_スイートコーン!$T15 -> 北海道 | G19: =貼_やまのいも!$T15 -> 青森 | H19: =貼_にんじん!U15 -> 北海道 | I19: =貼_アスパラガス!T15 -> 北海道 | J19: =貼_ブロッコリー!T15 -> 北海道 | K19: =貼_だいこん!T15 -> 北海道 | L19: ='貼_乳(1)'!AC21 -> 北海道 | M19: ='貼_肉(1)'!BB17 -> 鹿児島 | N19: ='貼_豚(1)'!AA19 -> 鹿児島 | O19: ='貼_採卵鶏(1)'!Y17 -> 愛知 | P19: =貼_生乳生産量!AC14 -> 北海道 | Q19: =貼_海面漁業!DD10 -> 北海道 | R19: =貼_海面漁業!DM10 -> 北海道 | S19: =貼_海面養殖業!BA11 -> 北海道 | T19: =貼_農業生産関連事業!AE11 -> 北海道 | U19: =貼_漁業生産関連事業!U11 -> 北海道 | V19: =貼_林業産出額!AL9 -> 長野 | W19: =貼_漁業産出額!CV9 -> 北海道
C20: 2 | D20: =貼_たまねぎ!T16 -> 佐賀 | E20: =貼_かぼちゃ!T16 -> 鹿児島 | F20: =貼_スイートコーン!$T16 -> 千葉 | G20: =貼_やまのいも!$T16 -> 北海道 | H20: =貼_にんじん!U16 -> 千葉 | I20: =貼_アスパラガス!T16 -> 長野 | J20: =貼_ブロッコリー!T16 -> 香川 | K20: =貼_だいこん!T16 -> 青森 | L20: ='貼_乳(1)'!AC22 -> 岩手 | M20: ='貼_肉(1)'!BB18 -> 宮崎 | N20: ='貼_豚(1)'!AA20 -> 宮崎 | O20: ='貼_採卵鶏(1)'!Y18 -> 鹿児島 | P20: =貼_生乳生産量!AC15 -> 栃木 | Q20: =貼_海面漁業!DD11 -> 長崎 | R20: =貼_海面漁業!DM11 -> 青森 | S20: =貼_海面養殖業!BA12 -> 青森 | T20: =貼_農業生産関連事業!AE12 -> 静岡 | U20: =貼_漁業生産関連事業!U12 -> 鹿児島 | V20: =貼_林業産出額!AL10 -> 新潟 | W20: =貼_漁業産出額!CV10 -> 長崎
C21: 3 | D21: =貼_たまねぎ!T17 -> 兵庫 | E21: =貼_かぼちゃ!T17 -> 長野 | F21: =貼_スイートコーン!$T17 -> 茨城 | G21: =貼_やまのいも!$T17 -> 千葉 | H21: =貼_にんじん!U17 -> 青森 | I21: =貼_アスパラガス!T17 -> 福島 | J21: =貼_ブロッコリー!T17 -> 埼玉 | K21: =貼_だいこん!T17 -> 千葉 | L21: ='貼_乳(1)'!AC23 -> 栃木 | M21: ='貼_肉(1)'!BB19 -> 岩手 | N21: ='貼_豚(1)'!AA21 -> 千葉 | O21: ='貼_採卵鶏(1)'!Y19 -> 千葉 | P21: =貼_生乳生産量!AC16 -> 熊本 | Q21: =貼_海面漁業!DD12 -> 宮城 | R21: - | S21: =貼_海面養殖業!BA13 -> 宮城 | T21: =貼_農業生産関連事業!AE13 -> 熊本 | U21: =貼_漁業生産関連事業!U13 -> 三重 | V21: =貼_林業産出額!AL11 -> 北海道 | W21: =貼_漁業産出額!CV11 -> 愛媛
C22: 4 | D22: =貼_たまねぎ!T18 -> 長崎 | E22: =貼_かぼちゃ!T18 -> 茨城 | F22: =貼_スイートコーン!$T18 -> 群馬 | G22: =貼_やまのいも!$T18 -> 群馬 | H22: =貼_にんじん!U18 -> 徳島 | I22: =貼_アスパラガス!T18 -> 秋田 | J22: =貼_ブロッコリー!T18 -> 長野 | K22: =貼_だいこん!T18 -> 鹿児島 | L22: ='貼_乳(1)'!AC24 -> 熊本 | M22: ='貼_肉(1)'!BB20 -> 宮城 | N22: ='貼_豚(1)'!AA22 -> 茨城 | O22: ='貼_採卵鶏(1)'!Y20 -> 茨城 | P22: =貼_生乳生産量!AC17 -> 群馬 | Q22: =貼_海面漁業!DD13 -> 静岡 | T22: =貼_農業生産関連事業!AE14 -> 千葉 | U22: =貼_漁業生産関連事業!U14 -> 宮崎 | V22: =貼_林業産出額!AL12 -> 宮崎 | W22: =貼_漁業産出額!CV12 -> 宮城
C23: 5 | D23: =貼_たまねぎ!T19 -> 愛知 | E23: =貼_かぼちゃ!T19 -> 長崎 | F23: =貼_スイートコーン!$T19 -> 長野 | G23: =貼_やまのいも!$T19 -> 長野 | H23: =貼_にんじん!U19 -> 茨城 | I23: =貼_アスパラガス!T19 -> 山形 | J23: =貼_ブロッコリー!T19 -> 長崎 | K23: =貼_だいこん!T19 -> 宮崎 | L23: ='貼_乳(1)'!AC25 -> 宮城 | M23: ='貼_肉(1)'!BB22 -> 北海道 | N23: ='貼_豚(1)'!AA23 -> 北海道 | O23: ='貼_採卵鶏(1)'!Y23 -> 北海道 | P23: =貼_生乳生産量!AC18 -> 岩手 | Q23: =貼_海面漁業!DD14 -> 愛媛 | T23: =貼_農業生産関連事業!AE15 -> 愛媛 | U23: =貼_漁業生産関連事業!U15 -> 長崎 | V23: =貼_林業産出額!AL13 -> 岩手 | W23: =貼_漁業産出額!CV13 -> 鹿児島
C26: データ（全国値） | D26: =貼_たまねぎ!C15 -> 25500 | E26: =貼_かぼちゃ!$C15 -> 13800 | F26: =貼_スイートコーン!$C15 -> 20900 | G26: =貼_やまのいも!$C15 -> 6350 | H26: =貼_にんじん!D15 -> 16300 | I26: =貼_アスパラガス!C15 -> 4140 | J26: =貼_ブロッコリー!C15 -> 17300 | K26: =貼_だいこん!$C15 -> 27300 | L26: ='貼_乳(1)'!E11 -> 11300 | M26: ='貼_肉(1)'!E12 -> 34000 | N26: ='貼_豚(1)'!F15 -> 3130 | O26: ='貼_採卵鶏(1)'!G13 -> 1640 | P26: =貼_生乳生産量!E12 -> 7298933 | Q26: =貼_海面漁業!D9+貼_海面養殖業!C11 -> 35883 | R26: =貼_海面漁業!BY9 -> 3167 | S26: =貼_海面養殖業!R11 -> 1194 | T26: =貼_農業生産関連事業!C11 -> 2208274 | U26: =貼_漁業生産関連事業!C11 -> 232785 | V26: =貼_林業産出額!C55 -> 47484 | W26: =貼_漁業産出額!D8 -> 1522601
C27: 1 | D27: =貼_たまねぎ!U15 -> 14900 | E27: =貼_かぼちゃ!$U15 -> 6410 | F27: =貼_スイートコーン!$U15 -> 6910 | G27: =貼_やまのいも!$U15 -> 2140 | H27: =貼_にんじん!V15 -> 4280 | I27: =貼_アスパラガス!U15 -> 1030 | J27: =貼_ブロッコリー!U15 -> 3230 | K27: =貼_だいこん!$U15 -> 2640 | L27: ='貼_乳(1)'!AD21 -> 4970 | M27: ='貼_肉(1)'!BC17 -> 5530 | N27: ='貼_豚(1)'!AB19 -> 387 | O27: ='貼_採卵鶏(1)'!Z17 -> 109 | P27: =貼_生乳生産量!AD14 -> 4146981 | Q27: =貼_海面漁業!DE10 -> 8975 | R27: =貼_海面漁業!DN10 -> 3166 | S27: =貼_海面養殖業!BB11 -> 845 | T27: =貼_農業生産関連事業!AF11 -> 159794 | U27: =貼_漁業生産関連事業!V11 -> 66630 | V27: =貼_林業産出額!AM9 -> 6075 | W27: =貼_漁業産出額!CW9 -> 283586
C28: 2 | D28: =貼_たまねぎ!U16 -> 2130 | E28: =貼_かぼちゃ!U16 -> 644 | F28: =貼_スイートコーン!$U16 -> 1620 | G28: =貼_やまのいも!$U16 -> 1800 | H28: =貼_にんじん!V16 -> 2760 | I28: =貼_アスパラガス!U16 -> 545 | J28: =貼_ブロッコリー!U16 -> 1290 | K28: =貼_だいこん!$U16 -> 2640 | L28: ='貼_乳(1)'!AD22 -> 650 | M28: ='貼_肉(1)'!BC18 -> 4000 | N28: ='貼_豚(1)'!AB20 -> 261 | O28: ='貼_採卵鶏(1)'!Z18 -> 98 | P28: =貼_生乳生産量!AD15 -> 341645 | Q28: =貼_海面漁業!DE11 -> 3207 | R28: =貼_海面漁業!DN11 -> 1 | S28: =貼_海面養殖業!BB12 -> 313 | T28: =貼_農業生産関連事業!AF12 -> 108064 | U28: =貼_漁業生産関連事業!V12 -> 15665 | V28: =貼_林業産出額!AM10 -> 4723 | W28: =貼_漁業産出額!CW10 -> 123813
C29: 3 | D29: =貼_たまねぎ!U17 -> 1650 | E29: =貼_かぼちゃ!U17 -> 545 | F29: =貼_スイートコーン!$U17 -> 1350 | G29: =貼_やまのいも!$U17 -> 466 | H29: =貼_にんじん!V17 -> 1190 | I29: =貼_アスパラガス!U17 -> 330 | J29: =貼_ブロッコリー!U17 -> 1210 | K29: =貼_だいこん!$U17 -> 2470 | L29: ='貼_乳(1)'!AD23 -> 531 | M29: ='貼_肉(1)'!BC19 -> 2910 | N29: ='貼_豚(1)'!AB21 -> 216 | O29: ='貼_採卵鶏(1)'!Z19 -> 88 | P29: =貼_生乳生産量!AD16 -> 256330 | Q29: =貼_海面漁業!DE12 -> 2255 | R29: - | S29: =貼_海面養殖業!BB13 -> 31 | T29: =貼_農業生産関連事業!AF13 -> 88904 | U29: =貼_漁業生産関連事業!V13 -> 14557 | V29: =貼_林業産出額!AM11 -> 4340 | W29: =貼_漁業産出額!CW11 -> 108574
C30: 4 | D30: =貼_たまねぎ!U18 -> 762 | E30: =貼_かぼちゃ!U18 -> 390 | F30: =貼_スイートコーン!$U18 -> 1180 | G30: =貼_やまのいも!$U18 -> 354 | H30: =貼_にんじん!V18 -> 936 | I30: =貼_アスパラガス!U18 -> 318 | J30: =貼_ブロッコリー!U18 -> 1150 | K30: =貼_だいこん!$U18 -> 2050 | L30: ='貼_乳(1)'!AD24 -> 438 | M30: ='貼_肉(1)'!BC20 -> 2180 | N30: ='貼_豚(1)'!AB22 -> 208 | O30: ='貼_採卵鶏(1)'!Z20 -> 78 | P30: =貼_生乳生産量!AD17 -> 201618 | Q30: =貼_海面漁業!DE13 -> 1646 | T30: =貼_農業生産関連事業!AF14 -> 85247 | U30: =貼_漁業生産関連事業!V14 -> 13710 | V30: =貼_林業産出額!AM12 -> 2945 | W30: =貼_漁業産出額!CW12 -> 88766
C31: 5 | D31: =貼_たまねぎ!U19 -> 468 | E31: =貼_かぼちゃ!U19 -> 390 | F31: =貼_スイートコーン!$U19 -> 1050 | G31: =貼_やまのいも!$U19 -> 260 | H31: =貼_にんじん!V19 -> 794 | I31: =貼_アスパラガス!U19 -> 310 | J31: =貼_ブロッコリー!U19 -> 1040 | K31: =貼_だいこん!$U19 -> 1550 | L31: ='貼_乳(1)'!AD25 -> 349 | M31: ='貼_肉(1)'!BC22 -> 2030 | N31: ='貼_豚(1)'!AB23 -> 186 | O31: ='貼_採卵鶏(1)'!Z23 -> 56 | P31: =貼_生乳生産量!AD18 -> 198506 | Q31: =貼_海面漁業!DE14 -> 1303 | T31: =貼_農業生産関連事業!AF15 -> 83414 | U31: =貼_漁業生産関連事業!V15 -> 10017 | V31: =貼_林業産出額!AM13 -> 1923 | W31: =貼_漁業産出額!CW13 -> 76782
C32: 6 | D32: =貼_たまねぎ!U20 -> 324 | E32: =貼_かぼちゃ!U20 -> 389 | F32: =貼_スイートコーン!$U20 -> 701 | G32: =貼_やまのいも!$U20 -> 173 | H32: =貼_にんじん!V20 -> 779 | I32: =貼_アスパラガス!U20 -> 238 | J32: =貼_ブロッコリー!U20 -> 984 | K32: =貼_だいこん!$U20 -> 1220 | L32: ='貼_乳(1)'!AD26 -> 342 | P32: =貼_生乳生産量!AD19 -> 185038 | Q32: =貼_海面漁業!DE15 -> 1125 | T32: =貼_農業生産関連事業!AF16 -> 81244 | U32: =貼_漁業生産関連事業!V16 -> 9241 | V32: =貼_林業産出額!AM14 -> 1875 | W32: =貼_漁業産出額!CW14 -> 61935
C33: 7 | D33: =貼_たまねぎ!U21 -> 305 | E33: =貼_かぼちゃ!U21 -> 347 | F33: =貼_スイートコーン!$U21 -> 607 | G33: =貼_やまのいも!$U21 -> 101 | H33: =貼_にんじん!V21 -> 728 | I33: =貼_アスパラガス!U21 -> 185 | J33: =貼_ブロッコリー!U21 -> 936 | K33: =貼_だいこん!$U21 -> 1090 | L33: ='貼_乳(1)'!AD27 -> 342 | P33: =貼_生乳生産量!AD20 -> 181275 | Q33: =貼_海面漁業!DE16 -> 1017 | T33: =貼_農業生産関連事業!AF17 -> 77312 | U33: =貼_漁業生産関連事業!V17 -> 8832 | V33: =貼_林業産出額!AM15 -> 1648 | W33: =貼_漁業産出額!CW15 -> 60881
C34: 順位 | D34: =_xlfn.RANK.EQ(D27,D$27:D$31,0) -> 1 | E34: =_xlfn.RANK.EQ(E27,E$27:E$31,0) -> 1 | F34: =_xlfn.RANK.EQ(F27,F$27:F$31,0) -> 1 | G34: =_xlfn.RANK.EQ(G27,G$27:G$31,0) -> 1 | H34: =_xlfn.RANK.EQ(H27,H$27:H$31,0) -> 1 | I34: =_xlfn.RANK.EQ(I27,I$27:I$31,0) -> 1 | J34: =_xlfn.RANK.EQ(J27,J$27:J$31,0) -> 1 | K34: =_xlfn.RANK.EQ(K27,K$27:K$31,0) -> 1 | ... Q34: =_xlfn.RANK.EQ(Q27,Q$27:Q$31,0) -> 1 | R34: =IFERROR(_xlfn.RANK.EQ(R27,R$27:R$31,0),"-") -> 1 | S34: =_xlfn.RANK.EQ(S27,S$27:S$31,0) -> 1 | T34: =_xlfn.RANK.EQ(T27,T$27:T$31,0) -> 1 | U34: =_xlfn.RANK.EQ(U27,U$27:U$31,0) -> 1 | V34: =_xlfn.RANK.EQ(V27,V$27:V$31,0) -> 1 | W34: =_xlfn.RANK.EQ(W27,W$27:W$31,0) -> 1
D35: =_xlfn.RANK.EQ(D28,D$27:D$31,0) -> 2 | E35: =_xlfn.RANK.EQ(E28,E$27:E$31,0) -> 2 | F35: =_xlfn.RANK.EQ(F28,F$27:F$31,0) -> 2 | G35: =_xlfn.RANK.EQ(G28,G$27:G$31,0) -> 2 | H35: =_xlfn.RANK.EQ(H28,H$27:H$31,0) -> 2 | I35: =_xlfn.RANK.EQ(I28,I$27:I$31,0) -> 2 | J35: =_xlfn.RANK.EQ(J28,J$27:J$31,0) -> 2 | K35: =_xlfn.RANK.EQ(K28,K$27:K$31,0) -> 1 | ... Q35: =_xlfn.RANK.EQ(Q28,Q$27:Q$31,0) -> 2 | R35: =IFERROR(_xlfn.RANK.EQ(R28,R$27:R$31,0),"-") -> 2 | S35: =_xlfn.RANK.EQ(S28,S$27:S$31,0) -> 2 | T35: =_xlfn.RANK.EQ(T28,T$27:T$31,0) -> 2 | U35: =_xlfn.RANK.EQ(U28,U$27:U$31,0) -> 2 | V35: =_xlfn.RANK.EQ(V28,V$27:V$31,0) -> 2 | W35: =_xlfn.RANK.EQ(W28,W$27:W$31,0) -> 2
D36: =_xlfn.RANK.EQ(D29,D$27:D$31,0) -> 3 | E36: =_xlfn.RANK.EQ(E29,E$27:E$31,0) -> 3 | F36: =_xlfn.RANK.EQ(F29,F$27:F$31,0) -> 3 | G36: =_xlfn.RANK.EQ(G29,G$27:G$31,0) -> 3 | H36: =_xlfn.RANK.EQ(H29,H$27:H$31,0) -> 3 | I36: =_xlfn.RANK.EQ(I29,I$27:I$31,0) -> 3 | J36: =_xlfn.RANK.EQ(J29,J$27:J$31,0) -> 3 | K36: =_xlfn.RANK.EQ(K29,K$27:K$31,0) -> 3 | ... Q36: =_xlfn.RANK.EQ(Q29,Q$27:Q$31,0) -> 3 | R36: =IFERROR(_xlfn.RANK.EQ(R29,R$27:R$31,0),"-") -> - | S36: =_xlfn.RANK.EQ(S29,S$27:S$31,0) -> 3 | T36: =_xlfn.RANK.EQ(T29,T$27:T$31,0) -> 3 | U36: =_xlfn.RANK.EQ(U29,U$27:U$31,0) -> 3 | V36: =_xlfn.RANK.EQ(V29,V$27:V$31,0) -> 3 | W36: =_xlfn.RANK.EQ(W29,W$27:W$31,0) -> 3
D37: =_xlfn.RANK.EQ(D30,D$27:D$31,0) -> 4 | E37: =_xlfn.RANK.EQ(E30,E$27:E$31,0) -> 4 | F37: =_xlfn.RANK.EQ(F30,F$27:F$31,0) -> 4 | G37: =_xlfn.RANK.EQ(G30,G$27:G$31,0) -> 4 | H37: =_xlfn.RANK.EQ(H30,H$27:H$31,0) -> 4 | I37: =_xlfn.RANK.EQ(I30,I$27:I$31,0) -> 4 | J37: =_xlfn.RANK.EQ(J30,J$27:J$31,0) -> 4 | K37: =_xlfn.RANK.EQ(K30,K$27:K$31,0) -> 4 | ... Q37: =_xlfn.RANK.EQ(Q30,Q$27:Q$31,0) -> 4 | T37: =_xlfn.RANK.EQ(T30,T$27:T$31,0) -> 4 | U37: =_xlfn.RANK.EQ(U30,U$27:U$31,0) -> 4 | V37: =_xlfn.RANK.EQ(V30,V$27:V$31,0) -> 4 | W37: =_xlfn.RANK.EQ(W30,W$27:W$31,0) -> 4
D38: =_xlfn.RANK.EQ(D31,D$27:D$31,0) -> 5 | E38: =_xlfn.RANK.EQ(E31,E$27:E$31,0) -> 4 | F38: =_xlfn.RANK.EQ(F31,F$27:F$31,0) -> 5 | G38: =_xlfn.RANK.EQ(G31,G$27:G$31,0) -> 5 | H38: =_xlfn.RANK.EQ(H31,H$27:H$31,0) -> 5 | I38: =_xlfn.RANK.EQ(I31,I$27:I$31,0) -> 5 | J38: =_xlfn.RANK.EQ(J31,J$27:J$31,0) -> 5 | K38: =_xlfn.RANK.EQ(K31,K$27:K$31,0) -> 5 | L38: =_xlfn.RANK.EQ(L31,L$27:L$31,0) -> 5 | M38: ='貼_肉(1)'!BA22 -> 6 | N38: =_xlfn.RANK.EQ(N31,N$27:N$31,0) -> 5 | O38: ='貼_採卵鶏(1)'!X23 -> 7 | P38: =_xlfn.RANK.EQ(P31,P$27:P$31,0) -> 5 | Q38: =_xlfn.RANK.EQ(Q31,Q$27:Q$31,0) -> 5 | T38: =_xlfn.RANK.EQ(T31,T$27:T$31,0) -> 5 | U38: =_xlfn.RANK.EQ(U31,U$27:U$31,0) -> 5 | V38: =_xlfn.RANK.EQ(V31,V$27:V$31,0) -> 5 | W38: =_xlfn.RANK.EQ(W31,W$27:W$31,0) -> 5
B41: 〈表頭２〉のデータ | C41: 都道府県名 1 | D41: =貼_たまねぎ!AD15 -> 兵庫 | E41: =貼_かぼちゃ!$AD15 -> 千葉 | F41: =貼_スイートコーン!$AD15 -> 埼玉 | G41: =貼_やまのいも!$AD15 -> 北海道 | H41: =貼_にんじん!AE15 -> 徳島 | I41: =貼_アスパラガス!AD15 -> 熊本 | J41: =貼_ブロッコリー!AD15 -> 愛知 | K41: =貼_だいこん!$AD15 -> 徳島 | L41: ='貼_乳(1)'!AM21 -> 北海道 | M41: ='貼_肉(1)'!BL17 -> 北海道 | N41: ='貼_豚(1)'!AK19 -> 鹿児島 | O41: ='貼_採卵鶏(1)'!AI17 -> 千葉 | P41: =貼_乳製品向け処理量!AA13 -> 北海道 | Q41: =貼_海面漁業!CU10 -> 北海道 | R41: =貼_海面漁業!DV10 -> 北海道 | S41: =貼_海面養殖業!BJ11 -> 北海道 | T41: =貼_農業生産関連事業!AO11 -> 長野 | U41: =貼_漁業生産関連事業!AE11 -> 北海道 | V41: =貼_林業産出額!AV9 -> 北海道 | W41: =貼_漁業産出額!DF9 -> 北海道
C42: 2 | D42: =貼_たまねぎ!AD16 -> 愛知 | E42: =貼_かぼちゃ!AD16 -> 茨城 | F42: =貼_スイートコーン!$AD16 -> 茨城 | G42: =貼_やまのいも!$AD16 -> 鳥取 | H42: =貼_にんじん!AE16 -> 愛知 | I42: =貼_アスパラガス!AD16 -> 佐賀 | J42: =貼_ブロッコリー!AD16 -> 大阪 | K42: =貼_だいこん!$AD16 -> 和歌山 | L42: ='貼_乳(1)'!AM22 -> 栃木 | M42: ='貼_肉(1)'!BL18 -> 鹿児島 | N42: ='貼_豚(1)'!AK20 -> 北海道 | O42: ='貼_採卵鶏(1)'!AI18 -> 茨城 | P42: =貼_乳製品向け処理量!AA14 -> 茨城 | Q42: =貼_海面漁業!CU11 -> 長崎 | R42: =貼_海面漁業!DV11 -> 青森 | S42: =貼_海面養殖業!BJ12 -> 岩手 | T42: =貼_農業生産関連事業!AO12 -> 北海道 | U42: =貼_漁業生産関連事業!AE12 -> 長崎 | V42: =貼_林業産出額!AV10 -> 宮崎 | W42: =貼_漁業産出額!DF10 -> 長崎
C43: 3 | D43: =貼_たまねぎ!AD17 -> 北海道 | E43: =貼_かぼちゃ!AD17 -> 神奈川 | F43: =貼_スイートコーン!$AD17 -> 山梨 | G43: =貼_やまのいも!$AD17 -> 茨城 | H43: =貼_にんじん!AE17 -> 長崎 | I43: =貼_アスパラガス!AD17 -> 福岡 | J43: =貼_ブロッコリー!AD17 -> 埼玉 | K43: =貼_だいこん!$AD17 -> 神奈川 | L43: ='貼_乳(1)'!AM23 -> 熊本 | M43: ='貼_肉(1)'!BL19 -> 宮崎 | N43: ='貼_豚(1)'!AK21 -> 宮崎 | O43: ='貼_採卵鶏(1)'!AI19 -> 鹿児島 | P43: =貼_乳製品向け処理量!AA15 -> 熊本 | Q43: =貼_海面漁業!CU12 -> 茨城 | R43: =貼_海面漁業!DV12 -> 岩手 | S43: - | T43: =貼_農業生産関連事業!AO13 -> 静岡 | U43: =貼_漁業生産関連事業!AE13 -> 鹿児島 | V43: =貼_林業産出額!AV11 -> 岩手 | W43: =貼_漁業産出額!DF11 -> 宮城
C44: 4 | D44: =貼_たまねぎ!AD18 -> 香川 | E44: =貼_かぼちゃ!AD18 -> 岡山 | F44: =貼_スイートコーン!$AD18 -> 愛知 | G44: =貼_やまのいも!$AD18 -> 長野 | H44: =貼_にんじん!AE18 -> 千葉 | I44: =貼_アスパラガス!AD18 -> 長崎 | J44: =貼_ブロッコリー!AD18 -> 徳島 | K44: =貼_だいこん!$AD18 -> 長崎 | L44: ='貼_乳(1)'!AM24 -> 岩手 | M44: ='貼_肉(1)'!BL20 -> 熊本 | N44: ='貼_豚(1)'!AK22 -> 群馬 | O44: ='貼_採卵鶏(1)'!AI20 -> 岡山 | P44: =貼_乳製品向け処理量!AA16 -> 岩手 | Q44: =貼_海面漁業!CU13 -> 宮城 | T44: =貼_農業生産関連事業!AO14 -> 千葉 | U44: =貼_漁業生産関連事業!AE14 -> 静岡 | V44: =貼_林業産出額!AV12 -> 熊本 | W44: =貼_漁業産出額!DF12 -> 静岡
C45: 5 | D45: =貼_たまねぎ!AD19 -> 富山 | E45: =貼_かぼちゃ!AD22 -> 北海道 | F45: =貼_スイートコーン!$AD19 -> 北海道 | G45: =貼_やまのいも!$AD19 -> 青森 | H45: =貼_にんじん!AE21 -> 北海道 | I45: =貼_アスパラガス!AD27 -> 北海道 | J45: =貼_ブロッコリー!AD37 -> 北海道 | K45: =貼_だいこん!$AD20 -> 北海道 | L45: ='貼_乳(1)'!AM25 -> 群馬 | M45: ='貼_肉(1)'!BL21 -> 長崎 | N45: ='貼_豚(1)'!AK23 -> 千葉 | O45: ='貼_採卵鶏(1)'!AI27 -> 北海道 | P45: =貼_乳製品向け処理量!AA17 -> 福島 | Q45: =貼_海面漁業!CU14 -> 静岡 | T45: =貼_農業生産関連事業!AO15 -> 茨城 | U45: =貼_漁業生産関連事業!AE15 -> 福井 | V45: =貼_林業産出額!AV13 -> 大分 | W45: =貼_漁業産出額!DF13 -> 青森
...

Sheet 野菜→

Sheet 貼_たまねぎ
A3: ３ 令和５年産都道府県別の作付面積、10ａ当たり収量、収穫量及び出荷量
A5: (25) たまねぎ
C9: 作付面積 | D9: 10ａ当たり 収 量 | E9: 収穫量 | F9: 出荷量 | G9: 対前年産比
A10: 全国農業地域 | K10: (参考)
A11: ・ | G11: 作付面積 | H11: 10ａ当たり 収 量 | I11: 収穫量 | J11: 出荷量 | K11: 対平均 収量比 | N11: たまねぎ(XLOOKUP)
A12: 都 道 府 県
N13: 作付面積 | X13: 10a当たり収量 | AH13: 収穫量
C14: ha | D14: kg | E14: ｔ | F14: ｔ | G14: ％ | H14: ％ | I14: ％ | J14: ％ | K14: ％
A15: 全国 | C15: 25500 | D15: 4600 | E15: 1174000 | F15: 1066000 | G15: 101 | H15: 95 | I15: 96 | J15: 96 | K15: 96 | N15: 1 | O15: 北海道 | P15: =IFERROR(_xlfn.XLOOKUP(O15,$A$29:$A$75,$C$29:$C$75),"-") -> 14900 | Q15: =IFERROR(_xlfn.RANK.EQ(P15,$P$15:$P$61,0)+COUNTIF($P$15:P15,P15)-1,"-") -> 1 | S15: =IFERROR(RANK(U15,$U$15:$U$61,0),"-") -> 1 | T15: =IFERROR(INDEX($O$15:$O$61,MATCH(N15,$Q$15:$Q$61,0)),"-") -> 北海道 | U15: =IFERROR(LARGE($P$15:$P$61,N15),"-") -> 14900 | V15: =IFERROR(ROUND(U15/$C$15*100,1),"-") -> 58.4 | X15: 1 | Y15: 北海道 | Z15: =IFERROR(_xlfn.XLOOKUP(Y15,$A$29:$A$75,$D$29:$D$75),"-") -> 5050 | AA15: =IFERROR(_xlfn.RANK.EQ(Z15,$Z$15:$Z$61,0)+COUNTIF($Z$15:Z15,Z15)-1,"-") -> 3 | AC15: =IFERROR(RANK(AE15,$AE$15:$AE$61,0),"-") -> 1 | AD15: =IFERROR(INDEX($Y$15:$Y$61,MATCH(X15,$AA$15:$AA$61,0)),"-") -> 兵庫 | AE15: =IFERROR(LARGE($Z$15:$Z$61,X15),"-") -> 5930 | AF15: =IFERROR(ROUND(AE15/$D$15*100,1),"-") -> 128.9 | AH15: 1 | AI15: 北海道 | AJ15: =IFERROR(_xlfn.XLOOKUP(AI15,$A$29:$A$75,$E$29:$E$75),"-") -> 752500 | AK15: =IFERROR(_xlfn.RANK.EQ(AJ15,$AJ$15:$AJ$61,0)+COUNTIF($AJ$15:AJ15,AJ15)-1,"-") -> 1 | AM15: =IFERROR(RANK(AO15,$AO$15:$AO$61,0),"-") -> 1 | AN15: =IFERROR(INDEX($AI$15:$AI$61,MATCH(AH15,$AK$15:$AK$61,0)),"-") -> 北海道 | AO15: =IFERROR(LARGE($AJ$15:$AJ$61,AH15),"-") -> 752500 | AP15: =IFERROR(ROUND(AO15/$E$15*100,1),"-") -> 64.1
A16: （全国農業地域） | N16: 2 | O16: 青森 | P16: =IFERROR(_xlfn.XLOOKUP(O16,$A$29:$A$75,$C$29:$C$75),"-") -> … | Q16: =IFERROR(_xlfn.RANK.EQ(P16,$P$15:$P$61,0)+COUNTIF($P$15:P16,P16)-1,"-") -> - | S16: =IFERROR(RANK(U16,$U$15:$U$61,0),"-") -> 2 | T16: =IFERROR(INDEX($O$15:$O$61,MATCH(N16,$Q$15:$Q$61,0)),"-") -> 佐賀 | U16: =IFERROR(LARGE($P$15:$P$61,N16),"-") -> 2130 | V16: =IFERROR(ROUND(U16/$C$15*100,1),"-") -> 8.4 | X16: 2 | Y16: 青森 | Z16: =IFERROR(_xlfn.XLOOKUP(Y16,$A$29:$A$75,$D$29:$D$75),"-") -> … | AA16: =IFERROR(_xlfn.RANK.EQ(Z16,$Z$15:$Z$61,0)+COUNTIF($Z$15:Z16,Z16)-1,"-") -> - | AC16: =IFERROR(RANK(AE16,$AE$15:$AE$61,0),"-") -> 2 | AD16: =IFERROR(INDEX($Y$15:$Y$61,MATCH(X16,$AA$15:$AA$61,0)),"-") -> 愛知 | AE16: =IFERROR(LARGE($Z$15:$Z$61,X16),"-") -> 5190 | AF16: =IFERROR(ROUND(AE16/$D$15*100,1),"-") -> 112.8 | AH16: 2 | AI16: 青森 | AJ16: =IFERROR(_xlfn.XLOOKUP(AI16,$A$29:$A$75,$E$29:$E$75),"-") -> … | AK16: =IFERROR(_xlfn.RANK.EQ(AJ16,$AJ$15:$AJ$61,0)+COUNTIF($AJ$15:AJ16,AJ16)-1,"-") -> - | AM16: =IFERROR(RANK(AO16,$AO$15:$AO$61,0),"-") -> 2 | AN16: =IFERROR(INDEX($AI$15:$AI$61,MATCH(AH16,$AK$15:$AK$61,0)),"-") -> 兵庫 | AO16: =IFERROR(LARGE($AJ$15:$AJ$61,AH16),"-") -> 97800 | AP16: =IFERROR(ROUND(AO16/$E$15*100,1),"-") -> 8.3
A17: 北海道 | C17: 14900 | D17: 5050 | E17: 752500 | F17: 706600 | G17: 101 | H17: 91 | I17: 91 | J17: 91 | K17: 91 | N17: 3 | O17: 岩手 | P17: =IFERROR(_xlfn.XLOOKUP(O17,$A$29:$A$75,$C$29:$C$75),"-") -> … | Q17: =IFERROR(_xlfn.RANK.EQ(P17,$P$15:$P$61,0)+COUNTIF($P$15:P17,P17)-1,"-") -> - | S17: =IFERROR(RANK(U17,$U$15:$U$61,0),"-") -> 3 | T17: =IFERROR(INDEX($O$15:$O$61,MATCH(N17,$Q$15:$Q$61,0)),"-") -> 兵庫 | U17: =IFERROR(LARGE($P$15:$P$61,N17),"-") -> 1650 | V17: =IFERROR(ROUND(U17/$C$15*100,1),"-") -> 6.5 | X17: 3 | Y17: 岩手 | Z17: =IFERROR(_xlfn.XLOOKUP(Y17,$A$29:$A$75,$D$29:$D$75),"-") -> … | AA17: =IFERROR(_xlfn.RANK.EQ(Z17,$Z$15:$Z$61,0)+COUNTIF($Z$15:Z17,Z17)-1,"-") -> - | AC17: =IFERROR(RANK(AE17,$AE$15:$AE$61,0),"-") -> 3 | AD17: =IFERROR(INDEX($Y$15:$Y$61,MATCH(X17,$AA$15:$AA$61,0)),"-") -> 北海道 | AE17: =IFERROR(LARGE($Z$15:$Z$61,X17),"-") -> 5050 | AF17: =IFERROR(ROUND(AE17/$D$15*100,1),"-") -> 109.8 | AH17: 3 | AI17: 岩手 | AJ17: =IFERROR(_xlfn.XLOOKUP(AI17,$A$29:$A$75,$E$29:$E$75),"-") -> … | AK17: =IFERROR(_xlfn.RANK.EQ(AJ17,$AJ$15:$AJ$61,0)+COUNTIF($AJ$15:AJ17,AJ17)-1,"-") -> - | AM17: =IFERROR(RANK(AO17,$AO$15:$AO$61,0),"-") -> 3 | AN17: =IFERROR(INDEX($AI$15:$AI$61,MATCH(AH17,$AK$15:$AK$61,0)),"-") -> 佐賀 | AO17: =IFERROR(LARGE($AJ$15:$AJ$61,AH17),"-") -> 97600 | AP17: =IFERROR(ROUND(AO17/$E$15*100,1),"-") -> 8.3
A18: 都府県 | C18: … | D18: … | E18: … | F18: … | G18: nc | H18: nc | I18: nc | J18: nc | K18: nc | N18: 4 | O18: 宮城 | P18: =IFERROR(_xlfn.XLOOKUP(O18,$A$29:$A$75,$C$29:$C$75),"-") -> … | Q18: =IFERROR(_xlfn.RANK.EQ(P18,$P$15:$P$61,0)+COUNTIF($P$15:P18,P18)-1,"-") -> - | S18: =IFERROR(RANK(U18,$U$15:$U$61,0),"-") -> 4 | T18: =IFERROR(INDEX($O$15:$O$61,MATCH(N18,$Q$15:$Q$61,0)),"-") -> 長崎 | U18: =IFERROR(LARGE($P$15:$P$61,N18),"-") -> 762 | V18: =IFERROR(ROUND(U18/$C$15*100,1),"-") -> 3 | X18: 4 | Y18: 宮城 | Z18: =IFERROR(_xlfn.XLOOKUP(Y18,$A$29:$A$75,$D$29:$D$75),"-") -> … | AA18: =IFERROR(_xlfn.RANK.EQ(Z18,$Z$15:$Z$61,0)+COUNTIF($Z$15:Z18,Z18)-1,"-") -> - | AC18: =IFERROR(RANK(AE18,$AE$15:$AE$61,0),"-") -> 4 | AD18: =IFERROR(INDEX($Y$15:$Y$61,MATCH(X18,$AA$15:$AA$61,0)),"-") -> 香川 | AE18: =IFERROR(LARGE($Z$15:$Z$61,X18),"-") -> 5020 | AF18: =IFERROR(ROUND(AE18/$D$15*100,1),"-") -> 109.1 | AH18: 4 | AI18: 宮城 | AJ18: =IFERROR(_xlfn.XLOOKUP(AI18,$A$29:$A$75,$E$29:$E$75),"-") -> … | AK18: =IFERROR(_xlfn.RANK.EQ(AJ18,$AJ$15:$AJ$61,0)+COUNTIF($AJ$15:AJ18,AJ18)-1,"-") -> - | AM18: =IFERROR(RANK(AO18,$AO$15:$AO$61,0),"-") -> 4 | AN18: =IFERROR(INDEX($AI$15:$AI$61,MATCH(AH18,$AK$15:$AK$61,0)),"-") -> 長崎 | AO18: =IFERROR(LARGE($AJ$15:$AJ$61,AH18),"-") -> 29900 | AP18: =IFERROR(ROUND(AO18/$E$15*100,1),"-") -> 2.5
A19: 東北 | C19: … | D19: … | E19: … | F19: … | G19: nc | H19: nc | I19: nc | J19: nc | K19: nc | N19: 5 | O19: 秋田 | P19: =IFERROR(_xlfn.XLOOKUP(O19,$A$29:$A$75,$C$29:$C$75),"-") -> … | Q19: =IFERROR(_xlfn.RANK.EQ(P19,$P$15:$P$61,0)+COUNTIF($P$15:P19,P19)-1,"-") -> - | S19: =IFERROR(RANK(U19,$U$15:$U$61,0),"-") -> 5 | T19: =IFERROR(INDEX($O$15:$O$61,MATCH(N19,$Q$15:$Q$61,0)),"-") -> 愛知 | U19: =IFERROR(LARGE($P$15:$P$61,N19),"-") -> 468 | V19: =IFERROR(ROUND(U19/$C$15*100,1),"-") -> 1.8 | X19: 5 | Y19: 秋田 | Z19: =IFERROR(_xlfn.XLOOKUP(Y19,$A$29:$A$75,$D$29:$D$75),"-") -> … | AA19: =IFERROR(_xlfn.RANK.EQ(Z19,$Z$15:$Z$61,0)+COUNTIF($Z$15:Z19,Z19)-1,"-") -> - | AC19: =IFERROR(RANK(AE19,$AE$15:$AE$61,0),"-") -> 5 | AD19: =IFERROR(INDEX($Y$15:$Y$61,MATCH(X19,$AA$15:$AA$61,0)),"-") -> 富山 | AE19: =IFERROR(LARGE($Z$15:$Z$61,X19),"-") -> 4950 | AF19: =IFERROR(ROUND(AE19/$D$15*100,1),"-") -> 107.6 | AH19: 5 | AI19: 秋田 | AJ19: =IFERROR(_xlfn.XLOOKUP(AI19,$A$29:$A$75,$E$29:$E$75),"-") -> … | AK19: =IFERROR(_xlfn.RANK.EQ(AJ19,$AJ$15:$AJ$61,0)+COUNTIF($AJ$15:AJ19,AJ19)-1,"-") -> - | AM19: =IFERROR(RANK(AO19,$AO$15:$AO$61,0),"-") -> 5 | AN19: =IFERROR(INDEX($AI$15:$AI$61,MATCH(AH19,$AK$15:$AK$61,0)),"-") -> 愛知 | AO19: =IFERROR(LARGE($AJ$15:$AJ$61,AH19),"-") -> 24300 | AP19: =IFERROR(ROUND(AO19/$E$15*100,1),"-") -> 2.1
A20: 北陸 | C20: … | D20: … | E20: … | F20: … | G20: nc | H20: nc | I20: nc | J20: nc | K20: nc | N20: 6 | O20: 山形 | P20: =IFERROR(_xlfn.XLOOKUP(O20,$A$29:$A$75,$C$29:$C$75),"-") -> … | Q20: =IFERROR(_xlfn.RANK.EQ(P20,$P$15:$P$61,0)+COUNTIF($P$15:P20,P20)-1,"-") -> - | S20: =IFERROR(RANK(U20,$U$15:$U$61,0),"-") -> 6 | T20: =IFERROR(INDEX($O$15:$O$61,MATCH(N20,$Q$15:$Q$61,0)),"-") -> 静岡 | U20: =IFERROR(LARGE($P$15:$P$61,N20),"-") -> 324 | V20: =IFERROR(ROUND(U20/$C$15*100,1),"-") -> 1.3 | X20: 6 | Y20: 山形 | Z20: =IFERROR(_xlfn.XLOOKUP(Y20,$A$29:$A$75,$D$29:$D$75),"-") -> … | AA20: =IFERROR(_xlfn.RANK.EQ(Z20,$Z$15:$Z$61,0)+COUNTIF($Z$15:Z20,Z20)-1,"-") -> - | AC20: =IFERROR(RANK(AE20,$AE$15:$AE$61,0),"-") -> 6 | AD20: =IFERROR(INDEX($Y$15:$Y$61,MATCH(X20,$AA$15:$AA$61,0)),"-") -> 栃木 | AE20: =IFERROR(LARGE($Z$15:$Z$61,X20),"-") -> 4580 | AF20: =IFERROR(ROUND(AE20/$D$15*100,1),"-") -> 99.6 | AH20: 6 | AI20: 山形 | AJ20: =IFERROR(_xlfn.XLOOKUP(AI20,$A$29:$A$75,$E$29:$E$75),"-") -> … | AK20: =IFERROR(_xlfn.RANK.EQ(AJ20,$AJ$15:$AJ$61,0)+COUNTIF($AJ$15:AJ20,AJ20)-1,"-") -> - | AM20: =IFERROR(RANK(AO20,$AO$15:$AO$61,0),"-") -> 6 | AN20: =IFERROR(INDEX($AI$15:$AI$61,MATCH(AH20,$AK$15:$AK$61,0)),"-") -> 静岡 | AO20: =IFERROR(LARGE($AJ$15:$AJ$61,AH20),"-") -> 13200 | AP20: =IFERROR(ROUND(AO20/$E$15*100,1),"-") -> 1.1
A21: 関東・東山 | C21: … | D21: … | E21: … | F21: … | G21: nc | H21: nc | I21: nc | J21: nc | K21: nc | N21: 7 | O21: 福島 | P21: =IFERROR(_xlfn.XLOOKUP(O21,$A$29:$A$75,$C$29:$C$75),"-") -> 170 | Q21: =IFERROR(_xlfn.RANK.EQ(P21,$P$15:$P$61,0)+COUNTIF($P$15:P21,P21)-1,"-") -> 15 | S21: =IFERROR(RANK(U21,$U$15:$U$61,0),"-") -> 7 | T21: =IFERROR(INDEX($O$15:$O$61,MATCH(N21,$Q$15:$Q$61,0)),"-") -> 熊本 | U21: =IFERROR(LARGE($P$15:$P$61,N21),"-") -> 305 | V21: =IFERROR(ROUND(U21/$C$15*100,1),"-") -> 1.2 | X21: 7 | Y21: 福島 | Z21: =IFERROR(_xlfn.XLOOKUP(Y21,$A$29:$A$75,$D$29:$D$75),"-") -> 1730 | AA21: =IFERROR(_xlfn.RANK.EQ(Z21,$Z$15:$Z$61,0)+COUNTIF($Z$15:Z21,Z21)-1,"-") -> 25 | AC21: =IFERROR(RANK(AE21,$AE$15:$AE$61,0),"-") -> 6 | AD21: =IFERROR(INDEX($Y$15:$Y$61,MATCH(X21,$AA$15:$AA$61,0)),"-") -> 佐賀 | AE21: =IFERROR(LARGE($Z$15:$Z$61,X21),"-") -> 4580 | AF21: =IFERROR(ROUND(AE21/$D$15*100,1),"-") -> 99.6 | AH21: 7 | AI21: 福島 | AJ21: =IFERROR(_xlfn.XLOOKUP(AI21,$A$29:$A$75,$E$29:$E$75),"-") -> 2940 | AK21: =IFERROR(_xlfn.RANK.EQ(AJ21,$AJ$15:$AJ$61,0)+COUNTIF($AJ$15:AJ21,AJ21)-1,"-") -> 24 | AM21: =IFERROR(RANK(AO21,$AO$15:$AO$61,0),"-") -> 7 | AN21: =IFERROR(INDEX($AI$15:$AI$61,MATCH(AH21,$AK$15:$AK$61,0)),"-") -> 熊本 | AO21: =IFERROR(LARGE($AJ$15:$AJ$61,AH21),"-") -> 11700 | AP21: =IFERROR(ROUND(AO21/$E$15*100,1),"-") -> 1
A22: 東海 | C22: 1010 | D22: 4260 | E22: 43000 | F22: 37000 | G22: 99 | H22: 101 | I22: 100 | J22: 101 | K22: 102 | N22: 8 | O22: 茨城 | P22: =IFERROR(_xlfn.XLOOKUP(O22,$A$29:$A$75,$C$29:$C$75),"-") -> 175 | Q22: =IFERROR(_xlfn.RANK.EQ(P22,$P$15:$P$61,0)+COUNTIF($P$15:P22,P22)-1,"-") -> 13 | S22: =IFERROR(RANK(U22,$U$15:$U$61,0),"-") -> 8 | T22: =IFERROR(INDEX($O$15:$O$61,MATCH(N22,$Q$15:$Q$61,0)),"-") -> 栃木 | U22: =IFERROR(LARGE($P$15:$P$61,N22),"-") -> 230 | V22: =IFERROR(ROUND(U22/$C$15*100,1),"-") -> 0.9 | X22: 8 | Y22: 茨城 | Z22: =IFERROR(_xlfn.XLOOKUP(Y22,$A$29:$A$75,$D$29:$D$75),"-") -> 3260 | AA22: =IFERROR(_xlfn.RANK.EQ(Z22,$Z$15:$Z$61,0)+COUNTIF($Z$15:Z22,Z22)-1,"-") -> 18 | AC22: =IFERROR(RANK(AE22,$AE$15:$AE$61,0),"-") -> 8 | AD22: =IFERROR(INDEX($Y$15:$Y$61,MATCH(X22,$AA$15:$AA$61,0)),"-") -> 和歌山 | AE22: =IFERROR(LARGE($Z$15:$Z$61,X22),"-") -> 4460 | AF22: =IFERROR(ROUND(AE22/$D$15*100,1),"-") -> 97 | AH22: 8 | AI22: 茨城 | AJ22: =IFERROR(_xlfn.XLOOKUP(AI22,$A$29:$A$75,$E$29:$E$75),"-") -> 5710 | AK22: =IFERROR(_xlfn.RANK.EQ(AJ22,$AJ$15:$AJ$61,0)+COUNTIF($AJ$15:AJ22,AJ22)-1,"-") -> 15 | AM22: =IFERROR(RANK(AO22,$AO$15:$AO$61,0),"-") -> 8 | AN22: =IFERROR(INDEX($AI$15:$AI$61,MATCH(AH22,$AK$15:$AK$61,0)),"-") -> 栃木 | AO22: =IFERROR(LARGE($AJ$15:$AJ$61,AH22),"-") -> 10500 | AP22: =IFERROR(ROUND(AO22/$E$15*100,1),"-") -> 0.9
A23: 近畿 | C23: … | D23: … | E23: … | F23: … | G23: nc | H23: nc | I23: nc | J23: nc | K23: nc | N23: 9 | O23: 栃木 | P23: =IFERROR(_xlfn.XLOOKUP(O23,$A$29:$A$75,$C$29:$C$75),"-") -> 230 | Q23: =IFERROR(_xlfn.RANK.EQ(P23,$P$15:$P$61,0)+COUNTIF($P$15:P23,P23)-1,"-") -> 8 | S23: =IFERROR(RANK(U23,$U$15:$U$61,0),"-") -> 9 | T23: =IFERROR(INDEX($O$15:$O$61,MATCH(N23,$Q$15:$Q$61,0)),"-") -> 愛媛 | U23: =IFERROR(LARGE($P$15:$P$61,N23),"-") -> 215 | V23: =IFERROR(ROUND(U23/$C$15*100,1),"-") -> 0.8 | X23: 9 | Y23: 栃木 | Z23: =IFERROR(_xlfn.XLOOKUP(Y23,$A$29:$A$75,$D$29:$D$75),"-") -> 4580 | AA23: =IFERROR(_xlfn.RANK.EQ(Z23,$Z$15:$Z$61,0)+COUNTIF($Z$15:Z23,Z23)-1,"-") -> 6 | AC23: =IFERROR(RANK(AE23,$AE$15:$AE$61,0),"-") -> 9 | AD23: =IFERROR(INDEX($Y$15:$Y$61,MATCH(X23,$AA$15:$AA$61,0)),"-") -> 群馬 | AE23: =IFERROR(LARGE($Z$15:$Z$61,X23),"-") -> 4250 | AF23: =IFERROR(ROUND(AE23/$D$15*100,1),"-") -> 92.4 | AH23: 9 | AI23: 栃木 | AJ23: =IFERROR(_xlfn.XLOOKUP(AI23,$A$29:$A$75,$E$29:$E$75),"-") -> 10500 | AK23: =IFERROR(_xlfn.RANK.EQ(AJ23,$AJ$15:$AJ$61,0)+COUNTIF($AJ$15:AJ23,AJ23)-1,"-") -> 8 | AM23: =IFERROR(RANK(AO23,$AO$15:$AO$61,0),"-") -> 9 | AN23: =IFERROR(INDEX($AI$15:$AI$61,MATCH(AH23,$AK$15:$AK$61,0)),"-") -> 香川 | AO23: =IFERROR(LARGE($AJ$15:$AJ$61,AH23),"-") -> 9540 | AP23: =IFERROR(ROUND(AO23/$E$15*100,1),"-") -> 0.8
A24: 中国 | C24: … | D24: … | E24: … | F24: … | G24: nc | H24: nc | I24: nc | J24: nc | K24: nc | N24: 10 | O24: 群馬 | P24: =IFERROR(_xlfn.XLOOKUP(O24,$A$29:$A$75,$C$29:$C$75),"-") -> 187 | Q24: =IFERROR(_xlfn.RANK.EQ(P24,$P$15:$P$61,0)+COUNTIF($P$15:P24,P24)-1,"-") -> 12 | S24: =IFERROR(RANK(U24,$U$15:$U$61,0),"-") -> 10 | T24: =IFERROR(INDEX($O$15:$O$61,MATCH(N24,$Q$15:$Q$61,0)),"-") -> 香川 | U24: =IFERROR(LARGE($P$15:$P$61,N24),"-") -> 190 | V24: =IFERROR(ROUND(U24/$C$15*100,1),"-") -> 0.7 | X24: 10 | Y24: 群馬 | Z24: =IFERROR(_xlfn.XLOOKUP(Y24,$A$29:$A$75,$D$29:$D$75),"-") -> 4250 | AA24: =IFERROR(_xlfn.RANK.EQ(Z24,$Z$15:$Z$61,0)+COUNTIF($Z$15:Z24,Z24)-1,"-") -> 9 | AC24: =IFERROR(RANK(AE24,$AE$15:$AE$61,0),"-") -> 10 | AD24: =IFERROR(INDEX($Y$15:$Y$61,MATCH(X24,$AA$15:$AA$61,0)),"-") -> 静岡 | AE24: =IFERROR(LARGE($Z$15:$Z$61,X24),"-") -> 4080 | AF24: =IFERROR(ROUND(AE24/$D$15*100,1),"-") -> 88.7 | AH24: 10 | AI24: 群馬 | AJ24: =IFERROR(_xlfn.XLOOKUP(AI24,$A$29:$A$75,$E$29:$E$75),"-") -> 7950 | AK24: =IFERROR(_xlfn.RANK.EQ(AJ24,$AJ$15:$AJ$61,0)+COUNTIF($AJ$15:AJ24,AJ24)-1,"-") -> 11 | AM24: =IFERROR(RANK(AO24,$AO$15:$AO$61,0),"-") -> 10 | AN24: =IFERROR(INDEX($AI$15:$AI$61,MATCH(AH24,$AK$15:$AK$61,0)),"-") -> 富山 | AO24: =IFERROR(LARGE($AJ$15:$AJ$61,AH24),"-") -> 9360 | AP24: =IFERROR(ROUND(AO24/$E$15*100,1),"-") -> 0.8
A25: 四国 | C25: … | D25: … | E25: … | F25: … | G25: nc | H25: nc | I25: nc | J25: nc | K25: nc | N25: 11 | O25: 埼玉 | P25: =IFERROR(_xlfn.XLOOKUP(O25,$A$29:$A$75,$C$29:$C$75),"-") -> 141 | Q25: =IFERROR(_xlfn.RANK.EQ(P25,$P$15:$P$61,0)+COUNTIF($P$15:P25,P25)-1,"-") -> 20 | S25: =IFERROR(RANK(U25,$U$15:$U$61,0),"-") -> 11 | T25: =IFERROR(INDEX($O$15:$O$61,MATCH(N25,$Q$15:$Q$61,0)),"-") -> 富山 | U25: =IFERROR(LARGE($P$15:$P$61,N25),"-") -> 189 | V25: =IFERROR(ROUND(U25/$C$15*100,1),"-") -> 0.7 | X25: 11 | Y25: 埼玉 | Z25: =IFERROR(_xlfn.XLOOKUP(Y25,$A$29:$A$75,$D$29:$D$75),"-") -> 3460 | AA25: =IFERROR(_xlfn.RANK.EQ(Z25,$Z$15:$Z$61,0)+COUNTIF($Z$15:Z25,Z25)-1,"-") -> 15 | AC25: =IFERROR(RANK(AE25,$AE$15:$AE$61,0),"-") -> 11 | AD25: =IFERROR(INDEX($Y$15:$Y$61,MATCH(X25,$AA$15:$AA$61,0)),"-") -> 長崎 | AE25: =IFERROR(LARGE($Z$15:$Z$61,X25),"-") -> 3930 | AF25: =IFERROR(ROUND(AE25/$D$15*100,1),"-") -> 85.4 | AH25: 11 | AI25: 埼玉 | AJ25: =IFERROR(_xlfn.XLOOKUP(AI25,$A$29:$A$75,$E$29:$E$75),"-") -> 4880 | AK25: =IFERROR(_xlfn.RANK.EQ(AJ25,$AJ$15:$AJ$61,0)+COUNTIF($AJ$15:AJ25,AJ25)-1,"-") -> 17 | AM25: =IFERROR(RANK(AO25,$AO$15:$AO$61,0),"-") -> 11 | AN25: =IFERROR(INDEX($AI$15:$AI$61,MATCH(AH25,$AK$15:$AK$61,0)),"-") -> 群馬 | AO25: =IFERROR(LARGE($AJ$15:$AJ$61,AH25),"-") -> 7950 | AP25: =IFERROR(ROUND(AO25/$E$15*100,1),"-") -> 0.7
A26: 九州 | C26: … | D26: … | E26: … | F26: … | G26: nc | H26: nc | I26: nc | J26: nc | K26: nc | N26: 12 | O26: 千葉 | P26: =IFERROR(_xlfn.XLOOKUP(O26,$A$29:$A$75,$C$29:$C$75),"-") -> 168 | Q26: =IFERROR(_xlfn.RANK.EQ(P26,$P$15:$P$61,0)+COUNTIF($P$15:P26,P26)-1,"-") -> 16 | S26: =IFERROR(RANK(U26,$U$15:$U$61,0),"-") -> 12 | T26: =IFERROR(INDEX($O$15:$O$61,MATCH(N26,$Q$15:$Q$61,0)),"-") -> 群馬 | U26: =IFERROR(LARGE($P$15:$P$61,N26),"-") -> 187 | V26: =IFERROR(ROUND(U26/$C$15*100,1),"-") -> 0.7 | X26: 12 | Y26: 千葉 | Z26: =IFERROR(_xlfn.XLOOKUP(Y26,$A$29:$A$75,$D$29:$D$75),"-") -> 3420 | AA26: =IFERROR(_xlfn.RANK.EQ(Z26,$Z$15:$Z$61,0)+COUNTIF($Z$15:Z26,Z26)-1,"-") -> 16 | AC26: =IFERROR(RANK(AE26,$AE$15:$AE$61,0),"-") -> 12 | AD26: =IFERROR(INDEX($Y$15:$Y$61,MATCH(X26,$AA$15:$AA$61,0)),"-") -> 熊本 | AE26: =IFERROR(LARGE($Z$15:$Z$61,X26),"-") -> 3850 | AF26: =IFERROR(ROUND(AE26/$D$15*100,1),"-") -> 83.7 | AH26: 12 | AI26: 千葉 | AJ26: =IFERROR(_xlfn.XLOOKUP(AI26,$A$29:$A$75,$E$29:$E$75),"-") -> 5750 | AK26: =IFERROR(_xlfn.RANK.EQ(AJ26,$AJ$15:$AJ$61,0)+COUNTIF($AJ$15:AJ26,AJ26)-1,"-") -> 14 | AM26: =IFERROR(RANK(AO26,$AO$15:$AO$61,0),"-") -> 12 | AN26: =IFERROR(INDEX($AI$15:$AI$61,MATCH(AH26,$AK$15:$AK$61,0)),"-") -> 愛媛 | AO26: =IFERROR(LARGE($AJ$15:$AJ$61,AH26),"-") -> 7160 | AP26: =IFERROR(ROUND(AO26/$E$15*100,1),"-") -> 0.6
A27: 沖縄 | C27: … | D27: … | E27: … | F27: … | G27: nc | H27: nc | I27: nc | J27: nc | K27: nc | N27: 13 | O27: 東京 | P27: =IFERROR(_xlfn.XLOOKUP(O27,$A$29:$A$75,$C$29:$C$75),"-") -> … | Q27: =IFERROR(_xlfn.RANK.EQ(P27,$P$15:$P$61,0)+COUNTIF($P$15:P27,P27)-1,"-") -> - | S27: =IFERROR(RANK(U27,$U$15:$U$61,0),"-") -> 13 | T27: =IFERROR(INDEX($O$15:$O$61,MATCH(N27,$Q$15:$Q$61,0)),"-") -> 茨城 | U27: =IFERROR(LARGE($P$15:$P$61,N27),"-") -> 175 | V27: =IFERROR(ROUND(U27/$C$15*100,1),"-") -> 0.7 | X27: 13 | Y27: 東京 | Z27: =IFERROR(_xlfn.XLOOKUP(Y27,$A$29:$A$75,$D$29:$D$75),"-") -> … | AA27: =IFERROR(_xlfn.RANK.EQ(Z27,$Z$15:$Z$61,0)+COUNTIF($Z$15:Z27,Z27)-1,"-") -> - | AC27: =IFERROR(RANK(AE27,$AE$15:$AE$61,0),"-") -> 13 | AD27: =IFERROR(INDEX($Y$15:$Y$61,MATCH(X27,$AA$15:$AA$61,0)),"-") -> 大阪 | AE27: =IFERROR(LARGE($Z$15:$Z$61,X27),"-") -> 3630 | AF27: =IFERROR(ROUND(AE27/$D$15*100,1),"-") -> 78.9 | AH27: 13 | AI27: 東京 | AJ27: =IFERROR(_xlfn.XLOOKUP(AI27,$A$29:$A$75,$E$29:$E$75),"-") -> … | AK27: =IFERROR(_xlfn.RANK.EQ(AJ27,$AJ$15:$AJ$61,0)+COUNTIF($AJ$15:AJ27,AJ27)-1,"-") -> - | AM27: =IFERROR(RANK(AO27,$AO$15:$AO$61,0),"-") -> 13 | AN27: =IFERROR(INDEX($AI$15:$AI$61,MATCH(AH27,$AK$15:$AK$61,0)),"-") -> 岡山 | AO27: =IFERROR(LARGE($AJ$15:$AJ$61,AH27),"-") -> 6120 | AP27: =IFERROR(ROUND(AO27/$E$15*100,1),"-") -> 0.5
A28: （都道府県） | N28: 14 | O28: 神奈川 | P28: =IFERROR(_xlfn.XLOOKUP(O28,$A$29:$A$75,$C$29:$C$75),"-") -> … | Q28: =IFERROR(_xlfn.RANK.EQ(P28,$P$15:$P$61,0)+COUNTIF($P$15:P28,P28)-1,"-") -> - | S28: =IFERROR(RANK(U28,$U$15:$U$61,0),"-") -> 14 | T28: =IFERROR(INDEX($O$15:$O$61,MATCH(N28,$Q$15:$Q$61,0)),"-") -> 岡山 | U28: =IFERROR(LARGE($P$15:$P$61,N28),"-") -> 174 | V28: =IFERROR(ROUND(U28/$C$15*100,1),"-") -> 0.7 | X28: 14 | Y28: 神奈川 | Z28: =IFERROR(_xlfn.XLOOKUP(Y28,$A$29:$A$75,$D$29:$D$75),"-") -> … | AA28: =IFERROR(_xlfn.RANK.EQ(Z28,$Z$15:$Z$61,0)+COUNTIF($Z$15:Z28,Z28)-1,"-") -> - | AC28: =IFERROR(RANK(AE28,$AE$15:$AE$61,0),"-") -> 14 | AD28: =IFERROR(INDEX($Y$15:$Y$61,MATCH(X28,$AA$15:$AA$61,0)),"-") -> 岡山 | AE28: =IFERROR(LARGE($Z$15:$Z$61,X28),"-") -> 3520 | AF28: =IFERROR(ROUND(AE28/$D$15*100,1),"-") -> 76.5 | AH28: 14 | AI28: 神奈川 | AJ28: =IFERROR(_xlfn.XLOOKUP(AI28,$A$29:$A$75,$E$29:$E$75),"-") -> … | AK28: =IFERROR(_xlfn.RANK.EQ(AJ28,$AJ$15:$AJ$61,0)+COUNTIF($AJ$15:AJ28,AJ28)-1,"-") -> - | AM28: =IFERROR(RANK(AO28,$AO$15:$AO$61,0),"-") -> 14 | AN28: =IFERROR(INDEX($AI$15:$AI$61,MATCH(AH28,$AK$15:$AK$61,0)),"-") -> 千葉 | AO28: =IFERROR(LARGE($AJ$15:$AJ$61,AH28),"-") -> 5750 | AP28: =IFERROR(ROUND(AO28/$E$15*100,1),"-") -> 0.5
A29: 北海道 | C29: 14900 | D29: 5050 | E29: 752500 | F29: 706600 | G29: 101 | H29: 91 | I29: 91 | J29: 91 | K29: 91 | N29: 15 | O29: 新潟 | P29: =IFERROR(_xlfn.XLOOKUP(O29,$A$29:$A$75,$C$29:$C$75),"-") -> … | Q29: =IFERROR(_xlfn.RANK.EQ(P29,$P$15:$P$61,0)+COUNTIF($P$15:P29,P29)-1,"-") -> - | S29: =IFERROR(RANK(U29,$U$15:$U$61,0),"-") -> 15 | T29: =IFERROR(INDEX($O$15:$O$61,MATCH(N29,$Q$15:$Q$61,0)),"-") -> 福島 | U29: =IFERROR(LARGE($P$15:$P$61,N29),"-") -> 170 | V29: =IFERROR(ROUND(U29/$C$15*100,1),"-") -> 0.7 | X29: 15 | Y29: 新潟 | Z29: =IFERROR(_xlfn.XLOOKUP(Y29,$A$29:$A$75,$D$29:$D$75),"-") -> … | AA29: =IFERROR(_xlfn.RANK.EQ(Z29,$Z$15:$Z$61,0)+COUNTIF($Z$15:Z29,Z29)-1,"-") -> - | AC29: =IFERROR(RANK(AE29,$AE$15:$AE$61,0),"-") -> 15 | AD29: =IFERROR(INDEX($Y$15:$Y$61,MATCH(X29,$AA$15:$AA$61,0)),"-") -> 埼玉 | AE29: =IFERROR(LARGE($Z$15:$Z$61,X29),"-") -> 3460 | AF29: =IFERROR(ROUND(AE29/$D$15*100,1),"-") -> 75.2 | AH29: 15 | AI29: 新潟 | AJ29: =IFERROR(_xlfn.XLOOKUP(AI29,$A$29:$A$75,$E$29:$E$75),"-") -> … | AK29: =IFERROR(_xlfn.RANK.EQ(AJ29,$AJ$15:$AJ$61,0)+COUNTIF($AJ$15:AJ29,AJ29)-1,"-") -> - | AM29: =IFERROR(RANK(AO29,$AO$15:$AO$61,0),"-") -> 15 | AN29: =IFERROR(INDEX($AI$15:$AI$61,MATCH(AH29,$AK$15:$AK$61,0)),"-") -> 茨城 | AO29: =IFERROR(LARGE($AJ$15:$AJ$61,AH29),"-") -> 5710 | AP29: =IFERROR(ROUND(AO29/$E$15*100,1),"-") -> 0.5
A30: 青森 | C30: … | D30: … | E30: … | F30: … | G30: nc | H30: nc | I30: nc | J30: nc | K30: nc | N30: 16 | O30: 富山 | P30: =IFERROR(_xlfn.XLOOKUP(O30,$A$29:$A$75,$C$29:$C$75),"-") -> 189 | Q30: =IFERROR(_xlfn.RANK.EQ(P30,$P$15:$P$61,0)+COUNTIF($P$15:P30,P30)-1,"-") -> 11 | S30: =IFERROR(RANK(U30,$U$15:$U$61,0),"-") -> 16 | T30: =IFERROR(INDEX($O$15:$O$61,MATCH(N30,$Q$15:$Q$61,0)),"-") -> 千葉 | U30: =IFERROR(LARGE($P$15:$P$61,N30),"-") -> 168 | V30: =IFERROR(ROUND(U30/$C$15*100,1),"-") -> 0.7 | X30: 16 | Y30: 富山 | Z30: =IFERROR(_xlfn.XLOOKUP(Y30,$A$29:$A$75,$D$29:$D$75),"-") -> 4950 | AA30: =IFERROR(_xlfn.RANK.EQ(Z30,$Z$15:$Z$61,0)+COUNTIF($Z$15:Z30,Z30)-1,"-") -> 5 | AC30: =IFERROR(RANK(AE30,$AE$15:$AE$61,0),"-") -> 16 | AD30: =IFERROR(INDEX($Y$15:$Y$61,MATCH(X30,$AA$15:$AA$61,0)),"-") -> 千葉 | AE30: =IFERROR(LARGE($Z$15:$Z$61,X30),"-") -> 3420 | AF30: =IFERROR(ROUND(AE30/$D$15*100,1),"-") -> 74.3 | AH30: 16 | AI30: 富山 | AJ30: =IFERROR(_xlfn.XLOOKUP(AI30,$A$29:$A$75,$E$29:$E$75),"-") -> 9360 | AK30: =IFERROR(_xlfn.RANK.EQ(AJ30,$AJ$15:$AJ$61,0)+COUNTIF($AJ$15:AJ30,AJ30)-1,"-") -> 10 | AM30: =IFERROR(RANK(AO30,$AO$15:$AO$61,0),"-") -> 16 | AN30: =IFERROR(INDEX($AI$15:$AI$61,MATCH(AH30,$AK$15:$AK$61,0)),"-") -> 長野 | AO30: =IFERROR(LARGE($AJ$15:$AJ$61,AH30),"-") -> 5170 | AP30: =IFERROR(ROUND(AO30/$E$15*100,1),"-") -> 0.4
A31: 岩手 | C31: … | D31: … | E31: … | F31: … | G31: nc | H31: nc | I31: nc | J31: nc | K31: nc | N31: 17 | O31: 石川 | P31: =IFERROR(_xlfn.XLOOKUP(O31,$A$29:$A$75,$C$29:$C$75),"-") -> … | Q31: =IFERROR(_xlfn.RANK.EQ(P31,$P$15:$P$61,0)+COUNTIF($P$15:P31,P31)-1,"-") -> - | S31: =IFERROR(RANK(U31,$U$15:$U$61,0),"-") -> 16 | T31: =IFERROR(INDEX($O$15:$O$61,MATCH(N31,$Q$15:$Q$61,0)),"-") -> 長野 | U31: =IFERROR(LARGE($P$15:$P$61,N31),"-") -> 168 | V31: =IFERROR(ROUND(U31/$C$15*100,1),"-") -> 0.7 | X31: 17 | Y31: 石川 | Z31: =IFERROR(_xlfn.XLOOKUP(Y31,$A$29:$A$75,$D$29:$D$75),"-") -> … | AA31: =IFERROR(_xlfn.RANK.EQ(Z31,$Z$15:$Z$61,0)+COUNTIF($Z$15:Z31,Z31)-1,"-") -> - | AC31: =IFERROR(RANK(AE31,$AE$15:$AE$61,0),"-") -> 17 | AD31: =IFERROR(INDEX($Y$15:$Y$61,MATCH(X31,$AA$15:$AA$61,0)),"-") -> 愛媛 | AE31: =IFERROR(LARGE($Z$15:$Z$61,X31),"-") -> 3330 | AF31: =IFERROR(ROUND(AE31/$D$15*100,1),"-") -> 72.4 | AH31: 17 | AI31: 石川 | AJ31: =IFERROR(_xlfn.XLOOKUP(AI31,$A$29:$A$75,$E$29:$E$75),"-") -> … | AK31: =IFERROR(_xlfn.RANK.EQ(AJ31,$AJ$15:$AJ$61,0)+COUNTIF($AJ$15:AJ31,AJ31)-1,"-") -> - | AM31: =IFERROR(RANK(AO31,$AO$15:$AO$61,0),"-") -> 17 | AN31: =IFERROR(INDEX($AI$15:$AI$61,MATCH(AH31,$AK$15:$AK$61,0)),"-") -> 埼玉 | AO31: =IFERROR(LARGE($AJ$15:$AJ$61,AH31),"-") -> 4880 | AP31: =IFERROR(ROUND(AO31/$E$15*100,1),"-") -> 0.4
A32: 宮城 | C32: … | D32: … | E32: … | F32: … | G32: nc | H32: nc | I32: nc | J32: nc | K32: nc | N32: 18 | O32: 福井 | P32: =IFERROR(_xlfn.XLOOKUP(O32,$A$29:$A$75,$C$29:$C$75),"-") -> … | Q32: =IFERROR(_xlfn.RANK.EQ(P32,$P$15:$P$61,0)+COUNTIF($P$15:P32,P32)-1,"-") -> - | S32: =IFERROR(RANK(U32,$U$15:$U$61,0),"-") -> 18 | T32: =IFERROR(INDEX($O$15:$O$61,MATCH(N32,$Q$15:$Q$61,0)),"-") -> 山口 | U32: =IFERROR(LARGE($P$15:$P$61,N32),"-") -> 166 | V32: =IFERROR(ROUND(U32/$C$15*100,1),"-") -> 0.7 | X32: 18 | Y32: 福井 | Z32: =IFERROR(_xlfn.XLOOKUP(Y32,$A$29:$A$75,$D$29:$D$75),"-") -> … | AA32: =IFERROR(_xlfn.RANK.EQ(Z32,$Z$15:$Z$61,0)+COUNTIF($Z$15:Z32,Z32)-1,"-") -> - | AC32: =IFERROR(RANK(AE32,$AE$15:$AE$61,0),"-") -> 18 | AD32: =IFERROR(INDEX($Y$15:$Y$61,MATCH(X32,$AA$15:$AA$61,0)),"-") -> 茨城 | AE32: =IFERROR(LARGE($Z$15:$Z$61,X32),"-") -> 3260 | AF32: =IFERROR(ROUND(AE32/$D$15*100,1),"-") -> 70.9 | AH32: 18 | AI32: 福井 | AJ32: =IFERROR(_xlfn.XLOOKUP(AI32,$A$29:$A$75,$E$29:$E$75),"-") -> … | AK32: =IFERROR(_xlfn.RANK.EQ(AJ32,$AJ$15:$AJ$61,0)+COUNTIF($AJ$15:AJ32,AJ32)-1,"-") -> - | AM32: =IFERROR(RANK(AO32,$AO$15:$AO$61,0),"-") -> 18 | AN32: =IFERROR(INDEX($AI$15:$AI$61,MATCH(AH32,$AK$15:$AK$61,0)),"-") -> 山口 | AO32: =IFERROR(LARGE($AJ$15:$AJ$61,AH32),"-") -> 4810 | AP32: =IFERROR(ROUND(AO32/$E$15*100,1),"-") -> 0.4
A33: 秋田 | C33: … | D33: … | E33: … | F33: … | G33: nc | H33: nc | I33: nc | J33: nc | K33: nc | N33: 19 | O33: 山梨 | P33: =IFERROR(_xlfn.XLOOKUP(O33,$A$29:$A$75,$C$29:$C$75),"-") -> … | Q33: =IFERROR(_xlfn.RANK.EQ(P33,$P$15:$P$61,0)+COUNTIF($P$15:P33,P33)-1,"-") -> - | S33: =IFERROR(RANK(U33,$U$15:$U$61,0),"-") -> 19 | T33: =IFERROR(INDEX($O$15:$O$61,MATCH(N33,$Q$15:$Q$61,0)),"-") -> 島根 | U33: =IFERROR(LARGE($P$15:$P$61,N33),"-") -> 154 | V33: =IFERROR(ROUND(U33/$C$15*100,1),"-") -> 0.6 | X33: 19 | Y33: 山梨 | Z33: =IFERROR(_xlfn.XLOOKUP(Y33,$A$29:$A$75,$D$29:$D$75),"-") -> … | AA33: =IFERROR(_xlfn.RANK.EQ(Z33,$Z$15:$Z$61,0)+COUNTIF($Z$15:Z33,Z33)-1,"-") -> - | AC33: =IFERROR(RANK(AE33,$AE$15:$AE$61,0),"-") -> 19 | AD33: =IFERROR(INDEX($Y$15:$Y$61,MATCH(X33,$AA$15:$AA$61,0)),"-") -> 長野 | AE33: =IFERROR(LARGE($Z$15:$Z$61,X33),"-") -> 3080 | AF33: =IFERROR(ROUND(AE33/$D$15*100,1),"-") -> 67 | AH33: 19 | AI33: 山梨 | AJ33: =IFERROR(_xlfn.XLOOKUP(AI33,$A$29:$A$75,$E$29:$E$75),"-") -> … | AK33: =IFERROR(_xlfn.RANK.EQ(AJ33,$AJ$15:$AJ$61,0)+COUNTIF($AJ$15:AJ33,AJ33)-1,"-") -> - | AM33: =IFERROR(RANK(AO33,$AO$15:$AO$61,0),"-") -> 19 | AN33: =IFERROR(INDEX($AI$15:$AI$61,MATCH(AH33,$AK$15:$AK$61,0)),"-") -> 福岡 | AO33: =IFERROR(LARGE($AJ$15:$AJ$61,AH33),"-") -> 4290 | AP33: =IFERROR(ROUND(AO33/$E$15*100,1),"-") -> 0.4
A34: 山形 | C34: … | D34: … | E34: … | F34: … | G34: nc | H34: nc | I34: nc | J34: nc | K34: nc | N34: 20 | O34: 長野 | P34: =IFERROR(_xlfn.XLOOKUP(O34,$A$29:$A$75,$C$29:$C$75),"-") -> 168 | Q34: =IFERROR(_xlfn.RANK.EQ(P34,$P$15:$P$61,0)+COUNTIF($P$15:P34,P34)-1,"-") -> 17 | S34: =IFERROR(RANK(U34,$U$15:$U$61,0),"-") -> 20 | T34: =IFERROR(INDEX($O$15:$O$61,MATCH(N34,$Q$15:$Q$61,0)),"-") -> 埼玉 | U34: =IFERROR(LARGE($P$15:$P$61,N34),"-") -> 141 | V34: =IFERROR(ROUND(U34/$C$15*100,1),"-") -> 0.6 | X34: 20 | Y34: 長野 | Z34: =IFERROR(_xlfn.XLOOKUP(Y34,$A$29:$A$75,$D$29:$D$75),"-") -> 3080 | AA34: =IFERROR(_xlfn.RANK.EQ(Z34,$Z$15:$Z$61,0)+COUNTIF($Z$15:Z34,Z34)-1,"-") -> 19 | AC34: =IFERROR(RANK(AE34,$AE$15:$AE$61,0),"-") -> 20 | AD34: =IFERROR(INDEX($Y$15:$Y$61,MATCH(X34,$AA$15:$AA$61,0)),"-") -> 福岡 | AE34: =IFERROR(LARGE($Z$15:$Z$61,X34),"-") -> 3040 | AF34: =IFERROR(ROUND(AE34/$D$15*100,1),"-") -> 66.1 | AH34: 20 | AI34: 長野 | AJ34: =IFERROR(_xlfn.XLOOKUP(AI34,$A$29:$A$75,$E$29:$E$75),"-") -> 5170 | AK34: =IFERROR(_xlfn.RANK.EQ(AJ34,$AJ$15:$AJ$61,0)+COUNTIF($AJ$15:AJ34,AJ34)-1,"-") -> 16 | AM34: =IFERROR(RANK(AO34,$AO$15:$AO$61,0),"-") -> 20 | AN34: =IFERROR(INDEX($AI$15:$AI$61,MATCH(AH34,$AK$15:$AK$61,0)),"-") -> 和歌山 | AO34: =IFERROR(LARGE($AJ$15:$AJ$61,AH34),"-") -> 4100 | AP34: =IFERROR(ROUND(AO34/$E$15*100,1),"-") -> 0.3
A35: 福島 | C35: 170 | D35: 1730 | E35: 2940 | F35: 1590 | G35: 98 | H35: 96 | I35: 93 | J35: 90 | K35: 91 | N35: 21 | O35: 岐阜 | P35: =IFERROR(_xlfn.XLOOKUP(O35,$A$29:$A$75,$C$29:$C$75),"-") -> 100 | Q35: =IFERROR(_xlfn.RANK.EQ(P35,$P$15:$P$61,0)+COUNTIF($P$15:P35,P35)-1,"-") -> 23 | S35: =IFERROR(RANK(U35,$U$15:$U$61,0),"-") -> 20 | T35: =IFERROR(INDEX($O$15:$O$61,MATCH(N35,$Q$15:$Q$61,0)),"-") -> 福岡 | U35: =IFERROR(LARGE($P$15:$P$61,N35),"-") -> 141 | V35: =IFERROR(ROUND(U35/$C$15*100,1),"-") -> 0.6 | X35: 21 | Y35: 岐阜 | Z35: =IFERROR(_xlfn.XLOOKUP(Y35,$A$29:$A$75,$D$29:$D$75),"-") -> 2390 | AA35: =IFERROR(_xlfn.RANK.EQ(Z35,$Z$15:$Z$61,0)+COUNTIF($Z$15:Z35,Z35)-1,"-") -> 24 | AC35: =IFERROR(RANK(AE35,$AE$15:$AE$61,0),"-") -> 21 | AD35: =IFERROR(INDEX($Y$15:$Y$61,MATCH(X35,$AA$15:$AA$61,0)),"-") -> 山口 | AE35: =IFERROR(LARGE($Z$15:$Z$61,X35),"-") -> 2900 | AF35: =IFERROR(ROUND(AE35/$D$15*100,1),"-") -> 63 | AH35: 21 | AI35: 岐阜 | AJ35: =IFERROR(_xlfn.XLOOKUP(AI35,$A$29:$A$75,$E$29:$E$75),"-") -> 2390 | AK35: =IFERROR(_xlfn.RANK.EQ(AJ35,$AJ$15:$AJ$61,0)+COUNTIF($AJ$15:AJ35,AJ35)-1,"-") -> 25 | AM35: =IFERROR(RANK(AO35,$AO$15:$AO$61,0),"-") -> 21 | AN35: =IFERROR(INDEX($AI$15:$AI$61,MATCH(AH35,$AK$15:$AK$61,0)),"-") -> 島根 | AO35: =IFERROR(LARGE($AJ$15:$AJ$61,AH35),"-") -> 3880 | AP35: =IFERROR(ROUND(AO35/$E$15*100,1),"-") -> 0.3
A36: 茨城 | C36: 175 | D36: 3260 | E36: 5710 | F36: 3960 | G36: 101 | H36: 104 | I36: 105 | J36: 104 | K36: 102 | N36: 22 | O36: 静岡 | P36: =IFERROR(_xlfn.XLOOKUP(O36,$A$29:$A$75,$C$29:$C$75),"-") -> 324 | Q36: =IFERROR(_xlfn.RANK.EQ(P36,$P$15:$P$61,0)+COUNTIF($P$15:P36,P36)-1,"-") -> 6 | S36: =IFERROR(RANK(U36,$U$15:$U$61,0),"-") -> 22 | T36: =IFERROR(INDEX($O$15:$O$61,MATCH(N36,$Q$15:$Q$61,0)),"-") -> 三重 | U36: =IFERROR(LARGE($P$15:$P$61,N36),"-") -> 117 | V36: =IFERROR(ROUND(U36/$C$15*100,1),"-") -> 0.5 | X36: 22 | Y36: 静岡 | Z36: =IFERROR(_xlfn.XLOOKUP(Y36,$A$29:$A$75,$D$29:$D$75),"-") -> 4080 | AA36: =IFERROR(_xlfn.RANK.EQ(Z36,$Z$15:$Z$61,0)+COUNTIF($Z$15:Z36,Z36)-1,"-") -> 10 | AC36: =IFERROR(RANK(AE36,$AE$15:$AE$61,0),"-") -> 22 | AD36: =IFERROR(INDEX($Y$15:$Y$61,MATCH(X36,$AA$15:$AA$61,0)),"-") -> 三重 | AE36: =IFERROR(LARGE($Z$15:$Z$61,X36),"-") -> 2640 | AF36: =IFERROR(ROUND(AE36/$D$15*100,1),"-") -> 57.4 | AH36: 22 | AI36: 静岡 | AJ36: =IFERROR(_xlfn.XLOOKUP(AI36,$A$29:$A$75,$E$29:$E$75),"-") -> 13200 | AK36: =IFERROR(_xlfn.RANK.EQ(AJ36,$AJ$15:$AJ$61,0)+COUNTIF($AJ$15:AJ36,AJ36)-1,"-") -> 6 | AM36: =IFERROR(RANK(AO36,$AO$15:$AO$61,0),"-") -> 22 | AN36: =IFERROR(INDEX($AI$15:$AI$61,MATCH(AH36,$AK$15:$AK$61,0)),"-") -> 大阪 | AO36: =IFERROR(LARGE($AJ$15:$AJ$61,AH36),"-") -> 3520 | AP36: =IFERROR(ROUND(AO36/$E$15*100,1),"-") -> 0.3
A37: 栃木 | C37: 230 | D37: 4580 | E37: 10500 | F37: 8740 | G37: 98 | H37: 104 | I37: 102 | J37: 103 | K37: 95 | N37: 23 | O37: 愛知 | P37: =IFERROR(_xlfn.XLOOKUP(O37,$A$29:$A$75,$C$29:$C$75),"-") -> 468 | Q37: =IFERROR(_xlfn.RANK.EQ(P37,$P$15:$P$61,0)+COUNTIF($P$15:P37,P37)-1,"-") -> 5 | S37: =IFERROR(RANK(U37,$U$15:$U$61,0),"-") -> 23 | T37: =IFERROR(INDEX($O$15:$O$61,MATCH(N37,$Q$15:$Q$61,0)),"-") -> 岐阜 | U37: =IFERROR(LARGE($P$15:$P$61,N37),"-") -> 100 | V37: =IFERROR(ROUND(U37/$C$15*100,1),"-") -> 0.4 | X37: 23 | Y37: 愛知 | Z37: =IFERROR(_xlfn.XLOOKUP(Y37,$A$29:$A$75,$D$29:$D$75),"-") -> 5190 | AA37: =IFERROR(_xlfn.RANK.EQ(Z37,$Z$15:$Z$61,0)+COUNTIF($Z$15:Z37,Z37)-1,"-") -> 2 | AC37: =IFERROR(RANK(AE37,$AE$15:$AE$61,0),"-") -> 23 | AD37: =IFERROR(INDEX($Y$15:$Y$61,MATCH(X37,$AA$15:$AA$61,0)),"-") -> 島根 | AE37: =IFERROR(LARGE($Z$15:$Z$61,X37),"-") -> 2520 | AF37: =IFERROR(ROUND(AE37/$D$15*100,1),"-") -> 54.8 | AH37: 23 | AI37: 愛知 | AJ37: =IFERROR(_xlfn.XLOOKUP(AI37,$A$29:$A$75,$E$29:$E$75),"-") -> 24300 | AK37: =IFERROR(_xlfn.RANK.EQ(AJ37,$AJ$15:$AJ$61,0)+COUNTIF($AJ$15:AJ37,AJ37)-1,"-") -> 5 | AM37: =IFERROR(RANK(AO37,$AO$15:$AO$61,0),"-") -> 23 | AN37: =IFERROR(INDEX($AI$15:$AI$61,MATCH(AH37,$AK$15:$AK$61,0)),"-") -> 三重 | AO37: =IFERROR(LARGE($AJ$15:$AJ$61,AH37),"-") -> 3090 | AP37: =IFERROR(ROUND(AO37/$E$15*100,1),"-") -> 0.3
A38: 群馬 | C38: 187 | D38: 4250 | E38: 7950 | F38: 7240 | G38: 94 | H38: 94 | I38: 89 | J38: 89 | K38: 100 | N38: 24 | O38: 三重 | P38: =IFERROR(_xlfn.XLOOKUP(O38,$A$29:$A$75,$C$29:$C$75),"-") -> 117 | Q38: =IFERROR(_xlfn.RANK.EQ(P38,$P$15:$P$61,0)+COUNTIF($P$15:P38,P38)-1,"-") -> 22 | S38: =IFERROR(RANK(U38,$U$15:$U$61,0),"-") -> 24 | T38: =IFERROR(INDEX($O$15:$O$61,MATCH(N38,$Q$15:$Q$61,0)),"-") -> 大阪 | U38: =IFERROR(LARGE($P$15:$P$61,N38),"-") -> 97 | V38: =IFERROR(ROUND(U38/$C$15*100,1),"-") -> 0.4 | X38: 24 | Y38: 三重 | Z38: =IFERROR(_xlfn.XLOOKUP(Y38,$A$29:$A$75,$D$29:$D$75),"-") -> 2640 | AA38: =IFERROR(_xlfn.RANK.EQ(Z38,$Z$15:$Z$61,0)+COUNTIF($Z$15:Z38,Z38)-1,"-") -> 22 | AC38: =IFERROR(RANK(AE38,$AE$15:$AE$61,0),"-") -> 24 | AD38: =IFERROR(INDEX($Y$15:$Y$61,MATCH(X38,$AA$15:$AA$61,0)),"-") -> 岐阜 | AE38: =IFERROR(LARGE($Z$15:$Z$61,X38),"-") -> 2390 | AF38: =IFERROR(ROUND(AE38/$D$15*100,1),"-") -> 52 | AH38: 24 | AI38: 三重 | AJ38: =IFERROR(_xlfn.XLOOKUP(AI38,$A$29:$A$75,$E$29:$E$75),"-") -> 3090 | AK38: =IFERROR(_xlfn.RANK.EQ(AJ38,$AJ$15:$AJ$61,0)+COUNTIF($AJ$15:AJ38,AJ38)-1,"-") -> 23 | AM38: =IFERROR(RANK(AO38,$AO$15:$AO$61,0),"-") -> 24 | AN38: =IFERROR(INDEX($AI$15:$AI$61,MATCH(AH38,$AK$15:$AK$61,0)),"-") -> 福島 | AO38: =IFERROR(LARGE($AJ$15:$AJ$61,AH38),"-") -> 2940 | AP38: =IFERROR(ROUND(AO38/$E$15*100,1),"-") -> 0.3
A39: 埼玉 | C39: 141 | D39: 3460 | E39: 4880 | F39: 3570 | G39: 97 | H39: 125 | I39: 122 | J39: 126 | K39: 100 | N39: 25 | O39: 滋賀 | P39: =IFERROR(_xlfn.XLOOKUP(O39,$A$29:$A$75,$C$29:$C$75),"-") -> … | Q39: =IFERROR(_xlfn.RANK.EQ(P39,$P$15:$P$61,0)+COUNTIF($P$15:P39,P39)-1,"-") -> - | S39: =IFERROR(RANK(U39,$U$15:$U$61,0),"-") -> 25 | T39: =IFERROR(INDEX($O$15:$O$61,MATCH(N39,$Q$15:$Q$61,0)),"-") -> 和歌山 | U39: =IFERROR(LARGE($P$15:$P$61,N39),"-") -> 92 | V39: =IFERROR(ROUND(U39/$C$15*100,1),"-") -> 0.4 | X39: 25 | Y39: 滋賀 | Z39: =IFERROR(_xlfn.XLOOKUP(Y39,$A$29:$A$75,$D$29:$D$75),"-") -> … | AA39: =IFERROR(_xlfn.RANK.EQ(Z39,$Z$15:$Z$61,0)+COUNTIF($Z$15:Z39,Z39)-1,"-") -> - | AC39: =IFERROR(RANK(AE39,$AE$15:$AE$61,0),"-") -> 25 | AD39: =IFERROR(INDEX($Y$15:$Y$61,MATCH(X39,$AA$15:$AA$61,0)),"-") -> 福島 | AE39: =IFERROR(LARGE($Z$15:$Z$61,X39),"-") -> 1730 | AF39: =IFERROR(ROUND(AE39/$D$15*100,1),"-") -> 37.6 | AH39: 25 | AI39: 滋賀 | AJ39: =IFERROR(_xlfn.XLOOKUP(AI39,$A$29:$A$75,$E$29:$E$75),"-") -> … | AK39: =IFERROR(_xlfn.RANK.EQ(AJ39,$AJ$15:$AJ$61,0)+COUNTIF($AJ$15:AJ39,AJ39)-1,"-") -> - | AM39: =IFERROR(RANK(AO39,$AO$15:$AO$61,0),"-") -> 25 | AN39: =IFERROR(INDEX($AI$15:$AI$61,MATCH(AH39,$AK$15:$AK$61,0)),"-") -> 岐阜 | AO39: =IFERROR(LARGE($AJ$15:$AJ$61,AH39),"-") -> 2390 | AP39: =IFERROR(ROUND(AO39/$E$15*100,1),"-") -> 0.2
