Workbook
Name グラフ_そば: グラフ表示用_データ連動!$E$18
Name グラフ_てんさい: グラフ表示用_データ連動!$E$33
Name グラフ_なたね: グラフ表示用_データ連動!$I$33
Name グラフ_ばれいしょ: グラフ表示用_データ連動!$A$33
Name グラフ_果実: グラフ表示用_データ連動!$E$48
Name グラフ_花き: グラフ表示用_データ連動!$I$48
Name グラフ_耕種: グラフ表示用_データ連動!$E$3
Name グラフ_小麦: グラフ表示用_データ連動!$A$18
Name グラフ_生乳: グラフ表示用_データ連動!$I$63
Name グラフ_大豆: グラフ表示用_データ連動!$I$18
Name グラフ_畜産: グラフ表示用_データ連動!$A$63
Name グラフ_肉用牛: グラフ表示用_データ連動!$A$78
Name グラフ_乳用牛: グラフ表示用_データ連動!$E$63
Name グラフ_農業産出額計: グラフ表示用_データ連動!$A$3
Name グラフ_米: グラフ表示用_データ連動!$I$3
Name グラフ_野菜: グラフ表示用_データ連動!$A$48
Name グラフ表示: INDIRECT('計算用シート（当年）'!$C$2)

Sheet 作成時の注意事項
A1: ○貼りつけ用シートについて
B2: ←この色のセルには、最新値の貼り付けを行う。

Sheet なんばんBOOK
A1: 令和６年 なんばんＢＯＯＫ（電子版）
A3: ChapterⅡ 市町村別農業産出額(推計)ランキング
C4: データの種類 | K4: =IFERROR(_xlfn.XLOOKUP('計算用シート（当年）'!$C$1,'計算用シート（当年）'!$D$4:$S$4,'計算用シート（当年）'!$D5:$S5),"-") -> 令和４年
C5: 農業産出額計
C7: =IFERROR(_xlfn.XLOOKUP('計算用シート（当年）'!$C$1,'計算用シート（当年）'!$D$4:$S$4,'計算用シート（当年）'!$D$6:$S$6),"-") -> 全国トップ５とシェア | I7: =IFERROR(_xlfn.XLOOKUP('計算用シート（当年）'!$C$1,'計算用シート（当年）'!$D$4:$S$4,'計算用シート（当年）'!$D$108:$S$108),"-") -> 全国における北海道のシェア
A9: 順位 | B9: （前年） | C9: 都道府県名 | D9: シェア | E9: 産出額
D10: % | E10: 億円
C11: 全国 | D11: 100 | E11: =IFERROR(_xlfn.XLOOKUP('計算用シート（当年）'!$C$1,'計算用シート（当年）'!$D$4:$S$4,'計算用シート（当年）'!$D54:$S54),"-") -> 90116
A13: =_xlfn.XLOOKUP('計算用シート（当年）'!$C$1,'計算用シート（当年）'!$D$4:$S$4,'計算用シート（当年）'!$D102:$S102) -> 1 | B13: ="("&VLOOKUP(C13,'前年順位整理（自動更新）'!$B$3:$AX$486,MATCH('前年順位整理（自動更新）'!$B$1,'前年順位整理（自動更新）'!$B$3:$AX$3,0),)&")" -> (1) | C13: =IFERROR(_xlfn.XLOOKUP('計算用シート（当年）'!$C$1,'計算用シート（当年）'!$D$4:$S$4,'計算用シート（当年）'!$D7:$S7),"-") -> 北海道 | D13: =IFERROR((ROUND(E13/$E$11*100,1)),"-") -> 14.3 | E13: =IFERROR(_xlfn.XLOOKUP('計算用シート（当年）'!$C$1,'計算用シート（当年）'!$D$4:$S$4,'計算用シート（当年）'!$D55:$S55),"-") -> 12919
A14: =_xlfn.XLOOKUP('計算用シート（当年）'!$C$1,'計算用シート（当年）'!$D$4:$S$4,'計算用シート（当年）'!$D103:$S103) -> 2 | B14: =IF($C$5="てんさい","","("&VLOOKUP(C14,'前年順位整理（自動更新）'!$B$3:$AX$486,MATCH('前年順位整理（自動更新）'!$B$1,'前年順位整理（自動更新）'!$B$3:$AX$3,0),)&")") -> (2) | C14: =IFERROR(_xlfn.XLOOKUP('計算用シート（当年）'!$C$1,'計算用シート（当年）'!$D$4:$S$4,'計算用シート（当年）'!$D8:$S8),"-") -> 鹿児島 | D14: =IFERROR((ROUND(E14/$E$11*100,1)),"-") -> 5.7 | E14: =IFERROR(_xlfn.XLOOKUP('計算用シート（当年）'!$C$1,'計算用シート（当年）'!$D$4:$S$4,'計算用シート（当年）'!$D56:$S56),"-") -> 5114
A15: =_xlfn.XLOOKUP('計算用シート（当年）'!$C$1,'計算用シート（当年）'!$D$4:$S$4,'計算用シート（当年）'!$D104:$S104) -> 3 | B15: =IF($C$5="てんさい","","("&VLOOKUP(C15,'前年順位整理（自動更新）'!$B$3:$AX$486,MATCH('前年順位整理（自動更新）'!$B$1,'前年順位整理（自動更新）'!$B$3:$AX$3,0),)&")") -> (3) | C15: =IFERROR(_xlfn.XLOOKUP('計算用シート（当年）'!$C$1,'計算用シート（当年）'!$D$4:$S$4,'計算用シート（当年）'!$D9:$S9),"-") -> 茨城 | D15: =IFERROR((ROUND(E15/$E$11*100,1)),"-") -> 4.9 | E15: =IFERROR(_xlfn.XLOOKUP('計算用シート（当年）'!$C$1,'計算用シート（当年）'!$D$4:$S$4,'計算用シート（当年）'!$D57:$S57),"-") -> 4384
A16: =_xlfn.XLOOKUP('計算用シート（当年）'!$C$1,'計算用シート（当年）'!$D$4:$S$4,'計算用シート（当年）'!$D105:$S105) -> 4 | B16: =IF($C$5="てんさい","","("&VLOOKUP(C16,'前年順位整理（自動更新）'!$B$3:$AX$486,MATCH('前年順位整理（自動更新）'!$B$1,'前年順位整理（自動更新）'!$B$3:$AX$3,0),)&")") -> (6) | C16: =IFERROR(_xlfn.XLOOKUP('計算用シート（当年）'!$C$1,'計算用シート（当年）'!$D$4:$S$4,'計算用シート（当年）'!$D10:$S10),"-") -> 千葉 | D16: =IFERROR((ROUND(E16/$E$11*100,1)),"-") -> 4.1 | E16: =IFERROR(_xlfn.XLOOKUP('計算用シート（当年）'!$C$1,'計算用シート（当年）'!$D$4:$S$4,'計算用シート（当年）'!$D58:$S58),"-") -> 3676
A17: =_xlfn.XLOOKUP('計算用シート（当年）'!$C$1,'計算用シート（当年）'!$D$4:$S$4,'計算用シート（当年）'!$D106:$S106) -> 5 | B17: =IF($C$5="てんさい","","("&VLOOKUP(C17,'前年順位整理（自動更新）'!$B$3:$AX$486,MATCH('前年順位整理（自動更新）'!$B$1,'前年順位整理（自動更新）'!$B$3:$AX$3,0),)&")") -> (5) | C17: =IFERROR(_xlfn.XLOOKUP('計算用シート（当年）'!$C$1,'計算用シート（当年）'!$D$4:$S$4,'計算用シート（当年）'!$D11:$S11),"-") -> 熊本 | D17: =IFERROR((ROUND(E17/$E$11*100,1)),"-") -> 3.9 | E17: =IFERROR(_xlfn.XLOOKUP('計算用シート（当年）'!$C$1,'計算用シート（当年）'!$D$4:$S$4,'計算用シート（当年）'!$D59:$S59),"-") -> 3512
A18: =IF($C$18="北海道",_xlfn.XLOOKUP('計算用シート（当年）'!$C$1,'計算用シート（当年）'!$D$4:$S$4,'計算用シート（当年）'!$D107:$S107),"") | B18: =IF($C$18="北海道",IF($C$5="てんさい","","("&VLOOKUP(C18,'前年順位整理（自動更新）'!$B$3:$AX$486,MATCH('前年順位整理（自動更新）'!$B$1,'前年順位整理（自動更新）'!$B$3:$AX$3,0),)&")"),"") | C18: {=IF(OR(C13:C17="北海道"),"","北海道")} | D18: =IF($C$18="北海道",IFERROR((ROUND(E18/$E$11*100,1)),"-"),"") | E18: =IF($C$18="北海道",IFERROR(_xlfn.XLOOKUP('計算用シート（当年）'!$C$1,'計算用シート（当年）'!$D$4:$S$4,'計算用シート（当年）'!$D125:$S125),"-"),"")
C20: 地域ランキング | I20: 振興局別
A22: 順位 | B22: （前年） | C22: 地域 | D22: シェア | E22: 産出額
D23: % | E23: 億円
C24: 北海道 | D24: =IFERROR(IF($C$5="10a当たり収量",_xlfn.XLOOKUP('計算用シート（当年）'!$C$1,'計算用シート（当年）'!$D$4:$S$4,'計算用シート（当年）'!$D125:$S125),100),"") -> 100 | E24: =IFERROR(IF($C$5="10a当たり収量","",_xlfn.XLOOKUP('計算用シート（当年）'!$C$1,'計算用シート（当年）'!$D$4:$S$4,'計算用シート（当年）'!$D125:$S125)),"-") -> 12919
A26: =IFERROR(IF($C$5="10a当たり収量",RANK(D26,$D$26:$D$40,0),RANK(E26,$E$26:$E$40,0)),"-") -> 1 | B26: =IF(E26="-","(-)","("&VLOOKUP(C26,'前年順位整理（自動更新）'!$B$3:$AX$486,MATCH('前年順位整理（自動更新）'!$B$1,'前年順位整理（自動更新）'!$B$3:$AX$3,0),)&")") -> (1) | C26: =IF(E26="-","-",IFERROR(_xlfn.XLOOKUP('計算用シート（当年）'!$C$1,'計算用シート（当年）'!$D$4:$S$4,'計算用シート（当年）'!$D111:$S111),"-")) -> 十勝 | D26: =IFERROR(IF($C$5="10a当たり収量",_xlfn.XLOOKUP('計算用シート（当年）'!$C$1,'計算用シート（当年）'!$D$4:$S$4,'計算用シート（当年）'!$D126:$S126),ROUND(E26/$E$24*100,1)),"-") -> 23.8 | E26: =IFERROR(IF($C$5="10a当たり収量","",_xlfn.XLOOKUP('計算用シート（当年）'!$C$1,'計算用シート（当年）'!$D$4:$S$4,'計算用シート（当年）'!$D126:$S126)),"-") -> 3080
A27: =IFERROR(IF($C$5="10a当たり収量",RANK(D27,$D$26:$D$40,0),RANK(E27,$E$26:$E$40,0)),"-") -> 2 | B27: =IF(E27="-","(-)","("&VLOOKUP(C27,'前年順位整理（自動更新）'!$B$3:$AX$486,MATCH('前年順位整理（自動更新）'!$B$1,'前年順位整理（自動更新）'!$B$3:$AX$3,0),)&")") -> (2) | C27: =IF(E27="-","-",IFERROR(_xlfn.XLOOKUP('計算用シート（当年）'!$C$1,'計算用シート（当年）'!$D$4:$S$4,'計算用シート（当年）'!$D112:$S112),"-")) -> オホーツク | D27: =IFERROR(IF($C$5="10a当たり収量",_xlfn.XLOOKUP('計算用シート（当年）'!$C$1,'計算用シート（当年）'!$D$4:$S$4,'計算用シート（当年）'!$D127:$S127),ROUND(E27/$E$24*100,1)),"-") -> 15.9 | E27: =IFERROR(IF($C$5="10a当たり収量","",_xlfn.XLOOKUP('計算用シート（当年）'!$C$1,'計算用シート（当年）'!$D$4:$S$4,'計算用シート（当年）'!$D127:$S127)),"-") -> 2056
A28: =IFERROR(IF($C$5="10a当たり収量",RANK(D28,$D$26:$D$40,0),RANK(E28,$E$26:$E$40,0)),"-") -> 3 | B28: =IF(E28="-","(-)","("&VLOOKUP(C28,'前年順位整理（自動更新）'!$B$3:$AX$486,MATCH('前年順位整理（自動更新）'!$B$1,'前年順位整理（自動更新）'!$B$3:$AX$3,0),)&")") -> (3) | C28: =IF(E28="-","-",IFERROR(_xlfn.XLOOKUP('計算用シート（当年）'!$C$1,'計算用シート（当年）'!$D$4:$S$4,'計算用シート（当年）'!$D113:$S113),"-")) -> 上川 | D28: =IFERROR(IF($C$5="10a当たり収量",_xlfn.XLOOKUP('計算用シート（当年）'!$C$1,'計算用シート（当年）'!$D$4:$S$4,'計算用シート（当年）'!$D128:$S128),ROUND(E28/$E$24*100,1)),"-") -> 9.9 | E28: =IFERROR(IF($C$5="10a当たり収量","",_xlfn.XLOOKUP('計算用シート（当年）'!$C$1,'計算用シート（当年）'!$D$4:$S$4,'計算用シート（当年）'!$D128:$S128)),"-") -> 1284
A29: =IFERROR(IF($C$5="10a当たり収量",RANK(D29,$D$26:$D$40,0),RANK(E29,$E$26:$E$40,0)),"-") -> 4 | B29: =IF(E29="-","(-)","("&VLOOKUP(C29,'前年順位整理（自動更新）'!$B$3:$AX$486,MATCH('前年順位整理（自動更新）'!$B$1,'前年順位整理（自動更新）'!$B$3:$AX$3,0),)&")") -> (4) | C29: =IF(E29="-","-",IFERROR(_xlfn.XLOOKUP('計算用シート（当年）'!$C$1,'計算用シート（当年）'!$D$4:$S$4,'計算用シート（当年）'!$D114:$S114),"-")) -> 根室 | D29: =IFERROR(IF($C$5="10a当たり収量",_xlfn.XLOOKUP('計算用シート（当年）'!$C$1,'計算用シート（当年）'!$D$4:$S$4,'計算用シート（当年）'!$D129:$S129),ROUND(E29/$E$24*100,1)),"-") -> 8.4 | E29: =IFERROR(IF($C$5="10a当たり収量","",_xlfn.XLOOKUP('計算用シート（当年）'!$C$1,'計算用シート（当年）'!$D$4:$S$4,'計算用シート（当年）'!$D129:$S129)),"-") -> 1082
A30: =IFERROR(IF($C$5="10a当たり収量",RANK(D30,$D$26:$D$40,0),RANK(E30,$E$26:$E$40,0)),"-") -> 5 | B30: =IF(E30="-","(-)","("&VLOOKUP(C30,'前年順位整理（自動更新）'!$B$3:$AX$486,MATCH('前年順位整理（自動更新）'!$B$1,'前年順位整理（自動更新）'!$B$3:$AX$3,0),)&")") -> (5) | C30: =IF(E30="-","-",IFERROR(_xlfn.XLOOKUP('計算用シート（当年）'!$C$1,'計算用シート（当年）'!$D$4:$S$4,'計算用シート（当年）'!$D115:$S115),"-")) -> 空知 | D30: =IFERROR(IF($C$5="10a当たり収量",_xlfn.XLOOKUP('計算用シート（当年）'!$C$1,'計算用シート（当年）'!$D$4:$S$4,'計算用シート（当年）'!$D130:$S130),ROUND(E30/$E$24*100,1)),"-") -> 8.1 | E30: =IFERROR(IF($C$5="10a当たり収量","",_xlfn.XLOOKUP('計算用シート（当年）'!$C$1,'計算用シート（当年）'!$D$4:$S$4,'計算用シート（当年）'!$D130:$S130)),"-") -> 1043
A31: =IFERROR(IF($C$5="10a当たり収量",RANK(D31,$D$26:$D$40,0),RANK(E31,$E$26:$E$40,0)),"-") -> 6 | B31: =IF(E31="-","(-)","("&VLOOKUP(C31,'前年順位整理（自動更新）'!$B$3:$AX$486,MATCH('前年順位整理（自動更新）'!$B$1,'前年順位整理（自動更新）'!$B$3:$AX$3,0),)&")") -> (6) | C31: =IF(E31="-","-",IFERROR(_xlfn.XLOOKUP('計算用シート（当年）'!$C$1,'計算用シート（当年）'!$D$4:$S$4,'計算用シート（当年）'!$D116:$S116),"-")) -> 釧路 | D31: =IFERROR(IF($C$5="10a当たり収量",_xlfn.XLOOKUP('計算用シート（当年）'!$C$1,'計算用シート（当年）'!$D$4:$S$4,'計算用シート（当年）'!$D131:$S131),ROUND(E31/$E$24*100,1)),"-") -> 6.7 | E31: =IFERROR(IF($C$5="10a当たり収量","",_xlfn.XLOOKUP('計算用シート（当年）'!$C$1,'計算用シート（当年）'!$D$4:$S$4,'計算用シート（当年）'!$D131:$S131)),"-") -> 869
A32: =IFERROR(IF($C$5="10a当たり収量",RANK(D32,$D$26:$D$40,0),RANK(E32,$E$26:$E$40,0)),"-") -> 7 | B32: =IF(E32="-","(-)","("&VLOOKUP(C32,'前年順位整理（自動更新）'!$B$3:$AX$486,MATCH('前年順位整理（自動更新）'!$B$1,'前年順位整理（自動更新）'!$B$3:$AX$3,0),)&")") -> (7) | C32: =IF(E32="-","-",IFERROR(_xlfn.XLOOKUP('計算用シート（当年）'!$C$1,'計算用シート（当年）'!$D$4:$S$4,'計算用シート（当年）'!$D117:$S117),"-")) -> 日高 | D32: =IFERROR(IF($C$5="10a当たり収量",_xlfn.XLOOKUP('計算用シート（当年）'!$C$1,'計算用シート（当年）'!$D$4:$S$4,'計算用シート（当年）'!$D132:$S132),ROUND(E32/$E$24*100,1)),"-") -> 5.7 | E32: =IFERROR(IF($C$5="10a当たり収量","",_xlfn.XLOOKUP('計算用シート（当年）'!$C$1,'計算用シート（当年）'!$D$4:$S$4,'計算用シート（当年）'!$D132:$S132)),"-") -> 730
A33: =IFERROR(IF($C$5="10a当たり収量",RANK(D33,$D$26:$D$40,0),RANK(E33,$E$26:$E$40,0)),"-") -> 8 | B33: =IF(E33="-","(-)","("&VLOOKUP(C33,'前年順位整理（自動更新）'!$B$3:$AX$486,MATCH('前年順位整理（自動更新）'!$B$1,'前年順位整理（自動更新）'!$B$3:$AX$3,0),)&")") -> (8) | C33: =IF(E33="-","-",IFERROR(_xlfn.XLOOKUP('計算用シート（当年）'!$C$1,'計算用シート（当年）'!$D$4:$S$4,'計算用シート（当年）'!$D118:$S118),"-")) -> 胆振 | D33: =IFERROR(IF($C$5="10a当たり収量",_xlfn.XLOOKUP('計算用シート（当年）'!$C$1,'計算用シート（当年）'!$D$4:$S$4,'計算用シート（当年）'!$D133:$S133),ROUND(E33/$E$24*100,1)),"-") -> 5.1 | E33: =IFERROR(IF($C$5="10a当たり収量","",_xlfn.XLOOKUP('計算用シート（当年）'!$C$1,'計算用シート（当年）'!$D$4:$S$4,'計算用シート（当年）'!$D133:$S133)),"-") -> 653
A34: =IFERROR(IF($C$5="10a当たり収量",RANK(D34,$D$26:$D$40,0),RANK(E34,$E$26:$E$40,0)),"-") -> 9 | B34: =IF(E34="-","(-)","("&VLOOKUP(C34,'前年順位整理（自動更新）'!$B$3:$AX$486,MATCH('前年順位整理（自動更新）'!$B$1,'前年順位整理（自動更新）'!$B$3:$AX$3,0),)&")") -> (9) | C34: =IF(E34="-","-",IFERROR(_xlfn.XLOOKUP('計算用シート（当年）'!$C$1,'計算用シート（当年）'!$D$4:$S$4,'計算用シート（当年）'!$D119:$S119),"-")) -> 石狩 | D34: =IFERROR(IF($C$5="10a当たり収量",_xlfn.XLOOKUP('計算用シート（当年）'!$C$1,'計算用シート（当年）'!$D$4:$S$4,'計算用シート（当年）'!$D134:$S134),ROUND(E34/$E$24*100,1)),"-") -> 3.9 | E34: =IFERROR(IF($C$5="10a当たり収量","",_xlfn.XLOOKUP('計算用シート（当年）'!$C$1,'計算用シート（当年）'!$D$4:$S$4,'計算用シート（当年）'!$D134:$S134)),"-") -> 507
A35: =IFERROR(IF($C$5="10a当たり収量",RANK(D35,$D$26:$D$40,0),RANK(E35,$E$26:$E$40,0)),"-") -> 10 | B35: =IF(E35="-","(-)","("&VLOOKUP(C35,'前年順位整理（自動更新）'!$B$3:$AX$486,MATCH('前年順位整理（自動更新）'!$B$1,'前年順位整理（自動更新）'!$B$3:$AX$3,0),)&")") -> (11) | C35: =IF(E35="-","-",IFERROR(_xlfn.XLOOKUP('計算用シート（当年）'!$C$1,'計算用シート（当年）'!$D$4:$S$4,'計算用シート（当年）'!$D120:$S120),"-")) -> 後志 | D35: =IFERROR(IF($C$5="10a当たり収量",_xlfn.XLOOKUP('計算用シート（当年）'!$C$1,'計算用シート（当年）'!$D$4:$S$4,'計算用シート（当年）'!$D135:$S135),ROUND(E35/$E$24*100,1)),"-") -> 3.4 | E35: =IFERROR(IF($C$5="10a当たり収量","",_xlfn.XLOOKUP('計算用シート（当年）'!$C$1,'計算用シート（当年）'!$D$4:$S$4,'計算用シート（当年）'!$D135:$S135)),"-") -> 440
A36: =IFERROR(IF($C$5="10a当たり収量",RANK(D36,$D$26:$D$40,0),RANK(E36,$E$26:$E$40,0)),"-") -> 11 | B36: =IF(E36="-","(-)","("&VLOOKUP(C36,'前年順位整理（自動更新）'!$B$3:$AX$486,MATCH('前年順位整理（自動更新）'!$B$1,'前年順位整理（自動更新）'!$B$3:$AX$3,0),)&")") -> (12) | C36: =IF(E36="-","-",IFERROR(_xlfn.XLOOKUP('計算用シート（当年）'!$C$1,'計算用シート（当年）'!$D$4:$S$4,'計算用シート（当年）'!$D121:$S121),"-")) -> 渡島 | D36: =IFERROR(IF($C$5="10a当たり収量",_xlfn.XLOOKUP('計算用シート（当年）'!$C$1,'計算用シート（当年）'!$D$4:$S$4,'計算用シート（当年）'!$D136:$S136),ROUND(E36/$E$24*100,1)),"-") -> 3.4 | E36: =IFERROR(IF($C$5="10a当たり収量","",_xlfn.XLOOKUP('計算用シート（当年）'!$C$1,'計算用シート（当年）'!$D$4:$S$4,'計算用シート（当年）'!$D136:$S136)),"-") -> 434
A37: =IFERROR(IF($C$5="10a当たり収量",RANK(D37,$D$26:$D$40,0),RANK(E37,$E$26:$E$40,0)),"-") -> 12 | B37: =IF(E37="-","(-)","("&VLOOKUP(C37,'前年順位整理（自動更新）'!$B$3:$AX$486,MATCH('前年順位整理（自動更新）'!$B$1,'前年順位整理（自動更新）'!$B$3:$AX$3,0),)&")") -> (10) | C37: =IF(E37="-","-",IFERROR(_xlfn.XLOOKUP('計算用シート（当年）'!$C$1,'計算用シート（当年）'!$D$4:$S$4,'計算用シート（当年）'!$D122:$S122),"-")) -> 宗谷 | D37: =IFERROR(IF($C$5="10a当たり収量",_xlfn.XLOOKUP('計算用シート（当年）'!$C$1,'計算用シート（当年）'!$D$4:$S$4,'計算用シート（当年）'!$D137:$S137),ROUND(E37/$E$24*100,1)),"-") -> 3.3 | E37: =IFERROR(IF($C$5="10a当たり収量","",_xlfn.XLOOKUP('計算用シート（当年）'!$C$1,'計算用シート（当年）'!$D$4:$S$4,'計算用シート（当年）'!$D137:$S137)),"-") -> 432
... A39: =IFERROR(IF($C$5="10a当たり収量",RANK(D39,$D$26:$D$40,0),RANK(E39,$E$26:$E$40,0)),"-") -> 14 | B39: =IF(E39="-","(-)","("&VLOOKUP(C39,'前年順位整理（自動更新）'!$B$3:$AX$486,MATCH('前年順位整理（自動更新）'!$B$1,'前年順位整理（自動更新）'!$B$3:$AX$3,0),)&")") -> (14) | C39: =IF(E39="-","-",IFERROR(_xlfn.XLOOKUP('計算用シート（当年）'!$C$1,'計算用シート（当年）'!$D$4:$S$4,'計算用シート（当年）'!$D124:$S124),"-")) -> 檜山 | D39: =IFERROR(IF($C$5="10a当たり収量",_xlfn.XLOOKUP('計算用シート（当年）'!$C$1,'計算用シート（当年）'!$D$4:$S$4,'計算用シート（当年）'!$D139:$S139),ROUND(E39/$E$24*100,1)),"-") -> 1 | E39: =IFERROR(IF($C$5="10a当たり収量","",_xlfn.XLOOKUP('計算用シート（当年）'!$C$1,'計算用シート（当年）'!$D$4:$S$4,'計算用シート（当年）'!$D139:$S139)),"-") -> 134
C42: =("市町村ランキング（1位～"&MAX($A$46:$A$224)&"位）") -> 市町村ランキング（1位～173位） | I42: 市町村別トップ20
A44: 順位 | B44: （前年） | C44: 市町村名 | D44: 地域 | E44: 産出額
E45: 1,000万円
A46: =IFERROR(RANK(E46,($E$46:$E$75,$E$76:$E$105,$E$106:$E$165,$E$166:$E$224),0),"-") -> 1 | B46: =IF(C46="-","","("&VLOOKUP(C46,'前年順位整理（自動更新）'!$B$3:$AX$486,MATCH('前年順位整理（自動更新）'!$B$1,'前年順位整理（自動更新）'!$B$3:$AX$3,0),)&")") -> (1) | C46: =IFERROR(_xlfn.XLOOKUP('計算用シート（当年）'!$C$1,'計算用シート（当年）'!$D$4:$S$4,'計算用シート（当年）'!$D140:$S140),"-") -> 別海町 | D46: =IFERROR(_xlfn.XLOOKUP(C46,市町村振興局拠点対応版!$D$6:$D$184,市町村振興局拠点対応版!$E$6:$E$184),"-") -> 根室 | E46: =IFERROR(_xlfn.XLOOKUP('計算用シート（当年）'!$C$1,'計算用シート（当年）'!$D$4:$S$4,'計算用シート（当年）'!$D319:$S319),"-") -> 6253
A47: =IFERROR(RANK(E47,($E$46:$E$75,$E$76:$E$105,$E$106:$E$165,$E$166:$E$224),0),"-") -> 2 | B47: =IF(C47="-","","("&VLOOKUP(C47,'前年順位整理（自動更新）'!$B$3:$AX$486,MATCH('前年順位整理（自動更新）'!$B$1,'前年順位整理（自動更新）'!$B$3:$AX$3,0),)&")") -> (2) | C47: =IFERROR(_xlfn.XLOOKUP('計算用シート（当年）'!$C$1,'計算用シート（当年）'!$D$4:$S$4,'計算用シート（当年）'!$D141:$S141),"-") -> 北見市 | D47: =IFERROR(_xlfn.XLOOKUP(C47,市町村振興局拠点対応版!$D$6:$D$184,市町村振興局拠点対応版!$E$6:$E$184),"-") -> オホーツク | E47: =IFERROR(_xlfn.XLOOKUP('計算用シート（当年）'!$C$1,'計算用シート（当年）'!$D$4:$S$4,'計算用シート（当年）'!$D320:$S320),"-") -> 3357
A48: =IFERROR(RANK(E48,($E$46:$E$75,$E$76:$E$105,$E$106:$E$165,$E$166:$E$224),0),"-") -> 3 | B48: =IF(C48="-","","("&VLOOKUP(C48,'前年順位整理（自動更新）'!$B$3:$AX$486,MATCH('前年順位整理（自動更新）'!$B$1,'前年順位整理（自動更新）'!$B$3:$AX$3,0),)&")") -> (5) | C48: =IFERROR(_xlfn.XLOOKUP('計算用シート（当年）'!$C$1,'計算用シート（当年）'!$D$4:$S$4,'計算用シート（当年）'!$D142:$S142),"-") -> 清水町 | D48: =IFERROR(_xlfn.XLOOKUP(C48,市町村振興局拠点対応版!$D$6:$D$184,市町村振興局拠点対応版!$E$6:$E$184),"-") -> 十勝 | E48: =IFERROR(_xlfn.XLOOKUP('計算用シート（当年）'!$C$1,'計算用シート（当年）'!$D$4:$S$4,'計算用シート（当年）'!$D321:$S321),"-") -> 2806
A49: =IFERROR(RANK(E49,($E$46:$E$75,$E$76:$E$105,$E$106:$E$165,$E$166:$E$224),0),"-") -> 4 | B49: =IF(C49="-","","("&VLOOKUP(C49,'前年順位整理（自動更新）'!$B$3:$AX$486,MATCH('前年順位整理（自動更新）'!$B$1,'前年順位整理（自動更新）'!$B$3:$AX$3,0),)&")") -> (4) | C49: =IFERROR(_xlfn.XLOOKUP('計算用シート（当年）'!$C$1,'計算用シート（当年）'!$D$4:$S$4,'計算用シート（当年）'!$D143:$S143),"-") -> 標茶町 | D49: =IFERROR(_xlfn.XLOOKUP(C49,市町村振興局拠点対応版!$D$6:$D$184,市町村振興局拠点対応版!$E$6:$E$184),"-") -> 釧路 | E49: =IFERROR(_xlfn.XLOOKUP('計算用シート（当年）'!$C$1,'計算用シート（当年）'!$D$4:$S$4,'計算用シート（当年）'!$D322:$S322),"-") -> 2805
A50: =IFERROR(RANK(E50,($E$46:$E$75,$E$76:$E$105,$E$106:$E$165,$E$166:$E$224),0),"-") -> 5 | B50: =IF(C50="-","","("&VLOOKUP(C50,'前年順位整理（自動更新）'!$B$3:$AX$486,MATCH('前年順位整理（自動更新）'!$B$1,'前年順位整理（自動更新）'!$B$3:$AX$3,0),)&")") -> (6) | C50: =IFERROR(_xlfn.XLOOKUP('計算用シート（当年）'!$C$1,'計算用シート（当年）'!$D$4:$S$4,'計算用シート（当年）'!$D144:$S144),"-") -> 士幌町 | D50: =IFERROR(_xlfn.XLOOKUP(C50,市町村振興局拠点対応版!$D$6:$D$184,市町村振興局拠点対応版!$E$6:$E$184),"-") -> 十勝 | E50: =IFERROR(_xlfn.XLOOKUP('計算用シート（当年）'!$C$1,'計算用シート（当年）'!$D$4:$S$4,'計算用シート（当年）'!$D323:$S323),"-") -> 2763
A51: =IFERROR(RANK(E51,($E$46:$E$75,$E$76:$E$105,$E$106:$E$165,$E$166:$E$224),0),"-") -> 6 | B51: =IF(C51="-","","("&VLOOKUP(C51,'前年順位整理（自動更新）'!$B$3:$AX$486,MATCH('前年順位整理（自動更新）'!$B$1,'前年順位整理（自動更新）'!$B$3:$AX$3,0),)&")") -> (3) | C51: =IFERROR(_xlfn.XLOOKUP('計算用シート（当年）'!$C$1,'計算用シート（当年）'!$D$4:$S$4,'計算用シート（当年）'!$D145:$S145),"-") -> 幕別町 | D51: =IFERROR(_xlfn.XLOOKUP(C51,市町村振興局拠点対応版!$D$6:$D$184,市町村振興局拠点対応版!$E$6:$E$184),"-") -> 十勝 | E51: =IFERROR(_xlfn.XLOOKUP('計算用シート（当年）'!$C$1,'計算用シート（当年）'!$D$4:$S$4,'計算用シート（当年）'!$D324:$S324),"-") -> 2711
...

Sheet 計算用シート（当年）
B1: 表示データ→ | C1: =なんばんBOOK!C5 -> 農業産出額計 | E1: てんさい円グラフ用→ | F1: =K111 -> オホーツク | G1: =K112 -> 十勝 | H1: =K113 -> 上川 | I1: その他
B2: グラフの種類（判定）→ | C2: ="グラフ_"&C1 -> グラフ_農業産出額計 | F2: =K126/$K$125 -> 0.44419643 | G2: =K127/$K$125 -> 0.40401786 | H2: =K128/$K$125 -> 0.066964286 | I2: =1-F2-G2-H2 -> 0.084821429
A3: 注1：色付きセルはベタ打ち | C3: 作成時メモ（課題等）→ ※全体向けメモは右端
A4: 注2：この色のセルは要更新 | D4: 農業産出額計 | E4: 耕種 | F4: 米 | G4: 小麦 | H4: そば | I4: 大豆 | J4: ばれいしょ | K4: てんさい | L4: なたね | M4: 野菜 | N4: 果実 | O4: 花き | P4: 畜産 | Q4: 乳用牛 | R4: 生乳 | S4: 肉用牛
B5: データ年 ※手入力で更新 | D5: 令和４年 | E5: 令和４年 | F5: 令和４年 | G5: 令和４年 | H5: 令和４年 | I5: 令和４年 | J5: 令和４年 | K5: 令和４年 | L5: 令和４年 | M5: 令和４年 | N5: 令和４年 | O5: 令和４年 | P5: 令和４年 | Q5: 令和４年 | R5: 令和４年 | S5: 令和４年
B6: 全国トップ５等 | C6: タイトル | D6: 全国トップ５とシェア | E6: 全国トップ５とシェア | F6: 全国トップ５とシェア | G6: 全国トップ５とシェア | H6: 全国トップ５とシェア | I6: 全国トップ５とシェア | J6: 全国トップ５とシェア | K6: 全国値と北海道値 | L6: 全国トップ５とシェア | M6: 全国トップ５とシェア | N6: 全国ランキング上位と北海道 | O6: 全国ランキング上位と北海道 | P6: 全国トップ５とシェア | Q6: 全国トップ５とシェア | R6: 全国トップ５とシェア | S6: 全国トップ５とシェア
C7: 都道府県名 1 | D7: =IFERROR(INDEX('貼_部門別・億円単・全国（e-Stat）'!$A$15:$A$61,MATCH('貼_部門別・億円単・全国（e-Stat）'!$B15,'貼_部門別・億円単・全国（e-Stat）'!$D$15:$D$61,0)),"-") -> 北海道 | E7: =IFERROR(INDEX('貼_部門別・億円単・全国（e-Stat）'!$A$15:$A$61,MATCH('貼_部門別・億円単・全国（e-Stat）'!$B15,'貼_部門別・億円単・全国（e-Stat）'!$F$15:$F$61,0)),"-") -> 北海道 | F7: =IFERROR(INDEX('貼_部門別・億円単・全国（e-Stat）'!$A$15:$A$61,MATCH('貼_部門別・億円単・全国（e-Stat）'!$B15,'貼_部門別・億円単・全国（e-Stat）'!$H$15:$H$61,0)),"-") -> 新潟 | G7: =IFERROR(INDEX('(要確認)詳細品目・全国データ計算用シート'!$V$13:$V$59,MATCH('(要確認)詳細品目・全国データ計算用シート'!$U13,'(要確認)詳細品目・全国データ計算用シート'!$AD$13:$AD$59,0)),"-") -> 北海道 | H7: =IFERROR(INDEX('(要確認)詳細品目・全国データ計算用シート'!$V$13:$V$59,MATCH('(要確認)詳細品目・全国データ計算用シート'!$U13,'(要確認)詳細品目・全国データ計算用シート'!$AP$13:$AP$59,0)),"-") -> 北海道 | I7: =IFERROR(INDEX('(要確認)詳細品目・全国データ計算用シート'!$V$13:$V$59,MATCH('(要確認)詳細品目・全国データ計算用シート'!$U13,'(要確認)詳細品目・全国データ計算用シート'!$AL$13:$AL$59,0)),"-") -> 北海道 | J7: =IFERROR(INDEX('(要確認)詳細品目・全国データ計算用シート'!$V$13:$V$59,MATCH('(要確認)詳細品目・全国データ計算用シート'!$U13,'(要確認)詳細品目・全国データ計算用シート'!$Z$13:$Z$59,0)),"-") -> 北海道 | K7: =IFERROR(INDEX('(要確認)詳細品目・全国データ計算用シート'!$V$13:$V$59,MATCH('(要確認)詳細品目・全国データ計算用シート'!$U13,'(要確認)詳細品目・全国データ計算用シート'!$AH$13:$AH$59,0)),"-") -> 北海道 | L7: =IFERROR('貼_主要農産物の産出額と構成比（なたね含）'!H33,"-") -> 北海道 | M7: =IFERROR(INDEX('貼_部門別・億円単・全国（e-Stat）'!$A$15:$A$61,MATCH('貼_部門別・億円単・全国（e-Stat）'!$B15,'貼_部門別・億円単・全国（e-Stat）'!$R$15:$R$61,0)),"-") -> 北海道 | N7: =IFERROR(INDEX('貼_部門別・億円単・全国（e-Stat）'!$A$15:$A$61,MATCH('貼_部門別・億円単・全国（e-Stat）'!$B15,'貼_部門別・億円単・全国（e-Stat）'!$T$15:$T$61,0)),"-") -> 青森 | O7: =IFERROR(INDEX('貼_部門別・億円単・全国（e-Stat）'!$A$15:$A$61,MATCH('貼_部門別・億円単・全国（e-Stat）'!$B15,'貼_部門別・億円単・全国（e-Stat）'!$V$15:$V$61,0)),"-") -> 愛知 | P7: =IFERROR(INDEX('貼_部門別・億円単・全国（e-Stat）'!$A$15:$A$61,MATCH('貼_部門別・億円単・全国（e-Stat）'!$B15,'貼_部門別・億円単・全国（e-Stat）'!$AD$15:$AD$61,0)),"-") -> 北海道 | Q7: =IFERROR(INDEX('貼_部門別・億円単・全国（e-Stat）'!$A$15:$A$61,MATCH('貼_部門別・億円単・全国（e-Stat）'!$B15,'貼_部門別・億円単・全国（e-Stat）'!$AH$15:$AH$61,0)),"-") -> 北海道 | R7: =IFERROR(INDEX('貼_部門別・億円単・全国（e-Stat）'!$A$15:$A$61,MATCH('貼_部門別・億円単・全国（e-Stat）'!$B15,'貼_部門別・億円単・全国（e-Stat）'!$AJ$15:$AJ$61,0)),"-") -> 北海道 | S7: =IFERROR(INDEX('貼_部門別・億円単・全国（e-Stat）'!$A$15:$A$61,MATCH('貼_部門別・億円単・全国（e-Stat）'!$B15,'貼_部門別・億円単・全国（e-Stat）'!$AF$15:$AF$61,0)),"-") -> 鹿児島
C8: 2 | D8: =IFERROR(INDEX('貼_部門別・億円単・全国（e-Stat）'!$A$15:$A$61,MATCH('貼_部門別・億円単・全国（e-Stat）'!$B16,'貼_部門別・億円単・全国（e-Stat）'!$D$15:$D$61,0)),"-") -> 鹿児島 | E8: =IFERROR(INDEX('貼_部門別・億円単・全国（e-Stat）'!$A$15:$A$61,MATCH('貼_部門別・億円単・全国（e-Stat）'!$B16,'貼_部門別・億円単・全国（e-Stat）'!$F$15:$F$61,0)),"-") -> 茨城 | F8: =IFERROR(INDEX('貼_部門別・億円単・全国（e-Stat）'!$A$15:$A$61,MATCH('貼_部門別・億円単・全国（e-Stat）'!$B16,'貼_部門別・億円単・全国（e-Stat）'!$H$15:$H$61,0)),"-") -> 北海道 | G8: =IFERROR(INDEX('(要確認)詳細品目・全国データ計算用シート'!$V$13:$V$59,MATCH('(要確認)詳細品目・全国データ計算用シート'!$U14,'(要確認)詳細品目・全国データ計算用シート'!$AD$13:$AD$59,0)),"-") -> 福岡 | H8: =IFERROR(INDEX('(要確認)詳細品目・全国データ計算用シート'!$V$13:$V$59,MATCH('(要確認)詳細品目・全国データ計算用シート'!$U14,'(要確認)詳細品目・全国データ計算用シート'!$AP$13:$AP$59,0)),"-") -> 長野 | I8: =IFERROR(INDEX('(要確認)詳細品目・全国データ計算用シート'!$V$13:$V$59,MATCH('(要確認)詳細品目・全国データ計算用シート'!$U14,'(要確認)詳細品目・全国データ計算用シート'!$AL$13:$AL$59,0)),"-") -> 宮城 | J8: =IFERROR(INDEX('(要確認)詳細品目・全国データ計算用シート'!$V$13:$V$59,MATCH('(要確認)詳細品目・全国データ計算用シート'!$U14,'(要確認)詳細品目・全国データ計算用シート'!$Z$13:$Z$59,0)),"-") -> 鹿児島 | L8: =IFERROR('貼_主要農産物の産出額と構成比（なたね含）'!H34,"-") -> 青森 | M8: =IFERROR(INDEX('貼_部門別・億円単・全国（e-Stat）'!$A$15:$A$61,MATCH('貼_部門別・億円単・全国（e-Stat）'!$B16,'貼_部門別・億円単・全国（e-Stat）'!$R$15:$R$61,0)),"-") -> 茨城 | N8: =IFERROR(INDEX('貼_部門別・億円単・全国（e-Stat）'!$A$15:$A$61,MATCH('貼_部門別・億円単・全国（e-Stat）'!$B16,'貼_部門別・億円単・全国（e-Stat）'!$T$15:$T$61,0)),"-") -> 長野 | O8: =IFERROR(INDEX('貼_部門別・億円単・全国（e-Stat）'!$A$15:$A$61,MATCH('貼_部門別・億円単・全国（e-Stat）'!$B16,'貼_部門別・億円単・全国（e-Stat）'!$V$15:$V$61,0)),"-") -> 千葉 | P8: =IFERROR(INDEX('貼_部門別・億円単・全国（e-Stat）'!$A$15:$A$61,MATCH('貼_部門別・億円単・全国（e-Stat）'!$B16,'貼_部門別・億円単・全国（e-Stat）'!$AD$15:$AD$61,0)),"-") -> 鹿児島 | Q8: =IFERROR(INDEX('貼_部門別・億円単・全国（e-Stat）'!$A$15:$A$61,MATCH('貼_部門別・億円単・全国（e-Stat）'!$B16,'貼_部門別・億円単・全国（e-Stat）'!$AH$15:$AH$61,0)),"-") -> 栃木 | R8: =IFERROR(INDEX('貼_部門別・億円単・全国（e-Stat）'!$A$15:$A$61,MATCH('貼_部門別・億円単・全国（e-Stat）'!$B16,'貼_部門別・億円単・全国（e-Stat）'!$AJ$15:$AJ$61,0)),"-") -> 栃木 | S8: =IFERROR(INDEX('貼_部門別・億円単・全国（e-Stat）'!$A$15:$A$61,MATCH('貼_部門別・億円単・全国（e-Stat）'!$B16,'貼_部門別・億円単・全国（e-Stat）'!$AF$15:$AF$61,0)),"-") -> 北海道
C9: 3 | D9: =IFERROR(INDEX('貼_部門別・億円単・全国（e-Stat）'!$A$15:$A$61,MATCH('貼_部門別・億円単・全国（e-Stat）'!$B17,'貼_部門別・億円単・全国（e-Stat）'!$D$15:$D$61,0)),"-") -> 茨城 | E9: =IFERROR(INDEX('貼_部門別・億円単・全国（e-Stat）'!$A$15:$A$61,MATCH('貼_部門別・億円単・全国（e-Stat）'!$B17,'貼_部門別・億円単・全国（e-Stat）'!$F$15:$F$61,0)),"-") -> 千葉 | F9: =IFERROR(INDEX('貼_部門別・億円単・全国（e-Stat）'!$A$15:$A$61,MATCH('貼_部門別・億円単・全国（e-Stat）'!$B17,'貼_部門別・億円単・全国（e-Stat）'!$H$15:$H$61,0)),"-") -> 秋田 | G9: =IFERROR(INDEX('(要確認)詳細品目・全国データ計算用シート'!$V$13:$V$59,MATCH('(要確認)詳細品目・全国データ計算用シート'!$U15,'(要確認)詳細品目・全国データ計算用シート'!$AD$13:$AD$59,0)),"-") -> 佐賀 | H9: =IFERROR(INDEX('(要確認)詳細品目・全国データ計算用シート'!$V$13:$V$59,MATCH('(要確認)詳細品目・全国データ計算用シート'!$U15,'(要確認)詳細品目・全国データ計算用シート'!$AP$13:$AP$59,0)),"-") -> 茨城 | I9: =IFERROR(INDEX('(要確認)詳細品目・全国データ計算用シート'!$V$13:$V$59,MATCH('(要確認)詳細品目・全国データ計算用シート'!$U15,'(要確認)詳細品目・全国データ計算用シート'!$AL$13:$AL$59,0)),"-") -> 滋賀 | J9: =IFERROR(INDEX('(要確認)詳細品目・全国データ計算用シート'!$V$13:$V$59,MATCH('(要確認)詳細品目・全国データ計算用シート'!$U15,'(要確認)詳細品目・全国データ計算用シート'!$Z$13:$Z$59,0)),"-") -> 長崎 | L9: =IFERROR('貼_主要農産物の産出額と構成比（なたね含）'!H35,"-") -> 佐賀 | M9: =IFERROR(INDEX('貼_部門別・億円単・全国（e-Stat）'!$A$15:$A$61,MATCH('貼_部門別・億円単・全国（e-Stat）'!$B17,'貼_部門別・億円単・全国（e-Stat）'!$R$15:$R$61,0)),"-") -> 千葉 | N9: =IFERROR(INDEX('貼_部門別・億円単・全国（e-Stat）'!$A$15:$A$61,MATCH('貼_部門別・億円単・全国（e-Stat）'!$B17,'貼_部門別・億円単・全国（e-Stat）'!$T$15:$T$61,0)),"-") -> 山梨 | O9: =IFERROR(INDEX('貼_部門別・億円単・全国（e-Stat）'!$A$15:$A$61,MATCH('貼_部門別・億円単・全国（e-Stat）'!$B17,'貼_部門別・億円単・全国（e-Stat）'!$V$15:$V$61,0)),"-") -> 福岡 | P9: =IFERROR(INDEX('貼_部門別・億円単・全国（e-Stat）'!$A$15:$A$61,MATCH('貼_部門別・億円単・全国（e-Stat）'!$B17,'貼_部門別・億円単・全国（e-Stat）'!$AD$15:$AD$61,0)),"-") -> 宮崎 | Q9: =IFERROR(INDEX('貼_部門別・億円単・全国（e-Stat）'!$A$15:$A$61,MATCH('貼_部門別・億円単・全国（e-Stat）'!$B17,'貼_部門別・億円単・全国（e-Stat）'!$AH$15:$AH$61,0)),"-") -> 熊本 | R9: =IFERROR(INDEX('貼_部門別・億円単・全国（e-Stat）'!$A$15:$A$61,MATCH('貼_部門別・億円単・全国（e-Stat）'!$B17,'貼_部門別・億円単・全国（e-Stat）'!$AJ$15:$AJ$61,0)),"-") -> 熊本 | S9: =IFERROR(INDEX('貼_部門別・億円単・全国（e-Stat）'!$A$15:$A$61,MATCH('貼_部門別・億円単・全国（e-Stat）'!$B17,'貼_部門別・億円単・全国（e-Stat）'!$AF$15:$AF$61,0)),"-") -> 宮崎
C10: 4 | D10: =IFERROR(INDEX('貼_部門別・億円単・全国（e-Stat）'!$A$15:$A$61,MATCH('貼_部門別・億円単・全国（e-Stat）'!$B18,'貼_部門別・億円単・全国（e-Stat）'!$D$15:$D$61,0)),"-") -> 千葉 | E10: =IFERROR(INDEX('貼_部門別・億円単・全国（e-Stat）'!$A$15:$A$61,MATCH('貼_部門別・億円単・全国（e-Stat）'!$B18,'貼_部門別・億円単・全国（e-Stat）'!$F$15:$F$61,0)),"-") -> 長野 | F10: =IFERROR(INDEX('貼_部門別・億円単・全国（e-Stat）'!$A$15:$A$61,MATCH('貼_部門別・億円単・全国（e-Stat）'!$B18,'貼_部門別・億円単・全国（e-Stat）'!$H$15:$H$61,0)),"-") -> 山形 | G10: =IFERROR(INDEX('(要確認)詳細品目・全国データ計算用シート'!$V$13:$V$59,MATCH('(要確認)詳細品目・全国データ計算用シート'!$U16,'(要確認)詳細品目・全国データ計算用シート'!$AD$13:$AD$59,0)),"-") -> 愛知 | H10: =IFERROR(INDEX('(要確認)詳細品目・全国データ計算用シート'!$V$13:$V$59,MATCH('(要確認)詳細品目・全国データ計算用シート'!$U16,'(要確認)詳細品目・全国データ計算用シート'!$AP$13:$AP$59,0)),"-") -> 栃木 | I10: =IFERROR(INDEX('(要確認)詳細品目・全国データ計算用シート'!$V$13:$V$59,MATCH('(要確認)詳細品目・全国データ計算用シート'!$U16,'(要確認)詳細品目・全国データ計算用シート'!$AL$13:$AL$59,0)),"-") -> 兵庫 | J10: =IFERROR(INDEX('(要確認)詳細品目・全国データ計算用シート'!$V$13:$V$59,MATCH('(要確認)詳細品目・全国データ計算用シート'!$U16,'(要確認)詳細品目・全国データ計算用シート'!$Z$13:$Z$59,0)),"-") -> 茨城 | L10: =IFERROR('貼_主要農産物の産出額と構成比（なたね含）'!H36,"-") -> 長野 | M10: =IFERROR(INDEX('貼_部門別・億円単・全国（e-Stat）'!$A$15:$A$61,MATCH('貼_部門別・億円単・全国（e-Stat）'!$B18,'貼_部門別・億円単・全国（e-Stat）'!$R$15:$R$61,0)),"-") -> 熊本 | N10: =IFERROR(INDEX('貼_部門別・億円単・全国（e-Stat）'!$A$15:$A$61,MATCH('貼_部門別・億円単・全国（e-Stat）'!$B18,'貼_部門別・億円単・全国（e-Stat）'!$T$15:$T$61,0)),"-") -> 山形 | O10: =IFERROR(INDEX('貼_部門別・億円単・全国（e-Stat）'!$A$15:$A$61,MATCH('貼_部門別・億円単・全国（e-Stat）'!$B18,'貼_部門別・億円単・全国（e-Stat）'!$V$15:$V$61,0)),"-") -> 静岡 | P10: =IFERROR(INDEX('貼_部門別・億円単・全国（e-Stat）'!$A$15:$A$61,MATCH('貼_部門別・億円単・全国（e-Stat）'!$B18,'貼_部門別・億円単・全国（e-Stat）'!$AD$15:$AD$61,0)),"-") -> 岩手 | Q10: =IFERROR(INDEX('貼_部門別・億円単・全国（e-Stat）'!$A$15:$A$61,MATCH('貼_部門別・億円単・全国（e-Stat）'!$B18,'貼_部門別・億円単・全国（e-Stat）'!$AH$15:$AH$61,0)),"-") -> 群馬 | R10: =IFERROR(INDEX('貼_部門別・億円単・全国（e-Stat）'!$A$15:$A$61,MATCH('貼_部門別・億円単・全国（e-Stat）'!$B18,'貼_部門別・億円単・全国（e-Stat）'!$AJ$15:$AJ$61,0)),"-") -> 岩手 | S10: =IFERROR(INDEX('貼_部門別・億円単・全国（e-Stat）'!$A$15:$A$61,MATCH('貼_部門別・億円単・全国（e-Stat）'!$B18,'貼_部門別・億円単・全国（e-Stat）'!$AF$15:$AF$61,0)),"-") -> 熊本
C11: 5 | D11: =IFERROR(INDEX('貼_部門別・億円単・全国（e-Stat）'!$A$15:$A$61,MATCH('貼_部門別・億円単・全国（e-Stat）'!$B19,'貼_部門別・億円単・全国（e-Stat）'!$D$15:$D$61,0)),"-") -> 熊本 | E11: =IFERROR(INDEX('貼_部門別・億円単・全国（e-Stat）'!$A$15:$A$61,MATCH('貼_部門別・億円単・全国（e-Stat）'!$B19,'貼_部門別・億円単・全国（e-Stat）'!$F$15:$F$61,0)),"-") -> 青森 | F11: =IFERROR(INDEX('貼_部門別・億円単・全国（e-Stat）'!$A$15:$A$61,MATCH('貼_部門別・億円単・全国（e-Stat）'!$B19,'貼_部門別・億円単・全国（e-Stat）'!$H$15:$H$61,0)),"-") -> 宮城 | G11: =IFERROR(INDEX('(要確認)詳細品目・全国データ計算用シート'!$V$13:$V$59,MATCH('(要確認)詳細品目・全国データ計算用シート'!$U17,'(要確認)詳細品目・全国データ計算用シート'!$AD$13:$AD$59,0)),"-") -> 三重 | H11: =IFERROR(INDEX('(要確認)詳細品目・全国データ計算用シート'!$V$13:$V$59,MATCH('(要確認)詳細品目・全国データ計算用シート'!$U17,'(要確認)詳細品目・全国データ計算用シート'!$AP$13:$AP$59,0)),"-") -> 山形 | I11: =IFERROR(INDEX('(要確認)詳細品目・全国データ計算用シート'!$V$13:$V$59,MATCH('(要確認)詳細品目・全国データ計算用シート'!$U17,'(要確認)詳細品目・全国データ計算用シート'!$AL$13:$AL$59,0)),"-") -> 秋田 | J11: =IFERROR(INDEX('(要確認)詳細品目・全国データ計算用シート'!$V$13:$V$59,MATCH('(要確認)詳細品目・全国データ計算用シート'!$U17,'(要確認)詳細品目・全国データ計算用シート'!$Z$13:$Z$59,0)),"-") -> 千葉 | L11: =IFERROR('貼_主要農産物の産出額と構成比（なたね含）'!H37,"-") -> 滋賀 | M11: =IFERROR(INDEX('貼_部門別・億円単・全国（e-Stat）'!$A$15:$A$61,MATCH('貼_部門別・億円単・全国（e-Stat）'!$B19,'貼_部門別・億円単・全国（e-Stat）'!$R$15:$R$61,0)),"-") -> 愛知 | N11: =IFERROR(INDEX('貼_部門別・億円単・全国（e-Stat）'!$A$15:$A$61,MATCH('貼_部門別・億円単・全国（e-Stat）'!$B19,'貼_部門別・億円単・全国（e-Stat）'!$T$15:$T$61,0)),"-") -> 和歌山 | O11: =IFERROR(INDEX('貼_部門別・億円単・全国（e-Stat）'!$A$15:$A$61,MATCH('貼_部門別・億円単・全国（e-Stat）'!$B19,'貼_部門別・億円単・全国（e-Stat）'!$V$15:$V$61,0)),"-") -> 長野 | P11: =IFERROR(INDEX('貼_部門別・億円単・全国（e-Stat）'!$A$15:$A$61,MATCH('貼_部門別・億円単・全国（e-Stat）'!$B19,'貼_部門別・億円単・全国（e-Stat）'!$AD$15:$AD$61,0)),"-") -> 熊本 | Q11: =IFERROR(INDEX('貼_部門別・億円単・全国（e-Stat）'!$A$15:$A$61,MATCH('貼_部門別・億円単・全国（e-Stat）'!$B19,'貼_部門別・億円単・全国（e-Stat）'!$AH$15:$AH$61,0)),"-") -> 千葉 | R11: =IFERROR(INDEX('貼_部門別・億円単・全国（e-Stat）'!$A$15:$A$61,MATCH('貼_部門別・億円単・全国（e-Stat）'!$B19,'貼_部門別・億円単・全国（e-Stat）'!$AJ$15:$AJ$61,0)),"-") -> 千葉 | S11: =IFERROR(INDEX('貼_部門別・億円単・全国（e-Stat）'!$A$15:$A$61,MATCH('貼_部門別・億円単・全国（e-Stat）'!$B19,'貼_部門別・億円単・全国（e-Stat）'!$AF$15:$AF$61,0)),"-") -> 長崎
D12: =IFERROR(INDEX('貼_部門別・億円単・全国（e-Stat）'!$A$15:$A$61,MATCH('貼_部門別・億円単・全国（e-Stat）'!$B20,'貼_部門別・億円単・全国（e-Stat）'!$D$15:$D$61,0)),"-") -> 宮崎 | E12: =IFERROR(INDEX('貼_部門別・億円単・全国（e-Stat）'!$A$15:$A$61,MATCH('貼_部門別・億円単・全国（e-Stat）'!$B20,'貼_部門別・億円単・全国（e-Stat）'!$F$15:$F$61,0)),"-") -> 愛知 | F12: =IFERROR(INDEX('貼_部門別・億円単・全国（e-Stat）'!$A$15:$A$61,MATCH('貼_部門別・億円単・全国（e-Stat）'!$B20,'貼_部門別・億円単・全国（e-Stat）'!$H$15:$H$61,0)),"-") -> 茨城 | G12: =IFERROR(INDEX('(要確認)詳細品目・全国データ計算用シート'!$V$13:$V$59,MATCH('(要確認)詳細品目・全国データ計算用シート'!$U18,'(要確認)詳細品目・全国データ計算用シート'!$AD$13:$AD$59,0)),"-") -> 群馬 | H12: =IFERROR(INDEX('(要確認)詳細品目・全国データ計算用シート'!$V$13:$V$59,MATCH('(要確認)詳細品目・全国データ計算用シート'!$U18,'(要確認)詳細品目・全国データ計算用シート'!$AP$13:$AP$59,0)),"-") -> 福島 | I12: =IFERROR(INDEX('(要確認)詳細品目・全国データ計算用シート'!$V$13:$V$59,MATCH('(要確認)詳細品目・全国データ計算用シート'!$U18,'(要確認)詳細品目・全国データ計算用シート'!$AL$13:$AL$59,0)),"-") -> 福岡 | J12: =IFERROR(INDEX('(要確認)詳細品目・全国データ計算用シート'!$V$13:$V$59,MATCH('(要確認)詳細品目・全国データ計算用シート'!$U18,'(要確認)詳細品目・全国データ計算用シート'!$Z$13:$Z$59,0)),"-") -> 静岡 | L12: =IFERROR('貼_主要農産物の産出額と構成比（なたね含）'!H38,"-") -> 福岡 | M12: =IFERROR(INDEX('貼_部門別・億円単・全国（e-Stat）'!$A$15:$A$61,MATCH('貼_部門別・億円単・全国（e-Stat）'!$B20,'貼_部門別・億円単・全国（e-Stat）'!$R$15:$R$61,0)),"-") -> 群馬 | N12: =IFERROR(INDEX('貼_部門別・億円単・全国（e-Stat）'!$A$15:$A$61,MATCH('貼_部門別・億円単・全国（e-Stat）'!$B20,'貼_部門別・億円単・全国（e-Stat）'!$T$15:$T$61,0)),"-") -> 愛媛 | O12: =IFERROR(INDEX('貼_部門別・億円単・全国（e-Stat）'!$A$15:$A$61,MATCH('貼_部門別・億円単・全国（e-Stat）'!$B20,'貼_部門別・億円単・全国（e-Stat）'!$V$15:$V$61,0)),"-") -> 茨城 | P12: =IFERROR(INDEX('貼_部門別・億円単・全国（e-Stat）'!$A$15:$A$61,MATCH('貼_部門別・億円単・全国（e-Stat）'!$B20,'貼_部門別・億円単・全国（e-Stat）'!$AD$15:$AD$61,0)),"-") -> 茨城 | Q12: =IFERROR(INDEX('貼_部門別・億円単・全国（e-Stat）'!$A$15:$A$61,MATCH('貼_部門別・億円単・全国（e-Stat）'!$B20,'貼_部門別・億円単・全国（e-Stat）'!$AH$15:$AH$61,0)),"-") -> 岩手 | R12: =IFERROR(INDEX('貼_部門別・億円単・全国（e-Stat）'!$A$15:$A$61,MATCH('貼_部門別・億円単・全国（e-Stat）'!$B20,'貼_部門別・億円単・全国（e-Stat）'!$AJ$15:$AJ$61,0)),"-") -> 群馬 | S12: =IFERROR(INDEX('貼_部門別・億円単・全国（e-Stat）'!$A$15:$A$61,MATCH('貼_部門別・億円単・全国（e-Stat）'!$B20,'貼_部門別・億円単・全国（e-Stat）'!$AF$15:$AF$61,0)),"-") -> 岩手
D13: =IFERROR(INDEX('貼_部門別・億円単・全国（e-Stat）'!$A$15:$A$61,MATCH('貼_部門別・億円単・全国（e-Stat）'!$B21,'貼_部門別・億円単・全国（e-Stat）'!$D$15:$D$61,0)),"-") -> 青森 | E13: =IFERROR(INDEX('貼_部門別・億円単・全国（e-Stat）'!$A$15:$A$61,MATCH('貼_部門別・億円単・全国（e-Stat）'!$B21,'貼_部門別・億円単・全国（e-Stat）'!$F$15:$F$61,0)),"-") -> 熊本 | F13: =IFERROR(INDEX('貼_部門別・億円単・全国（e-Stat）'!$A$15:$A$61,MATCH('貼_部門別・億円単・全国（e-Stat）'!$B21,'貼_部門別・億円単・全国（e-Stat）'!$H$15:$H$61,0)),"-") -> 福島 | G13: =IFERROR(INDEX('(要確認)詳細品目・全国データ計算用シート'!$V$13:$V$59,MATCH('(要確認)詳細品目・全国データ計算用シート'!$U19,'(要確認)詳細品目・全国データ計算用シート'!$AD$13:$AD$59,0)),"-") -> 滋賀 | H13: =IFERROR(INDEX('(要確認)詳細品目・全国データ計算用シート'!$V$13:$V$59,MATCH('(要確認)詳細品目・全国データ計算用シート'!$U19,'(要確認)詳細品目・全国データ計算用シート'!$AP$13:$AP$59,0)),"-") -> 秋田 | I13: =IFERROR(INDEX('(要確認)詳細品目・全国データ計算用シート'!$V$13:$V$59,MATCH('(要確認)詳細品目・全国データ計算用シート'!$U19,'(要確認)詳細品目・全国データ計算用シート'!$AL$13:$AL$59,0)),"-") -> 佐賀 | J13: =IFERROR(INDEX('(要確認)詳細品目・全国データ計算用シート'!$V$13:$V$59,MATCH('(要確認)詳細品目・全国データ計算用シート'!$U19,'(要確認)詳細品目・全国データ計算用シート'!$Z$13:$Z$59,0)),"-") -> 長野 | L13: =IFERROR('貼_主要農産物の産出額と構成比（なたね含）'!H39,"-") -> 熊本 | M13: =IFERROR(INDEX('貼_部門別・億円単・全国（e-Stat）'!$A$15:$A$61,MATCH('貼_部門別・億円単・全国（e-Stat）'!$B21,'貼_部門別・億円単・全国（e-Stat）'!$R$15:$R$61,0)),"-") -> 長野 | N13: =IFERROR(INDEX('貼_部門別・億円単・全国（e-Stat）'!$A$15:$A$61,MATCH('貼_部門別・億円単・全国（e-Stat）'!$B21,'貼_部門別・億円単・全国（e-Stat）'!$T$15:$T$61,0)),"-") -> 熊本 | O13: =IFERROR(INDEX('貼_部門別・億円単・全国（e-Stat）'!$A$15:$A$61,MATCH('貼_部門別・億円単・全国（e-Stat）'!$B21,'貼_部門別・億円単・全国（e-Stat）'!$V$15:$V$61,0)),"-") -> 埼玉 | P13: =IFERROR(INDEX('貼_部門別・億円単・全国（e-Stat）'!$A$15:$A$61,MATCH('貼_部門別・億円単・全国（e-Stat）'!$B21,'貼_部門別・億円単・全国（e-Stat）'!$AD$15:$AD$61,0)),"-") -> 栃木 | Q13: =IFERROR(INDEX('貼_部門別・億円単・全国（e-Stat）'!$A$15:$A$61,MATCH('貼_部門別・億円単・全国（e-Stat）'!$B21,'貼_部門別・億円単・全国（e-Stat）'!$AH$15:$AH$61,0)),"-") -> 茨城 | R13: =IFERROR(INDEX('貼_部門別・億円単・全国（e-Stat）'!$A$15:$A$61,MATCH('貼_部門別・億円単・全国（e-Stat）'!$B21,'貼_部門別・億円単・全国（e-Stat）'!$AJ$15:$AJ$61,0)),"-") -> 茨城 | S13: =IFERROR(INDEX('貼_部門別・億円単・全国（e-Stat）'!$A$15:$A$61,MATCH('貼_部門別・億円単・全国（e-Stat）'!$B21,'貼_部門別・億円単・全国（e-Stat）'!$AF$15:$AF$61,0)),"-") -> 宮城
D14: =IFERROR(INDEX('貼_部門別・億円単・全国（e-Stat）'!$A$15:$A$61,MATCH('貼_部門別・億円単・全国（e-Stat）'!$B22,'貼_部門別・億円単・全国（e-Stat）'!$D$15:$D$61,0)),"-") -> 愛知 | E14: =IFERROR(INDEX('貼_部門別・億円単・全国（e-Stat）'!$A$15:$A$61,MATCH('貼_部門別・億円単・全国（e-Stat）'!$B22,'貼_部門別・億円単・全国（e-Stat）'!$F$15:$F$61,0)),"-") -> 山形 | F14: =IFERROR(INDEX('貼_部門別・億円単・全国（e-Stat）'!$A$15:$A$61,MATCH('貼_部門別・億円単・全国（e-Stat）'!$B22,'貼_部門別・億円単・全国（e-Stat）'!$H$15:$H$61,0)),"-") -> 千葉 | G14: =IFERROR(INDEX('(要確認)詳細品目・全国データ計算用シート'!$V$13:$V$59,MATCH('(要確認)詳細品目・全国データ計算用シート'!$U20,'(要確認)詳細品目・全国データ計算用シート'!$AD$13:$AD$59,0)),"-") -> 埼玉 | H14: =IFERROR(INDEX('(要確認)詳細品目・全国データ計算用シート'!$V$13:$V$59,MATCH('(要確認)詳細品目・全国データ計算用シート'!$U20,'(要確認)詳細品目・全国データ計算用シート'!$AP$13:$AP$59,0)),"-") -> 福井 | I14: =IFERROR(INDEX('(要確認)詳細品目・全国データ計算用シート'!$V$13:$V$59,MATCH('(要確認)詳細品目・全国データ計算用シート'!$U20,'(要確認)詳細品目・全国データ計算用シート'!$AL$13:$AL$59,0)),"-") -> 山形 | J14: =IFERROR(INDEX('(要確認)詳細品目・全国データ計算用シート'!$V$13:$V$59,MATCH('(要確認)詳細品目・全国データ計算用シート'!$U20,'(要確認)詳細品目・全国データ計算用シート'!$Z$13:$Z$59,0)),"-") -> 青森 | L14: =IFERROR('貼_主要農産物の産出額と構成比（なたね含）'!H40,"-") -> 三重 | M14: =IFERROR(INDEX('貼_部門別・億円単・全国（e-Stat）'!$A$15:$A$61,MATCH('貼_部門別・億円単・全国（e-Stat）'!$B22,'貼_部門別・億円単・全国（e-Stat）'!$R$15:$R$61,0)),"-") -> 栃木 | N14: =IFERROR(INDEX('貼_部門別・億円単・全国（e-Stat）'!$A$15:$A$61,MATCH('貼_部門別・億円単・全国（e-Stat）'!$B22,'貼_部門別・億円単・全国（e-Stat）'!$T$15:$T$61,0)),"-") -> 福島 | O14: =IFERROR(INDEX('貼_部門別・億円単・全国（e-Stat）'!$A$15:$A$61,MATCH('貼_部門別・億円単・全国（e-Stat）'!$B22,'貼_部門別・億円単・全国（e-Stat）'!$V$15:$V$61,0)),"-") -> 北海道 | P14: =IFERROR(INDEX('貼_部門別・億円単・全国（e-Stat）'!$A$15:$A$61,MATCH('貼_部門別・億円単・全国（e-Stat）'!$B22,'貼_部門別・億円単・全国（e-Stat）'!$AD$15:$AD$61,0)),"-") -> 千葉 | Q14: =IFERROR(INDEX('貼_部門別・億円単・全国（e-Stat）'!$A$15:$A$61,MATCH('貼_部門別・億円単・全国（e-Stat）'!$B22,'貼_部門別・億円単・全国（e-Stat）'!$AH$15:$AH$61,0)),"-") -> 愛知 | R14: =IFERROR(INDEX('貼_部門別・億円単・全国（e-Stat）'!$A$15:$A$61,MATCH('貼_部門別・億円単・全国（e-Stat）'!$B22,'貼_部門別・億円単・全国（e-Stat）'!$AJ$15:$AJ$61,0)),"-") -> 愛知 | S14: =IFERROR(INDEX('貼_部門別・億円単・全国（e-Stat）'!$A$15:$A$61,MATCH('貼_部門別・億円単・全国（e-Stat）'!$B22,'貼_部門別・億円単・全国（e-Stat）'!$AF$15:$AF$61,0)),"-") -> 栃木
D15: =IFERROR(INDEX('貼_部門別・億円単・全国（e-Stat）'!$A$15:$A$61,MATCH('貼_部門別・億円単・全国（e-Stat）'!$B23,'貼_部門別・億円単・全国（e-Stat）'!$D$15:$D$61,0)),"-") -> 栃木 | E15: =IFERROR(INDEX('貼_部門別・億円単・全国（e-Stat）'!$A$15:$A$61,MATCH('貼_部門別・億円単・全国（e-Stat）'!$B23,'貼_部門別・億円単・全国（e-Stat）'!$F$15:$F$61,0)),"-") -> 新潟 | F15: =IFERROR(INDEX('貼_部門別・億円単・全国（e-Stat）'!$A$15:$A$61,MATCH('貼_部門別・億円単・全国（e-Stat）'!$B23,'貼_部門別・億円単・全国（e-Stat）'!$H$15:$H$61,0)),"-") -> 岩手 | G15: =IFERROR(INDEX('(要確認)詳細品目・全国データ計算用シート'!$V$13:$V$59,MATCH('(要確認)詳細品目・全国データ計算用シート'!$U21,'(要確認)詳細品目・全国データ計算用シート'!$AD$13:$AD$59,0)),"-") -> 熊本 | H15: =IFERROR(INDEX('(要確認)詳細品目・全国データ計算用シート'!$V$13:$V$59,MATCH('(要確認)詳細品目・全国データ計算用シート'!$U21,'(要確認)詳細品目・全国データ計算用シート'!$AP$13:$AP$59,0)),"-") -> 岩手 | I15: =IFERROR(INDEX('(要確認)詳細品目・全国データ計算用シート'!$V$13:$V$59,MATCH('(要確認)詳細品目・全国データ計算用シート'!$U21,'(要確認)詳細品目・全国データ計算用シート'!$AL$13:$AL$59,0)),"-") -> 新潟 | J15: =IFERROR(INDEX('(要確認)詳細品目・全国データ計算用シート'!$V$13:$V$59,MATCH('(要確認)詳細品目・全国データ計算用シート'!$U21,'(要確認)詳細品目・全国データ計算用シート'!$Z$13:$Z$59,0)),"-") -> 熊本 | L15: =IFERROR('貼_主要農産物の産出額と構成比（なたね含）'!H41,"-") -> 埼玉 | M15: =IFERROR(INDEX('貼_部門別・億円単・全国（e-Stat）'!$A$15:$A$61,MATCH('貼_部門別・億円単・全国（e-Stat）'!$B23,'貼_部門別・億円単・全国（e-Stat）'!$R$15:$R$61,0)),"-") -> 埼玉 | N15: =IFERROR(INDEX('貼_部門別・億円単・全国（e-Stat）'!$A$15:$A$61,MATCH('貼_部門別・億円単・全国（e-Stat）'!$B23,'貼_部門別・億円単・全国（e-Stat）'!$T$15:$T$61,0)),"-") -> 静岡 | O15: =IFERROR(INDEX('貼_部門別・億円単・全国（e-Stat）'!$A$15:$A$61,MATCH('貼_部門別・億円単・全国（e-Stat）'!$B23,'貼_部門別・億円単・全国（e-Stat）'!$V$15:$V$61,0)),"-") -> 鹿児島 | P15: =IFERROR(INDEX('貼_部門別・億円単・全国（e-Stat）'!$A$15:$A$61,MATCH('貼_部門別・億円単・全国（e-Stat）'!$B23,'貼_部門別・億円単・全国（e-Stat）'!$AD$15:$AD$61,0)),"-") -> 群馬 | Q15: =IFERROR(INDEX('貼_部門別・億円単・全国（e-Stat）'!$A$15:$A$61,MATCH('貼_部門別・億円単・全国（e-Stat）'!$B23,'貼_部門別・億円単・全国（e-Stat）'!$AH$15:$AH$61,0)),"-") -> 岡山 | R15: =IFERROR(INDEX('貼_部門別・億円単・全国（e-Stat）'!$A$15:$A$61,MATCH('貼_部門別・億円単・全国（e-Stat）'!$B23,'貼_部門別・億円単・全国（e-Stat）'!$AJ$15:$AJ$61,0)),"-") -> 岡山 | S15: =IFERROR(INDEX('貼_部門別・億円単・全国（e-Stat）'!$A$15:$A$61,MATCH('貼_部門別・億円単・全国（e-Stat）'!$B23,'貼_部門別・億円単・全国（e-Stat）'!$AF$15:$AF$61,0)),"-") -> 沖縄
D16: =IFERROR(INDEX('貼_部門別・億円単・全国（e-Stat）'!$A$15:$A$61,MATCH('貼_部門別・億円単・全国（e-Stat）'!$B24,'貼_部門別・億円単・全国（e-Stat）'!$D$15:$D$61,0)),"-") -> 長野 | E16: =IFERROR(INDEX('貼_部門別・億円単・全国（e-Stat）'!$A$15:$A$61,MATCH('貼_部門別・億円単・全国（e-Stat）'!$B24,'貼_部門別・億円単・全国（e-Stat）'!$F$15:$F$61,0)),"-") -> 福岡 | F16: =IFERROR(INDEX('貼_部門別・億円単・全国（e-Stat）'!$A$15:$A$61,MATCH('貼_部門別・億円単・全国（e-Stat）'!$B24,'貼_部門別・億円単・全国（e-Stat）'!$H$15:$H$61,0)),"-") -> 栃木 | G16: =IFERROR(INDEX('(要確認)詳細品目・全国データ計算用シート'!$V$13:$V$59,MATCH('(要確認)詳細品目・全国データ計算用シート'!$U22,'(要確認)詳細品目・全国データ計算用シート'!$AD$13:$AD$59,0)),"-") -> 岐阜 | H16: =IFERROR(INDEX('(要確認)詳細品目・全国データ計算用シート'!$V$13:$V$59,MATCH('(要確認)詳細品目・全国データ計算用シート'!$U22,'(要確認)詳細品目・全国データ計算用シート'!$AP$13:$AP$59,0)),"-") -> 鹿児島 | I16: =IFERROR(INDEX('(要確認)詳細品目・全国データ計算用シート'!$V$13:$V$59,MATCH('(要確認)詳細品目・全国データ計算用シート'!$U22,'(要確認)詳細品目・全国データ計算用シート'!$AL$13:$AL$59,0)),"-") -> 富山 | J16: =IFERROR(INDEX('(要確認)詳細品目・全国データ計算用シート'!$V$13:$V$59,MATCH('(要確認)詳細品目・全国データ計算用シート'!$U22,'(要確認)詳細品目・全国データ計算用シート'!$Z$13:$Z$59,0)),"-") -> 埼玉 | L16: =IFERROR('貼_主要農産物の産出額と構成比（なたね含）'!H42,"-") -> 愛知 | M16: =IFERROR(INDEX('貼_部門別・億円単・全国（e-Stat）'!$A$15:$A$61,MATCH('貼_部門別・億円単・全国（e-Stat）'!$B24,'貼_部門別・億円単・全国（e-Stat）'!$R$15:$R$61,0)),"-") -> 福岡 | N16: =IFERROR(INDEX('貼_部門別・億円単・全国（e-Stat）'!$A$15:$A$61,MATCH('貼_部門別・億円単・全国（e-Stat）'!$B24,'貼_部門別・億円単・全国（e-Stat）'!$T$15:$T$61,0)),"-") -> 岡山 | O16: =IFERROR(INDEX('貼_部門別・億円単・全国（e-Stat）'!$A$15:$A$61,MATCH('貼_部門別・億円単・全国（e-Stat）'!$B24,'貼_部門別・億円単・全国（e-Stat）'!$V$15:$V$61,0)),"-") -> 熊本 | P16: =IFERROR(INDEX('貼_部門別・億円単・全国（e-Stat）'!$A$15:$A$61,MATCH('貼_部門別・億円単・全国（e-Stat）'!$B24,'貼_部門別・億円単・全国（e-Stat）'!$AD$15:$AD$61,0)),"-") -> 青森 | Q16: =IFERROR(INDEX('貼_部門別・億円単・全国（e-Stat）'!$A$15:$A$61,MATCH('貼_部門別・億円単・全国（e-Stat）'!$B24,'貼_部門別・億円単・全国（e-Stat）'!$AH$15:$AH$61,0)),"-") -> 宮城 | R16: =IFERROR(INDEX('貼_部門別・億円単・全国（e-Stat）'!$A$15:$A$61,MATCH('貼_部門別・億円単・全国（e-Stat）'!$B24,'貼_部門別・億円単・全国（e-Stat）'!$AJ$15:$AJ$61,0)),"-") -> 宮城 | S16: =IFERROR(INDEX('貼_部門別・億円単・全国（e-Stat）'!$A$15:$A$61,MATCH('貼_部門別・億円単・全国（e-Stat）'!$B24,'貼_部門別・億円単・全国（e-Stat）'!$AF$15:$AF$61,0)),"-") -> 茨城
D17: =IFERROR(INDEX('貼_部門別・億円単・全国（e-Stat）'!$A$15:$A$61,MATCH('貼_部門別・億円単・全国（e-Stat）'!$B25,'貼_部門別・億円単・全国（e-Stat）'!$D$15:$D$61,0)),"-") -> 岩手 | E17: =IFERROR(INDEX('貼_部門別・億円単・全国（e-Stat）'!$A$15:$A$61,MATCH('貼_部門別・億円単・全国（e-Stat）'!$B25,'貼_部門別・億円単・全国（e-Stat）'!$F$15:$F$61,0)),"-") -> 鹿児島 | F17: =IFERROR(INDEX('貼_部門別・億円単・全国（e-Stat）'!$A$15:$A$61,MATCH('貼_部門別・億円単・全国（e-Stat）'!$B25,'貼_部門別・億円単・全国（e-Stat）'!$H$15:$H$61,0)),"-") -> 兵庫 | G17: =IFERROR(INDEX('(要確認)詳細品目・全国データ計算用シート'!$V$13:$V$59,MATCH('(要確認)詳細品目・全国データ計算用シート'!$U23,'(要確認)詳細品目・全国データ計算用シート'!$AD$13:$AD$59,0)),"-") -> 茨城 | H17: =IFERROR(INDEX('(要確認)詳細品目・全国データ計算用シート'!$V$13:$V$59,MATCH('(要確認)詳細品目・全国データ計算用シート'!$U23,'(要確認)詳細品目・全国データ計算用シート'!$AP$13:$AP$59,0)),"-") -> 新潟 | I17: =IFERROR(INDEX('(要確認)詳細品目・全国データ計算用シート'!$V$13:$V$59,MATCH('(要確認)詳細品目・全国データ計算用シート'!$U23,'(要確認)詳細品目・全国データ計算用シート'!$AL$13:$AL$59,0)),"-") -> 岩手 | J17: =IFERROR(INDEX('(要確認)詳細品目・全国データ計算用シート'!$V$13:$V$59,MATCH('(要確認)詳細品目・全国データ計算用シート'!$U23,'(要確認)詳細品目・全国データ計算用シート'!$Z$13:$Z$59,0)),"-") -> 広島 | L17: =IFERROR('貼_主要農産物の産出額と構成比（なたね含）'!H43,"-") -> 大分 | M17: =IFERROR(INDEX('貼_部門別・億円単・全国（e-Stat）'!$A$15:$A$61,MATCH('貼_部門別・億円単・全国（e-Stat）'!$B25,'貼_部門別・億円単・全国（e-Stat）'!$R$15:$R$61,0)),"-") -> 高知 | N17: =IFERROR(INDEX('貼_部門別・億円単・全国（e-Stat）'!$A$15:$A$61,MATCH('貼_部門別・億円単・全国（e-Stat）'!$B25,'貼_部門別・億円単・全国（e-Stat）'!$T$15:$T$61,0)),"-") -> 福岡 | O17: =IFERROR(INDEX('貼_部門別・億円単・全国（e-Stat）'!$A$15:$A$61,MATCH('貼_部門別・億円単・全国（e-Stat）'!$B25,'貼_部門別・億円単・全国（e-Stat）'!$V$15:$V$61,0)),"-") -> 沖縄 | P17: =IFERROR(INDEX('貼_部門別・億円単・全国（e-Stat）'!$A$15:$A$61,MATCH('貼_部門別・億円単・全国（e-Stat）'!$B25,'貼_部門別・億円単・全国（e-Stat）'!$AD$15:$AD$61,0)),"-") -> 愛知 | Q17: =IFERROR(INDEX('貼_部門別・億円単・全国（e-Stat）'!$A$15:$A$61,MATCH('貼_部門別・億円単・全国（e-Stat）'!$B25,'貼_部門別・億円単・全国（e-Stat）'!$AH$15:$AH$61,0)),"-") -> 長野 | R17: =IFERROR(INDEX('貼_部門別・億円単・全国（e-Stat）'!$A$15:$A$61,MATCH('貼_部門別・億円単・全国（e-Stat）'!$B25,'貼_部門別・億円単・全国（e-Stat）'!$AJ$15:$AJ$61,0)),"-") -> 兵庫 | S17: =IFERROR(INDEX('貼_部門別・億円単・全国（e-Stat）'!$A$15:$A$61,MATCH('貼_部門別・億円単・全国（e-Stat）'!$B25,'貼_部門別・億円単・全国（e-Stat）'!$AF$15:$AF$61,0)),"-") -> 群馬
D18: =IFERROR(INDEX('貼_部門別・億円単・全国（e-Stat）'!$A$15:$A$61,MATCH('貼_部門別・億円単・全国（e-Stat）'!$B26,'貼_部門別・億円単・全国（e-Stat）'!$D$15:$D$61,0)),"-") -> 群馬 | E18: =IFERROR(INDEX('貼_部門別・億円単・全国（e-Stat）'!$A$15:$A$61,MATCH('貼_部門別・億円単・全国（e-Stat）'!$B26,'貼_部門別・億円単・全国（e-Stat）'!$F$15:$F$61,0)),"-") -> 静岡 | F18: =IFERROR(INDEX('貼_部門別・億円単・全国（e-Stat）'!$A$15:$A$61,MATCH('貼_部門別・億円単・全国（e-Stat）'!$B26,'貼_部門別・億円単・全国（e-Stat）'!$H$15:$H$61,0)),"-") -> 青森 | G18: =IFERROR(INDEX('(要確認)詳細品目・全国データ計算用シート'!$V$13:$V$59,MATCH('(要確認)詳細品目・全国データ計算用シート'!$U24,'(要確認)詳細品目・全国データ計算用シート'!$AD$13:$AD$59,0)),"-") -> 岩手 | H18: =IFERROR(INDEX('(要確認)詳細品目・全国データ計算用シート'!$V$13:$V$59,MATCH('(要確認)詳細品目・全国データ計算用シート'!$U24,'(要確認)詳細品目・全国データ計算用シート'!$AP$13:$AP$59,0)),"-") -> 青森 | I18: =IFERROR(INDEX('(要確認)詳細品目・全国データ計算用シート'!$V$13:$V$59,MATCH('(要確認)詳細品目・全国データ計算用シート'!$U24,'(要確認)詳細品目・全国データ計算用シート'!$AL$13:$AL$59,0)),"-") -> 愛知 | J18: =IFERROR(INDEX('(要確認)詳細品目・全国データ計算用シート'!$V$13:$V$59,MATCH('(要確認)詳細品目・全国データ計算用シート'!$U24,'(要確認)詳細品目・全国データ計算用シート'!$Z$13:$Z$59,0)),"-") -> 福島 | L18: =IFERROR('貼_主要農産物の産出額と構成比（なたね含）'!H44,"-") -> 福島 | M18: =IFERROR(INDEX('貼_部門別・億円単・全国（e-Stat）'!$A$15:$A$61,MATCH('貼_部門別・億円単・全国（e-Stat）'!$B26,'貼_部門別・億円単・全国（e-Stat）'!$R$15:$R$61,0)),"-") -> 青森 | N18: =IFERROR(INDEX('貼_部門別・億円単・全国（e-Stat）'!$A$15:$A$61,MATCH('貼_部門別・億円単・全国（e-Stat）'!$B26,'貼_部門別・億円単・全国（e-Stat）'!$T$15:$T$61,0)),"-") -> 佐賀 | O18: =IFERROR(INDEX('貼_部門別・億円単・全国（e-Stat）'!$A$15:$A$61,MATCH('貼_部門別・億円単・全国（e-Stat）'!$B26,'貼_部門別・億円単・全国（e-Stat）'!$V$15:$V$61,0)),"-") -> 長崎 | P18: =IFERROR(INDEX('貼_部門別・億円単・全国（e-Stat）'!$A$15:$A$61,MATCH('貼_部門別・億円単・全国（e-Stat）'!$B26,'貼_部門別・億円単・全国（e-Stat）'!$AD$15:$AD$61,0)),"-") -> 宮城 | Q18: =IFERROR(INDEX('貼_部門別・億円単・全国（e-Stat）'!$A$15:$A$61,MATCH('貼_部門別・億円単・全国（e-Stat）'!$B26,'貼_部門別・億円単・全国（e-Stat）'!$AH$15:$AH$61,0)),"-") -> 兵庫 | R18: =IFERROR(INDEX('貼_部門別・億円単・全国（e-Stat）'!$A$15:$A$61,MATCH('貼_部門別・億円単・全国（e-Stat）'!$B26,'貼_部門別・億円単・全国（e-Stat）'!$AJ$15:$AJ$61,0)),"-") -> 長野 | S18: =IFERROR(INDEX('貼_部門別・億円単・全国（e-Stat）'!$A$15:$A$61,MATCH('貼_部門別・億円単・全国（e-Stat）'!$B26,'貼_部門別・億円単・全国（e-Stat）'!$AF$15:$AF$61,0)),"-") -> 佐賀
D19: =IFERROR(INDEX('貼_部門別・億円単・全国（e-Stat）'!$A$15:$A$61,MATCH('貼_部門別・億円単・全国（e-Stat）'!$B27,'貼_部門別・億円単・全国（e-Stat）'!$D$15:$D$61,0)),"-") -> 山形 | E19: =IFERROR(INDEX('貼_部門別・億円単・全国（e-Stat）'!$A$15:$A$61,MATCH('貼_部門別・億円単・全国（e-Stat）'!$B27,'貼_部門別・億円単・全国（e-Stat）'!$F$15:$F$61,0)),"-") -> 福島 | F19: =IFERROR(INDEX('貼_部門別・億円単・全国（e-Stat）'!$A$15:$A$61,MATCH('貼_部門別・億円単・全国（e-Stat）'!$B27,'貼_部門別・億円単・全国（e-Stat）'!$H$15:$H$61,0)),"-") -> 長野 | G19: =IFERROR(INDEX('(要確認)詳細品目・全国データ計算用シート'!$V$13:$V$59,MATCH('(要確認)詳細品目・全国データ計算用シート'!$U25,'(要確認)詳細品目・全国データ計算用シート'!$AD$13:$AD$59,0)),"-") -> 長野 | H19: =IFERROR(INDEX('(要確認)詳細品目・全国データ計算用シート'!$V$13:$V$59,MATCH('(要確認)詳細品目・全国データ計算用シート'!$U25,'(要確認)詳細品目・全国データ計算用シート'!$AP$13:$AP$59,0)),"-") -> 群馬 | I19: =IFERROR(INDEX('(要確認)詳細品目・全国データ計算用シート'!$V$13:$V$59,MATCH('(要確認)詳細品目・全国データ計算用シート'!$U25,'(要確認)詳細品目・全国データ計算用シート'!$AL$13:$AL$59,0)),"-") -> 茨城 | J19: =IFERROR(INDEX('(要確認)詳細品目・全国データ計算用シート'!$V$13:$V$59,MATCH('(要確認)詳細品目・全国データ計算用シート'!$U25,'(要確認)詳細品目・全国データ計算用シート'!$Z$13:$Z$59,0)),"-") -> 宮崎 | L19: =IFERROR('貼_主要農産物の産出額と構成比（なたね含）'!H45,"-") -> 群馬 | M19: =IFERROR(INDEX('貼_部門別・億円単・全国（e-Stat）'!$A$15:$A$61,MATCH('貼_部門別・億円単・全国（e-Stat）'!$B27,'貼_部門別・億円単・全国（e-Stat）'!$R$15:$R$61,0)),"-") -> 宮崎 | N19: =IFERROR(INDEX('貼_部門別・億円単・全国（e-Stat）'!$A$15:$A$61,MATCH('貼_部門別・億円単・全国（e-Stat）'!$B27,'貼_部門別・億円単・全国（e-Stat）'!$T$15:$T$61,0)),"-") -> 愛知 | O19: =IFERROR(INDEX('貼_部門別・億円単・全国（e-Stat）'!$A$15:$A$61,MATCH('貼_部門別・億円単・全国（e-Stat）'!$B27,'貼_部門別・億円単・全国（e-Stat）'!$V$15:$V$61,0)),"-") -> 福島 | P19: =IFERROR(INDEX('貼_部門別・億円単・全国（e-Stat）'!$A$15:$A$61,MATCH('貼_部門別・億円単・全国（e-Stat）'!$B27,'貼_部門別・億円単・全国（e-Stat）'!$AD$15:$AD$61,0)),"-") -> 岡山 | Q19: =IFERROR(INDEX('貼_部門別・億円単・全国（e-Stat）'!$A$15:$A$61,MATCH('貼_部門別・億円単・全国（e-Stat）'!$B27,'貼_部門別・億円単・全国（e-Stat）'!$AH$15:$AH$61,0)),"-") -> 静岡 | R19: =IFERROR(INDEX('貼_部門別・億円単・全国（e-Stat）'!$A$15:$A$61,MATCH('貼_部門別・億円単・全国（e-Stat）'!$B27,'貼_部門別・億円単・全国（e-Stat）'!$AJ$15:$AJ$61,0)),"-") -> 静岡 | S19: =IFERROR(INDEX('貼_部門別・億円単・全国（e-Stat）'!$A$15:$A$61,MATCH('貼_部門別・億円単・全国（e-Stat）'!$B27,'貼_部門別・億円単・全国（e-Stat）'!$AF$15:$AF$61,0)),"-") -> 兵庫
D20: =IFERROR(INDEX('貼_部門別・億円単・全国（e-Stat）'!$A$15:$A$61,MATCH('貼_部門別・億円単・全国（e-Stat）'!$B28,'貼_部門別・億円単・全国（e-Stat）'!$D$15:$D$61,0)),"-") -> 新潟 | E20: =IFERROR(INDEX('貼_部門別・億円単・全国（e-Stat）'!$A$15:$A$61,MATCH('貼_部門別・億円単・全国（e-Stat）'!$B28,'貼_部門別・億円単・全国（e-Stat）'!$F$15:$F$61,0)),"-") -> 栃木 | F20: =IFERROR(INDEX('貼_部門別・億円単・全国（e-Stat）'!$A$15:$A$61,MATCH('貼_部門別・億円単・全国（e-Stat）'!$B28,'貼_部門別・億円単・全国（e-Stat）'!$H$15:$H$61,0)),"-") -> 富山 | G20: =IFERROR(INDEX('(要確認)詳細品目・全国データ計算用シート'!$V$13:$V$59,MATCH('(要確認)詳細品目・全国データ計算用シート'!$U26,'(要確認)詳細品目・全国データ計算用シート'!$AD$13:$AD$59,0)),"-") -> 栃木 | H20: =IFERROR(INDEX('(要確認)詳細品目・全国データ計算用シート'!$V$13:$V$59,MATCH('(要確認)詳細品目・全国データ計算用シート'!$U26,'(要確認)詳細品目・全国データ計算用シート'!$AP$13:$AP$59,0)),"-") -> 滋賀 | I20: =IFERROR(INDEX('(要確認)詳細品目・全国データ計算用シート'!$V$13:$V$59,MATCH('(要確認)詳細品目・全国データ計算用シート'!$U26,'(要確認)詳細品目・全国データ計算用シート'!$AL$13:$AL$59,0)),"-") -> 青森 | J20: =IFERROR(INDEX('(要確認)詳細品目・全国データ計算用シート'!$V$13:$V$59,MATCH('(要確認)詳細品目・全国データ計算用シート'!$U26,'(要確認)詳細品目・全国データ計算用シート'!$Z$13:$Z$59,0)),"-") -> 秋田 | L20: =IFERROR('貼_主要農産物の産出額と構成比（なたね含）'!H46,"-") -> 兵庫 | M20: =IFERROR(INDEX('貼_部門別・億円単・全国（e-Stat）'!$A$15:$A$61,MATCH('貼_部門別・億円単・全国（e-Stat）'!$B28,'貼_部門別・億円単・全国（e-Stat）'!$R$15:$R$61,0)),"-") -> 静岡 | N20: =IFERROR(INDEX('貼_部門別・億円単・全国（e-Stat）'!$A$15:$A$61,MATCH('貼_部門別・億円単・全国（e-Stat）'!$B28,'貼_部門別・億円単・全国（e-Stat）'!$T$15:$T$61,0)),"-") -> 広島 | O20: =IFERROR(INDEX('貼_部門別・億円単・全国（e-Stat）'!$A$15:$A$61,MATCH('貼_部門別・億円単・全国（e-Stat）'!$B28,'貼_部門別・億円単・全国（e-Stat）'!$V$15:$V$61,0)),"-") -> 宮崎 | P20: =IFERROR(INDEX('貼_部門別・億円単・全国（e-Stat）'!$A$15:$A$61,MATCH('貼_部門別・億円単・全国（e-Stat）'!$B28,'貼_部門別・億円単・全国（e-Stat）'!$AD$15:$AD$61,0)),"-") -> 兵庫 | Q20: =IFERROR(INDEX('貼_部門別・億円単・全国（e-Stat）'!$A$15:$A$61,MATCH('貼_部門別・億円単・全国（e-Stat）'!$B28,'貼_部門別・億円単・全国（e-Stat）'!$AH$15:$AH$61,0)),"-") -> 島根 | R20: =IFERROR(INDEX('貼_部門別・億円単・全国（e-Stat）'!$A$15:$A$61,MATCH('貼_部門別・億円単・全国（e-Stat）'!$B28,'貼_部門別・億円単・全国（e-Stat）'!$AJ$15:$AJ$61,0)),"-") -> 島根 | S20: =IFERROR(INDEX('貼_部門別・億円単・全国（e-Stat）'!$A$15:$A$61,MATCH('貼_部門別・億円単・全国（e-Stat）'!$B28,'貼_部門別・億円単・全国（e-Stat）'!$AF$15:$AF$61,0)),"-") -> 青森
D21: =IFERROR(INDEX('貼_部門別・億円単・全国（e-Stat）'!$A$15:$A$61,MATCH('貼_部門別・億円単・全国（e-Stat）'!$B29,'貼_部門別・億円単・全国（e-Stat）'!$D$15:$D$61,0)),"-") -> 静岡 | E21: =IFERROR(INDEX('貼_部門別・億円単・全国（e-Stat）'!$A$15:$A$61,MATCH('貼_部門別・億円単・全国（e-Stat）'!$B29,'貼_部門別・億円単・全国（e-Stat）'!$F$15:$F$61,0)),"-") -> 秋田 | F21: =IFERROR(INDEX('貼_部門別・億円単・全国（e-Stat）'!$A$15:$A$61,MATCH('貼_部門別・億円単・全国（e-Stat）'!$B29,'貼_部門別・億円単・全国（e-Stat）'!$H$15:$H$61,0)),"-") -> 福岡 | G21: =IFERROR(INDEX('(要確認)詳細品目・全国データ計算用シート'!$V$13:$V$59,MATCH('(要確認)詳細品目・全国データ計算用シート'!$U27,'(要確認)詳細品目・全国データ計算用シート'!$AD$13:$AD$59,0)),"-") -> 山口 | H21: =IFERROR(INDEX('(要確認)詳細品目・全国データ計算用シート'!$V$13:$V$59,MATCH('(要確認)詳細品目・全国データ計算用シート'!$U27,'(要確認)詳細品目・全国データ計算用シート'!$AP$13:$AP$59,0)),"-") -> 熊本 | I21: =IFERROR(INDEX('(要確認)詳細品目・全国データ計算用シート'!$V$13:$V$59,MATCH('(要確認)詳細品目・全国データ計算用シート'!$U27,'(要確認)詳細品目・全国データ計算用シート'!$AL$13:$AL$59,0)),"-") -> 岡山 | J21: =IFERROR(INDEX('(要確認)詳細品目・全国データ計算用シート'!$V$13:$V$59,MATCH('(要確認)詳細品目・全国データ計算用シート'!$U27,'(要確認)詳細品目・全国データ計算用シート'!$Z$13:$Z$59,0)),"-") -> 福岡 | L21: =IFERROR('貼_主要農産物の産出額と構成比（なたね含）'!H47,"-") -> 岩手 | M21: =IFERROR(INDEX('貼_部門別・億円単・全国（e-Stat）'!$A$15:$A$61,MATCH('貼_部門別・億円単・全国（e-Stat）'!$B29,'貼_部門別・億円単・全国（e-Stat）'!$R$15:$R$61,0)),"-") -> 鹿児島 | N21: =IFERROR(INDEX('貼_部門別・億円単・全国（e-Stat）'!$A$15:$A$61,MATCH('貼_部門別・億円単・全国（e-Stat）'!$B29,'貼_部門別・億円単・全国（e-Stat）'!$T$15:$T$61,0)),"-") -> 大分 | O21: =IFERROR(INDEX('貼_部門別・億円単・全国（e-Stat）'!$A$15:$A$61,MATCH('貼_部門別・億円単・全国（e-Stat）'!$B29,'貼_部門別・億円単・全国（e-Stat）'!$V$15:$V$61,0)),"-") -> 栃木 | P21: =IFERROR(INDEX('貼_部門別・億円単・全国（e-Stat）'!$A$15:$A$61,MATCH('貼_部門別・億円単・全国（e-Stat）'!$B29,'貼_部門別・億円単・全国（e-Stat）'!$AD$15:$AD$61,0)),"-") -> 長崎 | Q21: =IFERROR(INDEX('貼_部門別・億円単・全国（e-Stat）'!$A$15:$A$61,MATCH('貼_部門別・億円単・全国（e-Stat）'!$B29,'貼_部門別・億円単・全国（e-Stat）'!$AH$15:$AH$61,0)),"-") -> 鹿児島 | R21: =IFERROR(INDEX('貼_部門別・億円単・全国（e-Stat）'!$A$15:$A$61,MATCH('貼_部門別・億円単・全国（e-Stat）'!$B29,'貼_部門別・億円単・全国（e-Stat）'!$AJ$15:$AJ$61,0)),"-") -> 鹿児島 | S21: =IFERROR(INDEX('貼_部門別・億円単・全国（e-Stat）'!$A$15:$A$61,MATCH('貼_部門別・億円単・全国（e-Stat）'!$B29,'貼_部門別・億円単・全国（e-Stat）'!$AF$15:$AF$61,0)),"-") -> 大分
D22: =IFERROR(INDEX('貼_部門別・億円単・全国（e-Stat）'!$A$15:$A$61,MATCH('貼_部門別・億円単・全国（e-Stat）'!$B30,'貼_部門別・億円単・全国（e-Stat）'!$D$15:$D$61,0)),"-") -> 福岡 | E22: =IFERROR(INDEX('貼_部門別・億円単・全国（e-Stat）'!$A$15:$A$61,MATCH('貼_部門別・億円単・全国（e-Stat）'!$B30,'貼_部門別・億円単・全国（e-Stat）'!$F$15:$F$61,0)),"-") -> 埼玉 | F22: =IFERROR(INDEX('貼_部門別・億円単・全国（e-Stat）'!$A$15:$A$61,MATCH('貼_部門別・億円単・全国（e-Stat）'!$B30,'貼_部門別・億円単・全国（e-Stat）'!$H$15:$H$61,0)),"-") -> 滋賀 | G22: =IFERROR(INDEX('(要確認)詳細品目・全国データ計算用シート'!$V$13:$V$59,MATCH('(要確認)詳細品目・全国データ計算用シート'!$U28,'(要確認)詳細品目・全国データ計算用シート'!$AD$13:$AD$59,0)),"-") -> 大分 | H22: =IFERROR(INDEX('(要確認)詳細品目・全国データ計算用シート'!$V$13:$V$59,MATCH('(要確認)詳細品目・全国データ計算用シート'!$U28,'(要確認)詳細品目・全国データ計算用シート'!$AP$13:$AP$59,0)),"-") -> 埼玉 | I22: =IFERROR(INDEX('(要確認)詳細品目・全国データ計算用シート'!$V$13:$V$59,MATCH('(要確認)詳細品目・全国データ計算用シート'!$U28,'(要確認)詳細品目・全国データ計算用シート'!$AL$13:$AL$59,0)),"-") -> 栃木 | J22: =IFERROR(INDEX('(要確認)詳細品目・全国データ計算用シート'!$V$13:$V$59,MATCH('(要確認)詳細品目・全国データ計算用シート'!$U28,'(要確認)詳細品目・全国データ計算用シート'!$Z$13:$Z$59,0)),"-") -> 新潟 | L22: =IFERROR('貼_主要農産物の産出額と構成比（なたね含）'!H48,"-") -> 栃木 | M22: =IFERROR(INDEX('貼_部門別・億円単・全国（e-Stat）'!$A$15:$A$61,MATCH('貼_部門別・億円単・全国（e-Stat）'!$B30,'貼_部門別・億円単・全国（e-Stat）'!$R$15:$R$61,0)),"-") -> 福島 | N22: =IFERROR(INDEX('貼_部門別・億円単・全国（e-Stat）'!$A$15:$A$61,MATCH('貼_部門別・億円単・全国（e-Stat）'!$B30,'貼_部門別・億円単・全国（e-Stat）'!$T$15:$T$61,0)),"-") -> 宮崎 | O22: =IFERROR(INDEX('貼_部門別・億円単・全国（e-Stat）'!$A$15:$A$61,MATCH('貼_部門別・億円単・全国（e-Stat）'!$B30,'貼_部門別・億円単・全国（e-Stat）'!$V$15:$V$61,0)),"-") -> 山形 | P22: =IFERROR(INDEX('貼_部門別・億円単・全国（e-Stat）'!$A$15:$A$61,MATCH('貼_部門別・億円単・全国（e-Stat）'!$B30,'貼_部門別・億円単・全国（e-Stat）'!$AD$15:$AD$61,0)),"-") -> 広島 | Q22: =IFERROR(INDEX('貼_部門別・億円単・全国（e-Stat）'!$A$15:$A$61,MATCH('貼_部門別・億円単・全国（e-Stat）'!$B30,'貼_部門別・億円単・全国（e-Stat）'!$AH$15:$AH$61,0)),"-") -> 宮崎 | R22: =IFERROR(INDEX('貼_部門別・億円単・全国（e-Stat）'!$A$15:$A$61,MATCH('貼_部門別・億円単・全国（e-Stat）'!$B30,'貼_部門別・億円単・全国（e-Stat）'!$AJ$15:$AJ$61,0)),"-") -> 青森 | S22: =IFERROR(INDEX('貼_部門別・億円単・全国（e-Stat）'!$A$15:$A$61,MATCH('貼_部門別・億円単・全国（e-Stat）'!$B30,'貼_部門別・億円単・全国（e-Stat）'!$AF$15:$AF$61,0)),"-") -> 山形
D23: =IFERROR(INDEX('貼_部門別・億円単・全国（e-Stat）'!$A$15:$A$61,MATCH('貼_部門別・億円単・全国（e-Stat）'!$B31,'貼_部門別・億円単・全国（e-Stat）'!$D$15:$D$61,0)),"-") -> 福島 | E23: =IFERROR(INDEX('貼_部門別・億円単・全国（e-Stat）'!$A$15:$A$61,MATCH('貼_部門別・億円単・全国（e-Stat）'!$B31,'貼_部門別・億円単・全国（e-Stat）'!$F$15:$F$61,0)),"-") -> 群馬 | F23: =IFERROR(INDEX('貼_部門別・億円単・全国（e-Stat）'!$A$15:$A$61,MATCH('貼_部門別・億円単・全国（e-Stat）'!$B31,'貼_部門別・億円単・全国（e-Stat）'!$H$15:$H$61,0)),"-") -> 熊本 | G23: =IFERROR(INDEX('(要確認)詳細品目・全国データ計算用シート'!$V$13:$V$59,MATCH('(要確認)詳細品目・全国データ計算用シート'!$U29,'(要確認)詳細品目・全国データ計算用シート'!$AD$13:$AD$59,0)),"-") -> 香川 | H23: =IFERROR(INDEX('(要確認)詳細品目・全国データ計算用シート'!$V$13:$V$59,MATCH('(要確認)詳細品目・全国データ計算用シート'!$U29,'(要確認)詳細品目・全国データ計算用シート'!$AP$13:$AP$59,0)),"-") -> 島根 | I23: =IFERROR(INDEX('(要確認)詳細品目・全国データ計算用シート'!$V$13:$V$59,MATCH('(要確認)詳細品目・全国データ計算用シート'!$U29,'(要確認)詳細品目・全国データ計算用シート'!$AL$13:$AL$59,0)),"-") -> 熊本 | J23: =IFERROR(INDEX('(要確認)詳細品目・全国データ計算用シート'!$V$13:$V$59,MATCH('(要確認)詳細品目・全国データ計算用シート'!$U29,'(要確認)詳細品目・全国データ計算用シート'!$Z$13:$Z$59,0)),"-") -> 神奈川 | L23: =IFERROR('貼_主要農産物の産出額と構成比（なたね含）'!H49,"-") -> 島根 | M23: =IFERROR(INDEX('貼_部門別・億円単・全国（e-Stat）'!$A$15:$A$61,MATCH('貼_部門別・億円単・全国（e-Stat）'!$B31,'貼_部門別・億円単・全国（e-Stat）'!$R$15:$R$61,0)),"-") -> 長崎 | N23: =IFERROR(INDEX('貼_部門別・億円単・全国（e-Stat）'!$A$15:$A$61,MATCH('貼_部門別・億円単・全国（e-Stat）'!$B31,'貼_部門別・億円単・全国（e-Stat）'!$T$15:$T$61,0)),"-") -> 岩手 | O23: =IFERROR(INDEX('貼_部門別・億円単・全国（e-Stat）'!$A$15:$A$61,MATCH('貼_部門別・億円単・全国（e-Stat）'!$B31,'貼_部門別・億円単・全国（e-Stat）'!$V$15:$V$61,0)),"-") -> 新潟 | P23: =IFERROR(INDEX('貼_部門別・億円単・全国（e-Stat）'!$A$15:$A$61,MATCH('貼_部門別・億円単・全国（e-Stat）'!$B31,'貼_部門別・億円単・全国（e-Stat）'!$AD$15:$AD$61,0)),"-") -> 静岡 | Q23: =IFERROR(INDEX('貼_部門別・億円単・全国（e-Stat）'!$A$15:$A$61,MATCH('貼_部門別・億円単・全国（e-Stat）'!$B31,'貼_部門別・億円単・全国（e-Stat）'!$AH$15:$AH$61,0)),"-") -> 青森 | R23: =IFERROR(INDEX('貼_部門別・億円単・全国（e-Stat）'!$A$15:$A$61,MATCH('貼_部門別・億円単・全国（e-Stat）'!$B31,'貼_部門別・億円単・全国（e-Stat）'!$AJ$15:$AJ$61,0)),"-") -> 宮崎 | S23: =IFERROR(INDEX('貼_部門別・億円単・全国（e-Stat）'!$A$15:$A$61,MATCH('貼_部門別・億円単・全国（e-Stat）'!$B31,'貼_部門別・億円単・全国（e-Stat）'!$AF$15:$AF$61,0)),"-") -> 福島
... D53: =IFERROR(INDEX('貼_部門別・億円単・全国（e-Stat）'!$A$15:$A$61,MATCH('貼_部門別・億円単・全国（e-Stat）'!$B61,'貼_部門別・億円単・全国（e-Stat）'!$D$15:$D$61,0)),"-") -> 東京 | E53: =IFERROR(INDEX('貼_部門別・億円単・全国（e-Stat）'!$A$15:$A$61,MATCH('貼_部門別・億円単・全国（e-Stat）'!$B61,'貼_部門別・億円単・全国（e-Stat）'!$F$15:$F$61,0)),"-") -> 東京 | F53: =IFERROR(INDEX('貼_部門別・億円単・全国（e-Stat）'!$A$15:$A$61,MATCH('貼_部門別・億円単・全国（e-Stat）'!$B61,'貼_部門別・億円単・全国（e-Stat）'!$H$15:$H$61,0)),"-") -> 東京 | G53: =IFERROR(INDEX('(要確認)詳細品目・全国データ計算用シート'!$V$13:$V$59,MATCH('(要確認)詳細品目・全国データ計算用シート'!$U59,'(要確認)詳細品目・全国データ計算用シート'!$AD$13:$AD$59,0)),"-") -> 高知 | H53: =IFERROR(INDEX('(要確認)詳細品目・全国データ計算用シート'!$V$13:$V$59,MATCH('(要確認)詳細品目・全国データ計算用シート'!$U59,'(要確認)詳細品目・全国データ計算用シート'!$AP$13:$AP$59,0)),"-") -> 高知 | I53: =IFERROR(INDEX('(要確認)詳細品目・全国データ計算用シート'!$V$13:$V$59,MATCH('(要確認)詳細品目・全国データ計算用シート'!$U59,'(要確認)詳細品目・全国データ計算用シート'!$AL$13:$AL$59,0)),"-") -> - | J53: =IFERROR(INDEX('(要確認)詳細品目・全国データ計算用シート'!$V$13:$V$59,MATCH('(要確認)詳細品目・全国データ計算用シート'!$U59,'(要確認)詳細品目・全国データ計算用シート'!$Z$13:$Z$59,0)),"-") -> 和歌山 | L53: =IFERROR('貼_主要農産物の産出額と構成比（なたね含）'!H79,"-") -> - | M53: =IFERROR(INDEX('貼_部門別・億円単・全国（e-Stat）'!$A$15:$A$61,MATCH('貼_部門別・億円単・全国（e-Stat）'!$B61,'貼_部門別・億円単・全国（e-Stat）'!$R$15:$R$61,0)),"-") -> 富山 | N53: =IFERROR(INDEX('貼_部門別・億円単・全国（e-Stat）'!$A$15:$A$61,MATCH('貼_部門別・億円単・全国（e-Stat）'!$B61,'貼_部門別・億円単・全国（e-Stat）'!$T$15:$T$61,0)),"-") -> 滋賀 | O53: =IFERROR(INDEX('貼_部門別・億円単・全国（e-Stat）'!$A$15:$A$61,MATCH('貼_部門別・億円単・全国（e-Stat）'!$B61,'貼_部門別・億円単・全国（e-Stat）'!$V$15:$V$61,0)),"-") -> 福井 | P53: =IFERROR(INDEX('貼_部門別・億円単・全国（e-Stat）'!$A$15:$A$61,MATCH('貼_部門別・億円単・全国（e-Stat）'!$B61,'貼_部門別・億円単・全国（e-Stat）'!$AD$15:$AD$61,0)),"-") -> 東京 | Q53: =IFERROR(INDEX('貼_部門別・億円単・全国（e-Stat）'!$A$15:$A$61,MATCH('貼_部門別・億円単・全国（e-Stat）'!$B61,'貼_部門別・億円単・全国（e-Stat）'!$AH$15:$AH$61,0)),"-") -> 和歌山 | R53: =IFERROR(INDEX('貼_部門別・億円単・全国（e-Stat）'!$A$15:$A$61,MATCH('貼_部門別・億円単・全国（e-Stat）'!$B61,'貼_部門別・億円単・全国（e-Stat）'!$AJ$15:$AJ$61,0)),"-") -> 和歌山 | S53: =IFERROR(INDEX('貼_部門別・億円単・全国（e-Stat）'!$A$15:$A$61,MATCH('貼_部門別・億円単・全国（e-Stat）'!$B61,'貼_部門別・億円単・全国（e-Stat）'!$AF$15:$AF$61,0)),"-") -> 東京
C54: データ（全国値） | D54: ='貼_部門別・億円単・全国（e-Stat）'!C62 -> 90116 | E54: ='貼_部門別・億円単・全国（e-Stat）'!E62 -> 54904 | F54: ='貼_部門別・億円単・全国（e-Stat）'!G62 -> 14015 | G54: ='(要確認)詳細品目・全国データ計算用シート'!AA12 -> 547 | H54: ='(要確認)詳細品目・全国データ計算用シート'!AM12 -> 82 | I54: ='(要確認)詳細品目・全国データ計算用シート'!AI12 -> 407 | J54: ='(要確認)詳細品目・全国データ計算用シート'!W12 -> 1012 | K54: ='(要確認)詳細品目・全国データ計算用シート'!AE12 -> 448 | L54: ='貼_主要農産物の産出額と構成比（なたね含）'!C10 -> 4 | M54: ='貼_部門別・億円単・全国（e-Stat）'!Q62 -> 22294 | N54: ='貼_部門別・億円単・全国（e-Stat）'!S62 -> 9232 | O54: ='貼_部門別・億円単・全国（e-Stat）'!U62 -> 3492 | P54: ='貼_部門別・億円単・全国（e-Stat）'!AC62 -> 34647 | Q54: ='貼_部門別・億円単・全国（e-Stat）'!AG62 -> 8844 | R54: ='貼_部門別・億円単・全国（e-Stat）'!AI62 -> 7917 | S54: ='貼_部門別・億円単・全国（e-Stat）'!AE62 -> 7912
C55: 1 | D55: =IFERROR(LARGE('貼_部門別・億円単・全国（e-Stat）'!$C$15:$C$61,'貼_部門別・億円単・全国（e-Stat）'!$B15),"-") -> 12919 | E55: =IFERROR(LARGE('貼_部門別・億円単・全国（e-Stat）'!$E$15:$E$61,'貼_部門別・億円単・全国（e-Stat）'!$B15),"-") -> 5384 | F55: =IFERROR(LARGE('貼_部門別・億円単・全国（e-Stat）'!$G$15:$G$61,'貼_部門別・億円単・全国（e-Stat）'!$B15),"-") -> 1319 | G55: =IFERROR(LARGE('(要確認)詳細品目・全国データ計算用シート'!$AA$13:$AA$59,'(要確認)詳細品目・全国データ計算用シート'!$U13),"-") -> 414 | H55: =IFERROR(LARGE('(要確認)詳細品目・全国データ計算用シート'!$AM$13:$AM$59,'(要確認)詳細品目・全国データ計算用シート'!$U13),"-") -> 36 | I55: =IFERROR(LARGE('(要確認)詳細品目・全国データ計算用シート'!$AI$13:$AI$59,'(要確認)詳細品目・全国データ計算用シート'!$U13),"-") -> 182 | J55: =IFERROR(LARGE('(要確認)詳細品目・全国データ計算用シート'!$W$13:$W$59,'(要確認)詳細品目・全国データ計算用シート'!$U13),"-") -> 543 | K55: =IFERROR(LARGE('(要確認)詳細品目・全国データ計算用シート'!$AE$13:$AE$59,'(要確認)詳細品目・全国データ計算用シート'!$U13),"-") -> 448 | L55: =IFERROR('貼_主要農産物の産出額と構成比（なたね含）'!I33,"-") -> 3 | M55: =IFERROR(LARGE('貼_部門別・億円単・全国（e-Stat）'!$Q$15:$Q$61,'貼_部門別・億円単・全国（e-Stat）'!$B15),"-") -> 2228 | N55: =IFERROR(LARGE('貼_部門別・億円単・全国（e-Stat）'!$S$15:$S$61,'貼_部門別・億円単・全国（e-Stat）'!$B15),"-") -> 1051 | O55: =IFERROR(LARGE('貼_部門別・億円単・全国（e-Stat）'!$U$15:$U$61,'貼_部門別・億円単・全国（e-Stat）'!$B15),"-") -> 573 | P55: =IFERROR(LARGE('貼_部門別・億円単・全国（e-Stat）'!$AC$15:$AC$61,'貼_部門別・億円単・全国（e-Stat）'!$B15),"-") -> 7535 | Q55: =IFERROR(LARGE('貼_部門別・億円単・全国（e-Stat）'!$AG$15:$AG$61,'貼_部門別・億円単・全国（e-Stat）'!$B15),"-") -> 4660 | R55: =IFERROR(LARGE('貼_部門別・億円単・全国（e-Stat）'!$AI$15:$AI$61,'貼_部門別・億円単・全国（e-Stat）'!$B15),"-") -> 4109 | S55: =IFERROR(LARGE('貼_部門別・億円単・全国（e-Stat）'!$AE$15:$AE$61,'貼_部門別・億円単・全国（e-Stat）'!$B15),"-") -> 1228
C56: 2 | D56: =IFERROR(LARGE('貼_部門別・億円単・全国（e-Stat）'!$C$15:$C$61,'貼_部門別・億円単・全国（e-Stat）'!$B16),"-") -> 5114 | E56: =IFERROR(LARGE('貼_部門別・億円単・全国（e-Stat）'!$E$15:$E$61,'貼_部門別・億円単・全国（e-Stat）'!$B16),"-") -> 2939 | F56: =IFERROR(LARGE('貼_部門別・億円単・全国（e-Stat）'!$G$15:$G$61,'貼_部門別・億円単・全国（e-Stat）'!$B16),"-") -> 1067 | G56: =IFERROR(LARGE('(要確認)詳細品目・全国データ計算用シート'!$AA$13:$AA$59,'(要確認)詳細品目・全国データ計算用シート'!$U14),"-") -> 26 | H56: =IFERROR(LARGE('(要確認)詳細品目・全国データ計算用シート'!$AM$13:$AM$59,'(要確認)詳細品目・全国データ計算用シート'!$U14),"-") -> 8 | I56: =IFERROR(LARGE('(要確認)詳細品目・全国データ計算用シート'!$AI$13:$AI$59,'(要確認)詳細品目・全国データ計算用シート'!$U14),"-") -> 28 | J56: =IFERROR(LARGE('(要確認)詳細品目・全国データ計算用シート'!$W$13:$W$59,'(要確認)詳細品目・全国データ計算用シート'!$U14),"-") -> 141 | L56: =IFERROR('貼_主要農産物の産出額と構成比（なたね含）'!I34,"-") -> 0 | M56: =IFERROR(LARGE('貼_部門別・億円単・全国（e-Stat）'!$Q$15:$Q$61,'貼_部門別・億円単・全国（e-Stat）'!$B16),"-") -> 1611 | N56: =IFERROR(LARGE('貼_部門別・億円単・全国（e-Stat）'!$S$15:$S$61,'貼_部門別・億円単・全国（e-Stat）'!$B16),"-") -> 904 | O56: =IFERROR(LARGE('貼_部門別・億円単・全国（e-Stat）'!$U$15:$U$61,'貼_部門別・億円単・全国（e-Stat）'!$B16),"-") -> 198 | P56: =IFERROR(LARGE('貼_部門別・億円単・全国（e-Stat）'!$AC$15:$AC$61,'貼_部門別・億円単・全国（e-Stat）'!$B16),"-") -> 3473 | Q56: =IFERROR(LARGE('貼_部門別・億円単・全国（e-Stat）'!$AG$15:$AG$61,'貼_部門別・億円単・全国（e-Stat）'!$B16),"-") -> 469 | R56: =IFERROR(LARGE('貼_部門別・億円単・全国（e-Stat）'!$AI$15:$AI$61,'貼_部門別・億円単・全国（e-Stat）'!$B16),"-") -> 418 | S56: =IFERROR(LARGE('貼_部門別・億円単・全国（e-Stat）'!$AE$15:$AE$61,'貼_部門別・億円単・全国（e-Stat）'!$B16),"-") -> 1203
C57: 3 | D57: =IFERROR(LARGE('貼_部門別・億円単・全国（e-Stat）'!$C$15:$C$61,'貼_部門別・億円単・全国（e-Stat）'!$B17),"-") -> 4384 | E57: =IFERROR(LARGE('貼_部門別・億円単・全国（e-Stat）'!$E$15:$E$61,'貼_部門別・億円単・全国（e-Stat）'!$B17),"-") -> 2448 | F57: =IFERROR(LARGE('貼_部門別・億円単・全国（e-Stat）'!$G$15:$G$61,'貼_部門別・億円単・全国（e-Stat）'!$B17),"-") -> 852 | G57: =IFERROR(LARGE('(要確認)詳細品目・全国データ計算用シート'!$AA$13:$AA$59,'(要確認)詳細品目・全国データ計算用シート'!$U15),"-") -> 16 | H57: =IFERROR(LARGE('(要確認)詳細品目・全国データ計算用シート'!$AM$13:$AM$59,'(要確認)詳細品目・全国データ計算用シート'!$U15),"-") -> 6 | I57: =IFERROR(LARGE('(要確認)詳細品目・全国データ計算用シート'!$AI$13:$AI$59,'(要確認)詳細品目・全国データ計算用シート'!$U15),"-") -> 21 | J57: =IFERROR(LARGE('(要確認)詳細品目・全国データ計算用シート'!$W$13:$W$59,'(要確認)詳細品目・全国データ計算用シート'!$U15),"-") -> 103 | L57: =IFERROR('貼_主要農産物の産出額と構成比（なたね含）'!I35,"-") -> 0 | M57: =IFERROR(LARGE('貼_部門別・億円単・全国（e-Stat）'!$Q$15:$Q$61,'貼_部門別・億円単・全国（e-Stat）'!$B17),"-") -> 1335 | N57: =IFERROR(LARGE('貼_部門別・億円単・全国（e-Stat）'!$S$15:$S$61,'貼_部門別・億円単・全国（e-Stat）'!$B17),"-") -> 816 | O57: =IFERROR(LARGE('貼_部門別・億円単・全国（e-Stat）'!$U$15:$U$61,'貼_部門別・億円単・全国（e-Stat）'!$B17),"-") -> 185 | P57: =IFERROR(LARGE('貼_部門別・億円単・全国（e-Stat）'!$AC$15:$AC$61,'貼_部門別・億円単・全国（e-Stat）'!$B17),"-") -> 2349 | Q57: =IFERROR(LARGE('貼_部門別・億円単・全国（e-Stat）'!$AG$15:$AG$61,'貼_部門別・億円単・全国（e-Stat）'!$B17),"-") -> 332 | R57: =IFERROR(LARGE('貼_部門別・億円単・全国（e-Stat）'!$AI$15:$AI$61,'貼_部門別・億円単・全国（e-Stat）'!$B17),"-") -> 299 | S57: =IFERROR(LARGE('貼_部門別・億円単・全国（e-Stat）'!$AE$15:$AE$61,'貼_部門別・億円単・全国（e-Stat）'!$B17),"-") -> 826
