Workbook
Name グラフ_そば: グラフ表示用_データ連動!$E$18
Name グラフ_てんさい: グラフ表示用_データ連動!$E$33
Name グラフ_なたね: グラフ表示用_データ連動!$I$33
Name グラフ_ばれいしょ: グラフ表示用_データ連動!$A$33
Name グラフ_果実: グラフ表示用_データ連動!$E$48
Name グラフ_花き: グラフ表示用_データ連動!$I$48
Name グラフ_耕種: グラフ表示用_データ連動!$E$3
Name グラフ_小麦: グラフ表示用_データ連動!$A$18
Name グラフ_生乳: グラフ表示用_データ連動!$I$63
Name グラフ_大豆: グラフ表示用_データ連動!$I$18
Name グラフ_畜産: グラフ表示用_データ連動!$A$63
Name グラフ_肉用牛: グラフ表示用_データ連動!$A$78
Name グラフ_乳用牛: グラフ表示用_データ連動!$E$63
Name グラフ_農業産出額計: グラフ表示用_データ連動!$A$3
Name グラフ_米: グラフ表示用_データ連動!$I$3
Name グラフ_野菜: グラフ表示用_データ連動!$A$48
Name グラフ表示: INDIRECT('計算用シート（当年）'!$C$2)

Sheet 作成時の注意事項
A1: ○貼りつけ用シートについて
B2: ←この色のセルには、最新値の貼り付けを行う。

Sheet なんばんBOOK
A1: 令和６年 なんばんＢＯＯＫ（電子版）
A3: ChapterⅡ 市町村別農業産出額(推計)ランキング
C4: データの種類 | K4: =IFERROR(_xlfn.XLOOKUP('計算用シート（当年）'!$C$1,'計算用シート（当年）'!$D$4:$S$4,'計算用シート（当年）'!$D5:$S5),"-") -> 令和４年
C5: 農業産出額計
C7: =IFERROR(_xlfn.XLOOKUP('計算用シート（当年）'!$C$1,'計算用シート（当年）'!$D$4:$S$4,'計算用シート（当年）'!$D$6:$S$6),"-") -> 全国トップ５とシェア | I7: =IFERROR(_xlfn.XLOOKUP('計算用シート（当年）'!$C$1,'計算用シート（当年）'!$D$4:$S$4,'計算用シート（当年）'!$D$108:$S$108),"-") -> 全国における北海道のシェア
A9: 順位 | B9: （前年） | C9: 都道府県名 | D9: シェア | E9: 産出額
D10: % | E10: 億円
C11: 全国 | D11: 100 | E11: =IFERROR(_xlfn.XLOOKUP('計算用シート（当年）'!$C$1,'計算用シート（当年）'!$D$4:$S$4,'計算用シート（当年）'!$D54:$S54),"-") -> 90116
A13: =_xlfn.XLOOKUP('計算用シート（当年）'!$C$1,'計算用シート（当年）'!$D$4:$S$4,'計算用シート（当年）'!$D102:$S102) -> 1 | B13: ="("&VLOOKUP(C13,'前年順位整理（自動更新）'!$B$3:$AX$486,MATCH('前年順位整理（自動更新）'!$B$1,'前年順位整理（自動更新）'!$B$3:$AX$3,0),)&")" -> (1) | C13: =IFERROR(_xlfn.XLOOKUP('計算用シート（当年）'!$C$1,'計算用シート（当年）'!$D$4:$S$4,'計算用シート（当年）'!$D7:$S7),"-") -> 北海道 | D13: =IFERROR((ROUND(E13/$E$11*100,1)),"-") -> 14.3 | E13: =IFERROR(_xlfn.XLOOKUP('計算用シート（当年）'!$C$1,'計算用シート（当年）'!$D$4:$S$4,'計算用シート（当年）'!$D55:$S55),"-") -> 12919
A14: =_xlfn.XLOOKUP('計算用シート（当年）'!$C$1,'計算用シート（当年）'!$D$4:$S$4,'計算用シート（当年）'!$D103:$S103) -> 2 | B14: =IF($C$5="てんさい","","("&VLOOKUP(C14,'前年順位整理（自動更新）'!$B$3:$AX$486,MATCH('前年順位整理（自動更新）'!$B$1,'前年順位整理（自動更新）'!$B$3:$AX$3,0),)&")") -> (2) | C14: =IFERROR(_xlfn.XLOOKUP('計算用シート（当年）'!$C$1,'計算用シート（当年）'!$D$4:$S$4,'計算用シート（当年）'!$D8:$S8),"-") -> 鹿児島 | D14: =IFERROR((ROUND(E14/$E$11*100,1)),"-") -> 5.7 | E14: =IFERROR(_xlfn.XLOOKUP('計算用シート（当年）'!$C$1,'計算用シート（当年）'!$D$4:$S$4,'計算用シート（当年）'!$D56:$S56),"-") -> 5114
A15: =_xlfn.XLOOKUP('計算用シート（当年）'!$C$1,'計算用シート（当年）'!$D$4:$S$4,'計算用シート（当年）'!$D104:$S104) -> 3 | B15: =IF($C$5="てんさい","","("&VLOOKUP(C15,'前年順位整理（自動更新）'!$B$3:$AX$486,MATCH('前年順位整理（自動更新）'!$B$1,'前年順位整理（自動更新）'!$B$3:$AX$3,0),)&")") -> (3) | C15: =IFERROR(_xlfn.XLOOKUP('計算用シート（当年）'!$C$1,'計算用シート（当年）'!$D$4:$S$4,'計算用シート（当年）'!$D9:$S9),"-") -> 茨城 | D15: =IFERROR((ROUND(E15/$E$11*100,1)),"-") -> 4.9 | E15: =IFERROR(_xlfn.XLOOKUP('計算用シート（当年）'!$C$1,'計算用シート（当年）'!$D$4:$S$4,'計算用シート（当年）'!$D57:$S57),"-") -> 4384
A16: =_xlfn.XLOOKUP('計算用シート（当年）'!$C$1,'計算用シート（当年）'!$D$4:$S$4,'計算用シート（当年）'!$D105:$S105) -> 4 | B16: =IF($C$5="てんさい","","("&VLOOKUP(C16,'前年順位整理（自動更新）'!$B$3:$AX$486,MATCH('前年順位整理（自動更新）'!$B$1,'前年順位整理（自動更新）'!$B$3:$AX$3,0),)&")") -> (6) | C16: =IFERROR(_xlfn.XLOOKUP('計算用シート（当年）'!$C$1,'計算用シート（当年）'!$D$4:$S$4,'計算用シート（当年）'!$D10:$S10),"-") -> 千葉 | D16: =IFERROR((ROUND(E16/$E$11*100,1)),"-") -> 4.1 | E16: =IFERROR(_xlfn.XLOOKUP('計算用シート（当年）'!$C$1,'計算用シート（当年）'!$D$4:$S$4,'計算用シート（当年）'!$D58:$S58),"-") -> 3676
A17: =_xlfn.XLOOKUP('計算用シート（当年）'!$C$1,'計算用シート（当年）'!$D$4:$S$4,'計算用シート（当年）'!$D106:$S106) -> 5 | B17: =IF($C$5="てんさい","","("&VLOOKUP(C17,'前年順位整理（自動更新）'!$B$3:$AX$486,MATCH('前年順位整理（自動更新）'!$B$1,'前年順位整理（自動更新）'!$B$3:$AX$3,0),)&")") -> (5) | C17: =IFERROR(_xlfn.XLOOKUP('計算用シート（当年）'!$C$1,'計算用シート（当年）'!$D$4:$S$4,'計算用シート（当年）'!$D11:$S11),"-") -> 熊本 | D17: =IFERROR((ROUND(E17/$E$11*100,1)),"-") -> 3.9 | E17: =IFERROR(_xlfn.XLOOKUP('計算用シート（当年）'!$C$1,'計算用シート（当年）'!$D$4:$S$4,'計算用シート（当年）'!$D59:$S59),"-") -> 3512
A18: =IF($C$18="北海道",_xlfn.XLOOKUP('計算用シート（当年）'!$C$1,'計算用シート（当年）'!$D$4:$S$4,'計算用シート（当年）'!$D107:$S107),"") | B18: =IF($C$18="北海道",IF($C$5="てんさい","","("&VLOOKUP(C18,'前年順位整理（自動更新）'!$B$3:$AX$486,MATCH('前年順位整理（自動更新）'!$B$1,'前年順位整理（自動更新）'!$B$3:$AX$3,0),)&")"),"") | C18: {=IF(OR(C13:C17="北海道"),"","北海道")} | D18: =IF($C$18="北海道",IFERROR((ROUND(E18/$E$11*100,1)),"-"),"") | E18: =IF($C$18="北海道",IFERROR(_xlfn.XLOOKUP('計算用シート（当年）'!$C$1,'計算用シート（当年）'!$D$4:$S$4,'計算用シート（当年）'!$D125:$S125),"-"),"")
C20: 地域ランキング | I20: 振興局別
A22: 順位 | B22: （前年） | C22: 地域 | D22: シェア | E22: 産出額
D23: % | E23: 億円
C24: 北海道 | D24: =IFERROR(IF($C$5="10a当たり収量",_xlfn.XLOOKUP('計算用シート（当年）'!$C$1,'計算用シート（当年）'!$D$4:$S$4,'計算用シート（当年）'!$D125:$S125),100),"") -> 100 | E24: =IFERROR(IF($C$5="10a当たり収量","",_xlfn.XLOOKUP('計算用シート（当年）'!$C$1,'計算用シート（当年）'!$D$4:$S$4,'計算用シート（当年）'!$D125:$S125)),"-") -> 12919
A26: =IFERROR(IF($C$5="10a当たり収量",RANK(D26,$D$26:$D$40,0),RANK(E26,$E$26:$E$40,0)),"-") -> 1 | B26: =IF(E26="-","(-)","("&VLOOKUP(C26,'前年順位整理（自動更新）'!$B$3:$AX$486,MATCH('前年順位整理（自動更新）'!$B$1,'前年順位整理（自動更新）'!$B$3:$AX$3,0),)&")") -> (1) | C26: =IF(E26="-","-",IFERROR(_xlfn.XLOOKUP('計算用シート（当年）'!$C$1,'計算用シート（当年）'!$D$4:$S$4,'計算用シート（当年）'!$D111:$S111),"-")) -> 十勝 | D26: =IFERROR(IF($C$5="10a当たり収量",_xlfn.XLOOKUP('計算用シート（当年）'!$C$1,'計算用シート（当年）'!$D$4:$S$4,'計算用シート（当年）'!$D126:$S126),ROUND(E26/$E$24*100,1)),"-") -> 23.8 | E26: =IFERROR(IF($C$5="10a当たり収量","",_xlfn.XLOOKUP('計算用シート（当年）'!$C$1,'計算用シート（当年）'!$D$4:$S$4,'計算用シート（当年）'!$D126:$S126)),"-") -> 3080
A27: =IFERROR(IF($C$5="10a当たり収量",RANK(D27,$D$26:$D$40,0),RANK(E27,$E$26:$E$40,0)),"-") -> 2 | B27: =IF(E27="-","(-)","("&VLOOKUP(C27,'前年順位整理（自動更新）'!$B$3:$AX$486,MATCH('前年順位整理（自動更新）'!$B$1,'前年順位整理（自動更新）'!$B$3:$AX$3,0),)&")") -> (2) | C27: =IF(E27="-","-",IFERROR(_xlfn.XLOOKUP('計算用シート（当年）'!$C$1,'計算用シート（当年）'!$D$4:$S$4,'計算用シート（当年）'!$D112:$S112),"-")) -> オホーツク | D27: =IFERROR(IF($C$5="10a当たり収量",_xlfn.XLOOKUP('計算用シート（当年）'!$C$1,'計算用シート（当年）'!$D$4:$S$4,'計算用シート（当年）'!$D127:$S127),ROUND(E27/$E$24*100,1)),"-") -> 15.9 | E27: =IFERROR(IF($C$5="10a当たり収量","",_xlfn.XLOOKUP('計算用シート（当年）'!$C$1,'計算用シート（当年）'!$D$4:$S$4,'計算用シート（当年）'!$D127:$S127)),"-") -> 2056
A28: =IFERROR(IF($C$5="10a当たり収量",RANK(D28,$D$26:$D$40,0),RANK(E28,$E$26:$E$40,0)),"-") -> 3 | B28: =IF(E28="-","(-)","("&VLOOKUP(C28,'前年順位整理（自動更新）'!$B$3:$AX$486,MATCH('前年順位整理（自動更新）'!$B$1,'前年順位整理（自動更新）'!$B$3:$AX$3,0),)&")") -> (3) | C28: =IF(E28="-","-",IFERROR(_xlfn.XLOOKUP('計算用シート（当年）'!$C$1,'計算用シート（当年）'!$D$4:$S$4,'計算用シート（当年）'!$D113:$S113),"-")) -> 上川 | D28: =IFERROR(IF($C$5="10a当たり収量",_xlfn.XLOOKUP('計算用シート（当年）'!$C$1,'計算用シート（当年）'!$D$4:$S$4,'計算用シート（当年）'!$D128:$S128),ROUND(E28/$E$24*100,1)),"-") -> 9.9 | E28: =IFERROR(IF($C$5="10a当たり収量","",_xlfn.XLOOKUP('計算用シート（当年）'!$C$1,'計算用シート（当年）'!$D$4:$S$4,'計算用シート（当年）'!$D128:$S128)),"-") -> 1284
A29: =IFERROR(IF($C$5="10a当たり収量",RANK(D29,$D$26:$D$40,0),RANK(E29,$E$26:$E$40,0)),"-") -> 4 | B29: =IF(E29="-","(-)","("&VLOOKUP(C29,'前年順位整理（自動更新）'!$B$3:$AX$486,MATCH('前年順位整理（自動更新）'!$B$1,'前年順位整理（自動更新）'!$B$3:$AX$3,0),)&")") -> (4) | C29: =IF(E29="-","-",IFERROR(_xlfn.XLOOKUP('計算用シート（当年）'!$C$1,'計算用シート（当年）'!$D$4:$S$4,'計算用シート（当年）'!$D114:$S114),"-")) -> 根室 | D29: =IFERROR(IF($C$5="10a当たり収量",_xlfn.XLOOKUP('計算用シート（当年）'!$C$1,'計算用シート（当年）'!$D$4:$S$4,'計算用シート（当年）'!$D129:$S129),ROUND(E29/$E$24*100,1)),"-") -> 8.4 | E29: =IFERROR(IF($C$5="10a当たり収量","",_xlfn.XLOOKUP('計算用シート（当年）'!$C$1,'計算用シート（当年）'!$D$4:$S$4,'計算用シート（当年）'!$D129:$S129)),"-") -> 1082
A30: =IFERROR(IF($C$5="10a当たり収量",RANK(D30,$D$26:$D$40,0),RANK(E30,$E$26:$E$40,0)),"-") -> 5 | B30: =IF(E30="-","(-)","("&VLOOKUP(C30,'前年順位整理（自動更新）'!$B$3:$AX$486,MATCH('前年順位整理（自動更新）'!$B$1,'前年順位整理（自動更新）'!$B$3:$AX$3,0),)&")") -> (5) | C30: =IF(E30="-","-",IFERROR(_xlfn.XLOOKUP('計算用シート（当年）'!$C$1,'計算用シート（当年）'!$D$4:$S$4,'計算用シート（当年）'!$D115:$S115),"-")) -> 空知 | D30: =IFERROR(IF($C$5="10a当たり収量",_xlfn.XLOOKUP('計算用シート（当年）'!$C$1,'計算用シート（当年）'!$D$4:$S$4,'計算用シート（当年）'!$D130:$S130),ROUND(E30/$E$24*100,1)),"-") -> 8.1 | E30: =IFERROR(IF($C$5="10a当たり収量","",_xlfn.XLOOKUP('計算用シート（当年）'!$C$1,'計算用シート（当年）'!$D$4:$S$4,'計算用シート（当年）'!$D130:$S130)),"-") -> 1043
A31: =IFERROR(IF($C$5="10a当たり収量",RANK(D31,$D$26:$D$40,0),RANK(E31,$E$26:$E$40,0)),"-") -> 6 | B31: =IF(E31="-","(-)","("&VLOOKUP(C31,'前年順位整理（自動更新）'!$B$3:$AX$486,MATCH('前年順位整理（自動更新）'!$B$1,'前年順位整理（自動更新）'!$B$3:$AX$3,0),)&")") -> (6) | C31: =IF(E31="-","-",IFERROR(_xlfn.XLOOKUP('計算用シート（当年）'!$C$1,'計算用シート（当年）'!$D$4:$S$4,'計算用シート（当年）'!$D116:$S116),"-")) -> 釧路 | D31: =IFERROR(IF($C$5="10a当たり収量",_xlfn.XLOOKUP('計算用シート（当年）'!$C$1,'計算用シート（当年）'!$D$4:$S$4,'計算用シート（当年）'!$D131:$S131),ROUND(E31/$E$24*100,1)),"-") -> 6.7 | E31: =IFERROR(IF($C$5="10a当たり収量","",_xlfn.XLOOKUP('計算用シート（当年）'!$C$1,'計算用シート（当年）'!$D$4:$S$4,'計算用シート（当年）'!$D131:$S131)),"-") -> 869
A32: =IFERROR(IF($C$5="10a当たり収量",RANK(D32,$D$26:$D$40,0),RANK(E32,$E$26:$E$40,0)),"-") -> 7 | B32: =IF(E32="-","(-)","("&VLOOKUP(C32,'前年順位整理（自動更新）'!$B$3:$AX$486,MATCH('前年順位整理（自動更新）'!$B$1,'前年順位整理（自動更新）'!$B$3:$AX$3,0),)&")") -> (7) | C32: =IF(E32="-","-",IFERROR(_xlfn.XLOOKUP('計算用シート（当年）'!$C$1,'計算用シート（当年）'!$D$4:$S$4,'計算用シート（当年）'!$D117:$S117),"-")) -> 日高 | D32: =IFERROR(IF($C$5="10a当たり収量",_xlfn.XLOOKUP('計算用シート（当年）'!$C$1,'計算用シート（当年）'!$D$4:$S$4,'計算用シート（当年）'!$D132:$S132),ROUND(E32/$E$24*100,1)),"-") -> 5.7 | E32: =IFERROR(IF($C$5="10a当たり収量","",_xlfn.XLOOKUP('計算用シート（当年）'!$C$1,'計算用シート（当年）'!$D$4:$S$4,'計算用シート（当年）'!$D132:$S132)),"-") -> 730
A33: =IFERROR(IF($C$5="10a当たり収量",RANK(D33,$D$26:$D$40,0),RANK(E33,$E$26:$E$40,0)),"-") -> 8 | B33: =IF(E33="-","(-)","("&VLOOKUP(C33,'前年順位整理（自動更新）'!$B$3:$AX$486,MATCH('前年順位整理（自動更新）'!$B$1,'前年順位整理（自動更新）'!$B$3:$AX$3,0),)&")") -> (8) | C33: =IF(E33="-","-",IFERROR(_xlfn.XLOOKUP('計算用シート（当年）'!$C$1,'計算用シート（当年）'!$D$4:$S$4,'計算用シート（当年）'!$D118:$S118),"-")) -> 胆振 | D33: =IFERROR(IF($C$5="10a当たり収量",_xlfn.XLOOKUP('計算用シート（当年）'!$C$1,'計算用シート（当年）'!$D$4:$S$4,'計算用シート（当年）'!$D133:$S133),ROUND(E33/$E$24*100,1)),"-") -> 5.1 | E33: =IFERROR(IF($C$5="10a当たり収量","",_xlfn.XLOOKUP('計算用シート（当年）'!$C$1,'計算用シート（当年）'!$D$4:$S$4,'計算用シート（当年）'!$D133:$S133)),"-") -> 653
A34: =IFERROR(IF($C$5="10a当たり収量",RANK(D34,$D$26:$D$40,0),RANK(E34,$E$26:$E$40,0)),"-") -> 9 | B34: =IF(E34="-","(-)","("&VLOOKUP(C34,'前年順位整理（自動更新）'!$B$3:$AX$486,MATCH('前年順位整理（自動更新）'!$B$1,'前年順位整理（自動更新）'!$B$3:$AX$3,0),)&")") -> (9) | C34: =IF(E34="-","-",IFERROR(_xlfn.XLOOKUP('計算用シート（当年）'!$C$1,'計算用シート（当年）'!$D$4:$S$4,'計算用シート（当年）'!$D119:$S119),"-")) -> 石狩 | D34: =IFERROR(IF($C$5="10a当たり収量",_xlfn.XLOOKUP('計算用シート（当年）'!$C$1,'計算用シート（当年）'!$D$4:$S$4,'計算用シート（当年）'!$D134:$S134),ROUND(E34/$E$24*100,1)),"-") -> 3.9 | E34: =IFERROR(IF($C$5="10a当たり収量","",_xlfn.XLOOKUP('計算用シート（当年）'!$C$1,'計算用シート（当年）'!$D$4:$S$4,'計算用シート（当年）'!$D134:$S134)),"-") -> 507
A35: =IFERROR(IF($C$5="10a当たり収量",RANK(D35,$D$26:$D$40,0),RANK(E35,$E$26:$E$40,0)),"-") -> 10 | B35: =IF(E35="-","(-)","("&VLOOKUP(C35,'前年順位整理（自動更新）'!$B$3:$AX$486,MATCH('前年順位整理（自動更新）'!$B$1,'前年順位整理（自動更新）'!$B$3:$AX$3,0),)&")") -> (11) | C35: =IF(E35="-","-",IFERROR(_xlfn.XLOOKUP('計算用シート（当年）'!$C$1,'計算用シート（当年）'!$D$4:$S$4,'計算用シート（当年）'!$D120:$S120),"-")) -> 後志 | D35: =IFERROR(IF($C$5="10a当たり収量",_xlfn.XLOOKUP('計算用シート（当年）'!$C$1,'計算用シート（当年）'!$D$4:$S$4,'計算用シート（当年）'!$D135:$S135),ROUND(E35/$E$24*100,1)),"-") -> 3.4 | E35: =IFERROR(IF($C$5="10a当たり収量","",_xlfn.XLOOKUP('計算用シート（当年）'!$C$1,'計算用シート（当年）'!$D$4:$S$4,'計算用シート（当年）'!$D135:$S135)),"-") -> 440
A36: =IFERROR(IF($C$5="10a当たり収量",RANK(D36,$D$26:$D$40,0),RANK(E36,$E$26:$E$40,0)),"-") -> 11 | B36: =IF(E36="-","(-)","("&VLOOKUP(C36,'前年順位整理（自動更新）'!$B$3:$AX$486,MATCH('前年順位整理（自動更新）'!$B$1,'前年順位整理（自動更新）'!$B$3:$AX$3,0),)&")") -> (12) | C36: =IF(E36="-","-",IFERROR(_xlfn.XLOOKUP('計算用シート（当年）'!$C$1,'計算用シート（当年）'!$D$4:$S$4,'計算用シート（当年）'!$D121:$S121),"-")) -> 渡島 | D36: =IFERROR(IF($C$5="10a当たり収量",_xlfn.XLOOKUP('計算用シート（当年）'!$C$1,'計算用シート（当年）'!$D$4:$S$4,'計算用シート（当年）'!$D136:$S136),ROUND(E36/$E$24*100,1)),"-") -> 3.4 | E36: =IFERROR(IF($C$5="10a当たり収量","",_xlfn.XLOOKUP('計算用シート（当年）'!$C$1,'計算用シート（当年）'!$D$4:$S$4,'計算用シート（当年）'!$D136:$S136)),"-") -> 434
A37: =IFERROR(IF($C$5="10a当たり収量",RANK(D37,$D$26:$D$40,0),RANK(E37,$E$26:$E$40,0)),"-") -> 12 | B37: =IF(E37="-","(-)","("&VLOOKUP(C37,'前年順位整理（自動更新）'!$B$3:$AX$486,MATCH('前年順位整理（自動更新）'!$B$1,'前年順位整理（自動更新）'!$B$3:$AX$3,0),)&")") -> (10) | C37: =IF(E37="-","-",IFERROR(_xlfn.XLOOKUP('計算用シート（当年）'!$C$1,'計算用シート（当年）'!$D$4:$S$4,'計算用シート（当年）'!$D122:$S122),"-")) -> 宗谷 | D37: =IFERROR(IF($C$5="10a当たり収量",_xlfn.XLOOKUP('計算用シート（当年）'!$C$1,'計算用シート（当年）'!$D$4:$S$4,'計算用シート（当年）'!$D137:$S137),ROUND(E37/$E$24*100,1)),"-") -> 3.3 | E37: =IFERROR(IF($C$5="10a当たり収量","",_xlfn.XLOOKUP('計算用シート（当年）'!$C$1,'計算用シート（当年）'!$D$4:$S$4,'計算用シート（当年）'!$D137:$S137)),"-") -> 432
... A39: =IFERROR(IF($C$5="10a当たり収量",RANK(D39,$D$26:$D$40,0),RANK(E39,$E$26:$E$40,0)),"-") -> 14 | B39: =IF(E39="-","(-)","("&VLOOKUP(C39,'前年順位整理（自動更新）'!$B$3:$AX$486,MATCH('前年順位整理（自動更新）'!$B$1,'前年順位整理（自動更新）'!$B$3:$AX$3,0),)&")") -> (14) | C39: =IF(E39="-","-",IFERROR(_xlfn.XLOOKUP('計算用シート（当年）'!$C$1,'計算用シート（当年）'!$D$4:$S$4,'計算用シート（当年）'!$D124:$S124),"-")) -> 檜山 | D39: =IFERROR(IF($C$5="10a当たり収量",_xlfn.XLOOKUP('計算用シート（当年）'!$C$1,'計算用シート（当年）'!$D$4:$S$4,'計算用シート（当年）'!$D139:$S139),ROUND(E39/$E$24*100,1)),"-") -> 1 | E39: =IFERROR(IF($C$5="10a当たり収量","",_xlfn.XLOOKUP('計算用シート（当年）'!$C$1,'計算用シート（当年）'!$D$4:$S$4,'計算用シート（当年）'!$D139:$S139)),"-") -> 134
C42: =("市町村ランキング（1位～"&MAX($A$46:$A$224)&"位）") -> 市町村ランキング（1位～173位） | I42: 市町村別トップ20
A44: 順位 | B44: （前年） | C44: 市町村名 | D44: 地域 | E44: 産出額
E45: 1,000万円
A46: =IFERROR(RANK(E46,($E$46:$E$75,$E$76:$E$105,$E$106:$E$165,$E$166:$E$224),0),"-") -> 1 | B46: =IF(C46="-","","("&VLOOKUP(C46,'前年順位整理（自動更新）'!$B$3:$AX$486,MATCH('前年順位整理（自動更新）'!$B$1,'前年順位整理（自動更新）'!$B$3:$AX$3,0),)&")") -> (1) | C46: =IFERROR(_xlfn.XLOOKUP('計算用シート（当年）'!$C$1,'計算用シート（当年）'!$D$4:$S$4,'計算用シート（当年）'!$D140:$S140),"-") -> 別海町 | D46: =IFERROR(_xlfn.XLOOKUP(C46,市町村振興局拠点対応版!$D$6:$D$184,市町村振興局拠点対応版!$E$6:$E$184),"-") -> 根室 | E46: =IFERROR(_xlfn.XLOOKUP('計算用シート（当年）'!$C$1,'計算用シート（当年）'!$D$4:$S$4,'計算用シート（当年）'!$D319:$S319),"-") -> 6253
A47: =IFERROR(RANK(E47,($E$46:$E$75,$E$76:$E$105,$E$106:$E$165,$E$166:$E$224),0),"-") -> 2 | B47: =IF(C47="-","","("&VLOOKUP(C47,'前年順位整理（自動更新）'!$B$3:$AX$486,MATCH('前年順位整理（自動更新）'!$B$1,'前年順位整理（自動更新）'!$B$3:$AX$3,0),)&")") -> (2) | C47: =IFERROR(_xlfn.XLOOKUP('計算用シート（当年）'!$C$1,'計算用シート（当年）'!$D$4:$S$4,'計算用シート（当年）'!$D141:$S141),"-") -> 北見市 | D47: =IFERROR(_xlfn.XLOOKUP(C47,市町村振興局拠点対応版!$D$6:$D$184,市町村振興局拠点対応版!$E$6:$E$184),"-") -> オホーツク | E47: =IFERROR(_xlfn.XLOOKUP('計算用シート（当年）'!$C$1,'計算用シート（当年）'!$D$4:$S$4,'計算用シート（当年）'!$D320:$S320),"-") -> 3357
A48: =IFERROR(RANK(E48,($E$46:$E$75,$E$76:$E$105,$E$106:$E$165,$E$166:$E$224),0),"-") -> 3 | B48: =IF(C48="-","","("&VLOOKUP(C48,'前年順位整理（自動更新）'!$B$3:$AX$486,MATCH('前年順位整理（自動更新）'!$B$1,'前年順位整理（自動更新）'!$B$3:$AX$3,0),)&")") -> (5) | C48: =IFERROR(_xlfn.XLOOKUP('計算用シート（当年）'!$C$1,'計算用シート（当年）'!$D$4:$S$4,'計算用シート（当年）'!$D142:$S142),"-") -> 清水町 | D48: =IFERROR(_xlfn.XLOOKUP(C48,市町村振興局拠点対応版!$D$6:$D$184,市町村振興局拠点対応版!$E$6:$E$184),"-") -> 十勝 | E48: =IFERROR(_xlfn.XLOOKUP('計算用シート（当年）'!$C$1,'計算用シート（当年）'!$D$4:$S$4,'計算用シート（当年）'!$D321:$S321),"-") -> 2806
A49: =IFERROR(RANK(E49,($E$46:$E$75,$E$76:$E$105,$E$106:$E$165,$E$166:$E$224),0),"-") -> 4 | B49: =IF(C49="-","","("&VLOOKUP(C49,'前年順位整理（自動更新）'!$B$3:$AX$486,MATCH('前年順位整理（自動更新）'!$B$1,'前年順位整理（自動更新）'!$B$3:$AX$3,0),)&")") -> (4) | C49: =IFERROR(_xlfn.XLOOKUP('計算用シート（当年）'!$C$1,'計算用シート（当年）'!$D$4:$S$4,'計算用シート（当年）'!$D143:$S143),"-") -> 標茶町 | D49: =IFERROR(_xlfn.XLOOKUP(C49,市町村振興局拠点対応版!$D$6:$D$184,市町村振興局拠点対応版!$E$6:$E$184),"-") -> 釧路 | E49: =IFERROR(_xlfn.XLOOKUP('計算用シート（当年）'!$C$1,'計算用シート（当年）'!$D$4:$S$4,'計算用シート（当年）'!$D322:$S322),"-") -> 2805
A50: =IFERROR(RANK(E50,($E$46:$E$75,$E$76:$E$105,$E$106:$E$165,$E$166:$E$224),0),"-") -> 5 | B50: =IF(C50="-","","("&VLOOKUP(C50,'前年順位整理（自動更新）'!$B$3:$AX$486,MATCH('前年順位整理（自動更新）'!$B$1,'前年順位整理（自動更新）'!$B$3:$AX$3,0),)&")") -> (6) | C50: =IFERROR(_xlfn.XLOOKUP('計算用シート（当年）'!$C$1,'計算用シート（当年）'!$D$4:$S$4,'計算用シート（当年）'!$D144:$S144),"-") -> 士幌町 | D50: =IFERROR(_xlfn.XLOOKUP(C50,市町村振興局拠点対応版!$D$6:$D$184,市町村振興局拠点対応版!$E$6:$E$184),"-") -> 十勝 | E50: =IFERROR(_xlfn.XLOOKUP('計算用シート（当年）'!$C$1,'計算用シート（当年）'!$D$4:$S$4,'計算用シート（当年）'!$D323:$S323),"-") -> 2763
A51: =IFERROR(RANK(E51,($E$46:$E$75,$E$76:$E$105,$E$106:$E$165,$E$166:$E$224),0),"-") -> 6 | B51: =IF(C51="-","","("&VLOOKUP(C51,'前年順位整理（自動更新）'!$B$3:$AX$486,MATCH('前年順位整理（自動更新）'!$B$1,'前年順位整理（自動更新）'!$B$3:$AX$3,0),)&")") -> (3) | C51: =IFERROR(_xlfn.XLOOKUP('計算用シート（当年）'!$C$1,'計算用シート（当年）'!$D$4:$S$4,'計算用シート（当年）'!$D145:$S145),"-") -> 幕別町 | D51: =IFERROR(_xlfn.XLOOKUP(C51,市町村振興局拠点対応版!$D$6:$D$184,市町村振興局拠点対応版!$E$6:$E$184),"-") -> 十勝 | E51: =IFERROR(_xlfn.XLOOKUP('計算用シート（当年）'!$C$1,'計算用シート（当年）'!$D$4:$S$4,'計算用シート（当年）'!$D324:$S324),"-") -> 2711
A52: =IFERROR(RANK(E52,($E$46:$E$75,$E$76:$E$105,$E$106:$E$165,$E$166:$E$224),0),"-") -> 7 | B52: =IF(C52="-","","("&VLOOKUP(C52,'前年順位整理（自動更新）'!$B$3:$AX$486,MATCH('前年順位整理（自動更新）'!$B$1,'前年順位整理（自動更新）'!$B$3:$AX$3,0),)&")") -> (7) | C52: =IFERROR(_xlfn.XLOOKUP('計算用シート（当年）'!$C$1,'計算用シート（当年）'!$D$4:$S$4,'計算用シート（当年）'!$D146:$S146),"-") -> 帯広市 | D52: =IFERROR(_xlfn.XLOOKUP(C52,市町村振興局拠点対応版!$D$6:$D$184,市町村振興局拠点対応版!$E$6:$E$184),"-") -> 十勝 | E52: =IFERROR(_xlfn.XLOOKUP('計算用シート（当年）'!$C$1,'計算用シート（当年）'!$D$4:$S$4,'計算用シート（当年）'!$D325:$S325),"-") -> 2647
A53: =IFERROR(RANK(E53,($E$46:$E$75,$E$76:$E$105,$E$106:$E$165,$E$166:$E$224),0),"-") -> 8 | B53: =IF(C53="-","","("&VLOOKUP(C53,'前年順位整理（自動更新）'!$B$3:$AX$486,MATCH('前年順位整理（自動更新）'!$B$1,'前年順位整理（自動更新）'!$B$3:$AX$3,0),)&")") -> (8) | C53: =IFERROR(_xlfn.XLOOKUP('計算用シート（当年）'!$C$1,'計算用シート（当年）'!$D$4:$S$4,'計算用シート（当年）'!$D147:$S147),"-") -> 中標津町 | D53: =IFERROR(_xlfn.XLOOKUP(C53,市町村振興局拠点対応版!$D$6:$D$184,市町村振興局拠点対応版!$E$6:$E$184),"-") -> 根室 | E53: =IFERROR(_xlfn.XLOOKUP('計算用シート（当年）'!$C$1,'計算用シート（当年）'!$D$4:$S$4,'計算用シート（当年）'!$D326:$S326),"-") -> 2452
A54: =IFERROR(RANK(E54,($E$46:$E$75,$E$76:$E$105,$E$106:$E$165,$E$166:$E$224),0),"-") -> 9 | B54: =IF(C54="-","","("&VLOOKUP(C54,'前年順位整理（自動更新）'!$B$3:$AX$486,MATCH('前年順位整理（自動更新）'!$B$1,'前年順位整理（自動更新）'!$B$3:$AX$3,0),)&")") -> (11) | C54: =IFERROR(_xlfn.XLOOKUP('計算用シート（当年）'!$C$1,'計算用シート（当年）'!$D$4:$S$4,'計算用シート（当年）'!$D148:$S148),"-") -> 網走市 | D54: =IFERROR(_xlfn.XLOOKUP(C54,市町村振興局拠点対応版!$D$6:$D$184,市町村振興局拠点対応版!$E$6:$E$184),"-") -> オホーツク | E54: =IFERROR(_xlfn.XLOOKUP('計算用シート（当年）'!$C$1,'計算用シート（当年）'!$D$4:$S$4,'計算用シート（当年）'!$D327:$S327),"-") -> 2395
A55: =IFERROR(RANK(E55,($E$46:$E$75,$E$76:$E$105,$E$106:$E$165,$E$166:$E$224),0),"-") -> 10 | B55: =IF(C55="-","","("&VLOOKUP(C55,'前年順位整理（自動更新）'!$B$3:$AX$486,MATCH('前年順位整理（自動更新）'!$B$1,'前年順位整理（自動更新）'!$B$3:$AX$3,0),)&")") -> (9) | C55: =IFERROR(_xlfn.XLOOKUP('計算用シート（当年）'!$C$1,'計算用シート（当年）'!$D$4:$S$4,'計算用シート（当年）'!$D149:$S149),"-") -> 芽室町 | D55: =IFERROR(_xlfn.XLOOKUP(C55,市町村振興局拠点対応版!$D$6:$D$184,市町村振興局拠点対応版!$E$6:$E$184),"-") -> 十勝 | E55: =IFERROR(_xlfn.XLOOKUP('計算用シート（当年）'!$C$1,'計算用シート（当年）'!$D$4:$S$4,'計算用シート（当年）'!$D328:$S328),"-") -> 2363
A56: =IFERROR(RANK(E56,($E$46:$E$75,$E$76:$E$105,$E$106:$E$165,$E$166:$E$224),0),"-") -> 11 | B56: =IF(C56="-","","("&VLOOKUP(C56,'前年順位整理（自動更新）'!$B$3:$AX$486,MATCH('前年順位整理（自動更新）'!$B$1,'前年順位整理（自動更新）'!$B$3:$AX$3,0),)&")") -> (10) | C56: =IFERROR(_xlfn.XLOOKUP('計算用シート（当年）'!$C$1,'計算用シート（当年）'!$D$4:$S$4,'計算用シート（当年）'!$D150:$S150),"-") -> 音更町 | D56: =IFERROR(_xlfn.XLOOKUP(C56,市町村振興局拠点対応版!$D$6:$D$184,市町村振興局拠点対応版!$E$6:$E$184),"-") -> 十勝 | E56: =IFERROR(_xlfn.XLOOKUP('計算用シート（当年）'!$C$1,'計算用シート（当年）'!$D$4:$S$4,'計算用シート（当年）'!$D329:$S329),"-") -> 2313
A57: =IFERROR(RANK(E57,($E$46:$E$75,$E$76:$E$105,$E$106:$E$165,$E$166:$E$224),0),"-") -> 12 | B57: =IF(C57="-","","("&VLOOKUP(C57,'前年順位整理（自動更新）'!$B$3:$AX$486,MATCH('前年順位整理（自動更新）'!$B$1,'前年順位整理（自動更新）'!$B$3:$AX$3,0),)&")") -> (12) | C57: =IFERROR(_xlfn.XLOOKUP('計算用シート（当年）'!$C$1,'計算用シート（当年）'!$D$4:$S$4,'計算用シート（当年）'!$D151:$S151),"-") -> 上士幌町 | D57: =IFERROR(_xlfn.XLOOKUP(C57,市町村振興局拠点対応版!$D$6:$D$184,市町村振興局拠点対応版!$E$6:$E$184),"-") -> 十勝 | E57: =IFERROR(_xlfn.XLOOKUP('計算用シート（当年）'!$C$1,'計算用シート（当年）'!$D$4:$S$4,'計算用シート（当年）'!$D330:$S330),"-") -> 2091
... A224: =IFERROR(RANK(E224,($E$46:$E$75,$E$76:$E$105,$E$106:$E$165,$E$166:$E$224),0),"-") -> - | B224: =IF(C224="-","","("&VLOOKUP(C224,'前年順位整理（自動更新）'!$B$3:$AX$486,MATCH('前年順位整理（自動更新）'!$B$1,'前年順位整理（自動更新）'!$B$3:$AX$3,0),)&")") | C224: =IFERROR(_xlfn.XLOOKUP('計算用シート（当年）'!$C$1,'計算用シート（当年）'!$D$4:$S$4,'計算用シート（当年）'!$D318:$S318),"-") -> - | D224: =IFERROR(_xlfn.XLOOKUP(C224,市町村振興局拠点対応版!$D$6:$D$184,市町村振興局拠点対応版!$E$6:$E$184),"-") -> - | E224: =IFERROR(_xlfn.XLOOKUP('計算用シート（当年）'!$C$1,'計算用シート（当年）'!$D$4:$S$4,'計算用シート（当年）'!$D497:$S497),"-") -> -

Sheet 計算用シート（当年）
B1: 表示データ→ | C1: =なんばんBOOK!C5 -> 農業産出額計 | E1: てんさい円グラフ用→ | F1: =K111 -> オホーツク | G1: =K112 -> 十勝 | H1: =K113 -> 上川 | I1: その他
B2: グラフの種類（判定）→ | C2: ="グラフ_"&C1 -> グラフ_農業産出額計 | F2: =K126/$K$125 -> 0.44419643 | G2: =K127/$K$125 -> 0.40401786 | H2: =K128/$K$125 -> 0.066964286 | I2: =1-F2-G2-H2 -> 0.084821429
A3: 注1：色付きセルはベタ打ち | C3: 作成時メモ（課題等）→ ※全体向けメモは右端
A4: 注2：この色のセルは要更新 | D4: 農業産出額計 | E4: 耕種 | F4: 米 | G4: 小麦 | H4: そば | I4: 大豆 | J4: ばれいしょ | K4: てんさい | L4: なたね | M4: 野菜 | N4: 果実 | O4: 花き | P4: 畜産 | Q4: 乳用牛 | R4: 生乳 | S4: 肉用牛
B5: データ年 ※手入力で更新 | D5: 令和４年 | E5: 令和４年 | F5: 令和４年 | G5: 令和４年 | H5: 令和４年 | I5: 令和４年 | J5: 令和４年 | K5: 令和４年 | L5: 令和４年 | M5: 令和４年 | N5: 令和４年 | O5: 令和４年 | P5: 令和４年 | Q5: 令和４年 | R5: 令和４年 | S5: 令和４年
B6: 全国トップ５等 | C6: タイトル | D6: 全国トップ５とシェア | E6: 全国トップ５とシェア | F6: 全国トップ５とシェア | G6: 全国トップ５とシェア | H6: 全国トップ５とシェア | I6: 全国トップ５とシェア | J6: 全国トップ５とシェア | K6: 全国値と北海道値 | L6: 全国トップ５とシェア | M6: 全国トップ５とシェア | N6: 全国ランキング上位と北海道 | O6: 全国ランキング上位と北海道 | P6: 全国トップ５とシェア | Q6: 全国トップ５とシェア | R6: 全国トップ５とシェア | S6: 全国トップ５とシェア
C7: 都道府県名 1 | D7: =IFERROR(INDEX('貼_部門別・億円単・全国（e-Stat）'!$A$15:$A$61,MATCH('貼_部門別・億円単・全国（e-Stat）'!$B15,'貼_部門別・億円単・全国（e-Stat）'!$D$15:$D$61,0)),"-") -> 北海道 | E7: =IFERROR(INDEX('貼_部門別・億円単・全国（e-Stat）'!$A$15:$A$61,MATCH('貼_部門別・億円単・全国（e-Stat）'!$B15,'貼_部門別・億円単・全国（e-Stat）'!$F$15:$F$61,0)),"-") -> 北海道 | F7: =IFERROR(INDEX('貼_部門別・億円単・全国（e-Stat）'!$A$15:$A$61,MATCH('貼_部門別・億円単・全国（e-Stat）'!$B15,'貼_部門別・億円単・全国（e-Stat）'!$H$15:$H$61,0)),"-") -> 新潟 | G7: =IFERROR(INDEX('(要確認)詳細品目・全国データ計算用シート'!$V$13:$V$59,MATCH('(要確認)詳細品目・全国データ計算用シート'!$U13,'(要確認)詳細品目・全国データ計算用シート'!$AD$13:$AD$59,0)),"-") -> 北海道 | H7: =IFERROR(INDEX('(要確認)詳細品目・全国データ計算用シート'!$V$13:$V$59,MATCH('(要確認)詳細品目・全国データ計算用シート'!$U13,'(要確認)詳細品目・全国データ計算用シート'!$AP$13:$AP$59,0)),"-") -> 北海道 | I7: =IFERROR(INDEX('(要確認)詳細品目・全国データ計算用シート'!$V$13:$V$59,MATCH('(要確認)詳細品目・全国データ計算用シート'!$U13,'(要確認)詳細品目・全国データ計算用シート'!$AL$13:$AL$59,0)),"-") -> 北海道 | J7: =IFERROR(INDEX('(要確認)詳細品目・全国データ計算用シート'!$V$13:$V$59,MATCH('(要確認)詳細品目・全国データ計算用シート'!$U13,'(要確認)詳細品目・全国データ計算用シート'!$Z$13:$Z$59,0)),"-") -> 北海道 | K7: =IFERROR(INDEX('(要確認)詳細品目・全国データ計算用シート'!$V$13:$V$59,MATCH('(要確認)詳細品目・全国データ計算用シート'!$U13,'(要確認)詳細品目・全国データ計算用シート'!$AH$13:$AH$59,0)),"-") -> 北海道 | L7: =IFERROR('貼_主要農産物の産出額と構成比（なたね含）'!H33,"-") -> 北海道 | M7: =IFERROR(INDEX('貼_部門別・億円単・全国（e-Stat）'!$A$15:$A$61,MATCH('貼_部門別・億円単・全国（e-Stat）'!$B15,'貼_部門別・億円単・全国（e-Stat）'!$R$15:$R$61,0)),"-") -> 北海道 | N7: =IFERROR(INDEX('貼_部門別・億円単・全国（e-Stat）'!$A$15:$A$61,MATCH('貼_部門別・億円単・全国（e-Stat）'!$B15,'貼_部門別・億円単・全国（e-Stat）'!$T$15:$T$61,0)),"-") -> 青森 | O7: =IFERROR(INDEX('貼_部門別・億円単・全国（e-Stat）'!$A$15:$A$61,MATCH('貼_部門別・億円単・全国（e-Stat）'!$B15,'貼_部門別・億円単・全国（e-Stat）'!$V$15:$V$61,0)),"-") -> 愛知 | P7: =IFERROR(INDEX('貼_部門別・億円単・全国（e-Stat）'!$A$15:$A$61,MATCH('貼_部門別・億円単・全国（e-Stat）'!$B15,'貼_部門別・億円単・全国（e-Stat）'!$AD$15:$AD$61,0)),"-") -> 北海道 | Q7: =IFERROR(INDEX('貼_部門別・億円単・全国（e-Stat）'!$A$15:$A$61,MATCH('貼_部門別・億円単・全国（e-Stat）'!$B15,'貼_部門別・億円単・全国（e-Stat）'!$AH$15:$AH$61,0)),"-") -> 北海道 | R7: =IFERROR(INDEX('貼_部門別・億円単・全国（e-Stat）'!$A$15:$A$61,MATCH('貼_部門別・億円単・全国（e-Stat）'!$B15,'貼_部門別・億円単・全国（e-Stat）'!$AJ$15:$AJ$61,0)),"-") -> 北海道 | S7: =IFERROR(INDEX('貼_部門別・億円単・全国（e-Stat）'!$A$15:$A$61,MATCH('貼_部門別・億円単・全国（e-Stat）'!$B15,'貼_部門別・億円単・全国（e-Stat）'!$AF$15:$AF$61,0)),"-") -> 鹿児島
C8: 2 | D8: =IFERROR(INDEX('貼_部門別・億円単・全国（e-Stat）'!$A$15:$A$61,MATCH('貼_部門別・億円単・全国（e-Stat）'!$B16,'貼_部門別・億円単・全国（e-Stat）'!$D$15:$D$61,0)),"-") -> 鹿児島 | E8: =IFERROR(INDEX('貼_部門別・億円単・全国（e-Stat）'!$A$15:$A$61,MATCH('貼_部門別・億円単・全国（e-Stat）'!$B16,'貼_部門別・億円単・全国（e-Stat）'!$F$15:$F$61,0)),"-") -> 茨城 | F8: =IFERROR(INDEX('貼_部門別・億円単・全国（e-Stat）'!$A$15:$A$61,MATCH('貼_部門別・億円単・全国（e-Stat）'!$B16,'貼_部門別・億円単・全国（e-Stat）'!$H$15:$H$61,0)),"-") -> 北海道 | G8: =IFERROR(INDEX('(要確認)詳細品目・全国データ計算用シート'!$V$13:$V$59,MATCH('(要確認)詳細品目・全国データ計算用シート'!$U14,'(要確認)詳細品目・全国データ計算用シート'!$AD$13:$AD$59,0)),"-") -> 福岡 | H8: =IFERROR(INDEX('(要確認)詳細品目・全国データ計算用シート'!$V$13:$V$59,MATCH('(要確認)詳細品目・全国データ計算用シート'!$U14,'(要確認)詳細品目・全国データ計算用シート'!$AP$13:$AP$59,0)),"-") -> 長野 | I8: =IFERROR(INDEX('(要確認)詳細品目・全国データ計算用シート'!$V$13:$V$59,MATCH('(要確認)詳細品目・全国データ計算用シート'!$U14,'(要確認)詳細品目・全国データ計算用シート'!$AL$13:$AL$59,0)),"-") -> 宮城 | J8: =IFERROR(INDEX('(要確認)詳細品目・全国データ計算用シート'!$V$13:$V$59,MATCH('(要確認)詳細品目・全国データ計算用シート'!$U14,'(要確認)詳細品目・全国データ計算用シート'!$Z$13:$Z$59,0)),"-") -> 鹿児島 | L8: =IFERROR('貼_主要農産物の産出額と構成比（なたね含）'!H34,"-") -> 青森 | M8: =IFERROR(INDEX('貼_部門別・億円単・全国（e-Stat）'!$A$15:$A$61,MATCH('貼_部門別・億円単・全国（e-Stat）'!$B16,'貼_部門別・億円単・全国（e-Stat）'!$R$15:$R$61,0)),"-") -> 茨城 | N8: =IFERROR(INDEX('貼_部門別・億円単・全国（e-Stat）'!$A$15:$A$61,MATCH('貼_部門別・億円単・全国（e-Stat）'!$B16,'貼_部門別・億円単・全国（e-Stat）'!$T$15:$T$61,0)),"-") -> 長野 | O8: =IFERROR(INDEX('貼_部門別・億円単・全国（e-Stat）'!$A$15:$A$61,MATCH('貼_部門別・億円単・全国（e-Stat）'!$B16,'貼_部門別・億円単・全国（e-Stat）'!$V$15:$V$61,0)),"-") -> 千葉 | P8: =IFERROR(INDEX('貼_部門別・億円単・全国（e-Stat）'!$A$15:$A$61,MATCH('貼_部門別・億円単・全国（e-Stat）'!$B16,'貼_部門別・億円単・全国（e-Stat）'!$AD$15:$AD$61,0)),"-") -> 鹿児島 | Q8: =IFERROR(INDEX('貼_部門別・億円単・全国（e-Stat）'!$A$15:$A$61,MATCH('貼_部門別・億円単・全国（e-Stat）'!$B16,'貼_部門別・億円単・全国（e-Stat）'!$AH$15:$AH$61,0)),"-") -> 栃木 | R8: =IFERROR(INDEX('貼_部門別・億円単・全国（e-Stat）'!$A$15:$A$61,MATCH('貼_部門別・億円単・全国（e-Stat）'!$B16,'貼_部門別・億円単・全国（e-Stat）'!$AJ$15:$AJ$61,0)),"-") -> 栃木 | S8: =IFERROR(INDEX('貼_部門別・億円単・全国（e-Stat）'!$A$15:$A$61,MATCH('貼_部門別・億円単・全国（e-Stat）'!$B16,'貼_部門別・億円単・全国（e-Stat）'!$AF$15:$AF$61,0)),"-") -> 北海道
C9: 3 | D9: =IFERROR(INDEX('貼_部門別・億円単・全国（e-Stat）'!$A$15:$A$61,MATCH('貼_部門別・億円単・全国（e-Stat）'!$B17,'貼_部門別・億円単・全国（e-Stat）'!$D$15:$D$61,0)),"-") -> 茨城 | E9: =IFERROR(INDEX('貼_部門別・億円単・全国（e-Stat）'!$A$15:$A$61,MATCH('貼_部門別・億円単・全国（e-Stat）'!$B17,'貼_部門別・億円単・全国（e-Stat）'!$F$15:$F$61,0)),"-") -> 千葉 | F9: =IFERROR(INDEX('貼_部門別・億円単・全国（e-Stat）'!$A$15:$A$61,MATCH('貼_部門別・億円単・全国（e-Stat）'!$B17,'貼_部門別・億円単・全国（e-Stat）'!$H$15:$H$61,0)),"-") -> 秋田 | G9: =IFERROR(INDEX('(要確認)詳細品目・全国データ計算用シート'!$V$13:$V$59,MATCH('(要確認)詳細品目・全国データ計算用シート'!$U15,'(要確認)詳細品目・全国データ計算用シート'!$AD$13:$AD$59,0)),"-") -> 佐賀 | H9: =IFERROR(INDEX('(要確認)詳細品目・全国データ計算用シート'!$V$13:$V$59,MATCH('(要確認)詳細品目・全国データ計算用シート'!$U15,'(要確認)詳細品目・全国データ計算用シート'!$AP$13:$AP$59,0)),"-") -> 茨城 | I9: =IFERROR(INDEX('(要確認)詳細品目・全国データ計算用シート'!$V$13:$V$59,MATCH('(要確認)詳細品目・全国データ計算用シート'!$U15,'(要確認)詳細品目・全国データ計算用シート'!$AL$13:$AL$59,0)),"-") -> 滋賀 | J9: =IFERROR(INDEX('(要確認)詳細品目・全国データ計算用シート'!$V$13:$V$59,MATCH('(要確認)詳細品目・全国データ計算用シート'!$U15,'(要確認)詳細品目・全国データ計算用シート'!$Z$13:$Z$59,0)),"-") -> 長崎 | L9: =IFERROR('貼_主要農産物の産出額と構成比（なたね含）'!H35,"-") -> 佐賀 | M9: =IFERROR(INDEX('貼_部門別・億円単・全国（e-Stat）'!$A$15:$A$61,MATCH('貼_部門別・億円単・全国（e-Stat）'!$B17,'貼_部門別・億円単・全国（e-Stat）'!$R$15:$R$61,0)),"-") -> 千葉 | N9: =IFERROR(INDEX('貼_部門別・億円単・全国（e-Stat）'!$A$15:$A$61,MATCH('貼_部門別・億円単・全国（e-Stat）'!$B17,'貼_部門別・億円単・全国（e-Stat）'!$T$15:$T$61,0)),"-") -> 山梨 | O9: =IFERROR(INDEX('貼_部門別・億円単・全国（e-Stat）'!$A$15:$A$61,MATCH('貼_部門別・億円単・全国（e-Stat）'!$B17,'貼_部門別・億円単・全国（e-Stat）'!$V$15:$V$61,0)),"-") -> 福岡 | P9: =IFERROR(INDEX('貼_部門別・億円単・全国（e-Stat）'!$A$15:$A$61,MATCH('貼_部門別・億円単・全国（e-Stat）'!$B17,'貼_部門別・億円単・全国（e-Stat）'!$AD$15:$AD$61,0)),"-") -> 宮崎 | Q9: =IFERROR(INDEX('貼_部門別・億円単・全国（e-Stat）'!$A$15:$A$61,MATCH('貼_部門別・億円単・全国（e-Stat）'!$B17,'貼_部門別・億円単・全国（e-Stat）'!$AH$15:$AH$61,0)),"-") -> 熊本 | R9: =IFERROR(INDEX('貼_部門別・億円単・全国（e-Stat）'!$A$15:$A$61,MATCH('貼_部門別・億円単・全国（e-Stat）'!$B17,'貼_部門別・億円単・全国（e-Stat）'!$AJ$15:$AJ$61,0)),"-") -> 熊本 | S9: =IFERROR(INDEX('貼_部門別・億円単・全国（e-Stat）'!$A$15:$A$61,MATCH('貼_部門別・億円単・全国（e-Stat）'!$B17,'貼_部門別・億円単・全国（e-Stat）'!$AF$15:$AF$61,0)),"-") -> 宮崎
C10: 4 | D10: =IFERROR(INDEX('貼_部門別・億円単・全国（e-Stat）'!$A$15:$A$61,MATCH('貼_部門別・億円単・全国（e-Stat）'!$B18,'貼_部門別・億円単・全国（e-Stat）'!$D$15:$D$61,0)),"-") -> 千葉 | E10: =IFERROR(INDEX('貼_部門別・億円単・全国（e-Stat）'!$A$15:$A$61,MATCH('貼_部門別・億円単・全国（e-Stat）'!$B18,'貼_部門別・億円単・全国（e-Stat）'!$F$15:$F$61,0)),"-") -> 長野 | F10: =IFERROR(INDEX('貼_部門別・億円単・全国（e-Stat）'!$A$15:$A$61,MATCH('貼_部門別・億円単・全国（e-Stat）'!$B18,'貼_部門別・億円単・全国（e-Stat）'!$H$15:$H$61,0)),"-") -> 山形 | G10: =IFERROR(INDEX('(要確認)詳細品目・全国データ計算用シート'!$V$13:$V$59,MATCH('(要確認)詳細品目・全国データ計算用シート'!$U16,'(要確認)詳細品目・全国データ計算用シート'!$AD$13:$AD$59,0)),"-") -> 愛知 | H10: =IFERROR(INDEX('(要確認)詳細品目・全国データ計算用シート'!$V$13:$V$59,MATCH('(要確認)詳細品目・全国データ計算用シート'!$U16,'(要確認)詳細品目・全国データ計算用シート'!$AP$13:$AP$59,0)),"-") -> 栃木 | I10: =IFERROR(INDEX('(要確認)詳細品目・全国データ計算用シート'!$V$13:$V$59,MATCH('(要確認)詳細品目・全国データ計算用シート'!$U16,'(要確認)詳細品目・全国データ計算用シート'!$AL$13:$AL$59,0)),"-") -> 兵庫 | J10: =IFERROR(INDEX('(要確認)詳細品目・全国データ計算用シート'!$V$13:$V$59,MATCH('(要確認)詳細品目・全国データ計算用シート'!$U16,'(要確認)詳細品目・全国データ計算用シート'!$Z$13:$Z$59,0)),"-") -> 茨城 | L10: =IFERROR('貼_主要農産物の産出額と構成比（なたね含）'!H36,"-") -> 長野 | M10: =IFERROR(INDEX('貼_部門別・億円単・全国（e-Stat）'!$A$15:$A$61,MATCH('貼_部門別・億円単・全国（e-Stat）'!$B18,'貼_部門別・億円単・全国（e-Stat）'!$R$15:$R$61,0)),"-") -> 熊本 | N10: =IFERROR(INDEX('貼_部門別・億円単・全国（e-Stat）'!$A$15:$A$61,MATCH('貼_部門別・億円単・全国（e-Stat）'!$B18,'貼_部門別・億円単・全国（e-Stat）'!$T$15:$T$61,0)),"-") -> 山形 | O10: =IFERROR(INDEX('貼_部門別・億円単・全国（e-Stat）'!$A$15:$A$61,MATCH('貼_部門別・億円単・全国（e-Stat）'!$B18,'貼_部門別・億円単・全国（e-Stat）'!$V$15:$V$61,0)),"-") -> 静岡 | P10: =IFERROR(INDEX('貼_部門別・億円単・全国（e-Stat）'!$A$15:$A$61,MATCH('貼_部門別・億円単・全国（e-Stat）'!$B18,'貼_部門別・億円単・全国（e-Stat）'!$AD$15:$AD$61,0)),"-") -> 岩手 | Q10: =IFERROR(INDEX('貼_部門別・億円単・全国（e-Stat）'!$A$15:$A$61,MATCH('貼_部門別・億円単・全国（e-Stat）'!$B18,'貼_部門別・億円単・全国（e-Stat）'!$AH$15:$AH$61,0)),"-") -> 群馬 | R10: =IFERROR(INDEX('貼_部門別・億円単・全国（e-Stat）'!$A$15:$A$61,MATCH('貼_部門別・億円単・全国（e-Stat）'!$B18,'貼_部門別・億円単・全国（e-Stat）'!$AJ$15:$AJ$61,0)),"-") -> 岩手 | S10: =IFERROR(INDEX('貼_部門別・億円単・全国（e-Stat）'!$A$15:$A$61,MATCH('貼_部門別・億円単・全国（e-Stat）'!$B18,'貼_部門別・億円単・全国（e-Stat）'!$AF$15:$AF$61,0)),"-") -> 熊本
C11: 5 | D11: =IFERROR(INDEX('貼_部門別・億円単・全国（e-Stat）'!$A$15:$A$61,MATCH('貼_部門別・億円単・全国（e-Stat）'!$B19,'貼_部門別・億円単・全国（e-Stat）'!$D$15:$D$61,0)),"-") -> 熊本 | E11: =IFERROR(INDEX('貼_部門別・億円単・全国（e-Stat）'!$A$15:$A$61,MATCH('貼_部門別・億円単・全国（e-Stat）'!$B19,'貼_部門別・億円単・全国（e-Stat）'!$F$15:$F$61,0)),"-") -> 青森 | F11: =IFERROR(INDEX('貼_部門別・億円単・全国（e-Stat）'!$A$15:$A$61,MATCH('貼_部門別・億円単・全国（e-Stat）'!$B19,'貼_部門別・億円単・全国（e-Stat）'!$H$15:$H$61,0)),"-") -> 宮城 | G11: =IFERROR(INDEX('(要確認)詳細品目・全国データ計算用シート'!$V$13:$V$59,MATCH('(要確認)詳細品目・全国データ計算用シート'!$U17,'(要確認)詳細品目・全国データ計算用シート'!$AD$13:$AD$59,0)),"-") -> 三重 | H11: =IFERROR(INDEX('(要確認)詳細品目・全国データ計算用シート'!$V$13:$V$59,MATCH('(要確認)詳細品目・全国データ計算用シート'!$U17,'(要確認)詳細品目・全国データ計算用シート'!$AP$13:$AP$59,0)),"-") -> 山形 | I11: =IFERROR(INDEX('(要確認)詳細品目・全国データ計算用シート'!$V$13:$V$59,MATCH('(要確認)詳細品目・全国データ計算用シート'!$U17,'(要確認)詳細品目・全国データ計算用シート'!$AL$13:$AL$59,0)),"-") -> 秋田 | J11: =IFERROR(INDEX('(要確認)詳細品目・全国データ計算用シート'!$V$13:$V$59,MATCH('(要確認)詳細品目・全国データ計算用シート'!$U17,'(要確認)詳細品目・全国データ計算用シート'!$Z$13:$Z$59,0)),"-") -> 千葉 | L11: =IFERROR('貼_主要農産物の産出額と構成比（なたね含）'!H37,"-") -> 滋賀 | M11: =IFERROR(INDEX('貼_部門別・億円単・全国（e-Stat）'!$A$15:$A$61,MATCH('貼_部門別・億円単・全国（e-Stat）'!$B19,'貼_部門別・億円単・全国（e-Stat）'!$R$15:$R$61,0)),"-") -> 愛知 | N11: =IFERROR(INDEX('貼_部門別・億円単・全国（e-Stat）'!$A$15:$A$61,MATCH('貼_部門別・億円単・全国（e-Stat）'!$B19,'貼_部門別・億円単・全国（e-Stat）'!$T$15:$T$61,0)),"-") -> 和歌山 | O11: =IFERROR(INDEX('貼_部門別・億円単・全国（e-Stat）'!$A$15:$A$61,MATCH('貼_部門別・億円単・全国（e-Stat）'!$B19,'貼_部門別・億円単・全国（e-Stat）'!$V$15:$V$61,0)),"-") -> 長野 | P11: =IFERROR(INDEX('貼_部門別・億円単・全国（e-Stat）'!$A$15:$A$61,MATCH('貼_部門別・億円単・全国（e-Stat）'!$B19,'貼_部門別・億円単・全国（e-Stat）'!$AD$15:$AD$61,0)),"-") -> 熊本 | Q11: =IFERROR(INDEX('貼_部門別・億円単・全国（e-Stat）'!$A$15:$A$61,MATCH('貼_部門別・億円単・全国（e-Stat）'!$B19,'貼_部門別・億円単・全国（e-Stat）'!$AH$15:$AH$61,0)),"-") -> 千葉 | R11: =IFERROR(INDEX('貼_部門別・億円単・全国（e-Stat）'!$A$15:$A$61,MATCH('貼_部門別・億円単・全国（e-Stat）'!$B19,'貼_部門別・億円単・全国（e-Stat）'!$AJ$15:$AJ$61,0)),"-") -> 千葉 | S11: =IFERROR(INDEX('貼_部門別・億円単・全国（e-Stat）'!$A$15:$A$61,MATCH('貼_部門別・億円単・全国（e-Stat）'!$B19,'貼_部門別・億円単・全国（e-Stat）'!$AF$15:$AF$61,0)),"-") -> 長崎
D12: =IFERROR(INDEX('貼_部門別・億円単・全国（e-Stat）'!$A$15:$A$61,MATCH('貼_部門別・億円単・全国（e-Stat）'!$B20,'貼_部門別・億円単・全国（e-Stat）'!$D$15:$D$61,0)),"-") -> 宮崎 | E12: =IFERROR(INDEX('貼_部門別・億円単・全国（e-Stat）'!$A$15:$A$61,MATCH('貼_部門別・億円単・全国（e-Stat）'!$B20,'貼_部門別・億円単・全国（e-Stat）'!$F$15:$F$61,0)),"-") -> 愛知 | F12: =IFERROR(INDEX('貼_部門別・億円単・全国（e-Stat）'!$A$15:$A$61,MATCH('貼_部門別・億円単・全国（e-Stat）'!$B20,'貼_部門別・億円単・全国（e-Stat）'!$H$15:$H$61,0)),"-") -> 茨城 | G12: =IFERROR(INDEX('(要確認)詳細品目・全国データ計算用シート'!$V$13:$V$59,MATCH('(要確認)詳細品目・全国データ計算用シート'!$U18,'(要確認)詳細品目・全国データ計算用シート'!$AD$13:$AD$59,0)),"-") -> 群馬 | H12: =IFERROR(INDEX('(要確認)詳細品目・全国データ計算用シート'!$V$13:$V$59,MATCH('(要確認)詳細品目・全国データ計算用シート'!$U18,'(要確認)詳細品目・全国データ計算用シート'!$AP$13:$AP$59,0)),"-") -> 福島 | I12: =IFERROR(INDEX('(要確認)詳細品目・全国データ計算用シート'!$V$13:$V$59,MATCH('(要確認)詳細品目・全国データ計算用シート'!$U18,'(要確認)詳細品目・全国データ計算用シート'!$AL$13:$AL$59,0)),"-") -> 福岡 | J12: =IFERROR(INDEX('(要確認)詳細品目・全国データ計算用シート'!$V$13:$V$59,MATCH('(要確認)詳細品目・全国データ計算用シート'!$U18,'(要確認)詳細品目・全国データ計算用シート'!$Z$13:$Z$59,0)),"-") -> 静岡 | L12: =IFERROR('貼_主要農産物の産出額と構成比（なたね含）'!H38,"-") -> 福岡 | M12: =IFERROR(INDEX('貼_部門別・億円単・全国（e-Stat）'!$A$15:$A$61,MATCH('貼_部門別・億円単・全国（e-Stat）'!$B20,'貼_部門別・億円単・全国（e-Stat）'!$R$15:$R$61,0)),"-") -> 群馬 | N12: =IFERROR(INDEX('貼_部門別・億円単・全国（e-Stat）'!$A$15:$A$61,MATCH('貼_部門別・億円単・全国（e-Stat）'!$B20,'貼_部門別・億円単・全国（e-Stat）'!$T$15:$T$61,0)),"-") -> 愛媛 | O12: =IFERROR(INDEX('貼_部門別・億円単・全国（e-Stat）'!$A$15:$A$61,MATCH('貼_部門別・億円単・全国（e-Stat）'!$B20,'貼_部門別・億円単・全国（e-Stat）'!$V$15:$V$61,0)),"-") -> 茨城 | P12: =IFERROR(INDEX('貼_部門別・億円単・全国（e-Stat）'!$A$15:$A$61,MATCH('貼_部門別・億円単・全国（e-Stat）'!$B20,'貼_部門別・億円単・全国（e-Stat）'!$AD$15:$AD$61,0)),"-") -> 茨城 | Q12: =IFERROR(INDEX('貼_部門別・億円単・全国（e-Stat）'!$A$15:$A$61,MATCH('貼_部門別・億円単・全国（e-Stat）'!$B20,'貼_部門別・億円単・全国（e-Stat）'!$AH$15:$AH$61,0)),"-") -> 岩手 | R12: =IFERROR(INDEX('貼_部門別・億円単・全国（e-Stat）'!$A$15:$A$61,MATCH('貼_部門別・億円単・全国（e-Stat）'!$B20,'貼_部門別・億円単・全国（e-Stat）'!$AJ$15:$AJ$61,0)),"-") -> 群馬 | S12: =IFERROR(INDEX('貼_部門別・億円単・全国（e-Stat）'!$A$15:$A$61,MATCH('貼_部門別・億円単・全国（e-Stat）'!$B20,'貼_部門別・億円単・全国（e-Stat）'!$AF$15:$AF$61,0)),"-") -> 岩手
D13: =IFERROR(INDEX('貼_部門別・億円単・全国（e-Stat）'!$A$15:$A$61,MATCH('貼_部門別・億円単・全国（e-Stat）'!$B21,'貼_部門別・億円単・全国（e-Stat）'!$D$15:$D$61,0)),"-") -> 青森 | E13: =IFERROR(INDEX('貼_部門別・億円単・全国（e-Stat）'!$A$15:$A$61,MATCH('貼_部門別・億円単・全国（e-Stat）'!$B21,'貼_部門別・億円単・全国（e-Stat）'!$F$15:$F$61,0)),"-") -> 熊本 | F13: =IFERROR(INDEX('貼_部門別・億円単・全国（e-Stat）'!$A$15:$A$61,MATCH('貼_部門別・億円単・全国（e-Stat）'!$B21,'貼_部門別・億円単・全国（e-Stat）'!$H$15:$H$61,0)),"-") -> 福島 | G13: =IFERROR(INDEX('(要確認)詳細品目・全国データ計算用シート'!$V$13:$V$59,MATCH('(要確認)詳細品目・全国データ計算用シート'!$U19,'(要確認)詳細品目・全国データ計算用シート'!$AD$13:$AD$59,0)),"-") -> 滋賀 | H13: =IFERROR(INDEX('(要確認)詳細品目・全国データ計算用シート'!$V$13:$V$59,MATCH('(要確認)詳細品目・全国データ計算用シート'!$U19,'(要確認)詳細品目・全国データ計算用シート'!$AP$13:$AP$59,0)),"-") -> 秋田 | I13: =IFERROR(INDEX('(要確認)詳細品目・全国データ計算用シート'!$V$13:$V$59,MATCH('(要確認)詳細品目・全国データ計算用シート'!$U19,'(要確認)詳細品目・全国データ計算用シート'!$AL$13:$AL$59,0)),"-") -> 佐賀 | J13: =IFERROR(INDEX('(要確認)詳細品目・全国データ計算用シート'!$V$13:$V$59,MATCH('(要確認)詳細品目・全国データ計算用シート'!$U19,'(要確認)詳細品目・全国データ計算用シート'!$Z$13:$Z$59,0)),"-") -> 長野 | L13: =IFERROR('貼_主要農産物の産出額と構成比（なたね含）'!H39,"-") -> 熊本 | M13: =IFERROR(INDEX('貼_部門別・億円単・全国（e-Stat）'!$A$15:$A$61,MATCH('貼_部門別・億円単・全国（e-Stat）'!$B21,'貼_部門別・億円単・全国（e-Stat）'!$R$15:$R$61,0)),"-") -> 長野 | N13: =IFERROR(INDEX('貼_部門別・億円単・全国（e-Stat）'!$A$15:$A$61,MATCH('貼_部門別・億円単・全国（e-Stat）'!$B21,'貼_部門別・億円単・全国（e-Stat）'!$T$15:$T$61,0)),"-") -> 熊本 | O13: =IFERROR(INDEX('貼_部門別・億円単・全国（e-Stat）'!$A$15:$A$61,MATCH('貼_部門別・億円単・全国（e-Stat）'!$B21,'貼_部門別・億円単・全国（e-Stat）'!$V$15:$V$61,0)),"-") -> 埼玉 | P13: =IFERROR(INDEX('貼_部門別・億円単・全国（e-Stat）'!$A$15:$A$61,MATCH('貼_部門別・億円単・全国（e-Stat）'!$B21,'貼_部門別・億円単・全国（e-Stat）'!$AD$15:$AD$61,0)),"-") -> 栃木 | Q13: =IFERROR(INDEX('貼_部門別・億円単・全国（e-Stat）'!$A$15:$A$61,MATCH('貼_部門別・億円単・全国（e-Stat）'!$B21,'貼_部門別・億円単・全国（e-Stat）'!$AH$15:$AH$61,0)),"-") -> 茨城 | R13: =IFERROR(INDEX('貼_部門別・億円単・全国（e-Stat）'!$A$15:$A$61,MATCH('貼_部門別・億円単・全国（e-Stat）'!$B21,'貼_部門別・億円単・全国（e-Stat）'!$AJ$15:$AJ$61,0)),"-") -> 茨城 | S13: =IFERROR(INDEX('貼_部門別・億円単・全国（e-Stat）'!$A$15:$A$61,MATCH('貼_部門別・億円単・全国（e-Stat）'!$B21,'貼_部門別・億円単・全国（e-Stat）'!$AF$15:$AF$61,0)),"-") -> 宮城
D14: =IFERROR(INDEX('貼_部門別・億円単・全国（e-Stat）'!$A$15:$A$61,MATCH('貼_部門別・億円単・全国（e-Stat）'!$B22,'貼_部門別・億円単・全国（e-Stat）'!$D$15:$D$61,0)),"-") -> 愛知 | E14: =IFERROR(INDEX('貼_部門別・億円単・全国（e-Stat）'!$A$15:$A$61,MATCH('貼_部門別・億円単・全国（e-Stat）'!$B22,'貼_部門別・億円単・全国（e-Stat）'!$F$15:$F$61,0)),"-") -> 山形 | F14: =IFERROR(INDEX('貼_部門別・億円単・全国（e-Stat）'!$A$15:$A$61,MATCH('貼_部門別・億円単・全国（e-Stat）'!$B22,'貼_部門別・億円単・全国（e-Stat）'!$H$15:$H$61,0)),"-") -> 千葉 | G14: =IFERROR(INDEX('(要確認)詳細品目・全国データ計算用シート'!$V$13:$V$59,MATCH('(要確認)詳細品目・全国データ計算用シート'!$U20,'(要確認)詳細品目・全国データ計算用シート'!$AD$13:$AD$59,0)),"-") -> 埼玉 | H14: =IFERROR(INDEX('(要確認)詳細品目・全国データ計算用シート'!$V$13:$V$59,MATCH('(要確認)詳細品目・全国データ計算用シート'!$U20,'(要確認)詳細品目・全国データ計算用シート'!$AP$13:$AP$59,0)),"-") -> 福井 | I14: =IFERROR(INDEX('(要確認)詳細品目・全国データ計算用シート'!$V$13:$V$59,MATCH('(要確認)詳細品目・全国データ計算用シート'!$U20,'(要確認)詳細品目・全国データ計算用シート'!$AL$13:$AL$59,0)),"-") -> 山形 | J14: =IFERROR(INDEX('(要確認)詳細品目・全国データ計算用シート'!$V$13:$V$59,MATCH('(要確認)詳細品目・全国データ計算用シート'!$U20,'(要確認)詳細品目・全国データ計算用シート'!$Z$13:$Z$59,0)),"-") -> 青森 | L14: =IFERROR('貼_主要農産物の産出額と構成比（なたね含）'!H40,"-") -> 三重 | M14: =IFERROR(INDEX('貼_部門別・億円単・全国（e-Stat）'!$A$15:$A$61,MATCH('貼_部門別・億円単・全国（e-Stat）'!$B22,'貼_部門別・億円単・全国（e-Stat）'!$R$15:$R$61,0)),"-") -> 栃木 | N14: =IFERROR(INDEX('貼_部門別・億円単・全国（e-Stat）'!$A$15:$A$61,MATCH('貼_部門別・億円単・全国（e-Stat）'!$B22,'貼_部門別・億円単・全国（e-Stat）'!$T$15:$T$61,0)),"-") -> 福島 | O14: =IFERROR(INDEX('貼_部門別・億円単・全国（e-Stat）'!$A$15:$A$61,MATCH('貼_部門別・億円単・全国（e-Stat）'!$B22,'貼_部門別・億円単・全国（e-Stat）'!$V$15:$V$61,0)),"-") -> 北海道 | P14: =IFERROR(INDEX('貼_部門別・億円単・全国（e-Stat）'!$A$15:$A$61,MATCH('貼_部門別・億円単・全国（e-Stat）'!$B22,'貼_部門別・億円単・全国（e-Stat）'!$AD$15:$AD$61,0)),"-") -> 千葉 | Q14: =IFERROR(INDEX('貼_部門別・億円単・全国（e-Stat）'!$A$15:$A$61,MATCH('貼_部門別・億円単・全国（e-Stat）'!$B22,'貼_部門別・億円単・全国（e-Stat）'!$AH$15:$AH$61,0)),"-") -> 愛知 | R14: =IFERROR(INDEX('貼_部門別・億円単・全国（e-Stat）'!$A$15:$A$61,MATCH('貼_部門別・億円単・全国（e-Stat）'!$B22,'貼_部門別・億円単・全国（e-Stat）'!$AJ$15:$AJ$61,0)),"-") -> 愛知 | S14: =IFERROR(INDEX('貼_部門別・億円単・全国（e-Stat）'!$A$15:$A$61,MATCH('貼_部門別・億円単・全国（e-Stat）'!$B22,'貼_部門別・億円単・全国（e-Stat）'!$AF$15:$AF$61,0)),"-") -> 栃木
D15: =IFERROR(INDEX('貼_部門別・億円単・全国（e-Stat）'!$A$15:$A$61,MATCH('貼_部門別・億円単・全国（e-Stat）'!$B23,'貼_部門別・億円単・全国（e-Stat）'!$D$15:$D$61,0)),"-") -> 栃木 | E15: =IFERROR(INDEX('貼_部門別・億円単・全国（e-Stat）'!$A$15:$A$61,MATCH('貼_部門別・億円単・全国（e-Stat）'!$B23,'貼_部門別・億円単・全国（e-Stat）'!$F$15:$F$61,0)),"-") -> 新潟 | F15: =IFERROR(INDEX('貼_部門別・億円単・全国（e-Stat）'!$A$15:$A$61,MATCH('貼_部門別・億円単・全国（e-Stat）'!$B23,'貼_部門別・億円単・全国（e-Stat）'!$H$15:$H$61,0)),"-") -> 岩手 | G15: =IFERROR(INDEX('(要確認)詳細品目・全国データ計算用シート'!$V$13:$V$59,MATCH('(要確認)詳細品目・全国データ計算用シート'!$U21,'(要確認)詳細品目・全国データ計算用シート'!$AD$13:$AD$59,0)),"-") -> 熊本 | H15: =IFERROR(INDEX('(要確認)詳細品目・全国データ計算用シート'!$V$13:$V$59,MATCH('(要確認)詳細品目・全国データ計算用シート'!$U21,'(要確認)詳細品目・全国データ計算用シート'!$AP$13:$AP$59,0)),"-") -> 岩手 | I15: =IFERROR(INDEX('(要確認)詳細品目・全国データ計算用シート'!$V$13:$V$59,MATCH('(要確認)詳細品目・全国データ計算用シート'!$U21,'(要確認)詳細品目・全国データ計算用シート'!$AL$13:$AL$59,0)),"-") -> 新潟 | J15: =IFERROR(INDEX('(要確認)詳細品目・全国データ計算用シート'!$V$13:$V$59,MATCH('(要確認)詳細品目・全国データ計算用シート'!$U21,'(要確認)詳細品目・全国データ計算用シート'!$Z$13:$Z$59,0)),"-") -> 熊本 | L15: =IFERROR('貼_主要農産物の産出額と構成比（なたね含）'!H41,"-") -> 埼玉 | M15: =IFERROR(INDEX('貼_部門別・億円単・全国（e-Stat）'!$A$15:$A$61,MATCH('貼_部門別・億円単・全国（e-Stat）'!$B23,'貼_部門別・億円単・全国（e-Stat）'!$R$15:$R$61,0)),"-") -> 埼玉 | N15: =IFERROR(INDEX('貼_部門別・億円単・全国（e-Stat）'!$A$15:$A$61,MATCH('貼_部門別・億円単・全国（e-Stat）'!$B23,'貼_部門別・億円単・全国（e-Stat）'!$T$15:$T$61,0)),"-") -> 静岡 | O15: =IFERROR(INDEX('貼_部門別・億円単・全国（e-Stat）'!$A$15:$A$61,MATCH('貼_部門別・億円単・全国（e-Stat）'!$B23,'貼_部門別・億円単・全国（e-Stat）'!$V$15:$V$61,0)),"-") -> 鹿児島 | P15: =IFERROR(INDEX('貼_部門別・億円単・全国（e-Stat）'!$A$15:$A$61,MATCH('貼_部門別・億円単・全国（e-Stat）'!$B23,'貼_部門別・億円単・全国（e-Stat）'!$AD$15:$AD$61,0)),"-") -> 群馬 | Q15: =IFERROR(INDEX('貼_部門別・億円単・全国（e-Stat）'!$A$15:$A$61,MATCH('貼_部門別・億円単・全国（e-Stat）'!$B23,'貼_部門別・億円単・全国（e-Stat）'!$AH$15:$AH$61,0)),"-") -> 岡山 | R15: =IFERROR(INDEX('貼_部門別・億円単・全国（e-Stat）'!$A$15:$A$61,MATCH('貼_部門別・億円単・全国（e-Stat）'!$B23,'貼_部門別・億円単・全国（e-Stat）'!$AJ$15:$AJ$61,0)),"-") -> 岡山 | S15: =IFERROR(INDEX('貼_部門別・億円単・全国（e-Stat）'!$A$15:$A$61,MATCH('貼_部門別・億円単・全国（e-Stat）'!$B23,'貼_部門別・億円単・全国（e-Stat）'!$AF$15:$AF$61,0)),"-") -> 沖縄
D16: =IFERROR(INDEX('貼_部門別・億円単・全国（e-Stat）'!$A$15:$A$61,MATCH('貼_部門別・億円単・全国（e-Stat）'!$B24,'貼_部門別・億円単・全国（e-Stat）'!$D$15:$D$61,0)),"-") -> 長野 | E16: =IFERROR(INDEX('貼_部門別・億円単・全国（e-Stat）'!$A$15:$A$61,MATCH('貼_部門別・億円単・全国（e-Stat）'!$B24,'貼_部門別・億円単・全国（e-Stat）'!$F$15:$F$61,0)),"-") -> 福岡 | F16: =IFERROR(INDEX('貼_部門別・億円単・全国（e-Stat）'!$A$15:$A$61,MATCH('貼_部門別・億円単・全国（e-Stat）'!$B24,'貼_部門別・億円単・全国（e-Stat）'!$H$15:$H$61,0)),"-") -> 栃木 | G16: =IFERROR(INDEX('(要確認)詳細品目・全国データ計算用シート'!$V$13:$V$59,MATCH('(要確認)詳細品目・全国データ計算用シート'!$U22,'(要確認)詳細品目・全国データ計算用シート'!$AD$13:$AD$59,0)),"-") -> 岐阜 | H16: =IFERROR(INDEX('(要確認)詳細品目・全国データ計算用シート'!$V$13:$V$59,MATCH('(要確認)詳細品目・全国データ計算用シート'!$U22,'(要確認)詳細品目・全国データ計算用シート'!$AP$13:$AP$59,0)),"-") -> 鹿児島 | I16: =IFERROR(INDEX('(要確認)詳細品目・全国データ計算用シート'!$V$13:$V$59,MATCH('(要確認)詳細品目・全国データ計算用シート'!$U22,'(要確認)詳細品目・全国データ計算用シート'!$AL$13:$AL$59,0)),"-") -> 富山 | J16: =IFERROR(INDEX('(要確認)詳細品目・全国データ計算用シート'!$V$13:$V$59,MATCH('(要確認)詳細品目・全国データ計算用シート'!$U22,'(要確認)詳細品目・全国データ計算用シート'!$Z$13:$Z$59,0)),"-") -> 埼玉 | L16: =IFERROR('貼_主要農産物の産出額と構成比（なたね含）'!H42,"-") -> 愛知 | M16: =IFERROR(INDEX('貼_部門別・億円単・全国（e-Stat）'!$A$15:$A$61,MATCH('貼_部門別・億円単・全国（e-Stat）'!$B24,'貼_部門別・億円単・全国（e-Stat）'!$R$15:$R$61,0)),"-") -> 福岡 | N16: =IFERROR(INDEX('貼_部門別・億円単・全国（e-Stat）'!$A$15:$A$61,MATCH('貼_部門別・億円単・全国（e-Stat）'!$B24,'貼_部門別・億円単・全国（e-Stat）'!$T$15:$T$61,0)),"-") -> 岡山 | O16: =IFERROR(INDEX('貼_部門別・億円単・全国（e-Stat）'!$A$15:$A$61,MATCH('貼_部門別・億円単・全国（e-Stat）'!$B24,'貼_部門別・億円単・全国（e-Stat）'!$V$15:$V$61,0)),"-") -> 熊本 | P16: =IFERROR(INDEX('貼_部門別・億円単・全国（e-Stat）'!$A$15:$A$61,MATCH('貼_部門別・億円単・全国（e-Stat）'!$B24,'貼_部門別・億円単・全国（e-Stat）'!$AD$15:$AD$61,0)),"-") -> 青森 | Q16: =IFERROR(INDEX('貼_部門別・億円単・全国（e-Stat）'!$A$15:$A$61,MATCH('貼_部門別・億円単・全国（e-Stat）'!$B24,'貼_部門別・億円単・全国（e-Stat）'!$AH$15:$AH$61,0)),"-") -> 宮城 | R16: =IFERROR(INDEX('貼_部門別・億円単・全国（e-Stat）'!$A$15:$A$61,MATCH('貼_部門別・億円単・全国（e-Stat）'!$B24,'貼_部門別・億円単・全国（e-Stat）'!$AJ$15:$AJ$61,0)),"-") -> 宮城 | S16: =IFERROR(INDEX('貼_部門別・億円単・全国（e-Stat）'!$A$15:$A$61,MATCH('貼_部門別・億円単・全国（e-Stat）'!$B24,'貼_部門別・億円単・全国（e-Stat）'!$AF$15:$AF$61,0)),"-") -> 茨城
D17: =IFERROR(INDEX('貼_部門別・億円単・全国（e-Stat）'!$A$15:$A$61,MATCH('貼_部門別・億円単・全国（e-Stat）'!$B25,'貼_部門別・億円単・全国（e-Stat）'!$D$15:$D$61,0)),"-") -> 岩手 | E17: =IFERROR(INDEX('貼_部門別・億円単・全国（e-Stat）'!$A$15:$A$61,MATCH('貼_部門別・億円単・全国（e-Stat）'!$B25,'貼_部門別・億円単・全国（e-Stat）'!$F$15:$F$61,0)),"-") -> 鹿児島 | F17: =IFERROR(INDEX('貼_部門別・億円単・全国（e-Stat）'!$A$15:$A$61,MATCH('貼_部門別・億円単・全国（e-Stat）'!$B25,'貼_部門別・億円単・全国（e-Stat）'!$H$15:$H$61,0)),"-") -> 兵庫 | G17: =IFERROR(INDEX('(要確認)詳細品目・全国データ計算用シート'!$V$13:$V$59,MATCH('(要確認)詳細品目・全国データ計算用シート'!$U23,'(要確認)詳細品目・全国データ計算用シート'!$AD$13:$AD$59,0)),"-") -> 茨城 | H17: =IFERROR(INDEX('(要確認)詳細品目・全国データ計算用シート'!$V$13:$V$59,MATCH('(要確認)詳細品目・全国データ計算用シート'!$U23,'(要確認)詳細品目・全国データ計算用シート'!$AP$13:$AP$59,0)),"-") -> 新潟 | I17: =IFERROR(INDEX('(要確認)詳細品目・全国データ計算用シート'!$V$13:$V$59,MATCH('(要確認)詳細品目・全国データ計算用シート'!$U23,'(要確認)詳細品目・全国データ計算用シート'!$AL$13:$AL$59,0)),"-") -> 岩手 | J17: =IFERROR(INDEX('(要確認)詳細品目・全国データ計算用シート'!$V$13:$V$59,MATCH('(要確認)詳細品目・全国データ計算用シート'!$U23,'(要確認)詳細品目・全国データ計算用シート'!$Z$13:$Z$59,0)),"-") -> 広島 | L17: =IFERROR('貼_主要農産物の産出額と構成比（なたね含）'!H43,"-") -> 大分 | M17: =IFERROR(INDEX('貼_部門別・億円単・全国（e-Stat）'!$A$15:$A$61,MATCH('貼_部門別・億円単・全国（e-Stat）'!$B25,'貼_部門別・億円単・全国（e-Stat）'!$R$15:$R$61,0)),"-") -> 高知 | N17: =IFERROR(INDEX('貼_部門別・億円単・全国（e-Stat）'!$A$15:$A$61,MATCH('貼_部門別・億円単・全国（e-Stat）'!$B25,'貼_部門別・億円単・全国（e-Stat）'!$T$15:$T$61,0)),"-") -> 福岡 | O17: =IFERROR(INDEX('貼_部門別・億円単・全国（e-Stat）'!$A$15:$A$61,MATCH('貼_部門別・億円単・全国（e-Stat）'!$B25,'貼_部門別・億円単・全国（e-Stat）'!$V$15:$V$61,0)),"-") -> 沖縄 | P17: =IFERROR(INDEX('貼_部門別・億円単・全国（e-Stat）'!$A$15:$A$61,MATCH('貼_部門別・億円単・全国（e-Stat）'!$B25,'貼_部門別・億円単・全国（e-Stat）'!$AD$15:$AD$61,0)),"-") -> 愛知 | Q17: =IFERROR(INDEX('貼_部門別・億円単・全国（e-Stat）'!$A$15:$A$61,MATCH('貼_部門別・億円単・全国（e-Stat）'!$B25,'貼_部門別・億円単・全国（e-Stat）'!$AH$15:$AH$61,0)),"-") -> 長野 | R17: =IFERROR(INDEX('貼_部門別・億円単・全国（e-Stat）'!$A$15:$A$61,MATCH('貼_部門別・億円単・全国（e-Stat）'!$B25,'貼_部門別・億円単・全国（e-Stat）'!$AJ$15:$AJ$61,0)),"-") -> 兵庫 | S17: =IFERROR(INDEX('貼_部門別・億円単・全国（e-Stat）'!$A$15:$A$61,MATCH('貼_部門別・億円単・全国（e-Stat）'!$B25,'貼_部門別・億円単・全国（e-Stat）'!$AF$15:$AF$61,0)),"-") -> 群馬
D18: =IFERROR(INDEX('貼_部門別・億円単・全国（e-Stat）'!$A$15:$A$61,MATCH('貼_部門別・億円単・全国（e-Stat）'!$B26,'貼_部門別・億円単・全国（e-Stat）'!$D$15:$D$61,0)),"-") -> 群馬 | E18: =IFERROR(INDEX('貼_部門別・億円単・全国（e-Stat）'!$A$15:$A$61,MATCH('貼_部門別・億円単・全国（e-Stat）'!$B26,'貼_部門別・億円単・全国（e-Stat）'!$F$15:$F$61,0)),"-") -> 静岡 | F18: =IFERROR(INDEX('貼_部門別・億円単・全国（e-Stat）'!$A$15:$A$61,MATCH('貼_部門別・億円単・全国（e-Stat）'!$B26,'貼_部門別・億円単・全国（e-Stat）'!$H$15:$H$61,0)),"-") -> 青森 | G18: =IFERROR(INDEX('(要確認)詳細品目・全国データ計算用シート'!$V$13:$V$59,MATCH('(要確認)詳細品目・全国データ計算用シート'!$U24,'(要確認)詳細品目・全国データ計算用シート'!$AD$13:$AD$59,0)),"-") -> 岩手 | H18: =IFERROR(INDEX('(要確認)詳細品目・全国データ計算用シート'!$V$13:$V$59,MATCH('(要確認)詳細品目・全国データ計算用シート'!$U24,'(要確認)詳細品目・全国データ計算用シート'!$AP$13:$AP$59,0)),"-") -> 青森 | I18: =IFERROR(INDEX('(要確認)詳細品目・全国データ計算用シート'!$V$13:$V$59,MATCH('(要確認)詳細品目・全国データ計算用シート'!$U24,'(要確認)詳細品目・全国データ計算用シート'!$AL$13:$AL$59,0)),"-") -> 愛知 | J18: =IFERROR(INDEX('(要確認)詳細品目・全国データ計算用シート'!$V$13:$V$59,MATCH('(要確認)詳細品目・全国データ計算用シート'!$U24,'(要確認)詳細品目・全国データ計算用シート'!$Z$13:$Z$59,0)),"-") -> 福島 | L18: =IFERROR('貼_主要農産物の産出額と構成比（なたね含）'!H44,"-") -> 福島 | M18: =IFERROR(INDEX('貼_部門別・億円単・全国（e-Stat）'!$A$15:$A$61,MATCH('貼_部門別・億円単・全国（e-Stat）'!$B26,'貼_部門別・億円単・全国（e-Stat）'!$R$15:$R$61,0)),"-") -> 青森 | N18: =IFERROR(INDEX('貼_部門別・億円単・全国（e-Stat）'!$A$15:$A$61,MATCH('貼_部門別・億円単・全国（e-Stat）'!$B26,'貼_部門別・億円単・全国（e-Stat）'!$T$15:$T$61,0)),"-") -> 佐賀 | O18: =IFERROR(INDEX('貼_部門別・億円単・全国（e-Stat）'!$A$15:$A$61,MATCH('貼_部門別・億円単・全国（e-Stat）'!$B26,'貼_部門別・億円単・全国（e-Stat）'!$V$15:$V$61,0)),"-") -> 長崎 | P18: =IFERROR(INDEX('貼_部門別・億円単・全国（e-Stat）'!$A$15:$A$61,MATCH('貼_部門別・億円単・全国（e-Stat）'!$B26,'貼_部門別・億円単・全国（e-Stat）'!$AD$15:$AD$61,0)),"-") -> 宮城 | Q18: =IFERROR(INDEX('貼_部門別・億円単・全国（e-Stat）'!$A$15:$A$61,MATCH('貼_部門別・億円単・全国（e-Stat）'!$B26,'貼_部門別・億円単・全国（e-Stat）'!$AH$15:$AH$61,0)),"-") -> 兵庫 | R18: =IFERROR(INDEX('貼_部門別・億円単・全国（e-Stat）'!$A$15:$A$61,MATCH('貼_部門別・億円単・全国（e-Stat）'!$B26,'貼_部門別・億円単・全国（e-Stat）'!$AJ$15:$AJ$61,0)),"-") -> 長野 | S18: =IFERROR(INDEX('貼_部門別・億円単・全国（e-Stat）'!$A$15:$A$61,MATCH('貼_部門別・億円単・全国（e-Stat）'!$B26,'貼_部門別・億円単・全国（e-Stat）'!$AF$15:$AF$61,0)),"-") -> 佐賀
D19: =IFERROR(INDEX('貼_部門別・億円単・全国（e-Stat）'!$A$15:$A$61,MATCH('貼_部門別・億円単・全国（e-Stat）'!$B27,'貼_部門別・億円単・全国（e-Stat）'!$D$15:$D$61,0)),"-") -> 山形 | E19: =IFERROR(INDEX('貼_部門別・億円単・全国（e-Stat）'!$A$15:$A$61,MATCH('貼_部門別・億円単・全国（e-Stat）'!$B27,'貼_部門別・億円単・全国（e-Stat）'!$F$15:$F$61,0)),"-") -> 福島 | F19: =IFERROR(INDEX('貼_部門別・億円単・全国（e-Stat）'!$A$15:$A$61,MATCH('貼_部門別・億円単・全国（e-Stat）'!$B27,'貼_部門別・億円単・全国（e-Stat）'!$H$15:$H$61,0)),"-") -> 長野 | G19: =IFERROR(INDEX('(要確認)詳細品目・全国データ計算用シート'!$V$13:$V$59,MATCH('(要確認)詳細品目・全国データ計算用シート'!$U25,'(要確認)詳細品目・全国データ計算用シート'!$AD$13:$AD$59,0)),"-") -> 長野 | H19: =IFERROR(INDEX('(要確認)詳細品目・全国データ計算用シート'!$V$13:$V$59,MATCH('(要確認)詳細品目・全国データ計算用シート'!$U25,'(要確認)詳細品目・全国データ計算用シート'!$AP$13:$AP$59,0)),"-") -> 群馬 | I19: =IFERROR(INDEX('(要確認)詳細品目・全国データ計算用シート'!$V$13:$V$59,MATCH('(要確認)詳細品目・全国データ計算用シート'!$U25,'(要確認)詳細品目・全国データ計算用シート'!$AL$13:$AL$59,0)),"-") -> 茨城 | J19: =IFERROR(INDEX('(要確認)詳細品目・全国データ計算用シート'!$V$13:$V$59,MATCH('(要確認)詳細品目・全国データ計算用シート'!$U25,'(要確認)詳細品目・全国データ計算用シート'!$Z$13:$Z$59,0)),"-") -> 宮崎 | L19: =IFERROR('貼_主要農産物の産出額と構成比（なたね含）'!H45,"-") -> 群馬 | M19: =IFERROR(INDEX('貼_部門別・億円単・全国（e-Stat）'!$A$15:$A$61,MATCH('貼_部門別・億円単・全国（e-Stat）'!$B27,'貼_部門別・億円単・全国（e-Stat）'!$R$15:$R$61,0)),"-") -> 宮崎 | N19: =IFERROR(INDEX('貼_部門別・億円単・全国（e-Stat）'!$A$15:$A$61,MATCH('貼_部門別・億円単・全国（e-Stat）'!$B27,'貼_部門別・億円単・全国（e-Stat）'!$T$15:$T$61,0)),"-") -> 愛知 | O19: =IFERROR(INDEX('貼_部門別・億円単・全国（e-Stat）'!$A$15:$A$61,MATCH('貼_部門別・億円単・全国（e-Stat）'!$B27,'貼_部門別・億円単・全国（e-Stat）'!$V$15:$V$61,0)),"-") -> 福島 | P19: =IFERROR(INDEX('貼_部門別・億円単・全国（e-Stat）'!$A$15:$A$61,MATCH('貼_部門別・億円単・全国（e-Stat）'!$B27,'貼_部門別・億円単・全国（e-Stat）'!$AD$15:$AD$61,0)),"-") -> 岡山 | Q19: =IFERROR(INDEX('貼_部門別・億円単・全国（e-Stat）'!$A$15:$A$61,MATCH('貼_部門別・億円単・全国（e-Stat）'!$B27,'貼_部門別・億円単・全国（e-Stat）'!$AH$15:$AH$61,0)),"-") -> 静岡 | R19: =IFERROR(INDEX('貼_部門別・億円単・全国（e-Stat）'!$A$15:$A$61,MATCH('貼_部門別・億円単・全国（e-Stat）'!$B27,'貼_部門別・億円単・全国（e-Stat）'!$AJ$15:$AJ$61,0)),"-") -> 静岡 | S19: =IFERROR(INDEX('貼_部門別・億円単・全国（e-Stat）'!$A$15:$A$61,MATCH('貼_部門別・億円単・全国（e-Stat）'!$B27,'貼_部門別・億円単・全国（e-Stat）'!$AF$15:$AF$61,0)),"-") -> 兵庫
D20: =IFERROR(INDEX('貼_部門別・億円単・全国（e-Stat）'!$A$15:$A$61,MATCH('貼_部門別・億円単・全国（e-Stat）'!$B28,'貼_部門別・億円単・全国（e-Stat）'!$D$15:$D$61,0)),"-") -> 新潟 | E20: =IFERROR(INDEX('貼_部門別・億円単・全国（e-Stat）'!$A$15:$A$61,MATCH('貼_部門別・億円単・全国（e-Stat）'!$B28,'貼_部門別・億円単・全国（e-Stat）'!$F$15:$F$61,0)),"-") -> 栃木 | F20: =IFERROR(INDEX('貼_部門別・億円単・全国（e-Stat）'!$A$15:$A$61,MATCH('貼_部門別・億円単・全国（e-Stat）'!$B28,'貼_部門別・億円単・全国（e-Stat）'!$H$15:$H$61,0)),"-") -> 富山 | G20: =IFERROR(INDEX('(要確認)詳細品目・全国データ計算用シート'!$V$13:$V$59,MATCH('(要確認)詳細品目・全国データ計算用シート'!$U26,'(要確認)詳細品目・全国データ計算用シート'!$AD$13:$AD$59,0)),"-") -> 栃木 | H20: =IFERROR(INDEX('(要確認)詳細品目・全国データ計算用シート'!$V$13:$V$59,MATCH('(要確認)詳細品目・全国データ計算用シート'!$U26,'(要確認)詳細品目・全国データ計算用シート'!$AP$13:$AP$59,0)),"-") -> 滋賀 | I20: =IFERROR(INDEX('(要確認)詳細品目・全国データ計算用シート'!$V$13:$V$59,MATCH('(要確認)詳細品目・全国データ計算用シート'!$U26,'(要確認)詳細品目・全国データ計算用シート'!$AL$13:$AL$59,0)),"-") -> 青森 | J20: =IFERROR(INDEX('(要確認)詳細品目・全国データ計算用シート'!$V$13:$V$59,MATCH('(要確認)詳細品目・全国データ計算用シート'!$U26,'(要確認)詳細品目・全国データ計算用シート'!$Z$13:$Z$59,0)),"-") -> 秋田 | L20: =IFERROR('貼_主要農産物の産出額と構成比（なたね含）'!H46,"-") -> 兵庫 | M20: =IFERROR(INDEX('貼_部門別・億円単・全国（e-Stat）'!$A$15:$A$61,MATCH('貼_部門別・億円単・全国（e-Stat）'!$B28,'貼_部門別・億円単・全国（e-Stat）'!$R$15:$R$61,0)),"-") -> 静岡 | N20: =IFERROR(INDEX('貼_部門別・億円単・全国（e-Stat）'!$A$15:$A$61,MATCH('貼_部門別・億円単・全国（e-Stat）'!$B28,'貼_部門別・億円単・全国（e-Stat）'!$T$15:$T$61,0)),"-") -> 広島 | O20: =IFERROR(INDEX('貼_部門別・億円単・全国（e-Stat）'!$A$15:$A$61,MATCH('貼_部門別・億円単・全国（e-Stat）'!$B28,'貼_部門別・億円単・全国（e-Stat）'!$V$15:$V$61,0)),"-") -> 宮崎 | P20: =IFERROR(INDEX('貼_部門別・億円単・全国（e-Stat）'!$A$15:$A$61,MATCH('貼_部門別・億円単・全国（e-Stat）'!$B28,'貼_部門別・億円単・全国（e-Stat）'!$AD$15:$AD$61,0)),"-") -> 兵庫 | Q20: =IFERROR(INDEX('貼_部門別・億円単・全国（e-Stat）'!$A$15:$A$61,MATCH('貼_部門別・億円単・全国（e-Stat）'!$B28,'貼_部門別・億円単・全国（e-Stat）'!$AH$15:$AH$61,0)),"-") -> 島根 | R20: =IFERROR(INDEX('貼_部門別・億円単・全国（e-Stat）'!$A$15:$A$61,MATCH('貼_部門別・億円単・全国（e-Stat）'!$B28,'貼_部門別・億円単・全国（e-Stat）'!$AJ$15:$AJ$61,0)),"-") -> 島根 | S20: =IFERROR(INDEX('貼_部門別・億円単・全国（e-Stat）'!$A$15:$A$61,MATCH('貼_部門別・億円単・全国（e-Stat）'!$B28,'貼_部門別・億円単・全国（e-Stat）'!$AF$15:$AF$61,0)),"-") -> 青森
D21: =IFERROR(INDEX('貼_部門別・億円単・全国（e-Stat）'!$A$15:$A$61,MATCH('貼_部門別・億円単・全国（e-Stat）'!$B29,'貼_部門別・億円単・全国（e-Stat）'!$D$15:$D$61,0)),"-") -> 静岡 | E21: =IFERROR(INDEX('貼_部門別・億円単・全国（e-Stat）'!$A$15:$A$61,MATCH('貼_部門別・億円単・全国（e-Stat）'!$B29,'貼_部門別・億円単・全国（e-Stat）'!$F$15:$F$61,0)),"-") -> 秋田 | F21: =IFERROR(INDEX('貼_部門別・億円単・全国（e-Stat）'!$A$15:$A$61,MATCH('貼_部門別・億円単・全国（e-Stat）'!$B29,'貼_部門別・億円単・全国（e-Stat）'!$H$15:$H$61,0)),"-") -> 福岡 | G21: =IFERROR(INDEX('(要確認)詳細品目・全国データ計算用シート'!$V$13:$V$59,MATCH('(要確認)詳細品目・全国データ計算用シート'!$U27,'(要確認)詳細品目・全国データ計算用シート'!$AD$13:$AD$59,0)),"-") -> 山口 | H21: =IFERROR(INDEX('(要確認)詳細品目・全国データ計算用シート'!$V$13:$V$59,MATCH('(要確認)詳細品目・全国データ計算用シート'!$U27,'(要確認)詳細品目・全国データ計算用シート'!$AP$13:$AP$59,0)),"-") -> 熊本 | I21: =IFERROR(INDEX('(要確認)詳細品目・全国データ計算用シート'!$V$13:$V$59,MATCH('(要確認)詳細品目・全国データ計算用シート'!$U27,'(要確認)詳細品目・全国データ計算用シート'!$AL$13:$AL$59,0)),"-") -> 岡山 | J21: =IFERROR(INDEX('(要確認)詳細品目・全国データ計算用シート'!$V$13:$V$59,MATCH('(要確認)詳細品目・全国データ計算用シート'!$U27,'(要確認)詳細品目・全国データ計算用シート'!$Z$13:$Z$59,0)),"-") -> 福岡 | L21: =IFERROR('貼_主要農産物の産出額と構成比（なたね含）'!H47,"-") -> 岩手 | M21: =IFERROR(INDEX('貼_部門別・億円単・全国（e-Stat）'!$A$15:$A$61,MATCH('貼_部門別・億円単・全国（e-Stat）'!$B29,'貼_部門別・億円単・全国（e-Stat）'!$R$15:$R$61,0)),"-") -> 鹿児島 | N21: =IFERROR(INDEX('貼_部門別・億円単・全国（e-Stat）'!$A$15:$A$61,MATCH('貼_部門別・億円単・全国（e-Stat）'!$B29,'貼_部門別・億円単・全国（e-Stat）'!$T$15:$T$61,0)),"-") -> 大分 | O21: =IFERROR(INDEX('貼_部門別・億円単・全国（e-Stat）'!$A$15:$A$61,MATCH('貼_部門別・億円単・全国（e-Stat）'!$B29,'貼_部門別・億円単・全国（e-Stat）'!$V$15:$V$61,0)),"-") -> 栃木 | P21: =IFERROR(INDEX('貼_部門別・億円単・全国（e-Stat）'!$A$15:$A$61,MATCH('貼_部門別・億円単・全国（e-Stat）'!$B29,'貼_部門別・億円単・全国（e-Stat）'!$AD$15:$AD$61,0)),"-") -> 長崎 | Q21: =IFERROR(INDEX('貼_部門別・億円単・全国（e-Stat）'!$A$15:$A$61,MATCH('貼_部門別・億円単・全国（e-Stat）'!$B29,'貼_部門別・億円単・全国（e-Stat）'!$AH$15:$AH$61,0)),"-") -> 鹿児島 | R21: =IFERROR(INDEX('貼_部門別・億円単・全国（e-Stat）'!$A$15:$A$61,MATCH('貼_部門別・億円単・全国（e-Stat）'!$B29,'貼_部門別・億円単・全国（e-Stat）'!$AJ$15:$AJ$61,0)),"-") -> 鹿児島 | S21: =IFERROR(INDEX('貼_部門別・億円単・全国（e-Stat）'!$A$15:$A$61,MATCH('貼_部門別・億円単・全国（e-Stat）'!$B29,'貼_部門別・億円単・全国（e-Stat）'!$AF$15:$AF$61,0)),"-") -> 大分
D22: =IFERROR(INDEX('貼_部門別・億円単・全国（e-Stat）'!$A$15:$A$61,MATCH('貼_部門別・億円単・全国（e-Stat）'!$B30,'貼_部門別・億円単・全国（e-Stat）'!$D$15:$D$61,0)),"-") -> 福岡 | E22: =IFERROR(INDEX('貼_部門別・億円単・全国（e-Stat）'!$A$15:$A$61,MATCH('貼_部門別・億円単・全国（e-Stat）'!$B30,'貼_部門別・億円単・全国（e-Stat）'!$F$15:$F$61,0)),"-") -> 埼玉 | F22: =IFERROR(INDEX('貼_部門別・億円単・全国（e-Stat）'!$A$15:$A$61,MATCH('貼_部門別・億円単・全国（e-Stat）'!$B30,'貼_部門別・億円単・全国（e-Stat）'!$H$15:$H$61,0)),"-") -> 滋賀 | G22: =IFERROR(INDEX('(要確認)詳細品目・全国データ計算用シート'!$V$13:$V$59,MATCH('(要確認)詳細品目・全国データ計算用シート'!$U28,'(要確認)詳細品目・全国データ計算用シート'!$AD$13:$AD$59,0)),"-") -> 大分 | H22: =IFERROR(INDEX('(要確認)詳細品目・全国データ計算用シート'!$V$13:$V$59,MATCH('(要確認)詳細品目・全国データ計算用シート'!$U28,'(要確認)詳細品目・全国データ計算用シート'!$AP$13:$AP$59,0)),"-") -> 埼玉 | I22: =IFERROR(INDEX('(要確認)詳細品目・全国データ計算用シート'!$V$13:$V$59,MATCH('(要確認)詳細品目・全国データ計算用シート'!$U28,'(要確認)詳細品目・全国データ計算用シート'!$AL$13:$AL$59,0)),"-") -> 栃木 | J22: =IFERROR(INDEX('(要確認)詳細品目・全国データ計算用シート'!$V$13:$V$59,MATCH('(要確認)詳細品目・全国データ計算用シート'!$U28,'(要確認)詳細品目・全国データ計算用シート'!$Z$13:$Z$59,0)),"-") -> 新潟 | L22: =IFERROR('貼_主要農産物の産出額と構成比（なたね含）'!H48,"-") -> 栃木 | M22: =IFERROR(INDEX('貼_部門別・億円単・全国（e-Stat）'!$A$15:$A$61,MATCH('貼_部門別・億円単・全国（e-Stat）'!$B30,'貼_部門別・億円単・全国（e-Stat）'!$R$15:$R$61,0)),"-") -> 福島 | N22: =IFERROR(INDEX('貼_部門別・億円単・全国（e-Stat）'!$A$15:$A$61,MATCH('貼_部門別・億円単・全国（e-Stat）'!$B30,'貼_部門別・億円単・全国（e-Stat）'!$T$15:$T$61,0)),"-") -> 宮崎 | O22: =IFERROR(INDEX('貼_部門別・億円単・全国（e-Stat）'!$A$15:$A$61,MATCH('貼_部門別・億円単・全国（e-Stat）'!$B30,'貼_部門別・億円単・全国（e-Stat）'!$V$15:$V$61,0)),"-") -> 山形 | P22: =IFERROR(INDEX('貼_部門別・億円単・全国（e-Stat）'!$A$15:$A$61,MATCH('貼_部門別・億円単・全国（e-Stat）'!$B30,'貼_部門別・億円単・全国（e-Stat）'!$AD$15:$AD$61,0)),"-") -> 広島 | Q22: =IFERROR(INDEX('貼_部門別・億円単・全国（e-Stat）'!$A$15:$A$61,MATCH('貼_部門別・億円単・全国（e-Stat）'!$B30,'貼_部門別・億円単・全国（e-Stat）'!$AH$15:$AH$61,0)),"-") -> 宮崎 | R22: =IFERROR(INDEX('貼_部門別・億円単・全国（e-Stat）'!$A$15:$A$61,MATCH('貼_部門別・億円単・全国（e-Stat）'!$B30,'貼_部門別・億円単・全国（e-Stat）'!$AJ$15:$AJ$61,0)),"-") -> 青森 | S22: =IFERROR(INDEX('貼_部門別・億円単・全国（e-Stat）'!$A$15:$A$61,MATCH('貼_部門別・億円単・全国（e-Stat）'!$B30,'貼_部門別・億円単・全国（e-Stat）'!$AF$15:$AF$61,0)),"-") -> 山形
D23: =IFERROR(INDEX('貼_部門別・億円単・全国（e-Stat）'!$A$15:$A$61,MATCH('貼_部門別・億円単・全国（e-Stat）'!$B31,'貼_部門別・億円単・全国（e-Stat）'!$D$15:$D$61,0)),"-") -> 福島 | E23: =IFERROR(INDEX('貼_部門別・億円単・全国（e-Stat）'!$A$15:$A$61,MATCH('貼_部門別・億円単・全国（e-Stat）'!$B31,'貼_部門別・億円単・全国（e-Stat）'!$F$15:$F$61,0)),"-") -> 群馬 | F23: =IFERROR(INDEX('貼_部門別・億円単・全国（e-Stat）'!$A$15:$A$61,MATCH('貼_部門別・億円単・全国（e-Stat）'!$B31,'貼_部門別・億円単・全国（e-Stat）'!$H$15:$H$61,0)),"-") -> 熊本 | G23: =IFERROR(INDEX('(要確認)詳細品目・全国データ計算用シート'!$V$13:$V$59,MATCH('(要確認)詳細品目・全国データ計算用シート'!$U29,'(要確認)詳細品目・全国データ計算用シート'!$AD$13:$AD$59,0)),"-") -> 香川 | H23: =IFERROR(INDEX('(要確認)詳細品目・全国データ計算用シート'!$V$13:$V$59,MATCH('(要確認)詳細品目・全国データ計算用シート'!$U29,'(要確認)詳細品目・全国データ計算用シート'!$AP$13:$AP$59,0)),"-") -> 島根 | I23: =IFERROR(INDEX('(要確認)詳細品目・全国データ計算用シート'!$V$13:$V$59,MATCH('(要確認)詳細品目・全国データ計算用シート'!$U29,'(要確認)詳細品目・全国データ計算用シート'!$AL$13:$AL$59,0)),"-") -> 熊本 | J23: =IFERROR(INDEX('(要確認)詳細品目・全国データ計算用シート'!$V$13:$V$59,MATCH('(要確認)詳細品目・全国データ計算用シート'!$U29,'(要確認)詳細品目・全国データ計算用シート'!$Z$13:$Z$59,0)),"-") -> 神奈川 | L23: =IFERROR('貼_主要農産物の産出額と構成比（なたね含）'!H49,"-") -> 島根 | M23: =IFERROR(INDEX('貼_部門別・億円単・全国（e-Stat）'!$A$15:$A$61,MATCH('貼_部門別・億円単・全国（e-Stat）'!$B31,'貼_部門別・億円単・全国（e-Stat）'!$R$15:$R$61,0)),"-") -> 長崎 | N23: =IFERROR(INDEX('貼_部門別・億円単・全国（e-Stat）'!$A$15:$A$61,MATCH('貼_部門別・億円単・全国（e-Stat）'!$B31,'貼_部門別・億円単・全国（e-Stat）'!$T$15:$T$61,0)),"-") -> 岩手 | O23: =IFERROR(INDEX('貼_部門別・億円単・全国（e-Stat）'!$A$15:$A$61,MATCH('貼_部門別・億円単・全国（e-Stat）'!$B31,'貼_部門別・億円単・全国（e-Stat）'!$V$15:$V$61,0)),"-") -> 新潟 | P23: =IFERROR(INDEX('貼_部門別・億円単・全国（e-Stat）'!$A$15:$A$61,MATCH('貼_部門別・億円単・全国（e-Stat）'!$B31,'貼_部門別・億円単・全国（e-Stat）'!$AD$15:$AD$61,0)),"-") -> 静岡 | Q23: =IFERROR(INDEX('貼_部門別・億円単・全国（e-Stat）'!$A$15:$A$61,MATCH('貼_部門別・億円単・全国（e-Stat）'!$B31,'貼_部門別・億円単・全国（e-Stat）'!$AH$15:$AH$61,0)),"-") -> 青森 | R23: =IFERROR(INDEX('貼_部門別・億円単・全国（e-Stat）'!$A$15:$A$61,MATCH('貼_部門別・億円単・全国（e-Stat）'!$B31,'貼_部門別・億円単・全国（e-Stat）'!$AJ$15:$AJ$61,0)),"-") -> 宮崎 | S23: =IFERROR(INDEX('貼_部門別・億円単・全国（e-Stat）'!$A$15:$A$61,MATCH('貼_部門別・億円単・全国（e-Stat）'!$B31,'貼_部門別・億円単・全国（e-Stat）'!$AF$15:$AF$61,0)),"-") -> 福島
... D53: =IFERROR(INDEX('貼_部門別・億円単・全国（e-Stat）'!$A$15:$A$61,MATCH('貼_部門別・億円単・全国（e-Stat）'!$B61,'貼_部門別・億円単・全国（e-Stat）'!$D$15:$D$61,0)),"-") -> 東京 | E53: =IFERROR(INDEX('貼_部門別・億円単・全国（e-Stat）'!$A$15:$A$61,MATCH('貼_部門別・億円単・全国（e-Stat）'!$B61,'貼_部門別・億円単・全国（e-Stat）'!$F$15:$F$61,0)),"-") -> 東京 | F53: =IFERROR(INDEX('貼_部門別・億円単・全国（e-Stat）'!$A$15:$A$61,MATCH('貼_部門別・億円単・全国（e-Stat）'!$B61,'貼_部門別・億円単・全国（e-Stat）'!$H$15:$H$61,0)),"-") -> 東京 | G53: =IFERROR(INDEX('(要確認)詳細品目・全国データ計算用シート'!$V$13:$V$59,MATCH('(要確認)詳細品目・全国データ計算用シート'!$U59,'(要確認)詳細品目・全国データ計算用シート'!$AD$13:$AD$59,0)),"-") -> 高知 | H53: =IFERROR(INDEX('(要確認)詳細品目・全国データ計算用シート'!$V$13:$V$59,MATCH('(要確認)詳細品目・全国データ計算用シート'!$U59,'(要確認)詳細品目・全国データ計算用シート'!$AP$13:$AP$59,0)),"-") -> 高知 | I53: =IFERROR(INDEX('(要確認)詳細品目・全国データ計算用シート'!$V$13:$V$59,MATCH('(要確認)詳細品目・全国データ計算用シート'!$U59,'(要確認)詳細品目・全国データ計算用シート'!$AL$13:$AL$59,0)),"-") -> - | J53: =IFERROR(INDEX('(要確認)詳細品目・全国データ計算用シート'!$V$13:$V$59,MATCH('(要確認)詳細品目・全国データ計算用シート'!$U59,'(要確認)詳細品目・全国データ計算用シート'!$Z$13:$Z$59,0)),"-") -> 和歌山 | L53: =IFERROR('貼_主要農産物の産出額と構成比（なたね含）'!H79,"-") -> - | M53: =IFERROR(INDEX('貼_部門別・億円単・全国（e-Stat）'!$A$15:$A$61,MATCH('貼_部門別・億円単・全国（e-Stat）'!$B61,'貼_部門別・億円単・全国（e-Stat）'!$R$15:$R$61,0)),"-") -> 富山 | N53: =IFERROR(INDEX('貼_部門別・億円単・全国（e-Stat）'!$A$15:$A$61,MATCH('貼_部門別・億円単・全国（e-Stat）'!$B61,'貼_部門別・億円単・全国（e-Stat）'!$T$15:$T$61,0)),"-") -> 滋賀 | O53: =IFERROR(INDEX('貼_部門別・億円単・全国（e-Stat）'!$A$15:$A$61,MATCH('貼_部門別・億円単・全国（e-Stat）'!$B61,'貼_部門別・億円単・全国（e-Stat）'!$V$15:$V$61,0)),"-") -> 福井 | P53: =IFERROR(INDEX('貼_部門別・億円単・全国（e-Stat）'!$A$15:$A$61,MATCH('貼_部門別・億円単・全国（e-Stat）'!$B61,'貼_部門別・億円単・全国（e-Stat）'!$AD$15:$AD$61,0)),"-") -> 東京 | Q53: =IFERROR(INDEX('貼_部門別・億円単・全国（e-Stat）'!$A$15:$A$61,MATCH('貼_部門別・億円単・全国（e-Stat）'!$B61,'貼_部門別・億円単・全国（e-Stat）'!$AH$15:$AH$61,0)),"-") -> 和歌山 | R53: =IFERROR(INDEX('貼_部門別・億円単・全国（e-Stat）'!$A$15:$A$61,MATCH('貼_部門別・億円単・全国（e-Stat）'!$B61,'貼_部門別・億円単・全国（e-Stat）'!$AJ$15:$AJ$61,0)),"-") -> 和歌山 | S53: =IFERROR(INDEX('貼_部門別・億円単・全国（e-Stat）'!$A$15:$A$61,MATCH('貼_部門別・億円単・全国（e-Stat）'!$B61,'貼_部門別・億円単・全国（e-Stat）'!$AF$15:$AF$61,0)),"-") -> 東京
C54: データ（全国値） | D54: ='貼_部門別・億円単・全国（e-Stat）'!C62 -> 90116 | E54: ='貼_部門別・億円単・全国（e-Stat）'!E62 -> 54904 | F54: ='貼_部門別・億円単・全国（e-Stat）'!G62 -> 14015 | G54: ='(要確認)詳細品目・全国データ計算用シート'!AA12 -> 547 | H54: ='(要確認)詳細品目・全国データ計算用シート'!AM12 -> 82 | I54: ='(要確認)詳細品目・全国データ計算用シート'!AI12 -> 407 | J54: ='(要確認)詳細品目・全国データ計算用シート'!W12 -> 1012 | K54: ='(要確認)詳細品目・全国データ計算用シート'!AE12 -> 448 | L54: ='貼_主要農産物の産出額と構成比（なたね含）'!C10 -> 4 | M54: ='貼_部門別・億円単・全国（e-Stat）'!Q62 -> 22294 | N54: ='貼_部門別・億円単・全国（e-Stat）'!S62 -> 9232 | O54: ='貼_部門別・億円単・全国（e-Stat）'!U62 -> 3492 | P54: ='貼_部門別・億円単・全国（e-Stat）'!AC62 -> 34647 | Q54: ='貼_部門別・億円単・全国（e-Stat）'!AG62 -> 8844 | R54: ='貼_部門別・億円単・全国（e-Stat）'!AI62 -> 7917 | S54: ='貼_部門別・億円単・全国（e-Stat）'!AE62 -> 7912
C55: 1 | D55: =IFERROR(LARGE('貼_部門別・億円単・全国（e-Stat）'!$C$15:$C$61,'貼_部門別・億円単・全国（e-Stat）'!$B15),"-") -> 12919 | E55: =IFERROR(LARGE('貼_部門別・億円単・全国（e-Stat）'!$E$15:$E$61,'貼_部門別・億円単・全国（e-Stat）'!$B15),"-") -> 5384 | F55: =IFERROR(LARGE('貼_部門別・億円単・全国（e-Stat）'!$G$15:$G$61,'貼_部門別・億円単・全国（e-Stat）'!$B15),"-") -> 1319 | G55: =IFERROR(LARGE('(要確認)詳細品目・全国データ計算用シート'!$AA$13:$AA$59,'(要確認)詳細品目・全国データ計算用シート'!$U13),"-") -> 414 | H55: =IFERROR(LARGE('(要確認)詳細品目・全国データ計算用シート'!$AM$13:$AM$59,'(要確認)詳細品目・全国データ計算用シート'!$U13),"-") -> 36 | I55: =IFERROR(LARGE('(要確認)詳細品目・全国データ計算用シート'!$AI$13:$AI$59,'(要確認)詳細品目・全国データ計算用シート'!$U13),"-") -> 182 | J55: =IFERROR(LARGE('(要確認)詳細品目・全国データ計算用シート'!$W$13:$W$59,'(要確認)詳細品目・全国データ計算用シート'!$U13),"-") -> 543 | K55: =IFERROR(LARGE('(要確認)詳細品目・全国データ計算用シート'!$AE$13:$AE$59,'(要確認)詳細品目・全国データ計算用シート'!$U13),"-") -> 448 | L55: =IFERROR('貼_主要農産物の産出額と構成比（なたね含）'!I33,"-") -> 3 | M55: =IFERROR(LARGE('貼_部門別・億円単・全国（e-Stat）'!$Q$15:$Q$61,'貼_部門別・億円単・全国（e-Stat）'!$B15),"-") -> 2228 | N55: =IFERROR(LARGE('貼_部門別・億円単・全国（e-Stat）'!$S$15:$S$61,'貼_部門別・億円単・全国（e-Stat）'!$B15),"-") -> 1051 | O55: =IFERROR(LARGE('貼_部門別・億円単・全国（e-Stat）'!$U$15:$U$61,'貼_部門別・億円単・全国（e-Stat）'!$B15),"-") -> 573 | P55: =IFERROR(LARGE('貼_部門別・億円単・全国（e-Stat）'!$AC$15:$AC$61,'貼_部門別・億円単・全国（e-Stat）'!$B15),"-") -> 7535 | Q55: =IFERROR(LARGE('貼_部門別・億円単・全国（e-Stat）'!$AG$15:$AG$61,'貼_部門別・億円単・全国（e-Stat）'!$B15),"-") -> 4660 | R55: =IFERROR(LARGE('貼_部門別・億円単・全国（e-Stat）'!$AI$15:$AI$61,'貼_部門別・億円単・全国（e-Stat）'!$B15),"-") -> 4109 | S55: =IFERROR(LARGE('貼_部門別・億円単・全国（e-Stat）'!$AE$15:$AE$61,'貼_部門別・億円単・全国（e-Stat）'!$B15),"-") -> 1228
C56: 2 | D56: =IFERROR(LARGE('貼_部門別・億円単・全国（e-Stat）'!$C$15:$C$61,'貼_部門別・億円単・全国（e-Stat）'!$B16),"-") -> 5114 | E56: =IFERROR(LARGE('貼_部門別・億円単・全国（e-Stat）'!$E$15:$E$61,'貼_部門別・億円単・全国（e-Stat）'!$B16),"-") -> 2939 | F56: =IFERROR(LARGE('貼_部門別・億円単・全国（e-Stat）'!$G$15:$G$61,'貼_部門別・億円単・全国（e-Stat）'!$B16),"-") -> 1067 | G56: =IFERROR(LARGE('(要確認)詳細品目・全国データ計算用シート'!$AA$13:$AA$59,'(要確認)詳細品目・全国データ計算用シート'!$U14),"-") -> 26 | H56: =IFERROR(LARGE('(要確認)詳細品目・全国データ計算用シート'!$AM$13:$AM$59,'(要確認)詳細品目・全国データ計算用シート'!$U14),"-") -> 8 | I56: =IFERROR(LARGE('(要確認)詳細品目・全国データ計算用シート'!$AI$13:$AI$59,'(要確認)詳細品目・全国データ計算用シート'!$U14),"-") -> 28 | J56: =IFERROR(LARGE('(要確認)詳細品目・全国データ計算用シート'!$W$13:$W$59,'(要確認)詳細品目・全国データ計算用シート'!$U14),"-") -> 141 | L56: =IFERROR('貼_主要農産物の産出額と構成比（なたね含）'!I34,"-") -> 0 | M56: =IFERROR(LARGE('貼_部門別・億円単・全国（e-Stat）'!$Q$15:$Q$61,'貼_部門別・億円単・全国（e-Stat）'!$B16),"-") -> 1611 | N56: =IFERROR(LARGE('貼_部門別・億円単・全国（e-Stat）'!$S$15:$S$61,'貼_部門別・億円単・全国（e-Stat）'!$B16),"-") -> 904 | O56: =IFERROR(LARGE('貼_部門別・億円単・全国（e-Stat）'!$U$15:$U$61,'貼_部門別・億円単・全国（e-Stat）'!$B16),"-") -> 198 | P56: =IFERROR(LARGE('貼_部門別・億円単・全国（e-Stat）'!$AC$15:$AC$61,'貼_部門別・億円単・全国（e-Stat）'!$B16),"-") -> 3473 | Q56: =IFERROR(LARGE('貼_部門別・億円単・全国（e-Stat）'!$AG$15:$AG$61,'貼_部門別・億円単・全国（e-Stat）'!$B16),"-") -> 469 | R56: =IFERROR(LARGE('貼_部門別・億円単・全国（e-Stat）'!$AI$15:$AI$61,'貼_部門別・億円単・全国（e-Stat）'!$B16),"-") -> 418 | S56: =IFERROR(LARGE('貼_部門別・億円単・全国（e-Stat）'!$AE$15:$AE$61,'貼_部門別・億円単・全国（e-Stat）'!$B16),"-") -> 1203
C57: 3 | D57: =IFERROR(LARGE('貼_部門別・億円単・全国（e-Stat）'!$C$15:$C$61,'貼_部門別・億円単・全国（e-Stat）'!$B17),"-") -> 4384 | E57: =IFERROR(LARGE('貼_部門別・億円単・全国（e-Stat）'!$E$15:$E$61,'貼_部門別・億円単・全国（e-Stat）'!$B17),"-") -> 2448 | F57: =IFERROR(LARGE('貼_部門別・億円単・全国（e-Stat）'!$G$15:$G$61,'貼_部門別・億円単・全国（e-Stat）'!$B17),"-") -> 852 | G57: =IFERROR(LARGE('(要確認)詳細品目・全国データ計算用シート'!$AA$13:$AA$59,'(要確認)詳細品目・全国データ計算用シート'!$U15),"-") -> 16 | H57: =IFERROR(LARGE('(要確認)詳細品目・全国データ計算用シート'!$AM$13:$AM$59,'(要確認)詳細品目・全国データ計算用シート'!$U15),"-") -> 6 | I57: =IFERROR(LARGE('(要確認)詳細品目・全国データ計算用シート'!$AI$13:$AI$59,'(要確認)詳細品目・全国データ計算用シート'!$U15),"-") -> 21 | J57: =IFERROR(LARGE('(要確認)詳細品目・全国データ計算用シート'!$W$13:$W$59,'(要確認)詳細品目・全国データ計算用シート'!$U15),"-") -> 103 | L57: =IFERROR('貼_主要農産物の産出額と構成比（なたね含）'!I35,"-") -> 0 | M57: =IFERROR(LARGE('貼_部門別・億円単・全国（e-Stat）'!$Q$15:$Q$61,'貼_部門別・億円単・全国（e-Stat）'!$B17),"-") -> 1335 | N57: =IFERROR(LARGE('貼_部門別・億円単・全国（e-Stat）'!$S$15:$S$61,'貼_部門別・億円単・全国（e-Stat）'!$B17),"-") -> 816 | O57: =IFERROR(LARGE('貼_部門別・億円単・全国（e-Stat）'!$U$15:$U$61,'貼_部門別・億円単・全国（e-Stat）'!$B17),"-") -> 185 | P57: =IFERROR(LARGE('貼_部門別・億円単・全国（e-Stat）'!$AC$15:$AC$61,'貼_部門別・億円単・全国（e-Stat）'!$B17),"-") -> 2349 | Q57: =IFERROR(LARGE('貼_部門別・億円単・全国（e-Stat）'!$AG$15:$AG$61,'貼_部門別・億円単・全国（e-Stat）'!$B17),"-") -> 332 | R57: =IFERROR(LARGE('貼_部門別・億円単・全国（e-Stat）'!$AI$15:$AI$61,'貼_部門別・億円単・全国（e-Stat）'!$B17),"-") -> 299 | S57: =IFERROR(LARGE('貼_部門別・億円単・全国（e-Stat）'!$AE$15:$AE$61,'貼_部門別・億円単・全国（e-Stat）'!$B17),"-") -> 826
C58: 4 | D58: =IFERROR(LARGE('貼_部門別・億円単・全国（e-Stat）'!$C$15:$C$61,'貼_部門別・億円単・全国（e-Stat）'!$B18),"-") -> 3676 | E58: =IFERROR(LARGE('貼_部門別・億円単・全国（e-Stat）'!$E$15:$E$61,'貼_部門別・億円単・全国（e-Stat）'!$B18),"-") -> 2428 | F58: =IFERROR(LARGE('貼_部門別・億円単・全国（e-Stat）'!$G$15:$G$61,'貼_部門別・億円単・全国（e-Stat）'!$B18),"-") -> 689 | G58: =IFERROR(LARGE('(要確認)詳細品目・全国データ計算用シート'!$AA$13:$AA$59,'(要確認)詳細品目・全国データ計算用シート'!$U16),"-") -> 13 | H58: =IFERROR(LARGE('(要確認)詳細品目・全国データ計算用シート'!$AM$13:$AM$59,'(要確認)詳細品目・全国データ計算用シート'!$U16),"-") -> 6 | I58: =IFERROR(LARGE('(要確認)詳細品目・全国データ計算用シート'!$AI$13:$AI$59,'(要確認)詳細品目・全国データ計算用シート'!$U16),"-") -> 16 | J58: =IFERROR(LARGE('(要確認)詳細品目・全国データ計算用シート'!$W$13:$W$59,'(要確認)詳細品目・全国データ計算用シート'!$U16),"-") -> 30 | L58: =IFERROR('貼_主要農産物の産出額と構成比（なたね含）'!I36,"-") -> 0 | M58: =IFERROR(LARGE('貼_部門別・億円単・全国（e-Stat）'!$Q$15:$Q$61,'貼_部門別・億円単・全国（e-Stat）'!$B18),"-") -> 1248 | N58: =IFERROR(LARGE('貼_部門別・億円単・全国（e-Stat）'!$S$15:$S$61,'貼_部門別・億円単・全国（e-Stat）'!$B18),"-") -> 766 | O58: =IFERROR(LARGE('貼_部門別・億円単・全国（e-Stat）'!$U$15:$U$61,'貼_部門別・億円単・全国（e-Stat）'!$B18),"-") -> 174 | P58: =IFERROR(LARGE('貼_部門別・億円単・全国（e-Stat）'!$AC$15:$AC$61,'貼_部門別・億円単・全国（e-Stat）'!$B18),"-") -> 1714 | Q58: =IFERROR(LARGE('貼_部門別・億円単・全国（e-Stat）'!$AG$15:$AG$61,'貼_部門別・億円単・全国（e-Stat）'!$B18),"-") -> 250 | R58: =IFERROR(LARGE('貼_部門別・億円単・全国（e-Stat）'!$AI$15:$AI$61,'貼_部門別・億円単・全国（e-Stat）'!$B18),"-") -> 232 | S58: =IFERROR(LARGE('貼_部門別・億円単・全国（e-Stat）'!$AE$15:$AE$61,'貼_部門別・億円単・全国（e-Stat）'!$B18),"-") -> 452
C59: 5 | D59: =IFERROR(LARGE('貼_部門別・億円単・全国（e-Stat）'!$C$15:$C$61,'貼_部門別・億円単・全国（e-Stat）'!$B19),"-") -> 3512 | E59: =IFERROR(LARGE('貼_部門別・億円単・全国（e-Stat）'!$E$15:$E$61,'貼_部門別・億円単・全国（e-Stat）'!$B19),"-") -> 2190 | F59: =IFERROR(LARGE('貼_部門別・億円単・全国（e-Stat）'!$G$15:$G$61,'貼_部門別・億円単・全国（e-Stat）'!$B19),"-") -> 630 | G59: =IFERROR(LARGE('(要確認)詳細品目・全国データ計算用シート'!$AA$13:$AA$59,'(要確認)詳細品目・全国データ計算用シート'!$U17),"-") -> 10 | H59: =IFERROR(LARGE('(要確認)詳細品目・全国データ計算用シート'!$AM$13:$AM$59,'(要確認)詳細品目・全国データ計算用シート'!$U17),"-") -> 5 | I59: =IFERROR(LARGE('(要確認)詳細品目・全国データ計算用シート'!$AI$13:$AI$59,'(要確認)詳細品目・全国データ計算用シート'!$U17),"-") -> 16 | J59: =IFERROR(LARGE('(要確認)詳細品目・全国データ計算用シート'!$W$13:$W$59,'(要確認)詳細品目・全国データ計算用シート'!$U17),"-") -> 21 | L59: =IFERROR('貼_主要農産物の産出額と構成比（なたね含）'!I37,"-") -> 0 | M59: =IFERROR(LARGE('貼_部門別・億円単・全国（e-Stat）'!$Q$15:$Q$61,'貼_部門別・億円単・全国（e-Stat）'!$B19),"-") -> 1119 | N59: =IFERROR(LARGE('貼_部門別・億円単・全国（e-Stat）'!$S$15:$S$61,'貼_部門別・億円単・全国（e-Stat）'!$B19),"-") -> 752 | O59: =IFERROR(LARGE('貼_部門別・億円単・全国（e-Stat）'!$U$15:$U$61,'貼_部門別・億円単・全国（e-Stat）'!$B19),"-") -> 170 | P59: =IFERROR(LARGE('貼_部門別・億円単・全国（e-Stat）'!$AC$15:$AC$61,'貼_部門別・億円単・全国（e-Stat）'!$B19),"-") -> 1323 | Q59: =IFERROR(LARGE('貼_部門別・億円単・全国（e-Stat）'!$AG$15:$AG$61,'貼_部門別・億円単・全国（e-Stat）'!$B19),"-") -> 249 | R59: =IFERROR(LARGE('貼_部門別・億円単・全国（e-Stat）'!$AI$15:$AI$61,'貼_部門別・億円単・全国（e-Stat）'!$B19),"-") -> 226 | S59: =IFERROR(LARGE('貼_部門別・億円単・全国（e-Stat）'!$AE$15:$AE$61,'貼_部門別・億円単・全国（e-Stat）'!$B19),"-") -> 275
D60: =IFERROR(LARGE('貼_部門別・億円単・全国（e-Stat）'!$C$15:$C$61,'貼_部門別・億円単・全国（e-Stat）'!$B20),"-") -> 3505 | E60: =IFERROR(LARGE('貼_部門別・億円単・全国（e-Stat）'!$E$15:$E$61,'貼_部門別・億円単・全国（e-Stat）'!$B20),"-") -> 2189 | F60: =IFERROR(LARGE('貼_部門別・億円単・全国（e-Stat）'!$G$15:$G$61,'貼_部門別・億円単・全国（e-Stat）'!$B20),"-") -> 611 | G60: =IFERROR(LARGE('(要確認)詳細品目・全国データ計算用シート'!$AA$13:$AA$59,'(要確認)詳細品目・全国データ計算用シート'!$U18),"-") -> 8 | H60: =IFERROR(LARGE('(要確認)詳細品目・全国データ計算用シート'!$AM$13:$AM$59,'(要確認)詳細品目・全国データ計算用シート'!$U18),"-") -> 5 | I60: =IFERROR(LARGE('(要確認)詳細品目・全国データ計算用シート'!$AI$13:$AI$59,'(要確認)詳細品目・全国データ計算用シート'!$U18),"-") -> 15 | J60: =IFERROR(LARGE('(要確認)詳細品目・全国データ計算用シート'!$W$13:$W$59,'(要確認)詳細品目・全国データ計算用シート'!$U18),"-") -> 17 | L60: =IFERROR('貼_主要農産物の産出額と構成比（なたね含）'!I38,"-") -> 0 | M60: =IFERROR(LARGE('貼_部門別・億円単・全国（e-Stat）'!$Q$15:$Q$61,'貼_部門別・億円単・全国（e-Stat）'!$B20),"-") -> 892 | N60: =IFERROR(LARGE('貼_部門別・億円単・全国（e-Stat）'!$S$15:$S$61,'貼_部門別・億円単・全国（e-Stat）'!$B20),"-") -> 534 | O60: =IFERROR(LARGE('貼_部門別・億円単・全国（e-Stat）'!$U$15:$U$61,'貼_部門別・億円単・全国（e-Stat）'!$B20),"-") -> 163 | P60: =IFERROR(LARGE('貼_部門別・億円単・全国（e-Stat）'!$AC$15:$AC$61,'貼_部門別・億円単・全国（e-Stat）'!$B20),"-") -> 1314 | Q60: =IFERROR(LARGE('貼_部門別・億円単・全国（e-Stat）'!$AG$15:$AG$61,'貼_部門別・億円単・全国（e-Stat）'!$B20),"-") -> 245 | R60: =IFERROR(LARGE('貼_部門別・億円単・全国（e-Stat）'!$AI$15:$AI$61,'貼_部門別・億円単・全国（e-Stat）'!$B20),"-") -> 219 | S60: =IFERROR(LARGE('貼_部門別・億円単・全国（e-Stat）'!$AE$15:$AE$61,'貼_部門別・億円単・全国（e-Stat）'!$B20),"-") -> 272
D61: =IFERROR(LARGE('貼_部門別・億円単・全国（e-Stat）'!$C$15:$C$61,'貼_部門別・億円単・全国（e-Stat）'!$B21),"-") -> 3168 | E61: =IFERROR(LARGE('貼_部門別・億円単・全国（e-Stat）'!$E$15:$E$61,'貼_部門別・億円単・全国（e-Stat）'!$B21),"-") -> 2170 | F61: =IFERROR(LARGE('貼_部門別・億円単・全国（e-Stat）'!$G$15:$G$61,'貼_部門別・億円単・全国（e-Stat）'!$B21),"-") -> 589 | G61: =IFERROR(LARGE('(要確認)詳細品目・全国データ計算用シート'!$AA$13:$AA$59,'(要確認)詳細品目・全国データ計算用シート'!$U19),"-") -> 8 | H61: =IFERROR(LARGE('(要確認)詳細品目・全国データ計算用シート'!$AM$13:$AM$59,'(要確認)詳細品目・全国データ計算用シート'!$U19),"-") -> 3 | I61: =IFERROR(LARGE('(要確認)詳細品目・全国データ計算用シート'!$AI$13:$AI$59,'(要確認)詳細品目・全国データ計算用シート'!$U19),"-") -> 14 | J61: =IFERROR(LARGE('(要確認)詳細品目・全国データ計算用シート'!$W$13:$W$59,'(要確認)詳細品目・全国データ計算用シート'!$U19),"-") -> 16 | L61: =IFERROR('貼_主要農産物の産出額と構成比（なたね含）'!I39,"-") -> 0 | M61: =IFERROR(LARGE('貼_部門別・億円単・全国（e-Stat）'!$Q$15:$Q$61,'貼_部門別・億円単・全国（e-Stat）'!$B21),"-") -> 886 | N61: =IFERROR(LARGE('貼_部門別・億円単・全国（e-Stat）'!$S$15:$S$61,'貼_部門別・億円単・全国（e-Stat）'!$B21),"-") -> 362 | O61: =IFERROR(LARGE('貼_部門別・億円単・全国（e-Stat）'!$U$15:$U$61,'貼_部門別・億円単・全国（e-Stat）'!$B21),"-") -> 160 | P61: =IFERROR(LARGE('貼_部門別・億円単・全国（e-Stat）'!$AC$15:$AC$61,'貼_部門別・億円単・全国（e-Stat）'!$B21),"-") -> 1262 | Q61: =IFERROR(LARGE('貼_部門別・億円単・全国（e-Stat）'!$AG$15:$AG$61,'貼_部門別・億円単・全国（e-Stat）'!$B21),"-") -> 223 | R61: =IFERROR(LARGE('貼_部門別・億円単・全国（e-Stat）'!$AI$15:$AI$61,'貼_部門別・億円単・全国（e-Stat）'!$B21),"-") -> 208 | S61: =IFERROR(LARGE('貼_部門別・億円単・全国（e-Stat）'!$AE$15:$AE$61,'貼_部門別・億円単・全国（e-Stat）'!$B21),"-") -> 263
D62: =IFERROR(LARGE('貼_部門別・億円単・全国（e-Stat）'!$C$15:$C$61,'貼_部門別・億円単・全国（e-Stat）'!$B22),"-") -> 3114 | E62: =IFERROR(LARGE('貼_部門別・億円単・全国（e-Stat）'!$E$15:$E$61,'貼_部門別・億円単・全国（e-Stat）'!$B22),"-") -> 1981 | F62: =IFERROR(LARGE('貼_部門別・億円単・全国（e-Stat）'!$G$15:$G$61,'貼_部門別・億円単・全国（e-Stat）'!$B22),"-") -> 472 | G62: =IFERROR(LARGE('(要確認)詳細品目・全国データ計算用シート'!$AA$13:$AA$59,'(要確認)詳細品目・全国データ計算用シート'!$U20),"-") -> 7 | H62: =IFERROR(LARGE('(要確認)詳細品目・全国データ計算用シート'!$AM$13:$AM$59,'(要確認)詳細品目・全国データ計算用シート'!$U20),"-") -> 2 | I62: =IFERROR(LARGE('(要確認)詳細品目・全国データ計算用シート'!$AI$13:$AI$59,'(要確認)詳細品目・全国データ計算用シート'!$U20),"-") -> 10 | J62: =IFERROR(LARGE('(要確認)詳細品目・全国データ計算用シート'!$W$13:$W$59,'(要確認)詳細品目・全国データ計算用シート'!$U20),"-") -> 14 | L62: =IFERROR('貼_主要農産物の産出額と構成比（なたね含）'!I40,"-") -> 0 | M62: =IFERROR(LARGE('貼_部門別・億円単・全国（e-Stat）'!$Q$15:$Q$61,'貼_部門別・億円単・全国（e-Stat）'!$B22),"-") -> 749 | N62: =IFERROR(LARGE('貼_部門別・億円単・全国（e-Stat）'!$S$15:$S$61,'貼_部門別・億円単・全国（e-Stat）'!$B22),"-") -> 300 | O62: =IFERROR(LARGE('貼_部門別・億円単・全国（e-Stat）'!$U$15:$U$61,'貼_部門別・億円単・全国（e-Stat）'!$B22),"-") -> 126 | P62: =IFERROR(LARGE('貼_部門別・億円単・全国（e-Stat）'!$AC$15:$AC$61,'貼_部門別・億円単・全国（e-Stat）'!$B22),"-") -> 1226 | Q62: =IFERROR(LARGE('貼_部門別・億円単・全国（e-Stat）'!$AG$15:$AG$61,'貼_部門別・億円単・全国（e-Stat）'!$B22),"-") -> 195 | R62: =IFERROR(LARGE('貼_部門別・億円単・全国（e-Stat）'!$AI$15:$AI$61,'貼_部門別・億円単・全国（e-Stat）'!$B22),"-") -> 176 | S62: =IFERROR(LARGE('貼_部門別・億円単・全国（e-Stat）'!$AE$15:$AE$61,'貼_部門別・億円単・全国（e-Stat）'!$B22),"-") -> 244
D63: =IFERROR(LARGE('貼_部門別・億円単・全国（e-Stat）'!$C$15:$C$61,'貼_部門別・億円単・全国（e-Stat）'!$B23),"-") -> 2718 | E63: =IFERROR(LARGE('貼_部門別・億円単・全国（e-Stat）'!$E$15:$E$61,'貼_部門別・億円単・全国（e-Stat）'!$B23),"-") -> 1842 | F63: =IFERROR(LARGE('貼_部門別・億円単・全国（e-Stat）'!$G$15:$G$61,'貼_部門別・億円単・全国（e-Stat）'!$B23),"-") -> 468 | G63: =IFERROR(LARGE('(要確認)詳細品目・全国データ計算用シート'!$AA$13:$AA$59,'(要確認)詳細品目・全国データ計算用シート'!$U21),"-") -> 7 | H63: =IFERROR(LARGE('(要確認)詳細品目・全国データ計算用シート'!$AM$13:$AM$59,'(要確認)詳細品目・全国データ計算用シート'!$U21),"-") -> 2 | I63: =IFERROR(LARGE('(要確認)詳細品目・全国データ計算用シート'!$AI$13:$AI$59,'(要確認)詳細品目・全国データ計算用シート'!$U21),"-") -> 9 | J63: =IFERROR(LARGE('(要確認)詳細品目・全国データ計算用シート'!$W$13:$W$59,'(要確認)詳細品目・全国データ計算用シート'!$U21),"-") -> 12 | L63: =IFERROR('貼_主要農産物の産出額と構成比（なたね含）'!I41,"-") -> 0 | M63: =IFERROR(LARGE('貼_部門別・億円単・全国（e-Stat）'!$Q$15:$Q$61,'貼_部門別・億円単・全国（e-Stat）'!$B23),"-") -> 741 | N63: =IFERROR(LARGE('貼_部門別・億円単・全国（e-Stat）'!$S$15:$S$61,'貼_部門別・億円単・全国（e-Stat）'!$B23),"-") -> 299 | O63: =IFERROR(LARGE('貼_部門別・億円単・全国（e-Stat）'!$U$15:$U$61,'貼_部門別・億円単・全国（e-Stat）'!$B23),"-") -> 125 | P63: =IFERROR(LARGE('貼_部門別・億円単・全国（e-Stat）'!$AC$15:$AC$61,'貼_部門別・億円単・全国（e-Stat）'!$B23),"-") -> 1215 | Q63: =IFERROR(LARGE('貼_部門別・億円単・全国（e-Stat）'!$AG$15:$AG$61,'貼_部門別・億円単・全国（e-Stat）'!$B23),"-") -> 144 | R63: =IFERROR(LARGE('貼_部門別・億円単・全国（e-Stat）'!$AI$15:$AI$61,'貼_部門別・億円単・全国（e-Stat）'!$B23),"-") -> 135 | S63: =IFERROR(LARGE('貼_部門別・億円単・全国（e-Stat）'!$AE$15:$AE$61,'貼_部門別・億円単・全国（e-Stat）'!$B23),"-") -> 192
D64: =IFERROR(LARGE('貼_部門別・億円単・全国（e-Stat）'!$C$15:$C$61,'貼_部門別・億円単・全国（e-Stat）'!$B24),"-") -> 2708 | E64: =IFERROR(LARGE('貼_部門別・億円単・全国（e-Stat）'!$E$15:$E$61,'貼_部門別・億円単・全国（e-Stat）'!$B24),"-") -> 1608 | F64: =IFERROR(LARGE('貼_部門別・億円単・全国（e-Stat）'!$G$15:$G$61,'貼_部門別・億円単・全国（e-Stat）'!$B24),"-") -> 458 | G64: =IFERROR(LARGE('(要確認)詳細品目・全国データ計算用シート'!$AA$13:$AA$59,'(要確認)詳細品目・全国データ計算用シート'!$U22),"-") -> 5 | H64: =IFERROR(LARGE('(要確認)詳細品目・全国データ計算用シート'!$AM$13:$AM$59,'(要確認)詳細品目・全国データ計算用シート'!$U22),"-") -> 1 | I64: =IFERROR(LARGE('(要確認)詳細品目・全国データ計算用シート'!$AI$13:$AI$59,'(要確認)詳細品目・全国データ計算用シート'!$U22),"-") -> 9 | J64: =IFERROR(LARGE('(要確認)詳細品目・全国データ計算用シート'!$W$13:$W$59,'(要確認)詳細品目・全国データ計算用シート'!$U22),"-") -> 12 | L64: =IFERROR('貼_主要農産物の産出額と構成比（なたね含）'!I42,"-") -> 0 | M64: =IFERROR(LARGE('貼_部門別・億円単・全国（e-Stat）'!$Q$15:$Q$61,'貼_部門別・億円単・全国（e-Stat）'!$B24),"-") -> 686 | N64: =IFERROR(LARGE('貼_部門別・億円単・全国（e-Stat）'!$S$15:$S$61,'貼_部門別・億円単・全国（e-Stat）'!$B24),"-") -> 278 | O64: =IFERROR(LARGE('貼_部門別・億円単・全国（e-Stat）'!$U$15:$U$61,'貼_部門別・億円単・全国（e-Stat）'!$B24),"-") -> 107 | P64: =IFERROR(LARGE('貼_部門別・億円単・全国（e-Stat）'!$AC$15:$AC$61,'貼_部門別・億円単・全国（e-Stat）'!$B24),"-") -> 979 | Q64: =IFERROR(LARGE('貼_部門別・億円単・全国（e-Stat）'!$AG$15:$AG$61,'貼_部門別・億円単・全国（e-Stat）'!$B24),"-") -> 129 | R64: =IFERROR(LARGE('貼_部門別・億円単・全国（e-Stat）'!$AI$15:$AI$61,'貼_部門別・億円単・全国（e-Stat）'!$B24),"-") -> 122 | S64: =IFERROR(LARGE('貼_部門別・億円単・全国（e-Stat）'!$AE$15:$AE$61,'貼_部門別・億円単・全国（e-Stat）'!$B24),"-") -> 188
D65: =IFERROR(LARGE('貼_部門別・億円単・全国（e-Stat）'!$C$15:$C$61,'貼_部門別・億円単・全国（e-Stat）'!$B25),"-") -> 2659 | E65: =IFERROR(LARGE('貼_部門別・億円単・全国（e-Stat）'!$E$15:$E$61,'貼_部門別・億円単・全国（e-Stat）'!$B25),"-") -> 1560 | F65: =IFERROR(LARGE('貼_部門別・億円単・全国（e-Stat）'!$G$15:$G$61,'貼_部門別・億円単・全国（e-Stat）'!$B25),"-") -> 412 | G65: =IFERROR(LARGE('(要確認)詳細品目・全国データ計算用シート'!$AA$13:$AA$59,'(要確認)詳細品目・全国データ計算用シート'!$U23),"-") -> 5 | H65: =IFERROR(LARGE('(要確認)詳細品目・全国データ計算用シート'!$AM$13:$AM$59,'(要確認)詳細品目・全国データ計算用シート'!$U23),"-") -> 1 | I65: =IFERROR(LARGE('(要確認)詳細品目・全国データ計算用シート'!$AI$13:$AI$59,'(要確認)詳細品目・全国データ計算用シート'!$U23),"-") -> 9 | J65: =IFERROR(LARGE('(要確認)詳細品目・全国データ計算用シート'!$W$13:$W$59,'(要確認)詳細品目・全国データ計算用シート'!$U23),"-") -> 8 | L65: =IFERROR('貼_主要農産物の産出額と構成比（なたね含）'!I43,"-") -> 0 | M65: =IFERROR(LARGE('貼_部門別・億円単・全国（e-Stat）'!$Q$15:$Q$61,'貼_部門別・億円単・全国（e-Stat）'!$B25),"-") -> 674 | N65: =IFERROR(LARGE('貼_部門別・億円単・全国（e-Stat）'!$S$15:$S$61,'貼_部門別・億円単・全国（e-Stat）'!$B25),"-") -> 266 | O65: =IFERROR(LARGE('貼_部門別・億円単・全国（e-Stat）'!$U$15:$U$61,'貼_部門別・億円単・全国（e-Stat）'!$B25),"-") -> 82 | P65: =IFERROR(LARGE('貼_部門別・億円単・全国（e-Stat）'!$AC$15:$AC$61,'貼_部門別・億円単・全国（e-Stat）'!$B25),"-") -> 919 | Q65: =IFERROR(LARGE('貼_部門別・億円単・全国（e-Stat）'!$AG$15:$AG$61,'貼_部門別・億円単・全国（e-Stat）'!$B25),"-") -> 112 | R65: =IFERROR(LARGE('貼_部門別・億円単・全国（e-Stat）'!$AI$15:$AI$61,'貼_部門別・億円単・全国（e-Stat）'!$B25),"-") -> 100 | S65: =IFERROR(LARGE('貼_部門別・億円単・全国（e-Stat）'!$AE$15:$AE$61,'貼_部門別・億円単・全国（e-Stat）'!$B25),"-") -> 183
D66: =IFERROR(LARGE('貼_部門別・億円単・全国（e-Stat）'!$C$15:$C$61,'貼_部門別・億円単・全国（e-Stat）'!$B26),"-") -> 2473 | E66: =IFERROR(LARGE('貼_部門別・億円単・全国（e-Stat）'!$E$15:$E$61,'貼_部門別・億円単・全国（e-Stat）'!$B26),"-") -> 1477 | F66: =IFERROR(LARGE('貼_部門別・億円単・全国（e-Stat）'!$G$15:$G$61,'貼_部門別・億円単・全国（e-Stat）'!$B26),"-") -> 405 | G66: =IFERROR(LARGE('(要確認)詳細品目・全国データ計算用シート'!$AA$13:$AA$59,'(要確認)詳細品目・全国データ計算用シート'!$U24),"-") -> 4 | H66: =IFERROR(LARGE('(要確認)詳細品目・全国データ計算用シート'!$AM$13:$AM$59,'(要確認)詳細品目・全国データ計算用シート'!$U24),"-") -> 1 | I66: =IFERROR(LARGE('(要確認)詳細品目・全国データ計算用シート'!$AI$13:$AI$59,'(要確認)詳細品目・全国データ計算用シート'!$U24),"-") -> 8 | J66: =IFERROR(LARGE('(要確認)詳細品目・全国データ計算用シート'!$W$13:$W$59,'(要確認)詳細品目・全国データ計算用シート'!$U24),"-") -> 8 | L66: =IFERROR('貼_主要農産物の産出額と構成比（なたね含）'!I44,"-") -> 0 | M66: =IFERROR(LARGE('貼_部門別・億円単・全国（e-Stat）'!$Q$15:$Q$61,'貼_部門別・億円単・全国（e-Stat）'!$B26),"-") -> 657 | N66: =IFERROR(LARGE('貼_部門別・億円単・全国（e-Stat）'!$S$15:$S$61,'貼_部門別・億円単・全国（e-Stat）'!$B26),"-") -> 183 | O66: =IFERROR(LARGE('貼_部門別・億円単・全国（e-Stat）'!$U$15:$U$61,'貼_部門別・億円単・全国（e-Stat）'!$B26),"-") -> 82 | P66: =IFERROR(LARGE('貼_部門別・億円単・全国（e-Stat）'!$AC$15:$AC$61,'貼_部門別・億円単・全国（e-Stat）'!$B26),"-") -> 752 | Q66: =IFERROR(LARGE('貼_部門別・億円単・全国（e-Stat）'!$AG$15:$AG$61,'貼_部門別・億円単・全国（e-Stat）'!$B26),"-") -> 110 | R66: =IFERROR(LARGE('貼_部門別・億円単・全国（e-Stat）'!$AI$15:$AI$61,'貼_部門別・億円単・全国（e-Stat）'!$B26),"-") -> 99 | S66: =IFERROR(LARGE('貼_部門別・億円単・全国（e-Stat）'!$AE$15:$AE$61,'貼_部門別・億円単・全国（e-Stat）'!$B26),"-") -> 182
D67: =IFERROR(LARGE('貼_部門別・億円単・全国（e-Stat）'!$C$15:$C$61,'貼_部門別・億円単・全国（e-Stat）'!$B27),"-") -> 2394 | E67: =IFERROR(LARGE('貼_部門別・億円単・全国（e-Stat）'!$E$15:$E$61,'貼_部門別・億円単・全国（e-Stat）'!$B27),"-") -> 1469 | F67: =IFERROR(LARGE('貼_部門別・億円単・全国（e-Stat）'!$G$15:$G$61,'貼_部門別・億円単・全国（e-Stat）'!$B27),"-") -> 402 | G67: =IFERROR(LARGE('(要確認)詳細品目・全国データ計算用シート'!$AA$13:$AA$59,'(要確認)詳細品目・全国データ計算用シート'!$U25),"-") -> 3 | H67: =IFERROR(LARGE('(要確認)詳細品目・全国データ計算用シート'!$AM$13:$AM$59,'(要確認)詳細品目・全国データ計算用シート'!$U25),"-") -> 1 | I67: =IFERROR(LARGE('(要確認)詳細品目・全国データ計算用シート'!$AI$13:$AI$59,'(要確認)詳細品目・全国データ計算用シート'!$U25),"-") -> 8 | J67: =IFERROR(LARGE('(要確認)詳細品目・全国データ計算用シート'!$W$13:$W$59,'(要確認)詳細品目・全国データ計算用シート'!$U25),"-") -> 7 | L67: =IFERROR('貼_主要農産物の産出額と構成比（なたね含）'!I45,"-") -> 0 | M67: =IFERROR(LARGE('貼_部門別・億円単・全国（e-Stat）'!$Q$15:$Q$61,'貼_部門別・億円単・全国（e-Stat）'!$B27),"-") -> 633 | N67: =IFERROR(LARGE('貼_部門別・億円単・全国（e-Stat）'!$S$15:$S$61,'貼_部門別・億円単・全国（e-Stat）'!$B27),"-") -> 183 | O67: =IFERROR(LARGE('貼_部門別・億円単・全国（e-Stat）'!$U$15:$U$61,'貼_部門別・億円単・全国（e-Stat）'!$B27),"-") -> 82 | P67: =IFERROR(LARGE('貼_部門別・億円単・全国（e-Stat）'!$AC$15:$AC$61,'貼_部門別・億円単・全国（e-Stat）'!$B27),"-") -> 697 | Q67: =IFERROR(LARGE('貼_部門別・億円単・全国（e-Stat）'!$AG$15:$AG$61,'貼_部門別・億円単・全国（e-Stat）'!$B27),"-") -> 103 | R67: =IFERROR(LARGE('貼_部門別・億円単・全国（e-Stat）'!$AI$15:$AI$61,'貼_部門別・億円単・全国（e-Stat）'!$B27),"-") -> 96 | S67: =IFERROR(LARGE('貼_部門別・億円単・全国（e-Stat）'!$AE$15:$AE$61,'貼_部門別・億円単・全国（e-Stat）'!$B27),"-") -> 180
D68: =IFERROR(LARGE('貼_部門別・億円単・全国（e-Stat）'!$C$15:$C$61,'貼_部門別・億円単・全国（e-Stat）'!$B28),"-") -> 2369 | E68: =IFERROR(LARGE('貼_部門別・億円単・全国（e-Stat）'!$E$15:$E$61,'貼_部門別・億円単・全国（e-Stat）'!$B28),"-") -> 1450 | F68: =IFERROR(LARGE('貼_部門別・億円単・全国（e-Stat）'!$G$15:$G$61,'貼_部門別・億円単・全国（e-Stat）'!$B28),"-") -> 382 | G68: =IFERROR(LARGE('(要確認)詳細品目・全国データ計算用シート'!$AA$13:$AA$59,'(要確認)詳細品目・全国データ計算用シート'!$U26),"-") -> 3 | H68: =IFERROR(LARGE('(要確認)詳細品目・全国データ計算用シート'!$AM$13:$AM$59,'(要確認)詳細品目・全国データ計算用シート'!$U26),"-") -> 1 | I68: =IFERROR(LARGE('(要確認)詳細品目・全国データ計算用シート'!$AI$13:$AI$59,'(要確認)詳細品目・全国データ計算用シート'!$U26),"-") -> 7 | J68: =IFERROR(LARGE('(要確認)詳細品目・全国データ計算用シート'!$W$13:$W$59,'(要確認)詳細品目・全国データ計算用シート'!$U26),"-") -> 6 | L68: =IFERROR('貼_主要農産物の産出額と構成比（なたね含）'!I46,"-") -> 0 | M68: =IFERROR(LARGE('貼_部門別・億円単・全国（e-Stat）'!$Q$15:$Q$61,'貼_部門別・億円単・全国（e-Stat）'!$B28),"-") -> 624 | N68: =IFERROR(LARGE('貼_部門別・億円単・全国（e-Stat）'!$S$15:$S$61,'貼_部門別・億円単・全国（e-Stat）'!$B28),"-") -> 165 | O68: =IFERROR(LARGE('貼_部門別・億円単・全国（e-Stat）'!$U$15:$U$61,'貼_部門別・億円単・全国（e-Stat）'!$B28),"-") -> 77 | P68: =IFERROR(LARGE('貼_部門別・億円単・全国（e-Stat）'!$AC$15:$AC$61,'貼_部門別・億円単・全国（e-Stat）'!$B28),"-") -> 622 | Q68: =IFERROR(LARGE('貼_部門別・億円単・全国（e-Stat）'!$AG$15:$AG$61,'貼_部門別・億円単・全国（e-Stat）'!$B28),"-") -> 100 | R68: =IFERROR(LARGE('貼_部門別・億円単・全国（e-Stat）'!$AI$15:$AI$61,'貼_部門別・億円単・全国（e-Stat）'!$B28),"-") -> 91 | S68: =IFERROR(LARGE('貼_部門別・億円単・全国（e-Stat）'!$AE$15:$AE$61,'貼_部門別・億円単・全国（e-Stat）'!$B28),"-") -> 171
D69: =IFERROR(LARGE('貼_部門別・億円単・全国（e-Stat）'!$C$15:$C$61,'貼_部門別・億円単・全国（e-Stat）'!$B29),"-") -> 2132 | E69: =IFERROR(LARGE('貼_部門別・億円単・全国（e-Stat）'!$E$15:$E$61,'貼_部門別・億円単・全国（e-Stat）'!$B29),"-") -> 1291 | F69: =IFERROR(LARGE('貼_部門別・億円単・全国（e-Stat）'!$G$15:$G$61,'貼_部門別・億円単・全国（e-Stat）'!$B29),"-") -> 328 | G69: =IFERROR(LARGE('(要確認)詳細品目・全国データ計算用シート'!$AA$13:$AA$59,'(要確認)詳細品目・全国データ計算用シート'!$U27),"-") -> 3 | H69: =IFERROR(LARGE('(要確認)詳細品目・全国データ計算用シート'!$AM$13:$AM$59,'(要確認)詳細品目・全国データ計算用シート'!$U27),"-") -> 1 | I69: =IFERROR(LARGE('(要確認)詳細品目・全国データ計算用シート'!$AI$13:$AI$59,'(要確認)詳細品目・全国データ計算用シート'!$U27),"-") -> 7 | J69: =IFERROR(LARGE('(要確認)詳細品目・全国データ計算用シート'!$W$13:$W$59,'(要確認)詳細品目・全国データ計算用シート'!$U27),"-") -> 6 | L69: =IFERROR('貼_主要農産物の産出額と構成比（なたね含）'!I47,"-") -> 0 | M69: =IFERROR(LARGE('貼_部門別・億円単・全国（e-Stat）'!$Q$15:$Q$61,'貼_部門別・億円単・全国（e-Stat）'!$B29),"-") -> 531 | N69: =IFERROR(LARGE('貼_部門別・億円単・全国（e-Stat）'!$S$15:$S$61,'貼_部門別・億円単・全国（e-Stat）'!$B29),"-") -> 156 | O69: =IFERROR(LARGE('貼_部門別・億円単・全国（e-Stat）'!$U$15:$U$61,'貼_部門別・億円単・全国（e-Stat）'!$B29),"-") -> 77 | P69: =IFERROR(LARGE('貼_部門別・億円単・全国（e-Stat）'!$AC$15:$AC$61,'貼_部門別・億円単・全国（e-Stat）'!$B29),"-") -> 596 | Q69: =IFERROR(LARGE('貼_部門別・億円単・全国（e-Stat）'!$AG$15:$AG$61,'貼_部門別・億円単・全国（e-Stat）'!$B29),"-") -> 98 | R69: =IFERROR(LARGE('貼_部門別・億円単・全国（e-Stat）'!$AI$15:$AI$61,'貼_部門別・億円単・全国（e-Stat）'!$B29),"-") -> 88 | S69: =IFERROR(LARGE('貼_部門別・億円単・全国（e-Stat）'!$AE$15:$AE$61,'貼_部門別・億円単・全国（e-Stat）'!$B29),"-") -> 153
D70: =IFERROR(LARGE('貼_部門別・億円単・全国（e-Stat）'!$C$15:$C$61,'貼_部門別・億円単・全国（e-Stat）'!$B30),"-") -> 2021 | E70: =IFERROR(LARGE('貼_部門別・億円単・全国（e-Stat）'!$E$15:$E$61,'貼_部門別・億円単・全国（e-Stat）'!$B30),"-") -> 1280 | F70: =IFERROR(LARGE('貼_部門別・億円単・全国（e-Stat）'!$G$15:$G$61,'貼_部門別・億円単・全国（e-Stat）'!$B30),"-") -> 301 | G70: =IFERROR(LARGE('(要確認)詳細品目・全国データ計算用シート'!$AA$13:$AA$59,'(要確認)詳細品目・全国データ計算用シート'!$U28),"-") -> 3 | H70: =IFERROR(LARGE('(要確認)詳細品目・全国データ計算用シート'!$AM$13:$AM$59,'(要確認)詳細品目・全国データ計算用シート'!$U28),"-") -> 0 | I70: =IFERROR(LARGE('(要確認)詳細品目・全国データ計算用シート'!$AI$13:$AI$59,'(要確認)詳細品目・全国データ計算用シート'!$U28),"-") -> 6 | J70: =IFERROR(LARGE('(要確認)詳細品目・全国データ計算用シート'!$W$13:$W$59,'(要確認)詳細品目・全国データ計算用シート'!$U28),"-") -> 5 | L70: =IFERROR('貼_主要農産物の産出額と構成比（なたね含）'!I48,"-") -> 0 | M70: =IFERROR(LARGE('貼_部門別・億円単・全国（e-Stat）'!$Q$15:$Q$61,'貼_部門別・億円単・全国（e-Stat）'!$B30),"-") -> 460 | N70: =IFERROR(LARGE('貼_部門別・億円単・全国（e-Stat）'!$S$15:$S$61,'貼_部門別・億円単・全国（e-Stat）'!$B30),"-") -> 145 | O70: =IFERROR(LARGE('貼_部門別・億円単・全国（e-Stat）'!$U$15:$U$61,'貼_部門別・億円単・全国（e-Stat）'!$B30),"-") -> 70 | P70: =IFERROR(LARGE('貼_部門別・億円単・全国（e-Stat）'!$AC$15:$AC$61,'貼_部門別・億円単・全国（e-Stat）'!$B30),"-") -> 582 | Q70: =IFERROR(LARGE('貼_部門別・億円単・全国（e-Stat）'!$AG$15:$AG$61,'貼_部門別・億円単・全国（e-Stat）'!$B30),"-") -> 95 | R70: =IFERROR(LARGE('貼_部門別・億円単・全国（e-Stat）'!$AI$15:$AI$61,'貼_部門別・億円単・全国（e-Stat）'!$B30),"-") -> 83 | S70: =IFERROR(LARGE('貼_部門別・億円単・全国（e-Stat）'!$AE$15:$AE$61,'貼_部門別・億円単・全国（e-Stat）'!$B30),"-") -> 145
D71: =IFERROR(LARGE('貼_部門別・億円単・全国（e-Stat）'!$C$15:$C$61,'貼_部門別・億円単・全国（e-Stat）'!$B31),"-") -> 1970 | E71: =IFERROR(LARGE('貼_部門別・億円単・全国（e-Stat）'!$E$15:$E$61,'貼_部門別・億円単・全国（e-Stat）'!$B31),"-") -> 1256 | F71: =IFERROR(LARGE('貼_部門別・億円単・全国（e-Stat）'!$G$15:$G$61,'貼_部門別・億円単・全国（e-Stat）'!$B31),"-") -> 277 | G71: =IFERROR(LARGE('(要確認)詳細品目・全国データ計算用シート'!$AA$13:$AA$59,'(要確認)詳細品目・全国データ計算用シート'!$U29),"-") -> 2 | H71: =IFERROR(LARGE('(要確認)詳細品目・全国データ計算用シート'!$AM$13:$AM$59,'(要確認)詳細品目・全国データ計算用シート'!$U29),"-") -> 0 | I71: =IFERROR(LARGE('(要確認)詳細品目・全国データ計算用シート'!$AI$13:$AI$59,'(要確認)詳細品目・全国データ計算用シート'!$U29),"-") -> 5 | J71: =IFERROR(LARGE('(要確認)詳細品目・全国データ計算用シート'!$W$13:$W$59,'(要確認)詳細品目・全国データ計算用シート'!$U29),"-") -> 5 | L71: =IFERROR('貼_主要農産物の産出額と構成比（なたね含）'!I49,"-") -> 0 | M71: =IFERROR(LARGE('貼_部門別・億円単・全国（e-Stat）'!$Q$15:$Q$61,'貼_部門別・億円単・全国（e-Stat）'!$B31),"-") -> 449 | N71: =IFERROR(LARGE('貼_部門別・億円単・全国（e-Stat）'!$S$15:$S$61,'貼_部門別・億円単・全国（e-Stat）'!$B31),"-") -> 137 | O71: =IFERROR(LARGE('貼_部門別・億円単・全国（e-Stat）'!$U$15:$U$61,'貼_部門別・億円単・全国（e-Stat）'!$B31),"-") -> 69 | P71: =IFERROR(LARGE('貼_部門別・億円単・全国（e-Stat）'!$AC$15:$AC$61,'貼_部門別・億円単・全国（e-Stat）'!$B31),"-") -> 543 | Q71: =IFERROR(LARGE('貼_部門別・億円単・全国（e-Stat）'!$AG$15:$AG$61,'貼_部門別・億円単・全国（e-Stat）'!$B31),"-") -> 89 | R71: =IFERROR(LARGE('貼_部門別・億円単・全国（e-Stat）'!$AI$15:$AI$61,'貼_部門別・億円単・全国（e-Stat）'!$B31),"-") -> 82 | S71: =IFERROR(LARGE('貼_部門別・億円単・全国（e-Stat）'!$AE$15:$AE$61,'貼_部門別・億円単・全国（e-Stat）'!$B31),"-") -> 135
... D101: =IFERROR(LARGE('貼_部門別・億円単・全国（e-Stat）'!$C$15:$C$61,'貼_部門別・億円単・全国（e-Stat）'!$B61),"-") -> 218 | E101: =IFERROR(LARGE('貼_部門別・億円単・全国（e-Stat）'!$E$15:$E$61,'貼_部門別・億円単・全国（e-Stat）'!$B61),"-") -> 201 | F101: =IFERROR(LARGE('貼_部門別・億円単・全国（e-Stat）'!$G$15:$G$61,'貼_部門別・億円単・全国（e-Stat）'!$B61),"-") -> 1 | G101: =IFERROR(LARGE('(要確認)詳細品目・全国データ計算用シート'!$AA$13:$AA$59,'(要確認)詳細品目・全国データ計算用シート'!$U59),"-") -> 0 | H101: =IFERROR(LARGE('(要確認)詳細品目・全国データ計算用シート'!$AM$13:$AM$59,'(要確認)詳細品目・全国データ計算用シート'!$U59),"-") -> 0 | I101: =IFERROR(LARGE('(要確認)詳細品目・全国データ計算用シート'!$AI$13:$AI$59,'(要確認)詳細品目・全国データ計算用シート'!$U59),"-") -> - | J101: =IFERROR(LARGE('(要確認)詳細品目・全国データ計算用シート'!$W$13:$W$59,'(要確認)詳細品目・全国データ計算用シート'!$U59),"-") -> 0 | L101: =IFERROR('貼_主要農産物の産出額と構成比（なたね含）'!I79,"-") -> - | M101: =IFERROR(LARGE('貼_部門別・億円単・全国（e-Stat）'!$Q$15:$Q$61,'貼_部門別・億円単・全国（e-Stat）'!$B61),"-") -> 52 | N101: =IFERROR(LARGE('貼_部門別・億円単・全国（e-Stat）'!$S$15:$S$61,'貼_部門別・億円単・全国（e-Stat）'!$B61),"-") -> 8 | O101: =IFERROR(LARGE('貼_部門別・億円単・全国（e-Stat）'!$U$15:$U$61,'貼_部門別・億円単・全国（e-Stat）'!$B61),"-") -> 4 | P101: =IFERROR(LARGE('貼_部門別・億円単・全国（e-Stat）'!$AC$15:$AC$61,'貼_部門別・億円単・全国（e-Stat）'!$B61),"-") -> 17 | Q101: =IFERROR(LARGE('貼_部門別・億円単・全国（e-Stat）'!$AG$15:$AG$61,'貼_部門別・億円単・全国（e-Stat）'!$B61),"-") -> 6 | R101: =IFERROR(LARGE('貼_部門別・億円単・全国（e-Stat）'!$AI$15:$AI$61,'貼_部門別・億円単・全国（e-Stat）'!$B61),"-") -> 6 | S101: =IFERROR(LARGE('貼_部門別・億円単・全国（e-Stat）'!$AE$15:$AE$61,'貼_部門別・億円単・全国（e-Stat）'!$B61),"-") -> 2
C102: 順位 | D102: =RANK(D55,D$55:D$59,0) -> 1 | E102: =RANK(E55,E$55:E$59,0) -> 1 | F102: =RANK(F55,F$55:F$59,0) -> 1 | G102: =RANK(G55,G$55:G$59,0) -> 1 | H102: =RANK(H55,H$55:H$59,0) -> 1 | I102: =RANK(I55,I$55:I$59,0) -> 1 | J102: =RANK(J55,J$55:J$59,0) -> 1 | K102: =RANK(K55,K$55:K$59,0) -> 1 | ... S102: =RANK(S55,S$55:S$59,0) -> 1
D103: =RANK(D56,D$55:D$59,0) -> 2 | E103: =RANK(E56,E$55:E$59,0) -> 2 | F103: =RANK(F56,F$55:F$59,0) -> 2 | G103: =RANK(G56,G$55:G$59,0) -> 2 | H103: =RANK(H56,H$55:H$59,0) -> 2 | I103: =RANK(I56,I$55:I$59,0) -> 2 | J103: =RANK(J56,J$55:J$59,0) -> 2 | L103: =RANK(L56,L$55:L$59,0) -> 2 | M103: =RANK(M56,M$55:M$59,0) -> 2 | N103: =RANK(N56,N$55:N$59,0) -> 2 | O103: =RANK(O56,O$55:O$59,0) -> 2 | P103: =RANK(P56,P$55:P$59,0) -> 2 | Q103: =RANK(Q56,Q$55:Q$59,0) -> 2 | R103: =RANK(R56,R$55:R$59,0) -> 2 | S103: =RANK(S56,S$55:S$59,0) -> 2
D104: =RANK(D57,D$55:D$59,0) -> 3 | E104: =RANK(E57,E$55:E$59,0) -> 3 | F104: =RANK(F57,F$55:F$59,0) -> 3 | G104: =RANK(G57,G$55:G$59,0) -> 3 | H104: =RANK(H57,H$55:H$59,0) -> 3 | I104: =RANK(I57,I$55:I$59,0) -> 3 | J104: =RANK(J57,J$55:J$59,0) -> 3 | L104: =RANK(L57,L$55:L$59,0) -> 2 | M104: =RANK(M57,M$55:M$59,0) -> 3 | N104: =RANK(N57,N$55:N$59,0) -> 3 | O104: =RANK(O57,O$55:O$59,0) -> 3 | P104: =RANK(P57,P$55:P$59,0) -> 3 | Q104: =RANK(Q57,Q$55:Q$59,0) -> 3 | R104: =RANK(R57,R$55:R$59,0) -> 3 | S104: =RANK(S57,S$55:S$59,0) -> 3
D105: =RANK(D58,D$55:D$59,0) -> 4 | E105: =RANK(E58,E$55:E$59,0) -> 4 | F105: =RANK(F58,F$55:F$59,0) -> 4 | G105: =RANK(G58,G$55:G$59,0) -> 4 | H105: =RANK(H58,H$55:H$59,0) -> 3 | I105: =RANK(I58,I$55:I$59,0) -> 4 | J105: =RANK(J58,J$55:J$59,0) -> 4 | L105: =RANK(L58,L$55:L$59,0) -> 2 | M105: =RANK(M58,M$55:M$59,0) -> 4 | N105: =RANK(N58,N$55:N$59,0) -> 4 | O105: =RANK(O58,O$55:O$59,0) -> 4 | P105: =RANK(P58,P$55:P$59,0) -> 4 | Q105: =RANK(Q58,Q$55:Q$59,0) -> 4 | R105: =RANK(R58,R$55:R$59,0) -> 4 | S105: =RANK(S58,S$55:S$59,0) -> 4
D106: =RANK(D59,D$55:D$59,0) -> 5 | E106: =RANK(E59,E$55:E$59,0) -> 5 | F106: =RANK(F59,F$55:F$59,0) -> 5 | G106: =RANK(G59,G$55:G$59,0) -> 5 | H106: =RANK(H59,H$55:H$59,0) -> 5 | I106: =RANK(I59,I$55:I$59,0) -> 4 | J106: =RANK(J59,J$55:J$59,0) -> 5 | L106: =RANK(L59,L$55:L$59,0) -> 2 | M106: =RANK(M59,M$55:M$59,0) -> 5 | N106: =RANK(N59,N$55:N$59,0) -> 5 | O106: =RANK(O59,O$55:O$59,0) -> 5 | P106: =RANK(P59,P$55:P$59,0) -> 5 | Q106: =RANK(Q59,Q$55:Q$59,0) -> 5 | R106: =RANK(R59,R$55:R$59,0) -> 5 | S106: =RANK(S59,S$55:S$59,0) -> 5
C107: ※北海道が6位以下の場合の北海道の順位 | N107: 26 | O107: 8
C108: グラフタイトル | D108: 全国における北海道のシェア | E108: 全国における北海道のシェア | F108: 全国における北海道のシェア | G108: 全国における北海道のシェア | H108: 全国における北海道のシェア | I108: 全国における北海道のシェア | J108: 全国における北海道のシェア | K108: 地域別シェア | L108: 全国における北海道のシェア | M108: 全国における北海道のシェア | N108: 全国における北海道のシェア | O108: 全国における北海道のシェア | P108: 全国における北海道のシェア | Q108: 全国における北海道のシェア | R108: 全国における北海道のシェア | S108: 全国における北海道のシェア
C109: グラフ用データ_円_北海道 | D109: =ROUND(D125/D54*100,1) -> 14.3 | E109: =ROUND(E125/E54*100,1) -> 9.8 | F109: =ROUND(F125/F54*100,1) -> 7.6 | G109: =ROUND(G125/G54*100,1) -> 75.7 | H109: =ROUND(H125/H54*100,1) -> 43.9 | I109: =ROUND(I125/I54*100,1) -> 44.7 | J109: =ROUND(J125/J54*100,1) -> 53.7 | K109: =ROUND(K125/K54*100,1) -> 100 | ... S109: =ROUND(S125/S54*100,1) -> 15.2
C110: その他都府県 | D110: =100-D109 -> 85.7 | E110: =100-E109 -> 90.2 | F110: =100-F109 -> 92.4 | G110: =100-G109 -> 24.3 | H110: =100-H109 -> 56.1 | I110: =100-I109 -> 55.3 | J110: =100-J109 -> 46.3 | K110: =100-K109 -> 0 | ... S110: =100-S109 -> 84.8
C111: 振興局名 1 | D111: =IFERROR(INDEX(貼_産出額整理表!$T$4:$T$17,MATCH(貼_産出額整理表!$A4,貼_産出額整理表!U$4:U$17,0)),"-") -> 十勝 | E111: =IFERROR(INDEX(貼_産出額整理表!$T$4:$T$17,MATCH(貼_産出額整理表!$A4,貼_産出額整理表!V$4:V$17,0)),"-") -> 十勝 | F111: =IFERROR(INDEX(貼_産出額整理表!$T$4:$T$17,MATCH(貼_産出額整理表!$A4,貼_産出額整理表!W$4:W$17,0)),"-") -> 空知 | G111: =IFERROR(INDEX(貼_産出額整理表!$T$4:$T$17,MATCH(貼_産出額整理表!$A4,貼_産出額整理表!X$4:X$17,0)),"-") -> 十勝 | H111: =IFERROR(INDEX(貼_産出額整理表!$T$4:$T$17,MATCH(貼_産出額整理表!$A4,貼_産出額整理表!Y$4:Y$17,0)),"-") -> 上川 | I111: =IFERROR(INDEX(貼_産出額整理表!$T$4:$T$17,MATCH(貼_産出額整理表!$A4,貼_産出額整理表!Z$4:Z$17,0)),"-") -> 十勝 | J111: =IFERROR(INDEX(貼_産出額整理表!$T$4:$T$17,MATCH(貼_産出額整理表!$A4,貼_産出額整理表!AA$4:AA$17,0)),"-") -> 十勝 | K111: =IFERROR(INDEX(貼_産出額整理表!$T$4:$T$17,MATCH(貼_産出額整理表!$A4,貼_産出額整理表!AE$4:AE$17,0)),"-") -> オホーツク | L111: =IFERROR(INDEX(貼_産出額整理表!$T$4:$T$17,MATCH(貼_産出額整理表!$A4,貼_産出額整理表!AF$4:AF$17,0)),"-") -> 空知 | M111: =IFERROR(INDEX(貼_産出額整理表!$T$4:$T$17,MATCH(貼_産出額整理表!$A4,貼_産出額整理表!AB$4:AB$17,0)),"-") -> オホーツク | N111: =IFERROR(INDEX(貼_産出額整理表!$T$4:$T$17,MATCH(貼_産出額整理表!$A4,貼_産出額整理表!AC$4:AC$17,0)),"-") -> 後志 | O111: =IFERROR(INDEX(貼_産出額整理表!$T$4:$T$17,MATCH(貼_産出額整理表!$A4,貼_産出額整理表!AD$4:AD$17,0)),"-") -> 空知 | P111: =IFERROR(INDEX(貼_産出額整理表!$T$4:$T$17,MATCH(貼_産出額整理表!$A4,貼_産出額整理表!AG$4:AG$17,0)),"-") -> 十勝 | Q111: =IFERROR(INDEX(貼_産出額整理表!$T$4:$T$17,MATCH(貼_産出額整理表!$A4,貼_産出額整理表!AI$4:AI$17,0)),"-") -> 十勝 | R111: =IFERROR(INDEX(貼_産出額整理表!$T$4:$T$17,MATCH(貼_産出額整理表!$A4,貼_産出額整理表!AJ$4:AJ$17,0)),"-") -> 十勝 | S111: =IFERROR(INDEX(貼_産出額整理表!$T$4:$T$17,MATCH(貼_産出額整理表!$A4,貼_産出額整理表!AH$4:AH$17,0)),"-") -> 十勝
C112: 2 | D112: =IFERROR(INDEX(貼_産出額整理表!$T$4:$T$17,MATCH(貼_産出額整理表!$A5,貼_産出額整理表!U$4:U$17,0)),"-") -> オホーツク | E112: =IFERROR(INDEX(貼_産出額整理表!$T$4:$T$17,MATCH(貼_産出額整理表!$A5,貼_産出額整理表!V$4:V$17,0)),"-") -> オホーツク | F112: =IFERROR(INDEX(貼_産出額整理表!$T$4:$T$17,MATCH(貼_産出額整理表!$A5,貼_産出額整理表!W$4:W$17,0)),"-") -> 上川 | G112: =IFERROR(INDEX(貼_産出額整理表!$T$4:$T$17,MATCH(貼_産出額整理表!$A5,貼_産出額整理表!X$4:X$17,0)),"-") -> オホーツク | H112: =IFERROR(INDEX(貼_産出額整理表!$T$4:$T$17,MATCH(貼_産出額整理表!$A5,貼_産出額整理表!Y$4:Y$17,0)),"-") -> 空知 | I112: =IFERROR(INDEX(貼_産出額整理表!$T$4:$T$17,MATCH(貼_産出額整理表!$A5,貼_産出額整理表!Z$4:Z$17,0)),"-") -> 空知 | J112: =IFERROR(INDEX(貼_産出額整理表!$T$4:$T$17,MATCH(貼_産出額整理表!$A5,貼_産出額整理表!AA$4:AA$17,0)),"-") -> オホーツク | K112: =IFERROR(INDEX(貼_産出額整理表!$T$4:$T$17,MATCH(貼_産出額整理表!$A5,貼_産出額整理表!AE$4:AE$17,0)),"-") -> 十勝 | L112: =IFERROR(INDEX(貼_産出額整理表!$T$4:$T$17,MATCH(貼_産出額整理表!$A5,貼_産出額整理表!AF$4:AF$17,0)),"-") -> 上川 | M112: =IFERROR(INDEX(貼_産出額整理表!$T$4:$T$17,MATCH(貼_産出額整理表!$A5,貼_産出額整理表!AB$4:AB$17,0)),"-") -> 上川 | N112: =IFERROR(INDEX(貼_産出額整理表!$T$4:$T$17,MATCH(貼_産出額整理表!$A5,貼_産出額整理表!AC$4:AC$17,0)),"-") -> 空知 | O112: =IFERROR(INDEX(貼_産出額整理表!$T$4:$T$17,MATCH(貼_産出額整理表!$A5,貼_産出額整理表!AD$4:AD$17,0)),"-") -> 石狩 | P112: =IFERROR(INDEX(貼_産出額整理表!$T$4:$T$17,MATCH(貼_産出額整理表!$A5,貼_産出額整理表!AG$4:AG$17,0)),"-") -> 根室 | Q112: =IFERROR(INDEX(貼_産出額整理表!$T$4:$T$17,MATCH(貼_産出額整理表!$A5,貼_産出額整理表!AI$4:AI$17,0)),"-") -> 根室 | R112: =IFERROR(INDEX(貼_産出額整理表!$T$4:$T$17,MATCH(貼_産出額整理表!$A5,貼_産出額整理表!AJ$4:AJ$17,0)),"-") -> 根室 | S112: =IFERROR(INDEX(貼_産出額整理表!$T$4:$T$17,MATCH(貼_産出額整理表!$A5,貼_産出額整理表!AH$4:AH$17,0)),"-") -> オホーツク
C113: 3 | D113: =IFERROR(INDEX(貼_産出額整理表!$T$4:$T$17,MATCH(貼_産出額整理表!$A6,貼_産出額整理表!U$4:U$17,0)),"-") -> 上川 | E113: =IFERROR(INDEX(貼_産出額整理表!$T$4:$T$17,MATCH(貼_産出額整理表!$A6,貼_産出額整理表!V$4:V$17,0)),"-") -> 空知 | F113: =IFERROR(INDEX(貼_産出額整理表!$T$4:$T$17,MATCH(貼_産出額整理表!$A6,貼_産出額整理表!W$4:W$17,0)),"-") -> 石狩 | G113: =IFERROR(INDEX(貼_産出額整理表!$T$4:$T$17,MATCH(貼_産出額整理表!$A6,貼_産出額整理表!X$4:X$17,0)),"-") -> 空知 | H113: =IFERROR(INDEX(貼_産出額整理表!$T$4:$T$17,MATCH(貼_産出額整理表!$A6,貼_産出額整理表!Y$4:Y$17,0)),"-") -> 後志 | I113: =IFERROR(INDEX(貼_産出額整理表!$T$4:$T$17,MATCH(貼_産出額整理表!$A6,貼_産出額整理表!Z$4:Z$17,0)),"-") -> 上川 | J113: =IFERROR(INDEX(貼_産出額整理表!$T$4:$T$17,MATCH(貼_産出額整理表!$A6,貼_産出額整理表!AA$4:AA$17,0)),"-") -> 後志 | K113: =IFERROR(INDEX(貼_産出額整理表!$T$4:$T$17,MATCH(貼_産出額整理表!$A6,貼_産出額整理表!AE$4:AE$17,0)),"-") -> 上川 | L113: =IFERROR(INDEX(貼_産出額整理表!$T$4:$T$17,MATCH(貼_産出額整理表!$A6,貼_産出額整理表!AF$4:AF$17,0)),"-") -> 石狩 | M113: =IFERROR(INDEX(貼_産出額整理表!$T$4:$T$17,MATCH(貼_産出額整理表!$A6,貼_産出額整理表!AB$4:AB$17,0)),"-") -> 十勝 | N113: =IFERROR(INDEX(貼_産出額整理表!$T$4:$T$17,MATCH(貼_産出額整理表!$A6,貼_産出額整理表!AC$4:AC$17,0)),"-") -> 上川 | O113: =IFERROR(INDEX(貼_産出額整理表!$T$4:$T$17,MATCH(貼_産出額整理表!$A6,貼_産出額整理表!AD$4:AD$17,0)),"-") -> 上川 | P113: =IFERROR(INDEX(貼_産出額整理表!$T$4:$T$17,MATCH(貼_産出額整理表!$A6,貼_産出額整理表!AG$4:AG$17,0)),"-") -> オホーツク | Q113: =IFERROR(INDEX(貼_産出額整理表!$T$4:$T$17,MATCH(貼_産出額整理表!$A6,貼_産出額整理表!AI$4:AI$17,0)),"-") -> 釧路 | R113: =IFERROR(INDEX(貼_産出額整理表!$T$4:$T$17,MATCH(貼_産出額整理表!$A6,貼_産出額整理表!AJ$4:AJ$17,0)),"-") -> 釧路 | S113: =IFERROR(INDEX(貼_産出額整理表!$T$4:$T$17,MATCH(貼_産出額整理表!$A6,貼_産出額整理表!AH$4:AH$17,0)),"-") -> 胆振
C114: 4 | D114: =IFERROR(INDEX(貼_産出額整理表!$T$4:$T$17,MATCH(貼_産出額整理表!$A7,貼_産出額整理表!U$4:U$17,0)),"-") -> 根室 | E114: =IFERROR(INDEX(貼_産出額整理表!$T$4:$T$17,MATCH(貼_産出額整理表!$A7,貼_産出額整理表!V$4:V$17,0)),"-") -> 上川 | F114: =IFERROR(INDEX(貼_産出額整理表!$T$4:$T$17,MATCH(貼_産出額整理表!$A7,貼_産出額整理表!W$4:W$17,0)),"-") -> 後志 | G114: =IFERROR(INDEX(貼_産出額整理表!$T$4:$T$17,MATCH(貼_産出額整理表!$A7,貼_産出額整理表!X$4:X$17,0)),"-") -> 上川 | H114: =IFERROR(INDEX(貼_産出額整理表!$T$4:$T$17,MATCH(貼_産出額整理表!$A7,貼_産出額整理表!Y$4:Y$17,0)),"-") -> 十勝 | I114: =IFERROR(INDEX(貼_産出額整理表!$T$4:$T$17,MATCH(貼_産出額整理表!$A7,貼_産出額整理表!Z$4:Z$17,0)),"-") -> オホーツク | J114: =IFERROR(INDEX(貼_産出額整理表!$T$4:$T$17,MATCH(貼_産出額整理表!$A7,貼_産出額整理表!AA$4:AA$17,0)),"-") -> 上川 | K114: =IFERROR(INDEX(貼_産出額整理表!$T$4:$T$17,MATCH(貼_産出額整理表!$A7,貼_産出額整理表!AE$4:AE$17,0)),"-") -> 石狩 | L114: =IFERROR(INDEX(貼_産出額整理表!$T$4:$T$17,MATCH(貼_産出額整理表!$A7,貼_産出額整理表!AF$4:AF$17,0)),"-") -> 胆振 | M114: =IFERROR(INDEX(貼_産出額整理表!$T$4:$T$17,MATCH(貼_産出額整理表!$A7,貼_産出額整理表!AB$4:AB$17,0)),"-") -> 空知 | N114: =IFERROR(INDEX(貼_産出額整理表!$T$4:$T$17,MATCH(貼_産出額整理表!$A7,貼_産出額整理表!AC$4:AC$17,0)),"-") -> 胆振 | O114: =IFERROR(INDEX(貼_産出額整理表!$T$4:$T$17,MATCH(貼_産出額整理表!$A7,貼_産出額整理表!AD$4:AD$17,0)),"-") -> 渡島 | P114: =IFERROR(INDEX(貼_産出額整理表!$T$4:$T$17,MATCH(貼_産出額整理表!$A7,貼_産出額整理表!AG$4:AG$17,0)),"-") -> 釧路 | Q114: =IFERROR(INDEX(貼_産出額整理表!$T$4:$T$17,MATCH(貼_産出額整理表!$A7,貼_産出額整理表!AI$4:AI$17,0)),"-") -> オホーツク | R114: =IFERROR(INDEX(貼_産出額整理表!$T$4:$T$17,MATCH(貼_産出額整理表!$A7,貼_産出額整理表!AJ$4:AJ$17,0)),"-") -> オホーツク | S114: =IFERROR(INDEX(貼_産出額整理表!$T$4:$T$17,MATCH(貼_産出額整理表!$A7,貼_産出額整理表!AH$4:AH$17,0)),"-") -> 釧路
C115: 5 | D115: =IFERROR(INDEX(貼_産出額整理表!$T$4:$T$17,MATCH(貼_産出額整理表!$A8,貼_産出額整理表!U$4:U$17,0)),"-") -> 空知 | E115: =IFERROR(INDEX(貼_産出額整理表!$T$4:$T$17,MATCH(貼_産出額整理表!$A8,貼_産出額整理表!V$4:V$17,0)),"-") -> 後志 | F115: =IFERROR(INDEX(貼_産出額整理表!$T$4:$T$17,MATCH(貼_産出額整理表!$A8,貼_産出額整理表!W$4:W$17,0)),"-") -> 留萌 | G115: =IFERROR(INDEX(貼_産出額整理表!$T$4:$T$17,MATCH(貼_産出額整理表!$A8,貼_産出額整理表!X$4:X$17,0)),"-") -> 石狩 | H115: =IFERROR(INDEX(貼_産出額整理表!$T$4:$T$17,MATCH(貼_産出額整理表!$A8,貼_産出額整理表!Y$4:Y$17,0)),"-") -> 檜山 | I115: =IFERROR(INDEX(貼_産出額整理表!$T$4:$T$17,MATCH(貼_産出額整理表!$A8,貼_産出額整理表!Z$4:Z$17,0)),"-") -> 石狩 | J115: =IFERROR(INDEX(貼_産出額整理表!$T$4:$T$17,MATCH(貼_産出額整理表!$A8,貼_産出額整理表!AA$4:AA$17,0)),"-") -> 檜山 | K115: =IFERROR(INDEX(貼_産出額整理表!$T$4:$T$17,MATCH(貼_産出額整理表!$A8,貼_産出額整理表!AE$4:AE$17,0)),"-") -> 後志 | L115: =IFERROR(INDEX(貼_産出額整理表!$T$4:$T$17,MATCH(貼_産出額整理表!$A8,貼_産出額整理表!AF$4:AF$17,0)),"-") -> 十勝 | M115: =IFERROR(INDEX(貼_産出額整理表!$T$4:$T$17,MATCH(貼_産出額整理表!$A8,貼_産出額整理表!AB$4:AB$17,0)),"-") -> 後志 | N115: =IFERROR(INDEX(貼_産出額整理表!$T$4:$T$17,MATCH(貼_産出額整理表!$A8,貼_産出額整理表!AC$4:AC$17,0)),"-") -> 留萌 | O115: =IFERROR(INDEX(貼_産出額整理表!$T$4:$T$17,MATCH(貼_産出額整理表!$A8,貼_産出額整理表!AD$4:AD$17,0)),"-") -> 後志 | P115: =IFERROR(INDEX(貼_産出額整理表!$T$4:$T$17,MATCH(貼_産出額整理表!$A8,貼_産出額整理表!AG$4:AG$17,0)),"-") -> 日高 | Q115: =IFERROR(INDEX(貼_産出額整理表!$T$4:$T$17,MATCH(貼_産出額整理表!$A8,貼_産出額整理表!AI$4:AI$17,0)),"-") -> 宗谷 | R115: =IFERROR(INDEX(貼_産出額整理表!$T$4:$T$17,MATCH(貼_産出額整理表!$A8,貼_産出額整理表!AJ$4:AJ$17,0)),"-") -> 宗谷 | S115: =IFERROR(INDEX(貼_産出額整理表!$T$4:$T$17,MATCH(貼_産出額整理表!$A8,貼_産出額整理表!AH$4:AH$17,0)),"-") -> 上川
C116: 6 | D116: =IFERROR(INDEX(貼_産出額整理表!$T$4:$T$17,MATCH(貼_産出額整理表!$A9,貼_産出額整理表!U$4:U$17,0)),"-") -> 釧路 | E116: =IFERROR(INDEX(貼_産出額整理表!$T$4:$T$17,MATCH(貼_産出額整理表!$A9,貼_産出額整理表!V$4:V$17,0)),"-") -> 石狩 | F116: =IFERROR(INDEX(貼_産出額整理表!$T$4:$T$17,MATCH(貼_産出額整理表!$A9,貼_産出額整理表!W$4:W$17,0)),"-") -> 檜山 | G116: =IFERROR(INDEX(貼_産出額整理表!$T$4:$T$17,MATCH(貼_産出額整理表!$A9,貼_産出額整理表!X$4:X$17,0)),"-") -> 胆振 | H116: =IFERROR(INDEX(貼_産出額整理表!$T$4:$T$17,MATCH(貼_産出額整理表!$A9,貼_産出額整理表!Y$4:Y$17,0)),"-") -> 留萌 | I116: =IFERROR(INDEX(貼_産出額整理表!$T$4:$T$17,MATCH(貼_産出額整理表!$A9,貼_産出額整理表!Z$4:Z$17,0)),"-") -> 後志 | J116: =IFERROR(INDEX(貼_産出額整理表!$T$4:$T$17,MATCH(貼_産出額整理表!$A9,貼_産出額整理表!AA$4:AA$17,0)),"-") -> 石狩 | K116: =IFERROR(INDEX(貼_産出額整理表!$T$4:$T$17,MATCH(貼_産出額整理表!$A9,貼_産出額整理表!AE$4:AE$17,0)),"-") -> 胆振 | L116: =IFERROR(INDEX(貼_産出額整理表!$T$4:$T$17,MATCH(貼_産出額整理表!$A9,貼_産出額整理表!AF$4:AF$17,0)),"-") -> - | M116: =IFERROR(INDEX(貼_産出額整理表!$T$4:$T$17,MATCH(貼_産出額整理表!$A9,貼_産出額整理表!AB$4:AB$17,0)),"-") -> 石狩 | N116: =IFERROR(INDEX(貼_産出額整理表!$T$4:$T$17,MATCH(貼_産出額整理表!$A9,貼_産出額整理表!AC$4:AC$17,0)),"-") -> 石狩 | O116: =IFERROR(INDEX(貼_産出額整理表!$T$4:$T$17,MATCH(貼_産出額整理表!$A9,貼_産出額整理表!AD$4:AD$17,0)),"-") -> 十勝 | P116: =IFERROR(INDEX(貼_産出額整理表!$T$4:$T$17,MATCH(貼_産出額整理表!$A9,貼_産出額整理表!AG$4:AG$17,0)),"-") -> 胆振 | Q116: =IFERROR(INDEX(貼_産出額整理表!$T$4:$T$17,MATCH(貼_産出額整理表!$A9,貼_産出額整理表!AI$4:AI$17,0)),"-") -> 上川 | R116: =IFERROR(INDEX(貼_産出額整理表!$T$4:$T$17,MATCH(貼_産出額整理表!$A9,貼_産出額整理表!AJ$4:AJ$17,0)),"-") -> 上川 | S116: =IFERROR(INDEX(貼_産出額整理表!$T$4:$T$17,MATCH(貼_産出額整理表!$A9,貼_産出額整理表!AH$4:AH$17,0)),"-") -> 渡島
C117: 7 | D117: =IFERROR(INDEX(貼_産出額整理表!$T$4:$T$17,MATCH(貼_産出額整理表!$A10,貼_産出額整理表!U$4:U$17,0)),"-") -> 日高 | E117: =IFERROR(INDEX(貼_産出額整理表!$T$4:$T$17,MATCH(貼_産出額整理表!$A10,貼_産出額整理表!V$4:V$17,0)),"-") -> 胆振 | F117: =IFERROR(INDEX(貼_産出額整理表!$T$4:$T$17,MATCH(貼_産出額整理表!$A10,貼_産出額整理表!W$4:W$17,0)),"-") -> 胆振 | G117: =IFERROR(INDEX(貼_産出額整理表!$T$4:$T$17,MATCH(貼_産出額整理表!$A10,貼_産出額整理表!X$4:X$17,0)),"-") -> 後志 | H117: =IFERROR(INDEX(貼_産出額整理表!$T$4:$T$17,MATCH(貼_産出額整理表!$A10,貼_産出額整理表!Y$4:Y$17,0)),"-") -> オホーツク | I117: =IFERROR(INDEX(貼_産出額整理表!$T$4:$T$17,MATCH(貼_産出額整理表!$A10,貼_産出額整理表!Z$4:Z$17,0)),"-") -> 胆振 | J117: =IFERROR(INDEX(貼_産出額整理表!$T$4:$T$17,MATCH(貼_産出額整理表!$A10,貼_産出額整理表!AA$4:AA$17,0)),"-") -> 空知 | K117: =IFERROR(INDEX(貼_産出額整理表!$T$4:$T$17,MATCH(貼_産出額整理表!$A10,貼_産出額整理表!AE$4:AE$17,0)),"-") -> 空知 | L117: =IFERROR(INDEX(貼_産出額整理表!$T$4:$T$17,MATCH(貼_産出額整理表!$A10,貼_産出額整理表!AF$4:AF$17,0)),"-") -> - | M117: =IFERROR(INDEX(貼_産出額整理表!$T$4:$T$17,MATCH(貼_産出額整理表!$A10,貼_産出額整理表!AB$4:AB$17,0)),"-") -> 胆振 | N117: =IFERROR(INDEX(貼_産出額整理表!$T$4:$T$17,MATCH(貼_産出額整理表!$A10,貼_産出額整理表!AC$4:AC$17,0)),"-") -> 渡島 | O117: =IFERROR(INDEX(貼_産出額整理表!$T$4:$T$17,MATCH(貼_産出額整理表!$A10,貼_産出額整理表!AD$4:AD$17,0)),"-") -> 胆振 | P117: =IFERROR(INDEX(貼_産出額整理表!$T$4:$T$17,MATCH(貼_産出額整理表!$A10,貼_産出額整理表!AG$4:AG$17,0)),"-") -> 宗谷 | Q117: =IFERROR(INDEX(貼_産出額整理表!$T$4:$T$17,MATCH(貼_産出額整理表!$A10,貼_産出額整理表!AI$4:AI$17,0)),"-") -> 渡島 | R117: =IFERROR(INDEX(貼_産出額整理表!$T$4:$T$17,MATCH(貼_産出額整理表!$A10,貼_産出額整理表!AJ$4:AJ$17,0)),"-") -> 渡島 | S117: =IFERROR(INDEX(貼_産出額整理表!$T$4:$T$17,MATCH(貼_産出額整理表!$A10,貼_産出額整理表!AH$4:AH$17,0)),"-") -> 日高
C118: 8 | D118: =IFERROR(INDEX(貼_産出額整理表!$T$4:$T$17,MATCH(貼_産出額整理表!$A11,貼_産出額整理表!U$4:U$17,0)),"-") -> 胆振 | E118: =IFERROR(INDEX(貼_産出額整理表!$T$4:$T$17,MATCH(貼_産出額整理表!$A11,貼_産出額整理表!V$4:V$17,0)),"-") -> 渡島 | F118: =IFERROR(INDEX(貼_産出額整理表!$T$4:$T$17,MATCH(貼_産出額整理表!$A11,貼_産出額整理表!W$4:W$17,0)),"-") -> 渡島 | G118: =IFERROR(INDEX(貼_産出額整理表!$T$4:$T$17,MATCH(貼_産出額整理表!$A11,貼_産出額整理表!X$4:X$17,0)),"-") -> 留萌 | H118: =IFERROR(INDEX(貼_産出額整理表!$T$4:$T$17,MATCH(貼_産出額整理表!$A11,貼_産出額整理表!Y$4:Y$17,0)),"-") -> 釧路 | I118: =IFERROR(INDEX(貼_産出額整理表!$T$4:$T$17,MATCH(貼_産出額整理表!$A11,貼_産出額整理表!Z$4:Z$17,0)),"-") -> 檜山 | J118: =IFERROR(INDEX(貼_産出額整理表!$T$4:$T$17,MATCH(貼_産出額整理表!$A11,貼_産出額整理表!AA$4:AA$17,0)),"-") -> 胆振 | K118: =IFERROR(INDEX(貼_産出額整理表!$T$4:$T$17,MATCH(貼_産出額整理表!$A11,貼_産出額整理表!AE$4:AE$17,0)),"-") -> 檜山 | L118: =IFERROR(INDEX(貼_産出額整理表!$T$4:$T$17,MATCH(貼_産出額整理表!$A11,貼_産出額整理表!AF$4:AF$17,0)),"-") -> - | M118: =IFERROR(INDEX(貼_産出額整理表!$T$4:$T$17,MATCH(貼_産出額整理表!$A11,貼_産出額整理表!AB$4:AB$17,0)),"-") -> 渡島 | N118: =IFERROR(INDEX(貼_産出額整理表!$T$4:$T$17,MATCH(貼_産出額整理表!$A11,貼_産出額整理表!AC$4:AC$17,0)),"-") -> 檜山 | O118: =IFERROR(INDEX(貼_産出額整理表!$T$4:$T$17,MATCH(貼_産出額整理表!$A11,貼_産出額整理表!AD$4:AD$17,0)),"-") -> 日高 | P118: =IFERROR(INDEX(貼_産出額整理表!$T$4:$T$17,MATCH(貼_産出額整理表!$A11,貼_産出額整理表!AG$4:AG$17,0)),"-") -> 上川 | Q118: =IFERROR(INDEX(貼_産出額整理表!$T$4:$T$17,MATCH(貼_産出額整理表!$A11,貼_産出額整理表!AI$4:AI$17,0)),"-") -> 留萌 | R118: =IFERROR(INDEX(貼_産出額整理表!$T$4:$T$17,MATCH(貼_産出額整理表!$A11,貼_産出額整理表!AJ$4:AJ$17,0)),"-") -> 留萌 | S118: =IFERROR(INDEX(貼_産出額整理表!$T$4:$T$17,MATCH(貼_産出額整理表!$A11,貼_産出額整理表!AH$4:AH$17,0)),"-") -> 宗谷
C119: 9 | D119: =IFERROR(INDEX(貼_産出額整理表!$T$4:$T$17,MATCH(貼_産出額整理表!$A12,貼_産出額整理表!U$4:U$17,0)),"-") -> 石狩 | E119: =IFERROR(INDEX(貼_産出額整理表!$T$4:$T$17,MATCH(貼_産出額整理表!$A12,貼_産出額整理表!V$4:V$17,0)),"-") -> 檜山 | F119: =IFERROR(INDEX(貼_産出額整理表!$T$4:$T$17,MATCH(貼_産出額整理表!$A12,貼_産出額整理表!W$4:W$17,0)),"-") -> 日高 | G119: =IFERROR(INDEX(貼_産出額整理表!$T$4:$T$17,MATCH(貼_産出額整理表!$A12,貼_産出額整理表!X$4:X$17,0)),"-") -> 檜山 | H119: =IFERROR(INDEX(貼_産出額整理表!$T$4:$T$17,MATCH(貼_産出額整理表!$A12,貼_産出額整理表!Y$4:Y$17,0)),"-") -> 根室 | I119: =IFERROR(INDEX(貼_産出額整理表!$T$4:$T$17,MATCH(貼_産出額整理表!$A12,貼_産出額整理表!Z$4:Z$17,0)),"-") -> 留萌 | J119: =IFERROR(INDEX(貼_産出額整理表!$T$4:$T$17,MATCH(貼_産出額整理表!$A12,貼_産出額整理表!AA$4:AA$17,0)),"-") -> 渡島 | K119: =IFERROR(INDEX(貼_産出額整理表!$T$4:$T$17,MATCH(貼_産出額整理表!$A12,貼_産出額整理表!AE$4:AE$17,0)),"-") -> 留萌 | L119: =IFERROR(INDEX(貼_産出額整理表!$T$4:$T$17,MATCH(貼_産出額整理表!$A12,貼_産出額整理表!AF$4:AF$17,0)),"-") -> - | M119: =IFERROR(INDEX(貼_産出額整理表!$T$4:$T$17,MATCH(貼_産出額整理表!$A12,貼_産出額整理表!AB$4:AB$17,0)),"-") -> 日高 | N119: =IFERROR(INDEX(貼_産出額整理表!$T$4:$T$17,MATCH(貼_産出額整理表!$A12,貼_産出額整理表!AC$4:AC$17,0)),"-") -> 十勝 | O119: =IFERROR(INDEX(貼_産出額整理表!$T$4:$T$17,MATCH(貼_産出額整理表!$A12,貼_産出額整理表!AD$4:AD$17,0)),"-") -> オホーツク | P119: =IFERROR(INDEX(貼_産出額整理表!$T$4:$T$17,MATCH(貼_産出額整理表!$A12,貼_産出額整理表!AG$4:AG$17,0)),"-") -> 渡島 | Q119: =IFERROR(INDEX(貼_産出額整理表!$T$4:$T$17,MATCH(貼_産出額整理表!$A12,貼_産出額整理表!AI$4:AI$17,0)),"-") -> 石狩 | R119: =IFERROR(INDEX(貼_産出額整理表!$T$4:$T$17,MATCH(貼_産出額整理表!$A12,貼_産出額整理表!AJ$4:AJ$17,0)),"-") -> 石狩 | S119: =IFERROR(INDEX(貼_産出額整理表!$T$4:$T$17,MATCH(貼_産出額整理表!$A12,貼_産出額整理表!AH$4:AH$17,0)),"-") -> 空知
C120: 10 | D120: =IFERROR(INDEX(貼_産出額整理表!$T$4:$T$17,MATCH(貼_産出額整理表!$A13,貼_産出額整理表!U$4:U$17,0)),"-") -> 後志 | E120: =IFERROR(INDEX(貼_産出額整理表!$T$4:$T$17,MATCH(貼_産出額整理表!$A13,貼_産出額整理表!V$4:V$17,0)),"-") -> 留萌 | F120: =IFERROR(INDEX(貼_産出額整理表!$T$4:$T$17,MATCH(貼_産出額整理表!$A13,貼_産出額整理表!W$4:W$17,0)),"-") -> オホーツク | G120: =IFERROR(INDEX(貼_産出額整理表!$T$4:$T$17,MATCH(貼_産出額整理表!$A13,貼_産出額整理表!X$4:X$17,0)),"-") -> 渡島 | H120: =IFERROR(INDEX(貼_産出額整理表!$T$4:$T$17,MATCH(貼_産出額整理表!$A13,貼_産出額整理表!Y$4:Y$17,0)),"-") -> 石狩 | I120: =IFERROR(INDEX(貼_産出額整理表!$T$4:$T$17,MATCH(貼_産出額整理表!$A13,貼_産出額整理表!Z$4:Z$17,0)),"-") -> 渡島 | J120: =IFERROR(INDEX(貼_産出額整理表!$T$4:$T$17,MATCH(貼_産出額整理表!$A13,貼_産出額整理表!AA$4:AA$17,0)),"-") -> 釧路 | K120: =IFERROR(INDEX(貼_産出額整理表!$T$4:$T$17,MATCH(貼_産出額整理表!$A13,貼_産出額整理表!AE$4:AE$17,0)),"-") -> 釧路 | L120: =IFERROR(INDEX(貼_産出額整理表!$T$4:$T$17,MATCH(貼_産出額整理表!$A13,貼_産出額整理表!AF$4:AF$17,0)),"-") -> - | M120: =IFERROR(INDEX(貼_産出額整理表!$T$4:$T$17,MATCH(貼_産出額整理表!$A13,貼_産出額整理表!AB$4:AB$17,0)),"-") -> 檜山 | N120: =IFERROR(INDEX(貼_産出額整理表!$T$4:$T$17,MATCH(貼_産出額整理表!$A13,貼_産出額整理表!AC$4:AC$17,0)),"-") -> オホーツク | O120: =IFERROR(INDEX(貼_産出額整理表!$T$4:$T$17,MATCH(貼_産出額整理表!$A13,貼_産出額整理表!AD$4:AD$17,0)),"-") -> 檜山 | P120: =IFERROR(INDEX(貼_産出額整理表!$T$4:$T$17,MATCH(貼_産出額整理表!$A13,貼_産出額整理表!AG$4:AG$17,0)),"-") -> 石狩 | Q120: =IFERROR(INDEX(貼_産出額整理表!$T$4:$T$17,MATCH(貼_産出額整理表!$A13,貼_産出額整理表!AI$4:AI$17,0)),"-") -> 日高 | R120: =IFERROR(INDEX(貼_産出額整理表!$T$4:$T$17,MATCH(貼_産出額整理表!$A13,貼_産出額整理表!AJ$4:AJ$17,0)),"-") -> 日高 | S120: =IFERROR(INDEX(貼_産出額整理表!$T$4:$T$17,MATCH(貼_産出額整理表!$A13,貼_産出額整理表!AH$4:AH$17,0)),"-") -> 根室
C121: 11 | D121: =IFERROR(INDEX(貼_産出額整理表!$T$4:$T$17,MATCH(貼_産出額整理表!$A14,貼_産出額整理表!U$4:U$17,0)),"-") -> 渡島 | E121: =IFERROR(INDEX(貼_産出額整理表!$T$4:$T$17,MATCH(貼_産出額整理表!$A14,貼_産出額整理表!V$4:V$17,0)),"-") -> 日高 | F121: =IFERROR(INDEX(貼_産出額整理表!$T$4:$T$17,MATCH(貼_産出額整理表!$A14,貼_産出額整理表!W$4:W$17,0)),"-") -> 十勝 | G121: =IFERROR(INDEX(貼_産出額整理表!$T$4:$T$17,MATCH(貼_産出額整理表!$A14,貼_産出額整理表!X$4:X$17,0)),"-") -> 釧路 | H121: =IFERROR(INDEX(貼_産出額整理表!$T$4:$T$17,MATCH(貼_産出額整理表!$A14,貼_産出額整理表!Y$4:Y$17,0)),"-") -> 渡島 | I121: =IFERROR(INDEX(貼_産出額整理表!$T$4:$T$17,MATCH(貼_産出額整理表!$A14,貼_産出額整理表!Z$4:Z$17,0)),"-") -> 日高 | J121: =IFERROR(INDEX(貼_産出額整理表!$T$4:$T$17,MATCH(貼_産出額整理表!$A14,貼_産出額整理表!AA$4:AA$17,0)),"-") -> 根室 | K121: =IFERROR(INDEX(貼_産出額整理表!$T$4:$T$17,MATCH(貼_産出額整理表!$A14,貼_産出額整理表!AE$4:AE$17,0)),"-") -> 渡島 | L121: =IFERROR(INDEX(貼_産出額整理表!$T$4:$T$17,MATCH(貼_産出額整理表!$A14,貼_産出額整理表!AF$4:AF$17,0)),"-") -> - | M121: =IFERROR(INDEX(貼_産出額整理表!$T$4:$T$17,MATCH(貼_産出額整理表!$A14,貼_産出額整理表!AB$4:AB$17,0)),"-") -> 釧路 | N121: =IFERROR(INDEX(貼_産出額整理表!$T$4:$T$17,MATCH(貼_産出額整理表!$A14,貼_産出額整理表!AC$4:AC$17,0)),"-") -> 日高 | O121: =IFERROR(INDEX(貼_産出額整理表!$T$4:$T$17,MATCH(貼_産出額整理表!$A14,貼_産出額整理表!AD$4:AD$17,0)),"-") -> 留萌 | P121: =IFERROR(INDEX(貼_産出額整理表!$T$4:$T$17,MATCH(貼_産出額整理表!$A14,貼_産出額整理表!AG$4:AG$17,0)),"-") -> 空知 | Q121: =IFERROR(INDEX(貼_産出額整理表!$T$4:$T$17,MATCH(貼_産出額整理表!$A14,貼_産出額整理表!AI$4:AI$17,0)),"-") -> 胆振 | R121: =IFERROR(INDEX(貼_産出額整理表!$T$4:$T$17,MATCH(貼_産出額整理表!$A14,貼_産出額整理表!AJ$4:AJ$17,0)),"-") -> 胆振 | S121: =IFERROR(INDEX(貼_産出額整理表!$T$4:$T$17,MATCH(貼_産出額整理表!$A14,貼_産出額整理表!AH$4:AH$17,0)),"-") -> 留萌
C122: 12 | D122: =IFERROR(INDEX(貼_産出額整理表!$T$4:$T$17,MATCH(貼_産出額整理表!$A15,貼_産出額整理表!U$4:U$17,0)),"-") -> 宗谷 | E122: =IFERROR(INDEX(貼_産出額整理表!$T$4:$T$17,MATCH(貼_産出額整理表!$A15,貼_産出額整理表!V$4:V$17,0)),"-") -> 釧路 | F122: =IFERROR(INDEX(貼_産出額整理表!$T$4:$T$17,MATCH(貼_産出額整理表!$A15,貼_産出額整理表!W$4:W$17,0)),"-") -> - | G122: =IFERROR(INDEX(貼_産出額整理表!$T$4:$T$17,MATCH(貼_産出額整理表!$A15,貼_産出額整理表!X$4:X$17,0)),"-") -> 日高 | H122: =IFERROR(INDEX(貼_産出額整理表!$T$4:$T$17,MATCH(貼_産出額整理表!$A15,貼_産出額整理表!Y$4:Y$17,0)),"-") -> 宗谷 | I122: =IFERROR(INDEX(貼_産出額整理表!$T$4:$T$17,MATCH(貼_産出額整理表!$A15,貼_産出額整理表!Z$4:Z$17,0)),"-") -> 釧路 | J122: =IFERROR(INDEX(貼_産出額整理表!$T$4:$T$17,MATCH(貼_産出額整理表!$A15,貼_産出額整理表!AA$4:AA$17,0)),"-") -> 日高 | K122: =IFERROR(INDEX(貼_産出額整理表!$T$4:$T$17,MATCH(貼_産出額整理表!$A15,貼_産出額整理表!AE$4:AE$17,0)),"-") -> 根室 | L122: =IFERROR(INDEX(貼_産出額整理表!$T$4:$T$17,MATCH(貼_産出額整理表!$A15,貼_産出額整理表!AF$4:AF$17,0)),"-") -> - | M122: =IFERROR(INDEX(貼_産出額整理表!$T$4:$T$17,MATCH(貼_産出額整理表!$A15,貼_産出額整理表!AB$4:AB$17,0)),"-") -> 留萌 | N122: =IFERROR(INDEX(貼_産出額整理表!$T$4:$T$17,MATCH(貼_産出額整理表!$A15,貼_産出額整理表!AC$4:AC$17,0)),"-") -> 釧路 | O122: =IFERROR(INDEX(貼_産出額整理表!$T$4:$T$17,MATCH(貼_産出額整理表!$A15,貼_産出額整理表!AD$4:AD$17,0)),"-") -> - | P122: =IFERROR(INDEX(貼_産出額整理表!$T$4:$T$17,MATCH(貼_産出額整理表!$A15,貼_産出額整理表!AG$4:AG$17,0)),"-") -> 留萌 | Q122: =IFERROR(INDEX(貼_産出額整理表!$T$4:$T$17,MATCH(貼_産出額整理表!$A15,貼_産出額整理表!AI$4:AI$17,0)),"-") -> 空知 | R122: =IFERROR(INDEX(貼_産出額整理表!$T$4:$T$17,MATCH(貼_産出額整理表!$A15,貼_産出額整理表!AJ$4:AJ$17,0)),"-") -> 空知 | S122: =IFERROR(INDEX(貼_産出額整理表!$T$4:$T$17,MATCH(貼_産出額整理表!$A15,貼_産出額整理表!AH$4:AH$17,0)),"-") -> 檜山
C123: 13 | D123: =IFERROR(INDEX(貼_産出額整理表!$T$4:$T$17,MATCH(貼_産出額整理表!$A16,貼_産出額整理表!U$4:U$17,0)),"-") -> 留萌 | E123: =IFERROR(INDEX(貼_産出額整理表!$T$4:$T$17,MATCH(貼_産出額整理表!$A16,貼_産出額整理表!V$4:V$17,0)),"-") -> 根室 | F123: =IFERROR(INDEX(貼_産出額整理表!$T$4:$T$17,MATCH(貼_産出額整理表!$A16,貼_産出額整理表!W$4:W$17,0)),"-") -> - | G123: =IFERROR(INDEX(貼_産出額整理表!$T$4:$T$17,MATCH(貼_産出額整理表!$A16,貼_産出額整理表!X$4:X$17,0)),"-") -> 根室 | H123: =IFERROR(INDEX(貼_産出額整理表!$T$4:$T$17,MATCH(貼_産出額整理表!$A16,貼_産出額整理表!Y$4:Y$17,0)),"-") -> 胆振 | I123: =IFERROR(INDEX(貼_産出額整理表!$T$4:$T$17,MATCH(貼_産出額整理表!$A16,貼_産出額整理表!Z$4:Z$17,0)),"-") -> - | J123: =IFERROR(INDEX(貼_産出額整理表!$T$4:$T$17,MATCH(貼_産出額整理表!$A16,貼_産出額整理表!AA$4:AA$17,0)),"-") -> 留萌 | K123: =IFERROR(INDEX(貼_産出額整理表!$T$4:$T$17,MATCH(貼_産出額整理表!$A16,貼_産出額整理表!AE$4:AE$17,0)),"-") -> 日高 | L123: =IFERROR(INDEX(貼_産出額整理表!$T$4:$T$17,MATCH(貼_産出額整理表!$A16,貼_産出額整理表!AF$4:AF$17,0)),"-") -> - | M123: =IFERROR(INDEX(貼_産出額整理表!$T$4:$T$17,MATCH(貼_産出額整理表!$A16,貼_産出額整理表!AB$4:AB$17,0)),"-") -> 根室 | N123: =IFERROR(INDEX(貼_産出額整理表!$T$4:$T$17,MATCH(貼_産出額整理表!$A16,貼_産出額整理表!AC$4:AC$17,0)),"-") -> - | O123: =IFERROR(INDEX(貼_産出額整理表!$T$4:$T$17,MATCH(貼_産出額整理表!$A16,貼_産出額整理表!AD$4:AD$17,0)),"-") -> - | P123: =IFERROR(INDEX(貼_産出額整理表!$T$4:$T$17,MATCH(貼_産出額整理表!$A16,貼_産出額整理表!AG$4:AG$17,0)),"-") -> 後志 | Q123: =IFERROR(INDEX(貼_産出額整理表!$T$4:$T$17,MATCH(貼_産出額整理表!$A16,貼_産出額整理表!AI$4:AI$17,0)),"-") -> 檜山 | R123: =IFERROR(INDEX(貼_産出額整理表!$T$4:$T$17,MATCH(貼_産出額整理表!$A16,貼_産出額整理表!AJ$4:AJ$17,0)),"-") -> 檜山 | S123: =IFERROR(INDEX(貼_産出額整理表!$T$4:$T$17,MATCH(貼_産出額整理表!$A16,貼_産出額整理表!AH$4:AH$17,0)),"-") -> 石狩
C124: 14 | D124: =IFERROR(INDEX(貼_産出額整理表!$T$4:$T$17,MATCH(貼_産出額整理表!$A17,貼_産出額整理表!U$4:U$17,0)),"-") -> 檜山 | E124: =IFERROR(INDEX(貼_産出額整理表!$T$4:$T$17,MATCH(貼_産出額整理表!$A17,貼_産出額整理表!V$4:V$17,0)),"-") -> 宗谷 | F124: =IFERROR(INDEX(貼_産出額整理表!$T$4:$T$17,MATCH(貼_産出額整理表!$A17,貼_産出額整理表!W$4:W$17,0)),"-") -> - | G124: =IFERROR(INDEX(貼_産出額整理表!$T$4:$T$17,MATCH(貼_産出額整理表!$A17,貼_産出額整理表!X$4:X$17,0)),"-") -> - | H124: =IFERROR(INDEX(貼_産出額整理表!$T$4:$T$17,MATCH(貼_産出額整理表!$A17,貼_産出額整理表!Y$4:Y$17,0)),"-") -> - | I124: =IFERROR(INDEX(貼_産出額整理表!$T$4:$T$17,MATCH(貼_産出額整理表!$A17,貼_産出額整理表!Z$4:Z$17,0)),"-") -> - | J124: =IFERROR(INDEX(貼_産出額整理表!$T$4:$T$17,MATCH(貼_産出額整理表!$A17,貼_産出額整理表!AA$4:AA$17,0)),"-") -> 宗谷 | K124: =IFERROR(INDEX(貼_産出額整理表!$T$4:$T$17,MATCH(貼_産出額整理表!$A17,貼_産出額整理表!AE$4:AE$17,0)),"-") -> - | L124: =IFERROR(INDEX(貼_産出額整理表!$T$4:$T$17,MATCH(貼_産出額整理表!$A17,貼_産出額整理表!AF$4:AF$17,0)),"-") -> - | M124: =IFERROR(INDEX(貼_産出額整理表!$T$4:$T$17,MATCH(貼_産出額整理表!$A17,貼_産出額整理表!AB$4:AB$17,0)),"-") -> 宗谷 | N124: =IFERROR(INDEX(貼_産出額整理表!$T$4:$T$17,MATCH(貼_産出額整理表!$A17,貼_産出額整理表!AC$4:AC$17,0)),"-") -> - | O124: =IFERROR(INDEX(貼_産出額整理表!$T$4:$T$17,MATCH(貼_産出額整理表!$A17,貼_産出額整理表!AD$4:AD$17,0)),"-") -> - | P124: =IFERROR(INDEX(貼_産出額整理表!$T$4:$T$17,MATCH(貼_産出額整理表!$A17,貼_産出額整理表!AG$4:AG$17,0)),"-") -> 檜山 | Q124: =IFERROR(INDEX(貼_産出額整理表!$T$4:$T$17,MATCH(貼_産出額整理表!$A17,貼_産出額整理表!AI$4:AI$17,0)),"-") -> 後志 | R124: =IFERROR(INDEX(貼_産出額整理表!$T$4:$T$17,MATCH(貼_産出額整理表!$A17,貼_産出額整理表!AJ$4:AJ$17,0)),"-") -> 後志 | S124: =IFERROR(INDEX(貼_産出額整理表!$T$4:$T$17,MATCH(貼_産出額整理表!$A17,貼_産出額整理表!AH$4:AH$17,0)),"-") -> 後志
C125: データ（全道） | D125: ='貼_部門別・億円単・全国（e-Stat）'!$C15 -> 12919 | E125: ='貼_部門別・億円単・全国（e-Stat）'!$E15 -> 5384 | F125: ='貼_部門別・億円単・全国（e-Stat）'!$G15 -> 1067 | G125: ='(要確認)詳細品目・全国データ計算用シート'!AA13 -> 414 | H125: ='(要確認)詳細品目・全国データ計算用シート'!AM13 -> 36 | I125: ='(要確認)詳細品目・全国データ計算用シート'!AI13 -> 182 | J125: ='(要確認)詳細品目・全国データ計算用シート'!W13 -> 543 | K125: ='(要確認)詳細品目・全国データ計算用シート'!AE13 -> 448 | L125: ='貼_主要農産物の産出額と構成比（なたね含）'!C12 -> 3 | M125: ='貼_部門別・億円単・全国（e-Stat）'!$Q15 -> 2228 | N125: ='貼_部門別・億円単・全国（e-Stat）'!$S15 -> 83 | O125: ='貼_部門別・億円単・全国（e-Stat）'!$U15 -> 126 | P125: ='貼_部門別・億円単・全国（e-Stat）'!$AC15 -> 7535 | Q125: ='貼_部門別・億円単・全国（e-Stat）'!$AG15 -> 4660 | R125: ='貼_部門別・億円単・全国（e-Stat）'!$AI15 -> 4109 | S125: ='貼_部門別・億円単・全国（e-Stat）'!AE15 -> 1203
C126: 1 | D126: =IFERROR(LARGE(貼_産出額整理表!C$4:C$17,$C126),NA()) -> 3080 | E126: =IFERROR(LARGE(貼_産出額整理表!D$4:D$17,$C126),NA()) -> 1134 | F126: =IFERROR(LARGE(貼_産出額整理表!E$4:E$17,$C126),NA()) -> 457 | G126: =IFERROR(LARGE(貼_産出額整理表!F$4:F$17,$C126),NA()) -> 145 | H126: =IFERROR(LARGE(貼_産出額整理表!G$4:G$17,$C126),NA()) -> 17 | I126: =IFERROR(LARGE(貼_産出額整理表!H$4:H$17,$C126),NA()) -> 49 | J126: =IFERROR(LARGE(貼_産出額整理表!I$4:I$17,$C126),NA()) -> 230 | K126: =IFERROR(LARGE(貼_産出額整理表!M$4:M$17,$C126),NA()) -> 199 | L126: =IFERROR(LARGE(貼_産出額整理表!N$4:N$17,$C126),NA()) -> 2 | M126: =IFERROR(LARGE(貼_産出額整理表!J$4:J$17,$C126),NA()) -> 529 | N126: =IFERROR(LARGE(貼_産出額整理表!K$4:K$17,$C126),NA()) -> 46 | O126: =IFERROR(LARGE(貼_産出額整理表!L$4:L$17,$C126),NA()) -> 55 | P126: =IFERROR(LARGE(貼_産出額整理表!O$4:O$17,$C126),NA()) -> 1946 | Q126: =IFERROR(LARGE(貼_産出額整理表!Q$4:Q$17,$C126),NA()) -> 1326 | R126: =IFERROR(LARGE(貼_産出額整理表!R$4:R$17,$C126),NA()) -> 1162 | S126: =IFERROR(LARGE(貼_産出額整理表!P$4:P$17,$C126),NA()) -> 503
C127: 2 | D127: =IFERROR(LARGE(貼_産出額整理表!C$4:C$17,$C127),NA()) -> 2056 | E127: =IFERROR(LARGE(貼_産出額整理表!D$4:D$17,$C127),NA()) -> 1103 | F127: =IFERROR(LARGE(貼_産出額整理表!E$4:E$17,$C127),NA()) -> 330 | G127: =IFERROR(LARGE(貼_産出額整理表!F$4:F$17,$C127),NA()) -> 110 | H127: =IFERROR(LARGE(貼_産出額整理表!G$4:G$17,$C127),NA()) -> 9 | I127: =IFERROR(LARGE(貼_産出額整理表!H$4:H$17,$C127),NA()) -> 45 | J127: =IFERROR(LARGE(貼_産出額整理表!I$4:I$17,$C127),NA()) -> 204 | K127: =IFERROR(LARGE(貼_産出額整理表!M$4:M$17,$C127),NA()) -> 181 | L127: =IFERROR(LARGE(貼_産出額整理表!N$4:N$17,$C127),NA()) -> 1 | M127: =IFERROR(LARGE(貼_産出額整理表!J$4:J$17,$C127),NA()) -> 408 | N127: =IFERROR(LARGE(貼_産出額整理表!K$4:K$17,$C127),NA()) -> 12 | O127: =IFERROR(LARGE(貼_産出額整理表!L$4:L$17,$C127),NA()) -> 21 | P127: =IFERROR(LARGE(貼_産出額整理表!O$4:O$17,$C127),NA()) -> 1064 | Q127: =IFERROR(LARGE(貼_産出額整理表!Q$4:Q$17,$C127),NA()) -> 1010 | R127: =IFERROR(LARGE(貼_産出額整理表!R$4:R$17,$C127),NA()) -> 889 | S127: =IFERROR(LARGE(貼_産出額整理表!P$4:P$17,$C127),NA()) -> 166
C128: 3 | D128: =IFERROR(LARGE(貼_産出額整理表!C$4:C$17,$C128),NA()) -> 1284 | E128: =IFERROR(LARGE(貼_産出額整理表!D$4:D$17,$C128),NA()) -> 928 | F128: =IFERROR(LARGE(貼_産出額整理表!E$4:E$17,$C128),NA()) -> 73 | G128: =IFERROR(LARGE(貼_産出額整理表!F$4:F$17,$C128),NA()) -> 64 | H128: =IFERROR(LARGE(貼_産出額整理表!G$4:G$17,$C128),NA()) -> 4 | I128: =IFERROR(LARGE(貼_産出額整理表!H$4:H$17,$C128),NA()) -> 36 | J128: =IFERROR(LARGE(貼_産出額整理表!I$4:I$17,$C128),NA()) -> 40 | K128: =IFERROR(LARGE(貼_産出額整理表!M$4:M$17,$C128),NA()) -> 30 | L128: =IFERROR(LARGE(貼_産出額整理表!N$4:N$17,$C128),NA()) -> 0 | M128: =IFERROR(LARGE(貼_産出額整理表!J$4:J$17,$C128),NA()) -> 379 | N128: =IFERROR(LARGE(貼_産出額整理表!K$4:K$17,$C128),NA()) -> 5 | O128: =IFERROR(LARGE(貼_産出額整理表!L$4:L$17,$C128),NA()) -> 9 | P128: =IFERROR(LARGE(貼_産出額整理表!O$4:O$17,$C128),NA()) -> 953 | Q128: =IFERROR(LARGE(貼_産出額整理表!Q$4:Q$17,$C128),NA()) -> 705 | R128: =IFERROR(LARGE(貼_産出額整理表!R$4:R$17,$C128),NA()) -> 626 | S128: =IFERROR(LARGE(貼_産出額整理表!P$4:P$17,$C128),NA()) -> 98
C129: 4 | D129: =IFERROR(LARGE(貼_産出額整理表!C$4:C$17,$C129),NA()) -> 1082 | E129: =IFERROR(LARGE(貼_産出額整理表!D$4:D$17,$C129),NA()) -> 925 | F129: =IFERROR(LARGE(貼_産出額整理表!E$4:E$17,$C129),NA()) -> 45 | G129: =IFERROR(LARGE(貼_産出額整理表!F$4:F$17,$C129),NA()) -> 45 | H129: =IFERROR(LARGE(貼_産出額整理表!G$4:G$17,$C129),NA()) -> 2 | I129: =IFERROR(LARGE(貼_産出額整理表!H$4:H$17,$C129),NA()) -> 15 | J129: =IFERROR(LARGE(貼_産出額整理表!I$4:I$17,$C129),NA()) -> 26 | K129: =IFERROR(LARGE(貼_産出額整理表!M$4:M$17,$C129),NA()) -> 9 | L129: =IFERROR(LARGE(貼_産出額整理表!N$4:N$17,$C129),NA()) -> 0 | M129: =IFERROR(LARGE(貼_産出額整理表!J$4:J$17,$C129),NA()) -> 263 | N129: =IFERROR(LARGE(貼_産出額整理表!K$4:K$17,$C129),NA()) -> 5 | O129: =IFERROR(LARGE(貼_産出額整理表!L$4:L$17,$C129),NA()) -> 8 | P129: =IFERROR(LARGE(貼_産出額整理表!O$4:O$17,$C129),NA()) -> 840 | Q129: =IFERROR(LARGE(貼_産出額整理表!Q$4:Q$17,$C129),NA()) -> 630 | R129: =IFERROR(LARGE(貼_産出額整理表!R$4:R$17,$C129),NA()) -> 556 | S129: =IFERROR(LARGE(貼_産出額整理表!P$4:P$17,$C129),NA()) -> 89
C130: 5 | D130: =IFERROR(LARGE(貼_産出額整理表!C$4:C$17,$C130),NA()) -> 1043 | E130: =IFERROR(LARGE(貼_産出額整理表!D$4:D$17,$C130),NA()) -> 346 | F130: =IFERROR(LARGE(貼_産出額整理表!E$4:E$17,$C130),NA()) -> 43 | G130: =IFERROR(LARGE(貼_産出額整理表!F$4:F$17,$C130),NA()) -> 29 | H130: =IFERROR(LARGE(貼_産出額整理表!G$4:G$17,$C130),NA()) -> 1 | I130: =IFERROR(LARGE(貼_産出額整理表!H$4:H$17,$C130),NA()) -> 14 | J130: =IFERROR(LARGE(貼_産出額整理表!I$4:I$17,$C130),NA()) -> 9 | K130: =IFERROR(LARGE(貼_産出額整理表!M$4:M$17,$C130),NA()) -> 9 | L130: =IFERROR(LARGE(貼_産出額整理表!N$4:N$17,$C130),NA()) -> 0 | M130: =IFERROR(LARGE(貼_産出額整理表!J$4:J$17,$C130),NA()) -> 168 | N130: =IFERROR(LARGE(貼_産出額整理表!K$4:K$17,$C130),NA()) -> 4 | O130: =IFERROR(LARGE(貼_産出額整理表!L$4:L$17,$C130),NA()) -> 7 | P130: =IFERROR(LARGE(貼_産出額整理表!O$4:O$17,$C130),NA()) -> 659 | Q130: =IFERROR(LARGE(貼_産出額整理表!Q$4:Q$17,$C130),NA()) -> 379 | R130: =IFERROR(LARGE(貼_産出額整理表!R$4:R$17,$C130),NA()) -> 339 | S130: =IFERROR(LARGE(貼_産出額整理表!P$4:P$17,$C130),NA()) -> 86
C131: 6 | D131: =IFERROR(LARGE(貼_産出額整理表!C$4:C$17,$C131),NA()) -> 869 | E131: =IFERROR(LARGE(貼_産出額整理表!D$4:D$17,$C131),NA()) -> 293 | F131: =IFERROR(LARGE(貼_産出額整理表!E$4:E$17,$C131),NA()) -> 36 | G131: =IFERROR(LARGE(貼_産出額整理表!F$4:F$17,$C131),NA()) -> 6 | H131: =IFERROR(LARGE(貼_産出額整理表!G$4:G$17,$C131),NA()) -> 1 | I131: =IFERROR(LARGE(貼_産出額整理表!H$4:H$17,$C131),NA()) -> 7 | J131: =IFERROR(LARGE(貼_産出額整理表!I$4:I$17,$C131),NA()) -> 8 | K131: =IFERROR(LARGE(貼_産出額整理表!M$4:M$17,$C131),NA()) -> 8 | L131: =IFERROR(LARGE(貼_産出額整理表!N$4:N$17,$C131),NA()) -> #N/A | M131: =IFERROR(LARGE(貼_産出額整理表!J$4:J$17,$C131),NA()) -> 128 | N131: =IFERROR(LARGE(貼_産出額整理表!K$4:K$17,$C131),NA()) -> 3 | O131: =IFERROR(LARGE(貼_産出額整理表!L$4:L$17,$C131),NA()) -> 7 | P131: =IFERROR(LARGE(貼_産出額整理表!O$4:O$17,$C131),NA()) -> 449 | Q131: =IFERROR(LARGE(貼_産出額整理表!Q$4:Q$17,$C131),NA()) -> 183 | R131: =IFERROR(LARGE(貼_産出額整理表!R$4:R$17,$C131),NA()) -> 162 | S131: =IFERROR(LARGE(貼_産出額整理表!P$4:P$17,$C131),NA()) -> 59
C132: 7 | D132: =IFERROR(LARGE(貼_産出額整理表!C$4:C$17,$C132),NA()) -> 730 | E132: =IFERROR(LARGE(貼_産出額整理表!D$4:D$17,$C132),NA()) -> 205 | F132: =IFERROR(LARGE(貼_産出額整理表!E$4:E$17,$C132),NA()) -> 34 | G132: =IFERROR(LARGE(貼_産出額整理表!F$4:F$17,$C132),NA()) -> 5 | H132: =IFERROR(LARGE(貼_産出額整理表!G$4:G$17,$C132),NA()) -> 1 | I132: =IFERROR(LARGE(貼_産出額整理表!H$4:H$17,$C132),NA()) -> 7 | J132: =IFERROR(LARGE(貼_産出額整理表!I$4:I$17,$C132),NA()) -> 7 | K132: =IFERROR(LARGE(貼_産出額整理表!M$4:M$17,$C132),NA()) -> 6 | L132: =IFERROR(LARGE(貼_産出額整理表!N$4:N$17,$C132),NA()) -> #N/A | M132: =IFERROR(LARGE(貼_産出額整理表!J$4:J$17,$C132),NA()) -> 123 | N132: =IFERROR(LARGE(貼_産出額整理表!K$4:K$17,$C132),NA()) -> 2 | O132: =IFERROR(LARGE(貼_産出額整理表!L$4:L$17,$C132),NA()) -> 6 | P132: =IFERROR(LARGE(貼_産出額整理表!O$4:O$17,$C132),NA()) -> 420 | Q132: =IFERROR(LARGE(貼_産出額整理表!Q$4:Q$17,$C132),NA()) -> 86 | R132: =IFERROR(LARGE(貼_産出額整理表!R$4:R$17,$C132),NA()) -> 76 | S132: =IFERROR(LARGE(貼_産出額整理表!P$4:P$17,$C132),NA()) -> 49
C133: 8 | D133: =IFERROR(LARGE(貼_産出額整理表!C$4:C$17,$C133),NA()) -> 653 | E133: =IFERROR(LARGE(貼_産出額整理表!D$4:D$17,$C133),NA()) -> 161 | F133: =IFERROR(LARGE(貼_産出額整理表!E$4:E$17,$C133),NA()) -> 28 | G133: =IFERROR(LARGE(貼_産出額整理表!F$4:F$17,$C133),NA()) -> 4 | H133: =IFERROR(LARGE(貼_産出額整理表!G$4:G$17,$C133),NA()) -> 1 | I133: =IFERROR(LARGE(貼_産出額整理表!H$4:H$17,$C133),NA()) -> 5 | J133: =IFERROR(LARGE(貼_産出額整理表!I$4:I$17,$C133),NA()) -> 5 | K133: =IFERROR(LARGE(貼_産出額整理表!M$4:M$17,$C133),NA()) -> 2 | L133: =IFERROR(LARGE(貼_産出額整理表!N$4:N$17,$C133),NA()) -> #N/A | M133: =IFERROR(LARGE(貼_産出額整理表!J$4:J$17,$C133),NA()) -> 113 | N133: =IFERROR(LARGE(貼_産出額整理表!K$4:K$17,$C133),NA()) -> 2 | O133: =IFERROR(LARGE(貼_産出額整理表!L$4:L$17,$C133),NA()) -> 5 | P133: =IFERROR(LARGE(貼_産出額整理表!O$4:O$17,$C133),NA()) -> 359 | Q133: =IFERROR(LARGE(貼_産出額整理表!Q$4:Q$17,$C133),NA()) -> 78 | R133: =IFERROR(LARGE(貼_産出額整理表!R$4:R$17,$C133),NA()) -> 69 | S133: =IFERROR(LARGE(貼_産出額整理表!P$4:P$17,$C133),NA()) -> 39
C134: 9 | D134: =IFERROR(LARGE(貼_産出額整理表!C$4:C$17,$C134),NA()) -> 507 | E134: =IFERROR(LARGE(貼_産出額整理表!D$4:D$17,$C134),NA()) -> 88 | F134: =IFERROR(LARGE(貼_産出額整理表!E$4:E$17,$C134),NA()) -> 12 | G134: =IFERROR(LARGE(貼_産出額整理表!F$4:F$17,$C134),NA()) -> 2 | H134: =IFERROR(LARGE(貼_産出額整理表!G$4:G$17,$C134),NA()) -> 1 | I134: =IFERROR(LARGE(貼_産出額整理表!H$4:H$17,$C134),NA()) -> 3 | J134: =IFERROR(LARGE(貼_産出額整理表!I$4:I$17,$C134),NA()) -> 4 | K134: =IFERROR(LARGE(貼_産出額整理表!M$4:M$17,$C134),NA()) -> 2 | L134: =IFERROR(LARGE(貼_産出額整理表!N$4:N$17,$C134),NA()) -> #N/A | M134: =IFERROR(LARGE(貼_産出額整理表!J$4:J$17,$C134),NA()) -> 52 | N134: =IFERROR(LARGE(貼_産出額整理表!K$4:K$17,$C134),NA()) -> 2 | O134: =IFERROR(LARGE(貼_産出額整理表!L$4:L$17,$C134),NA()) -> 4 | P134: =IFERROR(LARGE(貼_産出額整理表!O$4:O$17,$C134),NA()) -> 273 | Q134: =IFERROR(LARGE(貼_産出額整理表!Q$4:Q$17,$C134),NA()) -> 77 | R134: =IFERROR(LARGE(貼_産出額整理表!R$4:R$17,$C134),NA()) -> 66 | S134: =IFERROR(LARGE(貼_産出額整理表!P$4:P$17,$C134),NA()) -> 33
C135: 10 | D135: =IFERROR(LARGE(貼_産出額整理表!C$4:C$17,$C135),NA()) -> 440 | E135: =IFERROR(LARGE(貼_産出額整理表!D$4:D$17,$C135),NA()) -> 72 | F135: =IFERROR(LARGE(貼_産出額整理表!E$4:E$17,$C135),NA()) -> 10 | G135: =IFERROR(LARGE(貼_産出額整理表!F$4:F$17,$C135),NA()) -> 1 | H135: =IFERROR(LARGE(貼_産出額整理表!G$4:G$17,$C135),NA()) -> 0 | I135: =IFERROR(LARGE(貼_産出額整理表!H$4:H$17,$C135),NA()) -> 2 | J135: =IFERROR(LARGE(貼_産出額整理表!I$4:I$17,$C135),NA()) -> 4 | K135: =IFERROR(LARGE(貼_産出額整理表!M$4:M$17,$C135),NA()) -> 2 | L135: =IFERROR(LARGE(貼_産出額整理表!N$4:N$17,$C135),NA()) -> #N/A | M135: =IFERROR(LARGE(貼_産出額整理表!J$4:J$17,$C135),NA()) -> 27 | N135: =IFERROR(LARGE(貼_産出額整理表!K$4:K$17,$C135),NA()) -> 1 | O135: =IFERROR(LARGE(貼_産出額整理表!L$4:L$17,$C135),NA()) -> 1 | P135: =IFERROR(LARGE(貼_産出額整理表!O$4:O$17,$C135),NA()) -> 214 | Q135: =IFERROR(LARGE(貼_産出額整理表!Q$4:Q$17,$C135),NA()) -> 54 | R135: =IFERROR(LARGE(貼_産出額整理表!R$4:R$17,$C135),NA()) -> 49 | S135: =IFERROR(LARGE(貼_産出額整理表!P$4:P$17,$C135),NA()) -> 31
C136: 11 | D136: =IFERROR(LARGE(貼_産出額整理表!C$4:C$17,$C136),NA()) -> 434 | E136: =IFERROR(LARGE(貼_産出額整理表!D$4:D$17,$C136),NA()) -> 71 | F136: =IFERROR(LARGE(貼_産出額整理表!E$4:E$17,$C136),NA()) -> 0 | G136: =IFERROR(LARGE(貼_産出額整理表!F$4:F$17,$C136),NA()) -> 1 | H136: =IFERROR(LARGE(貼_産出額整理表!G$4:G$17,$C136),NA()) -> 0 | I136: =IFERROR(LARGE(貼_産出額整理表!H$4:H$17,$C136),NA()) -> 0 | J136: =IFERROR(LARGE(貼_産出額整理表!I$4:I$17,$C136),NA()) -> 4 | K136: =IFERROR(LARGE(貼_産出額整理表!M$4:M$17,$C136),NA()) -> 1 | L136: =IFERROR(LARGE(貼_産出額整理表!N$4:N$17,$C136),NA()) -> #N/A | M136: =IFERROR(LARGE(貼_産出額整理表!J$4:J$17,$C136),NA()) -> 18 | N136: =IFERROR(LARGE(貼_産出額整理表!K$4:K$17,$C136),NA()) -> 0 | O136: =IFERROR(LARGE(貼_産出額整理表!L$4:L$17,$C136),NA()) -> 0 | P136: =IFERROR(LARGE(貼_産出額整理表!O$4:O$17,$C136),NA()) -> 115 | Q136: =IFERROR(LARGE(貼_産出額整理表!Q$4:Q$17,$C136),NA()) -> 48 | R136: =IFERROR(LARGE(貼_産出額整理表!R$4:R$17,$C136),NA()) -> 42 | S136: =IFERROR(LARGE(貼_産出額整理表!P$4:P$17,$C136),NA()) -> 22
C137: 12 | D137: =IFERROR(LARGE(貼_産出額整理表!C$4:C$17,$C137),NA()) -> 432 | E137: =IFERROR(LARGE(貼_産出額整理表!D$4:D$17,$C137),NA()) -> 29 | F137: =IFERROR(LARGE(貼_産出額整理表!E$4:E$17,$C137),NA()) -> #N/A | G137: =IFERROR(LARGE(貼_産出額整理表!F$4:F$17,$C137),NA()) -> 0 | H137: =IFERROR(LARGE(貼_産出額整理表!G$4:G$17,$C137),NA()) -> 0 | I137: =IFERROR(LARGE(貼_産出額整理表!H$4:H$17,$C137),NA()) -> 0 | J137: =IFERROR(LARGE(貼_産出額整理表!I$4:I$17,$C137),NA()) -> 1 | K137: =IFERROR(LARGE(貼_産出額整理表!M$4:M$17,$C137),NA()) -> 1 | L137: =IFERROR(LARGE(貼_産出額整理表!N$4:N$17,$C137),NA()) -> #N/A | M137: =IFERROR(LARGE(貼_産出額整理表!J$4:J$17,$C137),NA()) -> 11 | N137: =IFERROR(LARGE(貼_産出額整理表!K$4:K$17,$C137),NA()) -> 0 | O137: =IFERROR(LARGE(貼_産出額整理表!L$4:L$17,$C137),NA()) -> #N/A | P137: =IFERROR(LARGE(貼_産出額整理表!O$4:O$17,$C137),NA()) -> 101 | Q137: =IFERROR(LARGE(貼_産出額整理表!Q$4:Q$17,$C137),NA()) -> 29 | R137: =IFERROR(LARGE(貼_産出額整理表!R$4:R$17,$C137),NA()) -> 26 | S137: =IFERROR(LARGE(貼_産出額整理表!P$4:P$17,$C137),NA()) -> 14
... C139: 14 | D139: =IFERROR(LARGE(貼_産出額整理表!C$4:C$17,$C139),NA()) -> 134 | E139: =IFERROR(LARGE(貼_産出額整理表!D$4:D$17,$C139),NA()) -> 12 | F139: =IFERROR(LARGE(貼_産出額整理表!E$4:E$17,$C139),NA()) -> #N/A | G139: =IFERROR(LARGE(貼_産出額整理表!F$4:F$17,$C139),NA()) -> #N/A | H139: =IFERROR(LARGE(貼_産出額整理表!G$4:G$17,$C139),NA()) -> #N/A | I139: =IFERROR(LARGE(貼_産出額整理表!H$4:H$17,$C139),NA()) -> #N/A | J139: =IFERROR(LARGE(貼_産出額整理表!I$4:I$17,$C139),NA()) -> 0 | K139: =IFERROR(LARGE(貼_産出額整理表!M$4:M$17,$C139),NA()) -> #N/A | L139: =IFERROR(LARGE(貼_産出額整理表!N$4:N$17,$C139),NA()) -> #N/A | M139: =IFERROR(LARGE(貼_産出額整理表!J$4:J$17,$C139),NA()) -> 1 | N139: =IFERROR(LARGE(貼_産出額整理表!K$4:K$17,$C139),NA()) -> #N/A | O139: =IFERROR(LARGE(貼_産出額整理表!L$4:L$17,$C139),NA()) -> #N/A | P139: =IFERROR(LARGE(貼_産出額整理表!O$4:O$17,$C139),NA()) -> 46 | Q139: =IFERROR(LARGE(貼_産出額整理表!Q$4:Q$17,$C139),NA()) -> 26 | R139: =IFERROR(LARGE(貼_産出額整理表!R$4:R$17,$C139),NA()) -> 23 | S139: =IFERROR(LARGE(貼_産出額整理表!P$4:P$17,$C139),NA()) -> 6
B140: 市町村ランキング | C140: 市町村名 1 | D140: =IFERROR(_xlfn.XLOOKUP($C140,貼_産出額整理表!$B$21:$B$199,貼_産出額整理表!C$21:C$199,0),"-") -> 別海町 | E140: =IFERROR(_xlfn.XLOOKUP($C140,貼_産出額整理表!$B$21:$B$199,貼_産出額整理表!D$21:D$199,0),"-") -> 北見市 | F140: =IFERROR(_xlfn.XLOOKUP($C140,貼_産出額整理表!$B$21:$B$199,貼_産出額整理表!E$21:E$199,0),"-") -> 旭川市 | G140: =IFERROR(_xlfn.XLOOKUP($C140,貼_産出額整理表!$B$21:$B$199,貼_産出額整理表!F$21:F$199,0),"-") -> 音更町 | H140: =IFERROR(_xlfn.XLOOKUP($C140,貼_産出額整理表!$B$21:$B$199,貼_産出額整理表!G$21:G$199,0),"-") -> 幌加内町 | I140: =IFERROR(_xlfn.XLOOKUP($C140,貼_産出額整理表!$B$21:$B$199,貼_産出額整理表!H$21:H$199,0),"-") -> 音更町 | J140: =IFERROR(_xlfn.XLOOKUP($C140,貼_産出額整理表!$B$21:$B$199,貼_産出額整理表!I$21:I$199,0),"-") -> 芽室町 | K140: =IFERROR(_xlfn.XLOOKUP($C140,貼_産出額整理表!$B$21:$B$199,貼_産出額整理表!M$21:M$199,0),"-") -> 網走市 | L140: =IFERROR(_xlfn.XLOOKUP($C140,貼_産出額整理表!$B$21:$B$199,貼_産出額整理表!N$21:N$199,0),"-") -> 岩見沢市 | M140: =IFERROR(_xlfn.XLOOKUP($C140,貼_産出額整理表!$B$21:$B$199,貼_産出額整理表!J$21:J$199,0),"-") -> 北見市 | N140: =IFERROR(_xlfn.XLOOKUP($C140,貼_産出額整理表!$B$21:$B$199,貼_産出額整理表!K$21:K$199,0),"-") -> 余市町 | O140: =IFERROR(_xlfn.XLOOKUP($C140,貼_産出額整理表!$B$21:$B$199,貼_産出額整理表!L$21:L$199,0),"-") -> 月形町 | P140: =IFERROR(_xlfn.XLOOKUP($C140,貼_産出額整理表!$B$21:$B$199,貼_産出額整理表!O$21:O$199,0),"-") -> 別海町 | Q140: =IFERROR(_xlfn.XLOOKUP($C140,貼_産出額整理表!$B$21:$B$199,貼_産出額整理表!Q$21:Q$199,0),"-") -> 別海町 | R140: =IFERROR(_xlfn.XLOOKUP($C140,貼_産出額整理表!$B$21:$B$199,貼_産出額整理表!R$21:R$199,0),"-") -> 別海町 | S140: =IFERROR(_xlfn.XLOOKUP($C140,貼_産出額整理表!$B$21:$B$199,貼_産出額整理表!P$21:P$199,0),"-") -> 士幌町
C141: 2 | D141: =IFERROR(_xlfn.XLOOKUP($C141,貼_産出額整理表!$B$21:$B$199,貼_産出額整理表!C$21:C$199,0),"-") -> 北見市 | E141: =IFERROR(_xlfn.XLOOKUP($C141,貼_産出額整理表!$B$21:$B$199,貼_産出額整理表!D$21:D$199,0),"-") -> 帯広市 | F141: =IFERROR(_xlfn.XLOOKUP($C141,貼_産出額整理表!$B$21:$B$199,貼_産出額整理表!E$21:E$199,0),"-") -> 深川市 | G141: =IFERROR(_xlfn.XLOOKUP($C141,貼_産出額整理表!$B$21:$B$199,貼_産出額整理表!F$21:F$199,0),"-") -> 芽室町 | H141: =IFERROR(_xlfn.XLOOKUP($C141,貼_産出額整理表!$B$21:$B$199,貼_産出額整理表!G$21:G$199,0),"-") -> 深川市 | I141: =IFERROR(_xlfn.XLOOKUP($C141,貼_産出額整理表!$B$21:$B$199,貼_産出額整理表!H$21:H$199,0),"-") -> 岩見沢市 | J141: =IFERROR(_xlfn.XLOOKUP($C141,貼_産出額整理表!$B$21:$B$199,貼_産出額整理表!I$21:I$199,0),"-") -> 網走市 | K141: =IFERROR(_xlfn.XLOOKUP($C141,貼_産出額整理表!$B$21:$B$199,貼_産出額整理表!M$21:M$199,0),"-") -> 北見市 | L141: =IFERROR(_xlfn.XLOOKUP($C141,貼_産出額整理表!$B$21:$B$199,貼_産出額整理表!N$21:N$199,0),"-") -> 美唄市 | M141: =IFERROR(_xlfn.XLOOKUP($C141,貼_産出額整理表!$B$21:$B$199,貼_産出額整理表!J$21:J$199,0),"-") -> 富良野市 | N141: =IFERROR(_xlfn.XLOOKUP($C141,貼_産出額整理表!$B$21:$B$199,貼_産出額整理表!K$21:K$199,0),"-") -> 仁木町 | O141: =IFERROR(_xlfn.XLOOKUP($C141,貼_産出額整理表!$B$21:$B$199,貼_産出額整理表!L$21:L$199,0),"-") -> 岩見沢市 | P141: =IFERROR(_xlfn.XLOOKUP($C141,貼_産出額整理表!$B$21:$B$199,貼_産出額整理表!O$21:O$199,0),"-") -> 標茶町 | Q141: =IFERROR(_xlfn.XLOOKUP($C141,貼_産出額整理表!$B$21:$B$199,貼_産出額整理表!Q$21:Q$199,0),"-") -> 中標津町 | R141: =IFERROR(_xlfn.XLOOKUP($C141,貼_産出額整理表!$B$21:$B$199,貼_産出額整理表!R$21:R$199,0),"-") -> 中標津町 | S141: =IFERROR(_xlfn.XLOOKUP($C141,貼_産出額整理表!$B$21:$B$199,貼_産出額整理表!P$21:P$199,0),"-") -> 清水町
C142: 3 | D142: =IFERROR(_xlfn.XLOOKUP($C142,貼_産出額整理表!$B$21:$B$199,貼_産出額整理表!C$21:C$199,0),"-") -> 清水町 | E142: =IFERROR(_xlfn.XLOOKUP($C142,貼_産出額整理表!$B$21:$B$199,貼_産出額整理表!D$21:D$199,0),"-") -> 芽室町 | F142: =IFERROR(_xlfn.XLOOKUP($C142,貼_産出額整理表!$B$21:$B$199,貼_産出額整理表!E$21:E$199,0),"-") -> 岩見沢市 | G142: =IFERROR(_xlfn.XLOOKUP($C142,貼_産出額整理表!$B$21:$B$199,貼_産出額整理表!F$21:F$199,0),"-") -> 帯広市 | H142: =IFERROR(_xlfn.XLOOKUP($C142,貼_産出額整理表!$B$21:$B$199,貼_産出額整理表!G$21:G$199,0),"-") -> 旭川市 | I142: =IFERROR(_xlfn.XLOOKUP($C142,貼_産出額整理表!$B$21:$B$199,貼_産出額整理表!H$21:H$199,0),"-") -> 士別市 | J142: =IFERROR(_xlfn.XLOOKUP($C142,貼_産出額整理表!$B$21:$B$199,貼_産出額整理表!I$21:I$199,0),"-") -> 小清水町 | K142: =IFERROR(_xlfn.XLOOKUP($C142,貼_産出額整理表!$B$21:$B$199,貼_産出額整理表!M$21:M$199,0),"-") -> 小清水町 | L142: =IFERROR(_xlfn.XLOOKUP($C142,貼_産出額整理表!$B$21:$B$199,貼_産出額整理表!N$21:N$199,0),"-") -> 滝川市 | M142: =IFERROR(_xlfn.XLOOKUP($C142,貼_産出額整理表!$B$21:$B$199,貼_産出額整理表!J$21:J$199,0),"-") -> 訓子府町 | N142: =IFERROR(_xlfn.XLOOKUP($C142,貼_産出額整理表!$B$21:$B$199,貼_産出額整理表!K$21:K$199,0),"-") -> 壮瞥町 | O142: =IFERROR(_xlfn.XLOOKUP($C142,貼_産出額整理表!$B$21:$B$199,貼_産出額整理表!L$21:L$199,0),"-") -> 深川市 | P142: =IFERROR(_xlfn.XLOOKUP($C142,貼_産出額整理表!$B$21:$B$199,貼_産出額整理表!O$21:O$199,0),"-") -> 清水町 | Q142: =IFERROR(_xlfn.XLOOKUP($C142,貼_産出額整理表!$B$21:$B$199,貼_産出額整理表!Q$21:Q$199,0),"-") -> 標茶町 | R142: =IFERROR(_xlfn.XLOOKUP($C142,貼_産出額整理表!$B$21:$B$199,貼_産出額整理表!R$21:R$199,0),"-") -> 標茶町 | S142: =IFERROR(_xlfn.XLOOKUP($C142,貼_産出額整理表!$B$21:$B$199,貼_産出額整理表!P$21:P$199,0),"-") -> 上士幌町
C143: 4 | D143: =IFERROR(_xlfn.XLOOKUP($C143,貼_産出額整理表!$B$21:$B$199,貼_産出額整理表!C$21:C$199,0),"-") -> 標茶町 | E143: =IFERROR(_xlfn.XLOOKUP($C143,貼_産出額整理表!$B$21:$B$199,貼_産出額整理表!D$21:D$199,0),"-") -> 富良野市 | F143: =IFERROR(_xlfn.XLOOKUP($C143,貼_産出額整理表!$B$21:$B$199,貼_産出額整理表!E$21:E$199,0),"-") -> 名寄市 | G143: =IFERROR(_xlfn.XLOOKUP($C143,貼_産出額整理表!$B$21:$B$199,貼_産出額整理表!F$21:F$199,0),"-") -> 北見市 | H143: =IFERROR(_xlfn.XLOOKUP($C143,貼_産出額整理表!$B$21:$B$199,貼_産出額整理表!G$21:G$199,0),"-") -> 名寄市 | I143: =IFERROR(_xlfn.XLOOKUP($C143,貼_産出額整理表!$B$21:$B$199,貼_産出額整理表!H$21:H$199,0),"-") -> 帯広市 | J143: =IFERROR(_xlfn.XLOOKUP($C143,貼_産出額整理表!$B$21:$B$199,貼_産出額整理表!I$21:I$199,0),"-") -> 清里町 | K143: =IFERROR(_xlfn.XLOOKUP($C143,貼_産出額整理表!$B$21:$B$199,貼_産出額整理表!M$21:M$199,0),"-") -> 大空町 | L143: =IFERROR(_xlfn.XLOOKUP($C143,貼_産出額整理表!$B$21:$B$199,貼_産出額整理表!N$21:N$199,0),"-") -> 南幌町 | M143: =IFERROR(_xlfn.XLOOKUP($C143,貼_産出額整理表!$B$21:$B$199,貼_産出額整理表!J$21:J$199,0),"-") -> 幕別町 | N143: =IFERROR(_xlfn.XLOOKUP($C143,貼_産出額整理表!$B$21:$B$199,貼_産出額整理表!K$21:K$199,0),"-") -> 増毛町 | O143: =IFERROR(_xlfn.XLOOKUP($C143,貼_産出額整理表!$B$21:$B$199,貼_産出額整理表!L$21:L$199,0),"-") -> 美唄市 | P143: =IFERROR(_xlfn.XLOOKUP($C143,貼_産出額整理表!$B$21:$B$199,貼_産出額整理表!O$21:O$199,0),"-") -> 中標津町 | Q143: =IFERROR(_xlfn.XLOOKUP($C143,貼_産出額整理表!$B$21:$B$199,貼_産出額整理表!Q$21:Q$199,0),"-") -> 清水町 | R143: =IFERROR(_xlfn.XLOOKUP($C143,貼_産出額整理表!$B$21:$B$199,貼_産出額整理表!R$21:R$199,0),"-") -> 清水町 | S143: =IFERROR(_xlfn.XLOOKUP($C143,貼_産出額整理表!$B$21:$B$199,貼_産出額整理表!P$21:P$199,0),"-") -> 佐呂間町
C144: 5 | D144: =IFERROR(_xlfn.XLOOKUP($C144,貼_産出額整理表!$B$21:$B$199,貼_産出額整理表!C$21:C$199,0),"-") -> 士幌町 | E144: =IFERROR(_xlfn.XLOOKUP($C144,貼_産出額整理表!$B$21:$B$199,貼_産出額整理表!D$21:D$199,0),"-") -> 岩見沢市 | F144: =IFERROR(_xlfn.XLOOKUP($C144,貼_産出額整理表!$B$21:$B$199,貼_産出額整理表!E$21:E$199,0),"-") -> 新十津川町 | G144: =IFERROR(_xlfn.XLOOKUP($C144,貼_産出額整理表!$B$21:$B$199,貼_産出額整理表!F$21:F$199,0),"-") -> 岩見沢市 | H144: =IFERROR(_xlfn.XLOOKUP($C144,貼_産出額整理表!$B$21:$B$199,貼_産出額整理表!G$21:G$199,0),"-") -> 剣淵町 | I144: =IFERROR(_xlfn.XLOOKUP($C144,貼_産出額整理表!$B$21:$B$199,貼_産出額整理表!H$21:H$199,0),"-") -> 長沼町 | J144: =IFERROR(_xlfn.XLOOKUP($C144,貼_産出額整理表!$B$21:$B$199,貼_産出額整理表!I$21:I$199,0),"-") -> 幕別町 | K144: =IFERROR(_xlfn.XLOOKUP($C144,貼_産出額整理表!$B$21:$B$199,貼_産出額整理表!M$21:M$199,0),"-") -> 斜里町 | L144: =IFERROR(_xlfn.XLOOKUP($C144,貼_産出額整理表!$B$21:$B$199,貼_産出額整理表!N$21:N$199,0),"-") -> 和寒町 | M144: =IFERROR(_xlfn.XLOOKUP($C144,貼_産出額整理表!$B$21:$B$199,貼_産出額整理表!J$21:J$199,0),"-") -> 帯広市 | N144: =IFERROR(_xlfn.XLOOKUP($C144,貼_産出額整理表!$B$21:$B$199,貼_産出額整理表!K$21:K$199,0),"-") -> 深川市 | O144: =IFERROR(_xlfn.XLOOKUP($C144,貼_産出額整理表!$B$21:$B$199,貼_産出額整理表!L$21:L$199,0),"-") -> 七飯町 | P144: =IFERROR(_xlfn.XLOOKUP($C144,貼_産出額整理表!$B$21:$B$199,貼_産出額整理表!O$21:O$199,0),"-") -> 士幌町 | Q144: =IFERROR(_xlfn.XLOOKUP($C144,貼_産出額整理表!$B$21:$B$199,貼_産出額整理表!Q$21:Q$199,0),"-") -> 浜中町 | R144: =IFERROR(_xlfn.XLOOKUP($C144,貼_産出額整理表!$B$21:$B$199,貼_産出額整理表!R$21:R$199,0),"-") -> 浜中町 | S144: =IFERROR(_xlfn.XLOOKUP($C144,貼_産出額整理表!$B$21:$B$199,貼_産出額整理表!P$21:P$199,0),"-") -> 新得町
C145: 6 | D145: =IFERROR(_xlfn.XLOOKUP($C145,貼_産出額整理表!$B$21:$B$199,貼_産出額整理表!C$21:C$199,0),"-") -> 幕別町 | E145: =IFERROR(_xlfn.XLOOKUP($C145,貼_産出額整理表!$B$21:$B$199,貼_産出額整理表!D$21:D$199,0),"-") -> 幕別町 | F145: =IFERROR(_xlfn.XLOOKUP($C145,貼_産出額整理表!$B$21:$B$199,貼_産出額整理表!E$21:E$199,0),"-") -> 美唄市 | G145: =IFERROR(_xlfn.XLOOKUP($C145,貼_産出額整理表!$B$21:$B$199,貼_産出額整理表!F$21:F$199,0),"-") -> 大空町 | H145: =IFERROR(_xlfn.XLOOKUP($C145,貼_産出額整理表!$B$21:$B$199,貼_産出額整理表!G$21:G$199,0),"-") -> 士別市 | I145: =IFERROR(_xlfn.XLOOKUP($C145,貼_産出額整理表!$B$21:$B$199,貼_産出額整理表!H$21:H$199,0),"-") -> 美唄市 | J145: =IFERROR(_xlfn.XLOOKUP($C145,貼_産出額整理表!$B$21:$B$199,貼_産出額整理表!I$21:I$199,0),"-") -> 士幌町 | K145: =IFERROR(_xlfn.XLOOKUP($C145,貼_産出額整理表!$B$21:$B$199,貼_産出額整理表!M$21:M$199,0),"-") -> 帯広市 | L145: =IFERROR(_xlfn.XLOOKUP($C145,貼_産出額整理表!$B$21:$B$199,貼_産出額整理表!N$21:N$199,0),"-") -> 音更町 | M145: =IFERROR(_xlfn.XLOOKUP($C145,貼_産出額整理表!$B$21:$B$199,貼_産出額整理表!J$21:J$199,0),"-") -> 芽室町 | N145: =IFERROR(_xlfn.XLOOKUP($C145,貼_産出額整理表!$B$21:$B$199,貼_産出額整理表!K$21:K$199,0),"-") -> 浦臼町 | O145: =IFERROR(_xlfn.XLOOKUP($C145,貼_産出額整理表!$B$21:$B$199,貼_産出額整理表!L$21:L$199,0),"-") -> 妹背牛町 | P145: =IFERROR(_xlfn.XLOOKUP($C145,貼_産出額整理表!$B$21:$B$199,貼_産出額整理表!O$21:O$199,0),"-") -> 上士幌町 | Q145: =IFERROR(_xlfn.XLOOKUP($C145,貼_産出額整理表!$B$21:$B$199,貼_産出額整理表!Q$21:Q$199,0),"-") -> 大樹町 | R145: =IFERROR(_xlfn.XLOOKUP($C145,貼_産出額整理表!$B$21:$B$199,貼_産出額整理表!R$21:R$199,0),"-") -> 大樹町 | S145: =IFERROR(_xlfn.XLOOKUP($C145,貼_産出額整理表!$B$21:$B$199,貼_産出額整理表!P$21:P$199,0),"-") -> 標茶町
C146: 7 | D146: =IFERROR(_xlfn.XLOOKUP($C146,貼_産出額整理表!$B$21:$B$199,貼_産出額整理表!C$21:C$199,0),"-") -> 帯広市 | E146: =IFERROR(_xlfn.XLOOKUP($C146,貼_産出額整理表!$B$21:$B$199,貼_産出額整理表!D$21:D$199,0),"-") -> 音更町 | F146: =IFERROR(_xlfn.XLOOKUP($C146,貼_産出額整理表!$B$21:$B$199,貼_産出額整理表!E$21:E$199,0),"-") -> 沼田町 | G146: =IFERROR(_xlfn.XLOOKUP($C146,貼_産出額整理表!$B$21:$B$199,貼_産出額整理表!F$21:F$199,0),"-") -> 網走市 | H146: =IFERROR(_xlfn.XLOOKUP($C146,貼_産出額整理表!$B$21:$B$199,貼_産出額整理表!G$21:G$199,0),"-") -> 共和町 | I146: =IFERROR(_xlfn.XLOOKUP($C146,貼_産出額整理表!$B$21:$B$199,貼_産出額整理表!H$21:H$199,0),"-") -> 芽室町 | J146: =IFERROR(_xlfn.XLOOKUP($C146,貼_産出額整理表!$B$21:$B$199,貼_産出額整理表!I$21:I$199,0),"-") -> 中札内村 | K146: =IFERROR(_xlfn.XLOOKUP($C146,貼_産出額整理表!$B$21:$B$199,貼_産出額整理表!M$21:M$199,0),"-") -> 音更町 | L146: =IFERROR(_xlfn.XLOOKUP($C146,貼_産出額整理表!$B$21:$B$199,貼_産出額整理表!N$21:N$199,0),"-") -> 帯広市 | M146: =IFERROR(_xlfn.XLOOKUP($C146,貼_産出額整理表!$B$21:$B$199,貼_産出額整理表!J$21:J$199,0),"-") -> 岩見沢市 | N146: =IFERROR(_xlfn.XLOOKUP($C146,貼_産出額整理表!$B$21:$B$199,貼_産出額整理表!K$21:K$199,0),"-") -> 七飯町 | O146: =IFERROR(_xlfn.XLOOKUP($C146,貼_産出額整理表!$B$21:$B$199,貼_産出額整理表!L$21:L$199,0),"-") -> 栗山町 | P146: =IFERROR(_xlfn.XLOOKUP($C146,貼_産出額整理表!$B$21:$B$199,貼_産出額整理表!O$21:O$199,0),"-") -> 新ひだか町 | Q146: =IFERROR(_xlfn.XLOOKUP($C146,貼_産出額整理表!$B$21:$B$199,貼_産出額整理表!Q$21:Q$199,0),"-") -> 上士幌町 | R146: =IFERROR(_xlfn.XLOOKUP($C146,貼_産出額整理表!$B$21:$B$199,貼_産出額整理表!R$21:R$199,0),"-") -> 標津町 | S146: =IFERROR(_xlfn.XLOOKUP($C146,貼_産出額整理表!$B$21:$B$199,貼_産出額整理表!P$21:P$199,0),"-") -> 白老町
C147: 8 | D147: =IFERROR(_xlfn.XLOOKUP($C147,貼_産出額整理表!$B$21:$B$199,貼_産出額整理表!C$21:C$199,0),"-") -> 中標津町 | E147: =IFERROR(_xlfn.XLOOKUP($C147,貼_産出額整理表!$B$21:$B$199,貼_産出額整理表!D$21:D$199,0),"-") -> 美幌町 | F147: =IFERROR(_xlfn.XLOOKUP($C147,貼_産出額整理表!$B$21:$B$199,貼_産出額整理表!E$21:E$199,0),"-") -> 当麻町 | G147: =IFERROR(_xlfn.XLOOKUP($C147,貼_産出額整理表!$B$21:$B$199,貼_産出額整理表!F$21:F$199,0),"-") -> 幕別町 | H147: =IFERROR(_xlfn.XLOOKUP($C147,貼_産出額整理表!$B$21:$B$199,貼_産出額整理表!G$21:G$199,0),"-") -> 沼田町 | I147: =IFERROR(_xlfn.XLOOKUP($C147,貼_産出額整理表!$B$21:$B$199,貼_産出額整理表!H$21:H$199,0),"-") -> 剣淵町 | J147: =IFERROR(_xlfn.XLOOKUP($C147,貼_産出額整理表!$B$21:$B$199,貼_産出額整理表!I$21:I$199,0),"-") -> 訓子府町 | K147: =IFERROR(_xlfn.XLOOKUP($C147,貼_産出額整理表!$B$21:$B$199,貼_産出額整理表!M$21:M$199,0),"-") -> 芽室町 | L147: =IFERROR(_xlfn.XLOOKUP($C147,貼_産出額整理表!$B$21:$B$199,貼_産出額整理表!N$21:N$199,0),"-") -> 赤平市 | M147: =IFERROR(_xlfn.XLOOKUP($C147,貼_産出額整理表!$B$21:$B$199,貼_産出額整理表!J$21:J$199,0),"-") -> 美幌町 | N147: =IFERROR(_xlfn.XLOOKUP($C147,貼_産出額整理表!$B$21:$B$199,貼_産出額整理表!K$21:K$199,0),"-") -> 札幌市 | O147: =IFERROR(_xlfn.XLOOKUP($C147,貼_産出額整理表!$B$21:$B$199,貼_産出額整理表!L$21:L$199,0),"-") -> 札幌市 | P147: =IFERROR(_xlfn.XLOOKUP($C147,貼_産出額整理表!$B$21:$B$199,貼_産出額整理表!O$21:O$199,0),"-") -> 日高町 | Q147: =IFERROR(_xlfn.XLOOKUP($C147,貼_産出額整理表!$B$21:$B$199,貼_産出額整理表!Q$21:Q$199,0),"-") -> 標津町 | R147: =IFERROR(_xlfn.XLOOKUP($C147,貼_産出額整理表!$B$21:$B$199,貼_産出額整理表!R$21:R$199,0),"-") -> 上士幌町 | S147: =IFERROR(_xlfn.XLOOKUP($C147,貼_産出額整理表!$B$21:$B$199,貼_産出額整理表!P$21:P$199,0),"-") -> 七飯町
C148: 9 | D148: =IFERROR(_xlfn.XLOOKUP($C148,貼_産出額整理表!$B$21:$B$199,貼_産出額整理表!C$21:C$199,0),"-") -> 網走市 | E148: =IFERROR(_xlfn.XLOOKUP($C148,貼_産出額整理表!$B$21:$B$199,貼_産出額整理表!D$21:D$199,0),"-") -> 大空町 | F148: =IFERROR(_xlfn.XLOOKUP($C148,貼_産出額整理表!$B$21:$B$199,貼_産出額整理表!E$21:E$199,0),"-") -> 新篠津村 | G148: =IFERROR(_xlfn.XLOOKUP($C148,貼_産出額整理表!$B$21:$B$199,貼_産出額整理表!F$21:F$199,0),"-") -> 小清水町 | H148: =IFERROR(_xlfn.XLOOKUP($C148,貼_産出額整理表!$B$21:$B$199,貼_産出額整理表!G$21:G$199,0),"-") -> 美瑛町 | I148: =IFERROR(_xlfn.XLOOKUP($C148,貼_産出額整理表!$B$21:$B$199,貼_産出額整理表!H$21:H$199,0),"-") -> 幕別町 | J148: =IFERROR(_xlfn.XLOOKUP($C148,貼_産出額整理表!$B$21:$B$199,貼_産出額整理表!I$21:I$199,0),"-") -> 美瑛町 | K148: =IFERROR(_xlfn.XLOOKUP($C148,貼_産出額整理表!$B$21:$B$199,貼_産出額整理表!M$21:M$199,0),"-") -> 美幌町 | L148: =IFERROR(_xlfn.XLOOKUP($C148,貼_産出額整理表!$B$21:$B$199,貼_産出額整理表!N$21:N$199,0),"-") -> 富良野市 | M148: =IFERROR(_xlfn.XLOOKUP($C148,貼_産出額整理表!$B$21:$B$199,貼_産出額整理表!J$21:J$199,0),"-") -> 中富良野町 | N148: =IFERROR(_xlfn.XLOOKUP($C148,貼_産出額整理表!$B$21:$B$199,貼_産出額整理表!K$21:K$199,0),"-") -> 岩見沢市 | O148: =IFERROR(_xlfn.XLOOKUP($C148,貼_産出額整理表!$B$21:$B$199,貼_産出額整理表!L$21:L$199,0),"-") -> 新篠津村 | P148: =IFERROR(_xlfn.XLOOKUP($C148,貼_産出額整理表!$B$21:$B$199,貼_産出額整理表!O$21:O$199,0),"-") -> 鹿追町 | Q148: =IFERROR(_xlfn.XLOOKUP($C148,貼_産出額整理表!$B$21:$B$199,貼_産出額整理表!Q$21:Q$199,0),"-") -> 鹿追町 | R148: =IFERROR(_xlfn.XLOOKUP($C148,貼_産出額整理表!$B$21:$B$199,貼_産出額整理表!R$21:R$199,0),"-") -> 鹿追町 | S148: =IFERROR(_xlfn.XLOOKUP($C148,貼_産出額整理表!$B$21:$B$199,貼_産出額整理表!P$21:P$199,0),"-") -> 芽室町
C149: 10 | D149: =IFERROR(_xlfn.XLOOKUP($C149,貼_産出額整理表!$B$21:$B$199,貼_産出額整理表!C$21:C$199,0),"-") -> 芽室町 | E149: =IFERROR(_xlfn.XLOOKUP($C149,貼_産出額整理表!$B$21:$B$199,貼_産出額整理表!D$21:D$199,0),"-") -> 訓子府町 | F149: =IFERROR(_xlfn.XLOOKUP($C149,貼_産出額整理表!$B$21:$B$199,貼_産出額整理表!E$21:E$199,0),"-") -> 鷹栖町 | G149: =IFERROR(_xlfn.XLOOKUP($C149,貼_産出額整理表!$B$21:$B$199,貼_産出額整理表!F$21:F$199,0),"-") -> 斜里町 | H149: =IFERROR(_xlfn.XLOOKUP($C149,貼_産出額整理表!$B$21:$B$199,貼_産出額整理表!G$21:G$199,0),"-") -> 和寒町 | I149: =IFERROR(_xlfn.XLOOKUP($C149,貼_産出額整理表!$B$21:$B$199,貼_産出額整理表!H$21:H$199,0),"-") -> 北見市 | J149: =IFERROR(_xlfn.XLOOKUP($C149,貼_産出額整理表!$B$21:$B$199,貼_産出額整理表!I$21:I$199,0),"-") -> 豊頃町 | K149: =IFERROR(_xlfn.XLOOKUP($C149,貼_産出額整理表!$B$21:$B$199,貼_産出額整理表!M$21:M$199,0),"-") -> 清里町 | L149: =IFERROR(_xlfn.XLOOKUP($C149,貼_産出額整理表!$B$21:$B$199,貼_産出額整理表!N$21:N$199,0),"-") -> 石狩市 | M149: =IFERROR(_xlfn.XLOOKUP($C149,貼_産出額整理表!$B$21:$B$199,貼_産出額整理表!J$21:J$199,0),"-") -> 音更町 | N149: =IFERROR(_xlfn.XLOOKUP($C149,貼_産出額整理表!$B$21:$B$199,貼_産出額整理表!K$21:K$199,0),"-") -> 池田町 | O149: =IFERROR(_xlfn.XLOOKUP($C149,貼_産出額整理表!$B$21:$B$199,貼_産出額整理表!L$21:L$199,0),"-") -> 大空町 | P149: =IFERROR(_xlfn.XLOOKUP($C149,貼_産出額整理表!$B$21:$B$199,貼_産出額整理表!O$21:O$199,0),"-") -> 浜中町 | Q149: =IFERROR(_xlfn.XLOOKUP($C149,貼_産出額整理表!$B$21:$B$199,貼_産出額整理表!Q$21:Q$199,0),"-") -> 湧別町 | R149: =IFERROR(_xlfn.XLOOKUP($C149,貼_産出額整理表!$B$21:$B$199,貼_産出額整理表!R$21:R$199,0),"-") -> 湧別町 | S149: =IFERROR(_xlfn.XLOOKUP($C149,貼_産出額整理表!$B$21:$B$199,貼_産出額整理表!P$21:P$199,0),"-") -> 鹿追町
C150: 11 | D150: =IFERROR(_xlfn.XLOOKUP($C150,貼_産出額整理表!$B$21:$B$199,貼_産出額整理表!C$21:C$199,0),"-") -> 音更町 | E150: =IFERROR(_xlfn.XLOOKUP($C150,貼_産出額整理表!$B$21:$B$199,貼_産出額整理表!D$21:D$199,0),"-") -> 旭川市 | F150: =IFERROR(_xlfn.XLOOKUP($C150,貼_産出額整理表!$B$21:$B$199,貼_産出額整理表!E$21:E$199,0),"-") -> 士別市 | G150: =IFERROR(_xlfn.XLOOKUP($C150,貼_産出額整理表!$B$21:$B$199,貼_産出額整理表!F$21:F$199,0),"-") -> 美瑛町 | H150: =IFERROR(_xlfn.XLOOKUP($C150,貼_産出額整理表!$B$21:$B$199,貼_産出額整理表!G$21:G$199,0),"-") -> 音威子府村 | I150: =IFERROR(_xlfn.XLOOKUP($C150,貼_産出額整理表!$B$21:$B$199,貼_産出額整理表!H$21:H$199,0),"-") -> 士幌町 | J150: =IFERROR(_xlfn.XLOOKUP($C150,貼_産出額整理表!$B$21:$B$199,貼_産出額整理表!I$21:I$199,0),"-") -> 清水町 | K150: =IFERROR(_xlfn.XLOOKUP($C150,貼_産出額整理表!$B$21:$B$199,貼_産出額整理表!M$21:M$199,0),"-") -> 幕別町 | L150: =IFERROR(_xlfn.XLOOKUP($C150,貼_産出額整理表!$B$21:$B$199,貼_産出額整理表!N$21:N$199,0),"-") -> 上ノ国町 | M150: =IFERROR(_xlfn.XLOOKUP($C150,貼_産出額整理表!$B$21:$B$199,貼_産出額整理表!J$21:J$199,0),"-") -> 北斗市 | N150: =IFERROR(_xlfn.XLOOKUP($C150,貼_産出額整理表!$B$21:$B$199,貼_産出額整理表!K$21:K$199,0),"-") -> 旭川市 | O150: =IFERROR(_xlfn.XLOOKUP($C150,貼_産出額整理表!$B$21:$B$199,貼_産出額整理表!L$21:L$199,0),"-") -> 芦別市 | P150: =IFERROR(_xlfn.XLOOKUP($C150,貼_産出額整理表!$B$21:$B$199,貼_産出額整理表!O$21:O$199,0),"-") -> 大樹町 | Q150: =IFERROR(_xlfn.XLOOKUP($C150,貼_産出額整理表!$B$21:$B$199,貼_産出額整理表!Q$21:Q$199,0),"-") -> 士幌町 | R150: =IFERROR(_xlfn.XLOOKUP($C150,貼_産出額整理表!$B$21:$B$199,貼_産出額整理表!R$21:R$199,0),"-") -> 士幌町 | S150: =IFERROR(_xlfn.XLOOKUP($C150,貼_産出額整理表!$B$21:$B$199,貼_産出額整理表!P$21:P$199,0),"-") -> 津別町
C151: 12 | D151: =IFERROR(_xlfn.XLOOKUP($C151,貼_産出額整理表!$B$21:$B$199,貼_産出額整理表!C$21:C$199,0),"-") -> 上士幌町 | E151: =IFERROR(_xlfn.XLOOKUP($C151,貼_産出額整理表!$B$21:$B$199,貼_産出額整理表!D$21:D$199,0),"-") -> 斜里町 | F151: =IFERROR(_xlfn.XLOOKUP($C151,貼_産出額整理表!$B$21:$B$199,貼_産出額整理表!E$21:E$199,0),"-") -> 東川町 | G151: =IFERROR(_xlfn.XLOOKUP($C151,貼_産出額整理表!$B$21:$B$199,貼_産出額整理表!F$21:F$199,0),"-") -> 長沼町 | H151: =IFERROR(_xlfn.XLOOKUP($C151,貼_産出額整理表!$B$21:$B$199,貼_産出額整理表!G$21:G$199,0),"-") -> 黒松内町 | I151: =IFERROR(_xlfn.XLOOKUP($C151,貼_産出額整理表!$B$21:$B$199,貼_産出額整理表!H$21:H$199,0),"-") -> 深川市 | J151: =IFERROR(_xlfn.XLOOKUP($C151,貼_産出額整理表!$B$21:$B$199,貼_産出額整理表!I$21:I$199,0),"-") -> 上士幌町 | K151: =IFERROR(_xlfn.XLOOKUP($C151,貼_産出額整理表!$B$21:$B$199,貼_産出額整理表!M$21:M$199,0),"-") -> 更別村 | L151: =IFERROR(_xlfn.XLOOKUP($C151,貼_産出額整理表!$B$21:$B$199,貼_産出額整理表!N$21:N$199,0),"-") -> 積丹町 | M151: =IFERROR(_xlfn.XLOOKUP($C151,貼_産出額整理表!$B$21:$B$199,貼_産出額整理表!J$21:J$199,0),"-") -> 津別町 | N151: =IFERROR(_xlfn.XLOOKUP($C151,貼_産出額整理表!$B$21:$B$199,貼_産出額整理表!K$21:K$199,0),"-") -> 富良野市 | O151: =IFERROR(_xlfn.XLOOKUP($C151,貼_産出額整理表!$B$21:$B$199,貼_産出額整理表!L$21:L$199,0),"-") -> 当麻町 | P151: =IFERROR(_xlfn.XLOOKUP($C151,貼_産出額整理表!$B$21:$B$199,貼_産出額整理表!O$21:O$199,0),"-") -> 網走市 | Q151: =IFERROR(_xlfn.XLOOKUP($C151,貼_産出額整理表!$B$21:$B$199,貼_産出額整理表!Q$21:Q$199,0),"-") -> 幕別町 | R151: =IFERROR(_xlfn.XLOOKUP($C151,貼_産出額整理表!$B$21:$B$199,貼_産出額整理表!R$21:R$199,0),"-") -> 鶴居村 | S151: =IFERROR(_xlfn.XLOOKUP($C151,貼_産出額整理表!$B$21:$B$199,貼_産出額整理表!P$21:P$199,0),"-") -> 稚内市
C152: 13 | D152: =IFERROR(_xlfn.XLOOKUP($C152,貼_産出額整理表!$B$21:$B$199,貼_産出額整理表!C$21:C$199,0),"-") -> 鹿追町 | E152: =IFERROR(_xlfn.XLOOKUP($C152,貼_産出額整理表!$B$21:$B$199,貼_産出額整理表!D$21:D$199,0),"-") -> 網走市 | F152: =IFERROR(_xlfn.XLOOKUP($C152,貼_産出額整理表!$B$21:$B$199,貼_産出額整理表!E$21:E$199,0),"-") -> 秩父別町 | G152: =IFERROR(_xlfn.XLOOKUP($C152,貼_産出額整理表!$B$21:$B$199,貼_産出額整理表!F$21:F$199,0),"-") -> 当別町 | H152: =IFERROR(_xlfn.XLOOKUP($C152,貼_産出額整理表!$B$21:$B$199,貼_産出額整理表!G$21:G$199,0),"-") -> 新得町 | I152: =IFERROR(_xlfn.XLOOKUP($C152,貼_産出額整理表!$B$21:$B$199,貼_産出額整理表!H$21:H$199,0),"-") -> 安平町 | J152: =IFERROR(_xlfn.XLOOKUP($C152,貼_産出額整理表!$B$21:$B$199,貼_産出額整理表!I$21:I$199,0),"-") -> 京極町 | K152: =IFERROR(_xlfn.XLOOKUP($C152,貼_産出額整理表!$B$21:$B$199,貼_産出額整理表!M$21:M$199,0),"-") -> 士幌町 | L152: =IFERROR(_xlfn.XLOOKUP($C152,貼_産出額整理表!$B$21:$B$199,貼_産出額整理表!N$21:N$199,0),"-") -> 比布町 | M152: =IFERROR(_xlfn.XLOOKUP($C152,貼_産出額整理表!$B$21:$B$199,貼_産出額整理表!J$21:J$199,0),"-") -> 長沼町 | N152: =IFERROR(_xlfn.XLOOKUP($C152,貼_産出額整理表!$B$21:$B$199,貼_産出額整理表!K$21:K$199,0),"-") -> 長沼町 | O152: =IFERROR(_xlfn.XLOOKUP($C152,貼_産出額整理表!$B$21:$B$199,貼_産出額整理表!L$21:L$199,0),"-") -> むかわ町 | P152: =IFERROR(_xlfn.XLOOKUP($C152,貼_産出額整理表!$B$21:$B$199,貼_産出額整理表!O$21:O$199,0),"-") -> 標津町 | Q152: =IFERROR(_xlfn.XLOOKUP($C152,貼_産出額整理表!$B$21:$B$199,貼_産出額整理表!Q$21:Q$199,0),"-") -> 鶴居村 | R152: =IFERROR(_xlfn.XLOOKUP($C152,貼_産出額整理表!$B$21:$B$199,貼_産出額整理表!R$21:R$199,0),"-") -> 幕別町 | S152: =IFERROR(_xlfn.XLOOKUP($C152,貼_産出額整理表!$B$21:$B$199,貼_産出額整理表!P$21:P$199,0),"-") -> 帯広市
... C318: 179 | D318: =IFERROR(_xlfn.XLOOKUP($C318,貼_産出額整理表!$B$21:$B$199,貼_産出額整理表!C$21:C$199,0),"-") -> - | E318: =IFERROR(_xlfn.XLOOKUP($C318,貼_産出額整理表!$B$21:$B$199,貼_産出額整理表!D$21:D$199,0),"-") -> - | F318: =IFERROR(_xlfn.XLOOKUP($C318,貼_産出額整理表!$B$21:$B$199,貼_産出額整理表!E$21:E$199,0),"-") -> - | G318: =IFERROR(_xlfn.XLOOKUP($C318,貼_産出額整理表!$B$21:$B$199,貼_産出額整理表!F$21:F$199,0),"-") -> - | H318: =IFERROR(_xlfn.XLOOKUP($C318,貼_産出額整理表!$B$21:$B$199,貼_産出額整理表!G$21:G$199,0),"-") -> - | I318: =IFERROR(_xlfn.XLOOKUP($C318,貼_産出額整理表!$B$21:$B$199,貼_産出額整理表!H$21:H$199,0),"-") -> - | J318: =IFERROR(_xlfn.XLOOKUP($C318,貼_産出額整理表!$B$21:$B$199,貼_産出額整理表!I$21:I$199,0),"-") -> - | K318: =IFERROR(_xlfn.XLOOKUP($C318,貼_産出額整理表!$B$21:$B$199,貼_産出額整理表!M$21:M$199,0),"-") -> - | L318: =IFERROR(_xlfn.XLOOKUP($C318,貼_産出額整理表!$B$21:$B$199,貼_産出額整理表!N$21:N$199,0),"-") -> - | M318: =IFERROR(_xlfn.XLOOKUP($C318,貼_産出額整理表!$B$21:$B$199,貼_産出額整理表!J$21:J$199,0),"-") -> - | N318: =IFERROR(_xlfn.XLOOKUP($C318,貼_産出額整理表!$B$21:$B$199,貼_産出額整理表!K$21:K$199,0),"-") -> - | O318: =IFERROR(_xlfn.XLOOKUP($C318,貼_産出額整理表!$B$21:$B$199,貼_産出額整理表!L$21:L$199,0),"-") -> - | P318: =IFERROR(_xlfn.XLOOKUP($C318,貼_産出額整理表!$B$21:$B$199,貼_産出額整理表!O$21:O$199,0),"-") -> - | Q318: =IFERROR(_xlfn.XLOOKUP($C318,貼_産出額整理表!$B$21:$B$199,貼_産出額整理表!Q$21:Q$199,0),"-") -> - | R318: =IFERROR(_xlfn.XLOOKUP($C318,貼_産出額整理表!$B$21:$B$199,貼_産出額整理表!R$21:R$199,0),"-") -> - | S318: =IFERROR(_xlfn.XLOOKUP($C318,貼_産出額整理表!$B$21:$B$199,貼_産出額整理表!P$21:P$199,0),"-") -> -
C319: データ 1 | D319: =IF(_xlfn.XLOOKUP($C319,貼_産出額整理表!$B$200:$B$378,貼_産出額整理表!C$200:C$378,0)="-",NA(),_xlfn.XLOOKUP($C319,貼_産出額整理表!$B$200:$B$378,貼_産出額整理表!C$200:C$378,0)) -> 6253 | E319: =IF(_xlfn.XLOOKUP($C319,貼_産出額整理表!$B$200:$B$378,貼_産出額整理表!D$200:D$378,0)="-",NA(),_xlfn.XLOOKUP($C319,貼_産出額整理表!$B$200:$B$378,貼_産出額整理表!D$200:D$378,0)) -> 2834 | F319: =IF(_xlfn.XLOOKUP($C319,貼_産出額整理表!$B$200:$B$378,貼_産出額整理表!E$200:E$378,0)="-",NA(),_xlfn.XLOOKUP($C319,貼_産出額整理表!$B$200:$B$378,貼_産出額整理表!E$200:E$378,0)) -> 685 | G319: =IF(_xlfn.XLOOKUP($C319,貼_産出額整理表!$B$200:$B$378,貼_産出額整理表!F$200:F$378,0)="-",NA(),_xlfn.XLOOKUP($C319,貼_産出額整理表!$B$200:$B$378,貼_産出額整理表!F$200:F$378,0)) -> 228 | H319: =IF(_xlfn.XLOOKUP($C319,貼_産出額整理表!$B$200:$B$378,貼_産出額整理表!G$200:G$378,0)="-",NA(),_xlfn.XLOOKUP($C319,貼_産出額整理表!$B$200:$B$378,貼_産出額整理表!G$200:G$378,0)) -> 47 | I319: =IF(_xlfn.XLOOKUP($C319,貼_産出額整理表!$B$200:$B$378,貼_産出額整理表!H$200:H$378,0)="-",NA(),_xlfn.XLOOKUP($C319,貼_産出額整理表!$B$200:$B$378,貼_産出額整理表!H$200:H$378,0)) -> 112 | J319: =IF(_xlfn.XLOOKUP($C319,貼_産出額整理表!$B$200:$B$378,貼_産出額整理表!I$200:I$378,0)="-",NA(),_xlfn.XLOOKUP($C319,貼_産出額整理表!$B$200:$B$378,貼_産出額整理表!I$200:I$378,0)) -> 320 | K319: =IF(_xlfn.XLOOKUP($C319,貼_産出額整理表!$B$200:$B$378,貼_産出額整理表!M$200:M$378,0)="-",NA(),_xlfn.XLOOKUP($C319,貼_産出額整理表!$B$200:$B$378,貼_産出額整理表!M$200:M$378,0)) -> 293 | L319: =IF(_xlfn.XLOOKUP($C319,貼_産出額整理表!$B$200:$B$378,貼_産出額整理表!N$200:N$378,0)="-",NA(),_xlfn.XLOOKUP($C319,貼_産出額整理表!$B$200:$B$378,貼_産出額整理表!N$200:N$378,0)) -> 5 | M319: =IF(_xlfn.XLOOKUP($C319,貼_産出額整理表!$B$200:$B$378,貼_産出額整理表!J$200:J$378,0)="-",NA(),_xlfn.XLOOKUP($C319,貼_産出額整理表!$B$200:$B$378,貼_産出額整理表!J$200:J$378,0)) -> 1984 | N319: =IF(_xlfn.XLOOKUP($C319,貼_産出額整理表!$B$200:$B$378,貼_産出額整理表!K$200:K$378,0)="-",NA(),_xlfn.XLOOKUP($C319,貼_産出額整理表!$B$200:$B$378,貼_産出額整理表!K$200:K$378,0)) -> 278 | O319: =IF(_xlfn.XLOOKUP($C319,貼_産出額整理表!$B$200:$B$378,貼_産出額整理表!L$200:L$378,0)="-",NA(),_xlfn.XLOOKUP($C319,貼_産出額整理表!$B$200:$B$378,貼_産出額整理表!L$200:L$378,0)) -> 117 | P319: =IF(_xlfn.XLOOKUP($C319,貼_産出額整理表!$B$200:$B$378,貼_産出額整理表!O$200:O$378,0)="-",NA(),_xlfn.XLOOKUP($C319,貼_産出額整理表!$B$200:$B$378,貼_産出額整理表!O$200:O$378,0)) -> 6226 | Q319: =IF(_xlfn.XLOOKUP($C319,貼_産出額整理表!$B$200:$B$378,貼_産出額整理表!Q$200:Q$378,0)="-",NA(),_xlfn.XLOOKUP($C319,貼_産出額整理表!$B$200:$B$378,貼_産出額整理表!Q$200:Q$378,0)) -> 5913 | R319: =IF(_xlfn.XLOOKUP($C319,貼_産出額整理表!$B$200:$B$378,貼_産出額整理表!R$200:R$378,0)="-",NA(),_xlfn.XLOOKUP($C319,貼_産出額整理表!$B$200:$B$378,貼_産出額整理表!R$200:R$378,0)) -> 5177 | S319: =IF(_xlfn.XLOOKUP($C319,貼_産出額整理表!$B$200:$B$378,貼_産出額整理表!P$200:P$378,0)="-",NA(),_xlfn.XLOOKUP($C319,貼_産出額整理表!$B$200:$B$378,貼_産出額整理表!P$200:P$378,0)) -> 951
C320: 2 | D320: =IF(_xlfn.XLOOKUP($C320,貼_産出額整理表!$B$200:$B$378,貼_産出額整理表!C$200:C$378,0)="-",NA(),_xlfn.XLOOKUP($C320,貼_産出額整理表!$B$200:$B$378,貼_産出額整理表!C$200:C$378,0)) -> 3357 | E320: =IF(_xlfn.XLOOKUP($C320,貼_産出額整理表!$B$200:$B$378,貼_産出額整理表!D$200:D$378,0)="-",NA(),_xlfn.XLOOKUP($C320,貼_産出額整理表!$B$200:$B$378,貼_産出額整理表!D$200:D$378,0)) -> 1869 | F320: =IF(_xlfn.XLOOKUP($C320,貼_産出額整理表!$B$200:$B$378,貼_産出額整理表!E$200:E$378,0)="-",NA(),_xlfn.XLOOKUP($C320,貼_産出額整理表!$B$200:$B$378,貼_産出額整理表!E$200:E$378,0)) -> 597 | G320: =IF(_xlfn.XLOOKUP($C320,貼_産出額整理表!$B$200:$B$378,貼_産出額整理表!F$200:F$378,0)="-",NA(),_xlfn.XLOOKUP($C320,貼_産出額整理表!$B$200:$B$378,貼_産出額整理表!F$200:F$378,0)) -> 218 | H320: =IF(_xlfn.XLOOKUP($C320,貼_産出額整理表!$B$200:$B$378,貼_産出額整理表!G$200:G$378,0)="-",NA(),_xlfn.XLOOKUP($C320,貼_産出額整理表!$B$200:$B$378,貼_産出額整理表!G$200:G$378,0)) -> 37 | I320: =IF(_xlfn.XLOOKUP($C320,貼_産出額整理表!$B$200:$B$378,貼_産出額整理表!H$200:H$378,0)="-",NA(),_xlfn.XLOOKUP($C320,貼_産出額整理表!$B$200:$B$378,貼_産出額整理表!H$200:H$378,0)) -> 103 | J320: =IF(_xlfn.XLOOKUP($C320,貼_産出額整理表!$B$200:$B$378,貼_産出額整理表!I$200:I$378,0)="-",NA(),_xlfn.XLOOKUP($C320,貼_産出額整理表!$B$200:$B$378,貼_産出額整理表!I$200:I$378,0)) -> 292 | K320: =IF(_xlfn.XLOOKUP($C320,貼_産出額整理表!$B$200:$B$378,貼_産出額整理表!M$200:M$378,0)="-",NA(),_xlfn.XLOOKUP($C320,貼_産出額整理表!$B$200:$B$378,貼_産出額整理表!M$200:M$378,0)) -> 282 | L320: =IF(_xlfn.XLOOKUP($C320,貼_産出額整理表!$B$200:$B$378,貼_産出額整理表!N$200:N$378,0)="-",NA(),_xlfn.XLOOKUP($C320,貼_産出額整理表!$B$200:$B$378,貼_産出額整理表!N$200:N$378,0)) -> 5 | M320: =IF(_xlfn.XLOOKUP($C320,貼_産出額整理表!$B$200:$B$378,貼_産出額整理表!J$200:J$378,0)="-",NA(),_xlfn.XLOOKUP($C320,貼_産出額整理表!$B$200:$B$378,貼_産出額整理表!J$200:J$378,0)) -> 1413 | N320: =IF(_xlfn.XLOOKUP($C320,貼_産出額整理表!$B$200:$B$378,貼_産出額整理表!K$200:K$378,0)="-",NA(),_xlfn.XLOOKUP($C320,貼_産出額整理表!$B$200:$B$378,貼_産出額整理表!K$200:K$378,0)) -> 175 | O320: =IF(_xlfn.XLOOKUP($C320,貼_産出額整理表!$B$200:$B$378,貼_産出額整理表!L$200:L$378,0)="-",NA(),_xlfn.XLOOKUP($C320,貼_産出額整理表!$B$200:$B$378,貼_産出額整理表!L$200:L$378,0)) -> 78 | P320: =IF(_xlfn.XLOOKUP($C320,貼_産出額整理表!$B$200:$B$378,貼_産出額整理表!O$200:O$378,0)="-",NA(),_xlfn.XLOOKUP($C320,貼_産出額整理表!$B$200:$B$378,貼_産出額整理表!O$200:O$378,0)) -> 2743 | Q320: =IF(_xlfn.XLOOKUP($C320,貼_産出額整理表!$B$200:$B$378,貼_産出額整理表!Q$200:Q$378,0)="-",NA(),_xlfn.XLOOKUP($C320,貼_産出額整理表!$B$200:$B$378,貼_産出額整理表!Q$200:Q$378,0)) -> 2249 | R320: =IF(_xlfn.XLOOKUP($C320,貼_産出額整理表!$B$200:$B$378,貼_産出額整理表!R$200:R$378,0)="-",NA(),_xlfn.XLOOKUP($C320,貼_産出額整理表!$B$200:$B$378,貼_産出額整理表!R$200:R$378,0)) -> 1986 | S320: =IF(_xlfn.XLOOKUP($C320,貼_産出額整理表!$B$200:$B$378,貼_産出額整理表!P$200:P$378,0)="-",NA(),_xlfn.XLOOKUP($C320,貼_産出額整理表!$B$200:$B$378,貼_産出額整理表!P$200:P$378,0)) -> 707
C321: 3 | D321: =IF(_xlfn.XLOOKUP($C321,貼_産出額整理表!$B$200:$B$378,貼_産出額整理表!C$200:C$378,0)="-",NA(),_xlfn.XLOOKUP($C321,貼_産出額整理表!$B$200:$B$378,貼_産出額整理表!C$200:C$378,0)) -> 2806 | E321: =IF(_xlfn.XLOOKUP($C321,貼_産出額整理表!$B$200:$B$378,貼_産出額整理表!D$200:D$378,0)="-",NA(),_xlfn.XLOOKUP($C321,貼_産出額整理表!$B$200:$B$378,貼_産出額整理表!D$200:D$378,0)) -> 1702 | F321: =IF(_xlfn.XLOOKUP($C321,貼_産出額整理表!$B$200:$B$378,貼_産出額整理表!E$200:E$378,0)="-",NA(),_xlfn.XLOOKUP($C321,貼_産出額整理表!$B$200:$B$378,貼_産出額整理表!E$200:E$378,0)) -> 482 | G321: =IF(_xlfn.XLOOKUP($C321,貼_産出額整理表!$B$200:$B$378,貼_産出額整理表!F$200:F$378,0)="-",NA(),_xlfn.XLOOKUP($C321,貼_産出額整理表!$B$200:$B$378,貼_産出額整理表!F$200:F$378,0)) -> 215 | H321: =IF(_xlfn.XLOOKUP($C321,貼_産出額整理表!$B$200:$B$378,貼_産出額整理表!G$200:G$378,0)="-",NA(),_xlfn.XLOOKUP($C321,貼_産出額整理表!$B$200:$B$378,貼_産出額整理表!G$200:G$378,0)) -> 18 | I321: =IF(_xlfn.XLOOKUP($C321,貼_産出額整理表!$B$200:$B$378,貼_産出額整理表!H$200:H$378,0)="-",NA(),_xlfn.XLOOKUP($C321,貼_産出額整理表!$B$200:$B$378,貼_産出額整理表!H$200:H$378,0)) -> 102 | J321: =IF(_xlfn.XLOOKUP($C321,貼_産出額整理表!$B$200:$B$378,貼_産出額整理表!I$200:I$378,0)="-",NA(),_xlfn.XLOOKUP($C321,貼_産出額整理表!$B$200:$B$378,貼_産出額整理表!I$200:I$378,0)) -> 280 | K321: =IF(_xlfn.XLOOKUP($C321,貼_産出額整理表!$B$200:$B$378,貼_産出額整理表!M$200:M$378,0)="-",NA(),_xlfn.XLOOKUP($C321,貼_産出額整理表!$B$200:$B$378,貼_産出額整理表!M$200:M$378,0)) -> 270 | L321: =IF(_xlfn.XLOOKUP($C321,貼_産出額整理表!$B$200:$B$378,貼_産出額整理表!N$200:N$378,0)="-",NA(),_xlfn.XLOOKUP($C321,貼_産出額整理表!$B$200:$B$378,貼_産出額整理表!N$200:N$378,0)) -> 5 | M321: =IF(_xlfn.XLOOKUP($C321,貼_産出額整理表!$B$200:$B$378,貼_産出額整理表!J$200:J$378,0)="-",NA(),_xlfn.XLOOKUP($C321,貼_産出額整理表!$B$200:$B$378,貼_産出額整理表!J$200:J$378,0)) -> 783 | N321: =IF(_xlfn.XLOOKUP($C321,貼_産出額整理表!$B$200:$B$378,貼_産出額整理表!K$200:K$378,0)="-",NA(),_xlfn.XLOOKUP($C321,貼_産出額整理表!$B$200:$B$378,貼_産出額整理表!K$200:K$378,0)) -> 40 | O321: =IF(_xlfn.XLOOKUP($C321,貼_産出額整理表!$B$200:$B$378,貼_産出額整理表!L$200:L$378,0)="-",NA(),_xlfn.XLOOKUP($C321,貼_産出額整理表!$B$200:$B$378,貼_産出額整理表!L$200:L$378,0)) -> 75 | P321: =IF(_xlfn.XLOOKUP($C321,貼_産出額整理表!$B$200:$B$378,貼_産出額整理表!O$200:O$378,0)="-",NA(),_xlfn.XLOOKUP($C321,貼_産出額整理表!$B$200:$B$378,貼_産出額整理表!O$200:O$378,0)) -> 2387 | Q321: =IF(_xlfn.XLOOKUP($C321,貼_産出額整理表!$B$200:$B$378,貼_産出額整理表!Q$200:Q$378,0)="-",NA(),_xlfn.XLOOKUP($C321,貼_産出額整理表!$B$200:$B$378,貼_産出額整理表!Q$200:Q$378,0)) -> 2154 | R321: =IF(_xlfn.XLOOKUP($C321,貼_産出額整理表!$B$200:$B$378,貼_産出額整理表!R$200:R$378,0)="-",NA(),_xlfn.XLOOKUP($C321,貼_産出額整理表!$B$200:$B$378,貼_産出額整理表!R$200:R$378,0)) -> 1864 | S321: =IF(_xlfn.XLOOKUP($C321,貼_産出額整理表!$B$200:$B$378,貼_産出額整理表!P$200:P$378,0)="-",NA(),_xlfn.XLOOKUP($C321,貼_産出額整理表!$B$200:$B$378,貼_産出額整理表!P$200:P$378,0)) -> 525
C322: 4 | D322: =IF(_xlfn.XLOOKUP($C322,貼_産出額整理表!$B$200:$B$378,貼_産出額整理表!C$200:C$378,0)="-",NA(),_xlfn.XLOOKUP($C322,貼_産出額整理表!$B$200:$B$378,貼_産出額整理表!C$200:C$378,0)) -> 2805 | E322: =IF(_xlfn.XLOOKUP($C322,貼_産出額整理表!$B$200:$B$378,貼_産出額整理表!D$200:D$378,0)="-",NA(),_xlfn.XLOOKUP($C322,貼_産出額整理表!$B$200:$B$378,貼_産出額整理表!D$200:D$378,0)) -> 1653 | F322: =IF(_xlfn.XLOOKUP($C322,貼_産出額整理表!$B$200:$B$378,貼_産出額整理表!E$200:E$378,0)="-",NA(),_xlfn.XLOOKUP($C322,貼_産出額整理表!$B$200:$B$378,貼_産出額整理表!E$200:E$378,0)) -> 453 | G322: =IF(_xlfn.XLOOKUP($C322,貼_産出額整理表!$B$200:$B$378,貼_産出額整理表!F$200:F$378,0)="-",NA(),_xlfn.XLOOKUP($C322,貼_産出額整理表!$B$200:$B$378,貼_産出額整理表!F$200:F$378,0)) -> 183 | H322: =IF(_xlfn.XLOOKUP($C322,貼_産出額整理表!$B$200:$B$378,貼_産出額整理表!G$200:G$378,0)="-",NA(),_xlfn.XLOOKUP($C322,貼_産出額整理表!$B$200:$B$378,貼_産出額整理表!G$200:G$378,0)) -> 14 | I322: =IF(_xlfn.XLOOKUP($C322,貼_産出額整理表!$B$200:$B$378,貼_産出額整理表!H$200:H$378,0)="-",NA(),_xlfn.XLOOKUP($C322,貼_産出額整理表!$B$200:$B$378,貼_産出額整理表!H$200:H$378,0)) -> 88 | J322: =IF(_xlfn.XLOOKUP($C322,貼_産出額整理表!$B$200:$B$378,貼_産出額整理表!I$200:I$378,0)="-",NA(),_xlfn.XLOOKUP($C322,貼_産出額整理表!$B$200:$B$378,貼_産出額整理表!I$200:I$378,0)) -> 273 | K322: =IF(_xlfn.XLOOKUP($C322,貼_産出額整理表!$B$200:$B$378,貼_産出額整理表!M$200:M$378,0)="-",NA(),_xlfn.XLOOKUP($C322,貼_産出額整理表!$B$200:$B$378,貼_産出額整理表!M$200:M$378,0)) -> 264 | L322: =IF(_xlfn.XLOOKUP($C322,貼_産出額整理表!$B$200:$B$378,貼_産出額整理表!N$200:N$378,0)="-",NA(),_xlfn.XLOOKUP($C322,貼_産出額整理表!$B$200:$B$378,貼_産出額整理表!N$200:N$378,0)) -> 3 | M322: =IF(_xlfn.XLOOKUP($C322,貼_産出額整理表!$B$200:$B$378,貼_産出額整理表!J$200:J$378,0)="-",NA(),_xlfn.XLOOKUP($C322,貼_産出額整理表!$B$200:$B$378,貼_産出額整理表!J$200:J$378,0)) -> 783 | N322: =IF(_xlfn.XLOOKUP($C322,貼_産出額整理表!$B$200:$B$378,貼_産出額整理表!K$200:K$378,0)="-",NA(),_xlfn.XLOOKUP($C322,貼_産出額整理表!$B$200:$B$378,貼_産出額整理表!K$200:K$378,0)) -> 39 | O322: =IF(_xlfn.XLOOKUP($C322,貼_産出額整理表!$B$200:$B$378,貼_産出額整理表!L$200:L$378,0)="-",NA(),_xlfn.XLOOKUP($C322,貼_産出額整理表!$B$200:$B$378,貼_産出額整理表!L$200:L$378,0)) -> 58 | P322: =IF(_xlfn.XLOOKUP($C322,貼_産出額整理表!$B$200:$B$378,貼_産出額整理表!O$200:O$378,0)="-",NA(),_xlfn.XLOOKUP($C322,貼_産出額整理表!$B$200:$B$378,貼_産出額整理表!O$200:O$378,0)) -> 2327 | Q322: =IF(_xlfn.XLOOKUP($C322,貼_産出額整理表!$B$200:$B$378,貼_産出額整理表!Q$200:Q$378,0)="-",NA(),_xlfn.XLOOKUP($C322,貼_産出額整理表!$B$200:$B$378,貼_産出額整理表!Q$200:Q$378,0)) -> 1537 | R322: =IF(_xlfn.XLOOKUP($C322,貼_産出額整理表!$B$200:$B$378,貼_産出額整理表!R$200:R$378,0)="-",NA(),_xlfn.XLOOKUP($C322,貼_産出額整理表!$B$200:$B$378,貼_産出額整理表!R$200:R$378,0)) -> 1388 | S322: =IF(_xlfn.XLOOKUP($C322,貼_産出額整理表!$B$200:$B$378,貼_産出額整理表!P$200:P$378,0)="-",NA(),_xlfn.XLOOKUP($C322,貼_産出額整理表!$B$200:$B$378,貼_産出額整理表!P$200:P$378,0)) -> 465
C323: 5 | D323: =IF(_xlfn.XLOOKUP($C323,貼_産出額整理表!$B$200:$B$378,貼_産出額整理表!C$200:C$378,0)="-",NA(),_xlfn.XLOOKUP($C323,貼_産出額整理表!$B$200:$B$378,貼_産出額整理表!C$200:C$378,0)) -> 2763 | E323: =IF(_xlfn.XLOOKUP($C323,貼_産出額整理表!$B$200:$B$378,貼_産出額整理表!D$200:D$378,0)="-",NA(),_xlfn.XLOOKUP($C323,貼_産出額整理表!$B$200:$B$378,貼_産出額整理表!D$200:D$378,0)) -> 1620 | F323: =IF(_xlfn.XLOOKUP($C323,貼_産出額整理表!$B$200:$B$378,貼_産出額整理表!E$200:E$378,0)="-",NA(),_xlfn.XLOOKUP($C323,貼_産出額整理表!$B$200:$B$378,貼_産出額整理表!E$200:E$378,0)) -> 401 | G323: =IF(_xlfn.XLOOKUP($C323,貼_産出額整理表!$B$200:$B$378,貼_産出額整理表!F$200:F$378,0)="-",NA(),_xlfn.XLOOKUP($C323,貼_産出額整理表!$B$200:$B$378,貼_産出額整理表!F$200:F$378,0)) -> 170 | H323: =IF(_xlfn.XLOOKUP($C323,貼_産出額整理表!$B$200:$B$378,貼_産出額整理表!G$200:G$378,0)="-",NA(),_xlfn.XLOOKUP($C323,貼_産出額整理表!$B$200:$B$378,貼_産出額整理表!G$200:G$378,0)) -> 12 | I323: =IF(_xlfn.XLOOKUP($C323,貼_産出額整理表!$B$200:$B$378,貼_産出額整理表!H$200:H$378,0)="-",NA(),_xlfn.XLOOKUP($C323,貼_産出額整理表!$B$200:$B$378,貼_産出額整理表!H$200:H$378,0)) -> 80 | J323: =IF(_xlfn.XLOOKUP($C323,貼_産出額整理表!$B$200:$B$378,貼_産出額整理表!I$200:I$378,0)="-",NA(),_xlfn.XLOOKUP($C323,貼_産出額整理表!$B$200:$B$378,貼_産出額整理表!I$200:I$378,0)) -> 244 | K323: =IF(_xlfn.XLOOKUP($C323,貼_産出額整理表!$B$200:$B$378,貼_産出額整理表!M$200:M$378,0)="-",NA(),_xlfn.XLOOKUP($C323,貼_産出額整理表!$B$200:$B$378,貼_産出額整理表!M$200:M$378,0)) -> 251 | L323: =IF(_xlfn.XLOOKUP($C323,貼_産出額整理表!$B$200:$B$378,貼_産出額整理表!N$200:N$378,0)="-",NA(),_xlfn.XLOOKUP($C323,貼_産出額整理表!$B$200:$B$378,貼_産出額整理表!N$200:N$378,0)) -> 1 | M323: =IF(_xlfn.XLOOKUP($C323,貼_産出額整理表!$B$200:$B$378,貼_産出額整理表!J$200:J$378,0)="-",NA(),_xlfn.XLOOKUP($C323,貼_産出額整理表!$B$200:$B$378,貼_産出額整理表!J$200:J$378,0)) -> 773 | N323: =IF(_xlfn.XLOOKUP($C323,貼_産出額整理表!$B$200:$B$378,貼_産出額整理表!K$200:K$378,0)="-",NA(),_xlfn.XLOOKUP($C323,貼_産出額整理表!$B$200:$B$378,貼_産出額整理表!K$200:K$378,0)) -> 28 | O323: =IF(_xlfn.XLOOKUP($C323,貼_産出額整理表!$B$200:$B$378,貼_産出額整理表!L$200:L$378,0)="-",NA(),_xlfn.XLOOKUP($C323,貼_産出額整理表!$B$200:$B$378,貼_産出額整理表!L$200:L$378,0)) -> 48 | P323: =IF(_xlfn.XLOOKUP($C323,貼_産出額整理表!$B$200:$B$378,貼_産出額整理表!O$200:O$378,0)="-",NA(),_xlfn.XLOOKUP($C323,貼_産出額整理表!$B$200:$B$378,貼_産出額整理表!O$200:O$378,0)) -> 2062 | Q323: =IF(_xlfn.XLOOKUP($C323,貼_産出額整理表!$B$200:$B$378,貼_産出額整理表!Q$200:Q$378,0)="-",NA(),_xlfn.XLOOKUP($C323,貼_産出額整理表!$B$200:$B$378,貼_産出額整理表!Q$200:Q$378,0)) -> 1411 | R323: =IF(_xlfn.XLOOKUP($C323,貼_産出額整理表!$B$200:$B$378,貼_産出額整理表!R$200:R$378,0)="-",NA(),_xlfn.XLOOKUP($C323,貼_産出額整理表!$B$200:$B$378,貼_産出額整理表!R$200:R$378,0)) -> 1278 | S323: =IF(_xlfn.XLOOKUP($C323,貼_産出額整理表!$B$200:$B$378,貼_産出額整理表!P$200:P$378,0)="-",NA(),_xlfn.XLOOKUP($C323,貼_産出額整理表!$B$200:$B$378,貼_産出額整理表!P$200:P$378,0)) -> 448
C324: 6 | D324: =IF(_xlfn.XLOOKUP($C324,貼_産出額整理表!$B$200:$B$378,貼_産出額整理表!C$200:C$378,0)="-",NA(),_xlfn.XLOOKUP($C324,貼_産出額整理表!$B$200:$B$378,貼_産出額整理表!C$200:C$378,0)) -> 2711 | E324: =IF(_xlfn.XLOOKUP($C324,貼_産出額整理表!$B$200:$B$378,貼_産出額整理表!D$200:D$378,0)="-",NA(),_xlfn.XLOOKUP($C324,貼_産出額整理表!$B$200:$B$378,貼_産出額整理表!D$200:D$378,0)) -> 1505 | F324: =IF(_xlfn.XLOOKUP($C324,貼_産出額整理表!$B$200:$B$378,貼_産出額整理表!E$200:E$378,0)="-",NA(),_xlfn.XLOOKUP($C324,貼_産出額整理表!$B$200:$B$378,貼_産出額整理表!E$200:E$378,0)) -> 340 | G324: =IF(_xlfn.XLOOKUP($C324,貼_産出額整理表!$B$200:$B$378,貼_産出額整理表!F$200:F$378,0)="-",NA(),_xlfn.XLOOKUP($C324,貼_産出額整理表!$B$200:$B$378,貼_産出額整理表!F$200:F$378,0)) -> 150 | H324: =IF(_xlfn.XLOOKUP($C324,貼_産出額整理表!$B$200:$B$378,貼_産出額整理表!G$200:G$378,0)="-",NA(),_xlfn.XLOOKUP($C324,貼_産出額整理表!$B$200:$B$378,貼_産出額整理表!G$200:G$378,0)) -> 11 | I324: =IF(_xlfn.XLOOKUP($C324,貼_産出額整理表!$B$200:$B$378,貼_産出額整理表!H$200:H$378,0)="-",NA(),_xlfn.XLOOKUP($C324,貼_産出額整理表!$B$200:$B$378,貼_産出額整理表!H$200:H$378,0)) -> 69 | J324: =IF(_xlfn.XLOOKUP($C324,貼_産出額整理表!$B$200:$B$378,貼_産出額整理表!I$200:I$378,0)="-",NA(),_xlfn.XLOOKUP($C324,貼_産出額整理表!$B$200:$B$378,貼_産出額整理表!I$200:I$378,0)) -> 226 | K324: =IF(_xlfn.XLOOKUP($C324,貼_産出額整理表!$B$200:$B$378,貼_産出額整理表!M$200:M$378,0)="-",NA(),_xlfn.XLOOKUP($C324,貼_産出額整理表!$B$200:$B$378,貼_産出額整理表!M$200:M$378,0)) -> 245 | L324: =IF(_xlfn.XLOOKUP($C324,貼_産出額整理表!$B$200:$B$378,貼_産出額整理表!N$200:N$378,0)="-",NA(),_xlfn.XLOOKUP($C324,貼_産出額整理表!$B$200:$B$378,貼_産出額整理表!N$200:N$378,0)) -> 1 | M324: =IF(_xlfn.XLOOKUP($C324,貼_産出額整理表!$B$200:$B$378,貼_産出額整理表!J$200:J$378,0)="-",NA(),_xlfn.XLOOKUP($C324,貼_産出額整理表!$B$200:$B$378,貼_産出額整理表!J$200:J$378,0)) -> 751 | N324: =IF(_xlfn.XLOOKUP($C324,貼_産出額整理表!$B$200:$B$378,貼_産出額整理表!K$200:K$378,0)="-",NA(),_xlfn.XLOOKUP($C324,貼_産出額整理表!$B$200:$B$378,貼_産出額整理表!K$200:K$378,0)) -> 25 | O324: =IF(_xlfn.XLOOKUP($C324,貼_産出額整理表!$B$200:$B$378,貼_産出額整理表!L$200:L$378,0)="-",NA(),_xlfn.XLOOKUP($C324,貼_産出額整理表!$B$200:$B$378,貼_産出額整理表!L$200:L$378,0)) -> 30 | P324: =IF(_xlfn.XLOOKUP($C324,貼_産出額整理表!$B$200:$B$378,貼_産出額整理表!O$200:O$378,0)="-",NA(),_xlfn.XLOOKUP($C324,貼_産出額整理表!$B$200:$B$378,貼_産出額整理表!O$200:O$378,0)) -> 1872 | Q324: =IF(_xlfn.XLOOKUP($C324,貼_産出額整理表!$B$200:$B$378,貼_産出額整理表!Q$200:Q$378,0)="-",NA(),_xlfn.XLOOKUP($C324,貼_産出額整理表!$B$200:$B$378,貼_産出額整理表!Q$200:Q$378,0)) -> 1351 | R324: =IF(_xlfn.XLOOKUP($C324,貼_産出額整理表!$B$200:$B$378,貼_産出額整理表!R$200:R$378,0)="-",NA(),_xlfn.XLOOKUP($C324,貼_産出額整理表!$B$200:$B$378,貼_産出額整理表!R$200:R$378,0)) -> 1181 | S324: =IF(_xlfn.XLOOKUP($C324,貼_産出額整理表!$B$200:$B$378,貼_産出額整理表!P$200:P$378,0)="-",NA(),_xlfn.XLOOKUP($C324,貼_産出額整理表!$B$200:$B$378,貼_産出額整理表!P$200:P$378,0)) -> 404
...

Sheet 貼_前年計算用シート
B1: 表示データ→ | C1: 農業産出額計 | E1: てんさい円グラフ用→ | F1: 十勝 | G1: オホーツク | H1: 上川 | I1: その他
B2: グラフの種類（判定）→ | C2: グラフ_農業産出額計 | F2: 0.46623094 | G2: 0.38997821 | H2: 0.050108932 | I2: 0.093681917
A3: 注1：色付きセルはベタ打ち | C3: 作成時メモ（課題等）→ ※全体向けメモは右端
A4: 注2：この色のセルは要更新 | D4: 農業産出額計 | E4: 耕種 | F4: 米 | G4: 小麦 | H4: そば | I4: 大豆 | J4: ばれいしょ | K4: てんさい | L4: なたね | M4: 野菜 | N4: 果実 | O4: 花き | P4: 畜産 | Q4: 乳用牛 | R4: 生乳 | S4: 肉用牛
B5: データ年 ※手入力で更新 | D5: 令和３年 | E5: 令和３年 | F5: 令和３年 | G5: 令和３年 | H5: 令和３年 | I5: 令和３年 | J5: 令和３年 | K5: 令和３年 | L5: 令和３年 | M5: 令和３年 | N5: 令和３年 | O5: 令和３年 | P5: 令和３年 | Q5: 令和３年 | R5: 令和３年 | S5: 令和３年
B6: 全国トップ５等 | C6: タイトル | D6: 全国トップ５とシェア | E6: 全国トップ５とシェア | F6: 全国トップ５とシェア | G6: 全国トップ５とシェア | H6: 全国トップ５とシェア | I6: 全国トップ５とシェア | J6: 全国トップ５とシェア | K6: 全国値と北海道値 | L6: 全国トップ５とシェア | M6: 全国トップ５とシェア | N6: 全国ランキング上位と北海道 | O6: 全国ランキング上位と北海道 | P6: 全国トップ５とシェア | Q6: 全国トップ５とシェア | R6: 全国トップ５とシェア | S6: 全国トップ５とシェア
C7: 都道府県名 1 | D7: 北海道 | E7: 北海道 | F7: 新潟 | G7: 北海道 | H7: 北海道 | I7: 北海道 | J7: 北海道 | K7: 北海道 | L7: 北海道 | M7: 北海道 | N7: 青森 | O7: 愛知 | P7: 北海道 | Q7: 北海道 | R7: 北海道 | S7: 鹿児島
C8: 2 | D8: 鹿児島 | E8: 茨城 | F8: 北海道 | G8: 福岡 | H8: 山形 | I8: 宮城 | J8: 鹿児島 | L8: 青森 | M8: 茨城 | N8: 長野 | O8: 千葉 | P8: 鹿児島 | Q8: 栃木 | R8: 栃木 | S8: 北海道
C9: 3 | D9: 茨城 | E9: 千葉 | F9: 秋田 | G9: 佐賀 | H9: 長野 | I9: 秋田 | J9: 長崎 | L9: 滋賀 | M9: 千葉 | N9: 和歌山 | O9: 静岡 | P9: 宮崎 | Q9: 熊本 | R9: 熊本 | S9: 宮崎
C10: 4 | D10: 宮崎 | E10: 長野 | F10: 山形 | G10: 愛知 | H10: 福島 | I10: 滋賀 | J10: 茨城 | L10: 福岡 | M10: 熊本 | N10: 山梨 | O10: 福岡 | P10: 岩手 | Q10: 岩手 | R10: 岩手 | S10: 熊本
C11: 5 | D11: 熊本 | E11: 青森 | F11: 宮城 | G11: 熊本 | H11: 秋田 | I11: 兵庫 | J11: 千葉 | L11: 佐賀 | M11: 愛知 | N11: 山形 | O11: 茨城 | P11: 熊本 | Q11: 千葉 | R11: 千葉 | S11: 岩手
D12: 千葉 | E12: 熊本 | F12: 茨城 | G12: 埼玉 | H12: 栃木 | I12: 佐賀 | J12: 静岡 | L12: 長野 | M12: 群馬 | N12: 愛媛 | O12: 埼玉 | P12: 茨城 | Q12: 群馬 | R12: 群馬 | S12: 長崎
D13: 青森 | E13: 愛知 | F13: 福島 | G13: 三重 | H13: 茨城 | I13: 新潟 | J13: 長野 | L13: 熊本 | M13: 長野 | N13: 熊本 | O13: 長野 | P13: 栃木 | Q13: 茨城 | R13: 茨城 | S13: 宮城
D14: 愛知 | E14: 山形 | F14: 千葉 | G14: 群馬 | H14: 岩手 | I14: 福岡 | J14: 青森 | L14: 群馬 | M14: 青森 | N14: 福島 | O14: 北海道 | P14: 群馬 | Q14: 愛知 | R14: 愛知 | S14: 栃木
D15: 栃木 | E15: 新潟 | F15: 岩手 | G15: 茨城 | H15: 福井 | I15: 青森 | J15: 熊本 | L15: 埼玉 | M15: 埼玉 | N15: 岡山 | O15: 鹿児島 | P15: 千葉 | Q15: 岡山 | R15: 岡山 | S15: 沖縄
D16: 岩手 | E16: 鹿児島 | F16: 栃木 | G16: 滋賀 | H16: 青森 | I16: 富山 | J16: 福島 | L16: 愛知 | M16: 栃木 | N16: 静岡 | O16: 熊本 | P16: 青森 | Q16: 宮城 | R16: 宮城 | S16: 佐賀
D17: 長野 | E17: 福岡 | F17: 兵庫 | G17: 岐阜 | H17: 新潟 | I17: 山形 | J17: 埼玉 | L17: 兵庫 | M17: 高知 | N17: 福岡 | O17: 沖縄 | P17: 愛知 | Q17: 長野 | R17: 兵庫 | S17: 茨城
D18: 群馬 | E18: 福島 | F18: 青森 | G18: 岩手 | H18: 群馬 | I18: 愛知 | J18: 岩手 | L18: 大分 | M18: 福岡 | N18: 佐賀 | O18: 福島 | P18: 宮城 | Q18: 兵庫 | R18: 長野 | S18: 兵庫
D19: 山形 | E19: 静岡 | F19: 長野 | G19: 大分 | H19: 滋賀 | I19: 岩手 | J19: 新潟 | L19: 鹿児島 | M19: 宮崎 | N19: 愛知 | O19: 長崎 | P19: 岡山 | Q19: 静岡 | R19: 静岡 | S19: 群馬
D20: 新潟 | E20: 栃木 | F20: 富山 | G20: 栃木 | H20: 鹿児島 | I20: 岡山 | J20: 福岡 | L20: 福島 | M20: 静岡 | N20: 広島 | O20: 新潟 | P20: 兵庫 | Q20: 鹿児島 | R20: 島根 | S20: 青森
D21: 静岡 | E21: 秋田 | F21: 福岡 | G21: 長野 | H21: 熊本 | I21: 三重 | J21: 宮崎 | L21: 岩手 | M21: 鹿児島 | N21: 長崎 | O21: 宮崎 | P21: 長崎 | Q21: 島根 | R21: 鹿児島 | S21: 大分
D22: 福岡 | E22: 埼玉 | F22: 滋賀 | G22: 山口 | H22: 富山 | I22: 茨城 | J22: 栃木 | L22: 栃木 | M22: 山形 | N22: 大分 | O22: 栃木 | P22: 広島 | Q22: 宮崎 | R22: 宮崎 | S22: 山形
D23: 福島 | E23: 群馬 | F23: 熊本 | G23: 香川 | H23: 埼玉 | I23: 岐阜 | J23: 広島 | L23: 静岡 | M23: 長崎 | N23: 岩手 | O23: 岐阜 | P23: 静岡 | Q23: 福岡 | R23: 福岡 | S23: 福島
... D53: 東京 | E53: 東京 | F53: 東京 | G53: 高知 | H53: 高知 | I53: - | J53: 和歌山 | L53: - | M53: 富山 | N53: 滋賀 | O53: 福井 | P53: 東京 | Q53: 和歌山 | R53: 和歌山 | S53: 東京
C54: データ（全国値） | D54: 88600 | E54: 53989 | F54: 13751 | G54: 611 | H54: 75 | I54: 413 | J54: 1369 | K54: 459 | L54: 2 | M54: 21467 | N54: 9159 | O54: 3306 | P54: 34062 | Q54: 9286 | R54: 7863 | S54: 7662
C55: 1 | D55: 13108 | E55: 5456 | F55: 1252 | G55: 498 | H55: 26 | I55: 175 | J55: 721 | K55: 459 | L55: 1 | M55: 2094 | N55: 1094 | O55: 542 | P55: 7652 | Q55: 4976 | R55: 4069 | S55: 1240
C56: 2 | D56: 4997 | E56: 2822 | F56: 1041 | G56: 27 | H56: 8 | I56: 32 | J56: 184 | L56: 0 | M56: 1530 | N56: 870 | O56: 187 | P56: 3329 | Q56: 465 | R56: 402 | S56: 1131
C57: 3 | D57: 4263 | E57: 2375 | F57: 876 | G57: 16 | H57: 7 | I57: 20 | J57: 148 | L57: 0 | M57: 1280 | N57: 790 | O57: 168 | P57: 2308 | Q57: 341 | R57: 300 | S57: 815
C58: 4 | D58: 3478 | E58: 2333 | F58: 701 | G58: 10 | H58: 5 | I58: 19 | J58: 34 | L58: 0 | M58: 1186 | N58: 789 | O58: 165 | P58: 1701 | Q58: 258 | R58: 234 | S58: 454
C59: 5 | D59: 3477 | E59: 2330 | F59: 634 | G59: 7 | H59: 5 | I59: 16 | J59: 27 | L59: 0 | M59: 1031 | N59: 694 | O59: 159 | P59: 1318 | Q59: 257 | R59: 225 | S59: 280
D60: 3471 | E60: 2135 | F60: 596 | G60: 7 | H60: 5 | I60: 12 | J60: 25 | L60: 0 | M60: 891 | N60: 553 | O60: 158 | P60: 1311 | Q60: 257 | R60: 218 | S60: 265
D61: 3277 | E61: 2076 | F61: 574 | G61: 6 | H61: 4 | I61: 11 | J61: 20 | L61: 0 | M61: 866 | N61: 362 | O61: 156 | P61: 1287 | Q61: 217 | R61: 197 | S61: 264
D62: 2922 | E62: 1943 | F62: 466 | G62: 5 | H62: 3 | I62: 11 | J62: 17 | L62: 0 | M62: 753 | N62: 297 | O62: 131 | P62: 1158 | Q62: 206 | R62: 182 | S62: 243
D63: 2693 | E63: 1764 | F63: 460 | G63: 5 | H63: 2 | I63: 11 | J63: 17 | L63: 0 | M63: 743 | N63: 284 | O63: 118 | P63: 1094 | Q63: 148 | R63: 135 | S63: 209
D64: 2651 | E64: 1580 | F64: 453 | G64: 5 | H64: 2 | I64: 11 | J64: 14 | L64: 0 | M64: 707 | N64: 282 | O64: 94 | P64: 947 | Q64: 134 | R64: 122 | S64: 181
D65: 2624 | E65: 1560 | F65: 391 | G65: 3 | H65: 1 | I65: 11 | J65: 12 | L65: 0 | M65: 676 | N65: 257 | O65: 78 | P65: 840 | Q65: 116 | R65: 100 | S65: 174
D66: 2404 | E66: 1427 | F66: 389 | G66: 2 | H66: 1 | I66: 11 | J66: 11 | L66: 0 | M66: 668 | N66: 204 | O66: 78 | P66: 753 | Q66: 116 | R66: 100 | S66: 173
D67: 2337 | E67: 1418 | F67: 371 | G67: 2 | H67: 1 | I67: 9 | J67: 11 | L67: 0 | M67: 661 | N67: 192 | O67: 73 | P67: 689 | Q67: 108 | R67: 97 | S67: 167
D68: 2269 | E68: 1399 | F68: 353 | G68: 2 | H68: 1 | I68: 7 | J68: 10 | L68: 0 | M68: 591 | N68: 161 | O68: 69 | P68: 635 | Q68: 103 | R68: 90 | S68: 161
D69: 2084 | E69: 1302 | F69: 327 | G69: 2 | H69: 0 | I69: 6 | J69: 10 | L69: 0 | M69: 545 | N69: 151 | O69: 69 | P69: 579 | Q69: 101 | R69: 88 | S69: 139
D70: 1968 | E70: 1263 | F70: 305 | G70: 2 | H70: 0 | I70: 6 | J70: 10 | L70: 0 | M70: 455 | N70: 140 | O70: 68 | P70: 545 | Q70: 98 | R70: 84 | S70: 133
D71: 1913 | E71: 1245 | F71: 302 | G71: 2 | H71: 0 | I71: 5 | J71: 9 | L71: 0 | M71: 439 | N71: 132 | O71: 65 | P71: 544 | Q71: 97 | R71: 83 | S71: 133
... D81: 1206 | E81: 845 | F81: 178 | G81: 0 | H81: 0 | I81: 2 | J81: 3 | L81: 0 | M81: 271 | N81: 79 | O81: 36 | P81: 356 | Q81: 55 | R81: 48 | S81: 71
D82: 1135 | E82: 768 | F82: 176 | G82: 0 | H82: 0 | I82: 1 | J82: 3 | L82: - | M82: 248 | N82: 77 | O82: 35 | P82: 336 | Q82: 52 | R82: 44 | S82: 71
D83: 1113 | E83: 754 | F83: 176 | G83: 0 | H83: 0 | I83: 1 | J83: 3 | L83: - | M83: 245 | N83: 75 | O83: 35 | P83: 289 | Q83: 43 | R83: 39 | S83: 61
D84: 1104 | E84: 679 | F84: 164 | G84: 0 | H84: 0 | I84: 1 | J84: 3 | L84: - | M84: 242 | N84: 73 | O84: 34 | P84: 281 | Q84: 41 | R84: 37 | S84: 60
D85: 1069 | E85: 669 | F85: 162 | G85: 0 | H85: 0 | I85: 1 | J85: 3 | L85: - | M85: 236 | N85: 69 | O85: 33 | P85: 278 | Q85: 39 | R85: 36 | S85: 56
D86: 1067 | E86: 649 | F86: 159 | G86: 0 | H86: 0 | I86: 1 | J86: 3 | L86: - | M86: 205 | N86: 67 | O86: 33 | P86: 270 | Q86: 38 | R86: 35 | S86: 52
D87: 930 | E87: 597 | F87: 151 | G87: 0 | H87: 0 | I87: 1 | J87: 3 | L87: - | M87: 203 | N87: 65 | O87: 30 | P87: 264 | Q87: 36 | R87: 33 | S87: 50
D88: 922 | E88: 508 | F88: 138 | G88: 0 | H88: 0 | I88: 0 | J88: 2 | L88: - | M88: 187 | N88: 64 | O88: 29 | P88: 262 | Q88: 35 | R88: 31 | S88: 45
D89: 792 | E89: 501 | F89: 123 | G89: 0 | H89: 0 | I89: 0 | J89: 2 | L89: - | M89: 150 | N89: 61 | O89: 26 | P89: 209 | Q89: 34 | R89: 30 | S89: 37
D90: 727 | E90: 488 | F90: 110 | G90: 0 | H90: 0 | I90: 0 | J90: 2 | L90: - | M90: 149 | N90: 53 | O90: 26 | P90: 150 | Q90: 28 | R90: 25 | S90: 27
D91: 663 | E91: 471 | F91: 105 | G91: 0 | H91: 0 | I91: 0 | J91: 2 | L91: - | M91: 137 | N91: 53 | O91: 26 | P91: 148 | Q91: 26 | R91: 23 | S91: 17
D92: 660 | E92: 457 | F92: 102 | G92: 0 | H92: 0 | I92: 0 | J92: 2 | L92: - | M92: 136 | N92: 52 | O92: 25 | P92: 114 | Q92: 25 | R92: 23 | S92: 16
D93: 643 | E93: 455 | F93: 101 | G93: 0 | H93: 0 | I93: 0 | J93: 2 | L93: - | M93: 119 | N93: 43 | O93: 23 | P93: 94 | Q93: 25 | R93: 22 | S93: 15
... D99: 391 | E99: 330 | F99: 30 | G99: 0 | H99: 0 | I99: 0 | J99: 1 | L99: - | M99: 98 | N99: 19 | O99: 10 | P99: 37 | Q99: 11 | R99: 10 | S99: 8
D100: 296 | E100: 277 | F100: 5 | G100: 0 | H100: 0 | I100: - | J100: 1 | L100: - | M100: 81 | N100: 12 | O100: 6 | P100: 19 | Q100: 8 | R100: 8 | S100: 2
D101: 196 | E101: 178 | F101: 1 | G101: 0 | H101: 0 | I101: - | J101: 1 | L101: - | M101: 52 | N101: 7 | O101: 4 | P101: 18 | Q101: 7 | R101: 6 | S101: 2
C102: 順位 | D102: 1 | E102: 1 | F102: 1 | G102: 1 | H102: 1 | I102: 1 | J102: 1 | K102: 1 | L102: 1 | M102: 1 | N102: 1 | O102: 1 | P102: 1 | Q102: 1 | R102: 1 | S102: 1
D103: 2 | E103: 2 | F103: 2 | G103: 2 | H103: 2 | I103: 2 | J103: 2 | L103: 2 | M103: 2 | N103: 2 | O103: 2 | P103: 2 | Q103: 2 | R103: 2 | S103: 2
D104: 3 | E104: 3 | F104: 3 | G104: 3 | H104: 3 | I104: 3 | J104: 3 | L104: 2 | M104: 3 | N104: 3 | O104: 3 | P104: 3 | Q104: 3 | R104: 3 | S104: 3
D105: 4 | E105: 4 | F105: 4 | G105: 4 | H105: 4 | I105: 4 | J105: 4 | L105: 2 | M105: 4 | N105: 4 | O105: 4 | P105: 4 | Q105: 4 | R105: 4 | S105: 4
D106: 5 | E106: 5 | F106: 5 | G106: 5 | H106: 4 | I106: 5 | J106: 5 | L106: 2 | M106: 5 | N106: 5 | O106: 5 | P106: 5 | Q106: 5 | R106: 5 | S106: 5
C107: ※北海道が6位以下の場合の北海道の順位 | N107: 28 | O107: 8
C108: グラフタイトル | D108: 全国における北海道のシェア | E108: 全国における北海道のシェア | F108: 全国における北海道のシェア | G108: 全国における北海道のシェア | H108: 全国における北海道のシェア | I108: 全国における北海道のシェア | J108: 全国における北海道のシェア | K108: 地域別シェア | L108: 全国における北海道のシェア | M108: 全国における北海道のシェア | N108: 全国における北海道のシェア | O108: 全国における北海道のシェア | P108: 全国における北海道のシェア | Q108: 全国における北海道のシェア | R108: 全国における北海道のシェア | S108: 全国における北海道のシェア
C109: グラフ用データ_円_北海道 | D109: 14.8 | E109: 10.1 | F109: 7.6 | G109: 81.5 | H109: 34.7 | I109: 42.4 | J109: 52.7 | K109: 100 | L109: 50 | M109: 9.8 | N109: 0.8 | O109: 4 | P109: 22.5 | Q109: 53.6 | R109: 51.7 | S109: 14.8
C110: その他都府県 | D110: 85.2 | E110: 89.9 | F110: 92.4 | G110: 18.5 | H110: 65.3 | I110: 57.6 | J110: 47.3 | K110: 0 | L110: 50 | M110: 90.2 | N110: 99.2 | O110: 96 | P110: 77.5 | Q110: 46.4 | R110: 48.3 | S110: 85.2
C111: 振興局名 1 | D111: 十勝 | E111: 十勝 | F111: 空知 | G111: 十勝 | H111: 上川 | I111: 十勝 | J111: 十勝 | K111: 十勝 | L111: 空知 | M111: オホーツク | N111: 後志 | O111: 空知 | P111: 十勝 | Q111: 十勝 | R111: 十勝 | S111: 十勝
C112: 2 | D112: オホーツク | E112: オホーツク | F112: 上川 | G112: オホーツク | H112: 空知 | I112: 空知 | J112: オホーツク | K112: オホーツク | L112: 石狩 | M112: 上川 | N112: 空知 | O112: 石狩 | P112: 根室 | Q112: 根室 | R112: 根室 | S112: オホーツク
C113: 3 | D113: 上川 | E113: 空知 | F113: 石狩 | G113: 空知 | H113: 後志 | I113: 上川 | J113: 後志 | K113: 上川 | L113: 檜山 | M113: 十勝 | N113: 胆振 | O113: 上川 | P113: オホーツク | Q113: 釧路 | R113: 釧路 | S113: 胆振
C114: 4 | D114: 根室 | E114: 上川 | F114: 後志 | G114: 上川 | H114: 檜山 | I114: 石狩 | J114: 上川 | K114: 胆振 | L114: 上川 | M114: 空知 | N114: 上川 | O114: 渡島 | P114: 釧路 | Q114: オホーツク | R114: オホーツク | S114: 上川
C115: 5 | D115: 空知 | E115: 後志 | F115: 留萌 | G115: 石狩 | H115: 留萌 | I115: オホーツク | J115: 檜山 | K115: 石狩 | L115: 胆振 | M115: 後志 | N115: 留萌 | O115: 後志 | P115: 日高 | Q115: 宗谷 | R115: 宗谷 | S115: 釧路
C116: 6 | D116: 釧路 | E116: 石狩 | F116: 檜山 | G116: 胆振 | H116: オホーツク | I116: 後志 | J116: 石狩 | K116: 後志 | L116: 十勝 | M116: 石狩 | N116: 石狩 | O116: 十勝 | P116: 宗谷 | Q116: 上川 | R116: 上川 | S116: 渡島
C117: 7 | D117: 日高 | E117: 胆振 | F117: 胆振 | G117: 後志 | H117: 十勝 | I117: 胆振 | J117: 渡島 | K117: 空知 | L117: 渡島 | M117: 胆振 | N117: 渡島 | O117: 胆振 | P117: 胆振 | Q117: 渡島 | R117: 渡島 | S117: 日高
C118: 8 | D118: 胆振 | E118: 渡島 | F118: 渡島 | G118: 留萌 | H118: 根室 | I118: 檜山 | J118: 胆振 | K118: 檜山 | L118: 後志 | M118: 渡島 | N118: 十勝 | O118: オホーツク | P118: 上川 | Q118: 石狩 | R118: 留萌 | S118: 宗谷
C119: 9 | D119: 石狩 | E119: 檜山 | F119: 日高 | G119: 檜山 | H119: 石狩 | I119: 渡島 | J119: 釧路 | K119: 留萌 | L119: 留萌 | M119: 日高 | N119: 檜山 | O119: 日高 | P119: 渡島 | Q119: 留萌 | R119: 石狩 | S119: 空知
C120: 10 | D120: 宗谷 | E120: 日高 | F120: オホーツク | G120: 渡島 | H120: 渡島 | I120: 留萌 | J120: 根室 | K120: 釧路 | L120: 宗谷 | M120: 檜山 | N120: オホーツク | O120: 檜山 | P120: 石狩 | Q120: 日高 | R120: 日高 | S120: 根室
C121: 11 | D121: 後志 | E121: 留萌 | F121: 十勝 | G121: 釧路 | H121: 宗谷 | I121: 日高 | J121: 空知 | K121: 渡島 | L121: オホーツク | M121: 釧路 | N121: 日高 | O121: 留萌 | P121: 空知 | Q121: 胆振 | R121: 胆振 | S121: 留萌
C122: 12 | D122: 渡島 | E122: 釧路 | F122: 宗谷 | G122: 日高 | H122: 胆振 | I122: 釧路 | J122: 日高 | K122: 根室 | L122: 日高 | M122: 留萌 | N122: 釧路 | O122: 宗谷 | P122: 留萌 | Q122: 空知 | R122: 空知 | S122: 檜山
C123: 13 | D123: 留萌 | E123: 根室 | F123: 釧路 | G123: 根室 | H123: 日高 | I123: 宗谷 | J123: 留萌 | K123: 日高 | L123: 釧路 | M123: 根室 | N123: 宗谷 | O123: 釧路 | P123: 後志 | Q123: 檜山 | R123: 檜山 | S123: 石狩
C124: 14 | D124: 檜山 | E124: 宗谷 | F124: 根室 | G124: 宗谷 | H124: 釧路 | I124: 根室 | J124: 宗谷 | K124: 宗谷 | L124: 根室 | M124: 宗谷 | N124: 根室 | O124: 根室 | P124: 檜山 | Q124: 後志 | R124: 後志 | S124: 後志
C125: データ（全道） | D125: 13108 | E125: 5456 | F125: 1041 | G125: 498 | H125: 26 | I125: 175 | J125: 721 | K125: 459 | L125: 1 | M125: 2094 | N125: 77 | O125: 131 | P125: 7652 | Q125: 4976 | R125: 4069 | S125: 1131
C126: 1 | D126: 3291 | E126: 1307 | F126: 455 | G126: 204 | H126: 13 | I126: 54 | J126: 341 | K126: 214 | L126: 1 | M126: 485 | N126: 42 | O126: 57 | P126: 1983 | Q126: 1421 | R126: 1150 | S126: 453
C127: 2 | D127: 2097 | E127: 1114 | F127: 313 | G127: 129 | H127: 5 | I127: 44 | J127: 261 | K127: 179 | L127: 0 | M127: 384 | N127: 12 | O127: 22 | P127: 1132 | Q127: 1080 | R127: 880 | S127: 159
C128: 3 | D128: 1218 | E128: 906 | F128: 70 | G128: 68 | H128: 3 | I128: 25 | J128: 46 | K128: 23 | L128: 0 | M128: 359 | N128: 5 | O128: 9 | P128: 983 | Q128: 749 | R128: 620 | S128: 101
C129: 4 | D129: 1149 | E129: 858 | F129: 45 | G129: 44 | H129: 1 | I129: 16 | J129: 26 | K129: 11 | L129: 0 | M129: 251 | N129: 4 | O129: 8 | P129: 872 | Q129: 674 | R129: 550 | S129: 81
C130: 5 | D130: 1018 | E130: 336 | F130: 40 | G130: 31 | H130: 1 | I130: 12 | J130: 10 | K130: 9 | L130: 0 | M130: 157 | N130: 4 | O130: 7 | P130: 594 | Q130: 401 | R130: 335 | S130: 80
C131: 6 | D131: 900 | E131: 292 | F131: 37 | G131: 7 | H131: 1 | I131: 7 | J131: 9 | K131: 9 | L131: 0 | M131: 124 | N131: 3 | O131: 7 | P131: 443 | Q131: 195 | R131: 161 | S131: 52
C132: 7 | D132: 662 | E132: 206 | F132: 34 | G132: 6 | H132: 1 | I132: 7 | J132: 7 | K132: 6 | L132: - | M132: 121 | N132: 2 | O132: 6 | P132: 442 | Q132: 93 | R132: 75 | S132: 51
C133: 8 | D133: 648 | E133: 156 | F133: 26 | G133: 5 | H133: 1 | I133: 6 | J133: 7 | K133: 2 | L133: - | M133: 106 | N133: 2 | O133: 5 | P133: 360 | Q133: 84 | R133: 68 | S133: 40
C134: 9 | D134: 514 | E134: 89 | F134: 12 | G134: 3 | H134: 0 | I134: 2 | J134: 7 | K134: 2 | L134: - | M134: 49 | N134: 1 | O134: 5 | P134: 264 | Q134: 83 | R134: 66 | S134: 32
C135: 10 | D135: 454 | E135: 69 | F135: 10 | G135: 1 | H135: 0 | I135: 2 | J135: 5 | K135: 2 | L135: - | M135: 26 | N135: 1 | O135: 1 | P135: 222 | Q135: 57 | R135: 49 | S135: 31
C136: 11 | D136: 426 | E136: 67 | F136: 0 | G136: 1 | H136: 0 | I136: 0 | J136: 3 | K136: 1 | L136: - | M136: 15 | N136: 0 | O136: 1 | P136: 112 | Q136: 52 | R136: 42 | S136: 22
C137: 12 | D137: 419 | E137: 28 | F137: - | G137: 0 | H137: 0 | I137: 0 | J137: 1 | K137: 1 | L137: - | M137: 11 | N137: 0 | O137: - | P137: 107 | Q137: 31 | R137: 26 | S137: 14
C138: 13 | D138: 173 | E138: 17 | F138: - | G138: 0 | H138: 0 | I138: - | J138: 0 | K138: 0 | L138: - | M138: 6 | N138: - | O138: - | P138: 90 | Q138: 28 | R138: 24 | S138: 10
C139: 14 | D139: 136 | E139: 10 | F139: - | G139: - | H139: 0 | I139: - | J139: 0 | K139: - | L139: - | M139: 1 | N139: - | O139: - | P139: 46 | Q139: 28 | R139: 23 | S139: 6
B140: 市町村ランキング | C140: 市町村名 1 | D140: 別海町 | E140: 北見市 | F140: 旭川市 | G140: 音更町 | H140: 幌加内町 | I140: 音更町 | J140: 芽室町 | K140: 帯広市 | L140: 美唄市 | M140: 北見市 | N140: 余市町 | O140: 月形町 | P140: 別海町 | Q140: 別海町 | R140: 別海町 | S140: 士幌町
C141: 2 | D141: 北見市 | E141: 帯広市 | F141: 深川市 | G141: 帯広市 | H141: 音威子府村 | I141: 岩見沢市 | J141: 小清水町 | K141: 網走市 | L141: 岩見沢市 | M141: 富良野市 | N141: 仁木町 | O141: 岩見沢市 | P141: 標茶町 | Q141: 中標津町 | R141: 中標津町 | S141: 清水町
C142: 3 | D142: 幕別町 | E142: 芽室町 | F142: 岩見沢市 | G142: 芽室町 | H142: 深川市 | I142: 長沼町 | J142: 幕別町 | K142: 音更町 | L142: 滝川市 | M142: 幕別町 | N142: 壮瞥町 | O142: 深川市 | P142: 中標津町 | Q142: 標茶町 | R142: 標茶町 | S142: 上士幌町
C143: 4 | D143: 標茶町 | E143: 幕別町 | F143: 名寄市 | G143: 幕別町 | H143: 旭川市 | I143: 帯広市 | J143: 網走市 | K143: 芽室町 | L143: 南幌町 | M143: 芽室町 | N143: 増毛町 | O143: 美唄市 | P143: 清水町 | Q143: 清水町 | R143: 清水町 | S143: 佐呂間町
...

Sheet 前年順位整理（自動更新）
A1: 表示データ→ | B1: =なんばんBOOK!C5 -> 農業産出額計
C3: 農業産出額計 | F3: 耕種 | I3: 米 | L3: 小麦 | O3: そば | R3: 大豆 | U3: ばれいしょ | X3: てんさい | AA3: なたね | AD3: 野菜 | AG3: 果実 | AJ3: 花き | AM3: 畜産 | AP3: 乳用牛 | AS3: 生乳 | AV3: 肉用牛
C4: 令和３年 | F4: 令和３年 | I4: 令和３年
D5: データ | E5: 順位 | G5: データ | H5: 順位 | J5: データ | K5: 順位 | M5: データ | N5: 順位 | P5: データ | Q5: 順位 | S5: データ | T5: 順位 | V5: データ | W5: 順位 | Y5: データ | Z5: 順位 | AB5: データ | AC5: 順位 | AE5: データ | AF5: 順位 | AH5: データ | AI5: 順位 | AK5: データ | AL5: 順位 | AN5: データ | AO5: 順位 | AQ5: データ | AR5: 順位 | AT5: データ | AU5: 順位 | AW5: データ | AX5: 順位
A6: 都道府県 | C6: =貼_前年計算用シート!D7 -> 北海道 | D6: =貼_前年計算用シート!D55 -> 13108 | E6: =IFERROR(_xlfn.RANK.EQ(D6,$D$6:$D$52),"-") -> 1 | F6: =貼_前年計算用シート!E7 -> 北海道 | G6: =貼_前年計算用シート!E55 -> 5456 | H6: =IFERROR(_xlfn.RANK.EQ(G6,$G$6:$G$52),"-") -> 1 | I6: =貼_前年計算用シート!F7 -> 新潟 | J6: =貼_前年計算用シート!F55 -> 1252 | K6: =IFERROR(_xlfn.RANK.EQ(J6,$J$6:$J$52),"-") -> 1 | L6: =貼_前年計算用シート!G7 -> 北海道 | M6: =貼_前年計算用シート!G55 -> 498 | N6: =IFERROR(_xlfn.RANK.EQ(M6,M$6:M$52),"-") -> 1 | O6: =貼_前年計算用シート!H7 -> 北海道 | P6: =貼_前年計算用シート!H55 -> 26 | Q6: =IFERROR(_xlfn.RANK.EQ(P6,P$6:P$52),"-") -> 1 | R6: =貼_前年計算用シート!I7 -> 北海道 | S6: =貼_前年計算用シート!I55 -> 175 | T6: =IFERROR(_xlfn.RANK.EQ(S6,S$6:S$52),"-") -> 1 | U6: =貼_前年計算用シート!J7 -> 北海道 | V6: =貼_前年計算用シート!J55 -> 721 | W6: =IFERROR(_xlfn.RANK.EQ(V6,V$6:V$52),"-") -> 1 | X6: =貼_前年計算用シート!K7 -> 北海道 | Y6: =貼_前年計算用シート!K55 -> 459 | Z6: =IFERROR(_xlfn.RANK.EQ(Y6,Y$6:Y$52),"-") -> 1 | AA6: =貼_前年計算用シート!L7 -> 北海道 | AB6: =貼_前年計算用シート!L55 -> 1 | AC6: =IFERROR(_xlfn.RANK.EQ(AB6,AB$6:AB$52),"-") -> 1 | AD6: =貼_前年計算用シート!M7 -> 北海道 | AE6: =貼_前年計算用シート!M55 -> 2094 | AF6: =IFERROR(_xlfn.RANK.EQ(AE6,AE$6:AE$52),"-") -> 1 | AG6: =貼_前年計算用シート!N7 -> 青森 | AH6: =貼_前年計算用シート!N55 -> 1094 | AI6: =IFERROR(_xlfn.RANK.EQ(AH6,AH$6:AH$52),"-") -> 1 | AJ6: =貼_前年計算用シート!O7 -> 愛知 | AK6: =貼_前年計算用シート!O55 -> 542 | AL6: =IFERROR(_xlfn.RANK.EQ(AK6,AK$6:AK$52),"-") -> 1 | AM6: =貼_前年計算用シート!P7 -> 北海道 | AN6: =貼_前年計算用シート!P55 -> 7652 | AO6: =IFERROR(_xlfn.RANK.EQ(AN6,AN$6:AN$52),"-") -> 1 | AP6: =貼_前年計算用シート!Q7 -> 北海道 | AQ6: =貼_前年計算用シート!Q55 -> 4976 | AR6: =IFERROR(_xlfn.RANK.EQ(AQ6,AQ$6:AQ$52),"-") -> 1 | AS6: =貼_前年計算用シート!R7 -> 北海道 | AT6: =貼_前年計算用シート!R55 -> 4069 | AU6: =IFERROR(_xlfn.RANK.EQ(AT6,AT$6:AT$52),"-") -> 1 | AV6: =貼_前年計算用シート!S7 -> 鹿児島 | AW6: =貼_前年計算用シート!S55 -> 1240 | AX6: =IFERROR(_xlfn.RANK.EQ(AW6,AW$6:AW$52),"-") -> 1
C7: =貼_前年計算用シート!D8 -> 鹿児島 | D7: =貼_前年計算用シート!D56 -> 4997 | E7: =IFERROR(_xlfn.RANK.EQ(D7,$D$6:$D$52),"-") -> 2 | F7: =貼_前年計算用シート!E8 -> 茨城 | G7: =貼_前年計算用シート!E56 -> 2822 | H7: =IFERROR(_xlfn.RANK.EQ(G7,$G$6:$G$52),"-") -> 2 | I7: =貼_前年計算用シート!F8 -> 北海道 | J7: =貼_前年計算用シート!F56 -> 1041 | K7: =IFERROR(_xlfn.RANK.EQ(J7,$J$6:$J$52),"-") -> 2 | L7: =貼_前年計算用シート!G8 -> 福岡 | M7: =貼_前年計算用シート!G56 -> 27 | N7: =IFERROR(_xlfn.RANK.EQ(M7,M$6:M$52),"-") -> 2 | O7: =貼_前年計算用シート!H8 -> 山形 | P7: =貼_前年計算用シート!H56 -> 8 | Q7: =IFERROR(_xlfn.RANK.EQ(P7,P$6:P$52),"-") -> 2 | R7: =貼_前年計算用シート!I8 -> 宮城 | S7: =貼_前年計算用シート!I56 -> 32 | T7: =IFERROR(_xlfn.RANK.EQ(S7,S$6:S$52),"-") -> 2 | U7: =貼_前年計算用シート!J8 -> 鹿児島 | V7: =貼_前年計算用シート!J56 -> 184 | W7: =IFERROR(_xlfn.RANK.EQ(V7,V$6:V$52),"-") -> 2 | X7: =貼_前年計算用シート!K8 -> 0 | Y7: =貼_前年計算用シート!K56 -> 0 | Z7: =IFERROR(_xlfn.RANK.EQ(Y7,Y$6:Y$52),"-") -> 2 | AA7: =貼_前年計算用シート!L8 -> 青森 | AB7: =貼_前年計算用シート!L56 -> 0 | AC7: =IFERROR(_xlfn.RANK.EQ(AB7,AB$6:AB$52),"-") -> 2 | AD7: =貼_前年計算用シート!M8 -> 茨城 | AE7: =貼_前年計算用シート!M56 -> 1530 | AF7: =IFERROR(_xlfn.RANK.EQ(AE7,AE$6:AE$52),"-") -> 2 | AG7: =貼_前年計算用シート!N8 -> 長野 | AH7: =貼_前年計算用シート!N56 -> 870 | AI7: =IFERROR(_xlfn.RANK.EQ(AH7,AH$6:AH$52),"-") -> 2 | AJ7: =貼_前年計算用シート!O8 -> 千葉 | AK7: =貼_前年計算用シート!O56 -> 187 | AL7: =IFERROR(_xlfn.RANK.EQ(AK7,AK$6:AK$52),"-") -> 2 | AM7: =貼_前年計算用シート!P8 -> 鹿児島 | AN7: =貼_前年計算用シート!P56 -> 3329 | AO7: =IFERROR(_xlfn.RANK.EQ(AN7,AN$6:AN$52),"-") -> 2 | AP7: =貼_前年計算用シート!Q8 -> 栃木 | AQ7: =貼_前年計算用シート!Q56 -> 465 | AR7: =IFERROR(_xlfn.RANK.EQ(AQ7,AQ$6:AQ$52),"-") -> 2 | AS7: =貼_前年計算用シート!R8 -> 栃木 | AT7: =貼_前年計算用シート!R56 -> 402 | AU7: =IFERROR(_xlfn.RANK.EQ(AT7,AT$6:AT$52),"-") -> 2 | AV7: =貼_前年計算用シート!S8 -> 北海道 | AW7: =貼_前年計算用シート!S56 -> 1131 | AX7: =IFERROR(_xlfn.RANK.EQ(AW7,AW$6:AW$52),"-") -> 2
C8: =貼_前年計算用シート!D9 -> 茨城 | D8: =貼_前年計算用シート!D57 -> 4263 | E8: =IFERROR(_xlfn.RANK.EQ(D8,$D$6:$D$52),"-") -> 3 | F8: =貼_前年計算用シート!E9 -> 千葉 | G8: =貼_前年計算用シート!E57 -> 2375 | H8: =IFERROR(_xlfn.RANK.EQ(G8,$G$6:$G$52),"-") -> 3 | I8: =貼_前年計算用シート!F9 -> 秋田 | J8: =貼_前年計算用シート!F57 -> 876 | K8: =IFERROR(_xlfn.RANK.EQ(J8,$J$6:$J$52),"-") -> 3 | L8: =貼_前年計算用シート!G9 -> 佐賀 | M8: =貼_前年計算用シート!G57 -> 16 | N8: =IFERROR(_xlfn.RANK.EQ(M8,M$6:M$52),"-") -> 3 | O8: =貼_前年計算用シート!H9 -> 長野 | P8: =貼_前年計算用シート!H57 -> 7 | Q8: =IFERROR(_xlfn.RANK.EQ(P8,P$6:P$52),"-") -> 3 | R8: =貼_前年計算用シート!I9 -> 秋田 | S8: =貼_前年計算用シート!I57 -> 20 | T8: =IFERROR(_xlfn.RANK.EQ(S8,S$6:S$52),"-") -> 3 | U8: =貼_前年計算用シート!J9 -> 長崎 | V8: =貼_前年計算用シート!J57 -> 148 | W8: =IFERROR(_xlfn.RANK.EQ(V8,V$6:V$52),"-") -> 3 | X8: =貼_前年計算用シート!K9 -> 0 | Y8: =貼_前年計算用シート!K57 -> 0 | Z8: =IFERROR(_xlfn.RANK.EQ(Y8,Y$6:Y$52),"-") -> 2 | AA8: =貼_前年計算用シート!L9 -> 滋賀 | AB8: =貼_前年計算用シート!L57 -> 0 | AC8: =IFERROR(_xlfn.RANK.EQ(AB8,AB$6:AB$52),"-") -> 2 | AD8: =貼_前年計算用シート!M9 -> 千葉 | AE8: =貼_前年計算用シート!M57 -> 1280 | AF8: =IFERROR(_xlfn.RANK.EQ(AE8,AE$6:AE$52),"-") -> 3 | AG8: =貼_前年計算用シート!N9 -> 和歌山 | AH8: =貼_前年計算用シート!N57 -> 790 | AI8: =IFERROR(_xlfn.RANK.EQ(AH8,AH$6:AH$52),"-") -> 3 | AJ8: =貼_前年計算用シート!O9 -> 静岡 | AK8: =貼_前年計算用シート!O57 -> 168 | AL8: =IFERROR(_xlfn.RANK.EQ(AK8,AK$6:AK$52),"-") -> 3 | AM8: =貼_前年計算用シート!P9 -> 宮崎 | AN8: =貼_前年計算用シート!P57 -> 2308 | AO8: =IFERROR(_xlfn.RANK.EQ(AN8,AN$6:AN$52),"-") -> 3 | AP8: =貼_前年計算用シート!Q9 -> 熊本 | AQ8: =貼_前年計算用シート!Q57 -> 341 | AR8: =IFERROR(_xlfn.RANK.EQ(AQ8,AQ$6:AQ$52),"-") -> 3 | AS8: =貼_前年計算用シート!R9 -> 熊本 | AT8: =貼_前年計算用シート!R57 -> 300 | AU8: =IFERROR(_xlfn.RANK.EQ(AT8,AT$6:AT$52),"-") -> 3 | AV8: =貼_前年計算用シート!S9 -> 宮崎 | AW8: =貼_前年計算用シート!S57 -> 815 | AX8: =IFERROR(_xlfn.RANK.EQ(AW8,AW$6:AW$52),"-") -> 3
C9: =貼_前年計算用シート!D10 -> 宮崎 | D9: =貼_前年計算用シート!D58 -> 3478 | E9: =IFERROR(_xlfn.RANK.EQ(D9,$D$6:$D$52),"-") -> 4 | F9: =貼_前年計算用シート!E10 -> 長野 | G9: =貼_前年計算用シート!E58 -> 2333 | H9: =IFERROR(_xlfn.RANK.EQ(G9,$G$6:$G$52),"-") -> 4 | I9: =貼_前年計算用シート!F10 -> 山形 | J9: =貼_前年計算用シート!F58 -> 701 | K9: =IFERROR(_xlfn.RANK.EQ(J9,$J$6:$J$52),"-") -> 4 | L9: =貼_前年計算用シート!G10 -> 愛知 | M9: =貼_前年計算用シート!G58 -> 10 | N9: =IFERROR(_xlfn.RANK.EQ(M9,M$6:M$52),"-") -> 4 | O9: =貼_前年計算用シート!H10 -> 福島 | P9: =貼_前年計算用シート!H58 -> 5 | Q9: =IFERROR(_xlfn.RANK.EQ(P9,P$6:P$52),"-") -> 4 | R9: =貼_前年計算用シート!I10 -> 滋賀 | S9: =貼_前年計算用シート!I58 -> 19 | T9: =IFERROR(_xlfn.RANK.EQ(S9,S$6:S$52),"-") -> 4 | U9: =貼_前年計算用シート!J10 -> 茨城 | V9: =貼_前年計算用シート!J58 -> 34 | W9: =IFERROR(_xlfn.RANK.EQ(V9,V$6:V$52),"-") -> 4 | X9: =貼_前年計算用シート!K10 -> 0 | Y9: =貼_前年計算用シート!K58 -> 0 | Z9: =IFERROR(_xlfn.RANK.EQ(Y9,Y$6:Y$52),"-") -> 2 | AA9: =貼_前年計算用シート!L10 -> 福岡 | AB9: =貼_前年計算用シート!L58 -> 0 | AC9: =IFERROR(_xlfn.RANK.EQ(AB9,AB$6:AB$52),"-") -> 2 | AD9: =貼_前年計算用シート!M10 -> 熊本 | AE9: =貼_前年計算用シート!M58 -> 1186 | AF9: =IFERROR(_xlfn.RANK.EQ(AE9,AE$6:AE$52),"-") -> 4 | AG9: =貼_前年計算用シート!N10 -> 山梨 | AH9: =貼_前年計算用シート!N58 -> 789 | AI9: =IFERROR(_xlfn.RANK.EQ(AH9,AH$6:AH$52),"-") -> 4 | AJ9: =貼_前年計算用シート!O10 -> 福岡 | AK9: =貼_前年計算用シート!O58 -> 165 | AL9: =IFERROR(_xlfn.RANK.EQ(AK9,AK$6:AK$52),"-") -> 4 | AM9: =貼_前年計算用シート!P10 -> 岩手 | AN9: =貼_前年計算用シート!P58 -> 1701 | AO9: =IFERROR(_xlfn.RANK.EQ(AN9,AN$6:AN$52),"-") -> 4 | AP9: =貼_前年計算用シート!Q10 -> 岩手 | AQ9: =貼_前年計算用シート!Q58 -> 258 | AR9: =IFERROR(_xlfn.RANK.EQ(AQ9,AQ$6:AQ$52),"-") -> 4 | AS9: =貼_前年計算用シート!R10 -> 岩手 | AT9: =貼_前年計算用シート!R58 -> 234 | AU9: =IFERROR(_xlfn.RANK.EQ(AT9,AT$6:AT$52),"-") -> 4 | AV9: =貼_前年計算用シート!S10 -> 熊本 | AW9: =貼_前年計算用シート!S58 -> 454 | AX9: =IFERROR(_xlfn.RANK.EQ(AW9,AW$6:AW$52),"-") -> 4
C10: =貼_前年計算用シート!D11 -> 熊本 | D10: =貼_前年計算用シート!D59 -> 3477 | E10: =IFERROR(_xlfn.RANK.EQ(D10,$D$6:$D$52),"-") -> 5 | F10: =貼_前年計算用シート!E11 -> 青森 | G10: =貼_前年計算用シート!E59 -> 2330 | H10: =IFERROR(_xlfn.RANK.EQ(G10,$G$6:$G$52),"-") -> 5 | I10: =貼_前年計算用シート!F11 -> 宮城 | J10: =貼_前年計算用シート!F59 -> 634 | K10: =IFERROR(_xlfn.RANK.EQ(J10,$J$6:$J$52),"-") -> 5 | L10: =貼_前年計算用シート!G11 -> 熊本 | M10: =貼_前年計算用シート!G59 -> 7 | N10: =IFERROR(_xlfn.RANK.EQ(M10,M$6:M$52),"-") -> 5 | O10: =貼_前年計算用シート!H11 -> 秋田 | P10: =貼_前年計算用シート!H59 -> 5 | Q10: =IFERROR(_xlfn.RANK.EQ(P10,P$6:P$52),"-") -> 4 | R10: =貼_前年計算用シート!I11 -> 兵庫 | S10: =貼_前年計算用シート!I59 -> 16 | T10: =IFERROR(_xlfn.RANK.EQ(S10,S$6:S$52),"-") -> 5 | U10: =貼_前年計算用シート!J11 -> 千葉 | V10: =貼_前年計算用シート!J59 -> 27 | W10: =IFERROR(_xlfn.RANK.EQ(V10,V$6:V$52),"-") -> 5 | X10: =貼_前年計算用シート!K11 -> 0 | Y10: =貼_前年計算用シート!K59 -> 0 | Z10: =IFERROR(_xlfn.RANK.EQ(Y10,Y$6:Y$52),"-") -> 2 | AA10: =貼_前年計算用シート!L11 -> 佐賀 | AB10: =貼_前年計算用シート!L59 -> 0 | AC10: =IFERROR(_xlfn.RANK.EQ(AB10,AB$6:AB$52),"-") -> 2 | AD10: =貼_前年計算用シート!M11 -> 愛知 | AE10: =貼_前年計算用シート!M59 -> 1031 | AF10: =IFERROR(_xlfn.RANK.EQ(AE10,AE$6:AE$52),"-") -> 5 | AG10: =貼_前年計算用シート!N11 -> 山形 | AH10: =貼_前年計算用シート!N59 -> 694 | AI10: =IFERROR(_xlfn.RANK.EQ(AH10,AH$6:AH$52),"-") -> 5 | AJ10: =貼_前年計算用シート!O11 -> 茨城 | AK10: =貼_前年計算用シート!O59 -> 159 | AL10: =IFERROR(_xlfn.RANK.EQ(AK10,AK$6:AK$52),"-") -> 5 | AM10: =貼_前年計算用シート!P11 -> 熊本 | AN10: =貼_前年計算用シート!P59 -> 1318 | AO10: =IFERROR(_xlfn.RANK.EQ(AN10,AN$6:AN$52),"-") -> 5 | AP10: =貼_前年計算用シート!Q11 -> 千葉 | AQ10: =貼_前年計算用シート!Q59 -> 257 | AR10: =IFERROR(_xlfn.RANK.EQ(AQ10,AQ$6:AQ$52),"-") -> 5 | AS10: =貼_前年計算用シート!R11 -> 千葉 | AT10: =貼_前年計算用シート!R59 -> 225 | AU10: =IFERROR(_xlfn.RANK.EQ(AT10,AT$6:AT$52),"-") -> 5 | AV10: =貼_前年計算用シート!S11 -> 岩手 | AW10: =貼_前年計算用シート!S59 -> 280 | AX10: =IFERROR(_xlfn.RANK.EQ(AW10,AW$6:AW$52),"-") -> 5
C11: =貼_前年計算用シート!D12 -> 千葉 | D11: =貼_前年計算用シート!D60 -> 3471 | E11: =IFERROR(_xlfn.RANK.EQ(D11,$D$6:$D$52),"-") -> 6 | F11: =貼_前年計算用シート!E12 -> 熊本 | G11: =貼_前年計算用シート!E60 -> 2135 | H11: =IFERROR(_xlfn.RANK.EQ(G11,$G$6:$G$52),"-") -> 6 | I11: =貼_前年計算用シート!F12 -> 茨城 | J11: =貼_前年計算用シート!F60 -> 596 | K11: =IFERROR(_xlfn.RANK.EQ(J11,$J$6:$J$52),"-") -> 6 | L11: =貼_前年計算用シート!G12 -> 埼玉 | M11: =貼_前年計算用シート!G60 -> 7 | N11: =IFERROR(_xlfn.RANK.EQ(M11,M$6:M$52),"-") -> 5 | O11: =貼_前年計算用シート!H12 -> 栃木 | P11: =貼_前年計算用シート!H60 -> 5 | Q11: =IFERROR(_xlfn.RANK.EQ(P11,P$6:P$52),"-") -> 4 | R11: =貼_前年計算用シート!I12 -> 佐賀 | S11: =貼_前年計算用シート!I60 -> 12 | T11: =IFERROR(_xlfn.RANK.EQ(S11,S$6:S$52),"-") -> 6 | U11: =貼_前年計算用シート!J12 -> 静岡 | V11: =貼_前年計算用シート!J60 -> 25 | W11: =IFERROR(_xlfn.RANK.EQ(V11,V$6:V$52),"-") -> 6 | X11: =貼_前年計算用シート!K12 -> 0 | Y11: =貼_前年計算用シート!K60 -> 0 | Z11: =IFERROR(_xlfn.RANK.EQ(Y11,Y$6:Y$52),"-") -> 2 | AA11: =貼_前年計算用シート!L12 -> 長野 | AB11: =貼_前年計算用シート!L60 -> 0 | AC11: =IFERROR(_xlfn.RANK.EQ(AB11,AB$6:AB$52),"-") -> 2 | AD11: =貼_前年計算用シート!M12 -> 群馬 | AE11: =貼_前年計算用シート!M60 -> 891 | AF11: =IFERROR(_xlfn.RANK.EQ(AE11,AE$6:AE$52),"-") -> 6 | AG11: =貼_前年計算用シート!N12 -> 愛媛 | AH11: =貼_前年計算用シート!N60 -> 553 | AI11: =IFERROR(_xlfn.RANK.EQ(AH11,AH$6:AH$52),"-") -> 6 | AJ11: =貼_前年計算用シート!O12 -> 埼玉 | AK11: =貼_前年計算用シート!O60 -> 158 | AL11: =IFERROR(_xlfn.RANK.EQ(AK11,AK$6:AK$52),"-") -> 6 | AM11: =貼_前年計算用シート!P12 -> 茨城 | AN11: =貼_前年計算用シート!P60 -> 1311 | AO11: =IFERROR(_xlfn.RANK.EQ(AN11,AN$6:AN$52),"-") -> 6 | AP11: =貼_前年計算用シート!Q12 -> 群馬 | AQ11: =貼_前年計算用シート!Q60 -> 257 | AR11: =IFERROR(_xlfn.RANK.EQ(AQ11,AQ$6:AQ$52),"-") -> 5 | AS11: =貼_前年計算用シート!R12 -> 群馬 | AT11: =貼_前年計算用シート!R60 -> 218 | AU11: =IFERROR(_xlfn.RANK.EQ(AT11,AT$6:AT$52),"-") -> 6 | AV11: =貼_前年計算用シート!S12 -> 長崎 | AW11: =貼_前年計算用シート!S60 -> 265 | AX11: =IFERROR(_xlfn.RANK.EQ(AW11,AW$6:AW$52),"-") -> 6
C12: =貼_前年計算用シート!D13 -> 青森 | D12: =貼_前年計算用シート!D61 -> 3277 | E12: =IFERROR(_xlfn.RANK.EQ(D12,$D$6:$D$52),"-") -> 7 | F12: =貼_前年計算用シート!E13 -> 愛知 | G12: =貼_前年計算用シート!E61 -> 2076 | H12: =IFERROR(_xlfn.RANK.EQ(G12,$G$6:$G$52),"-") -> 7 | I12: =貼_前年計算用シート!F13 -> 福島 | J12: =貼_前年計算用シート!F61 -> 574 | K12: =IFERROR(_xlfn.RANK.EQ(J12,$J$6:$J$52),"-") -> 7 | L12: =貼_前年計算用シート!G13 -> 三重 | M12: =貼_前年計算用シート!G61 -> 6 | N12: =IFERROR(_xlfn.RANK.EQ(M12,M$6:M$52),"-") -> 7 | O12: =貼_前年計算用シート!H13 -> 茨城 | P12: =貼_前年計算用シート!H61 -> 4 | Q12: =IFERROR(_xlfn.RANK.EQ(P12,P$6:P$52),"-") -> 7 | R12: =貼_前年計算用シート!I13 -> 新潟 | S12: =貼_前年計算用シート!I61 -> 11 | T12: =IFERROR(_xlfn.RANK.EQ(S12,S$6:S$52),"-") -> 7 | U12: =貼_前年計算用シート!J13 -> 長野 | V12: =貼_前年計算用シート!J61 -> 20 | W12: =IFERROR(_xlfn.RANK.EQ(V12,V$6:V$52),"-") -> 7 | X12: =貼_前年計算用シート!K13 -> 0 | Y12: =貼_前年計算用シート!K61 -> 0 | Z12: =IFERROR(_xlfn.RANK.EQ(Y12,Y$6:Y$52),"-") -> 2 | AA12: =貼_前年計算用シート!L13 -> 熊本 | AB12: =貼_前年計算用シート!L61 -> 0 | AC12: =IFERROR(_xlfn.RANK.EQ(AB12,AB$6:AB$52),"-") -> 2 | AD12: =貼_前年計算用シート!M13 -> 長野 | AE12: =貼_前年計算用シート!M61 -> 866 | AF12: =IFERROR(_xlfn.RANK.EQ(AE12,AE$6:AE$52),"-") -> 7 | AG12: =貼_前年計算用シート!N13 -> 熊本 | AH12: =貼_前年計算用シート!N61 -> 362 | AI12: =IFERROR(_xlfn.RANK.EQ(AH12,AH$6:AH$52),"-") -> 7 | AJ12: =貼_前年計算用シート!O13 -> 長野 | AK12: =貼_前年計算用シート!O61 -> 156 | AL12: =IFERROR(_xlfn.RANK.EQ(AK12,AK$6:AK$52),"-") -> 7 | AM12: =貼_前年計算用シート!P13 -> 栃木 | AN12: =貼_前年計算用シート!P61 -> 1287 | AO12: =IFERROR(_xlfn.RANK.EQ(AN12,AN$6:AN$52),"-") -> 7 | AP12: =貼_前年計算用シート!Q13 -> 茨城 | AQ12: =貼_前年計算用シート!Q61 -> 217 | AR12: =IFERROR(_xlfn.RANK.EQ(AQ12,AQ$6:AQ$52),"-") -> 7 | AS12: =貼_前年計算用シート!R13 -> 茨城 | AT12: =貼_前年計算用シート!R61 -> 197 | AU12: =IFERROR(_xlfn.RANK.EQ(AT12,AT$6:AT$52),"-") -> 7 | AV12: =貼_前年計算用シート!S13 -> 宮城 | AW12: =貼_前年計算用シート!S61 -> 264 | AX12: =IFERROR(_xlfn.RANK.EQ(AW12,AW$6:AW$52),"-") -> 7
C13: =貼_前年計算用シート!D14 -> 愛知 | D13: =貼_前年計算用シート!D62 -> 2922 | E13: =IFERROR(_xlfn.RANK.EQ(D13,$D$6:$D$52),"-") -> 8 | F13: =貼_前年計算用シート!E14 -> 山形 | G13: =貼_前年計算用シート!E62 -> 1943 | H13: =IFERROR(_xlfn.RANK.EQ(G13,$G$6:$G$52),"-") -> 8 | I13: =貼_前年計算用シート!F14 -> 千葉 | J13: =貼_前年計算用シート!F62 -> 466 | K13: =IFERROR(_xlfn.RANK.EQ(J13,$J$6:$J$52),"-") -> 8 | L13: =貼_前年計算用シート!G14 -> 群馬 | M13: =貼_前年計算用シート!G62 -> 5 | N13: =IFERROR(_xlfn.RANK.EQ(M13,M$6:M$52),"-") -> 8 | O13: =貼_前年計算用シート!H14 -> 岩手 | P13: =貼_前年計算用シート!H62 -> 3 | Q13: =IFERROR(_xlfn.RANK.EQ(P13,P$6:P$52),"-") -> 8 | R13: =貼_前年計算用シート!I14 -> 福岡 | S13: =貼_前年計算用シート!I62 -> 11 | T13: =IFERROR(_xlfn.RANK.EQ(S13,S$6:S$52),"-") -> 7 | U13: =貼_前年計算用シート!J14 -> 青森 | V13: =貼_前年計算用シート!J62 -> 17 | W13: =IFERROR(_xlfn.RANK.EQ(V13,V$6:V$52),"-") -> 8 | X13: =貼_前年計算用シート!K14 -> 0 | Y13: =貼_前年計算用シート!K62 -> 0 | Z13: =IFERROR(_xlfn.RANK.EQ(Y13,Y$6:Y$52),"-") -> 2 | AA13: =貼_前年計算用シート!L14 -> 群馬 | AB13: =貼_前年計算用シート!L62 -> 0 | AC13: =IFERROR(_xlfn.RANK.EQ(AB13,AB$6:AB$52),"-") -> 2 | AD13: =貼_前年計算用シート!M14 -> 青森 | AE13: =貼_前年計算用シート!M62 -> 753 | AF13: =IFERROR(_xlfn.RANK.EQ(AE13,AE$6:AE$52),"-") -> 8 | AG13: =貼_前年計算用シート!N14 -> 福島 | AH13: =貼_前年計算用シート!N62 -> 297 | AI13: =IFERROR(_xlfn.RANK.EQ(AH13,AH$6:AH$52),"-") -> 8 | AJ13: =貼_前年計算用シート!O14 -> 北海道 | AK13: =貼_前年計算用シート!O62 -> 131 | AL13: =IFERROR(_xlfn.RANK.EQ(AK13,AK$6:AK$52),"-") -> 8 | AM13: =貼_前年計算用シート!P14 -> 群馬 | AN13: =貼_前年計算用シート!P62 -> 1158 | AO13: =IFERROR(_xlfn.RANK.EQ(AN13,AN$6:AN$52),"-") -> 8 | AP13: =貼_前年計算用シート!Q14 -> 愛知 | AQ13: =貼_前年計算用シート!Q62 -> 206 | AR13: =IFERROR(_xlfn.RANK.EQ(AQ13,AQ$6:AQ$52),"-") -> 8 | AS13: =貼_前年計算用シート!R14 -> 愛知 | AT13: =貼_前年計算用シート!R62 -> 182 | AU13: =IFERROR(_xlfn.RANK.EQ(AT13,AT$6:AT$52),"-") -> 8 | AV13: =貼_前年計算用シート!S14 -> 栃木 | AW13: =貼_前年計算用シート!S62 -> 243 | AX13: =IFERROR(_xlfn.RANK.EQ(AW13,AW$6:AW$52),"-") -> 8
C14: =貼_前年計算用シート!D15 -> 栃木 | D14: =貼_前年計算用シート!D63 -> 2693 | E14: =IFERROR(_xlfn.RANK.EQ(D14,$D$6:$D$52),"-") -> 9 | F14: =貼_前年計算用シート!E15 -> 新潟 | G14: =貼_前年計算用シート!E63 -> 1764 | H14: =IFERROR(_xlfn.RANK.EQ(G14,$G$6:$G$52),"-") -> 9 | I14: =貼_前年計算用シート!F15 -> 岩手 | J14: =貼_前年計算用シート!F63 -> 460 | K14: =IFERROR(_xlfn.RANK.EQ(J14,$J$6:$J$52),"-") -> 9 | L14: =貼_前年計算用シート!G15 -> 茨城 | M14: =貼_前年計算用シート!G63 -> 5 | N14: =IFERROR(_xlfn.RANK.EQ(M14,M$6:M$52),"-") -> 8 | O14: =貼_前年計算用シート!H15 -> 福井 | P14: =貼_前年計算用シート!H63 -> 2 | Q14: =IFERROR(_xlfn.RANK.EQ(P14,P$6:P$52),"-") -> 9 | R14: =貼_前年計算用シート!I15 -> 青森 | S14: =貼_前年計算用シート!I63 -> 11 | T14: =IFERROR(_xlfn.RANK.EQ(S14,S$6:S$52),"-") -> 7 | U14: =貼_前年計算用シート!J15 -> 熊本 | V14: =貼_前年計算用シート!J63 -> 17 | W14: =IFERROR(_xlfn.RANK.EQ(V14,V$6:V$52),"-") -> 8 | X14: =貼_前年計算用シート!K15 -> 0 | Y14: =貼_前年計算用シート!K63 -> 0 | Z14: =IFERROR(_xlfn.RANK.EQ(Y14,Y$6:Y$52),"-") -> 2 | AA14: =貼_前年計算用シート!L15 -> 埼玉 | AB14: =貼_前年計算用シート!L63 -> 0 | AC14: =IFERROR(_xlfn.RANK.EQ(AB14,AB$6:AB$52),"-") -> 2 | AD14: =貼_前年計算用シート!M15 -> 埼玉 | AE14: =貼_前年計算用シート!M63 -> 743 | AF14: =IFERROR(_xlfn.RANK.EQ(AE14,AE$6:AE$52),"-") -> 9 | AG14: =貼_前年計算用シート!N15 -> 岡山 | AH14: =貼_前年計算用シート!N63 -> 284 | AI14: =IFERROR(_xlfn.RANK.EQ(AH14,AH$6:AH$52),"-") -> 9 | AJ14: =貼_前年計算用シート!O15 -> 鹿児島 | AK14: =貼_前年計算用シート!O63 -> 118 | AL14: =IFERROR(_xlfn.RANK.EQ(AK14,AK$6:AK$52),"-") -> 9 | AM14: =貼_前年計算用シート!P15 -> 千葉 | AN14: =貼_前年計算用シート!P63 -> 1094 | AO14: =IFERROR(_xlfn.RANK.EQ(AN14,AN$6:AN$52),"-") -> 9 | AP14: =貼_前年計算用シート!Q15 -> 岡山 | AQ14: =貼_前年計算用シート!Q63 -> 148 | AR14: =IFERROR(_xlfn.RANK.EQ(AQ14,AQ$6:AQ$52),"-") -> 9 | AS14: =貼_前年計算用シート!R15 -> 岡山 | AT14: =貼_前年計算用シート!R63 -> 135 | AU14: =IFERROR(_xlfn.RANK.EQ(AT14,AT$6:AT$52),"-") -> 9 | AV14: =貼_前年計算用シート!S15 -> 沖縄 | AW14: =貼_前年計算用シート!S63 -> 209 | AX14: =IFERROR(_xlfn.RANK.EQ(AW14,AW$6:AW$52),"-") -> 9
C15: =貼_前年計算用シート!D16 -> 岩手 | D15: =貼_前年計算用シート!D64 -> 2651 | E15: =IFERROR(_xlfn.RANK.EQ(D15,$D$6:$D$52),"-") -> 10 | F15: =貼_前年計算用シート!E16 -> 鹿児島 | G15: =貼_前年計算用シート!E64 -> 1580 | H15: =IFERROR(_xlfn.RANK.EQ(G15,$G$6:$G$52),"-") -> 10 | I15: =貼_前年計算用シート!F16 -> 栃木 | J15: =貼_前年計算用シート!F64 -> 453 | K15: =IFERROR(_xlfn.RANK.EQ(J15,$J$6:$J$52),"-") -> 10 | L15: =貼_前年計算用シート!G16 -> 滋賀 | M15: =貼_前年計算用シート!G64 -> 5 | N15: =IFERROR(_xlfn.RANK.EQ(M15,M$6:M$52),"-") -> 8 | O15: =貼_前年計算用シート!H16 -> 青森 | P15: =貼_前年計算用シート!H64 -> 2 | Q15: =IFERROR(_xlfn.RANK.EQ(P15,P$6:P$52),"-") -> 9 | R15: =貼_前年計算用シート!I16 -> 富山 | S15: =貼_前年計算用シート!I64 -> 11 | T15: =IFERROR(_xlfn.RANK.EQ(S15,S$6:S$52),"-") -> 7 | U15: =貼_前年計算用シート!J16 -> 福島 | V15: =貼_前年計算用シート!J64 -> 14 | W15: =IFERROR(_xlfn.RANK.EQ(V15,V$6:V$52),"-") -> 10 | X15: =貼_前年計算用シート!K16 -> 0 | Y15: =貼_前年計算用シート!K64 -> 0 | Z15: =IFERROR(_xlfn.RANK.EQ(Y15,Y$6:Y$52),"-") -> 2 | AA15: =貼_前年計算用シート!L16 -> 愛知 | AB15: =貼_前年計算用シート!L64 -> 0 | AC15: =IFERROR(_xlfn.RANK.EQ(AB15,AB$6:AB$52),"-") -> 2 | AD15: =貼_前年計算用シート!M16 -> 栃木 | AE15: =貼_前年計算用シート!M64 -> 707 | AF15: =IFERROR(_xlfn.RANK.EQ(AE15,AE$6:AE$52),"-") -> 10 | AG15: =貼_前年計算用シート!N16 -> 静岡 | AH15: =貼_前年計算用シート!N64 -> 282 | AI15: =IFERROR(_xlfn.RANK.EQ(AH15,AH$6:AH$52),"-") -> 10 | AJ15: =貼_前年計算用シート!O16 -> 熊本 | AK15: =貼_前年計算用シート!O64 -> 94 | AL15: =IFERROR(_xlfn.RANK.EQ(AK15,AK$6:AK$52),"-") -> 10 | AM15: =貼_前年計算用シート!P16 -> 青森 | AN15: =貼_前年計算用シート!P64 -> 947 | AO15: =IFERROR(_xlfn.RANK.EQ(AN15,AN$6:AN$52),"-") -> 10 | AP15: =貼_前年計算用シート!Q16 -> 宮城 | AQ15: =貼_前年計算用シート!Q64 -> 134 | AR15: =IFERROR(_xlfn.RANK.EQ(AQ15,AQ$6:AQ$52),"-") -> 10 | AS15: =貼_前年計算用シート!R16 -> 宮城 | AT15: =貼_前年計算用シート!R64 -> 122 | AU15: =IFERROR(_xlfn.RANK.EQ(AT15,AT$6:AT$52),"-") -> 10 | AV15: =貼_前年計算用シート!S16 -> 佐賀 | AW15: =貼_前年計算用シート!S64 -> 181 | AX15: =IFERROR(_xlfn.RANK.EQ(AW15,AW$6:AW$52),"-") -> 10
C16: =貼_前年計算用シート!D17 -> 長野 | D16: =貼_前年計算用シート!D65 -> 2624 | E16: =IFERROR(_xlfn.RANK.EQ(D16,$D$6:$D$52),"-") -> 11 | F16: =貼_前年計算用シート!E17 -> 福岡 | G16: =貼_前年計算用シート!E65 -> 1560 | H16: =IFERROR(_xlfn.RANK.EQ(G16,$G$6:$G$52),"-") -> 11 | I16: =貼_前年計算用シート!F17 -> 兵庫 | J16: =貼_前年計算用シート!F65 -> 391 | K16: =IFERROR(_xlfn.RANK.EQ(J16,$J$6:$J$52),"-") -> 11 | L16: =貼_前年計算用シート!G17 -> 岐阜 | M16: =貼_前年計算用シート!G65 -> 3 | N16: =IFERROR(_xlfn.RANK.EQ(M16,M$6:M$52),"-") -> 11 | O16: =貼_前年計算用シート!H17 -> 新潟 | P16: =貼_前年計算用シート!H65 -> 1 | Q16: =IFERROR(_xlfn.RANK.EQ(P16,P$6:P$52),"-") -> 11 | R16: =貼_前年計算用シート!I17 -> 山形 | S16: =貼_前年計算用シート!I65 -> 11 | T16: =IFERROR(_xlfn.RANK.EQ(S16,S$6:S$52),"-") -> 7 | U16: =貼_前年計算用シート!J17 -> 埼玉 | V16: =貼_前年計算用シート!J65 -> 12 | W16: =IFERROR(_xlfn.RANK.EQ(V16,V$6:V$52),"-") -> 11 | X16: =貼_前年計算用シート!K17 -> 0 | Y16: =貼_前年計算用シート!K65 -> 0 | Z16: =IFERROR(_xlfn.RANK.EQ(Y16,Y$6:Y$52),"-") -> 2 | AA16: =貼_前年計算用シート!L17 -> 兵庫 | AB16: =貼_前年計算用シート!L65 -> 0 | AC16: =IFERROR(_xlfn.RANK.EQ(AB16,AB$6:AB$52),"-") -> 2 | AD16: =貼_前年計算用シート!M17 -> 高知 | AE16: =貼_前年計算用シート!M65 -> 676 | AF16: =IFERROR(_xlfn.RANK.EQ(AE16,AE$6:AE$52),"-") -> 11 | AG16: =貼_前年計算用シート!N17 -> 福岡 | AH16: =貼_前年計算用シート!N65 -> 257 | AI16: =IFERROR(_xlfn.RANK.EQ(AH16,AH$6:AH$52),"-") -> 11 | AJ16: =貼_前年計算用シート!O17 -> 沖縄 | AK16: =貼_前年計算用シート!O65 -> 78 | AL16: =IFERROR(_xlfn.RANK.EQ(AK16,AK$6:AK$52),"-") -> 11 | AM16: =貼_前年計算用シート!P17 -> 愛知 | AN16: =貼_前年計算用シート!P65 -> 840 | AO16: =IFERROR(_xlfn.RANK.EQ(AN16,AN$6:AN$52),"-") -> 11 | AP16: =貼_前年計算用シート!Q17 -> 長野 | AQ16: =貼_前年計算用シート!Q65 -> 116 | AR16: =IFERROR(_xlfn.RANK.EQ(AQ16,AQ$6:AQ$52),"-") -> 11 | AS16: =貼_前年計算用シート!R17 -> 兵庫 | AT16: =貼_前年計算用シート!R65 -> 100 | AU16: =IFERROR(_xlfn.RANK.EQ(AT16,AT$6:AT$52),"-") -> 11 | AV16: =貼_前年計算用シート!S17 -> 茨城 | AW16: =貼_前年計算用シート!S65 -> 174 | AX16: =IFERROR(_xlfn.RANK.EQ(AW16,AW$6:AW$52),"-") -> 11
