Workbook
Name _040210129: 数値参照用・削除不可!$D$23:$E$23
Name _040210212: 数値参照用・削除不可!$D$24:$E$24
Name _040210229: 数値参照用・削除不可!$D$25:$E$25
Name _040221119: 数値参照用・削除不可!$D$29:$E$29
Name _040221129: 数値参照用・削除不可!$D$30:$E$30
Name _040221131: 数値参照用・削除不可!$D$29:$E$29
Name _040221141: 数値参照用・削除不可!$D$30:$E$30
Name _040221212: 数値参照用・削除不可!$D$26:$E$26
Name _040221229: 数値参照用・削除不可!$D$27:$E$27
Name _040229119: 数値参照用・削除不可!$D$31:$E$31
Name _040229129: 数値参照用・削除不可!$D$32:$E$32
Name _040229291: 数値参照用・削除不可!$D$28:$E$28
Name _040291129: 数値参照用・削除不可!$D$36:$E$36
Name _040291290: 数値参照用・削除不可!$D$37:$E$37
Name _040299129: 数値参照用・削除不可!$D$38:$E$38
Name _040299290: 数値参照用・削除不可!$D$39:$E$39
Name _040390113: 数値参照用・削除不可!$D$33:$E$33
Name _040390123: 数値参照用・削除不可!$D$34:$E$34
Name _040390133: 数値参照用・削除不可!$D$35:$E$35
Name _040410125: 数値参照用・削除不可!$D$40:$E$40
Name _040410135: 数値参照用・削除不可!$D$41:$E$41
Name _040410145: 数値参照用・削除不可!$D$42:$E$42
Name _040410165: 数値参照用・削除不可!$D$43:$E$43
Name _040410185: 数値参照用・削除不可!$D$44:$E$44
Name _040490118: 数値参照用・削除不可!$D$45:$E$45
Name _040490128: 数値参照用・削除不可!$D$46:$E$46
Name _040490138: 数値参照用・削除不可!$D$47:$E$47
Name _040510129: 数値参照用・削除不可!$D$48:$I$48
Name _040510229: 数値参照用・削除不可!$D$49:$I$49
Name _040520090: 数値参照用・削除不可!$D$50:$I$50
Name _040590190: 数値参照用・削除不可!$D$51:$I$51
Name _040590229: 数値参照用・削除不可!$D$52:$F$52
Name _040610020: 数値参照用・削除不可!$D$53:$E$53
Name _040610090: 数値参照用・削除不可!$D$54:$H$54
Name _040620100: 数値参照用・削除不可!$D$55:$E$55
Name _040630000: 数値参照用・削除不可!$D$56:$F$56
Name _040640090: 数値参照用・削除不可!$D$57:$F$57
Name _040690090: 数値参照用・削除不可!$D$58:$H$58
Name CPTPP: 数値参照用・削除不可!$D$2:$F$2
Name CPTPP締約国: 数値参照用・削除不可!$D$5:$E$5
Name EU: 数値参照用・削除不可!$D$8:$E$8
Name TPP国別: 数値参照用・削除不可!$E$2:$F$2
Name アメリカ合衆国: 数値参照用・削除不可!$D$9
Name オーストラリア: 数値参照用・削除不可!$D$7:$E$7
Name シュレッドチーズ原料用フレッシュチーズ: 数値参照用・削除不可!$D$10
Name チーズ: 数値参照用・削除不可!$D$18:$I$18
Name ニュージーランド: 数値参照用・削除不可!$D$6
Name バター_脱脂粉乳_粉乳_バターミルクパウダー及び加糖れん乳: 数値参照用・削除不可!$D$17:$W$17
Name バターその他の油脂及びデイリースプレッド: 数値参照用・削除不可!$D$11:$H$11
Name プロセスチーズ: 数値参照用・削除不可!$D$19
Name ホエイ: 数値参照用・削除不可!$D$16:$K$16
Name ホエイパーミエイト: 数値参照用・削除不可!$D$21:$E$21
Name 加糖れん乳: 数値参照用・削除不可!$D$14:$E$14
Name 協定: 数値参照用・削除不可!$C$2:$C$4
Name 原産国: 数値参照用・削除不可!$C$5:$C$9
Name 申請: 数値参照用・削除不可!$C$59:$C$60
Name 脱脂粉乳: 数値参照用・削除不可!$D$12:$I$12
Name 日EU協定: 数値参照用・削除不可!$D$3
Name 日米貿易協定: 数値参照用・削除不可!$D$4
Name 乳幼児粉乳等用: 数値参照用・削除不可!$D$22:$H$22

Sheet 様式
A1: （別記様式1-1） | B1: 輸入商品及び輸入・使用等の実績・計画一覧表 | F1: ↓この列は印刷しないでください。
B3: ・水色のセル全てに、上から順に必要事項を入力してください。
B4: ・両面印刷で提出できます。印刷の際は、改ページ位置を調整し、表が途中で途切れないようにしてください。
B5: ・入力する内容が分からないときは、項目や数値を選択してください。説明が表示されます。
A7: 申請者名： | E7: =IF($B7="","←入力してください。","") -> ←入力してください。
A8: 代表者名： | E8: =IF($B8="","←入力してください。","") -> ←入力してください。
A9: 住所： | E9: =IF($B9="","←入力してください。","") -> ←入力してください。
A11: 1.申請内容
A12: 関税割当てを申請する協定： | B12: CPTPP
A13: 原産地・原産国： | B13: CPTPP締約国 | D13: =IF($B13="","←入力してください。","")
A14: 関税割当て： | B14: バターその他の油脂及びデイリースプレッド | D14: =IF($B14="","←入力してください。","")
A16: =IF(B14="","2.関税割当てを利用して輸入する○○の物品一覧","2.関税割当てを利用して輸入する"&$B$14&"の物品一覧") -> 2.関税割当てを利用して輸入するバターその他の油脂及びデイリースプレッドの物品一覧
A17: ・左側の項目から順番に入力してください。
A18: ・30行目以降、非表示となっている行があります。行が足りない場合は、非表示にされた行を再表示し、必要項目を入力した後、無記入の行を非表示にしてください。
A19: 関税番号9桁 | B19: 形状 | C19: 詳細（形状・性状が「その他」の場合に入力） | D19: 輸入予定数量 (全乳換算数量、kg) | F19: 係数 | G19: 製品
F20: =IFERROR(VLOOKUP(A20,数値参照用・削除不可!$A$61:$C$88,3,FALSE),"") | G20: =IFERROR(ROUNDDOWN(D20/F20,3),"")
F21: =IFERROR(VLOOKUP(A21,数値参照用・削除不可!$A$61:$C$88,3,FALSE),"") | G21: =IFERROR(ROUNDDOWN(D21/F21,3),"")
F22: =IFERROR(VLOOKUP(A22,数値参照用・削除不可!$A$61:$C$88,3,FALSE),"") | G22: =IFERROR(ROUNDDOWN(D22/F22,3),"")
F23: =IFERROR(VLOOKUP(A23,数値参照用・削除不可!$A$61:$C$88,3,FALSE),"") | G23: =IFERROR(ROUNDDOWN(D23/F23,3),"")
F24: =IFERROR(VLOOKUP(A24,数値参照用・削除不可!$A$61:$C$88,3,FALSE),"") | G24: =IFERROR(ROUNDDOWN(D24/F24,3),"")
F25: =IFERROR(VLOOKUP(A25,数値参照用・削除不可!$A$61:$C$88,3,FALSE),"") | G25: =IFERROR(ROUNDDOWN(D25/F25,3),"")
F26: =IFERROR(VLOOKUP(A26,数値参照用・削除不可!$A$61:$C$88,3,FALSE),"") | G26: =IFERROR(ROUNDDOWN(D26/F26,3),"")
F27: =IFERROR(VLOOKUP(A27,数値参照用・削除不可!$A$61:$C$88,3,FALSE),"") | G27: =IFERROR(ROUNDDOWN(D27/F27,3),"")
F28: =IFERROR(VLOOKUP(A28,数値参照用・削除不可!$A$61:$C$88,3,FALSE),"") | G28: =IFERROR(ROUNDDOWN(D28/F28,3),"")
F29: =IFERROR(VLOOKUP(A29,数値参照用・削除不可!$A$61:$C$88,3,FALSE),"") | G29: =IFERROR(ROUNDDOWN(D29/F29,3),"")
F30: =IFERROR(VLOOKUP(A30,数値参照用・削除不可!$A$61:$C$88,3,FALSE),"") | G30: =IFERROR(ROUNDDOWN(D30/F30,3),"")
F31: =IFERROR(VLOOKUP(A31,数値参照用・削除不可!$A$61:$C$88,3,FALSE),"") | G31: =IFERROR(ROUNDDOWN(D31/F31,3),"")
... F119: =IFERROR(VLOOKUP(A119,数値参照用・削除不可!$A$61:$C$88,3,FALSE),"") | G119: =IFERROR(ROUNDDOWN(D119/F119,3),"")
A120: =IF(D121=F120,"","↑入力されている行が非表示になっています。確認してください。") | F120: =SUBTOTAL(109,D20:D119) -> 0
A121: =IF(D121>G121,"１者当たりの申請上限数量を超えています。確認してください→","") | C121: 合計数量： | D121: =SUM(D20:D119) -> 0 | F121: =B12&B14 -> CPTPPバターその他の油脂及びデイリースプレッド | G121: =IFERROR(VLOOKUP(F121,数値参照用・削除不可!$A$89:$B$102,2,FALSE),"") -> 1240000
C122: （製品重量） | D122: =SUM(G20:G119) -> 0
A123: =IF(B14="","3.○○の輸入通関実績と計画","3."&B14&"の輸入通関実績と計画") -> 3.バターその他の油脂及びデイリースプレッドの輸入通関実績と計画
B124: 2025年度（見込み含）実績 | D124: 2026年度計画
B125: =IF($B$14="","枠内外を問わずTPP締約国から輸入した○○","枠内外を問わずTPP締約国から輸入した"&$B$14) -> 枠内外を問わずTPP締約国から輸入したバターその他の油脂及びデイリースプレッド | D125: =IF($B$14="","枠内外を問わずTPP締約国から輸入する○○","枠内外を問わずTPP締約国から輸入する"&$B$14) -> 枠内外を問わずTPP締約国から輸入するバターその他の油脂及びデイリースプレッド
C126: =IF($B$14="","うちCPTPPの関割を利用して輸入した○○","うちCPTPPの関割を利用して輸入した"&$B$14) -> うちCPTPPの関割を利用して輸入したバターその他の油脂及びデイリースプレッド | E126: =IF($B$14="","うち今回の申請でCPTPPの関割を利用して輸入する○○","うち今回の申請でCPTPPの関割を利用して輸入する"&$B$14) -> うち今回の申請でCPTPPの関割を利用して輸入するバターその他の油脂及びデイリースプレッド
A127: 期首在庫(kg) | D127: =B131 -> 0 | E127: =C131 -> 0
A128: 自ら輸入した数量(kg) | E128: =D122 -> 0
A129: 他社から購入した数量(kg)
A130: 使用・販売・廃棄数量(kg)
A131: 期末在庫(kg) | B131: =B127+SUM(B128:B129)-B130 -> 0 | C131: =C127+SUM(C128:C129)-C130 -> 0 | D131: =D127+SUM(D128:D129)-D130 -> 0 | E131: =E127+SUM(E128:E129)-E130 -> 0

Sheet 数値参照用・削除不可
A1: 備考 | B1: 名前 | C1: 詳細
B2: 協定 | C2: CPTPP | D2: CPTPP締約国 | E2: ニュージーランド | F2: オーストラリア
C3: 日EU協定 | D3: EU
C4: 日米貿易協定 | D4: アメリカ合衆国
B5: 原産国 | C5: CPTPP締約国 | D5: 無糖れん乳 | E5: 加糖れん乳
C6: ニュージーランド | D6: プロセスチーズ
C7: オーストラリア | D7: プロセスチーズ | E7: 無機質を濃縮したホエイ
C8: EU | D8: 無糖れん乳 | E8: チーズ
C9: アメリカ合衆国 | D9: プロセスチーズ
B10: 品名 | C10: シュレッドチーズ原料用フレッシュチーズ | D10: _040610090
C11: バターその他の油脂及びデイリースプレッド | D11: _040510129 | E11: _040510229 | F11: _040520090 | G11: _040590190 | H11: _040590229
C12: 脱脂粉乳 | D12: _040210129 | E12: _040210212 | F12: _040210229 | G12: _040221212 | H12: _040221229 | I12: _040229291
C13: 粉乳及びバターミルクパウダー | D13: _040221131 | E13: _040221141 | F13: _040229119 | G13: _040229129 | H13: _040390113 | I13: _040390123 | J13: _040390133
C14: 加糖れん乳 | D14: _040299129 | E14: _040299290
C15: 無糖れん乳 | D15: _040291129 | E15: _040291290
C16: ホエイ | D16: _040410125 | E16: _040410135 | F16: _040410145 | G16: _040410165 | H16: _040410185 | I16: _040490118 | J16: _040490128 | K16: _040490138
C17: バター、脱脂粉乳、粉乳、バターミルクパウダー及び加糖れん乳 | D17: _040210129 | E17: _040210212 | F17: _040210229 | G17: _040221212 | H17: _040221229 | I17: _040229291 | J17: _040221131 | K17: _040221141 | L17: _040229119 | M17: _040229129 | N17: _040299129 | O17: _040299290 | P17: _040390113 | Q17: _040390123 | R17: _040390133 | S17: _040510129 | T17: _040510229 | U17: _040520090 | V17: _040590190 | W17: _040590229
C18: チーズ | D18: _040610020 | E18: _040610090 | F18: _040620100 | G18: _040630000 | H18: _040640090 | I18: _040690090
C19: プロセスチーズ | D19: _040630000
C20: 無機質を濃縮したホエイ | D20: _040410125 | E20: _040410165
C21: ホエイパーミエイト | D21: _040410135 | E21: _040410145
C22: 乳幼児粉乳等用 | D22: _040410145 | E22: _040410185 | F22: _040490118 | G22: _040490128 | H22: _040490138
A23: 脱脂粉乳 | B23: 番号 | C23: _040210129 | D23: 20～25kg（粉末、紙袋又は段ボール） | E23: その他
A24: 脱脂粉乳 | C24: _040210212 | D24: 20～25kg（粉末、紙袋又は段ボール） | E24: その他
A25: 脱脂粉乳 | C25: _040210229 | D25: 20～25kg（粉末、紙袋又は段ボール） | E25: その他
A26: 脱脂粉乳 | C26: _040221212 | D26: 20～25kg（粉末、紙袋又は段ボール） | E26: その他
A27: 脱脂粉乳 | C27: _040221229 | D27: 20～25kg（粉末、紙袋又は段ボール） | E27: その他
A28: 脱脂粉乳 | C28: _040229291 | D28: 20～25kg（粉末、紙袋又は段ボール） | E28: その他
A29: 全粉乳 | C29: _040221131 | D29: 20～25kg（粉末、紙袋又は段ボール） | E29: その他
A30: 全粉乳 | C30: _040221141 | D30: 20～25kg（粉末、紙袋又は段ボール） | E30: その他
A31: 全粉乳 | C31: _040229119 | D31: 20～25kg（粉末、紙袋又は段ボール） | E31: その他
A32: 全粉乳 | C32: _040229129 | D32: 20～25kg（粉末、紙袋又は段ボール） | E32: その他
A33: BMP | C33: _040390113 | D33: 20～25kg（粉末、紙袋又は段ボール） | E33: その他
A34: BMP | C34: _040390123 | D34: 20～25kg（粉末、紙袋又は段ボール） | E34: その他
A35: BMP | C35: _040390133 | D35: 20～25kg（粉末、紙袋又は段ボール） | E35: その他
... A47: 育児 | C47: _040490138 | D47: 15～25kg（粉末、紙袋又は段ボール） | E47: その他
A48: バター | C48: _040510129 | D48: 1～300g（バター） | E48: 400～500ｇ(ブロック状、バター) | F48: 1～5kg(ブロック状、バター) | G48: 500g～5kg（シート状、バター) | H48: 10～25kg（ブロック状、バター） | I48: その他
A49: バター | C49: _040510229 | D49: 1～300g（バター） | E49: 400～500ｇ(ブロック状、バター) | F49: 1～5kg(ブロック状、バター) | G49: 500g～5kg（シート状、バター) | H49: 10～25kg（ブロック状、バター） | I49: その他
A50: デイリースプレッド | C50: _040520090 | D50: 1～300g（バター） | E50: 400～500ｇ(ブロック状、バター) | F50: 1～5kg(ブロック状、バター) | G50: 500g～5kg（シート状、バター) | H50: 10～25kg（ブロック状、バター） | I50: その他
A51: バター | C51: _040590190 | D51: 1～300g（バター） | E51: 400～500ｇ(ブロック状、バター) | F51: 1～5kg(ブロック状、バター) | G51: 500g～5kg（シート状、バター) | H51: 10～25kg（ブロック状、バター） | I51: その他
A52: バターオイル | C52: _040590229 | D52: 2kg以下(ビン又はボトル、バターオイル) | E52: 100kg～300kg（バルク、バターオイル） | F52: その他
A53: シュレッド | C53: _040610020 | D53: シュレッド・ダイスタイプ | E53: その他
A54: フレッシュ | C54: _040610090 | D54: シュレッド・ダイスタイプ | E54: モッツアレラチーズ（ソフトタイプ） | F54: モッツアレラチーズ（セミハードタイプ） | G54: クリームチーズ | H54: その他
A55: 粉 | C55: _040620100 | D55: 粉チーズ | E55: その他
A56: プロセス | C56: _040630000 | D56: シュレッド・ダイスタイプ | E56: プロセスチーズ | F56: その他
A57: 青カビ | C57: _040640090 | D57: シュレッド・ダイスタイプ | E57: 青カビタイプ | F57: その他
A58: 熟成 | C58: _040690090 | D58: シュレッド・ダイスタイプ | E58: 白カビタイプ | F58: シェーブルタイプ | G58: ウォッシュタイプ | H58: その他
B59: 申請 | C59: 申請する
C60: 申請しない
A61: _040210129 | B61: 脱脂粉乳 | C61: 6.48
A62: _040210212 | B62: 脱脂粉乳 | C62: 6.48
A63: _040210229 | B63: 脱脂粉乳 | C63: 6.48
A64: _040221212 | B64: 脱脂粉乳 | C64: 6.84
A65: _040221229 | B65: 脱脂粉乳 | C65: 6.84
A66: _040229291 | B66: 脱脂粉乳 | C66: 6.84
A67: _040221131 | B67: 粉乳及びバターミルクパウダー | C67: 8.9
A68: _040221141 | B68: 粉乳及びバターミルクパウダー | C68: 13.43
A69: _040229119 | B69: 粉乳及びバターミルクパウダー | C69: 8.9
A70: _040229129 | B70: 粉乳及びバターミルクパウダー | C70: 13.43
A71: _040390113 | B71: 粉乳及びバターミルクパウダー | C71: 6.48
A72: _040390123 | B72: 粉乳及びバターミルクパウダー | C72: 8.57
... A75: _040299290 | B75: 加糖れん乳 | C75: 3.65
A76: _040410125 | B76: 無機質を濃縮したホエイ
A77: _040410135 | B77: ホエイパーミエイト
A78: _040410145
A79: _040410165 | B79: 無機質を濃縮したホエイ
A80: _040410185 | B80: 乳幼児粉乳等用
A81: _040490118 | B81: 乳幼児粉乳等用
A82: _040490128 | B82: 乳幼児粉乳等用
A83: _040490138 | B83: 乳幼児粉乳等用
A84: _040510129 | B84: バターその他の油脂及びデイリースプレッド | C84: 12.34
A85: _040510229 | B85: バターその他の油脂及びデイリースプレッド | C85: 15.05
A86: _040520090 | B86: バターその他の油脂及びデイリースプレッド | C86: 12.34
A87: _040590190 | B87: バターその他の油脂及びデイリースプレッド | C87: 12.34
A88: _040590229 | B88: バターその他の油脂及びデイリースプレッド | C88: 15.05
A89: CPTPPバターその他の油脂及びデイリースプレッド | B89: 1240000 | C89: ←申請上限数量は毎年見直し
A90: CPTPP脱脂粉乳 | B90: 650000
A91: CPTPP粉乳及びバターミルクパウダー | B91: 180000
A92: CPTPP無糖れん乳 | B92: 238000
A93: CPTPP加糖れん乳 | B93: 70000
A94: CPTPP無機質を濃縮したホエイ | B94: 240000
A95: CPTPPホエイ | B95: 81000
A96: CPTPPプロセスチーズ
A97: 日EU協定無糖れん乳 | B97: 70000
A98: 日EU協定ホエイ | B98: 236000
A99: 日EU協定バター、脱脂粉乳、粉乳、バターミルクパウダー及び加糖れん乳 | B99: 620000
A100: 日EU協定チーズ | B100: 523000
A101: 日米貿易協定プロセスチーズ | B101: 28000
A102: 日米貿易協定ホエイ | B102: 820000
