Workbook
Name 管轄局: #REF!
Name 管轄局: #REF!
Name 管轄局: #REF!
Name 政策目的: #REF!
Name 政策目的: #REF!
Name 政策目的: #REF!

Sheet ７（実施主体）
A1: 別紙様式第７号別添
B7: 全国
S10: 事業計画
S13: 実績報告
G22: 事業実施年度 | O22: ： | P22: 令和 | T22: 年度
G24: 団体名 | O24: ：
A33: 第１ 事業の実施方針
A38: 第２ 事業の交付計画（実績）
B39: １ 事業の交付計画（実績）
B40: 交付申請数（人） ［交付実績］ | G40: 事業総額（円） ［実績額］ | L40: 負担区分 | X40: 備考
L41: 国庫補助金 | O41: 都道府県 負担額 | R41: その他 | U41: 自己負担額
B43: 0 | G43: =L43+O43+R43+U43 -> 0
B45: 実績 | C45: 0 | G45: 実績 | H45: =L45+O45+R45+U45 -> 0
B46: ※ 実績は都道府県が提出した別紙１候補者（交付対象者）リストを取りまとめて添付すること。
B48: ２ 推進事業に関する計画（実績）
B49: 事項 | H49: 内容 | AF49: 申請額 | AJ49: 実績額
B50: ①事業実施に係る事務 | AF50: 0 | AJ50: =+AJ51 -> 0
B51: ②交付対象者情報の共有 | AF51: 0 | AJ51: 0
B52: 合計 | AF52: 0 | AJ52: =AJ50+AJ51 -> 0
B54: ３ 都道府県への配分に係る計画（実績）
B55: 事項 | G55: 計画値 | K55: 実績値 | O55: 配分及び進行管理の方針
B56: 配分都道府県数 | G56: 0 | K56: 0
B57: 配分金額（円） | G57: =SUM(G58:J59) -> 0 | K57: =K58+K59 -> 0
C58: うち事業費 | G58: 0 | K58: 0
C59: うち推進費 | G59: 0 | K59: 0
B61: ４ 合計額
B62: 申請額 | H62: =AF52+G57 -> 0
B63: 実績額 | H63: =AJ52+K57 -> 0 | AK63: =H63 -> 0
A65: 第３ 交付対象者データベースの改修・運用（第６の10の（２）に定めるデータベースを活用）
B66: １ 交付対象者データベースの改修・運用計画（実績）
B71: ２ 個人情報の取扱い
A76: 第４ 関係機関（都道府県、農業経営・就農支援センター、市町村等）との連携
A82: 第５ その他

Sheet ８（都道府県計画）
A1: 別紙様式第８号別添
B7: 都道府県
B9: 新規就農者チャレンジ
S12: 事業計画
S15: 実績報告
G22: 事業実施年度 | O22: ： | P22: 令和 | T22: 年度
G24: 都道府県名 | O24: ：
A36: 第１ 事業計画
B37: １ 事業の交付計画（実績）
B38: 交付申請数（人） ［交付実績］ | G38: 事業総額（円） ［実績額］ | L38: 負担区分 | X38: 備考
L39: 国庫補助金 | O39: 都道府県 負担額 | R39: その他 | U39: 自己負担額
G41: =L41+O41+R41+U41 -> 0
B43: 実績 | G43: 実績 | H43: =L43+O43+R43+U43 -> 0
B44: ※ 市町村が提出した別紙１候補者（交付対象者）リストを取りまとめて添付すること。
B47: ２ 推進事業に関する計画（実績）
B48: （１）推進事業費内訳
E49: 推進事業費 合計額（円） | I49: 負担区分
I50: 都道府県 | L50: 市町村
B51: 申請額 | E51: =I51+L51 -> 0
B52: 実績額 | E52: =I52+L52 -> 0
B54: （２）都道府県推進事業計画（実績）
B55: 事項 | L55: 内容 | AF55: 金額（円）
B56: ①事業の実施に関する事務
B57: ②交付対象者への指導活動
AF58: （合計） | AH58: =AF56+AF57 -> 0
B60: ３ 合計額
B61: 申請額 | E61: =G41+E51 -> 0
B62: 実績額 | E62: =H43+E52 -> 0
A64: 第２ 都道府県サポート計画（実績）（別紙２）
B65: 注：ホームページで公表している場合はURLを記載（添付は省略）

Sheet ８別紙１（一覧）
A1: （別紙１）
A2: 候補者（交付対象者）リスト
A4: 都道府県名 | B4: 市町村名 | C4: 有人離島地域に該当するか | D4: 法人 | E4: 申請者数集計用 | F4: 氏名 （法人名） | G4: 役員氏名 （法人で申請する場合のみ記入） | H4: 就農形態 （１：新たに農業経営を開始、２：親（三親等以内の親族を含む。以下この様式において同じ。）の農業経営とは別に新たな部門を開始、３：親の経営を全部継承、４：親の経営を一部継承） | I4: 前年度所得 | K4: 交付要件 | O4: 全ての交付要件を満たしているか | P4: 地域計画 | W4: 交付対象者チェックリスト | AE4: 交付対象者チェックリスト等に×があっても採択すべきと判断する理由 （注：左記交付要件、チェックリストに、×又は不明が一つでもある場合は記入必須） | AF4: 成果目標 | AG4: １ 成果目標ポイント | AQ4: ２ 取組内容ポイント | AY4: 合計 | AZ4: 補助上限額 （コース） | BA4: 営農区分 （整理番号は番号表を参照） | BC4: 導入内容 （整理番号は番号表を参照） | BF4: 中古、新品の別等（中古の場合は「１」を記入） | BG4: 中古の場合は、事業費が50万円以上であり、適正価格であるか | BH4: 法定 耐用 年数 （年） | BI4: 見積書提出済の場合は「○」を記入 | BJ4: 事業内容 （導入機械等名、規模、台数等） | BK4: 実施内容 | BN4: 事業費関係（全て円単位で記入すること） | BV4: 融資概要 | CB4: 備 考
I5: 前年度 総所得 （円） | K5: 独立・自営時の年齢（64歳以下） | L5: 青年等就農計画の認定要件 （50歳以上で認定を受けた場合のみ記入） | M5: 経営開始年 | N5: 経営開始月 | P5: 地区名 | Q5: 集積率要件 | U5: 申請者の 位置付け | W5: １ 青年等就農計画の認定を申請時に受けている | X5: ２ 経営開始資金等による資金の交付を申請時に受けていない | Y5: ３ 経営発展支援事業等による助成を過去に受けていない | Z5: ４ ※経営発展事業等による助成を過去に受けている場合 | AC5: ５ 豚や鶏等を飼養する場合、飼養衛生管理基準が遵守されている | AD5: ６ 「みどりの食料システム法」に基づく環境負荷低減に取り組む意思がある | AF5: ①経営面積の３割以上の拡大 ②付加価値額の１割以上の拡大 ③労働生産性の３％以上の向上 | AG5: （１）のア 経営面積の拡大面積 施設園芸作 | AH5: （１）のア 経営面積の拡大面積 果樹作 | AI5: （１）のア 経営面積の拡大面積 土地利用型 | AJ5: （１）のア 経営面積の拡大面積 上記以外 | AK5: （１）のイ 経営面積の拡大率 | AL5: （２）のア 付加価値額の拡大率 | AM5: （２）のイ 付加価値額の拡大額 | AN5: （３）の（ア） 労働生産性の向上 | AO5: （３）の（イ） 付加価値額の拡大額 | AP5: 成果 目標 合計 | AQ5: １ 研修 | AR5: ２ サポート体制 | AS5: ３ 経営管理の合理化 | AT5: ４ 法人化 | AU5: ５ 家族経営協定を書面で締結している | AV5: ６ 農業版事業継続計画（BCP）を策定している | AW5: ７ データを活用した農業を実践する | AX5: ８ みどりの食料システム法に基づく環境負荷低減事業活動実施計画又は特定環境負荷低減事業活動実施計画の認定を受ける | BK5: 着工（予定） 年月日 | BL5: 完了（予定）年月日 | BM5: 導入機械等の保管・設置・施工住所 | BN5: 導入機械等の見積金額・事業費（円） | BO5: 補助上限額 （円） A | BP5: 国費（円） ※千円単位切り捨て B=＜A×3/10 | BQ5: 都道府県負担分（円） C | BR5: 自己負担 （円） D | BS5: その他 （市町村、ＪＡ負担分） （円） E | BT5: 国費は、補助対象事業費の 3/10以内 （確認用） | BU5: 助成率 （確認用） (A-D)/A | BV5: 担保措置の有無（該当の場合は「１」を記入 | BW5: 金融機関 （整理番号は番号表を参照） | BY5: 金融（資金）種類 （整理番号は番号表を参照）
J6: うち前年度 農業所得 （円） | Q6: ① 目標集積率が6割以上 | R6: ② 目標集積率が現状集積率より10ポイント以上増加 | S6: ③ ①が事業実施年度の翌年度までに確実 | T6: ④ ②が事業実施年度の翌年度までに確実 | U6: ① 位置付けられている | V6: ② 位置付けられることが確実 | Z6: ① 既に成果目標を達成している | AA6: ② 事業実施年度の経営規模が第４の２の（５）に規定されるア又はイを上回っている | AB6: ③ やむを得ない事情に該当する | AG6: 経営面積を 目標年度までに 現状以上：６点 15a以上：10点 18a以上：12点 21a以上：14点 24a以上：16点 27a以上：18点 30a以上：20点 拡大する。 | AH6: 経営面積を 目標年度までに 現状以上：６点 25a以上：10点 30a以上：12点 35a以上：14点 40a以上：16点 45a以上：18点 50a以上：20点 拡大する。 | AI6: 経営面積を 目標年度までに 現状以上：６点 75a以上：10点 100a以上：12点 125a以上：14点 150a以上：16点 175a以上：18点 200a以上：20点 拡大する。 | AJ6: 経営面積を 目標年度までに 現状以上：６点 25a以上：10点 30a以上：12点 35a以上：14点 40a以上：16点 45a以上：18点 50a以上：20点 拡大する。 | AK6: 経営面積を 目標年度までに 現状以上：10点 30%以上：12点 33%以上：14点 36%以上：16点 40%以上：18点 45%以上：20点 拡大する。 | AL6: 付加価値額を 目標年度までに 10%以上：10点 15%以上：12点 20%以上：14点 25%以上：16点 30%以上：18点 35%以上：20点 拡大する。 | AM6: 付加価値額を 目標年度までに 現状以上：６点 15万円以上：10点 25万円以上：12点 75万円以上：14点 125万円以上：16点 175万円以上：18点 250万円以上：20点 拡大する。 | AN6: 労働生産性を 目標年度までに ３%以上：10点 ５%以上：12点 ７%以上：14点 ９%以上：16点 11%以上：18点 13%以上又はア及びイの要件をいずれも満たす者：20点 向上させる。 | AO6: 付加価値額を 目標年度までに 現状以上：６点 15万円以上：10点 25万円以上：12点 75万円以上：14点 125万円以上：16点 175万円以上：18点 250万円以上：20点 拡大する。 | AQ6: ①作目を含む研修 ②作目について研修 ③農業経営に関する研修 を受けている ※ ①のみ該当する場合１点、①②に該当する場合２点、全て該当する場合３点 | AR6: ①地域サポート 計画が策定されている ②普及指導活動 の対象者として 選定されている ③担当機関・部 署が明確になっ ている ※ ①のみ該当する場合１点、①②に該当する場合２点、全て該当する場合３点 | AS6: ①農作業の記録を毎日つける ②GAP認証等を取得する ※ ①のみ該当する場合１点、①②に該当する場合３点 | AT6: ①目標年までに法人化する ②法人化している又は事業実施年度内に法人化する ※ ①のみ該当する場合３点、②に該当する場合５点 | BA6: 整理 番号 | BB6: （確認用） | BC6: 整理 番号 | BD6: （確認用） | BE6: 共済等の 加入状況 （１：園芸施設共済、２：農機具共済、３：その他） | BJ6: ※○台、馬力・○条刈り、○棟○㎡等 | BW6: 整理番号 | BX6: （確認用） | BY6: 整理番号 | BZ6: （確認用） | CA6: 償還 年数
O7: =IF(F7="","",IF(AND(F7<>"",(COUNTIF(Q7:AD7,"○")+COUNTIF(Q7:AD7,"該当なし"))=7),"○","×")) | AP7: =SUM(AG7:AO7) -> 0 | AY7: =SUM(AP7:AX7) -> 0 | AZ7: =IF(D7="○","上限3,000万円コース",IF(F7="","","上限1,500万円コース")) | BB7: =IF(BA7<>0,VLOOKUP(BA7,整理番号表!$B$12:$F$26,2,FALSE),"-") -> - | BD7: =IF(BC7<>0,VLOOKUP(BC7,整理番号表!$P$5:$Q$39,2,FALSE),"-") -> - | BO7: =IF(BN7<=15000000,BN7,IF(AZ7="上限3,000万円コース",IF(BN7<=30000000,BN7,"30,000,000"),IF(AZ7="上限1,500万円コース",IF(BN7<=15000000,BN7,"15,000,000")))) -> 0 | BP7: =ROUNDDOWN(BO7*3/10,-3) -> 0 | BR7: =BN7-BP7-BQ7-BS7 -> 0 | BT7: =IF(BN7="","-",IF(BO7*3/10>=BP7,"○","×")) -> - | BU7: =IF(BN7="","-",(BP7+BQ7+BS7)/BO7) -> - | BX7: =IF(BW7<>0,VLOOKUP(BW7,整理番号表!$T$6:$U$17,2,FALSE),"-") -> - | BZ7: =IF(BY7<>0,VLOOKUP(BY7,整理番号表!$T$21:$U$24,2,FALSE),"-") -> -
O8: =IF(F8="","",IF(AND(F8<>"",(COUNTIF(Q8:AD8,"○")+COUNTIF(Q8:AD8,"該当なし"))=7),"○","×")) | AP8: =SUM(AG8:AO8) -> 0 | AY8: =SUM(AP8:AX8) -> 0 | AZ8: =IF(D8="○","上限3,000万円コース",IF(F8="","","上限1,500万円コース")) | BB8: =IF(BA8<>0,VLOOKUP(BA8,整理番号表!$B$12:$F$26,2,FALSE),"-") -> - | BD8: =IF(BC8<>0,VLOOKUP(BC8,整理番号表!$P$5:$Q$39,2,FALSE),"-") -> - | BO8: =IF(BN8<=15000000,BN8,IF(AZ8="上限3,000万円コース",IF(BN8<=30000000,BN8,"30,000,000"),IF(AZ8="上限1,500万円コース",IF(BN8<=15000000,BN8,"15,000,000")))) -> 0 | BP8: =ROUNDDOWN(BO8*3/10,-3) -> 0 | BR8: =BN8-BP8-BQ8-BS8 -> 0 | BT8: =IF(BN8="","-",IF(BO8*3/10>=BP8,"○","×")) -> - | BU8: =IF(BN8="","-",(BP8+BQ8+BS8)/BO8) -> - | BX8: =IF(BW8<>0,VLOOKUP(BW8,整理番号表!$T$6:$U$17,2,FALSE),"-") -> - | BZ8: =IF(BY8<>0,VLOOKUP(BY8,整理番号表!$T$21:$U$24,2,FALSE),"-") -> -
O9: =IF(F9="","",IF(AND(F9<>"",(COUNTIF(Q9:AD9,"○")+COUNTIF(Q9:AD9,"該当なし"))=7),"○","×")) | AP9: =SUM(AG9:AO9) -> 0 | AY9: =SUM(AP9:AX9) -> 0 | AZ9: =IF(D9="○","上限3,000万円コース",IF(F9="","","上限1,500万円コース")) | BB9: =IF(BA9<>0,VLOOKUP(BA9,整理番号表!$B$12:$F$26,2,FALSE),"-") -> - | BD9: =IF(BC9<>0,VLOOKUP(BC9,整理番号表!$P$5:$Q$39,2,FALSE),"-") -> - | BO9: =IF(BN9<=15000000,BN9,IF(AZ9="上限3,000万円コース",IF(BN9<=30000000,BN9,"30,000,000"),IF(AZ9="上限1,500万円コース",IF(BN9<=15000000,BN9,"15,000,000")))) -> 0 | BP9: =ROUNDDOWN(BO9*3/10,-3) -> 0 | BR9: =BN9-BP9-BQ9-BS9 -> 0 | BT9: =IF(BN9="","-",IF(BO9*3/10>=BP9,"○","×")) -> - | BU9: =IF(BN9="","-",(BP9+BQ9+BS9)/BO9) -> - | BX9: =IF(BW9<>0,VLOOKUP(BW9,整理番号表!$T$6:$U$17,2,FALSE),"-") -> - | BZ9: =IF(BY9<>0,VLOOKUP(BY9,整理番号表!$T$21:$U$24,2,FALSE),"-") -> -
O10: =IF(F10="","",IF(AND(F10<>"",(COUNTIF(Q10:AD10,"○")+COUNTIF(Q10:AD10,"該当なし"))=7),"○","×")) | AP10: =SUM(AG10:AO10) -> 0 | AY10: =SUM(AP10:AX10) -> 0 | AZ10: =IF(D10="○","上限3,000万円コース",IF(F10="","","上限1,500万円コース")) | BB10: =IF(BA10<>0,VLOOKUP(BA10,整理番号表!$B$12:$F$26,2,FALSE),"-") -> - | BD10: =IF(BC10<>0,VLOOKUP(BC10,整理番号表!$P$5:$Q$39,2,FALSE),"-") -> - | BO10: =IF(BN10<=15000000,BN10,IF(AZ10="上限3,000万円コース",IF(BN10<=30000000,BN10,"30,000,000"),IF(AZ10="上限1,500万円コース",IF(BN10<=15000000,BN10,"15,000,000")))) -> 0 | BP10: =ROUNDDOWN(BO10*3/10,-3) -> 0 | BR10: =BN10-BP10-BQ10-BS10 -> 0 | BT10: =IF(BN10="","-",IF(BO10*3/10>=BP10,"○","×")) -> - | BU10: =IF(BN10="","-",(BP10+BQ10+BS10)/BO10) -> - | BX10: =IF(BW10<>0,VLOOKUP(BW10,整理番号表!$T$6:$U$17,2,FALSE),"-") -> - | BZ10: =IF(BY10<>0,VLOOKUP(BY10,整理番号表!$T$21:$U$24,2,FALSE),"-") -> -
O11: =IF(F11="","",IF(AND(F11<>"",(COUNTIF(Q11:AD11,"○")+COUNTIF(Q11:AD11,"該当なし"))=7),"○","×")) | AP11: =SUM(AG11:AO11) -> 0 | AY11: =SUM(AP11:AX11) -> 0 | AZ11: =IF(D11="○","上限3,000万円コース",IF(F11="","","上限1,500万円コース")) | BB11: =IF(BA11<>0,VLOOKUP(BA11,整理番号表!$B$12:$F$26,2,FALSE),"-") -> - | BD11: =IF(BC11<>0,VLOOKUP(BC11,整理番号表!$P$5:$Q$39,2,FALSE),"-") -> - | BO11: =IF(BN11<=15000000,BN11,IF(AZ11="上限3,000万円コース",IF(BN11<=30000000,BN11,"30,000,000"),IF(AZ11="上限1,500万円コース",IF(BN11<=15000000,BN11,"15,000,000")))) -> 0 | BP11: =ROUNDDOWN(BO11*3/10,-3) -> 0 | BR11: =BN11-BP11-BQ11-BS11 -> 0 | BT11: =IF(BN11="","-",IF(BO11*3/10>=BP11,"○","×")) -> - | BU11: =IF(BN11="","-",(BP11+BQ11+BS11)/BO11) -> - | BX11: =IF(BW11<>0,VLOOKUP(BW11,整理番号表!$T$6:$U$17,2,FALSE),"-") -> - | BZ11: =IF(BY11<>0,VLOOKUP(BY11,整理番号表!$T$21:$U$24,2,FALSE),"-") -> -
O12: =IF(F12="","",IF(AND(F12<>"",(COUNTIF(Q12:AD12,"○")+COUNTIF(Q12:AD12,"該当なし"))=7),"○","×")) | AP12: =SUM(AG12:AO12) -> 0 | AY12: =SUM(AP12:AX12) -> 0 | AZ12: =IF(D12="○","上限3,000万円コース",IF(F12="","","上限1,500万円コース")) | BB12: =IF(BA12<>0,VLOOKUP(BA12,整理番号表!$B$12:$F$26,2,FALSE),"-") -> - | BD12: =IF(BC12<>0,VLOOKUP(BC12,整理番号表!$P$5:$Q$39,2,FALSE),"-") -> - | BO12: =IF(BN12<=15000000,BN12,IF(AZ12="上限3,000万円コース",IF(BN12<=30000000,BN12,"30,000,000"),IF(AZ12="上限1,500万円コース",IF(BN12<=15000000,BN12,"15,000,000")))) -> 0 | BP12: =ROUNDDOWN(BO12*3/10,-3) -> 0 | BR12: =BN12-BP12-BQ12-BS12 -> 0 | BT12: =IF(BN12="","-",IF(BO12*3/10>=BP12,"○","×")) -> - | BU12: =IF(BN12="","-",(BP12+BQ12+BS12)/BO12) -> - | BX12: =IF(BW12<>0,VLOOKUP(BW12,整理番号表!$T$6:$U$17,2,FALSE),"-") -> - | BZ12: =IF(BY12<>0,VLOOKUP(BY12,整理番号表!$T$21:$U$24,2,FALSE),"-") -> -
O13: =IF(F13="","",IF(AND(F13<>"",(COUNTIF(Q13:AD13,"○")+COUNTIF(Q13:AD13,"該当なし"))=7),"○","×")) | AP13: =SUM(AG13:AO13) -> 0 | AY13: =SUM(AP13:AX13) -> 0 | AZ13: =IF(D13="○","上限3,000万円コース",IF(F13="","","上限1,500万円コース")) | BB13: =IF(BA13<>0,VLOOKUP(BA13,整理番号表!$B$12:$F$26,2,FALSE),"-") -> - | BD13: =IF(BC13<>0,VLOOKUP(BC13,整理番号表!$P$5:$Q$39,2,FALSE),"-") -> - | BO13: =IF(BN13<=15000000,BN13,IF(AZ13="上限3,000万円コース",IF(BN13<=30000000,BN13,"30,000,000"),IF(AZ13="上限1,500万円コース",IF(BN13<=15000000,BN13,"15,000,000")))) -> 0 | BP13: =ROUNDDOWN(BO13*3/10,-3) -> 0 | BR13: =BN13-BP13-BQ13-BS13 -> 0 | BT13: =IF(BN13="","-",IF(BO13*3/10>=BP13,"○","×")) -> - | BU13: =IF(BN13="","-",(BP13+BQ13+BS13)/BO13) -> - | BX13: =IF(BW13<>0,VLOOKUP(BW13,整理番号表!$T$6:$U$17,2,FALSE),"-") -> - | BZ13: =IF(BY13<>0,VLOOKUP(BY13,整理番号表!$T$21:$U$24,2,FALSE),"-") -> -
O14: =IF(F14="","",IF(AND(F14<>"",(COUNTIF(Q14:AD14,"○")+COUNTIF(Q14:AD14,"該当なし"))=7),"○","×")) | AP14: =SUM(AG14:AO14) -> 0 | AY14: =SUM(AP14:AX14) -> 0 | AZ14: =IF(D14="○","上限3,000万円コース",IF(F14="","","上限1,500万円コース")) | BB14: =IF(BA14<>0,VLOOKUP(BA14,整理番号表!$B$12:$F$26,2,FALSE),"-") -> - | BD14: =IF(BC14<>0,VLOOKUP(BC14,整理番号表!$P$5:$Q$39,2,FALSE),"-") -> - | BO14: =IF(BN14<=15000000,BN14,IF(AZ14="上限3,000万円コース",IF(BN14<=30000000,BN14,"30,000,000"),IF(AZ14="上限1,500万円コース",IF(BN14<=15000000,BN14,"15,000,000")))) -> 0 | BP14: =ROUNDDOWN(BO14*3/10,-3) -> 0 | BR14: =BN14-BP14-BQ14-BS14 -> 0 | BT14: =IF(BN14="","-",IF(BO14*3/10>=BP14,"○","×")) -> - | BU14: =IF(BN14="","-",(BP14+BQ14+BS14)/BO14) -> - | BX14: =IF(BW14<>0,VLOOKUP(BW14,整理番号表!$T$6:$U$17,2,FALSE),"-") -> - | BZ14: =IF(BY14<>0,VLOOKUP(BY14,整理番号表!$T$21:$U$24,2,FALSE),"-") -> -
O15: =IF(F15="","",IF(AND(F15<>"",(COUNTIF(Q15:AD15,"○")+COUNTIF(Q15:AD15,"該当なし"))=7),"○","×")) | AP15: =SUM(AG15:AO15) -> 0 | AY15: =SUM(AP15:AX15) -> 0 | AZ15: =IF(D15="○","上限3,000万円コース",IF(F15="","","上限1,500万円コース")) | BB15: =IF(BA15<>0,VLOOKUP(BA15,整理番号表!$B$12:$F$26,2,FALSE),"-") -> - | BD15: =IF(BC15<>0,VLOOKUP(BC15,整理番号表!$P$5:$Q$39,2,FALSE),"-") -> - | BO15: =IF(BN15<=15000000,BN15,IF(AZ15="上限3,000万円コース",IF(BN15<=30000000,BN15,"30,000,000"),IF(AZ15="上限1,500万円コース",IF(BN15<=15000000,BN15,"15,000,000")))) -> 0 | BP15: =ROUNDDOWN(BO15*3/10,-3) -> 0 | BR15: =BN15-BP15-BQ15-BS15 -> 0 | BT15: =IF(BN15="","-",IF(BO15*3/10>=BP15,"○","×")) -> - | BU15: =IF(BN15="","-",(BP15+BQ15+BS15)/BO15) -> - | BX15: =IF(BW15<>0,VLOOKUP(BW15,整理番号表!$T$6:$U$17,2,FALSE),"-") -> - | BZ15: =IF(BY15<>0,VLOOKUP(BY15,整理番号表!$T$21:$U$24,2,FALSE),"-") -> -
O16: =IF(F16="","",IF(AND(F16<>"",(COUNTIF(Q16:AD16,"○")+COUNTIF(Q16:AD16,"該当なし"))=7),"○","×")) | AP16: =SUM(AG16:AO16) -> 0 | AY16: =SUM(AP16:AX16) -> 0 | AZ16: =IF(D16="○","上限3,000万円コース",IF(F16="","","上限1,500万円コース")) | BB16: =IF(BA16<>0,VLOOKUP(BA16,整理番号表!$B$12:$F$26,2,FALSE),"-") -> - | BD16: =IF(BC16<>0,VLOOKUP(BC16,整理番号表!$P$5:$Q$39,2,FALSE),"-") -> - | BO16: =IF(BN16<=15000000,BN16,IF(AZ16="上限3,000万円コース",IF(BN16<=30000000,BN16,"30,000,000"),IF(AZ16="上限1,500万円コース",IF(BN16<=15000000,BN16,"15,000,000")))) -> 0 | BP16: =ROUNDDOWN(BO16*3/10,-3) -> 0 | BR16: =BN16-BP16-BQ16-BS16 -> 0 | BT16: =IF(BN16="","-",IF(BO16*3/10>=BP16,"○","×")) -> - | BU16: =IF(BN16="","-",(BP16+BQ16+BS16)/BO16) -> - | BX16: =IF(BW16<>0,VLOOKUP(BW16,整理番号表!$T$6:$U$17,2,FALSE),"-") -> - | BZ16: =IF(BY16<>0,VLOOKUP(BY16,整理番号表!$T$21:$U$24,2,FALSE),"-") -> -
O17: =IF(F17="","",IF(AND(F17<>"",(COUNTIF(Q17:AD17,"○")+COUNTIF(Q17:AD17,"該当なし"))=7),"○","×")) | AP17: =SUM(AG17:AO17) -> 0 | AY17: =SUM(AP17:AX17) -> 0 | AZ17: =IF(D17="○","上限3,000万円コース",IF(F17="","","上限1,500万円コース")) | BB17: =IF(BA17<>0,VLOOKUP(BA17,整理番号表!$B$12:$F$26,2,FALSE),"-") -> - | BD17: =IF(BC17<>0,VLOOKUP(BC17,整理番号表!$P$5:$Q$39,2,FALSE),"-") -> - | BO17: =IF(BN17<=15000000,BN17,IF(AZ17="上限3,000万円コース",IF(BN17<=30000000,BN17,"30,000,000"),IF(AZ17="上限1,500万円コース",IF(BN17<=15000000,BN17,"15,000,000")))) -> 0 | BP17: =ROUNDDOWN(BO17*3/10,-3) -> 0 | BR17: =BN17-BP17-BQ17-BS17 -> 0 | BT17: =IF(BN17="","-",IF(BO17*3/10>=BP17,"○","×")) -> - | BU17: =IF(BN17="","-",(BP17+BQ17+BS17)/BO17) -> - | BX17: =IF(BW17<>0,VLOOKUP(BW17,整理番号表!$T$6:$U$17,2,FALSE),"-") -> - | BZ17: =IF(BY17<>0,VLOOKUP(BY17,整理番号表!$T$21:$U$24,2,FALSE),"-") -> -
A18: 合計

Sheet 整理番号表
A1: 改 正 後
B2: 別紙１：整理番号表
B4: ①就農形態 | P4: ③導入内容 | T4: ④金融機関
B5: 番号 | P5: 番号 | Q5: 導入機械等名 | R5: 備考 | T5: 番号 | U5: 名称
B6: １：新規参入 | P6: 1 | Q6: トラクター | R6: 農業用機械 | T6: 1 | U6: 農協
B7: ２：親と別部門 | P7: 2 | Q7: コンバイン | T7: 2 | U7: 農協連
B8: ３：全継承 | P8: 3 | Q8: 田植機 | T8: 3 | U8: 農林中金
B9: ４：一部継承 | P9: 4 | Q9: 乗用管理機 | T9: 4 | U9: 日本公庫
P10: 5 | Q10: 茶複合管理機 | T10: 5 | U10: 沖縄公庫
B11: ②営農区分 | P11: 6 | Q11: アタッチメント | T11: 6 | U11: 商工中金
B12: 番号 | C12: 区分 | G12: 分類基準 | P12: 7 | Q12: ＧＰＳガイダンス | T12: 7 | U12: 奄美振興基金
B13: 1 | C13: 水田作 | G13: 稲、麦類、雑穀、いも類、豆類、工芸農作物の販売収入のうち、水田で作付けした農業生産物の販売収入が他の営農類型の農業生産物販売収入と比べて最も多い経営 | P13: 8 | Q13: その他機械 | T13: 8 | U13: 銀行
B14: 2 | C14: 畑作 | G14: 稲、麦類、雑穀、いも類、豆類、工芸農作物の販売収入のうち、畑で作付けした農業生産物の販売収入が他の営農類型の農業生産物販売収入と比べて最も多い経営 | P14: 9 | Q14: ハウス | R14: 生産・流通 | T14: 9 | U14: 信用金庫
B15: 3 | C15: 露地野菜作 | G15: 野菜作経営のうち、露地野菜の販売収入が施設野菜の販売収入以上である経営 | P15: 10 | Q15: 育苗施設 | T15: 10 | U15: 信用組合
B16: 4 | C16: 施設野菜作 | G16: 野菜作経営のうち、露地野菜より施設野菜の販売収入が多い経営 | P16: 11 | Q16: 乾燥調製施設（乾燥機） | T16: 11 | U16: 都道府県
B17: 5 | C17: 果樹作 | G17: 果樹の販売収入が他の営農類型の農業生産物販売収入と比べて最も多い経営 | P17: 12 | Q17: 果樹棚 | T17: 12 | U17: その他
B18: 6 | C18: 露地花き | G18: 花き作経営のうち、露地花きの販売収入が施設花きの販売収入以上である経営 | P18: 13 | Q18: 集出荷施設（選果機）
B19: 7 | C19: 施設花き | G19: 花き作経営のうち、露地花きより施設花きの販売収入が多い経営 | P19: 14 | Q19: 家畜（肉用牛等）の導入 | R19: 導入・新植・改植 | T19: ⑤融資（資金）種類
B20: 8 | C20: 酪農 | G20: 酪農の販売収入が他の営農類型の農業生産物販売収入と比べて最も多い経営 | P20: 15 | Q20: 果樹の新植、改植 | T20: 番号 | U20: 資金名
B21: 9 | C21: 繁殖牛 | G21: 肉用牛経営のうち、肥育牛の飼養頭数より繁殖用雌牛の飼養頭数が多い経営 | P21: 16 | Q21: 茶の新植、改植 | T21: 1 | U21: 青年等就農資金
B22: 10 | C22: 肥育牛 | G22: 肉用牛経営のうち、肥育牛の飼養頭数が繁殖用雌牛の飼養頭数以上である経営 | P22: 17 | Q22: 畜舎（肉用牛） | R22: 畜産・酪農 | T22: 2 | U22: 農業近代化資金
B23: 11 | C23: 養豚 | G23: 養豚の販売収入が他の営農類型の農業生産物販売収入と比べて最も多い経営 | P23: 18 | Q23: 畜舎（養豚） | T23: 3 | U23: その他公庫資金
B24: 12 | C24: 採卵養鶏 | G24: 採卵養鶏の販売収入が他の営農類型の農業生産物販売収入と比べて最も多い経営 | P24: 19 | Q24: 畜舎（養鶏） | T24: 4 | U24: 一般資金
B25: 13 | C25: ブロイラー養鶏 | G25: ブロイラー養鶏の販売収入が他の営農類型の農業生産物販売収入と比べて最も多い経営 | P25: 20 | Q25: 畜舎（酪農）
B26: 14 | C26: その他 | G26: 上記の営農類型に分類されない経営 | P26: 21 | Q26: 畜舎（その他） | T26: ⑥担保措置
P27: 22 | Q27: サイロ | T27: 番号
P28: 23 | Q28: 堆肥施設 | T28: 1 | U28: 該当
P29: 24 | Q29: 機械（畜産関係）
P30: 25 | Q30: その他畜産関係施設
P31: 26 | Q31: リース農業用機械 | R31: その他
P32: 27 | Q32: リースハウス
P33: 28 | Q33: リースユンボ
P34: 29 | Q34: その他
P35: 30 | Q35: 畦畔除去 | R35: 土地基盤整備
P36: 31 | Q36: 区画整理
P37: 32 | Q37: 暗渠排水
P38: 33 | Q38: 明渠排水
P39: 34 | Q39: その他基盤整備

Sheet ８別紙２（サポート計画）
A1: （別紙２）
B2: 都道府県サポート計画（新規就農者向け）
AG5: （◯年◯月現在の情報）
B7: 都道府県名 | J7: 問合せ 窓口 | M7: （組織名） | O7: ※HP掲載可能な情報を記載 | Z7: （電話） | AB7: ※HP掲載可能な情報を記載
M8: （住所） | O8: ※HP掲載可能な情報を記載 | Z8: （メールアドレス） | AB8: ※HP掲載可能な情報を記載
J9: 注：相談窓口が複数ある場合は適宜行を追加して記入してください。
A11: 第１ 新規就農者に関する目標及び実績（必須）
AO12: （単位：人）
H13: 目標 | N13: 直近過去実績 | AF13: 備考 （年度の考え方等、補足説明が 必要な事項がある場合に記載）
H14: 令和◯年度 | N14: 令和◯年度 | T14: 令和◯年度 | Z14: 令和◯年度
K15: うち49歳以下 | Q15: うち49歳以下 | W15: うち49歳以下 | AC15: うち49歳以下
B16: 新規就農者数（必須）
C17: 内訳 | D17: 新規参入者数
D18: 新規自営農業就農者数
D19: 新規雇用就農者数
B20: 注１： | C20: 「新規参入者」とは、土地や資金を独自に調達（相続・贈与等により親の農地を譲り受けた場合を除く。）し、当該年度に新たに農業経営を開始した経営の責任者及び共同経営者をいう。 なお、共同経営者とは、夫婦がそろって就農、あるいは複数の新規就農者が法人を新設して共同経営を行っている場合における、経営の責任者の配偶者又はその他の共同経営者をいう。
B22: 注2： | C22: 「新規自営農業就農者」とは、家族経営体（１世帯（雇用者の有無を問わない）で事業を行う者をいう。なお、農家が法人化した形態である一戸一法人を含む。）の世帯員で、当該年度に生活の主な状態が、「学生」から「自営農業への従事が主」になった者及び「他に雇われて勤務が主」から「自営農業への従事が主」になった者をいう。
B24: 注３： | C24: 「新規雇用就農者」とは、当該年度に新たに法人等に常雇い（年間７か月以上）として雇用されることにより、農業に従事することとなった者（外国人研修生及び外国人技能実習生並びに雇用される直前の就業状態が農業従事者であった場合を除く。）をいう。
A28: 第２ 新規就農者へのサポート内容
B29: １ 都道府県の紹介等（必須）
B30: 就農希望者に向けたサポート宣言 | F30: ※就農希望者に向けてどのようなサポートをするのか、訴求ポイントを記入（50文字程度）
B32: 地域と農業の 紹介文
B35: 主な農産物
B38: 地域が求める 新規就農者
B42: ２ 都道府県内のサポート体制（必須）
B43: 支援分野 | I43: 担当機関・部署名 | V43: 支援分野 | AC43: 担当機関・部署名
B44: 就農に向けた相談窓口 | V44: 農業者による指導
B46: 研修支援 | V46: 販路支援
B48: 技術・経営指導 | V48: 生活に係る支援 （住居、子育て等）
B50: 農地確保支援 | V50: 事務局・全体調整
B52: 機械・施設等の確保支援 | V52: その他（◯◯）
B54: 資金相談 | V54: その他（◯◯）
B57: ３ 新規就農者への支援内容（取り組んでいる支援を記載）
B58: 区分 | D58: 支援項目 | N58: 支援内容の紹介
B59: 就農意欲喚起 | E59: 就農・移住相談対応、就農相談会の開催
E62: 就農体験ツアー・インターンシップの実施
E65: ホームページ、パンフレット等での情報提供
E68: その他
B70: 就農前の支援 | E70: 研修の実施（生産技術・農業経営の研修、研修先とのマッチング等）
E73: 就農に向けたサポート（就農相談窓口の設置、就農先の紹介、マッチング等）
...

Sheet ９（市町村計画）
A1: 別紙様式第９号別添
B7: 市町村
B9: 新規就農者チャレンジ
S12: 事業計画
S15: 実績報告
G22: 事業実施年度 | O22: ： | P22: 令和 | T22: 年度
G24: 都道府県名 | O24: ：
A36: 第１ 事業計画
B37: １ 事業の交付計画（実績）
B38: 交付申請数（人） ［交付実績］ | G38: 事業総額（円） ［実績額］ | L38: 負担区分 | X38: 備考
L39: 国庫補助金 | O39: 市町村 負担額 | R39: その他 | U39: 自己負担額
G41: =L41+O41+R41+U41 -> 0
B43: 実績 | G43: 実績 | H43: =L43+O43+R43+U43 -> 0
B44: ※ 別紙１で候補者（交付対象者）の一覧を添付すること
B47: ２ 推進事業に関する計画（実績）
B48: （１）推進事業費内訳
E49: 推進事業費 合計額（円）
B51: 申請額 | E51: =I51+L51 -> 0
B52: 実績額 | E52: =I52+L52 -> 0
B54: （２）市町村推進事業計画（実績）
B55: 事項 | L55: 内容 | AF55: 金額（円）
B56: ①事業の実施に関する事務
B57: ②交付対象者への指導活動
AF58: （合計） | AH58: =AF56+AF57 -> 0
B60: ３ 合計額
B61: 申請額 | E61: =G41+E51 -> 0
B62: 実績額 | E62: =H43+E52 -> 0
A64: 第２ 市町村サポート計画（実績）（別紙２）
B65: 注：ホームページで公表している場合はURLを記載（添付は省略）

Sheet ９別紙１（一覧）
A1: （別紙１）
A2: 候補者（交付対象者）リスト
A4: 都道府県名 | B4: 市町村名 | C4: 有人離島地域に該当するか | D4: 法人 | E4: 申請者数集計用 | F4: 氏名 （法人名） | G4: 役員氏名 （法人で申請する場合のみ記入） | H4: 就農形態 （１：新たに農業経営を開始、２：親（三親等以内の親族を含む。以下この様式において同じ。）の農業経営とは別に新たな部門を開始、３：親の経営を全部継承、４：親の経営を一部継承） | I4: 前年度所得 | K4: 交付要件 | O4: 全ての交付要件を満たしているか | P4: 地域計画 | W4: 交付対象者チェックリスト | AE4: 交付対象者チェックリスト等に×があっても採択すべきと判断する理由 （注：左記交付要件、チェックリストに、×又は不明が一つでもある場合は記入必須） | AF4: 成果目標 | AG4: １ 成果目標ポイント | AQ4: ２ 取組内容ポイント | AY4: 合計 | AZ4: 補助上限額 （コース） | BA4: 営農区分 （整理番号は番号表を参照） | BC4: 導入内容 （整理番号は番号表を参照） | BF4: 中古、新品の別等（中古の場合は「１」を記入） | BG4: 中古の場合は、事業費が50万円以上であり、適正価格であるか | BH4: 法定 耐用 年数 （年） | BI4: 見積書提出済の場合は「○」を記入 | BJ4: 事業内容 （導入機械等名、規模、台数等） | BK4: 実施内容 | BN4: 事業費関係（全て円単位で記入すること） | BV4: 融資概要 | CB4: 備 考
I5: 前年度 総所得 （円） | K5: 独立・自営時の年齢（64歳以下） | L5: 青年等就農計画の認定要件 （50歳以上で認定を受けた場合のみ記入） | M5: 経営開始年 | N5: 経営開始月 | P5: 地区名 | Q5: 集積率要件 | U5: 申請者の 位置付け | W5: １ 青年等就農計画の認定を申請時に受けている | X5: ２ 経営開始資金等による資金の交付を申請時に受けていない | Y5: ３ 経営発展支援事業等による助成を過去に受けていない | Z5: ４ ※経営発展事業等による助成を過去に受けている場合 | AC5: ５ 豚や鶏等を飼養する場合、飼養衛生管理基準が遵守されている | AD5: ６ 「みどりの食料システム法」に基づく環境負荷低減に取り組む意思がある | AF5: ①経営面積の３割以上の拡大 ②付加価値額の１割以上の拡大 ③労働生産性の３％以上の向上 | AG5: （１）のア 経営面積の拡大面積 施設園芸作 | AH5: （１）のア 経営面積の拡大面積 果樹作 | AI5: （１）のア 経営面積の拡大面積 土地利用型 | AJ5: （１）のア 経営面積の拡大面積 上記以外 | AK5: （１）のイ 経営面積の拡大率 | AL5: （２）のア 付加価値額の拡大率 | AM5: （２）のイ 付加価値額の拡大額 | AN5: （３）の（ア） 労働生産性の向上 | AO5: （３）の（イ） 付加価値額の拡大額 | AP5: 成果 目標 合計 | AQ5: １ 研修 | AR5: ２ サポート体制 | AS5: ３ 経営管理の合理化 | AT5: ４ 法人化 | AU5: ５ 家族経営協定を書面で締結している | AV5: ６ 農業版事業継続計画（BCP）を策定している | AW5: ７ データを活用した農業を実践する | AX5: ８ みどりの食料システム法に基づく環境負荷低減事業活動実施計画又は特定環境負荷低減事業活動実施計画の認定を受ける | BK5: 着工（予定） 年月日 | BL5: 完了（予定）年月日 | BM5: 導入機械等の保管・設置・施工住所 | BN5: 導入機械等の見積金額・事業費（円） | BO5: 補助上限額 （円） A | BP5: 国費（円） ※千円単位切り捨て B=＜A×3/10 | BQ5: 都道府県負担分（円） C | BR5: 自己負担 （円） D | BS5: その他 （市町村、ＪＡ負担分） （円） E | BT5: 国費は、補助対象事業費の 3/10以内 （確認用） | BU5: 助成率 （確認用） (A-D)/A | BV5: 担保措置の有無（該当の場合は「１」を記入 | BW5: 金融機関 （整理番号は番号表を参照） | BY5: 金融（資金）種類 （整理番号は番号表を参照）
J6: うち前年度 農業所得 （円） | Q6: ① 目標集積率が6割以上 | R6: ② 目標集積率が現状集積率より10ポイント以上増加 | S6: ③ ①が事業実施年度の翌年度までに確実 | T6: ④ ②が事業実施年度の翌年度までに確実 | U6: ① 位置付けられている | V6: ② 位置付けられることが確実 | Z6: ① 既に成果目標を達成している | AA6: ② 事業実施年度の経営規模が第４の２の（５）に規定されるア又はイを上回っている | AB6: ③ やむを得ない事情に該当する | AG6: 経営面積を 目標年度までに 現状以上：６点 15a以上：10点 18a以上：12点 21a以上：14点 24a以上：16点 27a以上：18点 30a以上：20点 拡大する。 | AH6: 経営面積を 目標年度までに 現状以上：６点 25a以上：10点 30a以上：12点 35a以上：14点 40a以上：16点 45a以上：18点 50a以上：20点 拡大する。 | AI6: 経営面積を 目標年度までに 現状以上：６点 75a以上：10点 100a以上：12点 125a以上：14点 150a以上：16点 175a以上：18点 200a以上：20点 拡大する。 | AJ6: 経営面積を 目標年度までに 現状以上：６点 25a以上：10点 30a以上：12点 35a以上：14点 40a以上：16点 45a以上：18点 50a以上：20点 拡大する。 | AK6: 経営面積を 目標年度までに 現状以上：10点 30%以上：12点 33%以上：14点 36%以上：16点 40%以上：18点 45%以上：20点 拡大する。 | AL6: 付加価値額を 目標年度までに 10%以上：10点 15%以上：12点 20%以上：14点 25%以上：16点 30%以上：18点 35%以上：20点 拡大する。 | AM6: 付加価値額を 目標年度までに 現状以上：６点 15万円以上：10点 25万円以上：12点 75万円以上：14点 125万円以上：16点 175万円以上：18点 250万円以上：20点 拡大する。 | AN6: 労働生産性を 目標年度までに ３%以上：10点 ５%以上：12点 ７%以上：14点 ９%以上：16点 11%以上：18点 13%以上又はア及びイの要件をいずれも満たす者：20点 向上させる。 | AO6: 付加価値額を 目標年度までに 現状以上：６点 15万円以上：10点 25万円以上：12点 75万円以上：14点 125万円以上：16点 175万円以上：18点 250万円以上：20点 拡大する。 | AQ6: ①作目を含む研修 ②作目について研修 ③農業経営に関する研修 を受けている ※ ①のみ該当する場合１点、①②に該当する場合２点、全て該当する場合３点 | AR6: ①地域サポート 計画が策定されている ②普及指導活動 の対象者として 選定されている ③担当機関・部 署が明確になっ ている ※ ①のみ該当する場合１点、①②に該当する場合２点、全て該当する場合３点 | AS6: ①農作業の記録を毎日つける ②GAP認証等を取得する ※ ①のみ該当する場合１点、①②に該当する場合３点 | AT6: ①目標年までに法人化する ②法人化している又は事業実施年度内に法人化する ※ ①のみ該当する場合３点、②に該当する場合５点 | BA6: 整理 番号 | BB6: （確認用） | BC6: 整理 番号 | BD6: （確認用） | BE6: 共済等の 加入状況 （１：園芸施設共済、２：農機具共済、３：その他） | BJ6: ※○台、馬力・○条刈り、○棟○㎡等 | BW6: 整理番号 | BX6: （確認用） | BY6: 整理番号 | BZ6: （確認用） | CA6: 償還 年数
O7: =IF(F7="","",IF(AND(F7<>"",(COUNTIF(Q7:AD7,"○")+COUNTIF(Q7:AD7,"該当なし"))=7),"○","×")) | AP7: =SUM(AG7:AO7) -> 0 | AY7: =SUM(AP7:AX7) -> 0 | AZ7: =IF(D7="○","上限3,000万円コース",IF(F7="","","上限1,500万円コース")) | BB7: =IF(BA7<>0,VLOOKUP(BA7,整理番号表!$B$12:$F$26,2,FALSE),"-") -> - | BD7: =IF(BC7<>0,VLOOKUP(BC7,整理番号表!$P$5:$Q$39,2,FALSE),"-") -> - | BO7: =IF(BN7<=15000000,BN7,IF(AZ7="上限3,000万円コース",IF(BN7<=30000000,BN7,"30,000,000"),IF(AZ7="上限1,500万円コース",IF(BN7<=15000000,BN7,"15,000,000")))) -> 0 | BP7: =ROUNDDOWN(BO7*3/10,-3) -> 0 | BR7: =BN7-BP7-BQ7-BS7 -> 0 | BT7: =IF(BN7="","-",IF(BO7*3/10>=BP7,"○","×")) -> - | BU7: =IF(BN7="","-",(BP7+BQ7+BS7)/BO7) -> - | BX7: =IF(BW7<>0,VLOOKUP(BW7,整理番号表!$T$6:$U$17,2,FALSE),"-") -> - | BZ7: =IF(BY7<>0,VLOOKUP(BY7,整理番号表!$T$21:$U$24,2,FALSE),"-") -> -
O8: =IF(F8="","",IF(AND(F8<>"",(COUNTIF(Q8:AD8,"○")+COUNTIF(Q8:AD8,"該当なし"))=7),"○","×")) | AP8: =SUM(AG8:AO8) -> 0 | AY8: =SUM(AP8:AX8) -> 0 | AZ8: =IF(D8="○","上限3,000万円コース",IF(F8="","","上限1,500万円コース")) | BB8: =IF(BA8<>0,VLOOKUP(BA8,整理番号表!$B$12:$F$26,2,FALSE),"-") -> - | BD8: =IF(BC8<>0,VLOOKUP(BC8,整理番号表!$P$5:$Q$39,2,FALSE),"-") -> - | BO8: =IF(BN8<=15000000,BN8,IF(AZ8="上限3,000万円コース",IF(BN8<=30000000,BN8,"30,000,000"),IF(AZ8="上限1,500万円コース",IF(BN8<=15000000,BN8,"15,000,000")))) -> 0 | BP8: =ROUNDDOWN(BO8*3/10,-3) -> 0 | BR8: =BN8-BP8-BQ8-BS8 -> 0 | BT8: =IF(BN8="","-",IF(BO8*3/10>=BP8,"○","×")) -> - | BU8: =IF(BN8="","-",(BP8+BQ8+BS8)/BO8) -> - | BX8: =IF(BW8<>0,VLOOKUP(BW8,整理番号表!$T$6:$U$17,2,FALSE),"-") -> - | BZ8: =IF(BY8<>0,VLOOKUP(BY8,整理番号表!$T$21:$U$24,2,FALSE),"-") -> -
O9: =IF(F9="","",IF(AND(F9<>"",(COUNTIF(Q9:AD9,"○")+COUNTIF(Q9:AD9,"該当なし"))=7),"○","×")) | AP9: =SUM(AG9:AO9) -> 0 | AY9: =SUM(AP9:AX9) -> 0 | AZ9: =IF(D9="○","上限3,000万円コース",IF(F9="","","上限1,500万円コース")) | BB9: =IF(BA9<>0,VLOOKUP(BA9,整理番号表!$B$12:$F$26,2,FALSE),"-") -> - | BD9: =IF(BC9<>0,VLOOKUP(BC9,整理番号表!$P$5:$Q$39,2,FALSE),"-") -> - | BO9: =IF(BN9<=15000000,BN9,IF(AZ9="上限3,000万円コース",IF(BN9<=30000000,BN9,"30,000,000"),IF(AZ9="上限1,500万円コース",IF(BN9<=15000000,BN9,"15,000,000")))) -> 0 | BP9: =ROUNDDOWN(BO9*3/10,-3) -> 0 | BR9: =BN9-BP9-BQ9-BS9 -> 0 | BT9: =IF(BN9="","-",IF(BO9*3/10>=BP9,"○","×")) -> - | BU9: =IF(BN9="","-",(BP9+BQ9+BS9)/BO9) -> - | BX9: =IF(BW9<>0,VLOOKUP(BW9,整理番号表!$T$6:$U$17,2,FALSE),"-") -> - | BZ9: =IF(BY9<>0,VLOOKUP(BY9,整理番号表!$T$21:$U$24,2,FALSE),"-") -> -
O10: =IF(F10="","",IF(AND(F10<>"",(COUNTIF(Q10:AD10,"○")+COUNTIF(Q10:AD10,"該当なし"))=7),"○","×")) | AP10: =SUM(AG10:AO10) -> 0 | AY10: =SUM(AP10:AX10) -> 0 | AZ10: =IF(D10="○","上限3,000万円コース",IF(F10="","","上限1,500万円コース")) | BB10: =IF(BA10<>0,VLOOKUP(BA10,整理番号表!$B$12:$F$26,2,FALSE),"-") -> - | BD10: =IF(BC10<>0,VLOOKUP(BC10,整理番号表!$P$5:$Q$39,2,FALSE),"-") -> - | BO10: =IF(BN10<=15000000,BN10,IF(AZ10="上限3,000万円コース",IF(BN10<=30000000,BN10,"30,000,000"),IF(AZ10="上限1,500万円コース",IF(BN10<=15000000,BN10,"15,000,000")))) -> 0 | BP10: =ROUNDDOWN(BO10*3/10,-3) -> 0 | BR10: =BN10-BP10-BQ10-BS10 -> 0 | BT10: =IF(BN10="","-",IF(BO10*3/10>=BP10,"○","×")) -> - | BU10: =IF(BN10="","-",(BP10+BQ10+BS10)/BO10) -> - | BX10: =IF(BW10<>0,VLOOKUP(BW10,整理番号表!$T$6:$U$17,2,FALSE),"-") -> - | BZ10: =IF(BY10<>0,VLOOKUP(BY10,整理番号表!$T$21:$U$24,2,FALSE),"-") -> -
O11: =IF(F11="","",IF(AND(F11<>"",(COUNTIF(Q11:AD11,"○")+COUNTIF(Q11:AD11,"該当なし"))=7),"○","×")) | AP11: =SUM(AG11:AO11) -> 0 | AY11: =SUM(AP11:AX11) -> 0 | AZ11: =IF(D11="○","上限3,000万円コース",IF(F11="","","上限1,500万円コース")) | BB11: =IF(BA11<>0,VLOOKUP(BA11,整理番号表!$B$12:$F$26,2,FALSE),"-") -> - | BD11: =IF(BC11<>0,VLOOKUP(BC11,整理番号表!$P$5:$Q$39,2,FALSE),"-") -> - | BO11: =IF(BN11<=15000000,BN11,IF(AZ11="上限3,000万円コース",IF(BN11<=30000000,BN11,"30,000,000"),IF(AZ11="上限1,500万円コース",IF(BN11<=15000000,BN11,"15,000,000")))) -> 0 | BP11: =ROUNDDOWN(BO11*3/10,-3) -> 0 | BR11: =BN11-BP11-BQ11-BS11 -> 0 | BT11: =IF(BN11="","-",IF(BO11*3/10>=BP11,"○","×")) -> - | BU11: =IF(BN11="","-",(BP11+BQ11+BS11)/BO11) -> - | BX11: =IF(BW11<>0,VLOOKUP(BW11,整理番号表!$T$6:$U$17,2,FALSE),"-") -> - | BZ11: =IF(BY11<>0,VLOOKUP(BY11,整理番号表!$T$21:$U$24,2,FALSE),"-") -> -
O12: =IF(F12="","",IF(AND(F12<>"",(COUNTIF(Q12:AD12,"○")+COUNTIF(Q12:AD12,"該当なし"))=7),"○","×")) | AP12: =SUM(AG12:AO12) -> 0 | AY12: =SUM(AP12:AX12) -> 0 | AZ12: =IF(D12="○","上限3,000万円コース",IF(F12="","","上限1,500万円コース")) | BB12: =IF(BA12<>0,VLOOKUP(BA12,整理番号表!$B$12:$F$26,2,FALSE),"-") -> - | BD12: =IF(BC12<>0,VLOOKUP(BC12,整理番号表!$P$5:$Q$39,2,FALSE),"-") -> - | BO12: =IF(BN12<=15000000,BN12,IF(AZ12="上限3,000万円コース",IF(BN12<=30000000,BN12,"30,000,000"),IF(AZ12="上限1,500万円コース",IF(BN12<=15000000,BN12,"15,000,000")))) -> 0 | BP12: =ROUNDDOWN(BO12*3/10,-3) -> 0 | BR12: =BN12-BP12-BQ12-BS12 -> 0 | BT12: =IF(BN12="","-",IF(BO12*3/10>=BP12,"○","×")) -> - | BU12: =IF(BN12="","-",(BP12+BQ12+BS12)/BO12) -> - | BX12: =IF(BW12<>0,VLOOKUP(BW12,整理番号表!$T$6:$U$17,2,FALSE),"-") -> - | BZ12: =IF(BY12<>0,VLOOKUP(BY12,整理番号表!$T$21:$U$24,2,FALSE),"-") -> -
O13: =IF(F13="","",IF(AND(F13<>"",(COUNTIF(Q13:AD13,"○")+COUNTIF(Q13:AD13,"該当なし"))=7),"○","×")) | AP13: =SUM(AG13:AO13) -> 0 | AY13: =SUM(AP13:AX13) -> 0 | AZ13: =IF(D13="○","上限3,000万円コース",IF(F13="","","上限1,500万円コース")) | BB13: =IF(BA13<>0,VLOOKUP(BA13,整理番号表!$B$12:$F$26,2,FALSE),"-") -> - | BD13: =IF(BC13<>0,VLOOKUP(BC13,整理番号表!$P$5:$Q$39,2,FALSE),"-") -> - | BO13: =IF(BN13<=15000000,BN13,IF(AZ13="上限3,000万円コース",IF(BN13<=30000000,BN13,"30,000,000"),IF(AZ13="上限1,500万円コース",IF(BN13<=15000000,BN13,"15,000,000")))) -> 0 | BP13: =ROUNDDOWN(BO13*3/10,-3) -> 0 | BR13: =BN13-BP13-BQ13-BS13 -> 0 | BT13: =IF(BN13="","-",IF(BO13*3/10>=BP13,"○","×")) -> - | BU13: =IF(BN13="","-",(BP13+BQ13+BS13)/BO13) -> - | BX13: =IF(BW13<>0,VLOOKUP(BW13,整理番号表!$T$6:$U$17,2,FALSE),"-") -> - | BZ13: =IF(BY13<>0,VLOOKUP(BY13,整理番号表!$T$21:$U$24,2,FALSE),"-") -> -
O14: =IF(F14="","",IF(AND(F14<>"",(COUNTIF(Q14:AD14,"○")+COUNTIF(Q14:AD14,"該当なし"))=7),"○","×")) | AP14: =SUM(AG14:AO14) -> 0 | AY14: =SUM(AP14:AX14) -> 0 | AZ14: =IF(D14="○","上限3,000万円コース",IF(F14="","","上限1,500万円コース")) | BB14: =IF(BA14<>0,VLOOKUP(BA14,整理番号表!$B$12:$F$26,2,FALSE),"-") -> - | BD14: =IF(BC14<>0,VLOOKUP(BC14,整理番号表!$P$5:$Q$39,2,FALSE),"-") -> - | BO14: =IF(BN14<=15000000,BN14,IF(AZ14="上限3,000万円コース",IF(BN14<=30000000,BN14,"30,000,000"),IF(AZ14="上限1,500万円コース",IF(BN14<=15000000,BN14,"15,000,000")))) -> 0 | BP14: =ROUNDDOWN(BO14*3/10,-3) -> 0 | BR14: =BN14-BP14-BQ14-BS14 -> 0 | BT14: =IF(BN14="","-",IF(BO14*3/10>=BP14,"○","×")) -> - | BU14: =IF(BN14="","-",(BP14+BQ14+BS14)/BO14) -> - | BX14: =IF(BW14<>0,VLOOKUP(BW14,整理番号表!$T$6:$U$17,2,FALSE),"-") -> - | BZ14: =IF(BY14<>0,VLOOKUP(BY14,整理番号表!$T$21:$U$24,2,FALSE),"-") -> -
O15: =IF(F15="","",IF(AND(F15<>"",(COUNTIF(Q15:AD15,"○")+COUNTIF(Q15:AD15,"該当なし"))=7),"○","×")) | AP15: =SUM(AG15:AO15) -> 0 | AY15: =SUM(AP15:AX15) -> 0 | AZ15: =IF(D15="○","上限3,000万円コース",IF(F15="","","上限1,500万円コース")) | BB15: =IF(BA15<>0,VLOOKUP(BA15,整理番号表!$B$12:$F$26,2,FALSE),"-") -> - | BD15: =IF(BC15<>0,VLOOKUP(BC15,整理番号表!$P$5:$Q$39,2,FALSE),"-") -> - | BO15: =IF(BN15<=15000000,BN15,IF(AZ15="上限3,000万円コース",IF(BN15<=30000000,BN15,"30,000,000"),IF(AZ15="上限1,500万円コース",IF(BN15<=15000000,BN15,"15,000,000")))) -> 0 | BP15: =ROUNDDOWN(BO15*3/10,-3) -> 0 | BR15: =BN15-BP15-BQ15-BS15 -> 0 | BT15: =IF(BN15="","-",IF(BO15*3/10>=BP15,"○","×")) -> - | BU15: =IF(BN15="","-",(BP15+BQ15+BS15)/BO15) -> - | BX15: =IF(BW15<>0,VLOOKUP(BW15,整理番号表!$T$6:$U$17,2,FALSE),"-") -> - | BZ15: =IF(BY15<>0,VLOOKUP(BY15,整理番号表!$T$21:$U$24,2,FALSE),"-") -> -
O16: =IF(F16="","",IF(AND(F16<>"",(COUNTIF(Q16:AD16,"○")+COUNTIF(Q16:AD16,"該当なし"))=7),"○","×")) | AP16: =SUM(AG16:AO16) -> 0 | AY16: =SUM(AP16:AX16) -> 0 | AZ16: =IF(D16="○","上限3,000万円コース",IF(F16="","","上限1,500万円コース")) | BB16: =IF(BA16<>0,VLOOKUP(BA16,整理番号表!$B$12:$F$26,2,FALSE),"-") -> - | BD16: =IF(BC16<>0,VLOOKUP(BC16,整理番号表!$P$5:$Q$39,2,FALSE),"-") -> - | BO16: =IF(BN16<=15000000,BN16,IF(AZ16="上限3,000万円コース",IF(BN16<=30000000,BN16,"30,000,000"),IF(AZ16="上限1,500万円コース",IF(BN16<=15000000,BN16,"15,000,000")))) -> 0 | BP16: =ROUNDDOWN(BO16*3/10,-3) -> 0 | BR16: =BN16-BP16-BQ16-BS16 -> 0 | BT16: =IF(BN16="","-",IF(BO16*3/10>=BP16,"○","×")) -> - | BU16: =IF(BN16="","-",(BP16+BQ16+BS16)/BO16) -> - | BX16: =IF(BW16<>0,VLOOKUP(BW16,整理番号表!$T$6:$U$17,2,FALSE),"-") -> - | BZ16: =IF(BY16<>0,VLOOKUP(BY16,整理番号表!$T$21:$U$24,2,FALSE),"-") -> -
O17: =IF(F17="","",IF(AND(F17<>"",(COUNTIF(Q17:AD17,"○")+COUNTIF(Q17:AD17,"該当なし"))=7),"○","×")) | AP17: =SUM(AG17:AO17) -> 0 | AY17: =SUM(AP17:AX17) -> 0 | AZ17: =IF(D17="○","上限3,000万円コース",IF(F17="","","上限1,500万円コース")) | BB17: =IF(BA17<>0,VLOOKUP(BA17,整理番号表!$B$12:$F$26,2,FALSE),"-") -> - | BD17: =IF(BC17<>0,VLOOKUP(BC17,整理番号表!$P$5:$Q$39,2,FALSE),"-") -> - | BO17: =IF(BN17<=15000000,BN17,IF(AZ17="上限3,000万円コース",IF(BN17<=30000000,BN17,"30,000,000"),IF(AZ17="上限1,500万円コース",IF(BN17<=15000000,BN17,"15,000,000")))) -> 0 | BP17: =ROUNDDOWN(BO17*3/10,-3) -> 0 | BR17: =BN17-BP17-BQ17-BS17 -> 0 | BT17: =IF(BN17="","-",IF(BO17*3/10>=BP17,"○","×")) -> - | BU17: =IF(BN17="","-",(BP17+BQ17+BS17)/BO17) -> - | BX17: =IF(BW17<>0,VLOOKUP(BW17,整理番号表!$T$6:$U$17,2,FALSE),"-") -> - | BZ17: =IF(BY17<>0,VLOOKUP(BY17,整理番号表!$T$21:$U$24,2,FALSE),"-") -> -
A18: 合計

Sheet 整理番号表 (2)
A1: 改 正 後
B2: 別紙１：整理番号表
B4: ①就農形態 | P4: ③導入内容 | T4: ④金融機関
B5: 番号 | P5: 番号 | Q5: 導入機械等名 | R5: 備考 | T5: 番号 | U5: 名称
B6: １：新規参入 | P6: 1 | Q6: トラクター | R6: 農業用機械 | T6: 1 | U6: 農協
B7: ２：親と別部門 | P7: 2 | Q7: コンバイン | T7: 2 | U7: 農協連
B8: ３：全継承 | P8: 3 | Q8: 田植機 | T8: 3 | U8: 農林中金
B9: ４：一部継承 | P9: 4 | Q9: 乗用管理機 | T9: 4 | U9: 日本公庫
P10: 5 | Q10: 茶複合管理機 | T10: 5 | U10: 沖縄公庫
B11: ②営農区分 | P11: 6 | Q11: アタッチメント | T11: 6 | U11: 商工中金
B12: 番号 | C12: 区分 | G12: 分類基準 | P12: 7 | Q12: ＧＰＳガイダンス | T12: 7 | U12: 奄美振興基金
B13: 1 | C13: 水田作 | G13: 稲、麦類、雑穀、いも類、豆類、工芸農作物の販売収入のうち、水田で作付けした農業生産物の販売収入が他の営農類型の農業生産物販売収入と比べて最も多い経営 | P13: 8 | Q13: その他機械 | T13: 8 | U13: 銀行
B14: 2 | C14: 畑作 | G14: 稲、麦類、雑穀、いも類、豆類、工芸農作物の販売収入のうち、畑で作付けした農業生産物の販売収入が他の営農類型の農業生産物販売収入と比べて最も多い経営 | P14: 9 | Q14: ハウス | R14: 生産・流通 | T14: 9 | U14: 信用金庫
B15: 3 | C15: 露地野菜作 | G15: 野菜作経営のうち、露地野菜の販売収入が施設野菜の販売収入以上である経営 | P15: 10 | Q15: 育苗施設 | T15: 10 | U15: 信用組合
B16: 4 | C16: 施設野菜作 | G16: 野菜作経営のうち、露地野菜より施設野菜の販売収入が多い経営 | P16: 11 | Q16: 乾燥調製施設（乾燥機） | T16: 11 | U16: 都道府県
B17: 5 | C17: 果樹作 | G17: 果樹の販売収入が他の営農類型の農業生産物販売収入と比べて最も多い経営 | P17: 12 | Q17: 果樹棚 | T17: 12 | U17: その他
B18: 6 | C18: 露地花き | G18: 花き作経営のうち、露地花きの販売収入が施設花きの販売収入以上である経営 | P18: 13 | Q18: 集出荷施設（選果機）
B19: 7 | C19: 施設花き | G19: 花き作経営のうち、露地花きより施設花きの販売収入が多い経営 | P19: 14 | Q19: 家畜（肉用牛等）の導入 | R19: 導入・新植・改植 | T19: ⑤融資（資金）種類
B20: 8 | C20: 酪農 | G20: 酪農の販売収入が他の営農類型の農業生産物販売収入と比べて最も多い経営 | P20: 15 | Q20: 果樹の新植、改植 | T20: 番号 | U20: 資金名
B21: 9 | C21: 繁殖牛 | G21: 肉用牛経営のうち、肥育牛の飼養頭数より繁殖用雌牛の飼養頭数が多い経営 | P21: 16 | Q21: 茶の新植、改植 | T21: 1 | U21: 青年等就農資金
B22: 10 | C22: 肥育牛 | G22: 肉用牛経営のうち、肥育牛の飼養頭数が繁殖用雌牛の飼養頭数以上である経営 | P22: 17 | Q22: 畜舎（肉用牛） | R22: 畜産・酪農 | T22: 2 | U22: 農業近代化資金
B23: 11 | C23: 養豚 | G23: 養豚の販売収入が他の営農類型の農業生産物販売収入と比べて最も多い経営 | P23: 18 | Q23: 畜舎（養豚） | T23: 3 | U23: その他公庫資金
B24: 12 | C24: 採卵養鶏 | G24: 採卵養鶏の販売収入が他の営農類型の農業生産物販売収入と比べて最も多い経営 | P24: 19 | Q24: 畜舎（養鶏） | T24: 4 | U24: 一般資金
B25: 13 | C25: ブロイラー養鶏 | G25: ブロイラー養鶏の販売収入が他の営農類型の農業生産物販売収入と比べて最も多い経営 | P25: 20 | Q25: 畜舎（酪農）
B26: 14 | C26: その他 | G26: 上記の営農類型に分類されない経営 | P26: 21 | Q26: 畜舎（その他） | T26: ⑥担保措置
P27: 22 | Q27: サイロ | T27: 番号
P28: 23 | Q28: 堆肥施設 | T28: 1 | U28: 該当
P29: 24 | Q29: 機械（畜産関係）
P30: 25 | Q30: その他畜産関係施設
P31: 26 | Q31: リース農業用機械 | R31: その他
P32: 27 | Q32: リースハウス
P33: 28 | Q33: リースユンボ
P34: 29 | Q34: その他
P35: 30 | Q35: 畦畔除去 | R35: 土地基盤整備
P36: 31 | Q36: 区画整理
P37: 32 | Q37: 暗渠排水
P38: 33 | Q38: 明渠排水
P39: 34 | Q39: その他基盤整備

Sheet ９別紙２（サポート計画）
A1: （別紙２）
B2: 地域サポート計画（新規就農者向け）
AG5: （◯年◯月現在の情報）
B7: 都道府県名 | J7: 市町村名 | R7: 問合せ 窓口 | U7: （組織名） | W7: ※HP掲載可能な情報を記載 | AH7: （電話） | AJ7: ※HP掲載可能な情報を記載
U8: （住所） | W8: ※HP掲載可能な情報を記載 | AH8: （メールアドレス） | AJ8: ※HP掲載可能な情報を記載
A11: 第１ 新規就農者に関する目標及び実績（必須）
AO12: （単位：人）
H13: 目標 | N13: 直近過去実績 | AF13: 備考 （年度の考え方等、補足説明が 必要な事項がある場合は記載）
H14: 令和◯年度 | N14: 令和◯年度 | T14: 令和◯年度 | Z14: 令和◯年度
K15: うち49歳以下 | Q15: うち49歳以下 | W15: うち49歳以下 | AC15: うち49歳以下
B16: 新規就農者数（必須）
C17: 内訳 | D17: 新規参入者数
D18: 新規自営農業就農者数
D19: 新規雇用就農者数
B20: 注１： | C20: 「新規参入者」とは、土地や資金を独自に調達（相続・贈与等により親の農地を譲り受けた場合を除く。）し、当該年度に新たに農業経営を開始した経営の責任者及び共同経営者をいう。 なお、共同経営者とは、夫婦がそろって就農、あるいは複数の新規就農者が法人を新設して共同経営を行っている場合における、経営の責任者の配偶者又はその他の共同経営者をいう。
B22: 注2： | C22: 「新規自営農業就農者」とは、家族経営体（１世帯（雇用者の有無を問わない）で事業を行う者をいう。なお、農家が法人化した形態である一戸一法人を含む。）の世帯員で、当該年度に生活の主な状態が、「学生」から「自営農業への従事が主」になった者及び「他に雇われて勤務が主」から「自営農業への従事が主」になった者をいう。
B24: 注３： | C24: 「新規雇用就農者」とは、当該年度に新たに法人等に常雇い（年間７か月以上）として雇用されることにより、農業に従事することとなった者（外国人研修生及び外国人技能実習生並びに雇用される直前の就業状態が農業従事者であった場合を除く。）をいう。
A27: 第２ 新規就農者への地域サポート内容
B28: １ 地域の紹介等（必須）
B29: 就農希望者に向けたサポート宣言 | F29: ※就農希望者に向けてどのようなサポートをするのか、訴求ポイントを記入（50文字程度）
B31: 地域と農業の 紹介文
B34: 主な農産物
B37: 地域が求める 新規就農者
B41: ２ 地域サポート体制（必須）
B42: 支援分野 | I42: 担当機関・部署名 | V42: 支援分野 | AC42: 担当機関・部署名
B43: 技術・経営指導 | V43: 販路支援
B45: 農地確保支援 | V45: 生活に係る支援 （住居、子育て等）
B47: 機械・施設等の確保支援 | V47: 事務局・全体調整
B49: 資金相談 | V49: その他（◯◯）
B51: 農業者による指導 | V51: その他（◯◯）
B54: ３ 新規就農者への支援内容（取り組んでいる支援を記載）
B55: 区分 | D55: 支援項目 | N55: 支援内容の紹介
B56: 就農意欲喚起 | E56: 就農・移住相談対応、就農相談会の開催
E59: 就農体験ツアー・インターンシップの実施
E62: ホームページ、パンフレット等での情報提供
E65: その他
B67: 就農前の支援 | E67: 研修の実施（生産技術・農業経営の研修、研修先とのマッチング等）
E70: 就農計画作成サポート
E73: 農地、施設・機械のあっせん、営農資金の相談等
E76: 販路確保、販路開拓に向けた支援
...
