{"text_format":"1","workbook":"xlsx","n_sheets":22,"sheets":["【使い方】 (非表示)","変更履歴","【使い方】","入力シート","入力チェック（製剤）","入力チェック（使用）","補助3","選択肢","補助1","補助2","10 aあたり換算","出力シート（主要）","出力シート（サブ）","作物名エラーの場合","計算シート","経皮吸収率","標準面積","調製時","散布時","平均面積","作物分類","防護装備"],"not_rendered":{"charts":0,"images":0,"macros":1,"external_links":0,"defined_names":5,"comments":4,"pivot_tables":0},"unopened":[],"bounds":{"document_bytes":16777216,"sheet_cells":100000,"rows_first":2000,"rows_last":500,"rows_between":2000,"halvings":0,"cell_chars":16384,"cell_head_chars":4096},"cells_cut":0,"cells_raw":0,"read":"whole","date_system":"1900"}

{"sheet":"【使い方】 (非表示)","index":0,"n_rows":46,"n_cols":6,"rows_kept":46,"cut":false,"hidden":true,"merged":[[9,1,9,11],[12,1,12,11],[18,1,18,11],[6,1,6,11],[0,0,0,8],[24,1,24,3],[25,1,25,3],[26,1,26,3],[27,1,27,3],[28,1,28,3],[29,1,29,3],[30,1,30,3],[31,1,31,3],[32,1,32,3],[33,1,33,3],[34,1,34,3],[35,1,35,3],[36,1,36,3],[37,1,37,3],[38,1,38,3],[45,1,45,3],[44,1,44,3],[39,1,39,3],[40,1,40,3],[41,1,41,3],[42,1,42,3],[43,1,43,3]]}
["計算シートの使い方（外部に出す際は非表示にする）"]
[]
["★","1日の作業面積を個別に設定する場合は、「補助２」タブに入力する。"]
[null,"位置づけとしては、リスク低減のために、１日作業面積の上限を設ける場合に使用することを想定。"]
[null,"ここで入力した値は、１日あたり作業面積（平均作業面積、標準作業面積の両方）に代入される。"]
[null,"【使い方】"]
[null,"設定する項目の使用番号を「使用番号」セルに入力する。このときの使用番号は、出力シートの使用番号に対応させる。（もし機械散布の面積を設定する場合は、番号の後ろに「*」を付ける。）"]
[null,"個別設定する１日作業面積を「1日作業面積」セルに入力する。"]
[null,"１行につき１つの使用番号の計算しかできないので、複数の項目に同じ数値を使用する場合は、複数行に入力する。"]
[null,"１日平均作業面積および１日標準作業面積それぞれに、入力した値が代入される。ただし、デフォルトの値の方が小さい場合は、デフォルトの値が計算に利用される。"]
[]
["★","１経営体あたりの栽培面積、および１日標準作業面積を個別に設定する場合は「補助３」タブに入力する。"]
[null,"位置づけとしては、マイナー作物など、デフォルトの面積を利用すると過剰な評価となる場合で、面積や作業量に妥当なデータが提出された場合を想定。"]
[null,"入力の方法は補助２と同じ。"]
[null,"入力された数値は、経営体面積は反復の評価に、１日標準作業面積は急性の評価に用いられる。"]
[null,"（デフォルトと同じく、×使用回数÷30日 の計算を実行。）"]
[null,"それぞれの値は、デフォルト値と比較し、小さなものを採用する。"]
[]
["★","計算シートでは、「デフォルトの値」「補助２の値」「補助３の値」を比較し、一番小さい数値を採用するようプログラムを書いている。（反復ではさらに、都道府県調査の50％値とも比較している。）"]
[]
["★","除草剤選択の場合に、セルが灰色にはなるものの、入力できないわけではない。"]
[]
[]
["各タブについて"]
[null,"名前",null,null,"配布時","備考"]
[null,"【使い方】（非表示）",null,null,"非表示"]
[null,"【使い方】",null,null,"表示"]
[null,"入力シート",null,null,"表示"]
[null,"入力チェック（製剤）",null,null,"非表示","製剤情報の入力チェック。エラーの判別。"]
[null,"入力チェック（使用）",null,null,"非表示","使用方法ごとの入力チェック。エラーの判別。"]
[null,"補助１",null,null,"表示","農薬使用者暴露量の試験成績を用いる場合に、単位暴露量を入力。"]
[null,"補助２",null,null,"表示","1日の作業面積を個別に設定する場合に入力。(2020/01/22版から表示)"]
[null,"補助３",null,null,"非表示","「作物名エラーの場合」の、面積個別設定バージョン。"]
[null,"選択肢",null,null,"非表示","プルダウンの情報は全てここに収載。製剤情報を反映して、選択肢が変わるようにしている。エラー表示が出る組み合わせもここにあり。"]
[null,"計算シート",null,null,"非表示"]
[null,"作物名エラーの場合",null,null,"表示","作物名がうまく引っ張って来られなかった時に利用。面積ではなく、分類を選択する。"]
[null,"出力シート（主要）",null,null,"表示"]
[null,"出力シート（サブ）",null,null,"表示"]
[null,"経皮吸収率",null,null,"非表示","出力シートに引用する前の処理用タブ。"]
[null,"標準面積",null,null,"非表示"]
[null,"調製時",null,null,"非表示"]
[null,"散布時",null,null,"非表示"]
[null,"平均面積",null,null,"非表示"]
[null,"作物分類",null,null,"非表示"]
[null,"防護装備",null,null,"非表示"]
[null,"10 aあたり換算",null,null,"表示","9/22松井分析官のリクエストにより作成。"]

{"sheet":"変更履歴","index":1,"n_rows":14,"n_cols":2,"rows_kept":14,"cut":false,"hidden":false,"merged":[]}
["ver","修正点"]
[190830," 初版"]
[200123,"・出力シート（主要）不具合の修正（四捨五入の表示）"]
[null,"・出力シート（サブ）不具合の修正（使用番号63以降の表示不備）"]
[null,"・参照する面積分類の修正"]
[null,"・補助2シートの追加"]
[200529,"・補助1シートの項目修正"]
[210120,"・作物追加"]
[210324,"・入力内容の変更（使用回数について）"]
[210514,"・出力シート印刷範囲自動化"]
[210616,"・入力シートにver明記"]
[210630,"・出力シート（主要）、出力シート（サブ）の体裁の調整"]
[210908,"・使い方に⑧の入力説明追加"]
[211222,"・補助1シートに調製時の入力欄を追加\n・入力シートを500行から50行、250行に修正"]

{"sheet":"【使い方】","index":2,"n_rows":90,"n_cols":10,"rows_kept":90,"cut":false,"hidden":false,"merged":[[34,3,34,11],[0,0,0,8],[0,9,0,11],[1,0,1,11],[7,1,7,11],[8,1,8,11],[11,1,11,11],[12,1,12,11],[25,2,25,11],[28,2,28,11],[29,3,29,11],[31,3,31,11],[9,1,9,11],[74,2,74,11],[36,2,36,11],[38,3,38,11],[39,3,39,11],[44,3,44,11],[45,2,45,11],[50,2,50,11],[54,1,54,11],[58,1,58,11],[68,1,68,11],[71,2,71,11],[72,2,72,11],[85,1,85,11],[76,0,76,11],[79,1,79,11],[81,1,81,11],[82,1,82,11],[83,1,83,11],[84,1,84,11]]}
["計算シートの使い方",null,null,null,null,null,null,null,null,"2021/09/08修正版"]
["入力に際しては「計算シート補助資料」（以下、補助資料）を参照すること。"]
[]
[1,"計算シートを開くと同時に開く「評価対象有効成分が除草剤か否か」の質問に回答する。"]
[null,"もし質問ボックスが開かなかった場合は、入力シート右上にある青色の「除草剤_選択」ボタンをクリックし、選択する。"]
[null,"「除草剤_選択」ボタンは、入力途中でもクリックすることができる。"]
[null,"選択を取り消したい場合は、再度「除草剤＿選択」ボタンをクリックし、選択し直す。"]
[null,"・除草剤を選択する場合\n⑧投下量の入力対象が薬量、希釈水量、使用量になります。また、出力シート（主要）の「①製剤情報」「種類・名称」の欄に「（除草剤）」の表記が追加される。"]
[null,"・除草剤を選択しない場合\n⑧投下量の入力対象が希釈倍数、使用液量、使用量になる。"]
[null,"※⑧の入力ミスを防ぐために「除草剤_選択」ボタンにより主要な入力項目のみ表示されるよう視覚誘導していますが、グレーに表記している項目も入力可能です。例えば、除草剤で希釈倍数を使用する場合は、「除草剤_選択」ボタンを選択し、希釈倍数、使用液量を入力してください。"]
[]
[2,"「入力シート」タブに有効成分および製剤の情報を入力する。"]
[null,"水色のセルは数値、名称等を入力する。緑色のセルはプルダウンで選択する。オレンジのセルは該当項目に数値を入力する。"]
[null,"① 製剤情報：「登録番号」には農薬の登録番号を、「種類」には農薬の種類名を、「名称」には農薬の名称を入力する。"]
[null,null,"新規申請の場合、「登録番号」は空欄とする。"]
[null,"② 評価対象有効成分：本シートで評価する有効成分名を入力する。"]
[null,"③ AOEL、AAOEL：②の有効成分のAOEL、AAOELを入力する。"]
[null,null,"AAOEL設定不要の場合は、空欄とする。このとき、出力シートのAAOELの欄に「設定不要」と表示される。"]
[null,"④ 有効成分濃度・含有率：②の有効成分の濃度あるいは含有率を入力する。"]
[null,"⑤ 製剤の形態（製剤/散布時）：製剤、および散布時の形態について、プルダウンより選択する。"]
[null,"⑥ 調製時の予測式：調製時予測式を選択する。"]
[null,null,"予測式を選択する際の考え方は補助資料を参照すること。"]
[null,null,"右に「ERROR」が表示されている時は選択に誤りがあるので選択内容を確認すること。"]
[null,"⑦作物名：適用表の適用作物名を正確に入力する。"]
[null,null,"ただし、適用作物名に（　　）がついている場合は、（　　）の内容を備考欄に入力すること。"]
[null,null,"例）「○○（ただし、△△を除く）」の場合は、作物名の欄に「○○」、備考欄に「ただし、△△を除く」と入力する。"]
[null,"⑧投下量：使用有効成分量が最大になる申請/登録内容を入力する。"]
[null,null,"※ 殺虫剤・殺菌剤の場合と除草剤の場合で、入力セルの色が変わります。灰色のセルには入力しないこと。"]
[null,null,"・殺虫剤および殺菌剤で、散布時が液体の製剤の場合→希釈倍数（最小希釈倍数）および散布液量（最大投下量）を入力する。"]
[null,null,null,"例）1000～2000倍希釈、100～300 L/10 aの場合は、「希釈倍数」は1000、「散布液量」は300を入力する。"]
[null,null,"・除草剤で、散布時が液体の製剤の場合→薬量（最大薬量）および希釈水量（最大水量）を入力する。"]
[null,null,null,"例）100～200 mL/10 a、50～100 L/10 aの場合は、「薬量」は200、「希釈水量」は100を入力する。"]
[null,null,"・除草剤で、原液湛水散布の場合→薬量および希釈水量を入力する。"]
[null,null,"　※希釈水量の欄が空欄だとエラーになるため、希釈倍数が１倍となる水量を入力すること。"]
[null,null,null,"例）10 aあたり500 mlを原液湛水散布する場合は、「薬量」は500、「希釈水量」は0.5を入力する。"]
[null,null,"・散布時の剤型が固形の製剤の場合（粉剤、粒剤等）→使用量を入力する。"]
[null,null,"・稲育苗箱、野菜のセル成形トレイ１箱またはペーパーポット１冊あたりの使用量の場合は箱あたりの使用量を入力する。"]
[null,null,"・１株あたりの使用量の場合は、10 aあたり使用量を算出し、入力する。"]
[null,null,null,"水産動植物の被害防止に係る農薬登録基準に係る水産PEC（水産動植物被害予測濃度）及び水質汚濁に係る農薬登録基準に係る水濁PEC（水質汚濁予測濃度）の算出と同様。"]
[null,null,null,"計算にあたっては、「10 aあたり換算」シートを使用すること。10 aあたりの株数は補助資料の「単位面積当たり株数」を参照し、計算結果を「入力シート」の投下量の欄に転記すること。"]
[null,"⑨使用時期：申請/登録する使用時期（適用表の内容）を入力する。"]
[null,"⑩使用方法：申請/登録する使用方法（適用表の内容）を入力する。"]
[null,"⑪評価に用いた使用回数：有効成分の種類ごとの総使用回数を入力する。"]
[null,null,"※ 回数のみ入力すること。"]
[null,null,null,"例）総使用回数が３回以内の場合は、セルに「3」のみ入力する。「3回」とはしない。"]
[]
[]
[]
[null,"⑫散布時の予測式：農薬散布時の予測式を選択する。"]
[null,null,"予測式を選択する際の考え方は補助資料参照。"]
[null,null,"同じ作物でも、育苗期に使用する場合と本圃で生育期等に使用する場合で選択する予測式が異なる場合があるため、予測式を選択する際は補助資料の「散布時の予測式」を参照すること。"]
[null,null,"選択欄の右に「ERROR」が表示されている時は選択に誤りがあるので選択内容を確認すること。"]
[]
[3,"「入力シート」タブの『出力シート作成』（オレンジ色のボタン）を押す。「出力シート作成　終わり」ボックスが出るまで待つ。"]
[null,"製剤の剤型から判断し、選択することができない散布モデルを選択している場合は、出力シートは作成されない。エラー表示が出ている項目を再確認し、修正する。"]
[null,"出力シートの使用番号で番号の後ろに「*」がついているものは、機械散布。"]
[]
[4,"農薬使用者暴露量の試験成績を利用する場合は、「補助１」タブに入力する。"]
[null,"試験成績を利用する項目の使用番号を「使用番号」セルに入力する。このときの使用番号は、出力シートの使用番号に対応させる。（もし機械散布の試験成績がある場合は、番号の後ろに「*」を付ける。）"]
[null,"「単位暴露量」セルに部位別の単位暴露量を入力する。"]
[null,"複数の使用番号に同じ結果を利用する場合は、複数行に入力する。"]
[]
[5,"「出力シート」タブ「⑭経皮吸収率」の表に、製剤およびそれぞれの希釈倍率の経皮吸収率を入力する。"]
[null,"経皮吸収率の入力が必要な希釈倍率は自動入力される。"]
[null,"デフォルトの値を使用する場合は、補助資料を参照し、値を入力する。"]
[null,"経皮吸収試験を利用する場合は、それぞれの希釈倍率の経皮吸収率を別途算出し入力する。"]
[]
[6,"「出力シート（主要）」の防護装備なしの暴露量計算結果（反復、急性）に数値が表示されていることを確認する。"]
[]
[null,"出力シートの暴露量計算結果に「ERROR」と表示されていた場合 → 作物名から作業面積等が検索できていない。"]
[null,null,"→　「作物名エラーの場合」タブを使う。"]
[null,null,"エラーの表示された作物の使用番号（入力シートの番号）を「使用番号」セルに入力する。"]
[null,null,"補助資料を参照し、「１日平均作業面積を算出するための栽培面積」および「１日標準作業面積」の該当する作物群をプルダウンより選択する。"]
[null,"出力シートの暴露量計算結果に「#VALUE」と表示されていた場合 → 経皮吸収率が入力されていない。"]
[null,null,"→　「出力シート（主要）」タブの⑭経皮吸収率の表に、経皮吸収率を入力する。"]
[]
["暴露量がAOELおよびAAOEL占有率（％AOEL、％AAOEL）が100％を超えている場合、リスク低減措置（手順７、手順８）を講じる。"]
[]
[7,"「出力シート（主要）」で、防護装備を選択する。"]
[null,"保護面とマスクは同時に選択することはできない。選択した場合、セルが青くなるので、どちらかを修正する。"]
[]
[8,"「補助２」で、1日作業面積を入力する。"]
[null,"「補助２」は、リスク低減措置（１本制限）によるAOEL・AAOELの適合性を確認する際に使用する。"]
[null,"入力した面積は、１日平均作業面積及び１日標準作業面積に利用される。１日平均作業面積のデフォルト値の方が小さければ、デフォルト値を利用して計算する。"]
[null,"任意の面積を用いる項目について、１行ごとに使用番号と面積を入力する。"]
[null,"複数の使用番号について値を入力する場合は、どの使用番号における1日有効成分投下量も同一になるように入力する面積を予め計算してから入力すること。"]
[]
[9,"暴露予測量のAOELおよびAAOEL占有率（％AOEL、％AAOEL）が100％を超えないことを確認。"]
[]
["【留意事項】　入力シートの項目を修正した場合は、その都度入力シートの「出力シート作成」ボタンを押してから作業すること。"]

{"sheet":"入力シート","index":3,"n_rows":269,"n_cols":19,"rows_kept":269,"cut":false,"hidden":false,"merged":[[17,13,18,13],[27,5,27,6],[17,1,18,1],[17,2,17,3],[43,7,43,8],[44,7,44,8],[45,7,45,8],[59,7,59,8],[60,7,60,8],[59,5,59,6],[60,5,60,6],[24,5,24,6],[25,5,25,6],[26,5,26,6],[26,7,26,8],[20,7,20,8],[34,5,34,6],[35,5,35,6],[34,7,34,8],[35,7,35,8],[51,7,51,8],[36,7,36,8],[37,7,37,8],[38,7,38,8],[61,5,61,6],[41,5,41,6],[42,5,42,6],[43,5,43,6],[44,5,44,6],[62,5,62,6],[63,5,63,6],[52,5,52,6],[53,5,53,6],[54,5,54,6],[55,5,55,6],[56,5,56,6],[57,5,57,6],[46,5,46,6],[17,14,18,14],[66,7,66,8],[48,5,48,6],[49,5,49,6],[50,5,50,6],[51,5,51,6],[45,5,45,6],[22,5,22,6],[17,17,18,17],[65,5,65,6],[46,7,46,8],[47,7,47,8],[48,7,48,8],[49,7,49,8],[50,7,50,8],[47,5,47,6],[58,7,58,8],[62,7,62,8],[63,7,63,8],[64,7,64,8],[65,7,65,8],[17,15,18,15],[66,5,66,6],[58,5,58,6],[10,2,10,3],[10,4,10,10],[11,4,11,10],[21,7,21,8],[22,7,22,8],[23,7,23,8],[19,7,19,8],[24,7,24,8],[25,7,25,8],[20,5,20,6],[21,5,21,6],[64,5,64,6],[11,11,11,12],[39,7,39,8],[40,7,40,8],[41,7,41,8],[42,7,42,8],[27,7,27,8],[32,5,32,6],[19,5,19,6],[33,5,33,6],[28,5,28,6],[40,5,40,6],[30,5,30,6],[31,5,31,6],[36,5,36,6],[37,5,37,6],[38,5,38,6],[39,5,39,6],[23,5,23,6],[29,5,29,6],[30,7,30,8],[31,7,31,8],[32,7,32,8],[33,7,33,8],[89,7,89,8],[90,7,90,8],[91,7,91,8],[92,7,92,8],[93,7,93,8],[94,7,94,8],[95,7,95,8],[81,5,81,6],[88,5,88,6],[89,5,89,6],[90,5,90,6],[91,5,91,6],[92,5,92,6],[93,5,93,6],[82,5,82,6],[83,5,83,6],[84,5,84,6],[85,5,85,6],[86,5,86,6],[87,5,87,6],[67,5,67,6],[96,7,96,8],[97,7,97,8],[98,7,98,8],[99,7,99,8],[76,7,76,8],[77,7,77,8],[78,7,78,8],[79,7,79,8],[80,7,80,8],[81,7,81,8],[82,7,82,8],[83,7,83,8],[84,7,84,8],[85,7,85,8],[86,7,86,8],[87,7,87,8],[76,5,76,6],[77,5,77,6],[78,5,78,6],[79,5,79,6],[80,5,80,6],[69,7,69,8],[88,7,88,8],[112,7,112,8],[113,7,113,8],[114,7,114,8],[115,7,115,8],[116,7,116,8],[117,7,117,8],[118,7,118,8],[100,7,100,8],[101,7,101,8],[102,7,102,8],[103,7,103,8],[104,7,104,8],[105,7,105,8],[106,7,106,8],[107,7,107,8],[108,7,108,8],[109,7,109,8],[110,7,110,8],[111,7,111,8],[119,7,119,8],[120,7,120,8],[121,7,121,8],[122,5,122,6],[123,5,123,6],[128,5,128,6],[129,5,129,6],[130,5,130,6],[125,5,125,6],[126,5,126,6],[127,5,127,6],[124,5,124,6],[119,5,119,6],[120,5,120,6],[121,5,121,6],[128,7,128,8],[129,7,129,8],[130,7,130,8],[125,7,125,8],[126,7,126,8],[127,7,127,8],[122,7,122,8],[123,7,123,8],[124,7,124,8],[137,7,137,8],[138,7,138,8],[139,7,139,8],[134,7,134,8],[135,7,135,8],[136,7,136,8],[131,7,131,8],[132,7,132,8],[133,7,133,8],[137,5,137,6],[138,5,138,6],[139,5,139,6],[134,5,134,6],[135,5,135,6],[136,5,136,6],[131,5,131,6],[132,5,132,6],[133,5,133,6],[146,7,146,8],[147,7,147,8],[148,7,148,8],[143,7,143,8],[144,7,144,8],[145,7,145,8],[143,5,143,6],[144,5,144,6],[140,7,140,8],[141,7,141,8],[142,7,142,8],[142,5,142,6],[147,5,147,6],[148,5,148,6],[145,5,145,6],[140,5,140,6],[141,5,141,6],[146,5,146,6],[152,7,152,8],[153,7,153,8],[154,7,154,8],[155,5,155,6],[156,5,156,6],[157,5,157,6],[152,5,152,6],[153,5,153,6],[149,7,149,8],[150,7,150,8],[151,7,151,8],[154,5,154,6],[155,7,155,8],[156,7,156,8],[157,7,157,8],[149,5,149,6],[150,5,150,6],[151,5,151,6],[164,7,164,8],[165,7,165,8],[166,7,166,8],[161,7,161,8],[162,7,162,8],[163,7,163,8],[164,5,164,6],[165,5,165,6],[158,7,158,8],[159,7,159,8],[160,7,160,8],[166,5,166,6],[161,5,161,6],[162,5,162,6],[163,5,163,6],[158,5,158,6],[159,5,159,6],[160,5,160,6],[172,5,172,6],[172,7,172,8],[167,7,167,8],[168,5,168,6],[168,7,168,8],[169,5,169,6],[169,7,169,8],[167,5,167,6],[176,5,176,6],[176,7,176,8],[170,5,170,6],[170,7,170,8],[171,5,171,6],[171,7,171,8],[177,5,177,6],[177,7,177,8],[178,5,178,6],[178,7,178,8],[173,5,173,6],[173,7,173,8],[174,5,174,6],[174,7,174,8],[175,5,175,6],[175,7,175,8],[182,5,182,6],[182,7,182,8],[183,5,183,6],[183,7,183,8],[184,5,184,6],[184,7,184,8],[179,5,179,6],[179,7,179,8],[180,5,180,6],[180,7,180,8],[181,5,181,6],[181,7,181,8],[188,5,188,6],[188,7,188,8],[189,5,189,6],[189,7,189,8],[190,5,190,6],[190,7,190,8],[185,5,185,6],[185,7,185,8],[186,5,186,6],[186,7,186,8],[187,5,187,6],[187,7,187,8],[194,5,194,6],[194,7,194,8],[195,5,195,6],[195,7,195,8],[196,5,196,6],[196,7,196,8],[191,5,191,6],[191,7,191,8],[192,5,192,6],[192,7,192,8],[193,5,193,6],[193,7,193,8],[200,5,200,6],[200,7,200,8],[201,5,201,6],[201,7,201,8],[202,5,202,6],[202,7,202,8],[197,5,197,6],[197,7,197,8],[198,5,198,6],[198,7,198,8],[199,5,199,6],[199,7,199,8],[206,5,206,6],[206,7,206,8],[207,5,207,6],[207,7,207,8],[208,5,208,6],[208,7,208,8],[203,5,203,6],[203,7,203,8],[204,5,204,6],[204,7,204,8],[205,5,205,6],[205,7,205,8],[212,5,212,6],[212,7,212,8],[213,5,213,6],[213,7,213,8],[214,5,214,6],[214,7,214,8],[209,5,209,6],[209,7,209,8],[210,5,210,6],[210,7,210,8],[211,5,211,6],[211,7,211,8],[218,5,218,6],[218,7,218,8],[219,5,219,6],[219,7,219,8],[220,5,220,6],[220,7,220,8],[215,5,215,6],[215,7,215,8],[216,5,216,6],[216,7,216,8],[217,5,217,6],[217,7,217,8],[224,5,224,6],[224,7,224,8],[225,5,225,6],[225,7,225,8],[226,5,226,6],[226,7,226,8],[221,5,221,6],[221,7,221,8],[222,5,222,6],[222,7,222,8],[223,5,223,6],[223,7,223,8],[230,5,230,6],[230,7,230,8],[231,5,231,6],[231,7,231,8],[232,5,232,6],[232,7,232,8],[227,5,227,6],[227,7,227,8],[228,5,228,6],[228,7,228,8],[229,5,229,6],[229,7,229,8],[236,5,236,6],[236,7,236,8],[237,5,237,6],[237,7,237,8],[238,5,238,6],[238,7,238,8],[233,5,233,6],[233,7,233,8],[234,5,234,6],[234,7,234,8],[235,5,235,6],[235,7,235,8],[242,5,242,6],[242,7,242,8],[243,5,243,6],[243,7,243,8],[244,5,244,6],[244,7,244,8],[239,5,239,6],[239,7,239,8],[240,5,240,6],[240,7,240,8],[241,5,241,6],[241,7,241,8],[248,5,248,6],[248,7,248,8],[249,5,249,6],[249,7,249,8],[250,5,250,6],[250,7,250,8],[245,5,245,6],[245,7,245,8],[246,5,246,6],[246,7,246,8],[247,5,247,6],[247,7,247,8],[254,5,254,6],[254,7,254,8],[255,5,255,6],[255,7,255,8],[256,5,256,6],[256,7,256,8],[251,5,251,6],[251,7,251,8],[252,5,252,6],[252,7,252,8],[253,5,253,6],[253,7,253,8],[260,5,260,6],[260,7,260,8],[261,5,261,6],[261,7,261,8],[262,5,262,6],[262,7,262,8],[257,5,257,6],[257,7,257,8],[258,5,258,6],[258,7,258,8],[259,5,259,6],[259,7,259,8],[266,5,266,6],[266,7,266,8],[267,5,267,6],[267,7,267,8],[268,5,268,6],[268,7,268,8],[263,5,263,6],[263,7,263,8],[264,5,264,6],[264,7,264,8],[265,5,265,6],[265,7,265,8],[112,5,112,6],[113,5,113,6],[114,5,114,6],[115,5,115,6],[116,5,116,6],[117,5,117,6],[118,5,118,6],[106,5,106,6],[107,5,107,6],[108,5,108,6],[109,5,109,6],[110,5,110,6],[111,5,111,6],[105,5,105,6],[94,5,94,6],[95,5,95,6],[96,5,96,6],[97,5,97,6],[98,5,98,6],[100,5,100,6],[99,5,99,6],[70,7,70,8],[71,7,71,8],[72,7,72,8],[73,7,73,8],[74,7,74,8],[75,7,75,8],[70,5,70,6],[71,5,71,6],[72,5,72,6],[73,5,73,6],[74,5,74,6],[101,5,101,6],[102,5,102,6],[103,5,103,6],[104,5,104,6],[75,5,75,6],[52,7,52,8],[53,7,53,8],[54,7,54,8],[55,7,55,8],[56,7,56,8],[57,7,57,8],[67,7,67,8],[68,7,68,8],[61,7,61,8],[68,5,68,6],[69,5,69,6],[1,2,3,2],[1,4,1,10],[7,2,8,2],[11,2,11,3],[2,4,2,10],[3,4,3,10],[4,4,4,10],[5,8,5,10],[18,7,18,8],[4,2,4,3],[5,4,5,7],[6,8,6,10],[6,4,6,7],[9,8,9,10],[9,4,9,7],[17,4,17,12],[9,2,9,3],[5,2,5,3],[6,2,6,3],[18,5,18,6],[28,7,28,8],[29,7,29,8]]}
[1,null,null,"ver_211222"]
[null,null,"①製剤情報","登録番号"]
[null,null,null,"種類"]
[null,null,null,"名称"]
[null,null,"②評価対象有効成分"]
[null,null,"③-1 AOEL",null,null,null,null,null,"(mg/kg体重/日)"]
[null,null,"③-2 AAOEL",null,null,null,null,null,"(mg/kg体重)"]
[]
[]
[null,null,"④ 有効成分濃度・含有率",null,null,null,null,null,"％"]
[null,null,"⑤ 製剤の形態（製剤/散布時）"]
[null,null,"⑥ 調製時の予測式",null,null,null,null,null,null,null,null,{"$f":"'入力チェック（製剤）'!C2","v":""}]
[]
[]
[]
[]
[]
[null,"使用\n番号","⑦作物名",null,"⑧投下量（該当する項目を入力。その他は空欄）\n（原液湛水散布の場合は、希釈倍数が１倍となる希釈水量を入力）",null,null,null,null,null,null,null,null,"⑨使用時期","⑩使用方法","⑪評価に用いた使用回数（回）",null,"⑫散布時の\n予測式"]
[1000000,null,"作物名","(備考)","希釈\n倍数(倍)","使用\n液量\n(L/10a)",null,"薬量\n(mL/10a)",null,"希釈水量\n(L/10a)","使用量(kg/10a)\n粒剤等希釈しないもの","使用液量\n（L/箱）","使用量\n（g/箱）\n粒剤等希釈しないもの"]
[1000001,1,null,null,null,null,null,null,null,null,null,null,null,null,null,null,null,null,{"$f":"IF(VLOOKUP(B20,'入力チェック（使用）'!A:G,6)>=1, \"←ERROR\", \"\")","v":""}]
[1000002,2,null,null,null,null,null,null,null,null,null,null,null,null,null,null,null,null,{"$f":"IF(VLOOKUP(B21,'入力チェック（使用）'!A:G,6)>=1, \"←ERROR\", \"\")","v":""}]
[1000003,3,null,null,null,null,null,null,null,null,null,null,null,null,null,null,null,null,{"$f":"IF(VLOOKUP(B22,'入力チェック（使用）'!A:G,6)>=1, \"←ERROR\", \"\")","v":""}]
[1000004,4,null,null,null,null,null,null,null,null,null,null,null,null,null,null,null,null,{"$f":"IF(VLOOKUP(B23,'入力チェック（使用）'!A:G,6)>=1, \"←ERROR\", \"\")","v":""}]
[1000005,5,null,null,null,null,null,null,null,null,null,null,null,null,null,null,null,null,{"$f":"IF(VLOOKUP(B24,'入力チェック（使用）'!A:G,6)>=1, \"←ERROR\", \"\")","v":""}]
[1000006,6,null,null,null,null,null,null,null,null,null,null,null,null,null,null,null,null,{"$f":"IF(VLOOKUP(B25,'入力チェック（使用）'!A:G,6)>=1, \"←ERROR\", \"\")","v":""}]
[1000007,7,null,null,null,null,null,null,null,null,null,null,null,null,null,null,null,null,{"$f":"IF(VLOOKUP(B26,'入力チェック（使用）'!A:G,6)>=1, \"←ERROR\", \"\")","v":""}]
[1000008,8,null,null,null,null,null,null,null,null,null,null,null,null,null,null,null,null,{"$f":"IF(VLOOKUP(B27,'入力チェック（使用）'!A:G,6)>=1, \"←ERROR\", \"\")","v":""}]
[1000009,9,null,null,null,null,null,null,null,null,null,null,null,null,null,null,null,null,{"$f":"IF(VLOOKUP(B28,'入力チェック（使用）'!A:G,6)>=1, \"←ERROR\", \"\")","v":""}]
[1000010,10,null,null,null,null,null,null,null,null,null,null,null,null,null,null,null,null,{"$f":"IF(VLOOKUP(B29,'入力チェック（使用）'!A:G,6)>=1, \"←ERROR\", \"\")","v":""}]
[1000011,11,null,null,null,null,null,null,null,null,null,null,null,null,null,null,null,null,{"$f":"IF(VLOOKUP(B30,'入力チェック（使用）'!A:G,6)>=1, \"←ERROR\", \"\")","v":""}]
[1000012,12,null,null,null,null,null,null,null,null,null,null,null,null,null,null,null,null,{"$f":"IF(VLOOKUP(B31,'入力チェック（使用）'!A:G,6)>=1, \"←ERROR\", \"\")","v":""}]
[1000013,13,null,null,null,null,null,null,null,null,null,null,null,null,null,null,null,null,{"$f":"IF(VLOOKUP(B32,'入力チェック（使用）'!A:G,6)>=1, \"←ERROR\", \"\")","v":""}]
[1000014,14,null,null,null,null,null,null,null,null,null,null,null,null,null,null,null,null,{"$f":"IF(VLOOKUP(B33,'入力チェック（使用）'!A:G,6)>=1, \"←ERROR\", \"\")","v":""}]
[1000015,15,null,null,null,null,null,null,null,null,null,null,null,null,null,null,null,null,{"$f":"IF(VLOOKUP(B34,'入力チェック（使用）'!A:G,6)>=1, \"←ERROR\", \"\")","v":""}]
[1000016,16,null,null,null,null,null,null,null,null,null,null,null,null,null,null,null,null,{"$f":"IF(VLOOKUP(B35,'入力チェック（使用）'!A:G,6)>=1, \"←ERROR\", \"\")","v":""}]
[1000017,17,null,null,null,null,null,null,null,null,null,null,null,null,null,null,null,null,{"$f":"IF(VLOOKUP(B36,'入力チェック（使用）'!A:G,6)>=1, \"←ERROR\", \"\")","v":""}]
[1000018,18,null,null,null,null,null,null,null,null,null,null,null,null,null,null,null,null,{"$f":"IF(VLOOKUP(B37,'入力チェック（使用）'!A:G,6)>=1, \"←ERROR\", \"\")","v":""}]
[1000019,19,null,null,null,null,null,null,null,null,null,null,null,null,null,null,null,null,{"$f":"IF(VLOOKUP(B38,'入力チェック（使用）'!A:G,6)>=1, \"←ERROR\", \"\")","v":""}]
[1000020,20,null,null,null,null,null,null,null,null,null,null,null,null,null,null,null,null,{"$f":"IF(VLOOKUP(B39,'入力チェック（使用）'!A:G,6)>=1, \"←ERROR\", \"\")","v":""}]
[1000021,21,null,null,null,null,null,null,null,null,null,null,null,null,null,null,null,null,{"$f":"IF(VLOOKUP(B40,'入力チェック（使用）'!A:G,6)>=1, \"←ERROR\", \"\")","v":""}]
[1000022,22,null,null,null,null,null,null,null,null,null,null,null,null,null,null,null,null,{"$f":"IF(VLOOKUP(B41,'入力チェック（使用）'!A:G,6)>=1, \"←ERROR\", \"\")","v":""}]
[1000023,23,null,null,null,null,null,null,null,null,null,null,null,null,null,null,null,null,{"$f":"IF(VLOOKUP(B42,'入力チェック（使用）'!A:G,6)>=1, \"←ERROR\", \"\")","v":""}]
[1000024,24,null,null,null,null,null,null,null,null,null,null,null,null,null,null,null,null,{"$f":"IF(VLOOKUP(B43,'入力チェック（使用）'!A:G,6)>=1, \"←ERROR\", \"\")","v":""}]
[1000025,25,null,null,null,null,null,null,null,null,null,null,null,null,null,null,null,null,{"$f":"IF(VLOOKUP(B44,'入力チェック（使用）'!A:G,6)>=1, \"←ERROR\", \"\")","v":""}]
[1000026,26,null,null,null,null,null,null,null,null,null,null,null,null,null,null,null,null,{"$f":"IF(VLOOKUP(B45,'入力チェック（使用）'!A:G,6)>=1, \"←ERROR\", \"\")","v":""}]
[1000027,27,null,null,null,null,null,null,null,null,null,null,null,null,null,null,null,null,{"$f":"IF(VLOOKUP(B46,'入力チェック（使用）'!A:G,6)>=1, \"←ERROR\", \"\")","v":""}]
[1000028,28,null,null,null,null,null,null,null,null,null,null,null,null,null,null,null,null,{"$f":"IF(VLOOKUP(B47,'入力チェック（使用）'!A:G,6)>=1, \"←ERROR\", \"\")","v":""}]
[1000029,29,null,null,null,null,null,null,null,null,null,null,null,null,null,null,null,null,{"$f":"IF(VLOOKUP(B48,'入力チェック（使用）'!A:G,6)>=1, \"←ERROR\", \"\")","v":""}]
[1000030,30,null,null,null,null,null,null,null,null,null,null,null,null,null,null,null,null,{"$f":"IF(VLOOKUP(B49,'入力チェック（使用）'!A:G,6)>=1, \"←ERROR\", \"\")","v":""}]
[1000031,31,null,null,null,null,null,null,null,null,null,null,null,null,null,null,null,null,{"$f":"IF(VLOOKUP(B50,'入力チェック（使用）'!A:G,6)>=1, \"←ERROR\", \"\")","v":""}]
[1000032,32,null,null,null,null,null,null,null,null,null,null,null,null,null,null,null,null,{"$f":"IF(VLOOKUP(B51,'入力チェック（使用）'!A:G,6)>=1, \"←ERROR\", \"\")","v":""}]
[1000033,33,null,null,null,null,null,null,null,null,null,null,null,null,null,null,null,null,{"$f":"IF(VLOOKUP(B52,'入力チェック（使用）'!A:G,6)>=1, \"←ERROR\", \"\")","v":""}]
[1000034,34,null,null,null,null,null,null,null,null,null,null,null,null,null,null,null,null,{"$f":"IF(VLOOKUP(B53,'入力チェック（使用）'!A:G,6)>=1, \"←ERROR\", \"\")","v":""}]
[1000035,35,null,null,null,null,null,null,null,null,null,null,null,null,null,null,null,null,{"$f":"IF(VLOOKUP(B54,'入力チェック（使用）'!A:G,6)>=1, \"←ERROR\", \"\")","v":""}]
[1000036,36,null,null,null,null,null,null,null,null,null,null,null,null,null,null,null,null,{"$f":"IF(VLOOKUP(B55,'入力チェック（使用）'!A:G,6)>=1, \"←ERROR\", \"\")","v":""}]
[1000037,37,null,null,null,null,null,null,null,null,null,null,null,null,null,null,null,null,{"$f":"IF(VLOOKUP(B56,'入力チェック（使用）'!A:G,6)>=1, \"←ERROR\", \"\")","v":""}]
[1000038,38,null,null,null,null,null,null,null,null,null,null,null,null,null,null,null,null,{"$f":"IF(VLOOKUP(B57,'入力チェック（使用）'!A:G,6)>=1, \"←ERROR\", \"\")","v":""}]
[1000039,39,null,null,null,null,null,null,null,null,null,null,null,null,null,null,null,null,{"$f":"IF(VLOOKUP(B58,'入力チェック（使用）'!A:G,6)>=1, \"←ERROR\", \"\")","v":""}]
[1000040,40,null,null,null,null,null,null,null,null,null,null,null,null,null,null,null,null,{"$f":"IF(VLOOKUP(B59,'入力チェック（使用）'!A:G,6)>=1, \"←ERROR\", \"\")","v":""}]
[1000041,41,null,null,null,null,null,null,null,null,null,null,null,null,null,null,null,null,{"$f":"IF(VLOOKUP(B60,'入力チェック（使用）'!A:G,6)>=1, \"←ERROR\", \"\")","v":""}]
[1000042,42,null,null,null,null,null,null,null,null,null,null,null,null,null,null,null,null,{"$f":"IF(VLOOKUP(B61,'入力チェック（使用）'!A:G,6)>=1, \"←ERROR\", \"\")","v":""}]
[1000043,43,null,null,null,null,null,null,null,null,null,null,null,null,null,null,null,null,{"$f":"IF(VLOOKUP(B62,'入力チェック（使用）'!A:G,6)>=1, \"←ERROR\", \"\")","v":""}]
[1000044,44,null,null,null,null,null,null,null,null,null,null,null,null,null,null,null,null,{"$f":"IF(VLOOKUP(B63,'入力チェック（使用）'!A:G,6)>=1, \"←ERROR\", \"\")","v":""}]
[1000045,45,null,null,null,null,null,null,null,null,null,null,null,null,null,null,null,null,{"$f":"IF(VLOOKUP(B64,'入力チェック（使用）'!A:G,6)>=1, \"←ERROR\", \"\")","v":""}]
[1000046,46,null,null,null,null,null,null,null,null,null,null,null,null,null,null,null,null,{"$f":"IF(VLOOKUP(B65,'入力チェック（使用）'!A:G,6)>=1, \"←ERROR\", \"\")","v":""}]
[1000047,47,null,null,null,null,null,null,null,null,null,null,null,null,null,null,null,null,{"$f":"IF(VLOOKUP(B66,'入力チェック（使用）'!A:G,6)>=1, \"←ERROR\", \"\")","v":""}]
[1000048,48,null,null,null,null,null,null,null,null,null,null,null,null,null,null,null,null,{"$f":"IF(VLOOKUP(B67,'入力チェック（使用）'!A:G,6)>=1, \"←ERROR\", \"\")","v":""}]
[1000049,49,null,null,null,null,null,null,null,null,null,null,null,null,null,null,null,null,{"$f":"IF(VLOOKUP(B68,'入力チェック（使用）'!A:G,6)>=1, \"←ERROR\", \"\")","v":""}]
[1000050,50,null,null,null,null,null,null,null,null,null,null,null,null,null,null,null,null,{"$f":"IF(VLOOKUP(B69,'入力チェック（使用）'!A:G,6)>=1, \"←ERROR\", \"\")","v":""}]
[1000051,51,null,null,null,null,null,null,null,null,null,null,null,null,null,null,null,null,{"$f":"IF(VLOOKUP(B70,'入力チェック（使用）'!A:G,6)>=1, \"←ERROR\", \"\")","v":""}]
[1000052,52,null,null,null,null,null,null,null,null,null,null,null,null,null,null,null,null,{"$f":"IF(VLOOKUP(B71,'入力チェック（使用）'!A:G,6)>=1, \"←ERROR\", \"\")","v":""}]
[1000053,53,null,null,null,null,null,null,null,null,null,null,null,null,null,null,null,null,{"$f":"IF(VLOOKUP(B72,'入力チェック（使用）'!A:G,6)>=1, \"←ERROR\", \"\")","v":""}]
[1000054,54,null,null,null,null,null,null,null,null,null,null,null,null,null,null,null,null,{"$f":"IF(VLOOKUP(B73,'入力チェック（使用）'!A:G,6)>=1, \"←ERROR\", \"\")","v":""}]
[1000055,55,null,null,null,null,null,null,null,null,null,null,null,null,null,null,null,null,{"$f":"IF(VLOOKUP(B74,'入力チェック（使用）'!A:G,6)>=1, \"←ERROR\", \"\")","v":""}]
[1000056,56,null,null,null,null,null,null,null,null,null,null,null,null,null,null,null,null,{"$f":"IF(VLOOKUP(B75,'入力チェック（使用）'!A:G,6)>=1, \"←ERROR\", \"\")","v":""}]
[1000057,57,null,null,null,null,null,null,null,null,null,null,null,null,null,null,null,null,{"$f":"IF(VLOOKUP(B76,'入力チェック（使用）'!A:G,6)>=1, \"←ERROR\", \"\")","v":""}]
[1000058,58,null,null,null,null,null,null,null,null,null,null,null,null,null,null,null,null,{"$f":"IF(VLOOKUP(B77,'入力チェック（使用）'!A:G,6)>=1, \"←ERROR\", \"\")","v":""}]
[1000059,59,null,null,null,null,null,null,null,null,null,null,null,null,null,null,null,null,{"$f":"IF(VLOOKUP(B78,'入力チェック（使用）'!A:G,6)>=1, \"←ERROR\", \"\")","v":""}]
[1000060,60,null,null,null,null,null,null,null,null,null,null,null,null,null,null,null,null,{"$f":"IF(VLOOKUP(B79,'入力チェック（使用）'!A:G,6)>=1, \"←ERROR\", \"\")","v":""}]
[1000061,61,null,null,null,null,null,null,null,null,null,null,null,null,null,null,null,null,{"$f":"IF(VLOOKUP(B80,'入力チェック（使用）'!A:G,6)>=1, \"←ERROR\", \"\")","v":""}]
[1000062,62,null,null,null,null,null,null,null,null,null,null,null,null,null,null,null,null,{"$f":"IF(VLOOKUP(B81,'入力チェック（使用）'!A:G,6)>=1, \"←ERROR\", \"\")","v":""}]
[1000063,63,null,null,null,null,null,null,null,null,null,null,null,null,null,null,null,null,{"$f":"IF(VLOOKUP(B82,'入力チェック（使用）'!A:G,6)>=1, \"←ERROR\", \"\")","v":""}]
[1000064,64,null,null,null,null,null,null,null,null,null,null,null,null,null,null,null,null,{"$f":"IF(VLOOKUP(B83,'入力チェック（使用）'!A:G,6)>=1, \"←ERROR\", \"\")","v":""}]
[1000065,65,null,null,null,null,null,null,null,null,null,null,null,null,null,null,null,null,{"$f":"IF(VLOOKUP(B84,'入力チェック（使用）'!A:G,6)>=1, \"←ERROR\", \"\")","v":""}]
[1000066,66,null,null,null,null,null,null,null,null,null,null,null,null,null,null,null,null,{"$f":"IF(VLOOKUP(B85,'入力チェック（使用）'!A:G,6)>=1, \"←ERROR\", \"\")","v":""}]
[1000067,67,null,null,null,null,null,null,null,null,null,null,null,null,null,null,null,null,{"$f":"IF(VLOOKUP(B86,'入力チェック（使用）'!A:G,6)>=1, \"←ERROR\", \"\")","v":""}]
[1000068,68,null,null,null,null,null,null,null,null,null,null,null,null,null,null,null,null,{"$f":"IF(VLOOKUP(B87,'入力チェック（使用）'!A:G,6)>=1, \"←ERROR\", \"\")","v":""}]
[1000069,69,null,null,null,null,null,null,null,null,null,null,null,null,null,null,null,null,{"$f":"IF(VLOOKUP(B88,'入力チェック（使用）'!A:G,6)>=1, \"←ERROR\", \"\")","v":""}]
[1000070,70,null,null,null,null,null,null,null,null,null,null,null,null,null,null,null,null,{"$f":"IF(VLOOKUP(B89,'入力チェック（使用）'!A:G,6)>=1, \"←ERROR\", \"\")","v":""}]
[1000071,71,null,null,null,null,null,null,null,null,null,null,null,null,null,null,null,null,{"$f":"IF(VLOOKUP(B90,'入力チェック（使用）'!A:G,6)>=1, \"←ERROR\", \"\")","v":""}]
[1000072,72,null,null,null,null,null,null,null,null,null,null,null,null,null,null,null,null,{"$f":"IF(VLOOKUP(B91,'入力チェック（使用）'!A:G,6)>=1, \"←ERROR\", \"\")","v":""}]
[1000073,73,null,null,null,null,null,null,null,null,null,null,null,null,null,null,null,null,{"$f":"IF(VLOOKUP(B92,'入力チェック（使用）'!A:G,6)>=1, \"←ERROR\", \"\")","v":""}]
[1000074,74,null,null,null,null,null,null,null,null,null,null,null,null,null,null,null,null,{"$f":"IF(VLOOKUP(B93,'入力チェック（使用）'!A:G,6)>=1, \"←ERROR\", \"\")","v":""}]
[1000075,75,null,null,null,null,null,null,null,null,null,null,null,null,null,null,null,null,{"$f":"IF(VLOOKUP(B94,'入力チェック（使用）'!A:G,6)>=1, \"←ERROR\", \"\")","v":""}]
[1000076,76,null,null,null,null,null,null,null,null,null,null,null,null,null,null,null,null,{"$f":"IF(VLOOKUP(B95,'入力チェック（使用）'!A:G,6)>=1, \"←ERROR\", \"\")","v":""}]
[1000077,77,null,null,null,null,null,null,null,null,null,null,null,null,null,null,null,null,{"$f":"IF(VLOOKUP(B96,'入力チェック（使用）'!A:G,6)>=1, \"←ERROR\", \"\")","v":""}]
[1000078,78,null,null,null,null,null,null,null,null,null,null,null,null,null,null,null,null,{"$f":"IF(VLOOKUP(B97,'入力チェック（使用）'!A:G,6)>=1, \"←ERROR\", \"\")","v":""}]
[1000079,79,null,null,null,null,null,null,null,null,null,null,null,null,null,null,null,null,{"$f":"IF(VLOOKUP(B98,'入力チェック（使用）'!A:G,6)>=1, \"←ERROR\", \"\")","v":""}]
[1000080,80,null,null,null,null,null,null,null,null,null,null,null,null,null,null,null,null,{"$f":"IF(VLOOKUP(B99,'入力チェック（使用）'!A:G,6)>=1, \"←ERROR\", \"\")","v":""}]
[1000081,81,null,null,null,null,null,null,null,null,null,null,null,null,null,null,null,null,{"$f":"IF(VLOOKUP(B100,'入力チェック（使用）'!A:G,6)>=1, \"←ERROR\", \"\")","v":""}]
[1000082,82,null,null,null,null,null,null,null,null,null,null,null,null,null,null,null,null,{"$f":"IF(VLOOKUP(B101,'入力チェック（使用）'!A:G,6)>=1, \"←ERROR\", \"\")","v":""}]
[1000083,83,null,null,null,null,null,null,null,null,null,null,null,null,null,null,null,null,{"$f":"IF(VLOOKUP(B102,'入力チェック（使用）'!A:G,6)>=1, \"←ERROR\", \"\")","v":""}]
[1000084,84,null,null,null,null,null,null,null,null,null,null,null,null,null,null,null,null,{"$f":"IF(VLOOKUP(B103,'入力チェック（使用）'!A:G,6)>=1, \"←ERROR\", \"\")","v":""}]
[1000085,85,null,null,null,null,null,null,null,null,null,null,null,null,null,null,null,null,{"$f":"IF(VLOOKUP(B104,'入力チェック（使用）'!A:G,6)>=1, \"←ERROR\", \"\")","v":""}]
[1000086,86,null,null,null,null,null,null,null,null,null,null,null,null,null,null,null,null,{"$f":"IF(VLOOKUP(B105,'入力チェック（使用）'!A:G,6)>=1, \"←ERROR\", \"\")","v":""}]
[1000087,87,null,null,null,null,null,null,null,null,null,null,null,null,null,null,null,null,{"$f":"IF(VLOOKUP(B106,'入力チェック（使用）'!A:G,6)>=1, \"←ERROR\", \"\")","v":""}]
[1000088,88,null,null,null,null,null,null,null,null,null,null,null,null,null,null,null,null,{"$f":"IF(VLOOKUP(B107,'入力チェック（使用）'!A:G,6)>=1, \"←ERROR\", \"\")","v":""}]
[1000089,89,null,null,null,null,null,null,null,null,null,null,null,null,null,null,null,null,{"$f":"IF(VLOOKUP(B108,'入力チェック（使用）'!A:G,6)>=1, \"←ERROR\", \"\")","v":""}]
[1000090,90,null,null,null,null,null,null,null,null,null,null,null,null,null,null,null,null,{"$f":"IF(VLOOKUP(B109,'入力チェック（使用）'!A:G,6)>=1, \"←ERROR\", \"\")","v":""}]
[1000091,91,null,null,null,null,null,null,null,null,null,null,null,null,null,null,null,null,{"$f":"IF(VLOOKUP(B110,'入力チェック（使用）'!A:G,6)>=1, \"←ERROR\", \"\")","v":""}]
[1000092,92,null,null,null,null,null,null,null,null,null,null,null,null,null,null,null,null,{"$f":"IF(VLOOKUP(B111,'入力チェック（使用）'!A:G,6)>=1, \"←ERROR\", \"\")","v":""}]
[1000093,93,null,null,null,null,null,null,null,null,null,null,null,null,null,null,null,null,{"$f":"IF(VLOOKUP(B112,'入力チェック（使用）'!A:G,6)>=1, \"←ERROR\", \"\")","v":""}]
[1000094,94,null,null,null,null,null,null,null,null,null,null,null,null,null,null,null,null,{"$f":"IF(VLOOKUP(B113,'入力チェック（使用）'!A:G,6)>=1, \"←ERROR\", \"\")","v":""}]
[1000095,95,null,null,null,null,null,null,null,null,null,null,null,null,null,null,null,null,{"$f":"IF(VLOOKUP(B114,'入力チェック（使用）'!A:G,6)>=1, \"←ERROR\", \"\")","v":""}]
[1000096,96,null,null,null,null,null,null,null,null,null,null,null,null,null,null,null,null,{"$f":"IF(VLOOKUP(B115,'入力チェック（使用）'!A:G,6)>=1, \"←ERROR\", \"\")","v":""}]
[1000097,97,null,null,null,null,null,null,null,null,null,null,null,null,null,null,null,null,{"$f":"IF(VLOOKUP(B116,'入力チェック（使用）'!A:G,6)>=1, \"←ERROR\", \"\")","v":""}]
[1000098,98,null,null,null,null,null,null,null,null,null,null,null,null,null,null,null,null,{"$f":"IF(VLOOKUP(B117,'入力チェック（使用）'!A:G,6)>=1, \"←ERROR\", \"\")","v":""}]
[1000099,99,null,null,null,null,null,null,null,null,null,null,null,null,null,null,null,null,{"$f":"IF(VLOOKUP(B118,'入力チェック（使用）'!A:G,6)>=1, \"←ERROR\", \"\")","v":""}]
[1000100,100,null,null,null,null,null,null,null,null,null,null,null,null,null,null,null,null,{"$f":"IF(VLOOKUP(B119,'入力チェック（使用）'!A:G,6)>=1, \"←ERROR\", \"\")","v":""}]
[1000101,101,null,null,null,null,null,null,null,null,null,null,null,null,null,null,null,null,{"$f":"IF(VLOOKUP(B120,'入力チェック（使用）'!A:G,6)>=1, \"←ERROR\", \"\")","v":""}]
[1000102,102,null,null,null,null,null,null,null,null,null,null,null,null,null,null,null,null,{"$f":"IF(VLOOKUP(B121,'入力チェック（使用）'!A:G,6)>=1, \"←ERROR\", \"\")","v":""}]
[1000103,103,null,null,null,null,null,null,null,null,null,null,null,null,null,null,null,null,{"$f":"IF(VLOOKUP(B122,'入力チェック（使用）'!A:G,6)>=1, \"←ERROR\", \"\")","v":""}]
[1000104,104,null,null,null,null,null,null,null,null,null,null,null,null,null,null,null,null,{"$f":"IF(VLOOKUP(B123,'入力チェック（使用）'!A:G,6)>=1, \"←ERROR\", \"\")","v":""}]
[1000105,105,null,null,null,null,null,null,null,null,null,null,null,null,null,null,null,null,{"$f":"IF(VLOOKUP(B124,'入力チェック（使用）'!A:G,6)>=1, \"←ERROR\", \"\")","v":""}]
[1000106,106,null,null,null,null,null,null,null,null,null,null,null,null,null,null,null,null,{"$f":"IF(VLOOKUP(B125,'入力チェック（使用）'!A:G,6)>=1, \"←ERROR\", \"\")","v":""}]
[1000107,107,null,null,null,null,null,null,null,null,null,null,null,null,null,null,null,null,{"$f":"IF(VLOOKUP(B126,'入力チェック（使用）'!A:G,6)>=1, \"←ERROR\", \"\")","v":""}]
[1000108,108,null,null,null,null,null,null,null,null,null,null,null,null,null,null,null,null,{"$f":"IF(VLOOKUP(B127,'入力チェック（使用）'!A:G,6)>=1, \"←ERROR\", \"\")","v":""}]
[1000109,109,null,null,null,null,null,null,null,null,null,null,null,null,null,null,null,null,{"$f":"IF(VLOOKUP(B128,'入力チェック（使用）'!A:G,6)>=1, \"←ERROR\", \"\")","v":""}]
[1000110,110,null,null,null,null,null,null,null,null,null,null,null,null,null,null,null,null,{"$f":"IF(VLOOKUP(B129,'入力チェック（使用）'!A:G,6)>=1, \"←ERROR\", \"\")","v":""}]
[1000111,111,null,null,null,null,null,null,null,null,null,null,null,null,null,null,null,null,{"$f":"IF(VLOOKUP(B130,'入力チェック（使用）'!A:G,6)>=1, \"←ERROR\", \"\")","v":""}]
[1000112,112,null,null,null,null,null,null,null,null,null,null,null,null,null,null,null,null,{"$f":"IF(VLOOKUP(B131,'入力チェック（使用）'!A:G,6)>=1, \"←ERROR\", \"\")","v":""}]
[1000113,113,null,null,null,null,null,null,null,null,null,null,null,null,null,null,null,null,{"$f":"IF(VLOOKUP(B132,'入力チェック（使用）'!A:G,6)>=1, \"←ERROR\", \"\")","v":""}]
[1000114,114,null,null,null,null,null,null,null,null,null,null,null,null,null,null,null,null,{"$f":"IF(VLOOKUP(B133,'入力チェック（使用）'!A:G,6)>=1, \"←ERROR\", \"\")","v":""}]
[1000115,115,null,null,null,null,null,null,null,null,null,null,null,null,null,null,null,null,{"$f":"IF(VLOOKUP(B134,'入力チェック（使用）'!A:G,6)>=1, \"←ERROR\", \"\")","v":""}]
[1000116,116,null,null,null,null,null,null,null,null,null,null,null,null,null,null,null,null,{"$f":"IF(VLOOKUP(B135,'入力チェック（使用）'!A:G,6)>=1, \"←ERROR\", \"\")","v":""}]
[1000117,117,null,null,null,null,null,null,null,null,null,null,null,null,null,null,null,null,{"$f":"IF(VLOOKUP(B136,'入力チェック（使用）'!A:G,6)>=1, \"←ERROR\", \"\")","v":""}]
[1000118,118,null,null,null,null,null,null,null,null,null,null,null,null,null,null,null,null,{"$f":"IF(VLOOKUP(B137,'入力チェック（使用）'!A:G,6)>=1, \"←ERROR\", \"\")","v":""}]
[1000119,119,null,null,null,null,null,null,null,null,null,null,null,null,null,null,null,null,{"$f":"IF(VLOOKUP(B138,'入力チェック（使用）'!A:G,6)>=1, \"←ERROR\", \"\")","v":""}]
[1000120,120,null,null,null,null,null,null,null,null,null,null,null,null,null,null,null,null,{"$f":"IF(VLOOKUP(B139,'入力チェック（使用）'!A:G,6)>=1, \"←ERROR\", \"\")","v":""}]
[1000121,121,null,null,null,null,null,null,null,null,null,null,null,null,null,null,null,null,{"$f":"IF(VLOOKUP(B140,'入力チェック（使用）'!A:G,6)>=1, \"←ERROR\", \"\")","v":""}]
[1000122,122,null,null,null,null,null,null,null,null,null,null,null,null,null,null,null,null,{"$f":"IF(VLOOKUP(B141,'入力チェック（使用）'!A:G,6)>=1, \"←ERROR\", \"\")","v":""}]
[1000123,123,null,null,null,null,null,null,null,null,null,null,null,null,null,null,null,null,{"$f":"IF(VLOOKUP(B142,'入力チェック（使用）'!A:G,6)>=1, \"←ERROR\", \"\")","v":""}]
[1000124,124,null,null,null,null,null,null,null,null,null,null,null,null,null,null,null,null,{"$f":"IF(VLOOKUP(B143,'入力チェック（使用）'!A:G,6)>=1, \"←ERROR\", \"\")","v":""}]
[1000125,125,null,null,null,null,null,null,null,null,null,null,null,null,null,null,null,null,{"$f":"IF(VLOOKUP(B144,'入力チェック（使用）'!A:G,6)>=1, \"←ERROR\", \"\")","v":""}]
[1000126,126,null,null,null,null,null,null,null,null,null,null,null,null,null,null,null,null,{"$f":"IF(VLOOKUP(B145,'入力チェック（使用）'!A:G,6)>=1, \"←ERROR\", \"\")","v":""}]
[1000127,127,null,null,null,null,null,null,null,null,null,null,null,null,null,null,null,null,{"$f":"IF(VLOOKUP(B146,'入力チェック（使用）'!A:G,6)>=1, \"←ERROR\", \"\")","v":""}]
[1000128,128,null,null,null,null,null,null,null,null,null,null,null,null,null,null,null,null,{"$f":"IF(VLOOKUP(B147,'入力チェック（使用）'!A:G,6)>=1, \"←ERROR\", \"\")","v":""}]
[1000129,129,null,null,null,null,null,null,null,null,null,null,null,null,null,null,null,null,{"$f":"IF(VLOOKUP(B148,'入力チェック（使用）'!A:G,6)>=1, \"←ERROR\", \"\")","v":""}]
[1000130,130,null,null,null,null,null,null,null,null,null,null,null,null,null,null,null,null,{"$f":"IF(VLOOKUP(B149,'入力チェック（使用）'!A:G,6)>=1, \"←ERROR\", \"\")","v":""}]
[1000131,131,null,null,null,null,null,null,null,null,null,null,null,null,null,null,null,null,{"$f":"IF(VLOOKUP(B150,'入力チェック（使用）'!A:G,6)>=1, \"←ERROR\", \"\")","v":""}]
[1000132,132,null,null,null,null,null,null,null,null,null,null,null,null,null,null,null,null,{"$f":"IF(VLOOKUP(B151,'入力チェック（使用）'!A:G,6)>=1, \"←ERROR\", \"\")","v":""}]
[1000133,133,null,null,null,null,null,null,null,null,null,null,null,null,null,null,null,null,{"$f":"IF(VLOOKUP(B152,'入力チェック（使用）'!A:G,6)>=1, \"←ERROR\", \"\")","v":""}]
[1000134,134,null,null,null,null,null,null,null,null,null,null,null,null,null,null,null,null,{"$f":"IF(VLOOKUP(B153,'入力チェック（使用）'!A:G,6)>=1, \"←ERROR\", \"\")","v":""}]
[1000135,135,null,null,null,null,null,null,null,null,null,null,null,null,null,null,null,null,{"$f":"IF(VLOOKUP(B154,'入力チェック（使用）'!A:G,6)>=1, \"←ERROR\", \"\")","v":""}]
[1000136,136,null,null,null,null,null,null,null,null,null,null,null,null,null,null,null,null,{"$f":"IF(VLOOKUP(B155,'入力チェック（使用）'!A:G,6)>=1, \"←ERROR\", \"\")","v":""}]
[1000137,137,null,null,null,null,null,null,null,null,null,null,null,null,null,null,null,null,{"$f":"IF(VLOOKUP(B156,'入力チェック（使用）'!A:G,6)>=1, \"←ERROR\", \"\")","v":""}]
[1000138,138,null,null,null,null,null,null,null,null,null,null,null,null,null,null,null,null,{"$f":"IF(VLOOKUP(B157,'入力チェック（使用）'!A:G,6)>=1, \"←ERROR\", \"\")","v":""}]
[1000139,139,null,null,null,null,null,null,null,null,null,null,null,null,null,null,null,null,{"$f":"IF(VLOOKUP(B158,'入力チェック（使用）'!A:G,6)>=1, \"←ERROR\", \"\")","v":""}]
[1000140,140,null,null,null,null,null,null,null,null,null,null,null,null,null,null,null,null,{"$f":"IF(VLOOKUP(B159,'入力チェック（使用）'!A:G,6)>=1, \"←ERROR\", \"\")","v":""}]
[1000141,141,null,null,null,null,null,null,null,null,null,null,null,null,null,null,null,null,{"$f":"IF(VLOOKUP(B160,'入力チェック（使用）'!A:G,6)>=1, \"←ERROR\", \"\")","v":""}]
[1000142,142,null,null,null,null,null,null,null,null,null,null,null,null,null,null,null,null,{"$f":"IF(VLOOKUP(B161,'入力チェック（使用）'!A:G,6)>=1, \"←ERROR\", \"\")","v":""}]
[1000143,143,null,null,null,null,null,null,null,null,null,null,null,null,null,null,null,null,{"$f":"IF(VLOOKUP(B162,'入力チェック（使用）'!A:G,6)>=1, \"←ERROR\", \"\")","v":""}]
[1000144,144,null,null,null,null,null,null,null,null,null,null,null,null,null,null,null,null,{"$f":"IF(VLOOKUP(B163,'入力チェック（使用）'!A:G,6)>=1, \"←ERROR\", \"\")","v":""}]
[1000145,145,null,null,null,null,null,null,null,null,null,null,null,null,null,null,null,null,{"$f":"IF(VLOOKUP(B164,'入力チェック（使用）'!A:G,6)>=1, \"←ERROR\", \"\")","v":""}]
[1000146,146,null,null,null,null,null,null,null,null,null,null,null,null,null,null,null,null,{"$f":"IF(VLOOKUP(B165,'入力チェック（使用）'!A:G,6)>=1, \"←ERROR\", \"\")","v":""}]
[1000147,147,null,null,null,null,null,null,null,null,null,null,null,null,null,null,null,null,{"$f":"IF(VLOOKUP(B166,'入力チェック（使用）'!A:G,6)>=1, \"←ERROR\", \"\")","v":""}]
[1000148,148,null,null,null,null,null,null,null,null,null,null,null,null,null,null,null,null,{"$f":"IF(VLOOKUP(B167,'入力チェック（使用）'!A:G,6)>=1, \"←ERROR\", \"\")","v":""}]
[1000149,149,null,null,null,null,null,null,null,null,null,null,null,null,null,null,null,null,{"$f":"IF(VLOOKUP(B168,'入力チェック（使用）'!A:G,6)>=1, \"←ERROR\", \"\")","v":""}]
[1000150,150,null,null,null,null,null,null,null,null,null,null,null,null,null,null,null,null,{"$f":"IF(VLOOKUP(B169,'入力チェック（使用）'!A:G,6)>=1, \"←ERROR\", \"\")","v":""}]
[1000151,151,null,null,null,null,null,null,null,null,null,null,null,null,null,null,null,null,{"$f":"IF(VLOOKUP(B170,'入力チェック（使用）'!A:G,6)>=1, \"←ERROR\", \"\")","v":""}]
[1000152,152,null,null,null,null,null,null,null,null,null,null,null,null,null,null,null,null,{"$f":"IF(VLOOKUP(B171,'入力チェック（使用）'!A:G,6)>=1, \"←ERROR\", \"\")","v":""}]
[1000153,153,null,null,null,null,null,null,null,null,null,null,null,null,null,null,null,null,{"$f":"IF(VLOOKUP(B172,'入力チェック（使用）'!A:G,6)>=1, \"←ERROR\", \"\")","v":""}]
[1000154,154,null,null,null,null,null,null,null,null,null,null,null,null,null,null,null,null,{"$f":"IF(VLOOKUP(B173,'入力チェック（使用）'!A:G,6)>=1, \"←ERROR\", \"\")","v":""}]
[1000155,155,null,null,null,null,null,null,null,null,null,null,null,null,null,null,null,null,{"$f":"IF(VLOOKUP(B174,'入力チェック（使用）'!A:G,6)>=1, \"←ERROR\", \"\")","v":""}]
[1000156,156,null,null,null,null,null,null,null,null,null,null,null,null,null,null,null,null,{"$f":"IF(VLOOKUP(B175,'入力チェック（使用）'!A:G,6)>=1, \"←ERROR\", \"\")","v":""}]
[1000157,157,null,null,null,null,null,null,null,null,null,null,null,null,null,null,null,null,{"$f":"IF(VLOOKUP(B176,'入力チェック（使用）'!A:G,6)>=1, \"←ERROR\", \"\")","v":""}]
[1000158,158,null,null,null,null,null,null,null,null,null,null,null,null,null,null,null,null,{"$f":"IF(VLOOKUP(B177,'入力チェック（使用）'!A:G,6)>=1, \"←ERROR\", \"\")","v":""}]
[1000159,159,null,null,null,null,null,null,null,null,null,null,null,null,null,null,null,null,{"$f":"IF(VLOOKUP(B178,'入力チェック（使用）'!A:G,6)>=1, \"←ERROR\", \"\")","v":""}]
[1000160,160,null,null,null,null,null,null,null,null,null,null,null,null,null,null,null,null,{"$f":"IF(VLOOKUP(B179,'入力チェック（使用）'!A:G,6)>=1, \"←ERROR\", \"\")","v":""}]
[1000161,161,null,null,null,null,null,null,null,null,null,null,null,null,null,null,null,null,{"$f":"IF(VLOOKUP(B180,'入力チェック（使用）'!A:G,6)>=1, \"←ERROR\", \"\")","v":""}]
[1000162,162,null,null,null,null,null,null,null,null,null,null,null,null,null,null,null,null,{"$f":"IF(VLOOKUP(B181,'入力チェック（使用）'!A:G,6)>=1, \"←ERROR\", \"\")","v":""}]
[1000163,163,null,null,null,null,null,null,null,null,null,null,null,null,null,null,null,null,{"$f":"IF(VLOOKUP(B182,'入力チェック（使用）'!A:G,6)>=1, \"←ERROR\", \"\")","v":""}]
[1000164,164,null,null,null,null,null,null,null,null,null,null,null,null,null,null,null,null,{"$f":"IF(VLOOKUP(B183,'入力チェック（使用）'!A:G,6)>=1, \"←ERROR\", \"\")","v":""}]
[1000165,165,null,null,null,null,null,null,null,null,null,null,null,null,null,null,null,null,{"$f":"IF(VLOOKUP(B184,'入力チェック（使用）'!A:G,6)>=1, \"←ERROR\", \"\")","v":""}]
[1000166,166,null,null,null,null,null,null,null,null,null,null,null,null,null,null,null,null,{"$f":"IF(VLOOKUP(B185,'入力チェック（使用）'!A:G,6)>=1, \"←ERROR\", \"\")","v":""}]
[1000167,167,null,null,null,null,null,null,null,null,null,null,null,null,null,null,null,null,{"$f":"IF(VLOOKUP(B186,'入力チェック（使用）'!A:G,6)>=1, \"←ERROR\", \"\")","v":""}]
[1000168,168,null,null,null,null,null,null,null,null,null,null,null,null,null,null,null,null,{"$f":"IF(VLOOKUP(B187,'入力チェック（使用）'!A:G,6)>=1, \"←ERROR\", \"\")","v":""}]
[1000169,169,null,null,null,null,null,null,null,null,null,null,null,null,null,null,null,null,{"$f":"IF(VLOOKUP(B188,'入力チェック（使用）'!A:G,6)>=1, \"←ERROR\", \"\")","v":""}]
[1000170,170,null,null,null,null,null,null,null,null,null,null,null,null,null,null,null,null,{"$f":"IF(VLOOKUP(B189,'入力チェック（使用）'!A:G,6)>=1, \"←ERROR\", \"\")","v":""}]
[1000171,171,null,null,null,null,null,null,null,null,null,null,null,null,null,null,null,null,{"$f":"IF(VLOOKUP(B190,'入力チェック（使用）'!A:G,6)>=1, \"←ERROR\", \"\")","v":""}]
[1000172,172,null,null,null,null,null,null,null,null,null,null,null,null,null,null,null,null,{"$f":"IF(VLOOKUP(B191,'入力チェック（使用）'!A:G,6)>=1, \"←ERROR\", \"\")","v":""}]
[1000173,173,null,null,null,null,null,null,null,null,null,null,null,null,null,null,null,null,{"$f":"IF(VLOOKUP(B192,'入力チェック（使用）'!A:G,6)>=1, \"←ERROR\", \"\")","v":""}]
[1000174,174,null,null,null,null,null,null,null,null,null,null,null,null,null,null,null,null,{"$f":"IF(VLOOKUP(B193,'入力チェック（使用）'!A:G,6)>=1, \"←ERROR\", \"\")","v":""}]
[1000175,175,null,null,null,null,null,null,null,null,null,null,null,null,null,null,null,null,{"$f":"IF(VLOOKUP(B194,'入力チェック（使用）'!A:G,6)>=1, \"←ERROR\", \"\")","v":""}]
[1000176,176,null,null,null,null,null,null,null,null,null,null,null,null,null,null,null,null,{"$f":"IF(VLOOKUP(B195,'入力チェック（使用）'!A:G,6)>=1, \"←ERROR\", \"\")","v":""}]
[1000177,177,null,null,null,null,null,null,null,null,null,null,null,null,null,null,null,null,{"$f":"IF(VLOOKUP(B196,'入力チェック（使用）'!A:G,6)>=1, \"←ERROR\", \"\")","v":""}]
[1000178,178,null,null,null,null,null,null,null,null,null,null,null,null,null,null,null,null,{"$f":"IF(VLOOKUP(B197,'入力チェック（使用）'!A:G,6)>=1, \"←ERROR\", \"\")","v":""}]
[1000179,179,null,null,null,null,null,null,null,null,null,null,null,null,null,null,null,null,{"$f":"IF(VLOOKUP(B198,'入力チェック（使用）'!A:G,6)>=1, \"←ERROR\", \"\")","v":""}]
[1000180,180,null,null,null,null,null,null,null,null,null,null,null,null,null,null,null,null,{"$f":"IF(VLOOKUP(B199,'入力チェック（使用）'!A:G,6)>=1, \"←ERROR\", \"\")","v":""}]
[1000181,181,null,null,null,null,null,null,null,null,null,null,null,null,null,null,null,null,{"$f":"IF(VLOOKUP(B200,'入力チェック（使用）'!A:G,6)>=1, \"←ERROR\", \"\")","v":""}]
[1000182,182,null,null,null,null,null,null,null,null,null,null,null,null,null,null,null,null,{"$f":"IF(VLOOKUP(B201,'入力チェック（使用）'!A:G,6)>=1, \"←ERROR\", \"\")","v":""}]
[1000183,183,null,null,null,null,null,null,null,null,null,null,null,null,null,null,null,null,{"$f":"IF(VLOOKUP(B202,'入力チェック（使用）'!A:G,6)>=1, \"←ERROR\", \"\")","v":""}]
[1000184,184,null,null,null,null,null,null,null,null,null,null,null,null,null,null,null,null,{"$f":"IF(VLOOKUP(B203,'入力チェック（使用）'!A:G,6)>=1, \"←ERROR\", \"\")","v":""}]
[1000185,185,null,null,null,null,null,null,null,null,null,null,null,null,null,null,null,null,{"$f":"IF(VLOOKUP(B204,'入力チェック（使用）'!A:G,6)>=1, \"←ERROR\", \"\")","v":""}]
[1000186,186,null,null,null,null,null,null,null,null,null,null,null,null,null,null,null,null,{"$f":"IF(VLOOKUP(B205,'入力チェック（使用）'!A:G,6)>=1, \"←ERROR\", \"\")","v":""}]
[1000187,187,null,null,null,null,null,null,null,null,null,null,null,null,null,null,null,null,{"$f":"IF(VLOOKUP(B206,'入力チェック（使用）'!A:G,6)>=1, \"←ERROR\", \"\")","v":""}]
[1000188,188,null,null,null,null,null,null,null,null,null,null,null,null,null,null,null,null,{"$f":"IF(VLOOKUP(B207,'入力チェック（使用）'!A:G,6)>=1, \"←ERROR\", \"\")","v":""}]
[1000189,189,null,null,null,null,null,null,null,null,null,null,null,null,null,null,null,null,{"$f":"IF(VLOOKUP(B208,'入力チェック（使用）'!A:G,6)>=1, \"←ERROR\", \"\")","v":""}]
[1000190,190,null,null,null,null,null,null,null,null,null,null,null,null,null,null,null,null,{"$f":"IF(VLOOKUP(B209,'入力チェック（使用）'!A:G,6)>=1, \"←ERROR\", \"\")","v":""}]
[1000191,191,null,null,null,null,null,null,null,null,null,null,null,null,null,null,null,null,{"$f":"IF(VLOOKUP(B210,'入力チェック（使用）'!A:G,6)>=1, \"←ERROR\", \"\")","v":""}]
[1000192,192,null,null,null,null,null,null,null,null,null,null,null,null,null,null,null,null,{"$f":"IF(VLOOKUP(B211,'入力チェック（使用）'!A:G,6)>=1, \"←ERROR\", \"\")","v":""}]
[1000193,193,null,null,null,null,null,null,null,null,null,null,null,null,null,null,null,null,{"$f":"IF(VLOOKUP(B212,'入力チェック（使用）'!A:G,6)>=1, \"←ERROR\", \"\")","v":""}]
[1000194,194,null,null,null,null,null,null,null,null,null,null,null,null,null,null,null,null,{"$f":"IF(VLOOKUP(B213,'入力チェック（使用）'!A:G,6)>=1, \"←ERROR\", \"\")","v":""}]
[1000195,195,null,null,null,null,null,null,null,null,null,null,null,null,null,null,null,null,{"$f":"IF(VLOOKUP(B214,'入力チェック（使用）'!A:G,6)>=1, \"←ERROR\", \"\")","v":""}]
[1000196,196,null,null,null,null,null,null,null,null,null,null,null,null,null,null,null,null,{"$f":"IF(VLOOKUP(B215,'入力チェック（使用）'!A:G,6)>=1, \"←ERROR\", \"\")","v":""}]
[1000197,197,null,null,null,null,null,null,null,null,null,null,null,null,null,null,null,null,{"$f":"IF(VLOOKUP(B216,'入力チェック（使用）'!A:G,6)>=1, \"←ERROR\", \"\")","v":""}]
[1000198,198,null,null,null,null,null,null,null,null,null,null,null,null,null,null,null,null,{"$f":"IF(VLOOKUP(B217,'入力チェック（使用）'!A:G,6)>=1, \"←ERROR\", \"\")","v":""}]
[1000199,199,null,null,null,null,null,null,null,null,null,null,null,null,null,null,null,null,{"$f":"IF(VLOOKUP(B218,'入力チェック（使用）'!A:G,6)>=1, \"←ERROR\", \"\")","v":""}]
[1000200,200,null,null,null,null,null,null,null,null,null,null,null,null,null,null,null,null,{"$f":"IF(VLOOKUP(B219,'入力チェック（使用）'!A:G,6)>=1, \"←ERROR\", \"\")","v":""}]
[1000201,201,null,null,null,null,null,null,null,null,null,null,null,null,null,null,null,null,{"$f":"IF(VLOOKUP(B220,'入力チェック（使用）'!A:G,6)>=1, \"←ERROR\", \"\")","v":""}]
[1000202,202,null,null,null,null,null,null,null,null,null,null,null,null,null,null,null,null,{"$f":"IF(VLOOKUP(B221,'入力チェック（使用）'!A:G,6)>=1, \"←ERROR\", \"\")","v":""}]
[1000203,203,null,null,null,null,null,null,null,null,null,null,null,null,null,null,null,null,{"$f":"IF(VLOOKUP(B222,'入力チェック（使用）'!A:G,6)>=1, \"←ERROR\", \"\")","v":""}]
[1000204,204,null,null,null,null,null,null,null,null,null,null,null,null,null,null,null,null,{"$f":"IF(VLOOKUP(B223,'入力チェック（使用）'!A:G,6)>=1, \"←ERROR\", \"\")","v":""}]
[1000205,205,null,null,null,null,null,null,null,null,null,null,null,null,null,null,null,null,{"$f":"IF(VLOOKUP(B224,'入力チェック（使用）'!A:G,6)>=1, \"←ERROR\", \"\")","v":""}]
[1000206,206,null,null,null,null,null,null,null,null,null,null,null,null,null,null,null,null,{"$f":"IF(VLOOKUP(B225,'入力チェック（使用）'!A:G,6)>=1, \"←ERROR\", \"\")","v":""}]
[1000207,207,null,null,null,null,null,null,null,null,null,null,null,null,null,null,null,null,{"$f":"IF(VLOOKUP(B226,'入力チェック（使用）'!A:G,6)>=1, \"←ERROR\", \"\")","v":""}]
[1000208,208,null,null,null,null,null,null,null,null,null,null,null,null,null,null,null,null,{"$f":"IF(VLOOKUP(B227,'入力チェック（使用）'!A:G,6)>=1, \"←ERROR\", \"\")","v":""}]
[1000209,209,null,null,null,null,null,null,null,null,null,null,null,null,null,null,null,null,{"$f":"IF(VLOOKUP(B228,'入力チェック（使用）'!A:G,6)>=1, \"←ERROR\", \"\")","v":""}]
[1000210,210,null,null,null,null,null,null,null,null,null,null,null,null,null,null,null,null,{"$f":"IF(VLOOKUP(B229,'入力チェック（使用）'!A:G,6)>=1, \"←ERROR\", \"\")","v":""}]
[1000211,211,null,null,null,null,null,null,null,null,null,null,null,null,null,null,null,null,{"$f":"IF(VLOOKUP(B230,'入力チェック（使用）'!A:G,6)>=1, \"←ERROR\", \"\")","v":""}]
[1000212,212,null,null,null,null,null,null,null,null,null,null,null,null,null,null,null,null,{"$f":"IF(VLOOKUP(B231,'入力チェック（使用）'!A:G,6)>=1, \"←ERROR\", \"\")","v":""}]
[1000213,213,null,null,null,null,null,null,null,null,null,null,null,null,null,null,null,null,{"$f":"IF(VLOOKUP(B232,'入力チェック（使用）'!A:G,6)>=1, \"←ERROR\", \"\")","v":""}]
[1000214,214,null,null,null,null,null,null,null,null,null,null,null,null,null,null,null,null,{"$f":"IF(VLOOKUP(B233,'入力チェック（使用）'!A:G,6)>=1, \"←ERROR\", \"\")","v":""}]
[1000215,215,null,null,null,null,null,null,null,null,null,null,null,null,null,null,null,null,{"$f":"IF(VLOOKUP(B234,'入力チェック（使用）'!A:G,6)>=1, \"←ERROR\", \"\")","v":""}]
[1000216,216,null,null,null,null,null,null,null,null,null,null,null,null,null,null,null,null,{"$f":"IF(VLOOKUP(B235,'入力チェック（使用）'!A:G,6)>=1, \"←ERROR\", \"\")","v":""}]
[1000217,217,null,null,null,null,null,null,null,null,null,null,null,null,null,null,null,null,{"$f":"IF(VLOOKUP(B236,'入力チェック（使用）'!A:G,6)>=1, \"←ERROR\", \"\")","v":""}]
[1000218,218,null,null,null,null,null,null,null,null,null,null,null,null,null,null,null,null,{"$f":"IF(VLOOKUP(B237,'入力チェック（使用）'!A:G,6)>=1, \"←ERROR\", \"\")","v":""}]
[1000219,219,null,null,null,null,null,null,null,null,null,null,null,null,null,null,null,null,{"$f":"IF(VLOOKUP(B238,'入力チェック（使用）'!A:G,6)>=1, \"←ERROR\", \"\")","v":""}]
[1000220,220,null,null,null,null,null,null,null,null,null,null,null,null,null,null,null,null,{"$f":"IF(VLOOKUP(B239,'入力チェック（使用）'!A:G,6)>=1, \"←ERROR\", \"\")","v":""}]
[1000221,221,null,null,null,null,null,null,null,null,null,null,null,null,null,null,null,null,{"$f":"IF(VLOOKUP(B240,'入力チェック（使用）'!A:G,6)>=1, \"←ERROR\", \"\")","v":""}]
[1000222,222,null,null,null,null,null,null,null,null,null,null,null,null,null,null,null,null,{"$f":"IF(VLOOKUP(B241,'入力チェック（使用）'!A:G,6)>=1, \"←ERROR\", \"\")","v":""}]
[1000223,223,null,null,null,null,null,null,null,null,null,null,null,null,null,null,null,null,{"$f":"IF(VLOOKUP(B242,'入力チェック（使用）'!A:G,6)>=1, \"←ERROR\", \"\")","v":""}]
[1000224,224,null,null,null,null,null,null,null,null,null,null,null,null,null,null,null,null,{"$f":"IF(VLOOKUP(B243,'入力チェック（使用）'!A:G,6)>=1, \"←ERROR\", \"\")","v":""}]
[1000225,225,null,null,null,null,null,null,null,null,null,null,null,null,null,null,null,null,{"$f":"IF(VLOOKUP(B244,'入力チェック（使用）'!A:G,6)>=1, \"←ERROR\", \"\")","v":""}]
[1000226,226,null,null,null,null,null,null,null,null,null,null,null,null,null,null,null,null,{"$f":"IF(VLOOKUP(B245,'入力チェック（使用）'!A:G,6)>=1, \"←ERROR\", \"\")","v":""}]
[1000227,227,null,null,null,null,null,null,null,null,null,null,null,null,null,null,null,null,{"$f":"IF(VLOOKUP(B246,'入力チェック（使用）'!A:G,6)>=1, \"←ERROR\", \"\")","v":""}]
[1000228,228,null,null,null,null,null,null,null,null,null,null,null,null,null,null,null,null,{"$f":"IF(VLOOKUP(B247,'入力チェック（使用）'!A:G,6)>=1, \"←ERROR\", \"\")","v":""}]
[1000229,229,null,null,null,null,null,null,null,null,null,null,null,null,null,null,null,null,{"$f":"IF(VLOOKUP(B248,'入力チェック（使用）'!A:G,6)>=1, \"←ERROR\", \"\")","v":""}]
[1000230,230,null,null,null,null,null,null,null,null,null,null,null,null,null,null,null,null,{"$f":"IF(VLOOKUP(B249,'入力チェック（使用）'!A:G,6)>=1, \"←ERROR\", \"\")","v":""}]
[1000231,231,null,null,null,null,null,null,null,null,null,null,null,null,null,null,null,null,{"$f":"IF(VLOOKUP(B250,'入力チェック（使用）'!A:G,6)>=1, \"←ERROR\", \"\")","v":""}]
[1000232,232,null,null,null,null,null,null,null,null,null,null,null,null,null,null,null,null,{"$f":"IF(VLOOKUP(B251,'入力チェック（使用）'!A:G,6)>=1, \"←ERROR\", \"\")","v":""}]
[1000233,233,null,null,null,null,null,null,null,null,null,null,null,null,null,null,null,null,{"$f":"IF(VLOOKUP(B252,'入力チェック（使用）'!A:G,6)>=1, \"←ERROR\", \"\")","v":""}]
[1000234,234,null,null,null,null,null,null,null,null,null,null,null,null,null,null,null,null,{"$f":"IF(VLOOKUP(B253,'入力チェック（使用）'!A:G,6)>=1, \"←ERROR\", \"\")","v":""}]
[1000235,235,null,null,null,null,null,null,null,null,null,null,null,null,null,null,null,null,{"$f":"IF(VLOOKUP(B254,'入力チェック（使用）'!A:G,6)>=1, \"←ERROR\", \"\")","v":""}]
[1000236,236,null,null,null,null,null,null,null,null,null,null,null,null,null,null,null,null,{"$f":"IF(VLOOKUP(B255,'入力チェック（使用）'!A:G,6)>=1, \"←ERROR\", \"\")","v":""}]
[1000237,237,null,null,null,null,null,null,null,null,null,null,null,null,null,null,null,null,{"$f":"IF(VLOOKUP(B256,'入力チェック（使用）'!A:G,6)>=1, \"←ERROR\", \"\")","v":""}]
[1000238,238,null,null,null,null,null,null,null,null,null,null,null,null,null,null,null,null,{"$f":"IF(VLOOKUP(B257,'入力チェック（使用）'!A:G,6)>=1, \"←ERROR\", \"\")","v":""}]
[1000239,239,null,null,null,null,null,null,null,null,null,null,null,null,null,null,null,null,{"$f":"IF(VLOOKUP(B258,'入力チェック（使用）'!A:G,6)>=1, \"←ERROR\", \"\")","v":""}]
[1000240,240,null,null,null,null,null,null,null,null,null,null,null,null,null,null,null,null,{"$f":"IF(VLOOKUP(B259,'入力チェック（使用）'!A:G,6)>=1, \"←ERROR\", \"\")","v":""}]
[1000241,241,null,null,null,null,null,null,null,null,null,null,null,null,null,null,null,null,{"$f":"IF(VLOOKUP(B260,'入力チェック（使用）'!A:G,6)>=1, \"←ERROR\", \"\")","v":""}]
[1000242,242,null,null,null,null,null,null,null,null,null,null,null,null,null,null,null,null,{"$f":"IF(VLOOKUP(B261,'入力チェック（使用）'!A:G,6)>=1, \"←ERROR\", \"\")","v":""}]
[1000243,243,null,null,null,null,null,null,null,null,null,null,null,null,null,null,null,null,{"$f":"IF(VLOOKUP(B262,'入力チェック（使用）'!A:G,6)>=1, \"←ERROR\", \"\")","v":""}]
[1000244,244,null,null,null,null,null,null,null,null,null,null,null,null,null,null,null,null,{"$f":"IF(VLOOKUP(B263,'入力チェック（使用）'!A:G,6)>=1, \"←ERROR\", \"\")","v":""}]
[1000245,245,null,null,null,null,null,null,null,null,null,null,null,null,null,null,null,null,{"$f":"IF(VLOOKUP(B264,'入力チェック（使用）'!A:G,6)>=1, \"←ERROR\", \"\")","v":""}]
[1000246,246,null,null,null,null,null,null,null,null,null,null,null,null,null,null,null,null,{"$f":"IF(VLOOKUP(B265,'入力チェック（使用）'!A:G,6)>=1, \"←ERROR\", \"\")","v":""}]
[1000247,247,null,null,null,null,null,null,null,null,null,null,null,null,null,null,null,null,{"$f":"IF(VLOOKUP(B266,'入力チェック（使用）'!A:G,6)>=1, \"←ERROR\", \"\")","v":""}]
[1000248,248,null,null,null,null,null,null,null,null,null,null,null,null,null,null,null,null,{"$f":"IF(VLOOKUP(B267,'入力チェック（使用）'!A:G,6)>=1, \"←ERROR\", \"\")","v":""}]
[1000249,249,null,null,null,null,null,null,null,null,null,null,null,null,null,null,null,null,{"$f":"IF(VLOOKUP(B268,'入力チェック（使用）'!A:G,6)>=1, \"←ERROR\", \"\")","v":""}]
[1000250,250,null,null,null,null,null,null,null,null,null,null,null,null,null,null,null,null,{"$f":"IF(VLOOKUP(B269,'入力チェック（使用）'!A:G,6)>=1, \"←ERROR\", \"\")","v":""}]

{"sheet":"入力チェック（製剤）","index":4,"n_rows":4,"n_cols":3,"rows_kept":4,"cut":false,"hidden":true,"merged":[]}
[]
[{"$f":"入力シート!E11&入力シート!E12","v":""},{"$f":"IF(ISNA(VLOOKUP(A2,選択肢!K:M,3,FALSE))=TRUE, 0, VLOOKUP(A2,選択肢!K:M,3,FALSE))","v":0},{"$f":"IF(ISNA(B2)=TRUE,\"\",IF(B2=1,\"←EROOR\",\"\"))","v":""}]
[]
["総合判定",{"$f":"SUM(B2,'入力チェック（使用）'!H2:H251)","v":0}]

{"sheet":"入力チェック（使用）","index":5,"n_rows":251,"n_cols":8,"rows_kept":251,"cut":false,"hidden":true,"merged":[]}
["使用\n番号",null,null,null,null,"判定","欄不使用","総合判定用"]
[1,{"$f":"入力シート!$E$11&入力シート!R20","v":""},{"$f":"IF(ISNA(VLOOKUP(B2,選択肢!J:M,4,FALSE))=TRUE,0,VLOOKUP(B2,選択肢!J:M,4,FALSE))","v":0},{"$f":"入力シート!$E$12&入力シート!R20","v":""},{"$f":"IF(ISNA(VLOOKUP(D2,選択肢!L:M,2,FALSE))=TRUE, 0, VLOOKUP(D2,選択肢!L:M,2,FALSE))","v":0},{"$f":"C2+E2+G2","v":-10},{"$f":"IF(入力シート!P20>=1,0,-10)","v":-10},{"$f":"IF(F2>0, 1, 0)","v":0}]
[2]
[3]
[4]
[5]
[6]
[7]
[8]
[9]
[10]
[11]
[12]
[13]
[14]
[15]
[16]
[17]
[18]
[19]
[20]
[21]
[22]
[23]
[24]
[25]
[26]
[27]
[28]
[29]
[30]
[31]
[32]
[33]
[34]
[35]
[36]
[37]
[38]
[39]
[40]
[41]
[42]
[43]
[44]
[45]
[46]
[47]
[48]
[49]
[50]
[51]
[52]
[53]
[54]
[55]
[56]
[57]
[58]
[59]
[60]
[61]
[62]
[63]
[64]
[65]
[66]
[67]
[68]
[69]
[70]
[71]
[72]
[73]
[74]
[75]
[76]
[77]
[78]
[79]
[80]
[81]
[82]
[83]
[84]
[85]
[86]
[87]
[88]
[89]
[90]
[91]
[92]
[93]
[94]
[95]
[96]
[97]
[98]
[99]
[100]
[101]
[102]
[103]
[104]
[105]
[106]
[107]
[108]
[109]
[110]
[111]
[112]
[113]
[114]
[115]
[116]
[117]
[118]
[119]
[120]
[121]
[122]
[123]
[124]
[125]
[126]
[127]
[128]
[129]
[130]
[131]
[132]
[133]
[134]
[135]
[136]
[137]
[138]
[139]
[140]
[141]
[142]
[143]
[144]
[145]
[146]
[147]
[148]
[149]
[150]
[151]
[152]
[153]
[154]
[155]
[156]
[157]
[158]
[159]
[160]
[161]
[162]
[163]
[164]
[165]
[166]
[167]
[168]
[169]
[170]
[171]
[172]
[173]
[174]
[175]
[176]
[177]
[178]
[179]
[180]
[181]
[182]
[183]
[184]
[185]
[186]
[187]
[188]
[189]
[190]
[191]
[192]
[193]
[194]
[195]
[196]
[197]
[198]
[199]
[200]
[201]
[202]
[203]
[204]
[205]
[206]
[207]
[208]
[209]
[210]
[211]
[212]
[213]
[214]
[215]
[216]
[217]
[218]
[219]
[220]
[221]
[222]
[223]
[224]
[225]
[226]
[227]
[228]
[229]
[230]
[231]
[232]
[233]
[234]
[235]
[236]
[237]
[238]
[239]
[240]
[241]
[242]
[243]
[244]
[245]
[246]
[247]
[248]
[249]
[250]

{"sheet":"補助3","index":6,"n_rows":100,"n_cols":7,"rows_kept":100,"cut":false,"hidden":true,"merged":[[0,1,0,3],[0,4,1,9]]}
[null,"【補助シート３】栽培面積および1日作業面積を個別に設定する場合",null,null,"入力した１経営体あたりの栽培面積は、デフォルトの１日平均作業面積に置き換えられる。\n入力した１日作業面積は、デフォルトの１日標準作業面積に置き換えられる。ただし、デフォルト値の方が小さければ、デフォルト値で計算される。"]
[]
[null,"使用\n番号","作物名","使用方法","手散布\n機械散布\n育苗箱","１経営体あたりの\n栽培面積\n（a）","1日作業面積\n（a）"]
[null,null,{"$f":"IF(B4 = \"\",\"\", VLOOKUP(B4,'出力シート（主要）'!$B$20:$D$1079,2,FALSE))","v":""},{"$f":"IF(B4 = \"\", \"\",VLOOKUP(B4,'出力シート（主要）'!$B$20:$K$1079,4,FALSE))","v":""},{"$f":"IF(B4=\"\", \"\", VLOOKUP(B4,計算シート!FR:FS,2,FALSE))","v":""}]
[null,null,{"$f":"IF(B5 = \"\",\"\", VLOOKUP(B5,'出力シート（主要）'!$B$20:$D$1079,2,FALSE))","v":""},{"$f":"IF(B5 = \"\", \"\",VLOOKUP(B5,'出力シート（主要）'!$B$20:$K$1079,4,FALSE))","v":""},{"$f":"IF(B5=\"\", \"\", VLOOKUP(B5,計算シート!FR:FS,2,FALSE))","v":""}]
[null,null,{"$f":"IF(B6 = \"\",\"\", VLOOKUP(B6,'出力シート（主要）'!$B$20:$D$1079,2,FALSE))","v":""},{"$f":"IF(B6 = \"\", \"\",VLOOKUP(B6,'出力シート（主要）'!$B$20:$K$1079,4,FALSE))","v":""},{"$f":"IF(B6=\"\", \"\", VLOOKUP(B6,計算シート!FR:FS,2,FALSE))","v":""}]
[null,null,{"$f":"IF(B7 = \"\",\"\", VLOOKUP(B7,'出力シート（主要）'!$B$20:$D$1079,2,FALSE))","v":""},{"$f":"IF(B7 = \"\", \"\",VLOOKUP(B7,'出力シート（主要）'!$B$20:$K$1079,4,FALSE))","v":""},{"$f":"IF(B7=\"\", \"\", VLOOKUP(B7,計算シート!FR:FS,2,FALSE))","v":""}]
[null,null,{"$f":"IF(B8 = \"\",\"\", VLOOKUP(B8,'出力シート（主要）'!$B$20:$D$1079,2,FALSE))","v":""},{"$f":"IF(B8 = \"\", \"\",VLOOKUP(B8,'出力シート（主要）'!$B$20:$K$1079,4,FALSE))","v":""},{"$f":"IF(B8=\"\", \"\", VLOOKUP(B8,計算シート!FR:FS,2,FALSE))","v":""}]
[null,null,{"$f":"IF(B9 = \"\",\"\", VLOOKUP(B9,'出力シート（主要）'!$B$20:$D$1079,2,FALSE))","v":""},{"$f":"IF(B9 = \"\", \"\",VLOOKUP(B9,'出力シート（主要）'!$B$20:$K$1079,4,FALSE))","v":""},{"$f":"IF(B9=\"\", \"\", VLOOKUP(B9,計算シート!FR:FS,2,FALSE))","v":""}]
[null,null,{"$f":"IF(B10 = \"\",\"\", VLOOKUP(B10,'出力シート（主要）'!$B$20:$D$1079,2,FALSE))","v":""},{"$f":"IF(B10 = \"\", \"\",VLOOKUP(B10,'出力シート（主要）'!$B$20:$K$1079,4,FALSE))","v":""},{"$f":"IF(B10=\"\", \"\", VLOOKUP(B10,計算シート!FR:FS,2,FALSE))","v":""}]
[null,null,{"$f":"IF(B11 = \"\",\"\", VLOOKUP(B11,'出力シート（主要）'!$B$20:$D$1079,2,FALSE))","v":""},{"$f":"IF(B11 = \"\", \"\",VLOOKUP(B11,'出力シート（主要）'!$B$20:$K$1079,4,FALSE))","v":""},{"$f":"IF(B11=\"\", \"\", VLOOKUP(B11,計算シート!FR:FS,2,FALSE))","v":""}]
[null,null,{"$f":"IF(B12 = \"\",\"\", VLOOKUP(B12,'出力シート（主要）'!$B$20:$D$1079,2,FALSE))","v":""},{"$f":"IF(B12 = \"\", \"\",VLOOKUP(B12,'出力シート（主要）'!$B$20:$K$1079,4,FALSE))","v":""},{"$f":"IF(B12=\"\", \"\", VLOOKUP(B12,計算シート!FR:FS,2,FALSE))","v":""}]
[null,null,{"$f":"IF(B13 = \"\",\"\", VLOOKUP(B13,'出力シート（主要）'!$B$20:$D$1079,2,FALSE))","v":""},{"$f":"IF(B13 = \"\", \"\",VLOOKUP(B13,'出力シート（主要）'!$B$20:$K$1079,4,FALSE))","v":""},{"$f":"IF(B13=\"\", \"\", VLOOKUP(B13,計算シート!FR:FS,2,FALSE))","v":""}]
[null,null,{"$f":"IF(B14 = \"\",\"\", VLOOKUP(B14,'出力シート（主要）'!$B$20:$D$1079,2,FALSE))","v":""},{"$f":"IF(B14 = \"\", \"\",VLOOKUP(B14,'出力シート（主要）'!$B$20:$K$1079,4,FALSE))","v":""},{"$f":"IF(B14=\"\", \"\", VLOOKUP(B14,計算シート!FR:FS,2,FALSE))","v":""}]
[null,null,{"$f":"IF(B15 = \"\",\"\", VLOOKUP(B15,'出力シート（主要）'!$B$20:$D$1079,2,FALSE))","v":""},{"$f":"IF(B15 = \"\", \"\",VLOOKUP(B15,'出力シート（主要）'!$B$20:$K$1079,4,FALSE))","v":""},{"$f":"IF(B15=\"\", \"\", VLOOKUP(B15,計算シート!FR:FS,2,FALSE))","v":""}]
[null,null,{"$f":"IF(B16 = \"\",\"\", VLOOKUP(B16,'出力シート（主要）'!$B$20:$D$1079,2,FALSE))","v":""},{"$f":"IF(B16 = \"\", \"\",VLOOKUP(B16,'出力シート（主要）'!$B$20:$K$1079,4,FALSE))","v":""},{"$f":"IF(B16=\"\", \"\", VLOOKUP(B16,計算シート!FR:FS,2,FALSE))","v":""}]
[null,null,{"$f":"IF(B17 = \"\",\"\", VLOOKUP(B17,'出力シート（主要）'!$B$20:$D$1079,2,FALSE))","v":""},{"$f":"IF(B17 = \"\", \"\",VLOOKUP(B17,'出力シート（主要）'!$B$20:$K$1079,4,FALSE))","v":""},{"$f":"IF(B17=\"\", \"\", VLOOKUP(B17,計算シート!FR:FS,2,FALSE))","v":""}]
[null,null,{"$f":"IF(B18 = \"\",\"\", VLOOKUP(B18,'出力シート（主要）'!$B$20:$D$1079,2,FALSE))","v":""},{"$f":"IF(B18 = \"\", \"\",VLOOKUP(B18,'出力シート（主要）'!$B$20:$K$1079,4,FALSE))","v":""},{"$f":"IF(B18=\"\", \"\", VLOOKUP(B18,計算シート!FR:FS,2,FALSE))","v":""}]
[null,null,{"$f":"IF(B19 = \"\",\"\", VLOOKUP(B19,'出力シート（主要）'!$B$20:$D$1079,2,FALSE))","v":""},{"$f":"IF(B19 = \"\", \"\",VLOOKUP(B19,'出力シート（主要）'!$B$20:$K$1079,4,FALSE))","v":""},{"$f":"IF(B19=\"\", \"\", VLOOKUP(B19,計算シート!FR:FS,2,FALSE))","v":""}]
[null,null,{"$f":"IF(B20 = \"\",\"\", VLOOKUP(B20,'出力シート（主要）'!$B$20:$D$1079,2,FALSE))","v":""},{"$f":"IF(B20 = \"\", \"\",VLOOKUP(B20,'出力シート（主要）'!$B$20:$K$1079,4,FALSE))","v":""},{"$f":"IF(B20=\"\", \"\", VLOOKUP(B20,計算シート!FR:FS,2,FALSE))","v":""}]
[null,null,{"$f":"IF(B21 = \"\",\"\", VLOOKUP(B21,'出力シート（主要）'!$B$20:$D$1079,2,FALSE))","v":""},{"$f":"IF(B21 = \"\", \"\",VLOOKUP(B21,'出力シート（主要）'!$B$20:$K$1079,4,FALSE))","v":""},{"$f":"IF(B21=\"\", \"\", VLOOKUP(B21,計算シート!FR:FS,2,FALSE))","v":""}]
[null,null,{"$f":"IF(B22 = \"\",\"\", VLOOKUP(B22,'出力シート（主要）'!$B$20:$D$1079,2,FALSE))","v":""},{"$f":"IF(B22 = \"\", \"\",VLOOKUP(B22,'出力シート（主要）'!$B$20:$K$1079,4,FALSE))","v":""},{"$f":"IF(B22=\"\", \"\", VLOOKUP(B22,計算シート!FR:FS,2,FALSE))","v":""}]
[null,null,{"$f":"IF(B23 = \"\",\"\", VLOOKUP(B23,'出力シート（主要）'!$B$20:$D$1079,2,FALSE))","v":""},{"$f":"IF(B23 = \"\", \"\",VLOOKUP(B23,'出力シート（主要）'!$B$20:$K$1079,4,FALSE))","v":""},{"$f":"IF(B23=\"\", \"\", VLOOKUP(B23,計算シート!FR:FS,2,FALSE))","v":""}]
[null,null,{"$f":"IF(B24 = \"\",\"\", VLOOKUP(B24,'出力シート（主要）'!$B$20:$D$1079,2,FALSE))","v":""},{"$f":"IF(B24 = \"\", \"\",VLOOKUP(B24,'出力シート（主要）'!$B$20:$K$1079,4,FALSE))","v":""},{"$f":"IF(B24=\"\", \"\", VLOOKUP(B24,計算シート!FR:FS,2,FALSE))","v":""}]
[null,null,{"$f":"IF(B25 = \"\",\"\", VLOOKUP(B25,'出力シート（主要）'!$B$20:$D$1079,2,FALSE))","v":""},{"$f":"IF(B25 = \"\", \"\",VLOOKUP(B25,'出力シート（主要）'!$B$20:$K$1079,4,FALSE))","v":""},{"$f":"IF(B25=\"\", \"\", VLOOKUP(B25,計算シート!FR:FS,2,FALSE))","v":""}]
[null,null,{"$f":"IF(B26 = \"\",\"\", VLOOKUP(B26,'出力シート（主要）'!$B$20:$D$1079,2,FALSE))","v":""},{"$f":"IF(B26 = \"\", \"\",VLOOKUP(B26,'出力シート（主要）'!$B$20:$K$1079,4,FALSE))","v":""},{"$f":"IF(B26=\"\", \"\", VLOOKUP(B26,計算シート!FR:FS,2,FALSE))","v":""}]
[null,null,{"$f":"IF(B27 = \"\",\"\", VLOOKUP(B27,'出力シート（主要）'!$B$20:$D$1079,2,FALSE))","v":""},{"$f":"IF(B27 = \"\", \"\",VLOOKUP(B27,'出力シート（主要）'!$B$20:$K$1079,4,FALSE))","v":""},{"$f":"IF(B27=\"\", \"\", VLOOKUP(B27,計算シート!FR:FS,2,FALSE))","v":""}]
[null,null,{"$f":"IF(B28 = \"\",\"\", VLOOKUP(B28,'出力シート（主要）'!$B$20:$D$1079,2,FALSE))","v":""},{"$f":"IF(B28 = \"\", \"\",VLOOKUP(B28,'出力シート（主要）'!$B$20:$K$1079,4,FALSE))","v":""},{"$f":"IF(B28=\"\", \"\", VLOOKUP(B28,計算シート!FR:FS,2,FALSE))","v":""}]
[null,null,{"$f":"IF(B29 = \"\",\"\", VLOOKUP(B29,'出力シート（主要）'!$B$20:$D$1079,2,FALSE))","v":""},{"$f":"IF(B29 = \"\", \"\",VLOOKUP(B29,'出力シート（主要）'!$B$20:$K$1079,4,FALSE))","v":""},{"$f":"IF(B29=\"\", \"\", VLOOKUP(B29,計算シート!FR:FS,2,FALSE))","v":""}]
[null,null,{"$f":"IF(B30 = \"\",\"\", VLOOKUP(B30,'出力シート（主要）'!$B$20:$D$1079,2,FALSE))","v":""},{"$f":"IF(B30 = \"\", \"\",VLOOKUP(B30,'出力シート（主要）'!$B$20:$K$1079,4,FALSE))","v":""},{"$f":"IF(B30=\"\", \"\", VLOOKUP(B30,計算シート!FR:FS,2,FALSE))","v":""}]
[null,null,{"$f":"IF(B31 = \"\",\"\", VLOOKUP(B31,'出力シート（主要）'!$B$20:$D$1079,2,FALSE))","v":""},{"$f":"IF(B31 = \"\", \"\",VLOOKUP(B31,'出力シート（主要）'!$B$20:$K$1079,4,FALSE))","v":""},{"$f":"IF(B31=\"\", \"\", VLOOKUP(B31,計算シート!FR:FS,2,FALSE))","v":""}]
[null,null,{"$f":"IF(B32 = \"\",\"\", VLOOKUP(B32,'出力シート（主要）'!$B$20:$D$1079,2,FALSE))","v":""},{"$f":"IF(B32 = \"\", \"\",VLOOKUP(B32,'出力シート（主要）'!$B$20:$K$1079,4,FALSE))","v":""},{"$f":"IF(B32=\"\", \"\", VLOOKUP(B32,計算シート!FR:FS,2,FALSE))","v":""}]
[null,null,{"$f":"IF(B33 = \"\",\"\", VLOOKUP(B33,'出力シート（主要）'!$B$20:$D$1079,2,FALSE))","v":""},{"$f":"IF(B33 = \"\", \"\",VLOOKUP(B33,'出力シート（主要）'!$B$20:$K$1079,4,FALSE))","v":""},{"$f":"IF(B33=\"\", \"\", VLOOKUP(B33,計算シート!FR:FS,2,FALSE))","v":""}]
[null,null,{"$f":"IF(B34 = \"\",\"\", VLOOKUP(B34,'出力シート（主要）'!$B$20:$D$1079,2,FALSE))","v":""},{"$f":"IF(B34 = \"\", \"\",VLOOKUP(B34,'出力シート（主要）'!$B$20:$K$1079,4,FALSE))","v":""},{"$f":"IF(B34=\"\", \"\", VLOOKUP(B34,計算シート!FR:FS,2,FALSE))","v":""}]
[null,null,{"$f":"IF(B35 = \"\",\"\", VLOOKUP(B35,'出力シート（主要）'!$B$20:$D$1079,2,FALSE))","v":""},{"$f":"IF(B35 = \"\", \"\",VLOOKUP(B35,'出力シート（主要）'!$B$20:$K$1079,4,FALSE))","v":""},{"$f":"IF(B35=\"\", \"\", VLOOKUP(B35,計算シート!FR:FS,2,FALSE))","v":""}]
[null,null,{"$f":"IF(B36 = \"\",\"\", VLOOKUP(B36,'出力シート（主要）'!$B$20:$D$1079,2,FALSE))","v":""},{"$f":"IF(B36 = \"\", \"\",VLOOKUP(B36,'出力シート（主要）'!$B$20:$K$1079,4,FALSE))","v":""},{"$f":"IF(B36=\"\", \"\", VLOOKUP(B36,計算シート!FR:FS,2,FALSE))","v":""}]
[null,null,{"$f":"IF(B37 = \"\",\"\", VLOOKUP(B37,'出力シート（主要）'!$B$20:$D$1079,2,FALSE))","v":""},{"$f":"IF(B37 = \"\", \"\",VLOOKUP(B37,'出力シート（主要）'!$B$20:$K$1079,4,FALSE))","v":""},{"$f":"IF(B37=\"\", \"\", VLOOKUP(B37,計算シート!FR:FS,2,FALSE))","v":""}]
[null,null,{"$f":"IF(B38 = \"\",\"\", VLOOKUP(B38,'出力シート（主要）'!$B$20:$D$1079,2,FALSE))","v":""},{"$f":"IF(B38 = \"\", \"\",VLOOKUP(B38,'出力シート（主要）'!$B$20:$K$1079,4,FALSE))","v":""},{"$f":"IF(B38=\"\", \"\", VLOOKUP(B38,計算シート!FR:FS,2,FALSE))","v":""}]
[null,null,{"$f":"IF(B39 = \"\",\"\", VLOOKUP(B39,'出力シート（主要）'!$B$20:$D$1079,2,FALSE))","v":""},{"$f":"IF(B39 = \"\", \"\",VLOOKUP(B39,'出力シート（主要）'!$B$20:$K$1079,4,FALSE))","v":""},{"$f":"IF(B39=\"\", \"\", VLOOKUP(B39,計算シート!FR:FS,2,FALSE))","v":""}]
[null,null,{"$f":"IF(B40 = \"\",\"\", VLOOKUP(B40,'出力シート（主要）'!$B$20:$D$1079,2,FALSE))","v":""},{"$f":"IF(B40 = \"\", \"\",VLOOKUP(B40,'出力シート（主要）'!$B$20:$K$1079,4,FALSE))","v":""},{"$f":"IF(B40=\"\", \"\", VLOOKUP(B40,計算シート!FR:FS,2,FALSE))","v":""}]
[null,null,{"$f":"IF(B41 = \"\",\"\", VLOOKUP(B41,'出力シート（主要）'!$B$20:$D$1079,2,FALSE))","v":""},{"$f":"IF(B41 = \"\", \"\",VLOOKUP(B41,'出力シート（主要）'!$B$20:$K$1079,4,FALSE))","v":""},{"$f":"IF(B41=\"\", \"\", VLOOKUP(B41,計算シート!FR:FS,2,FALSE))","v":""}]
[null,null,{"$f":"IF(B42 = \"\",\"\", VLOOKUP(B42,'出力シート（主要）'!$B$20:$D$1079,2,FALSE))","v":""},{"$f":"IF(B42 = \"\", \"\",VLOOKUP(B42,'出力シート（主要）'!$B$20:$K$1079,4,FALSE))","v":""},{"$f":"IF(B42=\"\", \"\", VLOOKUP(B42,計算シート!FR:FS,2,FALSE))","v":""}]
[null,null,{"$f":"IF(B43 = \"\",\"\", VLOOKUP(B43,'出力シート（主要）'!$B$20:$D$1079,2,FALSE))","v":""},{"$f":"IF(B43 = \"\", \"\",VLOOKUP(B43,'出力シート（主要）'!$B$20:$K$1079,4,FALSE))","v":""},{"$f":"IF(B43=\"\", \"\", VLOOKUP(B43,計算シート!FR:FS,2,FALSE))","v":""}]
[null,null,{"$f":"IF(B44 = \"\",\"\", VLOOKUP(B44,'出力シート（主要）'!$B$20:$D$1079,2,FALSE))","v":""},{"$f":"IF(B44 = \"\", \"\",VLOOKUP(B44,'出力シート（主要）'!$B$20:$K$1079,4,FALSE))","v":""},{"$f":"IF(B44=\"\", \"\", VLOOKUP(B44,計算シート!FR:FS,2,FALSE))","v":""}]
[null,null,{"$f":"IF(B45 = \"\",\"\", VLOOKUP(B45,'出力シート（主要）'!$B$20:$D$1079,2,FALSE))","v":""},{"$f":"IF(B45 = \"\", \"\",VLOOKUP(B45,'出力シート（主要）'!$B$20:$K$1079,4,FALSE))","v":""},{"$f":"IF(B45=\"\", \"\", VLOOKUP(B45,計算シート!FR:FS,2,FALSE))","v":""}]
[null,null,{"$f":"IF(B46 = \"\",\"\", VLOOKUP(B46,'出力シート（主要）'!$B$20:$D$1079,2,FALSE))","v":""},{"$f":"IF(B46 = \"\", \"\",VLOOKUP(B46,'出力シート（主要）'!$B$20:$K$1079,4,FALSE))","v":""},{"$f":"IF(B46=\"\", \"\", VLOOKUP(B46,計算シート!FR:FS,2,FALSE))","v":""}]
[null,null,{"$f":"IF(B47 = \"\",\"\", VLOOKUP(B47,'出力シート（主要）'!$B$20:$D$1079,2,FALSE))","v":""},{"$f":"IF(B47 = \"\", \"\",VLOOKUP(B47,'出力シート（主要）'!$B$20:$K$1079,4,FALSE))","v":""},{"$f":"IF(B47=\"\", \"\", VLOOKUP(B47,計算シート!FR:FS,2,FALSE))","v":""}]
[null,null,{"$f":"IF(B48 = \"\",\"\", VLOOKUP(B48,'出力シート（主要）'!$B$20:$D$1079,2,FALSE))","v":""},{"$f":"IF(B48 = \"\", \"\",VLOOKUP(B48,'出力シート（主要）'!$B$20:$K$1079,4,FALSE))","v":""},{"$f":"IF(B48=\"\", \"\", VLOOKUP(B48,計算シート!FR:FS,2,FALSE))","v":""}]
[null,null,{"$f":"IF(B49 = \"\",\"\", VLOOKUP(B49,'出力シート（主要）'!$B$20:$D$1079,2,FALSE))","v":""},{"$f":"IF(B49 = \"\", \"\",VLOOKUP(B49,'出力シート（主要）'!$B$20:$K$1079,4,FALSE))","v":""},{"$f":"IF(B49=\"\", \"\", VLOOKUP(B49,計算シート!FR:FS,2,FALSE))","v":""}]
[null,null,{"$f":"IF(B50 = \"\",\"\", VLOOKUP(B50,'出力シート（主要）'!$B$20:$D$1079,2,FALSE))","v":""},{"$f":"IF(B50 = \"\", \"\",VLOOKUP(B50,'出力シート（主要）'!$B$20:$K$1079,4,FALSE))","v":""},{"$f":"IF(B50=\"\", \"\", VLOOKUP(B50,計算シート!FR:FS,2,FALSE))","v":""}]
[null,null,{"$f":"IF(B51 = \"\",\"\", VLOOKUP(B51,'出力シート（主要）'!$B$20:$D$1079,2,FALSE))","v":""},{"$f":"IF(B51 = \"\", \"\",VLOOKUP(B51,'出力シート（主要）'!$B$20:$K$1079,4,FALSE))","v":""},{"$f":"IF(B51=\"\", \"\", VLOOKUP(B51,計算シート!FR:FS,2,FALSE))","v":""}]
[null,null,{"$f":"IF(B52 = \"\",\"\", VLOOKUP(B52,'出力シート（主要）'!$B$20:$D$1079,2,FALSE))","v":""},{"$f":"IF(B52 = \"\", \"\",VLOOKUP(B52,'出力シート（主要）'!$B$20:$K$1079,4,FALSE))","v":""},{"$f":"IF(B52=\"\", \"\", VLOOKUP(B52,計算シート!FR:FS,2,FALSE))","v":""}]
[null,null,{"$f":"IF(B53 = \"\",\"\", VLOOKUP(B53,'出力シート（主要）'!$B$20:$D$1079,2,FALSE))","v":""},{"$f":"IF(B53 = \"\", \"\",VLOOKUP(B53,'出力シート（主要）'!$B$20:$K$1079,4,FALSE))","v":""},{"$f":"IF(B53=\"\", \"\", VLOOKUP(B53,計算シート!FR:FS,2,FALSE))","v":""}]
[null,null,{"$f":"IF(B54 = \"\",\"\", VLOOKUP(B54,'出力シート（主要）'!$B$20:$D$1079,2,FALSE))","v":""},{"$f":"IF(B54 = \"\", \"\",VLOOKUP(B54,'出力シート（主要）'!$B$20:$K$1079,4,FALSE))","v":""},{"$f":"IF(B54=\"\", \"\", VLOOKUP(B54,計算シート!FR:FS,2,FALSE))","v":""}]
[null,null,{"$f":"IF(B55 = \"\",\"\", VLOOKUP(B55,'出力シート（主要）'!$B$20:$D$1079,2,FALSE))","v":""},{"$f":"IF(B55 = \"\", \"\",VLOOKUP(B55,'出力シート（主要）'!$B$20:$K$1079,4,FALSE))","v":""},{"$f":"IF(B55=\"\", \"\", VLOOKUP(B55,計算シート!FR:FS,2,FALSE))","v":""}]
[null,null,{"$f":"IF(B56 = \"\",\"\", VLOOKUP(B56,'出力シート（主要）'!$B$20:$D$1079,2,FALSE))","v":""},{"$f":"IF(B56 = \"\", \"\",VLOOKUP(B56,'出力シート（主要）'!$B$20:$K$1079,4,FALSE))","v":""},{"$f":"IF(B56=\"\", \"\", VLOOKUP(B56,計算シート!FR:FS,2,FALSE))","v":""}]
[null,null,{"$f":"IF(B57 = \"\",\"\", VLOOKUP(B57,'出力シート（主要）'!$B$20:$D$1079,2,FALSE))","v":""},{"$f":"IF(B57 = \"\", \"\",VLOOKUP(B57,'出力シート（主要）'!$B$20:$K$1079,4,FALSE))","v":""},{"$f":"IF(B57=\"\", \"\", VLOOKUP(B57,計算シート!FR:FS,2,FALSE))","v":""}]
[null,null,{"$f":"IF(B58 = \"\",\"\", VLOOKUP(B58,'出力シート（主要）'!$B$20:$D$1079,2,FALSE))","v":""},{"$f":"IF(B58 = \"\", \"\",VLOOKUP(B58,'出力シート（主要）'!$B$20:$K$1079,4,FALSE))","v":""},{"$f":"IF(B58=\"\", \"\", VLOOKUP(B58,計算シート!FR:FS,2,FALSE))","v":""}]
[null,null,{"$f":"IF(B59 = \"\",\"\", VLOOKUP(B59,'出力シート（主要）'!$B$20:$D$1079,2,FALSE))","v":""},{"$f":"IF(B59 = \"\", \"\",VLOOKUP(B59,'出力シート（主要）'!$B$20:$K$1079,4,FALSE))","v":""},{"$f":"IF(B59=\"\", \"\", VLOOKUP(B59,計算シート!FR:FS,2,FALSE))","v":""}]
[null,null,{"$f":"IF(B60 = \"\",\"\", VLOOKUP(B60,'出力シート（主要）'!$B$20:$D$1079,2,FALSE))","v":""},{"$f":"IF(B60 = \"\", \"\",VLOOKUP(B60,'出力シート（主要）'!$B$20:$K$1079,4,FALSE))","v":""},{"$f":"IF(B60=\"\", \"\", VLOOKUP(B60,計算シート!FR:FS,2,FALSE))","v":""}]
[null,null,{"$f":"IF(B61 = \"\",\"\", VLOOKUP(B61,'出力シート（主要）'!$B$20:$D$1079,2,FALSE))","v":""},{"$f":"IF(B61 = \"\", \"\",VLOOKUP(B61,'出力シート（主要）'!$B$20:$K$1079,4,FALSE))","v":""},{"$f":"IF(B61=\"\", \"\", VLOOKUP(B61,計算シート!FR:FS,2,FALSE))","v":""}]
[null,null,{"$f":"IF(B62 = \"\",\"\", VLOOKUP(B62,'出力シート（主要）'!$B$20:$D$1079,2,FALSE))","v":""},{"$f":"IF(B62 = \"\", \"\",VLOOKUP(B62,'出力シート（主要）'!$B$20:$K$1079,4,FALSE))","v":""},{"$f":"IF(B62=\"\", \"\", VLOOKUP(B62,計算シート!FR:FS,2,FALSE))","v":""}]
[null,null,{"$f":"IF(B63 = \"\",\"\", VLOOKUP(B63,'出力シート（主要）'!$B$20:$D$1079,2,FALSE))","v":""},{"$f":"IF(B63 = \"\", \"\",VLOOKUP(B63,'出力シート（主要）'!$B$20:$K$1079,4,FALSE))","v":""},{"$f":"IF(B63=\"\", \"\", VLOOKUP(B63,計算シート!FR:FS,2,FALSE))","v":""}]
[null,null,{"$f":"IF(B64 = \"\",\"\", VLOOKUP(B64,'出力シート（主要）'!$B$20:$D$1079,2,FALSE))","v":""},{"$f":"IF(B64 = \"\", \"\",VLOOKUP(B64,'出力シート（主要）'!$B$20:$K$1079,4,FALSE))","v":""},{"$f":"IF(B64=\"\", \"\", VLOOKUP(B64,計算シート!FR:FS,2,FALSE))","v":""}]
[null,null,{"$f":"IF(B65 = \"\",\"\", VLOOKUP(B65,'出力シート（主要）'!$B$20:$D$1079,2,FALSE))","v":""},{"$f":"IF(B65 = \"\", \"\",VLOOKUP(B65,'出力シート（主要）'!$B$20:$K$1079,4,FALSE))","v":""},{"$f":"IF(B65=\"\", \"\", VLOOKUP(B65,計算シート!FR:FS,2,FALSE))","v":""}]
[null,null,{"$f":"IF(B66 = \"\",\"\", VLOOKUP(B66,'出力シート（主要）'!$B$20:$D$1079,2,FALSE))","v":""},{"$f":"IF(B66 = \"\", \"\",VLOOKUP(B66,'出力シート（主要）'!$B$20:$K$1079,4,FALSE))","v":""},{"$f":"IF(B66=\"\", \"\", VLOOKUP(B66,計算シート!FR:FS,2,FALSE))","v":""}]
[null,null,{"$f":"IF(B67 = \"\",\"\", VLOOKUP(B67,'出力シート（主要）'!$B$20:$D$1079,2,FALSE))","v":""},{"$f":"IF(B67 = \"\", \"\",VLOOKUP(B67,'出力シート（主要）'!$B$20:$K$1079,4,FALSE))","v":""},{"$f":"IF(B67=\"\", \"\", VLOOKUP(B67,計算シート!FR:FS,2,FALSE))","v":""}]
[null,null,{"$f":"IF(B68 = \"\",\"\", VLOOKUP(B68,'出力シート（主要）'!$B$20:$D$1079,2,FALSE))","v":""},{"$f":"IF(B68 = \"\", \"\",VLOOKUP(B68,'出力シート（主要）'!$B$20:$K$1079,4,FALSE))","v":""},{"$f":"IF(B68=\"\", \"\", VLOOKUP(B68,計算シート!FR:FS,2,FALSE))","v":""}]
[null,null,{"$f":"IF(B69 = \"\",\"\", VLOOKUP(B69,'出力シート（主要）'!$B$20:$D$1079,2,FALSE))","v":""},{"$f":"IF(B69 = \"\", \"\",VLOOKUP(B69,'出力シート（主要）'!$B$20:$K$1079,4,FALSE))","v":""},{"$f":"IF(B69=\"\", \"\", VLOOKUP(B69,計算シート!FR:FS,2,FALSE))","v":""}]
[null,null,{"$f":"IF(B70 = \"\",\"\", VLOOKUP(B70,'出力シート（主要）'!$B$20:$D$1079,2,FALSE))","v":""},{"$f":"IF(B70 = \"\", \"\",VLOOKUP(B70,'出力シート（主要）'!$B$20:$K$1079,4,FALSE))","v":""},{"$f":"IF(B70=\"\", \"\", VLOOKUP(B70,計算シート!FR:FS,2,FALSE))","v":""}]
[null,null,{"$f":"IF(B71 = \"\",\"\", VLOOKUP(B71,'出力シート（主要）'!$B$20:$D$1079,2,FALSE))","v":""},{"$f":"IF(B71 = \"\", \"\",VLOOKUP(B71,'出力シート（主要）'!$B$20:$K$1079,4,FALSE))","v":""},{"$f":"IF(B71=\"\", \"\", VLOOKUP(B71,計算シート!FR:FS,2,FALSE))","v":""}]
[null,null,{"$f":"IF(B72 = \"\",\"\", VLOOKUP(B72,'出力シート（主要）'!$B$20:$D$1079,2,FALSE))","v":""},{"$f":"IF(B72 = \"\", \"\",VLOOKUP(B72,'出力シート（主要）'!$B$20:$K$1079,4,FALSE))","v":""},{"$f":"IF(B72=\"\", \"\", VLOOKUP(B72,計算シート!FR:FS,2,FALSE))","v":""}]
[null,null,{"$f":"IF(B73 = \"\",\"\", VLOOKUP(B73,'出力シート（主要）'!$B$20:$D$1079,2,FALSE))","v":""},{"$f":"IF(B73 = \"\", \"\",VLOOKUP(B73,'出力シート（主要）'!$B$20:$K$1079,4,FALSE))","v":""},{"$f":"IF(B73=\"\", \"\", VLOOKUP(B73,計算シート!FR:FS,2,FALSE))","v":""}]
[null,null,{"$f":"IF(B74 = \"\",\"\", VLOOKUP(B74,'出力シート（主要）'!$B$20:$D$1079,2,FALSE))","v":""},{"$f":"IF(B74 = \"\", \"\",VLOOKUP(B74,'出力シート（主要）'!$B$20:$K$1079,4,FALSE))","v":""},{"$f":"IF(B74=\"\", \"\", VLOOKUP(B74,計算シート!FR:FS,2,FALSE))","v":""}]
[null,null,{"$f":"IF(B75 = \"\",\"\", VLOOKUP(B75,'出力シート（主要）'!$B$20:$D$1079,2,FALSE))","v":""},{"$f":"IF(B75 = \"\", \"\",VLOOKUP(B75,'出力シート（主要）'!$B$20:$K$1079,4,FALSE))","v":""},{"$f":"IF(B75=\"\", \"\", VLOOKUP(B75,計算シート!FR:FS,2,FALSE))","v":""}]
[null,null,{"$f":"IF(B76 = \"\",\"\", VLOOKUP(B76,'出力シート（主要）'!$B$20:$D$1079,2,FALSE))","v":""},{"$f":"IF(B76 = \"\", \"\",VLOOKUP(B76,'出力シート（主要）'!$B$20:$K$1079,4,FALSE))","v":""},{"$f":"IF(B76=\"\", \"\", VLOOKUP(B76,計算シート!FR:FS,2,FALSE))","v":""}]
[null,null,{"$f":"IF(B77 = \"\",\"\", VLOOKUP(B77,'出力シート（主要）'!$B$20:$D$1079,2,FALSE))","v":""},{"$f":"IF(B77 = \"\", \"\",VLOOKUP(B77,'出力シート（主要）'!$B$20:$K$1079,4,FALSE))","v":""},{"$f":"IF(B77=\"\", \"\", VLOOKUP(B77,計算シート!FR:FS,2,FALSE))","v":""}]
[null,null,{"$f":"IF(B78 = \"\",\"\", VLOOKUP(B78,'出力シート（主要）'!$B$20:$D$1079,2,FALSE))","v":""},{"$f":"IF(B78 = \"\", \"\",VLOOKUP(B78,'出力シート（主要）'!$B$20:$K$1079,4,FALSE))","v":""},{"$f":"IF(B78=\"\", \"\", VLOOKUP(B78,計算シート!FR:FS,2,FALSE))","v":""}]
[null,null,{"$f":"IF(B79 = \"\",\"\", VLOOKUP(B79,'出力シート（主要）'!$B$20:$D$1079,2,FALSE))","v":""},{"$f":"IF(B79 = \"\", \"\",VLOOKUP(B79,'出力シート（主要）'!$B$20:$K$1079,4,FALSE))","v":""},{"$f":"IF(B79=\"\", \"\", VLOOKUP(B79,計算シート!FR:FS,2,FALSE))","v":""}]
[null,null,{"$f":"IF(B80 = \"\",\"\", VLOOKUP(B80,'出力シート（主要）'!$B$20:$D$1079,2,FALSE))","v":""},{"$f":"IF(B80 = \"\", \"\",VLOOKUP(B80,'出力シート（主要）'!$B$20:$K$1079,4,FALSE))","v":""},{"$f":"IF(B80=\"\", \"\", VLOOKUP(B80,計算シート!FR:FS,2,FALSE))","v":""}]
[null,null,{"$f":"IF(B81 = \"\",\"\", VLOOKUP(B81,'出力シート（主要）'!$B$20:$D$1079,2,FALSE))","v":""},{"$f":"IF(B81 = \"\", \"\",VLOOKUP(B81,'出力シート（主要）'!$B$20:$K$1079,4,FALSE))","v":""},{"$f":"IF(B81=\"\", \"\", VLOOKUP(B81,計算シート!FR:FS,2,FALSE))","v":""}]
[null,null,{"$f":"IF(B82 = \"\",\"\", VLOOKUP(B82,'出力シート（主要）'!$B$20:$D$1079,2,FALSE))","v":""},{"$f":"IF(B82 = \"\", \"\",VLOOKUP(B82,'出力シート（主要）'!$B$20:$K$1079,4,FALSE))","v":""},{"$f":"IF(B82=\"\", \"\", VLOOKUP(B82,計算シート!FR:FS,2,FALSE))","v":""}]
[null,null,{"$f":"IF(B83 = \"\",\"\", VLOOKUP(B83,'出力シート（主要）'!$B$20:$D$1079,2,FALSE))","v":""},{"$f":"IF(B83 = \"\", \"\",VLOOKUP(B83,'出力シート（主要）'!$B$20:$K$1079,4,FALSE))","v":""},{"$f":"IF(B83=\"\", \"\", VLOOKUP(B83,計算シート!FR:FS,2,FALSE))","v":""}]
[null,null,{"$f":"IF(B84 = \"\",\"\", VLOOKUP(B84,'出力シート（主要）'!$B$20:$D$1079,2,FALSE))","v":""},{"$f":"IF(B84 = \"\", \"\",VLOOKUP(B84,'出力シート（主要）'!$B$20:$K$1079,4,FALSE))","v":""},{"$f":"IF(B84=\"\", \"\", VLOOKUP(B84,計算シート!FR:FS,2,FALSE))","v":""}]
[null,null,{"$f":"IF(B85 = \"\",\"\", VLOOKUP(B85,'出力シート（主要）'!$B$20:$D$1079,2,FALSE))","v":""},{"$f":"IF(B85 = \"\", \"\",VLOOKUP(B85,'出力シート（主要）'!$B$20:$K$1079,4,FALSE))","v":""},{"$f":"IF(B85=\"\", \"\", VLOOKUP(B85,計算シート!FR:FS,2,FALSE))","v":""}]
[null,null,{"$f":"IF(B86 = \"\",\"\", VLOOKUP(B86,'出力シート（主要）'!$B$20:$D$1079,2,FALSE))","v":""},{"$f":"IF(B86 = \"\", \"\",VLOOKUP(B86,'出力シート（主要）'!$B$20:$K$1079,4,FALSE))","v":""},{"$f":"IF(B86=\"\", \"\", VLOOKUP(B86,計算シート!FR:FS,2,FALSE))","v":""}]
[null,null,{"$f":"IF(B87 = \"\",\"\", VLOOKUP(B87,'出力シート（主要）'!$B$20:$D$1079,2,FALSE))","v":""},{"$f":"IF(B87 = \"\", \"\",VLOOKUP(B87,'出力シート（主要）'!$B$20:$K$1079,4,FALSE))","v":""},{"$f":"IF(B87=\"\", \"\", VLOOKUP(B87,計算シート!FR:FS,2,FALSE))","v":""}]
[null,null,{"$f":"IF(B88 = \"\",\"\", VLOOKUP(B88,'出力シート（主要）'!$B$20:$D$1079,2,FALSE))","v":""},{"$f":"IF(B88 = \"\", \"\",VLOOKUP(B88,'出力シート（主要）'!$B$20:$K$1079,4,FALSE))","v":""},{"$f":"IF(B88=\"\", \"\", VLOOKUP(B88,計算シート!FR:FS,2,FALSE))","v":""}]
[null,null,{"$f":"IF(B89 = \"\",\"\", VLOOKUP(B89,'出力シート（主要）'!$B$20:$D$1079,2,FALSE))","v":""},{"$f":"IF(B89 = \"\", \"\",VLOOKUP(B89,'出力シート（主要）'!$B$20:$K$1079,4,FALSE))","v":""},{"$f":"IF(B89=\"\", \"\", VLOOKUP(B89,計算シート!FR:FS,2,FALSE))","v":""}]
[null,null,{"$f":"IF(B90 = \"\",\"\", VLOOKUP(B90,'出力シート（主要）'!$B$20:$D$1079,2,FALSE))","v":""},{"$f":"IF(B90 = \"\", \"\",VLOOKUP(B90,'出力シート（主要）'!$B$20:$K$1079,4,FALSE))","v":""},{"$f":"IF(B90=\"\", \"\", VLOOKUP(B90,計算シート!FR:FS,2,FALSE))","v":""}]
[null,null,{"$f":"IF(B91 = \"\",\"\", VLOOKUP(B91,'出力シート（主要）'!$B$20:$D$1079,2,FALSE))","v":""},{"$f":"IF(B91 = \"\", \"\",VLOOKUP(B91,'出力シート（主要）'!$B$20:$K$1079,4,FALSE))","v":""},{"$f":"IF(B91=\"\", \"\", VLOOKUP(B91,計算シート!FR:FS,2,FALSE))","v":""}]
[null,null,{"$f":"IF(B92 = \"\",\"\", VLOOKUP(B92,'出力シート（主要）'!$B$20:$D$1079,2,FALSE))","v":""},{"$f":"IF(B92 = \"\", \"\",VLOOKUP(B92,'出力シート（主要）'!$B$20:$K$1079,4,FALSE))","v":""},{"$f":"IF(B92=\"\", \"\", VLOOKUP(B92,計算シート!FR:FS,2,FALSE))","v":""}]
[null,null,{"$f":"IF(B93 = \"\",\"\", VLOOKUP(B93,'出力シート（主要）'!$B$20:$D$1079,2,FALSE))","v":""},{"$f":"IF(B93 = \"\", \"\",VLOOKUP(B93,'出力シート（主要）'!$B$20:$K$1079,4,FALSE))","v":""},{"$f":"IF(B93=\"\", \"\", VLOOKUP(B93,計算シート!FR:FS,2,FALSE))","v":""}]
[null,null,{"$f":"IF(B94 = \"\",\"\", VLOOKUP(B94,'出力シート（主要）'!$B$20:$D$1079,2,FALSE))","v":""},{"$f":"IF(B94 = \"\", \"\",VLOOKUP(B94,'出力シート（主要）'!$B$20:$K$1079,4,FALSE))","v":""},{"$f":"IF(B94=\"\", \"\", VLOOKUP(B94,計算シート!FR:FS,2,FALSE))","v":""}]
[null,null,{"$f":"IF(B95 = \"\",\"\", VLOOKUP(B95,'出力シート（主要）'!$B$20:$D$1079,2,FALSE))","v":""},{"$f":"IF(B95 = \"\", \"\",VLOOKUP(B95,'出力シート（主要）'!$B$20:$K$1079,4,FALSE))","v":""},{"$f":"IF(B95=\"\", \"\", VLOOKUP(B95,計算シート!FR:FS,2,FALSE))","v":""}]
[null,null,{"$f":"IF(B96 = \"\",\"\", VLOOKUP(B96,'出力シート（主要）'!$B$20:$D$1079,2,FALSE))","v":""},{"$f":"IF(B96 = \"\", \"\",VLOOKUP(B96,'出力シート（主要）'!$B$20:$K$1079,4,FALSE))","v":""},{"$f":"IF(B96=\"\", \"\", VLOOKUP(B96,計算シート!FR:FS,2,FALSE))","v":""}]
[null,null,{"$f":"IF(B97 = \"\",\"\", VLOOKUP(B97,'出力シート（主要）'!$B$20:$D$1079,2,FALSE))","v":""},{"$f":"IF(B97 = \"\", \"\",VLOOKUP(B97,'出力シート（主要）'!$B$20:$K$1079,4,FALSE))","v":""},{"$f":"IF(B97=\"\", \"\", VLOOKUP(B97,計算シート!FR:FS,2,FALSE))","v":""}]
[null,null,{"$f":"IF(B98 = \"\",\"\", VLOOKUP(B98,'出力シート（主要）'!$B$20:$D$1079,2,FALSE))","v":""},{"$f":"IF(B98 = \"\", \"\",VLOOKUP(B98,'出力シート（主要）'!$B$20:$K$1079,4,FALSE))","v":""},{"$f":"IF(B98=\"\", \"\", VLOOKUP(B98,計算シート!FR:FS,2,FALSE))","v":""}]
[null,null,{"$f":"IF(B99 = \"\",\"\", VLOOKUP(B99,'出力シート（主要）'!$B$20:$D$1079,2,FALSE))","v":""},{"$f":"IF(B99 = \"\", \"\",VLOOKUP(B99,'出力シート（主要）'!$B$20:$K$1079,4,FALSE))","v":""},{"$f":"IF(B99=\"\", \"\", VLOOKUP(B99,計算シート!FR:FS,2,FALSE))","v":""}]
[null,null,{"$f":"IF(B100 = \"\",\"\", VLOOKUP(B100,'出力シート（主要）'!$B$20:$D$1079,2,FALSE))","v":""},{"$f":"IF(B100 = \"\", \"\",VLOOKUP(B100,'出力シート（主要）'!$B$20:$K$1079,4,FALSE))","v":""},{"$f":"IF(B100=\"\", \"\", VLOOKUP(B100,計算シート!FR:FS,2,FALSE))","v":""}]

{"sheet":"選択肢","index":7,"n_rows":159,"n_cols":15,"rows_kept":159,"cut":false,"hidden":true,"merged":[[65,2,66,2],[73,0,75,0],[70,0,72,0],[67,0,69,0],[60,2,62,2],[40,3,41,3],[52,2,59,2],[24,2,31,2],[32,2,38,2],[1,8,2,8],[0,0,0,3],[1,2,2,2],[1,3,2,3],[1,4,1,6],[1,7,2,7]]}
["入力シートのプルダウンリスト"]
["⑥製剤の形態",null,"⑪調製時の予測式","⑫散布時の予測式","⑬防護装備",null,null,"１日平均作業面積","１日標準作業面積"]
["製剤・散布時",null,null,null,"マスク","手袋","防護服"]
["製剤: 固体／散布時: 固体",null,{"$f":"IF(入力シート!$E$11=選択肢!$A$4, C68, IF(入力シート!$E$11=選択肢!$A$5,C71,C74))","v":"フロアブル剤等"},{"$f":"IF($D$13=\"Yes\",D43,D16)","v":"液剤_水稲"},"マスク１","不浸透性手袋","長ズボン・長袖の作業衣","稲","水稲"]
["製剤: 固体／散布時: 液体",null,{"$f":"IF(入力シート!$E$11=選択肢!$A$4, C69, IF(入力シート!$E$11=選択肢!$A$5,C72,C75))","v":"乳剤等"},{"$f":"IF($D$13=\"Yes\",D44,D17)","v":"液剤_水稲_育苗箱"},"マスク２",null,"不浸透性防除衣","麦類","水稲（育苗箱）"]
["製剤: 液体／散布時: 液体",null,{"$f":"IF(入力シート!$E$11=選択肢!$A$4, C70, IF(入力シート!$E$11=選択肢!$A$5,C73,C76))","v":"調製作業による暴露なし"},"液剤_野菜（立体）",null,null,"フード＋不浸透性防除衣","その他穀類","野菜（立体）"]
[null,null,null,"液剤_野菜（平面）",null,null,"保護面＋フード＋不浸透性防除衣","いも類","野菜（平面）"]
[null,null,null,"液剤_果樹（立体）",null,null,null,"鱗茎野菜","果樹（立体）"]
[null,null,null,"液剤_果樹（棚）",null,null,null,"だいず、あずき","果樹（棚）"]
[null,null,null,"液剤_芝",null,null,null,"豆類（だいず、あずきを除く）","芝"]
[null,null,null,"散布による暴露なし",null,null,null,"うり科果菜類"]
[null,null,null,null,null,null,null,"なす科果菜類"]
[null,null,"除草剤ですか？",{"$f":"IF(計算シート!D2=1, \"Yes\", \"No\")","v":"No"},null,null,null,"葉菜類"]
[null,null,null,null,null,null,null,"根菜類"]
[null,null,null,"⑫散布時の予測式",null,null,null,"あぶらな属野菜（葉菜類、根菜類を除く）"]
[null,null,null,{"$f":"IF(入力シート!$E$11=$A$4,D33,D25)","v":"液剤_水稲"},null,null,null,"その他野菜"]
[null,null,null,{"$f":"IF(入力シート!$E$11=$A$4,D34,D26)","v":"液剤_水稲_育苗箱"},null,null,null,"かんきつ類"]
[null,null,null,{"$f":"IF(入力シート!$E$11=$A$4,D35,D27)","v":"液剤_野菜（立体）"},null,null,null,"仁果類（なしを除く）"]
[null,null,null,{"$f":"IF(入力シート!$E$11=$A$4,D36,D28)","v":"液剤_野菜（平面）"},null,null,null,"なし"]
[null,null,null,{"$f":"IF(入力シート!$E$11=$A$4,D37,D29)","v":"液剤_果樹（立体）"},null,null,null,"核果類"]
[null,null,null,{"$f":"IF(入力シート!$E$11=$A$4,D38,D30)","v":"液剤_果樹（棚）"},null,null,null,"ベリー類等の小粒果実類"]
[null,null,null,{"$f":"IF(入力シート!$E$11=$A$4,D39,D31)","v":"液剤_芝"},null,null,null,"その他果樹"]
[null,null,null,{"$f":"IF(IF(入力シート!$E$11=$A$4,D40,D32)=0, \"\", IF(入力シート!$E$11=$A$4,D40,D32))","v":"散布による暴露なし"},null,null,null,"樹木類"]
[null,null,"殺虫剤・殺菌剤の場合",null,null,null,null,"芝"]
[null,null,"散布時（液）選択のとき\n（製剤の形態　→　製剤: 固体／散布時: 液体 or 製剤: 液体／散布時: 液体）","液剤_水稲"]
[null,null,null,"液剤_水稲_育苗箱"]
[null,null,null,"液剤_野菜（立体）"]
[null,null,null,"液剤_野菜（平面）"]
[null,null,null,"液剤_果樹（立体）"]
[null,null,null,"液剤_果樹（棚）"]
[null,null,null,"液剤_芝"]
[null,null,null,"散布による暴露なし"]
[null,null,"散布時（固）選択のとき\n（製剤の形態　→　製剤: 固体／散布時: 固体）","固形剤（粉剤）_水稲"]
[null,null,null,"固形剤（粉粒剤）_水稲"]
[null,null,null,"固形剤（粒剤）_水稲"]
[null,null,null,"固形剤（粒剤）_水稲_育苗箱"]
[null,null,null,"固形剤（粉剤）_畑作物"]
[null,null,null,"固形剤（粒剤）_畑作物"]
[null,null,null,"散布による暴露なし"]
[]
[null,null,null,"⑫散布時の予測式"]
[]
[null,null,null,{"$f":"IF(入力シート!$E$11=$A$4,D61,D53)","v":"液剤_水稲"}]
[null,null,null,{"$f":"IF(入力シート!$E$11=$A$4,D62,D54)","v":"液剤_野菜（平面）"}]
[null,null,null,{"$f":"IF(入力シート!$E$11=$A$4,D63,D55)","v":"液剤_芝"}]
[null,null,null,{"$f":"IF(IF(入力シート!$E$11=$A$4,D64,D56)=0, \"\", IF(入力シート!$E$11=$A$4,D64,D56))","v":"散布による暴露なし"}]
[null,null,null,{"$f":"IF(IF(入力シート!$E$11=$A$4,D65,D57)=0, \"\", IF(入力シート!$E$11=$A$4,D65,D57))","v":""}]
[null,null,null,{"$f":"IF(IF(入力シート!$E$11=$A$4,D66,D58)=0, \"\", IF(入力シート!$E$11=$A$4,D66,D58))","v":""}]
[null,null,null,{"$f":"IF(IF(入力シート!$E$11=$A$4,D67,D59)=0, \"\", IF(入力シート!$E$11=$A$4,D67,D59))","v":""}]
[null,null,null,{"$f":"IF(IF(入力シート!$E$11=$A$4,D68,D60)=0, \"\", IF(入力シート!$E$11=$A$4,D68,D60))","v":""}]
[]
[null,null,"除草剤の場合"]
[null,null,"散布時（液）選択のとき\n（製剤の形態　→　製剤: 固体／散布時: 液体 or 製剤: 液体／散布時: 液体）","液剤_水稲"]
[null,null,null,"液剤_野菜（平面）"]
[null,null,null,"液剤_芝"]
[null,null,null,"散布による暴露なし"]
[]
[]
[]
[]
[null,null,"散布時（固）選択のとき\n（製剤の形態　→　製剤: 固体／散布時: 固体）","固形剤（粒剤）_水稲"]
[null,null,null,"固形剤（粒剤）_畑作物"]
[null,null,null,"散布による暴露なし"]
[]
[]
[null,null,"⑪調製時の予測式"]
[]
["製剤: 固体／散布時: 固体",null,"固形剤（粉剤、微粒剤、粒剤等）"]
[null,null,"調製作業による暴露なし"]
[null,null,{"$f":"\"\"","v":""}]
["製剤: 固体／散布時: 液体",null,"顆粒水和剤等"]
[null,null,"水和剤等"]
[null,null,"調製作業による暴露なし"]
[" 製剤: 液体／散布時: 液体",null,"フロアブル剤等"]
[null,null,"乳剤等"]
[null,null,"調製作業による暴露なし"]
[]
[]
["以下は、エラーが出る組み合わせ"]
[]
[]
["製剤: 固体／散布時: 固体",null,null,"液剤_水稲",null,null,null,null,null,{"$f":"$A$82&D82","v":"製剤: 固体／散布時: 固体液剤_水稲"},null,null,1]
[null,null,null,"液剤_水稲_育苗箱",null,null,null,null,null,{"$f":"$A$82&D83","v":"製剤: 固体／散布時: 固体液剤_水稲_育苗箱"},null,null,1]
[null,null,null,"液剤_野菜（立体）",null,null,null,null,null,"製剤: 固体／散布時: 固体液剤_野菜（立体）",null,null,1]
[null,null,null,"液剤_野菜（平面）",null,null,null,null,null,"製剤: 固体／散布時: 固体液剤_野菜（平面）",null,null,1]
[null,null,null,"液剤_果樹（立体）",null,null,null,null,null,"製剤: 固体／散布時: 固体液剤_果樹（立体）",null,null,1]
[null,null,null,"液剤_果樹（棚）",null,null,null,null,null,"製剤: 固体／散布時: 固体液剤_果樹（棚）",null,null,1]
[null,null,null,"液剤_芝",null,null,null,null,null,"製剤: 固体／散布時: 固体液剤_芝",null,null,1]
["製剤: 固体／散布時: 液体",null,null,"固形剤（粉剤）_水稲",null,null,null,null,null,{"$f":"$A$89&D89","v":"製剤: 固体／散布時: 液体固形剤（粉剤）_水稲"},null,null,1]
[null,null,null,"固形剤（粉粒剤）_水稲",null,null,null,null,null,{"$f":"$A$89&D90","v":"製剤: 固体／散布時: 液体固形剤（粉粒剤）_水稲"},null,null,1]
[null,null,null,"固形剤（粒剤）_水稲",null,null,null,null,null,"製剤: 固体／散布時: 液体固形剤（粒剤）_水稲",null,null,1]
[null,null,null,"固形剤（粒剤）_水稲_育苗箱",null,null,null,null,null,"製剤: 固体／散布時: 液体固形剤（粒剤）_水稲_育苗箱",null,null,1]
[null,null,null,"固形剤（粉剤）_畑作物",null,null,null,null,null,"製剤: 固体／散布時: 液体固形剤（粉剤）_畑作物",null,null,1]
[null,null,null,"固形剤（粒剤）_畑作物",null,null,null,null,null,"製剤: 固体／散布時: 液体固形剤（粒剤）_畑作物",null,null,1]
["製剤: 液体／散布時: 液体",null,null,"固形剤（粉剤）_水稲",null,null,null,null,null,{"$f":"$A$95&D95","v":"製剤: 液体／散布時: 液体固形剤（粉剤）_水稲"},null,null,1]
[null,null,null,"固形剤（粉粒剤）_水稲",null,null,null,null,null,{"$f":"$A$95&D96","v":"製剤: 液体／散布時: 液体固形剤（粉粒剤）_水稲"},null,null,1]
[null,null,null,"固形剤（粒剤）_水稲",null,null,null,null,null,"製剤: 液体／散布時: 液体固形剤（粒剤）_水稲",null,null,1]
[null,null,null,"固形剤（粒剤）_水稲_育苗箱",null,null,null,null,null,"製剤: 液体／散布時: 液体固形剤（粒剤）_水稲_育苗箱",null,null,1]
[null,null,null,"固形剤（粉剤）_畑作物",null,null,null,null,null,"製剤: 液体／散布時: 液体固形剤（粉剤）_畑作物",null,null,1]
[null,null,null,"固形剤（粒剤）_畑作物",null,null,null,null,null,"製剤: 液体／散布時: 液体固形剤（粒剤）_畑作物",null,null,1]
[]
["製剤: 固体／散布時: 固体",null,"顆粒水和剤等",null,null,null,null,null,null,null,{"$f":"A102&C102","v":"製剤: 固体／散布時: 固体顆粒水和剤等"},null,1]
["製剤: 固体／散布時: 固体",null,"水和剤等",null,null,null,null,null,null,null,"製剤: 固体／散布時: 固体水和剤等",null,1]
["製剤: 固体／散布時: 固体",null,"フロアブル剤等",null,null,null,null,null,null,null,"製剤: 固体／散布時: 固体フロアブル剤等",null,1]
["製剤: 固体／散布時: 固体",null,"乳剤等",null,null,null,null,null,null,null,"製剤: 固体／散布時: 固体乳剤等",null,1]
["製剤: 固体／散布時: 固体",null,null,null,null,null,null,null,null,null,"製剤: 固体／散布時: 固体",null,1]
["製剤: 固体／散布時: 液体",null,"固形剤（粉剤、微粒剤、粒剤等）",null,null,null,null,null,null,null,"製剤: 固体／散布時: 液体固形剤（粉剤、微粒剤、粒剤等）",null,1]
["製剤: 固体／散布時: 液体",null,"フロアブル剤等",null,null,null,null,null,null,null,"製剤: 固体／散布時: 液体フロアブル剤等",null,1]
["製剤: 固体／散布時: 液体",null,"乳剤等",null,null,null,null,null,null,null,"製剤: 固体／散布時: 液体乳剤等",null,1]
["製剤: 固体／散布時: 液体",null,null,null,null,null,null,null,null,null,"製剤: 固体／散布時: 液体",null,1]
["製剤: 液体／散布時: 液体",null,"固形剤（粉剤、微粒剤、粒剤等）",null,null,null,null,null,null,null,"製剤: 液体／散布時: 液体固形剤（粉剤、微粒剤、粒剤等）",null,1]
["製剤: 液体／散布時: 液体",null,"顆粒水和剤等",null,null,null,null,null,null,null,"製剤: 液体／散布時: 液体顆粒水和剤等",null,1]
["製剤: 液体／散布時: 液体",null,"水和剤等",null,null,null,null,null,null,null,"製剤: 液体／散布時: 液体水和剤等",null,1]
["製剤: 液体／散布時: 液体",null,null,null,null,null,null,null,null,null,"製剤: 液体／散布時: 液体",null,1]
[]
[null,null,"固形剤（粉剤、微粒剤、粒剤等）","液剤_水稲",null,null,null,null,null,null,null,{"$f":"C116&D116","v":"固形剤（粉剤、微粒剤、粒剤等）液剤_水稲"},1]
[null,null,"固形剤（粉剤、微粒剤、粒剤等）","液剤_水稲_育苗箱",null,null,null,null,null,null,null,{"$f":"C117&D117","v":"固形剤（粉剤、微粒剤、粒剤等）液剤_水稲_育苗箱"},1]
[null,null,"固形剤（粉剤、微粒剤、粒剤等）","液剤_野菜（立体）",null,null,null,null,null,null,null,"固形剤（粉剤、微粒剤、粒剤等）液剤_野菜（立体）",1]
[null,null,"固形剤（粉剤、微粒剤、粒剤等）","液剤_野菜（平面）",null,null,null,null,null,null,null,"固形剤（粉剤、微粒剤、粒剤等）液剤_野菜（平面）",1]
[null,null,"固形剤（粉剤、微粒剤、粒剤等）","液剤_果樹（立体）",null,null,null,null,null,null,null,"固形剤（粉剤、微粒剤、粒剤等）液剤_果樹（立体）",1]
[null,null,"固形剤（粉剤、微粒剤、粒剤等）","液剤_果樹（棚）",null,null,null,null,null,null,null,"固形剤（粉剤、微粒剤、粒剤等）液剤_果樹（棚）",1]
[null,null,"固形剤（粉剤、微粒剤、粒剤等）","液剤_芝",null,null,null,null,null,null,null,"固形剤（粉剤、微粒剤、粒剤等）液剤_芝",1]
[null,null,"顆粒水和剤等","固形剤（粉剤）_水稲",null,null,null,null,null,null,null,"顆粒水和剤等固形剤（粉剤）_水稲",1]
[null,null,"顆粒水和剤等","固形剤（粉粒剤）_水稲",null,null,null,null,null,null,null,"顆粒水和剤等固形剤（粉粒剤）_水稲",1]
[null,null,"顆粒水和剤等","固形剤（粒剤）_水稲",null,null,null,null,null,null,null,"顆粒水和剤等固形剤（粒剤）_水稲",1]
[null,null,"顆粒水和剤等","固形剤（粒剤）_水稲_育苗箱",null,null,null,null,null,null,null,"顆粒水和剤等固形剤（粒剤）_水稲_育苗箱",1]
[null,null,"顆粒水和剤等","固形剤（粉剤）_畑作物",null,null,null,null,null,null,null,"顆粒水和剤等固形剤（粉剤）_畑作物",1]
[null,null,"顆粒水和剤等","固形剤（粒剤）_畑作物",null,null,null,null,null,null,null,"顆粒水和剤等固形剤（粒剤）_畑作物",1]
[null,null,"水和剤等","固形剤（粉剤）_水稲",null,null,null,null,null,null,null,"水和剤等固形剤（粉剤）_水稲",1]
[null,null,"水和剤等","固形剤（粉粒剤）_水稲",null,null,null,null,null,null,null,"水和剤等固形剤（粉粒剤）_水稲",1]
[null,null,"水和剤等","固形剤（粒剤）_水稲",null,null,null,null,null,null,null,"水和剤等固形剤（粒剤）_水稲",1]
[null,null,"水和剤等","固形剤（粒剤）_水稲_育苗箱",null,null,null,null,null,null,null,"水和剤等固形剤（粒剤）_水稲_育苗箱",1]
[null,null,"水和剤等","固形剤（粉剤）_畑作物",null,null,null,null,null,null,null,"水和剤等固形剤（粉剤）_畑作物",1]
[null,null,"水和剤等","固形剤（粒剤）_畑作物",null,null,null,null,null,null,null,"水和剤等固形剤（粒剤）_畑作物",1]
[null,null,"フロアブル剤等","固形剤（粉剤）_水稲",null,null,null,null,null,null,null,"フロアブル剤等固形剤（粉剤）_水稲",1]
[null,null,"フロアブル剤等","固形剤（粉粒剤）_水稲",null,null,null,null,null,null,null,"フロアブル剤等固形剤（粉粒剤）_水稲",1]
[null,null,"フロアブル剤等","固形剤（粒剤）_水稲",null,null,null,null,null,null,null,"フロアブル剤等固形剤（粒剤）_水稲",1]
[null,null,"フロアブル剤等","固形剤（粒剤）_水稲_育苗箱",null,null,null,null,null,null,null,"フロアブル剤等固形剤（粒剤）_水稲_育苗箱",1]
[null,null,"フロアブル剤等","固形剤（粉剤）_畑作物",null,null,null,null,null,null,null,"フロアブル剤等固形剤（粉剤）_畑作物",1]
[null,null,"フロアブル剤等","固形剤（粒剤）_畑作物",null,null,null,null,null,null,null,"フロアブル剤等固形剤（粒剤）_畑作物",1]
[null,null,"乳剤等","固形剤（粉剤）_水稲",null,null,null,null,null,null,null,"乳剤等固形剤（粉剤）_水稲",1]
[null,null,"乳剤等","固形剤（粉粒剤）_水稲",null,null,null,null,null,null,null,"乳剤等固形剤（粉粒剤）_水稲",1]
[null,null,"乳剤等","固形剤（粒剤）_水稲",null,null,null,null,null,null,null,"乳剤等固形剤（粒剤）_水稲",1]
[null,null,"乳剤等","固形剤（粒剤）_水稲_育苗箱",null,null,null,null,null,null,null,"乳剤等固形剤（粒剤）_水稲_育苗箱",1]
[null,null,"乳剤等","固形剤（粉剤）_畑作物",null,null,null,null,null,null,null,"乳剤等固形剤（粉剤）_畑作物",1]
[null,null,"乳剤等","固形剤（粒剤）_畑作物",null,null,null,null,null,null,null,"乳剤等固形剤（粒剤）_畑作物",1]
[null,null,"固形剤（粉剤、微粒剤、粒剤等）",null,null,null,null,null,null,null,null,{"$f":"C147&D147","v":"固形剤（粉剤、微粒剤、粒剤等）"},1]
[null,null,"顆粒水和剤等",null,null,null,null,null,null,null,null,"顆粒水和剤等",1]
[null,null,"水和剤等",null,null,null,null,null,null,null,null,"水和剤等",1]
[null,null,"フロアブル剤等",null,null,null,null,null,null,null,null,"フロアブル剤等",1]
[null,null,"乳剤等",null,null,null,null,null,null,null,null,"乳剤等",1]
[null,null,"調製作業による暴露なし",null,null,null,null,null,null,null,null,"調製作業による暴露なし",1]
[]
[null,null,null,null,null,null,"保護面＋フード＋不浸透性防除衣","マスク１",null,null,null,null,null,{"$f":"E154&G154&H154","v":"保護面＋フード＋不浸透性防除衣マスク１"},"保護面とマスクを同時に選択することはできません"]
[null,null,null,null,null,null,"保護面＋フード＋不浸透性防除衣","マスク２",null,null,null,null,null,{"$f":"E155&G155&H155","v":"保護面＋フード＋不浸透性防除衣マスク２"},"保護面とマスクを同時に選択することはできません"]
[null,null,null,null,"マスク１",null,"保護面＋フード＋不浸透性防除衣","マスク１",null,null,null,null,null,{"$f":"E156&G156&H156","v":"マスク１保護面＋フード＋不浸透性防除衣マスク１"},"保護面とマスクを同時に選択することはできません"]
[null,null,null,null,"マスク１",null,"保護面＋フード＋不浸透性防除衣","マスク２",null,null,null,null,null,"マスク１保護面＋フード＋不浸透性防除衣マスク２","保護面とマスクを同時に選択することはできません"]
[null,null,null,null,"マスク２",null,"保護面＋フード＋不浸透性防除衣","マスク１",null,null,null,null,null,"マスク２保護面＋フード＋不浸透性防除衣マスク１","保護面とマスクを同時に選択することはできません"]
[null,null,null,null,"マスク２",null,"保護面＋フード＋不浸透性防除衣","マスク２",null,null,null,null,null,"マスク２保護面＋フード＋不浸透性防除衣マスク２","保護面とマスクを同時に選択することはできません"]

{"sheet":"補助1","index":8,"n_rows":122,"n_cols":11,"rows_kept":122,"cut":false,"hidden":false,"merged":[[0,1,0,3],[2,7,2,10],[2,1,3,1],[2,2,3,2],[2,3,3,3],[2,4,3,4],[1,3,1,10],[2,5,2,6]]}
[null,"【補助シート１】農薬使用者暴露量の試験成績を用いる場合"]
[null,null,null,"※それぞれの部位について、デフォルト値に代えて入力した単位暴露量を用いて計算が行われる。"]
[null,"使用\n番号","作物名","使用方法","手散布\n機械散布\n育苗箱","調製時\n単位暴露量（µg ai/g ai使用量）",null,"散布時\n単位暴露量（µg ai/g ai使用量）"]
[null,null,null,null,null,"手","吸気","頭","その他身体","手","吸気"]
[{"$f":"B5+1000000","v":1000000},null,{"$f":"IF(B5=\"\",\"\",VLOOKUP(B5,計算シート!$B$20:$D$300,2,FALSE))","v":""},{"$f":"IF(B5=\"\",\"\",VLOOKUP(B5,'出力シート（主要）'!$B$20:$K$1079,4,FALSE))","v":""},{"$f":"IF(B5=\"\", \"\", VLOOKUP(B5, 計算シート!FR:FS, 2, FALSE))","v":""}]
[null,null,{"$f":"IF(B6=\"\",\"\",VLOOKUP(B6,計算シート!$B$20:$D$300,2,FALSE))","v":""},{"$f":"IF(B6=\"\",\"\",VLOOKUP(B6,'出力シート（主要）'!$B$20:$K$1079,4,FALSE))","v":""},{"$f":"IF(B6=\"\", \"\", VLOOKUP(B6, 計算シート!FR:FS, 2, FALSE))","v":""}]
[null,null,{"$f":"IF(B7=\"\",\"\",VLOOKUP(B7,計算シート!$B$20:$D$300,2,FALSE))","v":""},{"$f":"IF(B7=\"\",\"\",VLOOKUP(B7,'出力シート（主要）'!$B$20:$K$1079,4,FALSE))","v":""},{"$f":"IF(B7=\"\", \"\", VLOOKUP(B7, 計算シート!FR:FS, 2, FALSE))","v":""}]
[null,null,{"$f":"IF(B8=\"\",\"\",VLOOKUP(B8,計算シート!$B$20:$D$300,2,FALSE))","v":""},{"$f":"IF(B8=\"\",\"\",VLOOKUP(B8,'出力シート（主要）'!$B$20:$K$1079,4,FALSE))","v":""},{"$f":"IF(B8=\"\", \"\", VLOOKUP(B8, 計算シート!FR:FS, 2, FALSE))","v":""}]
[null,null,{"$f":"IF(B9=\"\",\"\",VLOOKUP(B9,計算シート!$B$20:$D$300,2,FALSE))","v":""},{"$f":"IF(B9=\"\",\"\",VLOOKUP(B9,'出力シート（主要）'!$B$20:$K$1079,4,FALSE))","v":""},{"$f":"IF(B9=\"\", \"\", VLOOKUP(B9, 計算シート!FR:FS, 2, FALSE))","v":""}]
[null,null,{"$f":"IF(B10=\"\",\"\",VLOOKUP(B10,計算シート!$B$20:$D$300,2,FALSE))","v":""},{"$f":"IF(B10=\"\",\"\",VLOOKUP(B10,'出力シート（主要）'!$B$20:$K$1079,4,FALSE))","v":""},{"$f":"IF(B10=\"\", \"\", VLOOKUP(B10, 計算シート!FR:FS, 2, FALSE))","v":""}]
[null,null,{"$f":"IF(B11=\"\",\"\",VLOOKUP(B11,計算シート!$B$20:$D$300,2,FALSE))","v":""},{"$f":"IF(B11=\"\",\"\",VLOOKUP(B11,'出力シート（主要）'!$B$20:$K$1079,4,FALSE))","v":""},{"$f":"IF(B11=\"\", \"\", VLOOKUP(B11, 計算シート!FR:FS, 2, FALSE))","v":""}]
[null,null,{"$f":"IF(B12=\"\",\"\",VLOOKUP(B12,計算シート!$B$20:$D$300,2,FALSE))","v":""},{"$f":"IF(B12=\"\",\"\",VLOOKUP(B12,'出力シート（主要）'!$B$20:$K$1079,4,FALSE))","v":""},{"$f":"IF(B12=\"\", \"\", VLOOKUP(B12, 計算シート!FR:FS, 2, FALSE))","v":""}]
[null,null,{"$f":"IF(B13=\"\",\"\",VLOOKUP(B13,計算シート!$B$20:$D$300,2,FALSE))","v":""},{"$f":"IF(B13=\"\",\"\",VLOOKUP(B13,'出力シート（主要）'!$B$20:$K$1079,4,FALSE))","v":""},{"$f":"IF(B13=\"\", \"\", VLOOKUP(B13, 計算シート!FR:FS, 2, FALSE))","v":""}]
[null,null,{"$f":"IF(B14=\"\",\"\",VLOOKUP(B14,計算シート!$B$20:$D$300,2,FALSE))","v":""},{"$f":"IF(B14=\"\",\"\",VLOOKUP(B14,'出力シート（主要）'!$B$20:$K$1079,4,FALSE))","v":""},{"$f":"IF(B14=\"\", \"\", VLOOKUP(B14, 計算シート!FR:FS, 2, FALSE))","v":""}]
[null,null,{"$f":"IF(B15=\"\",\"\",VLOOKUP(B15,計算シート!$B$20:$D$300,2,FALSE))","v":""},{"$f":"IF(B15=\"\",\"\",VLOOKUP(B15,'出力シート（主要）'!$B$20:$K$1079,4,FALSE))","v":""},{"$f":"IF(B15=\"\", \"\", VLOOKUP(B15, 計算シート!FR:FS, 2, FALSE))","v":""}]
[null,null,{"$f":"IF(B16=\"\",\"\",VLOOKUP(B16,計算シート!$B$20:$D$300,2,FALSE))","v":""},{"$f":"IF(B16=\"\",\"\",VLOOKUP(B16,'出力シート（主要）'!$B$20:$K$1079,4,FALSE))","v":""},{"$f":"IF(B16=\"\", \"\", VLOOKUP(B16, 計算シート!FR:FS, 2, FALSE))","v":""}]
[null,null,{"$f":"IF(B17=\"\",\"\",VLOOKUP(B17,計算シート!$B$20:$D$300,2,FALSE))","v":""},{"$f":"IF(B17=\"\",\"\",VLOOKUP(B17,'出力シート（主要）'!$B$20:$K$1079,4,FALSE))","v":""},{"$f":"IF(B17=\"\", \"\", VLOOKUP(B17, 計算シート!FR:FS, 2, FALSE))","v":""}]
[null,null,{"$f":"IF(B18=\"\",\"\",VLOOKUP(B18,計算シート!$B$20:$D$300,2,FALSE))","v":""},{"$f":"IF(B18=\"\",\"\",VLOOKUP(B18,'出力シート（主要）'!$B$20:$K$1079,4,FALSE))","v":""},{"$f":"IF(B18=\"\", \"\", VLOOKUP(B18, 計算シート!FR:FS, 2, FALSE))","v":""}]
[null,null,{"$f":"IF(B19=\"\",\"\",VLOOKUP(B19,計算シート!$B$20:$D$300,2,FALSE))","v":""},{"$f":"IF(B19=\"\",\"\",VLOOKUP(B19,'出力シート（主要）'!$B$20:$K$1079,4,FALSE))","v":""},{"$f":"IF(B19=\"\", \"\", VLOOKUP(B19, 計算シート!FR:FS, 2, FALSE))","v":""}]
[null,null,{"$f":"IF(B20=\"\",\"\",VLOOKUP(B20,計算シート!$B$20:$D$300,2,FALSE))","v":""},{"$f":"IF(B20=\"\",\"\",VLOOKUP(B20,'出力シート（主要）'!$B$20:$K$1079,4,FALSE))","v":""},{"$f":"IF(B20=\"\", \"\", VLOOKUP(B20, 計算シート!FR:FS, 2, FALSE))","v":""}]
[null,null,{"$f":"IF(B21=\"\",\"\",VLOOKUP(B21,計算シート!$B$20:$D$300,2,FALSE))","v":""},{"$f":"IF(B21=\"\",\"\",VLOOKUP(B21,'出力シート（主要）'!$B$20:$K$1079,4,FALSE))","v":""},{"$f":"IF(B21=\"\", \"\", VLOOKUP(B21, 計算シート!FR:FS, 2, FALSE))","v":""}]
[null,null,{"$f":"IF(B22=\"\",\"\",VLOOKUP(B22,計算シート!$B$20:$D$300,2,FALSE))","v":""},{"$f":"IF(B22=\"\",\"\",VLOOKUP(B22,'出力シート（主要）'!$B$20:$K$1079,4,FALSE))","v":""},{"$f":"IF(B22=\"\", \"\", VLOOKUP(B22, 計算シート!FR:FS, 2, FALSE))","v":""}]
[null,null,{"$f":"IF(B23=\"\",\"\",VLOOKUP(B23,計算シート!$B$20:$D$300,2,FALSE))","v":""},{"$f":"IF(B23=\"\",\"\",VLOOKUP(B23,'出力シート（主要）'!$B$20:$K$1079,4,FALSE))","v":""},{"$f":"IF(B23=\"\", \"\", VLOOKUP(B23, 計算シート!FR:FS, 2, FALSE))","v":""}]
[null,null,{"$f":"IF(B24=\"\",\"\",VLOOKUP(B24,計算シート!$B$20:$D$300,2,FALSE))","v":""},{"$f":"IF(B24=\"\",\"\",VLOOKUP(B24,'出力シート（主要）'!$B$20:$K$1079,4,FALSE))","v":""},{"$f":"IF(B24=\"\", \"\", VLOOKUP(B24, 計算シート!FR:FS, 2, FALSE))","v":""}]
[null,null,{"$f":"IF(B25=\"\",\"\",VLOOKUP(B25,計算シート!$B$20:$D$300,2,FALSE))","v":""},{"$f":"IF(B25=\"\",\"\",VLOOKUP(B25,'出力シート（主要）'!$B$20:$K$1079,4,FALSE))","v":""},{"$f":"IF(B25=\"\", \"\", VLOOKUP(B25, 計算シート!FR:FS, 2, FALSE))","v":""}]
[null,null,{"$f":"IF(B26=\"\",\"\",VLOOKUP(B26,計算シート!$B$20:$D$300,2,FALSE))","v":""},{"$f":"IF(B26=\"\",\"\",VLOOKUP(B26,'出力シート（主要）'!$B$20:$K$1079,4,FALSE))","v":""},{"$f":"IF(B26=\"\", \"\", VLOOKUP(B26, 計算シート!FR:FS, 2, FALSE))","v":""}]
[null,null,{"$f":"IF(B27=\"\",\"\",VLOOKUP(B27,計算シート!$B$20:$D$300,2,FALSE))","v":""},{"$f":"IF(B27=\"\",\"\",VLOOKUP(B27,'出力シート（主要）'!$B$20:$K$1079,4,FALSE))","v":""},{"$f":"IF(B27=\"\", \"\", VLOOKUP(B27, 計算シート!FR:FS, 2, FALSE))","v":""}]
[null,null,{"$f":"IF(B28=\"\",\"\",VLOOKUP(B28,計算シート!$B$20:$D$300,2,FALSE))","v":""},{"$f":"IF(B28=\"\",\"\",VLOOKUP(B28,'出力シート（主要）'!$B$20:$K$1079,4,FALSE))","v":""},{"$f":"IF(B28=\"\", \"\", VLOOKUP(B28, 計算シート!FR:FS, 2, FALSE))","v":""}]
[null,null,{"$f":"IF(B29=\"\",\"\",VLOOKUP(B29,計算シート!$B$20:$D$300,2,FALSE))","v":""},{"$f":"IF(B29=\"\",\"\",VLOOKUP(B29,'出力シート（主要）'!$B$20:$K$1079,4,FALSE))","v":""},{"$f":"IF(B29=\"\", \"\", VLOOKUP(B29, 計算シート!FR:FS, 2, FALSE))","v":""}]
[null,null,{"$f":"IF(B30=\"\",\"\",VLOOKUP(B30,計算シート!$B$20:$D$300,2,FALSE))","v":""},{"$f":"IF(B30=\"\",\"\",VLOOKUP(B30,'出力シート（主要）'!$B$20:$K$1079,4,FALSE))","v":""},{"$f":"IF(B30=\"\", \"\", VLOOKUP(B30, 計算シート!FR:FS, 2, FALSE))","v":""}]
[null,null,{"$f":"IF(B31=\"\",\"\",VLOOKUP(B31,計算シート!$B$20:$D$300,2,FALSE))","v":""},{"$f":"IF(B31=\"\",\"\",VLOOKUP(B31,'出力シート（主要）'!$B$20:$K$1079,4,FALSE))","v":""},{"$f":"IF(B31=\"\", \"\", VLOOKUP(B31, 計算シート!FR:FS, 2, FALSE))","v":""}]
[null,null,{"$f":"IF(B32=\"\",\"\",VLOOKUP(B32,計算シート!$B$20:$D$300,2,FALSE))","v":""},{"$f":"IF(B32=\"\",\"\",VLOOKUP(B32,'出力シート（主要）'!$B$20:$K$1079,4,FALSE))","v":""},{"$f":"IF(B32=\"\", \"\", VLOOKUP(B32, 計算シート!FR:FS, 2, FALSE))","v":""}]
[null,null,{"$f":"IF(B33=\"\",\"\",VLOOKUP(B33,計算シート!$B$20:$D$300,2,FALSE))","v":""},{"$f":"IF(B33=\"\",\"\",VLOOKUP(B33,'出力シート（主要）'!$B$20:$K$1079,4,FALSE))","v":""},{"$f":"IF(B33=\"\", \"\", VLOOKUP(B33, 計算シート!FR:FS, 2, FALSE))","v":""}]
[null,null,{"$f":"IF(B34=\"\",\"\",VLOOKUP(B34,計算シート!$B$20:$D$300,2,FALSE))","v":""},{"$f":"IF(B34=\"\",\"\",VLOOKUP(B34,'出力シート（主要）'!$B$20:$K$1079,4,FALSE))","v":""},{"$f":"IF(B34=\"\", \"\", VLOOKUP(B34, 計算シート!FR:FS, 2, FALSE))","v":""}]
[null,null,{"$f":"IF(B35=\"\",\"\",VLOOKUP(B35,計算シート!$B$20:$D$300,2,FALSE))","v":""},{"$f":"IF(B35=\"\",\"\",VLOOKUP(B35,'出力シート（主要）'!$B$20:$K$1079,4,FALSE))","v":""},{"$f":"IF(B35=\"\", \"\", VLOOKUP(B35, 計算シート!FR:FS, 2, FALSE))","v":""}]
[null,null,{"$f":"IF(B36=\"\",\"\",VLOOKUP(B36,計算シート!$B$20:$D$300,2,FALSE))","v":""},{"$f":"IF(B36=\"\",\"\",VLOOKUP(B36,'出力シート（主要）'!$B$20:$K$1079,4,FALSE))","v":""},{"$f":"IF(B36=\"\", \"\", VLOOKUP(B36, 計算シート!FR:FS, 2, FALSE))","v":""}]
[null,null,{"$f":"IF(B37=\"\",\"\",VLOOKUP(B37,計算シート!$B$20:$D$300,2,FALSE))","v":""},{"$f":"IF(B37=\"\",\"\",VLOOKUP(B37,'出力シート（主要）'!$B$20:$K$1079,4,FALSE))","v":""},{"$f":"IF(B37=\"\", \"\", VLOOKUP(B37, 計算シート!FR:FS, 2, FALSE))","v":""}]
[null,null,{"$f":"IF(B38=\"\",\"\",VLOOKUP(B38,計算シート!$B$20:$D$300,2,FALSE))","v":""},{"$f":"IF(B38=\"\",\"\",VLOOKUP(B38,'出力シート（主要）'!$B$20:$K$1079,4,FALSE))","v":""},{"$f":"IF(B38=\"\", \"\", VLOOKUP(B38, 計算シート!FR:FS, 2, FALSE))","v":""}]
[null,null,{"$f":"IF(B39=\"\",\"\",VLOOKUP(B39,計算シート!$B$20:$D$300,2,FALSE))","v":""},{"$f":"IF(B39=\"\",\"\",VLOOKUP(B39,'出力シート（主要）'!$B$20:$K$1079,4,FALSE))","v":""},{"$f":"IF(B39=\"\", \"\", VLOOKUP(B39, 計算シート!FR:FS, 2, FALSE))","v":""}]
[null,null,{"$f":"IF(B40=\"\",\"\",VLOOKUP(B40,計算シート!$B$20:$D$300,2,FALSE))","v":""},{"$f":"IF(B40=\"\",\"\",VLOOKUP(B40,'出力シート（主要）'!$B$20:$K$1079,4,FALSE))","v":""},{"$f":"IF(B40=\"\", \"\", VLOOKUP(B40, 計算シート!FR:FS, 2, FALSE))","v":""}]
[null,null,{"$f":"IF(B41=\"\",\"\",VLOOKUP(B41,計算シート!$B$20:$D$300,2,FALSE))","v":""},{"$f":"IF(B41=\"\",\"\",VLOOKUP(B41,'出力シート（主要）'!$B$20:$K$1079,4,FALSE))","v":""},{"$f":"IF(B41=\"\", \"\", VLOOKUP(B41, 計算シート!FR:FS, 2, FALSE))","v":""}]
[null,null,{"$f":"IF(B42=\"\",\"\",VLOOKUP(B42,計算シート!$B$20:$D$300,2,FALSE))","v":""},{"$f":"IF(B42=\"\",\"\",VLOOKUP(B42,'出力シート（主要）'!$B$20:$K$1079,4,FALSE))","v":""},{"$f":"IF(B42=\"\", \"\", VLOOKUP(B42, 計算シート!FR:FS, 2, FALSE))","v":""}]
[null,null,{"$f":"IF(B43=\"\",\"\",VLOOKUP(B43,計算シート!$B$20:$D$300,2,FALSE))","v":""},{"$f":"IF(B43=\"\",\"\",VLOOKUP(B43,'出力シート（主要）'!$B$20:$K$1079,4,FALSE))","v":""},{"$f":"IF(B43=\"\", \"\", VLOOKUP(B43, 計算シート!FR:FS, 2, FALSE))","v":""}]
[null,null,{"$f":"IF(B44=\"\",\"\",VLOOKUP(B44,計算シート!$B$20:$D$300,2,FALSE))","v":""},{"$f":"IF(B44=\"\",\"\",VLOOKUP(B44,'出力シート（主要）'!$B$20:$K$1079,4,FALSE))","v":""},{"$f":"IF(B44=\"\", \"\", VLOOKUP(B44, 計算シート!FR:FS, 2, FALSE))","v":""}]
[null,null,{"$f":"IF(B45=\"\",\"\",VLOOKUP(B45,計算シート!$B$20:$D$300,2,FALSE))","v":""},{"$f":"IF(B45=\"\",\"\",VLOOKUP(B45,'出力シート（主要）'!$B$20:$K$1079,4,FALSE))","v":""},{"$f":"IF(B45=\"\", \"\", VLOOKUP(B45, 計算シート!FR:FS, 2, FALSE))","v":""}]
[null,null,{"$f":"IF(B46=\"\",\"\",VLOOKUP(B46,計算シート!$B$20:$D$300,2,FALSE))","v":""},{"$f":"IF(B46=\"\",\"\",VLOOKUP(B46,'出力シート（主要）'!$B$20:$K$1079,4,FALSE))","v":""},{"$f":"IF(B46=\"\", \"\", VLOOKUP(B46, 計算シート!FR:FS, 2, FALSE))","v":""}]
[null,null,{"$f":"IF(B47=\"\",\"\",VLOOKUP(B47,計算シート!$B$20:$D$300,2,FALSE))","v":""},{"$f":"IF(B47=\"\",\"\",VLOOKUP(B47,'出力シート（主要）'!$B$20:$K$1079,4,FALSE))","v":""},{"$f":"IF(B47=\"\", \"\", VLOOKUP(B47, 計算シート!FR:FS, 2, FALSE))","v":""}]
[null,null,{"$f":"IF(B48=\"\",\"\",VLOOKUP(B48,計算シート!$B$20:$D$300,2,FALSE))","v":""},{"$f":"IF(B48=\"\",\"\",VLOOKUP(B48,'出力シート（主要）'!$B$20:$K$1079,4,FALSE))","v":""},{"$f":"IF(B48=\"\", \"\", VLOOKUP(B48, 計算シート!FR:FS, 2, FALSE))","v":""}]
[null,null,{"$f":"IF(B49=\"\",\"\",VLOOKUP(B49,計算シート!$B$20:$D$300,2,FALSE))","v":""},{"$f":"IF(B49=\"\",\"\",VLOOKUP(B49,'出力シート（主要）'!$B$20:$K$1079,4,FALSE))","v":""},{"$f":"IF(B49=\"\", \"\", VLOOKUP(B49, 計算シート!FR:FS, 2, FALSE))","v":""}]
[null,null,{"$f":"IF(B50=\"\",\"\",VLOOKUP(B50,計算シート!$B$20:$D$300,2,FALSE))","v":""},{"$f":"IF(B50=\"\",\"\",VLOOKUP(B50,'出力シート（主要）'!$B$20:$K$1079,4,FALSE))","v":""},{"$f":"IF(B50=\"\", \"\", VLOOKUP(B50, 計算シート!FR:FS, 2, FALSE))","v":""}]
[null,null,{"$f":"IF(B51=\"\",\"\",VLOOKUP(B51,計算シート!$B$20:$D$300,2,FALSE))","v":""},{"$f":"IF(B51=\"\",\"\",VLOOKUP(B51,'出力シート（主要）'!$B$20:$K$1079,4,FALSE))","v":""},{"$f":"IF(B51=\"\", \"\", VLOOKUP(B51, 計算シート!FR:FS, 2, FALSE))","v":""}]
[null,null,{"$f":"IF(B52=\"\",\"\",VLOOKUP(B52,計算シート!$B$20:$D$300,2,FALSE))","v":""},{"$f":"IF(B52=\"\",\"\",VLOOKUP(B52,'出力シート（主要）'!$B$20:$K$1079,4,FALSE))","v":""},{"$f":"IF(B52=\"\", \"\", VLOOKUP(B52, 計算シート!FR:FS, 2, FALSE))","v":""}]
[null,null,{"$f":"IF(B53=\"\",\"\",VLOOKUP(B53,計算シート!$B$20:$D$300,2,FALSE))","v":""},{"$f":"IF(B53=\"\",\"\",VLOOKUP(B53,'出力シート（主要）'!$B$20:$K$1079,4,FALSE))","v":""},{"$f":"IF(B53=\"\", \"\", VLOOKUP(B53, 計算シート!FR:FS, 2, FALSE))","v":""}]
[null,null,{"$f":"IF(B54=\"\",\"\",VLOOKUP(B54,計算シート!$B$20:$D$300,2,FALSE))","v":""},{"$f":"IF(B54=\"\",\"\",VLOOKUP(B54,'出力シート（主要）'!$B$20:$K$1079,4,FALSE))","v":""},{"$f":"IF(B54=\"\", \"\", VLOOKUP(B54, 計算シート!FR:FS, 2, FALSE))","v":""}]
[null,null,{"$f":"IF(B55=\"\",\"\",VLOOKUP(B55,計算シート!$B$20:$D$300,2,FALSE))","v":""},{"$f":"IF(B55=\"\",\"\",VLOOKUP(B55,'出力シート（主要）'!$B$20:$K$1079,4,FALSE))","v":""},{"$f":"IF(B55=\"\", \"\", VLOOKUP(B55, 計算シート!FR:FS, 2, FALSE))","v":""}]
[null,null,{"$f":"IF(B56=\"\",\"\",VLOOKUP(B56,計算シート!$B$20:$D$300,2,FALSE))","v":""},{"$f":"IF(B56=\"\",\"\",VLOOKUP(B56,'出力シート（主要）'!$B$20:$K$1079,4,FALSE))","v":""},{"$f":"IF(B56=\"\", \"\", VLOOKUP(B56, 計算シート!FR:FS, 2, FALSE))","v":""}]
[null,null,{"$f":"IF(B57=\"\",\"\",VLOOKUP(B57,計算シート!$B$20:$D$300,2,FALSE))","v":""},{"$f":"IF(B57=\"\",\"\",VLOOKUP(B57,'出力シート（主要）'!$B$20:$K$1079,4,FALSE))","v":""},{"$f":"IF(B57=\"\", \"\", VLOOKUP(B57, 計算シート!FR:FS, 2, FALSE))","v":""}]
[null,null,{"$f":"IF(B58=\"\",\"\",VLOOKUP(B58,計算シート!$B$20:$D$300,2,FALSE))","v":""},{"$f":"IF(B58=\"\",\"\",VLOOKUP(B58,'出力シート（主要）'!$B$20:$K$1079,4,FALSE))","v":""},{"$f":"IF(B58=\"\", \"\", VLOOKUP(B58, 計算シート!FR:FS, 2, FALSE))","v":""}]
[null,null,{"$f":"IF(B59=\"\",\"\",VLOOKUP(B59,計算シート!$B$20:$D$300,2,FALSE))","v":""},{"$f":"IF(B59=\"\",\"\",VLOOKUP(B59,'出力シート（主要）'!$B$20:$K$1079,4,FALSE))","v":""},{"$f":"IF(B59=\"\", \"\", VLOOKUP(B59, 計算シート!FR:FS, 2, FALSE))","v":""}]
[null,null,{"$f":"IF(B60=\"\",\"\",VLOOKUP(B60,計算シート!$B$20:$D$300,2,FALSE))","v":""},{"$f":"IF(B60=\"\",\"\",VLOOKUP(B60,'出力シート（主要）'!$B$20:$K$1079,4,FALSE))","v":""},{"$f":"IF(B60=\"\", \"\", VLOOKUP(B60, 計算シート!FR:FS, 2, FALSE))","v":""}]
[null,null,{"$f":"IF(B61=\"\",\"\",VLOOKUP(B61,計算シート!$B$20:$D$300,2,FALSE))","v":""},{"$f":"IF(B61=\"\",\"\",VLOOKUP(B61,'出力シート（主要）'!$B$20:$K$1079,4,FALSE))","v":""},{"$f":"IF(B61=\"\", \"\", VLOOKUP(B61, 計算シート!FR:FS, 2, FALSE))","v":""}]
[null,null,{"$f":"IF(B62=\"\",\"\",VLOOKUP(B62,計算シート!$B$20:$D$300,2,FALSE))","v":""},{"$f":"IF(B62=\"\",\"\",VLOOKUP(B62,'出力シート（主要）'!$B$20:$K$1079,4,FALSE))","v":""},{"$f":"IF(B62=\"\", \"\", VLOOKUP(B62, 計算シート!FR:FS, 2, FALSE))","v":""}]
[null,null,{"$f":"IF(B63=\"\",\"\",VLOOKUP(B63,計算シート!$B$20:$D$300,2,FALSE))","v":""},{"$f":"IF(B63=\"\",\"\",VLOOKUP(B63,'出力シート（主要）'!$B$20:$K$1079,4,FALSE))","v":""},{"$f":"IF(B63=\"\", \"\", VLOOKUP(B63, 計算シート!FR:FS, 2, FALSE))","v":""}]
[null,null,{"$f":"IF(B64=\"\",\"\",VLOOKUP(B64,計算シート!$B$20:$D$300,2,FALSE))","v":""},{"$f":"IF(B64=\"\",\"\",VLOOKUP(B64,'出力シート（主要）'!$B$20:$K$1079,4,FALSE))","v":""},{"$f":"IF(B64=\"\", \"\", VLOOKUP(B64, 計算シート!FR:FS, 2, FALSE))","v":""}]
[null,null,{"$f":"IF(B65=\"\",\"\",VLOOKUP(B65,計算シート!$B$20:$D$300,2,FALSE))","v":""},{"$f":"IF(B65=\"\",\"\",VLOOKUP(B65,'出力シート（主要）'!$B$20:$K$1079,4,FALSE))","v":""},{"$f":"IF(B65=\"\", \"\", VLOOKUP(B65, 計算シート!FR:FS, 2, FALSE))","v":""}]
[null,null,{"$f":"IF(B66=\"\",\"\",VLOOKUP(B66,計算シート!$B$20:$D$300,2,FALSE))","v":""},{"$f":"IF(B66=\"\",\"\",VLOOKUP(B66,'出力シート（主要）'!$B$20:$K$1079,4,FALSE))","v":""},{"$f":"IF(B66=\"\", \"\", VLOOKUP(B66, 計算シート!FR:FS, 2, FALSE))","v":""}]
[null,null,{"$f":"IF(B67=\"\",\"\",VLOOKUP(B67,計算シート!$B$20:$D$300,2,FALSE))","v":""},{"$f":"IF(B67=\"\",\"\",VLOOKUP(B67,'出力シート（主要）'!$B$20:$K$1079,4,FALSE))","v":""},{"$f":"IF(B67=\"\", \"\", VLOOKUP(B67, 計算シート!FR:FS, 2, FALSE))","v":""}]
[null,null,{"$f":"IF(B68=\"\",\"\",VLOOKUP(B68,計算シート!$B$20:$D$300,2,FALSE))","v":""},{"$f":"IF(B68=\"\",\"\",VLOOKUP(B68,'出力シート（主要）'!$B$20:$K$1079,4,FALSE))","v":""},{"$f":"IF(B68=\"\", \"\", VLOOKUP(B68, 計算シート!FR:FS, 2, FALSE))","v":""}]
[null,null,{"$f":"IF(B69=\"\",\"\",VLOOKUP(B69,計算シート!$B$20:$D$300,2,FALSE))","v":""},{"$f":"IF(B69=\"\",\"\",VLOOKUP(B69,'出力シート（主要）'!$B$20:$K$1079,4,FALSE))","v":""},{"$f":"IF(B69=\"\", \"\", VLOOKUP(B69, 計算シート!FR:FS, 2, FALSE))","v":""}]
[null,null,{"$f":"IF(B70=\"\",\"\",VLOOKUP(B70,計算シート!$B$20:$D$300,2,FALSE))","v":""},{"$f":"IF(B70=\"\",\"\",VLOOKUP(B70,'出力シート（主要）'!$B$20:$K$1079,4,FALSE))","v":""},{"$f":"IF(B70=\"\", \"\", VLOOKUP(B70, 計算シート!FR:FS, 2, FALSE))","v":""}]
[null,null,{"$f":"IF(B71=\"\",\"\",VLOOKUP(B71,計算シート!$B$20:$D$300,2,FALSE))","v":""},{"$f":"IF(B71=\"\",\"\",VLOOKUP(B71,'出力シート（主要）'!$B$20:$K$1079,4,FALSE))","v":""},{"$f":"IF(B71=\"\", \"\", VLOOKUP(B71, 計算シート!FR:FS, 2, FALSE))","v":""}]
[null,null,{"$f":"IF(B72=\"\",\"\",VLOOKUP(B72,計算シート!$B$20:$D$300,2,FALSE))","v":""},{"$f":"IF(B72=\"\",\"\",VLOOKUP(B72,'出力シート（主要）'!$B$20:$K$1079,4,FALSE))","v":""},{"$f":"IF(B72=\"\", \"\", VLOOKUP(B72, 計算シート!FR:FS, 2, FALSE))","v":""}]
[null,null,{"$f":"IF(B73=\"\",\"\",VLOOKUP(B73,計算シート!$B$20:$D$300,2,FALSE))","v":""},{"$f":"IF(B73=\"\",\"\",VLOOKUP(B73,'出力シート（主要）'!$B$20:$K$1079,4,FALSE))","v":""},{"$f":"IF(B73=\"\", \"\", VLOOKUP(B73, 計算シート!FR:FS, 2, FALSE))","v":""}]
[null,null,{"$f":"IF(B74=\"\",\"\",VLOOKUP(B74,計算シート!$B$20:$D$300,2,FALSE))","v":""},{"$f":"IF(B74=\"\",\"\",VLOOKUP(B74,'出力シート（主要）'!$B$20:$K$1079,4,FALSE))","v":""},{"$f":"IF(B74=\"\", \"\", VLOOKUP(B74, 計算シート!FR:FS, 2, FALSE))","v":""}]
[null,null,{"$f":"IF(B75=\"\",\"\",VLOOKUP(B75,計算シート!$B$20:$D$300,2,FALSE))","v":""},{"$f":"IF(B75=\"\",\"\",VLOOKUP(B75,'出力シート（主要）'!$B$20:$K$1079,4,FALSE))","v":""},{"$f":"IF(B75=\"\", \"\", VLOOKUP(B75, 計算シート!FR:FS, 2, FALSE))","v":""}]
[null,null,{"$f":"IF(B76=\"\",\"\",VLOOKUP(B76,計算シート!$B$20:$D$300,2,FALSE))","v":""},{"$f":"IF(B76=\"\",\"\",VLOOKUP(B76,'出力シート（主要）'!$B$20:$K$1079,4,FALSE))","v":""},{"$f":"IF(B76=\"\", \"\", VLOOKUP(B76, 計算シート!FR:FS, 2, FALSE))","v":""}]
[null,null,{"$f":"IF(B77=\"\",\"\",VLOOKUP(B77,計算シート!$B$20:$D$300,2,FALSE))","v":""},{"$f":"IF(B77=\"\",\"\",VLOOKUP(B77,'出力シート（主要）'!$B$20:$K$1079,4,FALSE))","v":""},{"$f":"IF(B77=\"\", \"\", VLOOKUP(B77, 計算シート!FR:FS, 2, FALSE))","v":""}]
[null,null,{"$f":"IF(B78=\"\",\"\",VLOOKUP(B78,計算シート!$B$20:$D$300,2,FALSE))","v":""},{"$f":"IF(B78=\"\",\"\",VLOOKUP(B78,'出力シート（主要）'!$B$20:$K$1079,4,FALSE))","v":""},{"$f":"IF(B78=\"\", \"\", VLOOKUP(B78, 計算シート!FR:FS, 2, FALSE))","v":""}]
[null,null,{"$f":"IF(B79=\"\",\"\",VLOOKUP(B79,計算シート!$B$20:$D$300,2,FALSE))","v":""},{"$f":"IF(B79=\"\",\"\",VLOOKUP(B79,'出力シート（主要）'!$B$20:$K$1079,4,FALSE))","v":""},{"$f":"IF(B79=\"\", \"\", VLOOKUP(B79, 計算シート!FR:FS, 2, FALSE))","v":""}]
[null,null,{"$f":"IF(B80=\"\",\"\",VLOOKUP(B80,計算シート!$B$20:$D$300,2,FALSE))","v":""},{"$f":"IF(B80=\"\",\"\",VLOOKUP(B80,'出力シート（主要）'!$B$20:$K$1079,4,FALSE))","v":""},{"$f":"IF(B80=\"\", \"\", VLOOKUP(B80, 計算シート!FR:FS, 2, FALSE))","v":""}]
[null,null,{"$f":"IF(B81=\"\",\"\",VLOOKUP(B81,計算シート!$B$20:$D$300,2,FALSE))","v":""},{"$f":"IF(B81=\"\",\"\",VLOOKUP(B81,'出力シート（主要）'!$B$20:$K$1079,4,FALSE))","v":""},{"$f":"IF(B81=\"\", \"\", VLOOKUP(B81, 計算シート!FR:FS, 2, FALSE))","v":""}]
[null,null,{"$f":"IF(B82=\"\",\"\",VLOOKUP(B82,計算シート!$B$20:$D$300,2,FALSE))","v":""},{"$f":"IF(B82=\"\",\"\",VLOOKUP(B82,'出力シート（主要）'!$B$20:$K$1079,4,FALSE))","v":""},{"$f":"IF(B82=\"\", \"\", VLOOKUP(B82, 計算シート!FR:FS, 2, FALSE))","v":""}]
[null,null,{"$f":"IF(B83=\"\",\"\",VLOOKUP(B83,計算シート!$B$20:$D$300,2,FALSE))","v":""},{"$f":"IF(B83=\"\",\"\",VLOOKUP(B83,'出力シート（主要）'!$B$20:$K$1079,4,FALSE))","v":""},{"$f":"IF(B83=\"\", \"\", VLOOKUP(B83, 計算シート!FR:FS, 2, FALSE))","v":""}]
[null,null,{"$f":"IF(B84=\"\",\"\",VLOOKUP(B84,計算シート!$B$20:$D$300,2,FALSE))","v":""},{"$f":"IF(B84=\"\",\"\",VLOOKUP(B84,'出力シート（主要）'!$B$20:$K$1079,4,FALSE))","v":""},{"$f":"IF(B84=\"\", \"\", VLOOKUP(B84, 計算シート!FR:FS, 2, FALSE))","v":""}]
[null,null,{"$f":"IF(B85=\"\",\"\",VLOOKUP(B85,計算シート!$B$20:$D$300,2,FALSE))","v":""},{"$f":"IF(B85=\"\",\"\",VLOOKUP(B85,'出力シート（主要）'!$B$20:$K$1079,4,FALSE))","v":""},{"$f":"IF(B85=\"\", \"\", VLOOKUP(B85, 計算シート!FR:FS, 2, FALSE))","v":""}]
[null,null,{"$f":"IF(B86=\"\",\"\",VLOOKUP(B86,計算シート!$B$20:$D$300,2,FALSE))","v":""},{"$f":"IF(B86=\"\",\"\",VLOOKUP(B86,'出力シート（主要）'!$B$20:$K$1079,4,FALSE))","v":""},{"$f":"IF(B86=\"\", \"\", VLOOKUP(B86, 計算シート!FR:FS, 2, FALSE))","v":""}]
[null,null,{"$f":"IF(B87=\"\",\"\",VLOOKUP(B87,計算シート!$B$20:$D$300,2,FALSE))","v":""},{"$f":"IF(B87=\"\",\"\",VLOOKUP(B87,'出力シート（主要）'!$B$20:$K$1079,4,FALSE))","v":""},{"$f":"IF(B87=\"\", \"\", VLOOKUP(B87, 計算シート!FR:FS, 2, FALSE))","v":""}]
[null,null,{"$f":"IF(B88=\"\",\"\",VLOOKUP(B88,計算シート!$B$20:$D$300,2,FALSE))","v":""},{"$f":"IF(B88=\"\",\"\",VLOOKUP(B88,'出力シート（主要）'!$B$20:$K$1079,4,FALSE))","v":""},{"$f":"IF(B88=\"\", \"\", VLOOKUP(B88, 計算シート!FR:FS, 2, FALSE))","v":""}]
[null,null,{"$f":"IF(B89=\"\",\"\",VLOOKUP(B89,計算シート!$B$20:$D$300,2,FALSE))","v":""},{"$f":"IF(B89=\"\",\"\",VLOOKUP(B89,'出力シート（主要）'!$B$20:$K$1079,4,FALSE))","v":""},{"$f":"IF(B89=\"\", \"\", VLOOKUP(B89, 計算シート!FR:FS, 2, FALSE))","v":""}]
[null,null,{"$f":"IF(B90=\"\",\"\",VLOOKUP(B90,計算シート!$B$20:$D$300,2,FALSE))","v":""},{"$f":"IF(B90=\"\",\"\",VLOOKUP(B90,'出力シート（主要）'!$B$20:$K$1079,4,FALSE))","v":""},{"$f":"IF(B90=\"\", \"\", VLOOKUP(B90, 計算シート!FR:FS, 2, FALSE))","v":""}]
[null,null,{"$f":"IF(B91=\"\",\"\",VLOOKUP(B91,計算シート!$B$20:$D$300,2,FALSE))","v":""},{"$f":"IF(B91=\"\",\"\",VLOOKUP(B91,'出力シート（主要）'!$B$20:$K$1079,4,FALSE))","v":""},{"$f":"IF(B91=\"\", \"\", VLOOKUP(B91, 計算シート!FR:FS, 2, FALSE))","v":""}]
[null,null,{"$f":"IF(B92=\"\",\"\",VLOOKUP(B92,計算シート!$B$20:$D$300,2,FALSE))","v":""},{"$f":"IF(B92=\"\",\"\",VLOOKUP(B92,'出力シート（主要）'!$B$20:$K$1079,4,FALSE))","v":""},{"$f":"IF(B92=\"\", \"\", VLOOKUP(B92, 計算シート!FR:FS, 2, FALSE))","v":""}]
[null,null,{"$f":"IF(B93=\"\",\"\",VLOOKUP(B93,計算シート!$B$20:$D$300,2,FALSE))","v":""},{"$f":"IF(B93=\"\",\"\",VLOOKUP(B93,'出力シート（主要）'!$B$20:$K$1079,4,FALSE))","v":""},{"$f":"IF(B93=\"\", \"\", VLOOKUP(B93, 計算シート!FR:FS, 2, FALSE))","v":""}]
[null,null,{"$f":"IF(B94=\"\",\"\",VLOOKUP(B94,計算シート!$B$20:$D$300,2,FALSE))","v":""},{"$f":"IF(B94=\"\",\"\",VLOOKUP(B94,'出力シート（主要）'!$B$20:$K$1079,4,FALSE))","v":""},{"$f":"IF(B94=\"\", \"\", VLOOKUP(B94, 計算シート!FR:FS, 2, FALSE))","v":""}]
[null,null,{"$f":"IF(B95=\"\",\"\",VLOOKUP(B95,計算シート!$B$20:$D$300,2,FALSE))","v":""},{"$f":"IF(B95=\"\",\"\",VLOOKUP(B95,'出力シート（主要）'!$B$20:$K$1079,4,FALSE))","v":""},{"$f":"IF(B95=\"\", \"\", VLOOKUP(B95, 計算シート!FR:FS, 2, FALSE))","v":""}]
[null,null,{"$f":"IF(B96=\"\",\"\",VLOOKUP(B96,計算シート!$B$20:$D$300,2,FALSE))","v":""},{"$f":"IF(B96=\"\",\"\",VLOOKUP(B96,'出力シート（主要）'!$B$20:$K$1079,4,FALSE))","v":""},{"$f":"IF(B96=\"\", \"\", VLOOKUP(B96, 計算シート!FR:FS, 2, FALSE))","v":""}]
[null,null,{"$f":"IF(B97=\"\",\"\",VLOOKUP(B97,計算シート!$B$20:$D$300,2,FALSE))","v":""},{"$f":"IF(B97=\"\",\"\",VLOOKUP(B97,'出力シート（主要）'!$B$20:$K$1079,4,FALSE))","v":""},{"$f":"IF(B97=\"\", \"\", VLOOKUP(B97, 計算シート!FR:FS, 2, FALSE))","v":""}]
[null,null,{"$f":"IF(B98=\"\",\"\",VLOOKUP(B98,計算シート!$B$20:$D$300,2,FALSE))","v":""},{"$f":"IF(B98=\"\",\"\",VLOOKUP(B98,'出力シート（主要）'!$B$20:$K$1079,4,FALSE))","v":""},{"$f":"IF(B98=\"\", \"\", VLOOKUP(B98, 計算シート!FR:FS, 2, FALSE))","v":""}]
[null,null,{"$f":"IF(B99=\"\",\"\",VLOOKUP(B99,計算シート!$B$20:$D$300,2,FALSE))","v":""},{"$f":"IF(B99=\"\",\"\",VLOOKUP(B99,'出力シート（主要）'!$B$20:$K$1079,4,FALSE))","v":""},{"$f":"IF(B99=\"\", \"\", VLOOKUP(B99, 計算シート!FR:FS, 2, FALSE))","v":""}]
[null,null,{"$f":"IF(B100=\"\",\"\",VLOOKUP(B100,計算シート!$B$20:$D$300,2,FALSE))","v":""},{"$f":"IF(B100=\"\",\"\",VLOOKUP(B100,'出力シート（主要）'!$B$20:$K$1079,4,FALSE))","v":""},{"$f":"IF(B100=\"\", \"\", VLOOKUP(B100, 計算シート!FR:FS, 2, FALSE))","v":""}]
[null,null,{"$f":"IF(B101=\"\",\"\",VLOOKUP(B101,計算シート!$B$20:$D$300,2,FALSE))","v":""},{"$f":"IF(B101=\"\",\"\",VLOOKUP(B101,'出力シート（主要）'!$B$20:$K$1079,4,FALSE))","v":""},{"$f":"IF(B101=\"\", \"\", VLOOKUP(B101, 計算シート!FR:FS, 2, FALSE))","v":""}]
[null,null,{"$f":"IF(B102=\"\",\"\",VLOOKUP(B102,計算シート!$B$20:$D$300,2,FALSE))","v":""},{"$f":"IF(B102=\"\",\"\",VLOOKUP(B102,'出力シート（主要）'!$B$20:$K$1079,4,FALSE))","v":""},{"$f":"IF(B102=\"\", \"\", VLOOKUP(B102, 計算シート!FR:FS, 2, FALSE))","v":""}]
[null,null,{"$f":"IF(B103=\"\",\"\",VLOOKUP(B103,計算シート!$B$20:$D$300,2,FALSE))","v":""},{"$f":"IF(B103=\"\",\"\",VLOOKUP(B103,'出力シート（主要）'!$B$20:$K$1079,4,FALSE))","v":""},{"$f":"IF(B103=\"\", \"\", VLOOKUP(B103, 計算シート!FR:FS, 2, FALSE))","v":""}]
[null,null,{"$f":"IF(B104=\"\",\"\",VLOOKUP(B104,計算シート!$B$20:$D$300,2,FALSE))","v":""},{"$f":"IF(B104=\"\",\"\",VLOOKUP(B104,'出力シート（主要）'!$B$20:$K$1079,4,FALSE))","v":""},{"$f":"IF(B104=\"\", \"\", VLOOKUP(B104, 計算シート!FR:FS, 2, FALSE))","v":""}]
[null,null,{"$f":"IF(B105=\"\",\"\",VLOOKUP(B105,計算シート!$B$20:$D$300,2,FALSE))","v":""},{"$f":"IF(B105=\"\",\"\",VLOOKUP(B105,'出力シート（主要）'!$B$20:$K$1079,4,FALSE))","v":""},{"$f":"IF(B105=\"\", \"\", VLOOKUP(B105, 計算シート!FR:FS, 2, FALSE))","v":""}]
[null,null,{"$f":"IF(B106=\"\",\"\",VLOOKUP(B106,計算シート!$B$20:$D$300,2,FALSE))","v":""},{"$f":"IF(B106=\"\",\"\",VLOOKUP(B106,'出力シート（主要）'!$B$20:$K$1079,4,FALSE))","v":""},{"$f":"IF(B106=\"\", \"\", VLOOKUP(B106, 計算シート!FR:FS, 2, FALSE))","v":""}]
[null,null,{"$f":"IF(B107=\"\",\"\",VLOOKUP(B107,計算シート!$B$20:$D$300,2,FALSE))","v":""},{"$f":"IF(B107=\"\",\"\",VLOOKUP(B107,'出力シート（主要）'!$B$20:$K$1079,4,FALSE))","v":""},{"$f":"IF(B107=\"\", \"\", VLOOKUP(B107, 計算シート!FR:FS, 2, FALSE))","v":""}]
[null,null,{"$f":"IF(B108=\"\",\"\",VLOOKUP(B108,計算シート!$B$20:$D$300,2,FALSE))","v":""},{"$f":"IF(B108=\"\",\"\",VLOOKUP(B108,'出力シート（主要）'!$B$20:$K$1079,4,FALSE))","v":""},{"$f":"IF(B108=\"\", \"\", VLOOKUP(B108, 計算シート!FR:FS, 2, FALSE))","v":""}]
[null,null,{"$f":"IF(B109=\"\",\"\",VLOOKUP(B109,計算シート!$B$20:$D$300,2,FALSE))","v":""},{"$f":"IF(B109=\"\",\"\",VLOOKUP(B109,'出力シート（主要）'!$B$20:$K$1079,4,FALSE))","v":""},{"$f":"IF(B109=\"\", \"\", VLOOKUP(B109, 計算シート!FR:FS, 2, FALSE))","v":""}]
[null,null,{"$f":"IF(B110=\"\",\"\",VLOOKUP(B110,計算シート!$B$20:$D$300,2,FALSE))","v":""},{"$f":"IF(B110=\"\",\"\",VLOOKUP(B110,'出力シート（主要）'!$B$20:$K$1079,4,FALSE))","v":""},{"$f":"IF(B110=\"\", \"\", VLOOKUP(B110, 計算シート!FR:FS, 2, FALSE))","v":""}]
[null,null,{"$f":"IF(B111=\"\",\"\",VLOOKUP(B111,計算シート!$B$20:$D$300,2,FALSE))","v":""},{"$f":"IF(B111=\"\",\"\",VLOOKUP(B111,'出力シート（主要）'!$B$20:$K$1079,4,FALSE))","v":""},{"$f":"IF(B111=\"\", \"\", VLOOKUP(B111, 計算シート!FR:FS, 2, FALSE))","v":""}]
[null,null,{"$f":"IF(B112=\"\",\"\",VLOOKUP(B112,計算シート!$B$20:$D$300,2,FALSE))","v":""},{"$f":"IF(B112=\"\",\"\",VLOOKUP(B112,'出力シート（主要）'!$B$20:$K$1079,4,FALSE))","v":""},{"$f":"IF(B112=\"\", \"\", VLOOKUP(B112, 計算シート!FR:FS, 2, FALSE))","v":""}]
[null,null,{"$f":"IF(B113=\"\",\"\",VLOOKUP(B113,計算シート!$B$20:$D$300,2,FALSE))","v":""},{"$f":"IF(B113=\"\",\"\",VLOOKUP(B113,'出力シート（主要）'!$B$20:$K$1079,4,FALSE))","v":""},{"$f":"IF(B113=\"\", \"\", VLOOKUP(B113, 計算シート!FR:FS, 2, FALSE))","v":""}]
[null,null,{"$f":"IF(B114=\"\",\"\",VLOOKUP(B114,計算シート!$B$20:$D$300,2,FALSE))","v":""},{"$f":"IF(B114=\"\",\"\",VLOOKUP(B114,'出力シート（主要）'!$B$20:$K$1079,4,FALSE))","v":""},{"$f":"IF(B114=\"\", \"\", VLOOKUP(B114, 計算シート!FR:FS, 2, FALSE))","v":""}]
[null,null,{"$f":"IF(B115=\"\",\"\",VLOOKUP(B115,計算シート!$B$20:$D$300,2,FALSE))","v":""},{"$f":"IF(B115=\"\",\"\",VLOOKUP(B115,'出力シート（主要）'!$B$20:$K$1079,4,FALSE))","v":""},{"$f":"IF(B115=\"\", \"\", VLOOKUP(B115, 計算シート!FR:FS, 2, FALSE))","v":""}]
[null,null,{"$f":"IF(B116=\"\",\"\",VLOOKUP(B116,計算シート!$B$20:$D$300,2,FALSE))","v":""},{"$f":"IF(B116=\"\",\"\",VLOOKUP(B116,'出力シート（主要）'!$B$20:$K$1079,4,FALSE))","v":""},{"$f":"IF(B116=\"\", \"\", VLOOKUP(B116, 計算シート!FR:FS, 2, FALSE))","v":""}]
[null,null,{"$f":"IF(B117=\"\",\"\",VLOOKUP(B117,計算シート!$B$20:$D$300,2,FALSE))","v":""},{"$f":"IF(B117=\"\",\"\",VLOOKUP(B117,'出力シート（主要）'!$B$20:$K$1079,4,FALSE))","v":""},{"$f":"IF(B117=\"\", \"\", VLOOKUP(B117, 計算シート!FR:FS, 2, FALSE))","v":""}]
[null,null,{"$f":"IF(B118=\"\",\"\",VLOOKUP(B118,計算シート!$B$20:$D$300,2,FALSE))","v":""},{"$f":"IF(B118=\"\",\"\",VLOOKUP(B118,'出力シート（主要）'!$B$20:$K$1079,4,FALSE))","v":""},{"$f":"IF(B118=\"\", \"\", VLOOKUP(B118, 計算シート!FR:FS, 2, FALSE))","v":""}]
[null,null,{"$f":"IF(B119=\"\",\"\",VLOOKUP(B119,計算シート!$B$20:$D$300,2,FALSE))","v":""},{"$f":"IF(B119=\"\",\"\",VLOOKUP(B119,'出力シート（主要）'!$B$20:$K$1079,4,FALSE))","v":""},{"$f":"IF(B119=\"\", \"\", VLOOKUP(B119, 計算シート!FR:FS, 2, FALSE))","v":""}]
[null,null,{"$f":"IF(B120=\"\",\"\",VLOOKUP(B120,計算シート!$B$20:$D$300,2,FALSE))","v":""},{"$f":"IF(B120=\"\",\"\",VLOOKUP(B120,'出力シート（主要）'!$B$20:$K$1079,4,FALSE))","v":""},{"$f":"IF(B120=\"\", \"\", VLOOKUP(B120, 計算シート!FR:FS, 2, FALSE))","v":""}]
[null,null,{"$f":"IF(B121=\"\",\"\",VLOOKUP(B121,計算シート!$B$20:$D$300,2,FALSE))","v":""},{"$f":"IF(B121=\"\",\"\",VLOOKUP(B121,'出力シート（主要）'!$B$20:$K$1079,4,FALSE))","v":""},{"$f":"IF(B121=\"\", \"\", VLOOKUP(B121, 計算シート!FR:FS, 2, FALSE))","v":""}]
[null,null,{"$f":"IF(B122=\"\",\"\",VLOOKUP(B122,計算シート!$B$20:$D$300,2,FALSE))","v":""},{"$f":"IF(B122=\"\",\"\",VLOOKUP(B122,'出力シート（主要）'!$B$20:$K$1079,4,FALSE))","v":""},{"$f":"IF(B122=\"\", \"\", VLOOKUP(B122, 計算シート!FR:FS, 2, FALSE))","v":""}]

{"sheet":"補助2","index":9,"n_rows":100,"n_cols":6,"rows_kept":100,"cut":false,"hidden":false,"merged":[[0,1,0,3],[1,3,1,5]]}
[null,"【補助シート２】任意の面積を計算に用いる場合"]
[null,null,null,"※入力した面積は、規定の面積に代えて、１日平均作業面積及び１日標準作業面積に利用される。"]
[null,"使用\n番号","作物名","使用方法","手散布\n機械散布\n育苗箱","面積（a）"]
[null,null,{"$f":"IF(B4 = \"\",\"\", VLOOKUP(B4,'出力シート（主要）'!$B$20:$D$1079,2,FALSE))","v":""},{"$f":"IF(B4 = \"\", \"\",VLOOKUP(B4,'出力シート（主要）'!$B$20:$K$1079,4,FALSE))","v":""},{"$f":"IF(B4=\"\", \"\", VLOOKUP(B4,計算シート!FR:FS,2,FALSE))","v":""}]
[null,null,{"$f":"IF(B5 = \"\",\"\", VLOOKUP(B5,'出力シート（主要）'!$B$20:$D$1079,2,FALSE))","v":""},{"$f":"IF(B5 = \"\", \"\",VLOOKUP(B5,'出力シート（主要）'!$B$20:$K$1079,4,FALSE))","v":""},{"$f":"IF(B5=\"\", \"\", VLOOKUP(B5,計算シート!FR:FS,2,FALSE))","v":""}]
[null,null,{"$f":"IF(B6 = \"\",\"\", VLOOKUP(B6,'出力シート（主要）'!$B$20:$D$1079,2,FALSE))","v":""},{"$f":"IF(B6 = \"\", \"\",VLOOKUP(B6,'出力シート（主要）'!$B$20:$K$1079,4,FALSE))","v":""},{"$f":"IF(B6=\"\", \"\", VLOOKUP(B6,計算シート!FR:FS,2,FALSE))","v":""}]
[null,null,{"$f":"IF(B7 = \"\",\"\", VLOOKUP(B7,'出力シート（主要）'!$B$20:$D$1079,2,FALSE))","v":""},{"$f":"IF(B7 = \"\", \"\",VLOOKUP(B7,'出力シート（主要）'!$B$20:$K$1079,4,FALSE))","v":""},{"$f":"IF(B7=\"\", \"\", VLOOKUP(B7,計算シート!FR:FS,2,FALSE))","v":""}]
[null,null,{"$f":"IF(B8 = \"\",\"\", VLOOKUP(B8,'出力シート（主要）'!$B$20:$D$1079,2,FALSE))","v":""},{"$f":"IF(B8 = \"\", \"\",VLOOKUP(B8,'出力シート（主要）'!$B$20:$K$1079,4,FALSE))","v":""},{"$f":"IF(B8=\"\", \"\", VLOOKUP(B8,計算シート!FR:FS,2,FALSE))","v":""}]
[null,null,{"$f":"IF(B9 = \"\",\"\", VLOOKUP(B9,'出力シート（主要）'!$B$20:$D$1079,2,FALSE))","v":""},{"$f":"IF(B9 = \"\", \"\",VLOOKUP(B9,'出力シート（主要）'!$B$20:$K$1079,4,FALSE))","v":""},{"$f":"IF(B9=\"\", \"\", VLOOKUP(B9,計算シート!FR:FS,2,FALSE))","v":""}]
[null,null,{"$f":"IF(B10 = \"\",\"\", VLOOKUP(B10,'出力シート（主要）'!$B$20:$D$1079,2,FALSE))","v":""},{"$f":"IF(B10 = \"\", \"\",VLOOKUP(B10,'出力シート（主要）'!$B$20:$K$1079,4,FALSE))","v":""},{"$f":"IF(B10=\"\", \"\", VLOOKUP(B10,計算シート!FR:FS,2,FALSE))","v":""}]
[null,null,{"$f":"IF(B11 = \"\",\"\", VLOOKUP(B11,'出力シート（主要）'!$B$20:$D$1079,2,FALSE))","v":""},{"$f":"IF(B11 = \"\", \"\",VLOOKUP(B11,'出力シート（主要）'!$B$20:$K$1079,4,FALSE))","v":""},{"$f":"IF(B11=\"\", \"\", VLOOKUP(B11,計算シート!FR:FS,2,FALSE))","v":""}]
[null,null,{"$f":"IF(B12 = \"\",\"\", VLOOKUP(B12,'出力シート（主要）'!$B$20:$D$1079,2,FALSE))","v":""},{"$f":"IF(B12 = \"\", \"\",VLOOKUP(B12,'出力シート（主要）'!$B$20:$K$1079,4,FALSE))","v":""},{"$f":"IF(B12=\"\", \"\", VLOOKUP(B12,計算シート!FR:FS,2,FALSE))","v":""}]
[null,null,{"$f":"IF(B13 = \"\",\"\", VLOOKUP(B13,'出力シート（主要）'!$B$20:$D$1079,2,FALSE))","v":""},{"$f":"IF(B13 = \"\", \"\",VLOOKUP(B13,'出力シート（主要）'!$B$20:$K$1079,4,FALSE))","v":""},{"$f":"IF(B13=\"\", \"\", VLOOKUP(B13,計算シート!FR:FS,2,FALSE))","v":""}]
[null,null,{"$f":"IF(B14 = \"\",\"\", VLOOKUP(B14,'出力シート（主要）'!$B$20:$D$1079,2,FALSE))","v":""},{"$f":"IF(B14 = \"\", \"\",VLOOKUP(B14,'出力シート（主要）'!$B$20:$K$1079,4,FALSE))","v":""},{"$f":"IF(B14=\"\", \"\", VLOOKUP(B14,計算シート!FR:FS,2,FALSE))","v":""}]
[null,null,{"$f":"IF(B15 = \"\",\"\", VLOOKUP(B15,'出力シート（主要）'!$B$20:$D$1079,2,FALSE))","v":""},{"$f":"IF(B15 = \"\", \"\",VLOOKUP(B15,'出力シート（主要）'!$B$20:$K$1079,4,FALSE))","v":""},{"$f":"IF(B15=\"\", \"\", VLOOKUP(B15,計算シート!FR:FS,2,FALSE))","v":""}]
[null,null,{"$f":"IF(B16 = \"\",\"\", VLOOKUP(B16,'出力シート（主要）'!$B$20:$D$1079,2,FALSE))","v":""},{"$f":"IF(B16 = \"\", \"\",VLOOKUP(B16,'出力シート（主要）'!$B$20:$K$1079,4,FALSE))","v":""},{"$f":"IF(B16=\"\", \"\", VLOOKUP(B16,計算シート!FR:FS,2,FALSE))","v":""}]
[null,null,{"$f":"IF(B17 = \"\",\"\", VLOOKUP(B17,'出力シート（主要）'!$B$20:$D$1079,2,FALSE))","v":""},{"$f":"IF(B17 = \"\", \"\",VLOOKUP(B17,'出力シート（主要）'!$B$20:$K$1079,4,FALSE))","v":""},{"$f":"IF(B17=\"\", \"\", VLOOKUP(B17,計算シート!FR:FS,2,FALSE))","v":""}]
[null,null,{"$f":"IF(B18 = \"\",\"\", VLOOKUP(B18,'出力シート（主要）'!$B$20:$D$1079,2,FALSE))","v":""},{"$f":"IF(B18 = \"\", \"\",VLOOKUP(B18,'出力シート（主要）'!$B$20:$K$1079,4,FALSE))","v":""},{"$f":"IF(B18=\"\", \"\", VLOOKUP(B18,計算シート!FR:FS,2,FALSE))","v":""}]
[null,null,{"$f":"IF(B19 = \"\",\"\", VLOOKUP(B19,'出力シート（主要）'!$B$20:$D$1079,2,FALSE))","v":""},{"$f":"IF(B19 = \"\", \"\",VLOOKUP(B19,'出力シート（主要）'!$B$20:$K$1079,4,FALSE))","v":""},{"$f":"IF(B19=\"\", \"\", VLOOKUP(B19,計算シート!FR:FS,2,FALSE))","v":""}]
[null,null,{"$f":"IF(B20 = \"\",\"\", VLOOKUP(B20,'出力シート（主要）'!$B$20:$D$1079,2,FALSE))","v":""},{"$f":"IF(B20 = \"\", \"\",VLOOKUP(B20,'出力シート（主要）'!$B$20:$K$1079,4,FALSE))","v":""},{"$f":"IF(B20=\"\", \"\", VLOOKUP(B20,計算シート!FR:FS,2,FALSE))","v":""}]
[null,null,{"$f":"IF(B21 = \"\",\"\", VLOOKUP(B21,'出力シート（主要）'!$B$20:$D$1079,2,FALSE))","v":""},{"$f":"IF(B21 = \"\", \"\",VLOOKUP(B21,'出力シート（主要）'!$B$20:$K$1079,4,FALSE))","v":""},{"$f":"IF(B21=\"\", \"\", VLOOKUP(B21,計算シート!FR:FS,2,FALSE))","v":""}]
[null,null,{"$f":"IF(B22 = \"\",\"\", VLOOKUP(B22,'出力シート（主要）'!$B$20:$D$1079,2,FALSE))","v":""},{"$f":"IF(B22 = \"\", \"\",VLOOKUP(B22,'出力シート（主要）'!$B$20:$K$1079,4,FALSE))","v":""},{"$f":"IF(B22=\"\", \"\", VLOOKUP(B22,計算シート!FR:FS,2,FALSE))","v":""}]
[null,null,{"$f":"IF(B23 = \"\",\"\", VLOOKUP(B23,'出力シート（主要）'!$B$20:$D$1079,2,FALSE))","v":""},{"$f":"IF(B23 = \"\", \"\",VLOOKUP(B23,'出力シート（主要）'!$B$20:$K$1079,4,FALSE))","v":""},{"$f":"IF(B23=\"\", \"\", VLOOKUP(B23,計算シート!FR:FS,2,FALSE))","v":""}]
[null,null,{"$f":"IF(B24 = \"\",\"\", VLOOKUP(B24,'出力シート（主要）'!$B$20:$D$1079,2,FALSE))","v":""},{"$f":"IF(B24 = \"\", \"\",VLOOKUP(B24,'出力シート（主要）'!$B$20:$K$1079,4,FALSE))","v":""},{"$f":"IF(B24=\"\", \"\", VLOOKUP(B24,計算シート!FR:FS,2,FALSE))","v":""}]
[null,null,{"$f":"IF(B25 = \"\",\"\", VLOOKUP(B25,'出力シート（主要）'!$B$20:$D$1079,2,FALSE))","v":""},{"$f":"IF(B25 = \"\", \"\",VLOOKUP(B25,'出力シート（主要）'!$B$20:$K$1079,4,FALSE))","v":""},{"$f":"IF(B25=\"\", \"\", VLOOKUP(B25,計算シート!FR:FS,2,FALSE))","v":""}]
[null,null,{"$f":"IF(B26 = \"\",\"\", VLOOKUP(B26,'出力シート（主要）'!$B$20:$D$1079,2,FALSE))","v":""},{"$f":"IF(B26 = \"\", \"\",VLOOKUP(B26,'出力シート（主要）'!$B$20:$K$1079,4,FALSE))","v":""},{"$f":"IF(B26=\"\", \"\", VLOOKUP(B26,計算シート!FR:FS,2,FALSE))","v":""}]
[null,null,{"$f":"IF(B27 = \"\",\"\", VLOOKUP(B27,'出力シート（主要）'!$B$20:$D$1079,2,FALSE))","v":""},{"$f":"IF(B27 = \"\", \"\",VLOOKUP(B27,'出力シート（主要）'!$B$20:$K$1079,4,FALSE))","v":""},{"$f":"IF(B27=\"\", \"\", VLOOKUP(B27,計算シート!FR:FS,2,FALSE))","v":""}]
[null,null,{"$f":"IF(B28 = \"\",\"\", VLOOKUP(B28,'出力シート（主要）'!$B$20:$D$1079,2,FALSE))","v":""},{"$f":"IF(B28 = \"\", \"\",VLOOKUP(B28,'出力シート（主要）'!$B$20:$K$1079,4,FALSE))","v":""},{"$f":"IF(B28=\"\", \"\", VLOOKUP(B28,計算シート!FR:FS,2,FALSE))","v":""}]
[null,null,{"$f":"IF(B29 = \"\",\"\", VLOOKUP(B29,'出力シート（主要）'!$B$20:$D$1079,2,FALSE))","v":""},{"$f":"IF(B29 = \"\", \"\",VLOOKUP(B29,'出力シート（主要）'!$B$20:$K$1079,4,FALSE))","v":""},{"$f":"IF(B29=\"\", \"\", VLOOKUP(B29,計算シート!FR:FS,2,FALSE))","v":""}]
[null,null,{"$f":"IF(B30 = \"\",\"\", VLOOKUP(B30,'出力シート（主要）'!$B$20:$D$1079,2,FALSE))","v":""},{"$f":"IF(B30 = \"\", \"\",VLOOKUP(B30,'出力シート（主要）'!$B$20:$K$1079,4,FALSE))","v":""},{"$f":"IF(B30=\"\", \"\", VLOOKUP(B30,計算シート!FR:FS,2,FALSE))","v":""}]
[null,null,{"$f":"IF(B31 = \"\",\"\", VLOOKUP(B31,'出力シート（主要）'!$B$20:$D$1079,2,FALSE))","v":""},{"$f":"IF(B31 = \"\", \"\",VLOOKUP(B31,'出力シート（主要）'!$B$20:$K$1079,4,FALSE))","v":""},{"$f":"IF(B31=\"\", \"\", VLOOKUP(B31,計算シート!FR:FS,2,FALSE))","v":""}]
[null,null,{"$f":"IF(B32 = \"\",\"\", VLOOKUP(B32,'出力シート（主要）'!$B$20:$D$1079,2,FALSE))","v":""},{"$f":"IF(B32 = \"\", \"\",VLOOKUP(B32,'出力シート（主要）'!$B$20:$K$1079,4,FALSE))","v":""},{"$f":"IF(B32=\"\", \"\", VLOOKUP(B32,計算シート!FR:FS,2,FALSE))","v":""}]
[null,null,{"$f":"IF(B33 = \"\",\"\", VLOOKUP(B33,'出力シート（主要）'!$B$20:$D$1079,2,FALSE))","v":""},{"$f":"IF(B33 = \"\", \"\",VLOOKUP(B33,'出力シート（主要）'!$B$20:$K$1079,4,FALSE))","v":""},{"$f":"IF(B33=\"\", \"\", VLOOKUP(B33,計算シート!FR:FS,2,FALSE))","v":""}]
[null,null,{"$f":"IF(B34 = \"\",\"\", VLOOKUP(B34,'出力シート（主要）'!$B$20:$D$1079,2,FALSE))","v":""},{"$f":"IF(B34 = \"\", \"\",VLOOKUP(B34,'出力シート（主要）'!$B$20:$K$1079,4,FALSE))","v":""},{"$f":"IF(B34=\"\", \"\", VLOOKUP(B34,計算シート!FR:FS,2,FALSE))","v":""}]
[null,null,{"$f":"IF(B35 = \"\",\"\", VLOOKUP(B35,'出力シート（主要）'!$B$20:$D$1079,2,FALSE))","v":""},{"$f":"IF(B35 = \"\", \"\",VLOOKUP(B35,'出力シート（主要）'!$B$20:$K$1079,4,FALSE))","v":""},{"$f":"IF(B35=\"\", \"\", VLOOKUP(B35,計算シート!FR:FS,2,FALSE))","v":""}]
[null,null,{"$f":"IF(B36 = \"\",\"\", VLOOKUP(B36,'出力シート（主要）'!$B$20:$D$1079,2,FALSE))","v":""},{"$f":"IF(B36 = \"\", \"\",VLOOKUP(B36,'出力シート（主要）'!$B$20:$K$1079,4,FALSE))","v":""},{"$f":"IF(B36=\"\", \"\", VLOOKUP(B36,計算シート!FR:FS,2,FALSE))","v":""}]
[null,null,{"$f":"IF(B37 = \"\",\"\", VLOOKUP(B37,'出力シート（主要）'!$B$20:$D$1079,2,FALSE))","v":""},{"$f":"IF(B37 = \"\", \"\",VLOOKUP(B37,'出力シート（主要）'!$B$20:$K$1079,4,FALSE))","v":""},{"$f":"IF(B37=\"\", \"\", VLOOKUP(B37,計算シート!FR:FS,2,FALSE))","v":""}]
[null,null,{"$f":"IF(B38 = \"\",\"\", VLOOKUP(B38,'出力シート（主要）'!$B$20:$D$1079,2,FALSE))","v":""},{"$f":"IF(B38 = \"\", \"\",VLOOKUP(B38,'出力シート（主要）'!$B$20:$K$1079,4,FALSE))","v":""},{"$f":"IF(B38=\"\", \"\", VLOOKUP(B38,計算シート!FR:FS,2,FALSE))","v":""}]
[null,null,{"$f":"IF(B39 = \"\",\"\", VLOOKUP(B39,'出力シート（主要）'!$B$20:$D$1079,2,FALSE))","v":""},{"$f":"IF(B39 = \"\", \"\",VLOOKUP(B39,'出力シート（主要）'!$B$20:$K$1079,4,FALSE))","v":""},{"$f":"IF(B39=\"\", \"\", VLOOKUP(B39,計算シート!FR:FS,2,FALSE))","v":""}]
[null,null,{"$f":"IF(B40 = \"\",\"\", VLOOKUP(B40,'出力シート（主要）'!$B$20:$D$1079,2,FALSE))","v":""},{"$f":"IF(B40 = \"\", \"\",VLOOKUP(B40,'出力シート（主要）'!$B$20:$K$1079,4,FALSE))","v":""},{"$f":"IF(B40=\"\", \"\", VLOOKUP(B40,計算シート!FR:FS,2,FALSE))","v":""}]
[null,null,{"$f":"IF(B41 = \"\",\"\", VLOOKUP(B41,'出力シート（主要）'!$B$20:$D$1079,2,FALSE))","v":""},{"$f":"IF(B41 = \"\", \"\",VLOOKUP(B41,'出力シート（主要）'!$B$20:$K$1079,4,FALSE))","v":""},{"$f":"IF(B41=\"\", \"\", VLOOKUP(B41,計算シート!FR:FS,2,FALSE))","v":""}]
[null,null,{"$f":"IF(B42 = \"\",\"\", VLOOKUP(B42,'出力シート（主要）'!$B$20:$D$1079,2,FALSE))","v":""},{"$f":"IF(B42 = \"\", \"\",VLOOKUP(B42,'出力シート（主要）'!$B$20:$K$1079,4,FALSE))","v":""},{"$f":"IF(B42=\"\", \"\", VLOOKUP(B42,計算シート!FR:FS,2,FALSE))","v":""}]
[null,null,{"$f":"IF(B43 = \"\",\"\", VLOOKUP(B43,'出力シート（主要）'!$B$20:$D$1079,2,FALSE))","v":""},{"$f":"IF(B43 = \"\", \"\",VLOOKUP(B43,'出力シート（主要）'!$B$20:$K$1079,4,FALSE))","v":""},{"$f":"IF(B43=\"\", \"\", VLOOKUP(B43,計算シート!FR:FS,2,FALSE))","v":""}]
[null,null,{"$f":"IF(B44 = \"\",\"\", VLOOKUP(B44,'出力シート（主要）'!$B$20:$D$1079,2,FALSE))","v":""},{"$f":"IF(B44 = \"\", \"\",VLOOKUP(B44,'出力シート（主要）'!$B$20:$K$1079,4,FALSE))","v":""},{"$f":"IF(B44=\"\", \"\", VLOOKUP(B44,計算シート!FR:FS,2,FALSE))","v":""}]
[null,null,{"$f":"IF(B45 = \"\",\"\", VLOOKUP(B45,'出力シート（主要）'!$B$20:$D$1079,2,FALSE))","v":""},{"$f":"IF(B45 = \"\", \"\",VLOOKUP(B45,'出力シート（主要）'!$B$20:$K$1079,4,FALSE))","v":""},{"$f":"IF(B45=\"\", \"\", VLOOKUP(B45,計算シート!FR:FS,2,FALSE))","v":""}]
[null,null,{"$f":"IF(B46 = \"\",\"\", VLOOKUP(B46,'出力シート（主要）'!$B$20:$D$1079,2,FALSE))","v":""},{"$f":"IF(B46 = \"\", \"\",VLOOKUP(B46,'出力シート（主要）'!$B$20:$K$1079,4,FALSE))","v":""},{"$f":"IF(B46=\"\", \"\", VLOOKUP(B46,計算シート!FR:FS,2,FALSE))","v":""}]
[null,null,{"$f":"IF(B47 = \"\",\"\", VLOOKUP(B47,'出力シート（主要）'!$B$20:$D$1079,2,FALSE))","v":""},{"$f":"IF(B47 = \"\", \"\",VLOOKUP(B47,'出力シート（主要）'!$B$20:$K$1079,4,FALSE))","v":""},{"$f":"IF(B47=\"\", \"\", VLOOKUP(B47,計算シート!FR:FS,2,FALSE))","v":""}]
[null,null,{"$f":"IF(B48 = \"\",\"\", VLOOKUP(B48,'出力シート（主要）'!$B$20:$D$1079,2,FALSE))","v":""},{"$f":"IF(B48 = \"\", \"\",VLOOKUP(B48,'出力シート（主要）'!$B$20:$K$1079,4,FALSE))","v":""},{"$f":"IF(B48=\"\", \"\", VLOOKUP(B48,計算シート!FR:FS,2,FALSE))","v":""}]
[null,null,{"$f":"IF(B49 = \"\",\"\", VLOOKUP(B49,'出力シート（主要）'!$B$20:$D$1079,2,FALSE))","v":""},{"$f":"IF(B49 = \"\", \"\",VLOOKUP(B49,'出力シート（主要）'!$B$20:$K$1079,4,FALSE))","v":""},{"$f":"IF(B49=\"\", \"\", VLOOKUP(B49,計算シート!FR:FS,2,FALSE))","v":""}]
[null,null,{"$f":"IF(B50 = \"\",\"\", VLOOKUP(B50,'出力シート（主要）'!$B$20:$D$1079,2,FALSE))","v":""},{"$f":"IF(B50 = \"\", \"\",VLOOKUP(B50,'出力シート（主要）'!$B$20:$K$1079,4,FALSE))","v":""},{"$f":"IF(B50=\"\", \"\", VLOOKUP(B50,計算シート!FR:FS,2,FALSE))","v":""}]
[null,null,{"$f":"IF(B51 = \"\",\"\", VLOOKUP(B51,'出力シート（主要）'!$B$20:$D$1079,2,FALSE))","v":""},{"$f":"IF(B51 = \"\", \"\",VLOOKUP(B51,'出力シート（主要）'!$B$20:$K$1079,4,FALSE))","v":""},{"$f":"IF(B51=\"\", \"\", VLOOKUP(B51,計算シート!FR:FS,2,FALSE))","v":""}]
[null,null,{"$f":"IF(B52 = \"\",\"\", VLOOKUP(B52,'出力シート（主要）'!$B$20:$D$1079,2,FALSE))","v":""},{"$f":"IF(B52 = \"\", \"\",VLOOKUP(B52,'出力シート（主要）'!$B$20:$K$1079,4,FALSE))","v":""},{"$f":"IF(B52=\"\", \"\", VLOOKUP(B52,計算シート!FR:FS,2,FALSE))","v":""}]
[null,null,{"$f":"IF(B53 = \"\",\"\", VLOOKUP(B53,'出力シート（主要）'!$B$20:$D$1079,2,FALSE))","v":""},{"$f":"IF(B53 = \"\", \"\",VLOOKUP(B53,'出力シート（主要）'!$B$20:$K$1079,4,FALSE))","v":""},{"$f":"IF(B53=\"\", \"\", VLOOKUP(B53,計算シート!FR:FS,2,FALSE))","v":""}]
[null,null,{"$f":"IF(B54 = \"\",\"\", VLOOKUP(B54,'出力シート（主要）'!$B$20:$D$1079,2,FALSE))","v":""},{"$f":"IF(B54 = \"\", \"\",VLOOKUP(B54,'出力シート（主要）'!$B$20:$K$1079,4,FALSE))","v":""},{"$f":"IF(B54=\"\", \"\", VLOOKUP(B54,計算シート!FR:FS,2,FALSE))","v":""}]
[null,null,{"$f":"IF(B55 = \"\",\"\", VLOOKUP(B55,'出力シート（主要）'!$B$20:$D$1079,2,FALSE))","v":""},{"$f":"IF(B55 = \"\", \"\",VLOOKUP(B55,'出力シート（主要）'!$B$20:$K$1079,4,FALSE))","v":""},{"$f":"IF(B55=\"\", \"\", VLOOKUP(B55,計算シート!FR:FS,2,FALSE))","v":""}]
[null,null,{"$f":"IF(B56 = \"\",\"\", VLOOKUP(B56,'出力シート（主要）'!$B$20:$D$1079,2,FALSE))","v":""},{"$f":"IF(B56 = \"\", \"\",VLOOKUP(B56,'出力シート（主要）'!$B$20:$K$1079,4,FALSE))","v":""},{"$f":"IF(B56=\"\", \"\", VLOOKUP(B56,計算シート!FR:FS,2,FALSE))","v":""}]
[null,null,{"$f":"IF(B57 = \"\",\"\", VLOOKUP(B57,'出力シート（主要）'!$B$20:$D$1079,2,FALSE))","v":""},{"$f":"IF(B57 = \"\", \"\",VLOOKUP(B57,'出力シート（主要）'!$B$20:$K$1079,4,FALSE))","v":""},{"$f":"IF(B57=\"\", \"\", VLOOKUP(B57,計算シート!FR:FS,2,FALSE))","v":""}]
[null,null,{"$f":"IF(B58 = \"\",\"\", VLOOKUP(B58,'出力シート（主要）'!$B$20:$D$1079,2,FALSE))","v":""},{"$f":"IF(B58 = \"\", \"\",VLOOKUP(B58,'出力シート（主要）'!$B$20:$K$1079,4,FALSE))","v":""},{"$f":"IF(B58=\"\", \"\", VLOOKUP(B58,計算シート!FR:FS,2,FALSE))","v":""}]
[null,null,{"$f":"IF(B59 = \"\",\"\", VLOOKUP(B59,'出力シート（主要）'!$B$20:$D$1079,2,FALSE))","v":""},{"$f":"IF(B59 = \"\", \"\",VLOOKUP(B59,'出力シート（主要）'!$B$20:$K$1079,4,FALSE))","v":""},{"$f":"IF(B59=\"\", \"\", VLOOKUP(B59,計算シート!FR:FS,2,FALSE))","v":""}]
[null,null,{"$f":"IF(B60 = \"\",\"\", VLOOKUP(B60,'出力シート（主要）'!$B$20:$D$1079,2,FALSE))","v":""},{"$f":"IF(B60 = \"\", \"\",VLOOKUP(B60,'出力シート（主要）'!$B$20:$K$1079,4,FALSE))","v":""},{"$f":"IF(B60=\"\", \"\", VLOOKUP(B60,計算シート!FR:FS,2,FALSE))","v":""}]
[null,null,{"$f":"IF(B61 = \"\",\"\", VLOOKUP(B61,'出力シート（主要）'!$B$20:$D$1079,2,FALSE))","v":""},{"$f":"IF(B61 = \"\", \"\",VLOOKUP(B61,'出力シート（主要）'!$B$20:$K$1079,4,FALSE))","v":""},{"$f":"IF(B61=\"\", \"\", VLOOKUP(B61,計算シート!FR:FS,2,FALSE))","v":""}]
[null,null,{"$f":"IF(B62 = \"\",\"\", VLOOKUP(B62,'出力シート（主要）'!$B$20:$D$1079,2,FALSE))","v":""},{"$f":"IF(B62 = \"\", \"\",VLOOKUP(B62,'出力シート（主要）'!$B$20:$K$1079,4,FALSE))","v":""},{"$f":"IF(B62=\"\", \"\", VLOOKUP(B62,計算シート!FR:FS,2,FALSE))","v":""}]
[null,null,{"$f":"IF(B63 = \"\",\"\", VLOOKUP(B63,'出力シート（主要）'!$B$20:$D$1079,2,FALSE))","v":""},{"$f":"IF(B63 = \"\", \"\",VLOOKUP(B63,'出力シート（主要）'!$B$20:$K$1079,4,FALSE))","v":""},{"$f":"IF(B63=\"\", \"\", VLOOKUP(B63,計算シート!FR:FS,2,FALSE))","v":""}]
[null,null,{"$f":"IF(B64 = \"\",\"\", VLOOKUP(B64,'出力シート（主要）'!$B$20:$D$1079,2,FALSE))","v":""},{"$f":"IF(B64 = \"\", \"\",VLOOKUP(B64,'出力シート（主要）'!$B$20:$K$1079,4,FALSE))","v":""},{"$f":"IF(B64=\"\", \"\", VLOOKUP(B64,計算シート!FR:FS,2,FALSE))","v":""}]
[null,null,{"$f":"IF(B65 = \"\",\"\", VLOOKUP(B65,'出力シート（主要）'!$B$20:$D$1079,2,FALSE))","v":""},{"$f":"IF(B65 = \"\", \"\",VLOOKUP(B65,'出力シート（主要）'!$B$20:$K$1079,4,FALSE))","v":""},{"$f":"IF(B65=\"\", \"\", VLOOKUP(B65,計算シート!FR:FS,2,FALSE))","v":""}]
[null,null,{"$f":"IF(B66 = \"\",\"\", VLOOKUP(B66,'出力シート（主要）'!$B$20:$D$1079,2,FALSE))","v":""},{"$f":"IF(B66 = \"\", \"\",VLOOKUP(B66,'出力シート（主要）'!$B$20:$K$1079,4,FALSE))","v":""},{"$f":"IF(B66=\"\", \"\", VLOOKUP(B66,計算シート!FR:FS,2,FALSE))","v":""}]
[null,null,{"$f":"IF(B67 = \"\",\"\", VLOOKUP(B67,'出力シート（主要）'!$B$20:$D$1079,2,FALSE))","v":""},{"$f":"IF(B67 = \"\", \"\",VLOOKUP(B67,'出力シート（主要）'!$B$20:$K$1079,4,FALSE))","v":""},{"$f":"IF(B67=\"\", \"\", VLOOKUP(B67,計算シート!FR:FS,2,FALSE))","v":""}]
[null,null,{"$f":"IF(B68 = \"\",\"\", VLOOKUP(B68,'出力シート（主要）'!$B$20:$D$1079,2,FALSE))","v":""},{"$f":"IF(B68 = \"\", \"\",VLOOKUP(B68,'出力シート（主要）'!$B$20:$K$1079,4,FALSE))","v":""},{"$f":"IF(B68=\"\", \"\", VLOOKUP(B68,計算シート!FR:FS,2,FALSE))","v":""}]
[null,null,{"$f":"IF(B69 = \"\",\"\", VLOOKUP(B69,'出力シート（主要）'!$B$20:$D$1079,2,FALSE))","v":""},{"$f":"IF(B69 = \"\", \"\",VLOOKUP(B69,'出力シート（主要）'!$B$20:$K$1079,4,FALSE))","v":""},{"$f":"IF(B69=\"\", \"\", VLOOKUP(B69,計算シート!FR:FS,2,FALSE))","v":""}]
[null,null,{"$f":"IF(B70 = \"\",\"\", VLOOKUP(B70,'出力シート（主要）'!$B$20:$D$1079,2,FALSE))","v":""},{"$f":"IF(B70 = \"\", \"\",VLOOKUP(B70,'出力シート（主要）'!$B$20:$K$1079,4,FALSE))","v":""},{"$f":"IF(B70=\"\", \"\", VLOOKUP(B70,計算シート!FR:FS,2,FALSE))","v":""}]
[null,null,{"$f":"IF(B71 = \"\",\"\", VLOOKUP(B71,'出力シート（主要）'!$B$20:$D$1079,2,FALSE))","v":""},{"$f":"IF(B71 = \"\", \"\",VLOOKUP(B71,'出力シート（主要）'!$B$20:$K$1079,4,FALSE))","v":""},{"$f":"IF(B71=\"\", \"\", VLOOKUP(B71,計算シート!FR:FS,2,FALSE))","v":""}]
[null,null,{"$f":"IF(B72 = \"\",\"\", VLOOKUP(B72,'出力シート（主要）'!$B$20:$D$1079,2,FALSE))","v":""},{"$f":"IF(B72 = \"\", \"\",VLOOKUP(B72,'出力シート（主要）'!$B$20:$K$1079,4,FALSE))","v":""},{"$f":"IF(B72=\"\", \"\", VLOOKUP(B72,計算シート!FR:FS,2,FALSE))","v":""}]
[null,null,{"$f":"IF(B73 = \"\",\"\", VLOOKUP(B73,'出力シート（主要）'!$B$20:$D$1079,2,FALSE))","v":""},{"$f":"IF(B73 = \"\", \"\",VLOOKUP(B73,'出力シート（主要）'!$B$20:$K$1079,4,FALSE))","v":""},{"$f":"IF(B73=\"\", \"\", VLOOKUP(B73,計算シート!FR:FS,2,FALSE))","v":""}]
[null,null,{"$f":"IF(B74 = \"\",\"\", VLOOKUP(B74,'出力シート（主要）'!$B$20:$D$1079,2,FALSE))","v":""},{"$f":"IF(B74 = \"\", \"\",VLOOKUP(B74,'出力シート（主要）'!$B$20:$K$1079,4,FALSE))","v":""},{"$f":"IF(B74=\"\", \"\", VLOOKUP(B74,計算シート!FR:FS,2,FALSE))","v":""}]
[null,null,{"$f":"IF(B75 = \"\",\"\", VLOOKUP(B75,'出力シート（主要）'!$B$20:$D$1079,2,FALSE))","v":""},{"$f":"IF(B75 = \"\", \"\",VLOOKUP(B75,'出力シート（主要）'!$B$20:$K$1079,4,FALSE))","v":""},{"$f":"IF(B75=\"\", \"\", VLOOKUP(B75,計算シート!FR:FS,2,FALSE))","v":""}]
[null,null,{"$f":"IF(B76 = \"\",\"\", VLOOKUP(B76,'出力シート（主要）'!$B$20:$D$1079,2,FALSE))","v":""},{"$f":"IF(B76 = \"\", \"\",VLOOKUP(B76,'出力シート（主要）'!$B$20:$K$1079,4,FALSE))","v":""},{"$f":"IF(B76=\"\", \"\", VLOOKUP(B76,計算シート!FR:FS,2,FALSE))","v":""}]
[null,null,{"$f":"IF(B77 = \"\",\"\", VLOOKUP(B77,'出力シート（主要）'!$B$20:$D$1079,2,FALSE))","v":""},{"$f":"IF(B77 = \"\", \"\",VLOOKUP(B77,'出力シート（主要）'!$B$20:$K$1079,4,FALSE))","v":""},{"$f":"IF(B77=\"\", \"\", VLOOKUP(B77,計算シート!FR:FS,2,FALSE))","v":""}]
[null,null,{"$f":"IF(B78 = \"\",\"\", VLOOKUP(B78,'出力シート（主要）'!$B$20:$D$1079,2,FALSE))","v":""},{"$f":"IF(B78 = \"\", \"\",VLOOKUP(B78,'出力シート（主要）'!$B$20:$K$1079,4,FALSE))","v":""},{"$f":"IF(B78=\"\", \"\", VLOOKUP(B78,計算シート!FR:FS,2,FALSE))","v":""}]
[null,null,{"$f":"IF(B79 = \"\",\"\", VLOOKUP(B79,'出力シート（主要）'!$B$20:$D$1079,2,FALSE))","v":""},{"$f":"IF(B79 = \"\", \"\",VLOOKUP(B79,'出力シート（主要）'!$B$20:$K$1079,4,FALSE))","v":""},{"$f":"IF(B79=\"\", \"\", VLOOKUP(B79,計算シート!FR:FS,2,FALSE))","v":""}]
[null,null,{"$f":"IF(B80 = \"\",\"\", VLOOKUP(B80,'出力シート（主要）'!$B$20:$D$1079,2,FALSE))","v":""},{"$f":"IF(B80 = \"\", \"\",VLOOKUP(B80,'出力シート（主要）'!$B$20:$K$1079,4,FALSE))","v":""},{"$f":"IF(B80=\"\", \"\", VLOOKUP(B80,計算シート!FR:FS,2,FALSE))","v":""}]
[null,null,{"$f":"IF(B81 = \"\",\"\", VLOOKUP(B81,'出力シート（主要）'!$B$20:$D$1079,2,FALSE))","v":""},{"$f":"IF(B81 = \"\", \"\",VLOOKUP(B81,'出力シート（主要）'!$B$20:$K$1079,4,FALSE))","v":""},{"$f":"IF(B81=\"\", \"\", VLOOKUP(B81,計算シート!FR:FS,2,FALSE))","v":""}]
[null,null,{"$f":"IF(B82 = \"\",\"\", VLOOKUP(B82,'出力シート（主要）'!$B$20:$D$1079,2,FALSE))","v":""},{"$f":"IF(B82 = \"\", \"\",VLOOKUP(B82,'出力シート（主要）'!$B$20:$K$1079,4,FALSE))","v":""},{"$f":"IF(B82=\"\", \"\", VLOOKUP(B82,計算シート!FR:FS,2,FALSE))","v":""}]
[null,null,{"$f":"IF(B83 = \"\",\"\", VLOOKUP(B83,'出力シート（主要）'!$B$20:$D$1079,2,FALSE))","v":""},{"$f":"IF(B83 = \"\", \"\",VLOOKUP(B83,'出力シート（主要）'!$B$20:$K$1079,4,FALSE))","v":""},{"$f":"IF(B83=\"\", \"\", VLOOKUP(B83,計算シート!FR:FS,2,FALSE))","v":""}]
[null,null,{"$f":"IF(B84 = \"\",\"\", VLOOKUP(B84,'出力シート（主要）'!$B$20:$D$1079,2,FALSE))","v":""},{"$f":"IF(B84 = \"\", \"\",VLOOKUP(B84,'出力シート（主要）'!$B$20:$K$1079,4,FALSE))","v":""},{"$f":"IF(B84=\"\", \"\", VLOOKUP(B84,計算シート!FR:FS,2,FALSE))","v":""}]
[null,null,{"$f":"IF(B85 = \"\",\"\", VLOOKUP(B85,'出力シート（主要）'!$B$20:$D$1079,2,FALSE))","v":""},{"$f":"IF(B85 = \"\", \"\",VLOOKUP(B85,'出力シート（主要）'!$B$20:$K$1079,4,FALSE))","v":""},{"$f":"IF(B85=\"\", \"\", VLOOKUP(B85,計算シート!FR:FS,2,FALSE))","v":""}]
[null,null,{"$f":"IF(B86 = \"\",\"\", VLOOKUP(B86,'出力シート（主要）'!$B$20:$D$1079,2,FALSE))","v":""},{"$f":"IF(B86 = \"\", \"\",VLOOKUP(B86,'出力シート（主要）'!$B$20:$K$1079,4,FALSE))","v":""},{"$f":"IF(B86=\"\", \"\", VLOOKUP(B86,計算シート!FR:FS,2,FALSE))","v":""}]
[null,null,{"$f":"IF(B87 = \"\",\"\", VLOOKUP(B87,'出力シート（主要）'!$B$20:$D$1079,2,FALSE))","v":""},{"$f":"IF(B87 = \"\", \"\",VLOOKUP(B87,'出力シート（主要）'!$B$20:$K$1079,4,FALSE))","v":""},{"$f":"IF(B87=\"\", \"\", VLOOKUP(B87,計算シート!FR:FS,2,FALSE))","v":""}]
[null,null,{"$f":"IF(B88 = \"\",\"\", VLOOKUP(B88,'出力シート（主要）'!$B$20:$D$1079,2,FALSE))","v":""},{"$f":"IF(B88 = \"\", \"\",VLOOKUP(B88,'出力シート（主要）'!$B$20:$K$1079,4,FALSE))","v":""},{"$f":"IF(B88=\"\", \"\", VLOOKUP(B88,計算シート!FR:FS,2,FALSE))","v":""}]
[null,null,{"$f":"IF(B89 = \"\",\"\", VLOOKUP(B89,'出力シート（主要）'!$B$20:$D$1079,2,FALSE))","v":""},{"$f":"IF(B89 = \"\", \"\",VLOOKUP(B89,'出力シート（主要）'!$B$20:$K$1079,4,FALSE))","v":""},{"$f":"IF(B89=\"\", \"\", VLOOKUP(B89,計算シート!FR:FS,2,FALSE))","v":""}]
[null,null,{"$f":"IF(B90 = \"\",\"\", VLOOKUP(B90,'出力シート（主要）'!$B$20:$D$1079,2,FALSE))","v":""},{"$f":"IF(B90 = \"\", \"\",VLOOKUP(B90,'出力シート（主要）'!$B$20:$K$1079,4,FALSE))","v":""},{"$f":"IF(B90=\"\", \"\", VLOOKUP(B90,計算シート!FR:FS,2,FALSE))","v":""}]
[null,null,{"$f":"IF(B91 = \"\",\"\", VLOOKUP(B91,'出力シート（主要）'!$B$20:$D$1079,2,FALSE))","v":""},{"$f":"IF(B91 = \"\", \"\",VLOOKUP(B91,'出力シート（主要）'!$B$20:$K$1079,4,FALSE))","v":""},{"$f":"IF(B91=\"\", \"\", VLOOKUP(B91,計算シート!FR:FS,2,FALSE))","v":""}]
[null,null,{"$f":"IF(B92 = \"\",\"\", VLOOKUP(B92,'出力シート（主要）'!$B$20:$D$1079,2,FALSE))","v":""},{"$f":"IF(B92 = \"\", \"\",VLOOKUP(B92,'出力シート（主要）'!$B$20:$K$1079,4,FALSE))","v":""},{"$f":"IF(B92=\"\", \"\", VLOOKUP(B92,計算シート!FR:FS,2,FALSE))","v":""}]
[null,null,{"$f":"IF(B93 = \"\",\"\", VLOOKUP(B93,'出力シート（主要）'!$B$20:$D$1079,2,FALSE))","v":""},{"$f":"IF(B93 = \"\", \"\",VLOOKUP(B93,'出力シート（主要）'!$B$20:$K$1079,4,FALSE))","v":""},{"$f":"IF(B93=\"\", \"\", VLOOKUP(B93,計算シート!FR:FS,2,FALSE))","v":""}]
[null,null,{"$f":"IF(B94 = \"\",\"\", VLOOKUP(B94,'出力シート（主要）'!$B$20:$D$1079,2,FALSE))","v":""},{"$f":"IF(B94 = \"\", \"\",VLOOKUP(B94,'出力シート（主要）'!$B$20:$K$1079,4,FALSE))","v":""},{"$f":"IF(B94=\"\", \"\", VLOOKUP(B94,計算シート!FR:FS,2,FALSE))","v":""}]
[null,null,{"$f":"IF(B95 = \"\",\"\", VLOOKUP(B95,'出力シート（主要）'!$B$20:$D$1079,2,FALSE))","v":""},{"$f":"IF(B95 = \"\", \"\",VLOOKUP(B95,'出力シート（主要）'!$B$20:$K$1079,4,FALSE))","v":""},{"$f":"IF(B95=\"\", \"\", VLOOKUP(B95,計算シート!FR:FS,2,FALSE))","v":""}]
[null,null,{"$f":"IF(B96 = \"\",\"\", VLOOKUP(B96,'出力シート（主要）'!$B$20:$D$1079,2,FALSE))","v":""},{"$f":"IF(B96 = \"\", \"\",VLOOKUP(B96,'出力シート（主要）'!$B$20:$K$1079,4,FALSE))","v":""},{"$f":"IF(B96=\"\", \"\", VLOOKUP(B96,計算シート!FR:FS,2,FALSE))","v":""}]
[null,null,{"$f":"IF(B97 = \"\",\"\", VLOOKUP(B97,'出力シート（主要）'!$B$20:$D$1079,2,FALSE))","v":""},{"$f":"IF(B97 = \"\", \"\",VLOOKUP(B97,'出力シート（主要）'!$B$20:$K$1079,4,FALSE))","v":""},{"$f":"IF(B97=\"\", \"\", VLOOKUP(B97,計算シート!FR:FS,2,FALSE))","v":""}]
[null,null,{"$f":"IF(B98 = \"\",\"\", VLOOKUP(B98,'出力シート（主要）'!$B$20:$D$1079,2,FALSE))","v":""},{"$f":"IF(B98 = \"\", \"\",VLOOKUP(B98,'出力シート（主要）'!$B$20:$K$1079,4,FALSE))","v":""},{"$f":"IF(B98=\"\", \"\", VLOOKUP(B98,計算シート!FR:FS,2,FALSE))","v":""}]
[null,null,{"$f":"IF(B99 = \"\",\"\", VLOOKUP(B99,'出力シート（主要）'!$B$20:$D$1079,2,FALSE))","v":""},{"$f":"IF(B99 = \"\", \"\",VLOOKUP(B99,'出力シート（主要）'!$B$20:$K$1079,4,FALSE))","v":""},{"$f":"IF(B99=\"\", \"\", VLOOKUP(B99,計算シート!FR:FS,2,FALSE))","v":""}]
[null,null,{"$f":"IF(B100 = \"\",\"\", VLOOKUP(B100,'出力シート（主要）'!$B$20:$D$1079,2,FALSE))","v":""},{"$f":"IF(B100 = \"\", \"\",VLOOKUP(B100,'出力シート（主要）'!$B$20:$K$1079,4,FALSE))","v":""},{"$f":"IF(B100=\"\", \"\", VLOOKUP(B100,計算シート!FR:FS,2,FALSE))","v":""}]

{"sheet":"10 aあたり換算","index":10,"n_rows":32,"n_cols":8,"rows_kept":32,"cut":false,"hidden":false,"merged":[[1,1,2,1],[1,2,2,2],[1,3,1,4],[1,6,1,7]]}
[]
[null,"使用番号","作物名","投下量",null,"10 aあたり株数","10 aあたり使用量"]
[null,null,null,"（g/株）","（ml/株）","（株/10a)","(kg/10a)","(L/10a)"]
[null,null,null,null,null,null,{"$f":"IF(D4=\"\", \"\", D4*F4/1000)","v":""},{"$f":"IF(E4=\"\", \"\", E4*F4/1000)","v":""}]
[null,null,null,null,null,null,{"$f":"IF(D5=\"\", \"\", D5*F5/1000)","v":""},{"$f":"IF(E5=\"\", \"\", E5*F5/1000)","v":""}]
[null,null,null,null,null,null,"",""]
[null,null,null,null,null,null,"",""]
[null,null,null,null,null,null,"",""]
[null,null,null,null,null,null,"",""]
[null,null,null,null,null,null,"",""]
[null,null,null,null,null,null,"",""]
[null,null,null,null,null,null,"",""]
[null,null,null,null,null,null,"",""]
[null,null,null,null,null,null,"",""]
[null,null,null,null,null,null,"",""]
[null,null,null,null,null,null,"",""]
[null,null,null,null,null,null,"",""]
[null,null,null,null,null,null,"",""]
[null,null,null,null,null,null,"",""]
[null,null,null,null,null,null,"",""]
[null,null,null,null,null,null,"",""]
[null,null,null,null,null,null,"",""]
[null,null,null,null,null,null,"",""]
[null,null,null,null,null,null,"",""]
[null,null,null,null,null,null,"",""]
[null,null,null,null,null,null,"",""]
[null,null,null,null,null,null,"",""]
[null,null,null,null,null,null,"",""]
[null,null,null,null,null,null,"",""]
[null,null,null,null,null,null,"",""]
[null,null,null,null,null,null,"",""]
[null,null,null,null,null,null,"",{"$f":"IF(E32=\"\", \"\", E32*F32/1000)","v":""}]

{"sheet":"出力シート（主要）","index":11,"n_rows":273,"n_cols":29,"rows_kept":273,"cut":false,"hidden":false,"merged":[[261,4,261,8],[229,4,229,8],[262,4,262,8],[263,4,263,8],[264,4,264,8],[265,4,265,8],[266,4,266,8],[267,4,267,8],[268,4,268,8],[245,4,245,8],[246,4,246,8],[247,4,247,8],[248,4,248,8],[249,4,249,8],[250,4,250,8],[251,4,251,8],[252,4,252,8],[253,4,253,8],[254,4,254,8],[255,4,255,8],[256,4,256,8],[257,4,257,8],[258,4,258,8],[259,4,259,8],[260,4,260,8],[220,4,220,8],[221,4,221,8],[222,4,222,8],[223,4,223,8],[224,4,224,8],[225,4,225,8],[226,4,226,8],[227,4,227,8],[228,4,228,8],[243,4,243,8],[244,4,244,8],[233,4,233,8],[234,4,234,8],[235,4,235,8],[236,4,236,8],[237,4,237,8],[238,4,238,8],[239,4,239,8],[240,4,240,8],[241,4,241,8],[242,4,242,8],[211,4,211,8],[212,4,212,8],[213,4,213,8],[214,4,214,8],[215,4,215,8],[216,4,216,8],[230,4,230,8],[231,4,231,8],[232,4,232,8],[217,4,217,8],[218,4,218,8],[219,4,219,8],[208,4,208,8],[209,4,209,8],[210,4,210,8],[153,4,153,8],[154,4,154,8],[155,4,155,8],[156,4,156,8],[157,4,157,8],[158,4,158,8],[159,4,159,8],[160,4,160,8],[161,4,161,8],[162,4,162,8],[163,4,163,8],[166,4,166,8],[167,4,167,8],[168,4,168,8],[169,4,169,8],[170,4,170,8],[194,4,194,8],[195,4,195,8],[196,4,196,8],[197,4,197,8],[198,4,198,8],[36,4,36,8],[37,4,37,8],[38,4,38,8],[39,4,39,8],[203,4,203,8],[204,4,204,8],[205,4,205,8],[206,4,206,8],[207,4,207,8],[199,4,199,8],[200,4,200,8],[201,4,201,8],[202,4,202,8],[45,4,45,8],[46,4,46,8],[47,4,47,8],[48,4,48,8],[171,4,171,8],[165,4,165,8],[98,4,98,8],[99,4,99,8],[100,4,100,8],[101,4,101,8],[102,4,102,8],[26,4,26,8],[27,4,27,8],[28,4,28,8],[29,4,29,8],[30,4,30,8],[31,4,31,8],[32,4,32,8],[33,4,33,8],[34,4,34,8],[103,4,103,8],[104,4,104,8],[105,4,105,8],[35,4,35,8],[263,2,263,3],[264,2,264,3],[265,2,265,3],[266,2,266,3],[267,2,267,3],[253,2,253,3],[236,2,236,3],[237,2,237,3],[238,2,238,3],[239,2,239,3],[240,2,240,3],[241,2,241,3],[242,2,242,3],[243,2,243,3],[244,2,244,3],[245,2,245,3],[246,2,246,3],[247,2,247,3],[248,2,248,3],[249,2,249,3],[268,2,268,3],[254,2,254,3],[255,2,255,3],[256,2,256,3],[257,2,257,3],[258,2,258,3],[259,2,259,3],[260,2,260,3],[261,2,261,3],[262,2,262,3],[250,2,250,3],[251,2,251,3],[252,2,252,3],[227,2,227,3],[228,2,228,3],[229,2,229,3],[230,2,230,3],[231,2,231,3],[232,2,232,3],[233,2,233,3],[234,2,234,3],[235,2,235,3],[218,2,218,3],[219,2,219,3],[220,2,220,3],[221,2,221,3],[222,2,222,3],[223,2,223,3],[224,2,224,3],[225,2,225,3],[226,2,226,3],[209,2,209,3],[210,2,210,3],[211,2,211,3],[212,2,212,3],[213,2,213,3],[214,2,214,3],[215,2,215,3],[216,2,216,3],[217,2,217,3],[200,2,200,3],[201,2,201,3],[202,2,202,3],[203,2,203,3],[204,2,204,3],[205,2,205,3],[206,2,206,3],[207,2,207,3],[208,2,208,3],[191,2,191,3],[192,2,192,3],[193,2,193,3],[194,2,194,3],[195,2,195,3],[196,2,196,3],[197,2,197,3],[198,2,198,3],[199,2,199,3],[182,2,182,3],[183,2,183,3],[184,2,184,3],[185,2,185,3],[186,2,186,3],[187,2,187,3],[188,2,188,3],[189,2,189,3],[190,2,190,3],[164,2,164,3],[165,2,165,3],[166,2,166,3],[167,2,167,3],[168,2,168,3],[169,2,169,3],[170,2,170,3],[171,2,171,3],[172,2,172,3],[155,2,155,3],[156,2,156,3],[157,2,157,3],[158,2,158,3],[159,2,159,3],[160,2,160,3],[161,2,161,3],[162,2,162,3],[163,2,163,3],[146,2,146,3],[147,2,147,3],[148,2,148,3],[149,2,149,3],[150,2,150,3],[151,2,151,3],[152,2,152,3],[153,2,153,3],[154,2,154,3],[137,2,137,3],[138,2,138,3],[139,2,139,3],[140,2,140,3],[141,2,141,3],[142,2,142,3],[143,2,143,3],[144,2,144,3],[145,2,145,3],[128,2,128,3],[129,2,129,3],[130,2,130,3],[131,2,131,3],[132,2,132,3],[133,2,133,3],[134,2,134,3],[135,2,135,3],[136,2,136,3],[121,2,121,3],[122,2,122,3],[123,2,123,3],[124,2,124,3],[125,2,125,3],[126,2,126,3],[127,2,127,3],[33,2,33,3],[34,2,34,3],[35,2,35,3],[36,2,36,3],[54,2,54,3],[61,2,61,3],[56,2,56,3],[57,2,57,3],[60,2,60,3],[59,2,59,3],[58,2,58,3],[46,2,46,3],[44,2,44,3],[43,2,43,3],[42,2,42,3],[41,2,41,3],[119,2,119,3],[120,2,120,3],[104,2,104,3],[108,2,108,3],[80,2,80,3],[81,2,81,3],[82,2,82,3],[97,2,97,3],[90,2,90,3],[16,24,18,24],[17,17,17,19],[17,22,18,22],[17,23,18,23],[17,15,17,16],[16,15,16,23],[16,4,18,8],[19,4,19,8],[100,2,100,3],[101,2,101,3],[65,2,65,3],[45,2,45,3],[38,2,38,3],[70,2,70,3],[71,2,71,3],[53,2,53,3],[1,4,1,15],[5,5,5,7],[6,5,6,7],[2,9,2,12],[3,9,3,12],[2,14,2,15],[3,14,3,15],[2,16,2,17],[3,16,3,17],[4,16,4,17],[2,18,2,19],[14,16,14,17],[16,11,16,14],[17,13,18,13],[17,14,18,14],[16,10,18,10],[8,16,8,17],[16,9,18,9],[3,18,3,19],[4,18,4,19],[11,18,11,19],[10,18,10,19],[6,18,6,19],[7,18,7,19],[8,18,8,19],[13,16,13,17],[4,14,14,15],[9,18,9,19],[5,16,5,17],[6,16,6,17],[7,16,7,17],[5,18,5,19],[14,18,14,19],[13,18,13,19],[16,1,18,1],[19,2,19,3],[117,2,117,3],[118,2,118,3],[86,2,86,3],[87,2,87,3],[68,2,68,3],[69,2,69,3],[76,2,76,3],[77,2,77,3],[113,2,113,3],[114,2,114,3],[105,2,105,3],[111,2,111,3],[106,2,106,3],[107,2,107,3],[109,2,109,3],[85,2,85,3],[67,2,67,3],[115,2,115,3],[40,2,40,3],[94,2,94,3],[39,2,39,3],[103,2,103,3],[4,2,4,3],[4,4,4,7],[16,2,18,3],[5,2,5,3],[9,4,9,7],[6,2,6,3],[7,2,7,3],[7,4,7,6],[8,4,8,7],[8,2,8,3],[9,2,9,3],[49,4,49,8],[50,4,50,8],[51,4,51,8],[52,4,52,8],[53,4,53,8],[25,4,25,8],[83,2,83,3],[84,2,84,3],[52,2,52,3],[51,2,51,3],[50,2,50,3],[49,2,49,3],[48,2,48,3],[37,2,37,3],[32,2,32,3],[31,2,31,3],[30,2,30,3],[29,2,29,3],[76,4,76,8],[40,4,40,8],[41,4,41,8],[42,4,42,8],[43,4,43,8],[44,4,44,8],[47,2,47,3],[20,2,20,3],[78,2,78,3],[73,2,73,3],[74,2,74,3],[66,2,66,3],[72,2,72,3],[64,2,64,3],[95,2,95,3],[75,2,75,3],[55,2,55,3],[79,2,79,3],[116,2,116,3],[110,2,110,3],[89,2,89,3],[62,2,62,3],[63,2,63,3],[112,2,112,3],[102,2,102,3],[91,2,91,3],[98,2,98,3],[88,2,88,3],[99,2,99,3],[92,2,92,3],[93,2,93,3],[96,2,96,3],[54,4,54,8],[55,4,55,8],[56,4,56,8],[57,4,57,8],[58,4,58,8],[59,4,59,8],[60,4,60,8],[61,4,61,8],[62,4,62,8],[63,4,63,8],[64,4,64,8],[65,4,65,8],[66,4,66,8],[67,4,67,8],[68,4,68,8],[69,4,69,8],[70,4,70,8],[71,4,71,8],[72,4,72,8],[73,4,73,8],[74,4,74,8],[75,4,75,8],[114,4,114,8],[77,4,77,8],[78,4,78,8],[79,4,79,8],[80,4,80,8],[81,4,81,8],[82,4,82,8],[83,4,83,8],[84,4,84,8],[85,4,85,8],[86,4,86,8],[87,4,87,8],[88,4,88,8],[89,4,89,8],[90,4,90,8],[91,4,91,8],[92,4,92,8],[93,4,93,8],[94,4,94,8],[95,4,95,8],[120,4,120,8],[121,4,121,8],[106,4,106,8],[107,4,107,8],[108,4,108,8],[109,4,109,8],[110,4,110,8],[111,4,111,8],[112,4,112,8],[113,4,113,8],[96,4,96,8],[97,4,97,8],[115,4,115,8],[116,4,116,8],[117,4,117,8],[118,4,118,8],[119,4,119,8],[172,4,172,8],[181,4,181,8],[143,4,143,8],[144,4,144,8],[145,4,145,8],[146,4,146,8],[147,4,147,8],[148,4,148,8],[122,4,122,8],[123,4,123,8],[124,4,124,8],[125,4,125,8],[126,4,126,8],[127,4,127,8],[128,4,128,8],[129,4,129,8],[130,4,130,8],[182,4,182,8],[183,4,183,8],[184,4,184,8],[185,4,185,8],[186,4,186,8],[187,4,187,8],[188,4,188,8],[131,4,131,8],[132,4,132,8],[133,4,133,8],[134,4,134,8],[135,4,135,8],[136,4,136,8],[137,4,137,8],[164,4,164,8],[138,4,138,8],[139,4,139,8],[149,4,149,8],[150,4,150,8],[151,4,151,8],[152,4,152,8],[140,4,140,8],[141,4,141,8],[142,4,142,8],[173,4,173,8],[174,4,174,8],[175,4,175,8],[176,4,176,8],[177,4,177,8],[178,4,178,8],[179,4,179,8],[180,4,180,8],[269,2,269,3],[269,4,269,8],[190,4,190,8],[191,4,191,8],[192,4,192,8],[193,4,193,8],[189,4,189,8],[173,2,173,3],[174,2,174,3],[175,2,175,3],[176,2,176,3],[177,2,177,3],[178,2,178,3],[179,2,179,3],[180,2,180,3],[181,2,181,3],[0,1,0,24],[5,9,5,12],[6,9,6,12],[28,2,28,3],[21,2,21,3],[23,2,23,3],[22,2,22,3],[27,2,27,3],[26,2,26,3],[25,2,25,3],[24,2,24,3],[12,18,12,19],[9,16,9,17],[10,16,10,17],[11,16,11,17],[12,16,12,17],[20,4,20,8],[21,4,21,8],[22,4,22,8],[23,4,23,8],[24,4,24,8],[2,2,3,2],[2,4,2,7],[3,4,3,7]]}
[null,"別添　農薬使用者への暴露評価に使用したパラメータ、推定暴露量及びリスク評価結果"]
[null,null,null,null,{"$f":"IF(入力シート!E2=\"\", \"\", \"登録番号\")&入力シート!E2&\"   \"&入力シート!E3&\"(\"&入力シート!E4&\")\"&\"の使用者暴露量の推定\"&\"        \"&入力シート!E5","v":"   ()の使用者暴露量の推定        "}]
[null,null,"① 製剤情報","登録番号",{"$f":"IF(入力シート!E2=\"\", \"-\", 入力シート!E2)","v":"-"},null,null,null,null,"【補助１】農薬使用者暴露量の試験成績について",null,null,null,null,"⑭ 経皮吸収率",null,"希釈倍数（倍）",null,"経皮吸収率（％）"]
[null,null,null,"種類・名称",{"$f":"入力シート!E3&\" (\"&入力シート!E4&\")\"&計算シート!E2","v":" ()"},null,null,null,null,{"$f":"IF(補助1!B5>0,\"試験成績あり\",\"デフォルト値を使用\")","v":"デフォルト値を使用"},null,null,null,null,"製剤",null,{"$f":"IF(経皮吸収率!C5=0,\"\",経皮吸収率!C5)","v":1}]
[null,null,"② 評価対象有効成分",null,{"$f":"入力シート!E5","v":0},null,null,null,null,null,null,null,null,"希釈液１","希釈液",null,{"$f":"IF(VLOOKUP(N5,経皮吸収率!$B$6:$C$16,2,FALSE)=\"\",\"\",ROUND(VLOOKUP(N5,経皮吸収率!$B$6:$C$16,2,FALSE), 0))","v":1000}]
[null,null,"③-1 AOEL",null,{"$f":"IF(入力シート!E6=0, \"\",入力シート!E6)","v":""},"(mg/kg体重/日)",null,null,null,"【補助２】面積について",null,null,null,"希釈液２",null,null,{"$f":"IF(VLOOKUP(N6,経皮吸収率!$B$6:$C$16,2,FALSE)=\"\",\"\",ROUND(VLOOKUP(N6,経皮吸収率!$B$6:$C$16,2,FALSE), 0))","v":""}]
[null,null,"③-2 AAOEL",null,{"$f":"IF(入力シート!E7=0, \"設定不要\",入力シート!E7)","v":"設定不要"},{"$f":"IF(E7=\"設定不要\", \"\", \"(mg/kg体重)\")","v":""},null,null,null,{"$f":"IF(補助2!B4>0,\"任意の面積を設定\",\"デフォルト値を使用\")","v":"デフォルト値を使用"},null,null,null,"希釈液３",null,null,{"$f":"IF(VLOOKUP(N7,経皮吸収率!$B$6:$C$16,2,FALSE)=\"\",\"\",ROUND(VLOOKUP(N7,経皮吸収率!$B$6:$C$16,2,FALSE), 0))","v":""}]
[null,null,"④ 有効成分濃度・含有率",null,{"$f":"入力シート!E10","v":0},null,null,"％",null,null,null,null,null,"希釈液４",null,null,{"$f":"IF(VLOOKUP(N8,経皮吸収率!$B$6:$C$16,2,FALSE)=\"\",\"\",ROUND(VLOOKUP(N8,経皮吸収率!$B$6:$C$16,2,FALSE), 0))","v":""}]
[null,null,"⑤ 製剤の形態 (製剤/散布液)",null,{"$f":"入力シート!E11","v":0},null,null,null,null,null,null,null,null,"希釈液５",null,null,{"$f":"IF(VLOOKUP(N9,経皮吸収率!$B$6:$C$16,2,FALSE)=\"\",\"\",ROUND(VLOOKUP(N9,経皮吸収率!$B$6:$C$16,2,FALSE), 0))","v":""}]
[null,null,"⑥ 調製時の予測式",null,{"$f":"入力シート!E12","v":0},null,null,null,null,null,null,null,null,"希釈液６",null,null,{"$f":"IF(VLOOKUP(N10,経皮吸収率!$B$6:$C$16,2,FALSE)=\"\",\"\",ROUND(VLOOKUP(N10,経皮吸収率!$B$6:$C$16,2,FALSE), 0))","v":""}]
[null,null,null,null,null,null,null,null,null,null,null,null,null,"希釈液７",null,null,{"$f":"IF(VLOOKUP(N11,経皮吸収率!$B$6:$C$16,2,FALSE)=\"\",\"\",ROUND(VLOOKUP(N11,経皮吸収率!$B$6:$C$16,2,FALSE), 0))","v":""}]
[null,null,null,null,null,null,null,null,null,null,null,null,null,"希釈液８",null,null,{"$f":"IF(VLOOKUP(N12,経皮吸収率!$B$6:$C$16,2,FALSE)=\"\",\"\",ROUND(VLOOKUP(N12,経皮吸収率!$B$6:$C$16,2,FALSE), 0))","v":""}]
[null,null,null,null,null,null,null,null,null,null,null,null,null,"希釈液９",null,null,{"$f":"IF(VLOOKUP(N13,経皮吸収率!$B$6:$C$16,2,FALSE)=\"\",\"\",ROUND(VLOOKUP(N13,経皮吸収率!$B$6:$C$16,2,FALSE), 0))","v":""}]
[null,null,null,null,null,null,null,null,null,null,null,null,null,"希釈液１０",null,null,{"$f":"IF(VLOOKUP(N14,経皮吸収率!$B$6:$C$16,2,FALSE)=\"\",\"\",ROUND(VLOOKUP(N14,経皮吸収率!$B$6:$C$16,2,FALSE), 0))","v":""}]
[null,null,null,null,null,null,null,null,null,null,null,null,null,"希釈液１１",null,null,{"$f":"IF(VLOOKUP(N15,経皮吸収率!$B$6:$C$16,2,FALSE)=\"\",\"\",ROUND(VLOOKUP(N15,経皮吸収率!$B$6:$C$16,2,FALSE), 0))","v":""}]
[]
[null,"使用番号","⑦作物名",null,"使用方法等\n（投下量／使用時期／使用方法／評価に用いた使用回数）",null,null,null,null,"希釈\n倍数","散布時の予測式","防護装備なし",null,null,null,"防護装備あり",null,null,null,null,null,null,null,null,"備考"]
[null,null,null,null,null,null,null,null,null,null,null,"反復","急性","%AOEL\n1)","%AAOEL\n2)","調製時",null,"散布時",null,null,"反復","急性","%AOEL\n1)","%AAOEL\n2)"]
[1000000,null,null,null,null,null,null,null,null,null,null,"（µg ai/kg体重/日）","（µg ai/kg体重）",null,null,"マスク","手袋","防護服","マスク","手袋","（µg ai/kg体重/日）","（µg ai/kg体重）"]
[1000001,1,{"$f":"IF(B20 = \"\", \"\", VLOOKUP(A20,計算シート!A:C,3,FALSE)&IF(ISBLANK(VLOOKUP(A20,入力シート!A:D,4,FALSE))=TRUE, \"\", \"　(\"))&VLOOKUP(A20,入力シート!A:D,4,FALSE)&IF(ISBLANK(VLOOKUP(A20,入力シート!A:D,4,FALSE))=TRUE,\"\",\")\")","v":""},null,{"$f":"IF(B20=\"\",\"\", 計算シート!EY20&\"／\"&VLOOKUP(A20,計算シート!A:F,4,FALSE)&\"／\"&VLOOKUP(A20,計算シート!A:F,5,FALSE)&IF(VLOOKUP(A20,計算シート!A:EW,149,FALSE)=\"\", \"\", \"／\")&VLOOKUP(A20,計算シート!A:ET,150,FALSE))","v":"／0／0／"},null,null,null,null,{"$f":"IF(B20=\"\", \"\", IF(VLOOKUP(A20, 計算シート!A:G, 7, FALSE)=1, VLOOKUP(A20, 計算シート!A:H, 8, FALSE), VLOOKUP(A20, 計算シート!A:P, 16, FALSE)))","v":{"$error":"#VALUE!"}},{"$f":"IF(B20=\"\",\"\",VLOOKUP(B20,計算シート!B20:AB1250,27,FALSE)&\"（\"&VLOOKUP(B20,計算シート!B20:AC1250,28,FALSE)&\"）\")","v":{"$error":"#N/A"}},{"$f":"IF(B20>0, IF(ISNA(VLOOKUP(B20, 計算シート!FK:FP, 6, FALSE)) = TRUE, \"ERROR\", ROUND(VLOOKUP(B20, 計算シート!FK:FL, 2, FALSE), 1)), \"\")","v":"ERROR"},{"$f":"IF(B20>0, IF(ISNA(VLOOKUP(B20, 計算シート!FK:FP, 6, FALSE)) = TRUE, \"ERROR\", ROUND(VLOOKUP(B20, 計算シート!FK:FM, 3, FALSE), 1)), \"\")","v":"ERROR"},{"$f":"IF(B20=\"\",\"\",ROUND(VLOOKUP('出力シート（主要）'!B20,計算シート!FR:FX,4,FALSE),1))","v":{"$error":"#N/A"}},{"$f":"IF($E$7=\"設定不要\", \"-\", IF(B20=\"\", \"\", ROUND(VLOOKUP(B20, 計算シート!FR:FX, 5, FALSE), 1)))","v":"-"},null,null,null,null,null,{"$f":"IF(B20 =\"\", \"\", ROUND(VLOOKUP(B20,計算シート!FK:FN,4,FALSE), 1))","v":{"$error":"#N/A"}},{"$f":"IF(B20=\"\", \"\", ROUND(VLOOKUP(B20,計算シート!FK:FO,5,FALSE), 1))","v":{"$error":"#N/A"}},{"$f":"IF(B20=\"\", \"\", ROUND(VLOOKUP(B20, 計算シート!FR:FX, 6, FALSE), 1))","v":{"$error":"#N/A"}},{"$f":"IF($E$7=\"設定不要\",\"-\", IF(B20=\"\",\"\", ROUND(VLOOKUP(B20, 計算シート!FR:FX, 7, FALSE), 1)))","v":"-"},null,{"$f":"IF(ISNA(VLOOKUP(B20, 計算シート!B:EV, 151, FALSE))=TRUE, \"\", VLOOKUP(B20, 計算シート!B:EV, 151, FALSE))","v":""},{"$f":"CHAR(10)&C20&CHAR(10)","v":"\n\n"},{"$f":"CHAR(10)&E20&CHAR(10)","v":"\n／0／0／\n"},{"$f":"CHAR(10)&K20&CHAR(10)","v":{"$error":"#N/A"}}]
[1000002]
[1000003]
[1000004]
[1000005]
[1000006]
[1000007]
[1000008]
[1000009]
[1000010]
[1000011]
[1000012]
[1000013]
[1000014]
[1000015]
[1000016]
[1000017]
[1000018]
[1000019]
[1000020]
[1000021]
[1000022]
[1000023]
[1000024]
[1000025]
[1000026]
[1000027]
[1000028]
[1000029]
[1000030]
[1000031]
[1000032]
[1000033]
[1000034]
[1000035]
[1000036]
[1000037]
[1000038]
[1000039]
[1000040]
[1000041]
[1000042]
[1000043]
[1000044]
[1000045]
[1000046]
[1000047]
[1000048]
[1000049]
[1000050]
[1000051]
[1000052]
[1000053]
[1000054]
[1000055]
[1000056]
[1000057]
[1000058]
[1000059]
[1000060]
[1000061]
[1000062]
[1000063]
[1000064]
[1000065]
[1000066]
[1000067]
[1000068]
[1000069]
[1000070]
[1000071]
[1000072]
[1000073]
[1000074]
[1000075]
[1000076]
[1000077]
[1000078]
[1000079]
[1000080]
[1000081]
[1000082]
[1000083]
[1000084]
[1000085]
[1000086]
[1000087]
[1000088]
[1000089]
[1000090]
[1000091]
[1000092]
[1000093]
[1000094]
[1000095]
[1000096]
[1000097]
[1000098]
[1000099]
[1000100]
[1000101]
[1000102]
[1000103]
[1000104]
[1000105]
[1000106]
[1000107]
[1000108]
[1000109]
[1000110]
[1000111]
[1000112]
[1000113]
[1000114]
[1000115]
[1000116]
[1000117]
[1000118]
[1000119]
[1000120]
[1000121]
[1000122]
[1000123]
[1000124]
[1000125]
[1000126]
[1000127]
[1000128]
[1000129]
[1000130]
[1000131]
[1000132]
[1000133]
[1000134]
[1000135]
[1000136]
[1000137]
[1000138]
[1000139]
[1000140]
[1000141]
[1000142]
[1000143]
[1000144]
[1000145]
[1000146]
[1000147]
[1000148]
[1000149]
[1000150]
[1000151]
[1000152]
[1000153]
[1000154]
[1000155]
[1000156]
[1000157]
[1000158]
[1000159]
[1000160]
[1000161]
[1000162]
[1000163]
[1000164]
[1000165]
[1000166]
[1000167]
[1000168]
[1000169]
[1000170]
[1000171]
[1000172]
[1000173]
[1000174]
[1000175]
[1000176]
[1000177]
[1000178]
[1000179]
[1000180]
[1000181]
[1000182]
[1000183]
[1000184]
[1000185]
[1000186]
[1000187]
[1000188]
[1000189]
[1000190]
[1000191]
[1000192]
[1000193]
[1000194]
[1000195]
[1000196]
[1000197]
[1000198]
[1000199]
[1000200]
[1000201]
[1000202]
[1000203]
[1000204]
[1000205]
[1000206]
[1000207]
[1000208]
[1000209]
[1000210]
[1000211]
[1000212]
[1000213]
[1000214]
[1000215]
[1000216]
[1000217]
[1000218]
[1000219]
[1000220]
[1000221]
[1000222]
[1000223]
[1000224]
[1000225]
[1000226]
[1000227]
[1000228]
[1000229]
[1000230]
[1000231]
[1000232]
[1000233]
[1000234]
[1000235]
[1000236]
[1000237]
[1000238]
[1000239]
[1000240]
[1000241]
[1000242]
[1000243]
[1000244]
[1000245]
[1000246]
[1000247]
[1000248]
[1000249]
[1000250]
[1000251]
["      1)：AOEL占有率＝反復暴露量（µg ai/kg体重/日）÷1000（µg/mg）÷AOEL（mg/kg体重/日）×100"]
["      2)：AAOEL占有率＝急性暴露量（µg ai/kg体重）÷1000（µg/mg）÷AAOEL（mg/kg体重）×100"]
["          　　なお、体重当たり暴露量の計算には国民の平均体重55.1 kgを用いている。"]

{"sheet":"出力シート（サブ）","index":12,"n_rows":20,"n_cols":15,"rows_kept":20,"cut":false,"hidden":false,"merged":[[11,3,11,14],[16,1,18,1],[16,14,18,14],[16,2,18,2],[16,12,17,13],[16,3,18,3],[17,4,18,4],[16,6,18,6],[17,7,18,7],[17,5,18,5],[17,8,18,8],[16,10,17,11],[16,9,18,9]]}
[]
[]
[]
[]
[]
[]
[]
[]
[]
[]
[]
[null,null,null,{"$f":"\"登録番号\"&入力シート!E2&\"   \"&入力シート!E3&\"(\"&入力シート!E4&\")\"&\"の使用者暴露量の推定\"&\"        \"&入力シート!E5","v":"登録番号   ()の使用者暴露量の推定        "}]
[]
[]
[]
[]
[null,"使用\n番号","作物名","反復暴露の計算に用いる面積\n（１日平均作業面積）",null,null,"急性暴露の計算に用いる面積\n（１日標準作業面積）",null,null,"【補助２】\n任意の面積 (a)","投下有効成分量",null,"1日あたり有効成分\n投下量(g)",null,"備考"]
[null,null,null,null,"面積\n（a）","（箱）",null,"面積\n（a）","（箱）"]
[1000000,null,null,null,null,null,null,null,null,null,"g/10a","g/箱","反復","急性"]
[null,{"$f":"計算シート!B20","v":1},{"$f":"IF(B20=\"\",\"\",VLOOKUP(B20,計算シート!B:C,2,FALSE))","v":""},{"$f":"IF(B20=\"\",\"\", IF(G20=\"芝\", \"芝\", IF(AND(VLOOKUP(B20,計算シート!$EZ$20:$FA$1250, 2, FALSE)=0, G20=\"果樹（立体）\")=TRUE, \"樹木類\", VLOOKUP(B20,計算シート!$EZ$20:$FA$1250, 2, FALSE))))","v":{"$error":"#N/A"}},{"$f":"IF(B20=\"\",\"\", IF(VLOOKUP(B20,計算シート!EZ:FB,3,FALSE) =\"\", \"\", ROUND(VLOOKUP(B20,計算シート!EZ:FB,3,FALSE), 1)))","v":""},{"$f":"IF(VLOOKUP(B20,計算シート!EZ:FC,4,FALSE)=\"\",\"\", ROUND(VLOOKUP(B20,計算シート!EZ:FC,4,FALSE), 1))","v":""},{"$f":"IF(B20=\"\",\"\", VLOOKUP('出力シート（サブ）'!B20,計算シート!EZ:FD,5,FALSE))","v":{"$error":"#N/A"}},{"$f":"IF(B20=\"\", \"\", IF(VLOOKUP(B20,計算シート!EZ:FE,6,FALSE)=\"\",\"\", VLOOKUP(B20,計算シート!EZ:FE,6,FALSE)))","v":""},{"$f":"IF(VLOOKUP(B20,計算シート!EZ:FF,7,FALSE)=\"\",\"\", VLOOKUP(B20,計算シート!EZ:FF,7,FALSE))","v":""},{"$f":"IF(B20=\"\", \"\", IF(ISNA(VLOOKUP(B20,補助2!B:F,5,FALSE))=TRUE, \"-\", VLOOKUP(B20,補助2!B:F,5,FALSE)))","v":"-"},{"$f":"IF(B20=\"\", \"\", VLOOKUP('出力シート（サブ）'!B20,計算シート!EZ:FG,8,FALSE))","v":0},{"$f":"IF(B20=\"\", \"\", VLOOKUP(B20, 計算シート!EZ:FH, 9, FALSE))","v":""},{"$f":"IF(B20=\"\",\"\", ROUND(VLOOKUP(B20,計算シート!EZ:FI,10,FALSE), 1))","v":{"$error":"#VALUE!"}},{"$f":"IF(B20=\"\",\"\", ROUND(VLOOKUP(B20,計算シート!EZ:FJ,11, FALSE),1))","v":{"$error":"#VALUE!"}}]

{"sheet":"作物名エラーの場合","index":13,"n_rows":100,"n_cols":6,"rows_kept":100,"cut":false,"hidden":false,"merged":[[1,1,1,5]]}
[]
[null,"出力シートの暴露量に「ERROR」が表示されたとき"]
[]
[null,"使用\n番号","作物","使用方法","１日平均作業面積を\n算出するための栽培面積","１日標準作業面積"]
[null,null,{"$f":"IF(B5=\"\", \"\", VLOOKUP(B5,計算シート!B:C,2,FALSE))","v":""},{"$f":"IF(B5=\"\", \"\", VLOOKUP(B5,計算シート!$B$20:$M$300,4,FALSE))","v":""}]
[null,null,{"$f":"IF(B6=\"\", \"\", VLOOKUP(B6,計算シート!$B$20:$D$300,2,FALSE))","v":""},{"$f":"IF(B6=\"\", \"\", VLOOKUP(B6,計算シート!$B$20:$M$300,4,FALSE))","v":""}]
[null,null,{"$f":"IF(B7=\"\", \"\", VLOOKUP(B7,計算シート!$B$20:$D$300,2,FALSE))","v":""},{"$f":"IF(B7=\"\", \"\", VLOOKUP(B7,計算シート!$B$20:$M$300,4,FALSE))","v":""}]
[null,null,{"$f":"IF(B8=\"\", \"\", VLOOKUP(B8,計算シート!$B$20:$D$300,2,FALSE))","v":""},{"$f":"IF(B8=\"\", \"\", VLOOKUP(B8,計算シート!$B$20:$M$300,4,FALSE))","v":""}]
[null,null,{"$f":"IF(B9=\"\", \"\", VLOOKUP(B9,計算シート!$B$20:$D$300,2,FALSE))","v":""},{"$f":"IF(B9=\"\", \"\", VLOOKUP(B9,計算シート!$B$20:$M$300,4,FALSE))","v":""}]
[null,null,{"$f":"IF(B10=\"\", \"\", VLOOKUP(B10,計算シート!$B$20:$D$300,2,FALSE))","v":""},{"$f":"IF(B10=\"\", \"\", VLOOKUP(B10,計算シート!$B$20:$M$300,4,FALSE))","v":""}]
[null,null,{"$f":"IF(B11=\"\", \"\", VLOOKUP(B11,計算シート!$B$20:$D$300,2,FALSE))","v":""},{"$f":"IF(B11=\"\", \"\", VLOOKUP(B11,計算シート!$B$20:$M$300,4,FALSE))","v":""}]
[null,null,{"$f":"IF(B12=\"\", \"\", VLOOKUP(B12,計算シート!$B$20:$D$300,2,FALSE))","v":""},{"$f":"IF(B12=\"\", \"\", VLOOKUP(B12,計算シート!$B$20:$M$300,4,FALSE))","v":""}]
[null,null,{"$f":"IF(B13=\"\", \"\", VLOOKUP(B13,計算シート!$B$20:$D$300,2,FALSE))","v":""},{"$f":"IF(B13=\"\", \"\", VLOOKUP(B13,計算シート!$B$20:$M$300,4,FALSE))","v":""}]
[null,null,{"$f":"IF(B14=\"\", \"\", VLOOKUP(B14,計算シート!$B$20:$D$300,2,FALSE))","v":""},{"$f":"IF(B14=\"\", \"\", VLOOKUP(B14,計算シート!$B$20:$M$300,4,FALSE))","v":""}]
[null,null,{"$f":"IF(B15=\"\", \"\", VLOOKUP(B15,計算シート!$B$20:$D$300,2,FALSE))","v":""},{"$f":"IF(B15=\"\", \"\", VLOOKUP(B15,計算シート!$B$20:$M$300,4,FALSE))","v":""}]
[null,null,{"$f":"IF(B16=\"\", \"\", VLOOKUP(B16,計算シート!$B$20:$D$300,2,FALSE))","v":""},{"$f":"IF(B16=\"\", \"\", VLOOKUP(B16,計算シート!$B$20:$M$300,4,FALSE))","v":""}]
[null,null,{"$f":"IF(B17=\"\", \"\", VLOOKUP(B17,計算シート!$B$20:$D$300,2,FALSE))","v":""},{"$f":"IF(B17=\"\", \"\", VLOOKUP(B17,計算シート!$B$20:$M$300,4,FALSE))","v":""}]
[null,null,{"$f":"IF(B18=\"\", \"\", VLOOKUP(B18,計算シート!$B$20:$D$300,2,FALSE))","v":""},{"$f":"IF(B18=\"\", \"\", VLOOKUP(B18,計算シート!$B$20:$M$300,4,FALSE))","v":""}]
[null,null,{"$f":"IF(B19=\"\", \"\", VLOOKUP(B19,計算シート!$B$20:$D$300,2,FALSE))","v":""},{"$f":"IF(B19=\"\", \"\", VLOOKUP(B19,計算シート!$B$20:$M$300,4,FALSE))","v":""}]
[null,null,{"$f":"IF(B20=\"\", \"\", VLOOKUP(B20,計算シート!$B$20:$D$300,2,FALSE))","v":""},{"$f":"IF(B20=\"\", \"\", VLOOKUP(B20,計算シート!$B$20:$M$300,4,FALSE))","v":""}]
[null,null,{"$f":"IF(B21=\"\", \"\", VLOOKUP(B21,計算シート!$B$20:$D$300,2,FALSE))","v":""},{"$f":"IF(B21=\"\", \"\", VLOOKUP(B21,計算シート!$B$20:$M$300,4,FALSE))","v":""}]
[null,null,{"$f":"IF(B22=\"\", \"\", VLOOKUP(B22,計算シート!$B$20:$D$300,2,FALSE))","v":""},{"$f":"IF(B22=\"\", \"\", VLOOKUP(B22,計算シート!$B$20:$M$300,4,FALSE))","v":""}]
[null,null,{"$f":"IF(B23=\"\", \"\", VLOOKUP(B23,計算シート!$B$20:$D$300,2,FALSE))","v":""},{"$f":"IF(B23=\"\", \"\", VLOOKUP(B23,計算シート!$B$20:$M$300,4,FALSE))","v":""}]
[null,null,{"$f":"IF(B24=\"\", \"\", VLOOKUP(B24,計算シート!$B$20:$D$300,2,FALSE))","v":""},{"$f":"IF(B24=\"\", \"\", VLOOKUP(B24,計算シート!$B$20:$M$300,4,FALSE))","v":""}]
[null,null,{"$f":"IF(B25=\"\", \"\", VLOOKUP(B25,計算シート!$B$20:$D$300,2,FALSE))","v":""},{"$f":"IF(B25=\"\", \"\", VLOOKUP(B25,計算シート!$B$20:$M$300,4,FALSE))","v":""}]
[null,null,{"$f":"IF(B26=\"\", \"\", VLOOKUP(B26,計算シート!$B$20:$D$300,2,FALSE))","v":""},{"$f":"IF(B26=\"\", \"\", VLOOKUP(B26,計算シート!$B$20:$M$300,4,FALSE))","v":""}]
[null,null,{"$f":"IF(B27=\"\", \"\", VLOOKUP(B27,計算シート!$B$20:$D$300,2,FALSE))","v":""},{"$f":"IF(B27=\"\", \"\", VLOOKUP(B27,計算シート!$B$20:$M$300,4,FALSE))","v":""}]
[null,null,{"$f":"IF(B28=\"\", \"\", VLOOKUP(B28,計算シート!$B$20:$D$300,2,FALSE))","v":""},{"$f":"IF(B28=\"\", \"\", VLOOKUP(B28,計算シート!$B$20:$M$300,4,FALSE))","v":""}]
[null,null,{"$f":"IF(B29=\"\", \"\", VLOOKUP(B29,計算シート!$B$20:$D$300,2,FALSE))","v":""},{"$f":"IF(B29=\"\", \"\", VLOOKUP(B29,計算シート!$B$20:$M$300,4,FALSE))","v":""}]
[null,null,{"$f":"IF(B30=\"\", \"\", VLOOKUP(B30,計算シート!$B$20:$D$300,2,FALSE))","v":""},{"$f":"IF(B30=\"\", \"\", VLOOKUP(B30,計算シート!$B$20:$M$300,4,FALSE))","v":""}]
[null,null,{"$f":"IF(B31=\"\", \"\", VLOOKUP(B31,計算シート!$B$20:$D$300,2,FALSE))","v":""},{"$f":"IF(B31=\"\", \"\", VLOOKUP(B31,計算シート!$B$20:$M$300,4,FALSE))","v":""}]
[null,null,{"$f":"IF(B32=\"\", \"\", VLOOKUP(B32,計算シート!$B$20:$D$300,2,FALSE))","v":""},{"$f":"IF(B32=\"\", \"\", VLOOKUP(B32,計算シート!$B$20:$M$300,4,FALSE))","v":""}]
[null,null,{"$f":"IF(B33=\"\", \"\", VLOOKUP(B33,計算シート!$B$20:$D$300,2,FALSE))","v":""},{"$f":"IF(B33=\"\", \"\", VLOOKUP(B33,計算シート!$B$20:$M$300,4,FALSE))","v":""}]
[null,null,{"$f":"IF(B34=\"\", \"\", VLOOKUP(B34,計算シート!$B$20:$D$300,2,FALSE))","v":""},{"$f":"IF(B34=\"\", \"\", VLOOKUP(B34,計算シート!$B$20:$M$300,4,FALSE))","v":""}]
[null,null,{"$f":"IF(B35=\"\", \"\", VLOOKUP(B35,計算シート!$B$20:$D$300,2,FALSE))","v":""},{"$f":"IF(B35=\"\", \"\", VLOOKUP(B35,計算シート!$B$20:$M$300,4,FALSE))","v":""}]
[null,null,{"$f":"IF(B36=\"\", \"\", VLOOKUP(B36,計算シート!$B$20:$D$300,2,FALSE))","v":""},{"$f":"IF(B36=\"\", \"\", VLOOKUP(B36,計算シート!$B$20:$M$300,4,FALSE))","v":""}]
[null,null,{"$f":"IF(B37=\"\", \"\", VLOOKUP(B37,計算シート!$B$20:$D$300,2,FALSE))","v":""},{"$f":"IF(B37=\"\", \"\", VLOOKUP(B37,計算シート!$B$20:$M$300,4,FALSE))","v":""}]
[null,null,{"$f":"IF(B38=\"\", \"\", VLOOKUP(B38,計算シート!$B$20:$D$300,2,FALSE))","v":""},{"$f":"IF(B38=\"\", \"\", VLOOKUP(B38,計算シート!$B$20:$M$300,4,FALSE))","v":""}]
[null,null,{"$f":"IF(B39=\"\", \"\", VLOOKUP(B39,計算シート!$B$20:$D$300,2,FALSE))","v":""},{"$f":"IF(B39=\"\", \"\", VLOOKUP(B39,計算シート!$B$20:$M$300,4,FALSE))","v":""}]
[null,null,{"$f":"IF(B40=\"\", \"\", VLOOKUP(B40,計算シート!$B$20:$D$300,2,FALSE))","v":""},{"$f":"IF(B40=\"\", \"\", VLOOKUP(B40,計算シート!$B$20:$M$300,4,FALSE))","v":""}]
[null,null,{"$f":"IF(B41=\"\", \"\", VLOOKUP(B41,計算シート!$B$20:$D$300,2,FALSE))","v":""},{"$f":"IF(B41=\"\", \"\", VLOOKUP(B41,計算シート!$B$20:$M$300,4,FALSE))","v":""}]
[null,null,{"$f":"IF(B42=\"\", \"\", VLOOKUP(B42,計算シート!$B$20:$D$300,2,FALSE))","v":""},{"$f":"IF(B42=\"\", \"\", VLOOKUP(B42,計算シート!$B$20:$M$300,4,FALSE))","v":""}]
[null,null,{"$f":"IF(B43=\"\", \"\", VLOOKUP(B43,計算シート!$B$20:$D$300,2,FALSE))","v":""},{"$f":"IF(B43=\"\", \"\", VLOOKUP(B43,計算シート!$B$20:$M$300,4,FALSE))","v":""}]
[null,null,{"$f":"IF(B44=\"\", \"\", VLOOKUP(B44,計算シート!$B$20:$D$300,2,FALSE))","v":""},{"$f":"IF(B44=\"\", \"\", VLOOKUP(B44,計算シート!$B$20:$M$300,4,FALSE))","v":""}]
[null,null,{"$f":"IF(B45=\"\", \"\", VLOOKUP(B45,計算シート!$B$20:$D$300,2,FALSE))","v":""},{"$f":"IF(B45=\"\", \"\", VLOOKUP(B45,計算シート!$B$20:$M$300,4,FALSE))","v":""}]
[null,null,{"$f":"IF(B46=\"\", \"\", VLOOKUP(B46,計算シート!$B$20:$D$300,2,FALSE))","v":""},{"$f":"IF(B46=\"\", \"\", VLOOKUP(B46,計算シート!$B$20:$M$300,4,FALSE))","v":""}]
[null,null,{"$f":"IF(B47=\"\", \"\", VLOOKUP(B47,計算シート!$B$20:$D$300,2,FALSE))","v":""},{"$f":"IF(B47=\"\", \"\", VLOOKUP(B47,計算シート!$B$20:$M$300,4,FALSE))","v":""}]
[null,null,{"$f":"IF(B48=\"\", \"\", VLOOKUP(B48,計算シート!$B$20:$D$300,2,FALSE))","v":""},{"$f":"IF(B48=\"\", \"\", VLOOKUP(B48,計算シート!$B$20:$M$300,4,FALSE))","v":""}]
[null,null,{"$f":"IF(B49=\"\", \"\", VLOOKUP(B49,計算シート!$B$20:$D$300,2,FALSE))","v":""},{"$f":"IF(B49=\"\", \"\", VLOOKUP(B49,計算シート!$B$20:$M$300,4,FALSE))","v":""}]
[null,null,{"$f":"IF(B50=\"\", \"\", VLOOKUP(B50,計算シート!$B$20:$D$300,2,FALSE))","v":""},{"$f":"IF(B50=\"\", \"\", VLOOKUP(B50,計算シート!$B$20:$M$300,4,FALSE))","v":""}]
[null,null,{"$f":"IF(B51=\"\", \"\", VLOOKUP(B51,計算シート!$B$20:$D$300,2,FALSE))","v":""},{"$f":"IF(B51=\"\", \"\", VLOOKUP(B51,計算シート!$B$20:$M$300,4,FALSE))","v":""}]
[null,null,{"$f":"IF(B52=\"\", \"\", VLOOKUP(B52,計算シート!$B$20:$D$300,2,FALSE))","v":""},{"$f":"IF(B52=\"\", \"\", VLOOKUP(B52,計算シート!$B$20:$M$300,4,FALSE))","v":""}]
[null,null,{"$f":"IF(B53=\"\", \"\", VLOOKUP(B53,計算シート!$B$20:$D$300,2,FALSE))","v":""},{"$f":"IF(B53=\"\", \"\", VLOOKUP(B53,計算シート!$B$20:$M$300,4,FALSE))","v":""}]
[null,null,{"$f":"IF(B54=\"\", \"\", VLOOKUP(B54,計算シート!$B$20:$D$300,2,FALSE))","v":""},{"$f":"IF(B54=\"\", \"\", VLOOKUP(B54,計算シート!$B$20:$M$300,4,FALSE))","v":""}]
[null,null,{"$f":"IF(B55=\"\", \"\", VLOOKUP(B55,計算シート!$B$20:$D$300,2,FALSE))","v":""},{"$f":"IF(B55=\"\", \"\", VLOOKUP(B55,計算シート!$B$20:$M$300,4,FALSE))","v":""}]
[null,null,{"$f":"IF(B56=\"\", \"\", VLOOKUP(B56,計算シート!$B$20:$D$300,2,FALSE))","v":""},{"$f":"IF(B56=\"\", \"\", VLOOKUP(B56,計算シート!$B$20:$M$300,4,FALSE))","v":""}]
[null,null,{"$f":"IF(B57=\"\", \"\", VLOOKUP(B57,計算シート!$B$20:$D$300,2,FALSE))","v":""},{"$f":"IF(B57=\"\", \"\", VLOOKUP(B57,計算シート!$B$20:$M$300,4,FALSE))","v":""}]
[null,null,{"$f":"IF(B58=\"\", \"\", VLOOKUP(B58,計算シート!$B$20:$D$300,2,FALSE))","v":""},{"$f":"IF(B58=\"\", \"\", VLOOKUP(B58,計算シート!$B$20:$M$300,4,FALSE))","v":""}]
[null,null,{"$f":"IF(B59=\"\", \"\", VLOOKUP(B59,計算シート!$B$20:$D$300,2,FALSE))","v":""},{"$f":"IF(B59=\"\", \"\", VLOOKUP(B59,計算シート!$B$20:$M$300,4,FALSE))","v":""}]
[null,null,{"$f":"IF(B60=\"\", \"\", VLOOKUP(B60,計算シート!$B$20:$D$300,2,FALSE))","v":""},{"$f":"IF(B60=\"\", \"\", VLOOKUP(B60,計算シート!$B$20:$M$300,4,FALSE))","v":""}]
[null,null,{"$f":"IF(B61=\"\", \"\", VLOOKUP(B61,計算シート!$B$20:$D$300,2,FALSE))","v":""},{"$f":"IF(B61=\"\", \"\", VLOOKUP(B61,計算シート!$B$20:$M$300,4,FALSE))","v":""}]
[null,null,{"$f":"IF(B62=\"\", \"\", VLOOKUP(B62,計算シート!$B$20:$D$300,2,FALSE))","v":""},{"$f":"IF(B62=\"\", \"\", VLOOKUP(B62,計算シート!$B$20:$M$300,4,FALSE))","v":""}]
[null,null,{"$f":"IF(B63=\"\", \"\", VLOOKUP(B63,計算シート!$B$20:$D$300,2,FALSE))","v":""},{"$f":"IF(B63=\"\", \"\", VLOOKUP(B63,計算シート!$B$20:$M$300,4,FALSE))","v":""}]
[null,null,{"$f":"IF(B64=\"\", \"\", VLOOKUP(B64,計算シート!$B$20:$D$300,2,FALSE))","v":""},{"$f":"IF(B64=\"\", \"\", VLOOKUP(B64,計算シート!$B$20:$M$300,4,FALSE))","v":""}]
[null,null,{"$f":"IF(B65=\"\", \"\", VLOOKUP(B65,計算シート!$B$20:$D$300,2,FALSE))","v":""},{"$f":"IF(B65=\"\", \"\", VLOOKUP(B65,計算シート!$B$20:$M$300,4,FALSE))","v":""}]
[null,null,{"$f":"IF(B66=\"\", \"\", VLOOKUP(B66,計算シート!$B$20:$D$300,2,FALSE))","v":""},{"$f":"IF(B66=\"\", \"\", VLOOKUP(B66,計算シート!$B$20:$M$300,4,FALSE))","v":""}]
[null,null,{"$f":"IF(B67=\"\", \"\", VLOOKUP(B67,計算シート!$B$20:$D$300,2,FALSE))","v":""},{"$f":"IF(B67=\"\", \"\", VLOOKUP(B67,計算シート!$B$20:$M$300,4,FALSE))","v":""}]
[null,null,{"$f":"IF(B68=\"\", \"\", VLOOKUP(B68,計算シート!$B$20:$D$300,2,FALSE))","v":""},{"$f":"IF(B68=\"\", \"\", VLOOKUP(B68,計算シート!$B$20:$M$300,4,FALSE))","v":""}]
[null,null,{"$f":"IF(B69=\"\", \"\", VLOOKUP(B69,計算シート!$B$20:$D$300,2,FALSE))","v":""},{"$f":"IF(B69=\"\", \"\", VLOOKUP(B69,計算シート!$B$20:$M$300,4,FALSE))","v":""}]
[null,null,{"$f":"IF(B70=\"\", \"\", VLOOKUP(B70,計算シート!$B$20:$D$300,2,FALSE))","v":""},{"$f":"IF(B70=\"\", \"\", VLOOKUP(B70,計算シート!$B$20:$M$300,4,FALSE))","v":""}]
[null,null,{"$f":"IF(B71=\"\", \"\", VLOOKUP(B71,計算シート!$B$20:$D$300,2,FALSE))","v":""},{"$f":"IF(B71=\"\", \"\", VLOOKUP(B71,計算シート!$B$20:$M$300,4,FALSE))","v":""}]
[null,null,{"$f":"IF(B72=\"\", \"\", VLOOKUP(B72,計算シート!$B$20:$D$300,2,FALSE))","v":""},{"$f":"IF(B72=\"\", \"\", VLOOKUP(B72,計算シート!$B$20:$M$300,4,FALSE))","v":""}]
[null,null,{"$f":"IF(B73=\"\", \"\", VLOOKUP(B73,計算シート!$B$20:$D$300,2,FALSE))","v":""},{"$f":"IF(B73=\"\", \"\", VLOOKUP(B73,計算シート!$B$20:$M$300,4,FALSE))","v":""}]
[null,null,{"$f":"IF(B74=\"\", \"\", VLOOKUP(B74,計算シート!$B$20:$D$300,2,FALSE))","v":""},{"$f":"IF(B74=\"\", \"\", VLOOKUP(B74,計算シート!$B$20:$M$300,4,FALSE))","v":""}]
[null,null,{"$f":"IF(B75=\"\", \"\", VLOOKUP(B75,計算シート!$B$20:$D$300,2,FALSE))","v":""},{"$f":"IF(B75=\"\", \"\", VLOOKUP(B75,計算シート!$B$20:$M$300,4,FALSE))","v":""}]
[null,null,{"$f":"IF(B76=\"\", \"\", VLOOKUP(B76,計算シート!$B$20:$D$300,2,FALSE))","v":""},{"$f":"IF(B76=\"\", \"\", VLOOKUP(B76,計算シート!$B$20:$M$300,4,FALSE))","v":""}]
[null,null,{"$f":"IF(B77=\"\", \"\", VLOOKUP(B77,計算シート!$B$20:$D$300,2,FALSE))","v":""},{"$f":"IF(B77=\"\", \"\", VLOOKUP(B77,計算シート!$B$20:$M$300,4,FALSE))","v":""}]
[null,null,{"$f":"IF(B78=\"\", \"\", VLOOKUP(B78,計算シート!$B$20:$D$300,2,FALSE))","v":""},{"$f":"IF(B78=\"\", \"\", VLOOKUP(B78,計算シート!$B$20:$M$300,4,FALSE))","v":""}]
[null,null,{"$f":"IF(B79=\"\", \"\", VLOOKUP(B79,計算シート!$B$20:$D$300,2,FALSE))","v":""},{"$f":"IF(B79=\"\", \"\", VLOOKUP(B79,計算シート!$B$20:$M$300,4,FALSE))","v":""}]
[null,null,{"$f":"IF(B80=\"\", \"\", VLOOKUP(B80,計算シート!$B$20:$D$300,2,FALSE))","v":""},{"$f":"IF(B80=\"\", \"\", VLOOKUP(B80,計算シート!$B$20:$M$300,4,FALSE))","v":""}]
[null,null,{"$f":"IF(B81=\"\", \"\", VLOOKUP(B81,計算シート!$B$20:$D$300,2,FALSE))","v":""},{"$f":"IF(B81=\"\", \"\", VLOOKUP(B81,計算シート!$B$20:$M$300,4,FALSE))","v":""}]
[null,null,{"$f":"IF(B82=\"\", \"\", VLOOKUP(B82,計算シート!$B$20:$D$300,2,FALSE))","v":""},{"$f":"IF(B82=\"\", \"\", VLOOKUP(B82,計算シート!$B$20:$M$300,4,FALSE))","v":""}]
[null,null,{"$f":"IF(B83=\"\", \"\", VLOOKUP(B83,計算シート!$B$20:$D$300,2,FALSE))","v":""},{"$f":"IF(B83=\"\", \"\", VLOOKUP(B83,計算シート!$B$20:$M$300,4,FALSE))","v":""}]
[null,null,{"$f":"IF(B84=\"\", \"\", VLOOKUP(B84,計算シート!$B$20:$D$300,2,FALSE))","v":""},{"$f":"IF(B84=\"\", \"\", VLOOKUP(B84,計算シート!$B$20:$M$300,4,FALSE))","v":""}]
[null,null,{"$f":"IF(B85=\"\", \"\", VLOOKUP(B85,計算シート!$B$20:$D$300,2,FALSE))","v":""},{"$f":"IF(B85=\"\", \"\", VLOOKUP(B85,計算シート!$B$20:$M$300,4,FALSE))","v":""}]
[null,null,{"$f":"IF(B86=\"\", \"\", VLOOKUP(B86,計算シート!$B$20:$D$300,2,FALSE))","v":""},{"$f":"IF(B86=\"\", \"\", VLOOKUP(B86,計算シート!$B$20:$M$300,4,FALSE))","v":""}]
[null,null,{"$f":"IF(B87=\"\", \"\", VLOOKUP(B87,計算シート!$B$20:$D$300,2,FALSE))","v":""},{"$f":"IF(B87=\"\", \"\", VLOOKUP(B87,計算シート!$B$20:$M$300,4,FALSE))","v":""}]
[null,null,{"$f":"IF(B88=\"\", \"\", VLOOKUP(B88,計算シート!$B$20:$D$300,2,FALSE))","v":""},{"$f":"IF(B88=\"\", \"\", VLOOKUP(B88,計算シート!$B$20:$M$300,4,FALSE))","v":""}]
[null,null,{"$f":"IF(B89=\"\", \"\", VLOOKUP(B89,計算シート!$B$20:$D$300,2,FALSE))","v":""},{"$f":"IF(B89=\"\", \"\", VLOOKUP(B89,計算シート!$B$20:$M$300,4,FALSE))","v":""}]
[null,null,{"$f":"IF(B90=\"\", \"\", VLOOKUP(B90,計算シート!$B$20:$D$300,2,FALSE))","v":""},{"$f":"IF(B90=\"\", \"\", VLOOKUP(B90,計算シート!$B$20:$M$300,4,FALSE))","v":""}]
[null,null,{"$f":"IF(B91=\"\", \"\", VLOOKUP(B91,計算シート!$B$20:$D$300,2,FALSE))","v":""},{"$f":"IF(B91=\"\", \"\", VLOOKUP(B91,計算シート!$B$20:$M$300,4,FALSE))","v":""}]
[null,null,{"$f":"IF(B92=\"\", \"\", VLOOKUP(B92,計算シート!$B$20:$D$300,2,FALSE))","v":""},{"$f":"IF(B92=\"\", \"\", VLOOKUP(B92,計算シート!$B$20:$M$300,4,FALSE))","v":""}]
[null,null,{"$f":"IF(B93=\"\", \"\", VLOOKUP(B93,計算シート!$B$20:$D$300,2,FALSE))","v":""},{"$f":"IF(B93=\"\", \"\", VLOOKUP(B93,計算シート!$B$20:$M$300,4,FALSE))","v":""}]
[null,null,{"$f":"IF(B94=\"\", \"\", VLOOKUP(B94,計算シート!$B$20:$D$300,2,FALSE))","v":""},{"$f":"IF(B94=\"\", \"\", VLOOKUP(B94,計算シート!$B$20:$M$300,4,FALSE))","v":""}]
[null,null,{"$f":"IF(B95=\"\", \"\", VLOOKUP(B95,計算シート!$B$20:$D$300,2,FALSE))","v":""},{"$f":"IF(B95=\"\", \"\", VLOOKUP(B95,計算シート!$B$20:$M$300,4,FALSE))","v":""}]
[null,null,{"$f":"IF(B96=\"\", \"\", VLOOKUP(B96,計算シート!$B$20:$D$300,2,FALSE))","v":""},{"$f":"IF(B96=\"\", \"\", VLOOKUP(B96,計算シート!$B$20:$M$300,4,FALSE))","v":""}]
[null,null,{"$f":"IF(B97=\"\", \"\", VLOOKUP(B97,計算シート!$B$20:$D$300,2,FALSE))","v":""},{"$f":"IF(B97=\"\", \"\", VLOOKUP(B97,計算シート!$B$20:$M$300,4,FALSE))","v":""}]
[null,null,{"$f":"IF(B98=\"\", \"\", VLOOKUP(B98,計算シート!$B$20:$D$300,2,FALSE))","v":""},{"$f":"IF(B98=\"\", \"\", VLOOKUP(B98,計算シート!$B$20:$M$300,4,FALSE))","v":""}]
[null,null,{"$f":"IF(B99=\"\", \"\", VLOOKUP(B99,計算シート!$B$20:$D$300,2,FALSE))","v":""},{"$f":"IF(B99=\"\", \"\", VLOOKUP(B99,計算シート!$B$20:$M$300,4,FALSE))","v":""}]
[null,null,{"$f":"IF(B100=\"\", \"\", VLOOKUP(B100,計算シート!$B$20:$D$300,2,FALSE))","v":""},{"$f":"IF(B100=\"\", \"\", VLOOKUP(B100,計算シート!$B$20:$M$300,4,FALSE))","v":""}]

{"sheet":"計算シート","index":14,"n_rows":269,"n_cols":180,"rows_kept":269,"cut":false,"hidden":true,"merged":[[16,156,16,158],[16,159,16,161],[17,139,17,142],[17,105,17,106],[17,110,17,112],[17,155,17,161],[17,128,17,131],[17,118,17,119],[17,120,17,123],[16,133,16,147],[17,147,18,147],[17,132,18,132],[17,143,17,146],[17,133,17,134],[17,135,17,138],[17,96,17,99],[17,100,17,103],[17,124,17,127],[17,113,17,117],[16,6,17,13],[16,14,17,19],[17,75,17,76],[16,118,16,132],[16,105,16,117],[17,107,17,109],[17,90,17,95],[17,104,18,104],[16,75,16,104],[16,1,18,1],[16,2,18,2],[17,88,17,89],[17,82,17,87],[1,1,1,2],[16,42,16,74],[17,66,17,69],[17,21,17,22],[17,33,17,36],[17,60,17,65],[17,58,17,59],[17,41,17,42],[17,51,18,51],[17,44,18,44],[16,4,18,4],[16,20,16,40],[16,5,18,5],[17,52,17,57],[17,29,17,32],[17,74,18,74],[16,3,18,3],[17,70,17,73],[17,37,17,40],[17,23,17,24],[17,25,17,26],[17,176,17,177],[17,178,17,179],[16,176,16,179],[17,173,17,174],[17,166,17,168]]}
[]
[null,"除草剤ですか？",null,null,{"$f":"IF(D2=0,\"\", \"（除草剤）\")","v":""},null,null,{"$f":"IF(入力シート!E11=\"製剤: 固体／散布時: 固体\", 100, 10)+計算シート!D2","v":10}]
[null,null,null,"↑１なら除草剤、０なら殺虫・殺菌剤",null,null,null,"↑除草剤・液＝11、除草剤・固＝101、not除草剤・液＝10、not除草剤・固＝100"]
[]
[]
[]
[]
[]
[]
[]
[]
[]
[]
[]
[]
[null,null,"MAXROWの値→",{"$f":"SUM(ES20:ES2222)","v":0}]
[null,"使用番号","⑦\n作物名","⑨\n使用時期","⑩\n使用方法","⑪\n使用回数","⑧投下量(育苗箱/トレイ/ポットあたりの数値を入れない場合)",null,null,null,null,null,null,null,"育苗箱/トレイ/ポットあたり",null,null,null,null,null,"単位暴露量（µg ai/g ai使用量）",null,null,null,null,null,null,null,null,null,null,null,null,null,null,null,null,null,null,null,null,null,"反復暴露（AOELと比較する）",null,null,null,null,null,null,null,null,null,null,null,null,null,null,null,null,null,null,null,null,null,null,null,null,null,null,null,null,null,null,null,null,"急性暴露（AAOELと比較する）",null,null,null,null,null,null,null,null,null,null,null,null,null,null,null,null,null,null,null,null,null,null,null,null,null,null,null,null,null,"防護装備",null,null,null,null,null,null,null,null,null,null,null,null,"防護装備着用後（AOEL）反復暴露",null,null,null,null,null,null,null,null,null,null,null,null,null,null,"防護装備着用後（AAOEL）急性暴露",null,null,null,null,null,null,null,null,null,null,null,null,null,null,null,null,null,null,null,null,null,null,"反復",null,null,"急性",null,null,null,null,null,null,null,null,null,null,null,null,null,null,null,null,"占有率計算"]
[null,null,null,null,null,null,null,null,null,null,null,null,null,null,null,null,null,null,null,null,null,"【デフォルト】",null,"【補助シート１】",null,"【採用】",null,null,null,"【デフォルト】",null,null,null,"【補助シート１】",null,null,null,"【採用】",null,null,null,"【デフォルト】",null,"【補助3】","本剤の使用回数","【仮】","【上限】","【補助２】","【補助3】","箱","【採用】","有効成分量（ｇ/day）","補正前 (µg ai/day)",null,null,null,null,null,"経皮吸収率",null,"経皮吸収率使用",null,null,null,null,null,"【合計】",null,null,null,"【合計】（体重あたり）",null,null,null,"【全合計】(µgai)","【デフォルト】",null,"【補助２】","【補助3】","【箱】","【採用】",null,"補正前 (µg ai/day)",null,null,null,null,null,"経皮吸収率",null,"経皮吸収率使用",null,null,null,null,null,"【合計】",null,null,null,"【合計】（体重あたり）",null,null,null,"【全合計】(µgai)","⑭-1　調製時",null,"調製時防護率",null,null,"⑭-2　散布時",null,null,"散布時防護率",null,null,null,null,"調製時",null,"散布時",null,null,null,"【合計】",null,null,null,"【合計】（体重あたり）",null,null,null,"【全合計】(µgai)","調製時",null,"散布時",null,null,null,"【合計】",null,null,null,"【合計】（体重あたり）",null,null,null,"【全合計】(µgai)",null,null,null,null,null,null,null,"出力シート（サブ）の作業セル",null,null,null,null,null,null,null,null,null,null,"（主要）の作業セル",null,null,null,null,null,null,"補助１",null,null,"防護装備なし",null,"防護装備あり"]
[1000000,null,null,null,null,null,"判定","希釈\n倍数(倍)","使用\n液量\n(L/10a)","薬量\n(mL/10a)","希釈水量\n(L/10a)","最大投下量(kg/10a)\n粒剤等希釈しないもの","有効成分\n含有率\n(%)","投下\n有効成分量\n(g/10a)","判定","希釈\n倍数(倍)","使用液量\n（L/箱）","使用量\n（g/箱）\n粒剤等希釈しないもの","有効成分\n含有率\n(%)","投下\n有効成分量\n(g/箱)","⑫\n調製時の\n予測式","手","吸気","手","吸気","手","吸気","⑬\n散布時の\n予測式","手散布\n機械散布\n育苗箱","頭","その他","手","呼気","頭","その他","手","呼気","頭","その他","手","呼気","作物群分類\n（リストに名前があって空欄のときは０）","１経営体あたり作付け面積(a)","デフォルト値を使用しない場合",null,"１日平均作業面積(a)","都道府県50%ile(a)","デフォルト値を使用しない場合","デフォルト値を使用しない場合","都道府県\n50%ile\n(箱)","１日平均作業面積(a)\nあるいは\n箱数（箱）",null,"手(調)","吸気（調）","頭（散）","その他（散）","手（散）","吸気（散）","製剤","希釈液","手","吸気","頭","その他","手","吸気","頭","その他","手","吸気","頭","その他","手","吸気",null,"作物分類","１日標準\n作業面積\n(a)","面積（a）","面積（a）","都道府県\n75%ile\n(箱)","１日標準\n作業面積\n(a)\nあるいは\n箱数（箱）","有効成分量（ｇ/day）","手","吸気","頭","その他","手","吸気","製剤","希釈液","手","吸気","頭","その他","手","吸気","頭","その他","手","吸気","頭","その他","手","吸気",null,"マスク","手袋","調製時の剤型","手","吸気","防護服","マスク","手袋","散布時の剤型","頭","その他","手","吸気","手","吸気","頭","その他","手","吸気","頭","その他","手","吸気","頭","その他","手","吸気",null,"手","吸気","頭","その他","手","吸気","頭","その他","手","吸気","頭","その他","手","吸気",null,null,"総使用回数","マスクと保護面の判定","判定結果","投下量(育苗箱/トレイ/ポットあたりの数値を入れない場合)","育苗箱/トレイ/ポットあたり","【採用】","使用番号\n（＝B）","作物群分類\n（＝AL）","面積\n(AP20:AS20)\n育苗箱シナリオの時は都道府県50%ile値","箱数（AT）","作物分類（＝BT)","1日標準作業面積","箱数（BX)","投下\n有効成分量\n(g/10a)","投下\n有効成分量\n(g/箱)","1日あたり有効成分\n投下量(g)\n反復","1日あたり有効成分\n投下量(g)\n急性","使用番号\n（＝B）","防護装備なし\n反復","防護装備なし\n急性","防護装備あり\n反復","防護装備あり\n急性","急性暴露のための作物分類\n（BT）",null,"使用番号（＝B)","手散布\n機械散布\n育苗箱\n（＝Y）",null,"％AOEL","％AAOEL","％AOEL","％AAOEL"]
[1000001,1,{"$f":"IF(A20=\"\",\"\",DBCS(VLOOKUP(A20,入力シート!A:E,3,FALSE)))","v":""},{"$f":"IF(B20=\"\",\"\",VLOOKUP(A20,入力シート!A:N,14,FALSE))","v":0},{"$f":"IF(B20=\"\",\"\",VLOOKUP(A20,入力シート!A:O,15,FALSE))","v":0},{"$f":"IF(B20=\"\",\"\",VLOOKUP(A20,入力シート!A:P,16,FALSE))","v":0},{"$f":"IF(B20=\"\",\"\", IF(SUM(VLOOKUP(A20, 入力シート!A:M, 12), VLOOKUP(A20, 入力シート!A:M, 13))>0, 0, 1))","v":1},{"$f":"IF(B20>0, ROUND(IF(O20=1, P20, IF(VLOOKUP(A20, 入力シート!A:E, 5) = \"\", IF(VLOOKUP(A20, 入力シート!A:K, 11, FALSE) >0, 1, K20*1000/J20), VLOOKUP(A20, 入力シート!A:E,5, FALSE))), 0), \"\")","v":{"$error":"#VALUE!"}},{"$f":"IF(VLOOKUP(A20,入力シート!A:F,6,FALSE)=\"\",\"\",VLOOKUP(A20,入力シート!A:F,6,FALSE))","v":""},{"$f":"IF(VLOOKUP(A20,入力シート!A:H,8,FALSE)=\"\",\"\",VLOOKUP(A20,入力シート!A:H,8,FALSE))","v":""},{"$f":"IF(VLOOKUP(A20,入力シート!A:J,10,FALSE)=\"\",\"\",VLOOKUP(A20,入力シート!A:J,10,FALSE))","v":""},{"$f":"IF(VLOOKUP(A20,入力シート!A:K,11,FALSE)=\"\",\"\",VLOOKUP(A20,入力シート!A:K,11,FALSE))","v":""},{"$f":"IF(G20=1, 入力シート!$E$10, \"\")","v":0},{"$f":"(IF(L20=\"\", 0, (L20*1000)*M20/100))+(IF(I20=\"\", 0, (I20/H20)*1000*M20/100))+IF(J20=\"\", 0, J20*M20/100)","v":0},{"$f":"IF(B20=\"\", \"\", IF(SUM(VLOOKUP(A20, 入力シート!A:M, 12), VLOOKUP(A20, 入力シート!A:M, 13))>0, 1, 0))","v":0},{"$f":"IF(O20 = 1, ROUND(IF(VLOOKUP(A20, 入力シート!A:E, 5) = \"\", \"1\", VLOOKUP(A20, 入力シート!A:E, 5)), 0), \"\")","v":""},{"$f":"IF(O20=0, \"\", IF(VLOOKUP(A20, 入力シート!A:L, 12)=\"\", \"\", VLOOKUP(A20, 入力シート!A:L, 12)))","v":""},{"$f":"IF(O20=0, \"\", IF(VLOOKUP(A20, 入力シート!A:M, 13)=\"\", \"\", VLOOKUP(A20, 入力シート!A:M, 13)))","v":""},{"$f":"IF(O20=1, 入力シート!$E$10, \"\")","v":""},{"$f":"(IF(R20=\"\", 0, (R20)*S20/100))+(IF(Q20=\"\", 0, (Q20/P20)*1000*S20/100))","v":0},{"$f":"IF(C20=\"\", \"\", 入力シート!$E$12)","v":""},{"$f":"IF(C20=\"\",\"\",VLOOKUP(U20,調製時!$B$3:$D$8,2,FALSE))","v":""},{"$f":"IF(C20=\"\",\"\",VLOOKUP(U20,調製時!$B$3:$D$8,3,FALSE))","v":""},{"$f":"IF(ISNA(VLOOKUP(B20,補助1!B:K,5,FALSE)),\"\",IF(VLOOKUP(B20,補助1!B:K,5,FALSE)=\"\",\"\",VLOOKUP(B20,補助1!B:K,5,FALSE)))","v":""},{"$f":"IF(ISNA(VLOOKUP(B20,補助1!B:K,6,FALSE)),\"\",IF(VLOOKUP(B20,補助1!B:K,6,FALSE)=\"\",\"\",VLOOKUP(B20,補助1!B:K,6,FALSE)))","v":""},{"$f":"IF(X20=\"\", V20, X20)","v":""},{"$f":"IF(Y20=\"\", W20, Y20)","v":""},{"$f":"IF(C20=\"\", \"\", VLOOKUP(A20,入力シート!A:R,18,FALSE))","v":""},{"$f":"IF(A19-A20=0,VLOOKUP(AB20,散布時!B$18:G$30,6,FALSE),VLOOKUP(AB20,散布時!B$4:G$17,6,FALSE))","v":{"$error":"#N/A"}},{"$f":"IF(AC20=\"機械散布\",VLOOKUP(AB20,散布時!$B$19:$F$22,2,FALSE),VLOOKUP(AB20,散布時!$B$4:$F$17,2,FALSE))","v":{"$error":"#N/A"}},{"$f":"IF(AC20=\"機械散布\",VLOOKUP(AB20,散布時!$B$19:$F$22,3,FALSE),VLOOKUP(AB20,散布時!$B$4:$F$17,3,FALSE))","v":{"$error":"#N/A"}},{"$f":"IF(AC20=\"機械散布\",VLOOKUP(AB20,散布時!$B$19:$F$22,4,FALSE),VLOOKUP(AB20,散布時!$B$4:$F$17,4,FALSE))","v":{"$error":"#N/A"}},{"$f":"IF(AC20=\"機械散布\",VLOOKUP(AB20,散布時!$B$19:$F$22,5,FALSE),VLOOKUP(AB20,散布時!$B$4:$F$17,5,FALSE))","v":{"$error":"#N/A"}},{"$f":"IF(ISNA(VLOOKUP(B20,補助1!B:K,7,FALSE)),\"\",IF(VLOOKUP(B20,補助1!B:K,7,FALSE)=\"\",\"\",VLOOKUP(B20,補助1!B:K,7,FALSE)))","v":""},{"$f":"IF(ISNA(VLOOKUP(B20,補助1!B:K,8,FALSE)),\"\",IF(VLOOKUP(B20,補助1!B:K,8,FALSE)=\"\",\"\",VLOOKUP(B20,補助1!B:K,8,FALSE)))","v":""},{"$f":"IF(ISNA(VLOOKUP(B20,補助1!B:K,9,FALSE)),\"\",IF(VLOOKUP(B20,補助1!B:K,9,FALSE)=\"\",\"\",VLOOKUP(B20,補助1!B:K,9,FALSE)))","v":""},{"$f":"IF(ISNA(VLOOKUP(B20,補助1!B:K,10,FALSE)),\"\",IF(VLOOKUP(B20,補助1!B:K,10,FALSE)=\"\",\"\",VLOOKUP(B20,補助1!B:K,10,FALSE)))","v":""},{"$f":"IF(AH20=\"\", AD20, AH20)","v":{"$error":"#N/A"}},{"$f":"IF(AI20=\"\", AE20, AI20)","v":{"$error":"#N/A"}},{"$f":"IF(AJ20=\"\", AF20, AJ20)","v":{"$error":"#N/A"}},{"$error":"#N/A"},{"$f":"IF(ISNA(VLOOKUP(C20,作物分類!A:E,5,FALSE))=TRUE, VLOOKUP(B20,作物名エラーの場合!B:F,4,FALSE), VLOOKUP(C20,作物分類!A:E,5,FALSE))","v":{"$error":"#N/A"}},{"$f":"IF($D$2=0, IF(OR(AB20=\"液剤_水稲\",AB20=\"液剤_野菜（平面）\",AB20=\"液剤_果樹（立体）\",AB20=\"液剤_果樹（棚）\"), VLOOKUP(AP20,平均面積!$A$4:$D$24,IF(AC20=\"機械散布\", 3, 2),FALSE), VLOOKUP(AP20,平均面積!$A$4:$D$24,4,FALSE)), VLOOKUP(AP20,平均面積!$A$4:$D$24,4,FALSE))","v":{"$error":"#N/A"}},{"$f":"IF(ISNA(VLOOKUP(B20,補助3!B:F, 5, FALSE))=TRUE, \"\",VLOOKUP(B20,補助3!B:F, 5, FALSE))","v":""},{"$f":"VLOOKUP(A20,入力シート!A:P,16,FALSE)","v":0},{"$f":"IF(ISNA(AQ20*AS20/30) = TRUE, \"\", AQ20*AS20/30)","v":""},{"$f":"IF(ISNA(IF(AC20=\"機械散布\", VLOOKUP(BX20, 標準面積!$B$12:$D$16, 2, FALSE), VLOOKUP(BX20, 標準面積!$B$3:$D$9, 2, FALSE)))=TRUE, \"\", IF(AC20=\"機械散布\", VLOOKUP(BX20, 標準面積!$B$12:$D$16, 2, FALSE), VLOOKUP(BX20, 標準面積!$B$3:$D$9, 2, FALSE)))","v":""},{"$f":"IF(ISNA(VLOOKUP(B20,補助2!$B$4:$F$100,5,FALSE))=TRUE, \"\",VLOOKUP(B20,補助2!$B$4:$F$100,5,FALSE))","v":""},{"$f":"IF(AR20=\"\", \"\", AR20*AS20/30)","v":""},{"$f":"IF(O20=1, 140, \"\")","v":""},{"$f":"IF(C20=\"\", \"\", IF(O20=1, AX20, IF(AC20=\"育苗箱\", AU20, MIN(AT20:AW20))))","v":""},{"$f":"IF(G20=1, N20*AY20/10, T20*AY20)","v":{"$error":"#VALUE!"}},{"$f":"Z20*$AZ20","v":{"$error":"#VALUE!"}},{"$f":"AA20*$AZ20","v":{"$error":"#VALUE!"}},{"$f":"AL20*$AZ20","v":{"$error":"#N/A"}},{"$f":"AM20*$AZ20","v":{"$error":"#N/A"}},{"$f":"AN20*$AZ20","v":{"$error":"#N/A"}},{"$f":"AO20*$AZ20","v":{"$error":"#N/A"}},{"$f":"VLOOKUP(1,'出力シート（主要）'!$Q$4:$T$10,3,FALSE)","v":0},{"$f":"IF(OR(ISNA(VLOOKUP(H20, '出力シート（主要）'!$Q$4:$T$15, 3))=TRUE, VLOOKUP(H20, '出力シート（主要）'!$Q$4:$T$15, 3)=0), \"ERROR\", VLOOKUP(H20, '出力シート（主要）'!$Q$4:$T$15, 3))","v":{"$error":"#VALUE!"}},{"$f":"BA20*BG20/100","v":{"$error":"#VALUE!"}},{"$f":"BB20","v":{"$error":"#VALUE!"}},{"$f":"BC20*BH20/100","v":{"$error":"#N/A"}},{"$f":"BD20*BH20/100","v":{"$error":"#N/A"}},{"$f":"BE20*BH20/100","v":{"$error":"#N/A"}},{"$f":"BF20","v":{"$error":"#N/A"}},{"$f":"BK20","v":{"$error":"#N/A"}},{"$f":"BL20","v":{"$error":"#N/A"}},{"$f":"BI20+BM20","v":{"$error":"#VALUE!"}},{"$f":"BJ20+BN20","v":{"$error":"#VALUE!"}},{"$f":"BO20/55.1","v":{"$error":"#N/A"}},{"$error":"#N/A"},{"$error":"#VALUE!"},{"$error":"#VALUE!"},{"$f":"SUM(BS20:BV20)","v":{"$error":"#N/A"}},{"$f":"IF(ISNA(VLOOKUP(C20, 作物分類!A:E, 4, FALSE))=TRUE, VLOOKUP(B20, 作物名エラーの場合!$B$5:$F$100,5,FALSE), IF(OR(AND(AP20=\"稲\", AB20=\"液剤_水稲_育苗箱\"), AND(AP20=\"稲\", AB20=\"固形剤（粒剤）_水稲_育苗箱\")) = TRUE, \"水稲（育苗箱）\",VLOOKUP(C20, 作物分類!A:E, 4, FALSE)))","v":{"$error":"#N/A"}},{"$f":"IF(ISNA(IF(AC20=\"機械散布\", VLOOKUP(BX20, 標準面積!$B$12:$D$16, 3, FALSE), VLOOKUP(BX20, 標準面積!$B$3:$D$9, 3, FALSE)))=TRUE, \"\", IF(AC20=\"機械散布\", VLOOKUP(BX20, 標準面積!$B$12:$D$16, 3, FALSE), VLOOKUP(BX20, 標準面積!$B$3:$D$9, 3, FALSE)))","v":""},{"$f":"IF(ISNA(VLOOKUP(B20,補助2!$B$4:$F$100,5,FALSE))=TRUE, \"\",VLOOKUP(B20,補助2!$B$4:$F$100,5,FALSE))","v":""},{"$f":"IF(ISNA(VLOOKUP(B20,補助3!B:G, 6, FALSE))=TRUE, \"\",VLOOKUP(B20,補助3!B:G, 6, FALSE))","v":""},{"$f":"IF(O20=1, 240, \"\")","v":""},{"$f":"IF(C20=\"\",\"\",IF(O20=1,CB20,MIN(BY20:CA20)))","v":""},{"$f":"IF(G20=1, N20*CC20/10, T20*CC20)","v":{"$error":"#VALUE!"}},{"$f":"Z20*CD20","v":{"$error":"#VALUE!"}},{"$f":"AA20*CD20","v":{"$error":"#VALUE!"}},{"$f":"AL20*CD20","v":{"$error":"#N/A"}},{"$f":"AM20*CD20","v":{"$error":"#N/A"}},{"$f":"AN20*CD20","v":{"$error":"#N/A"}},{"$f":"AO20*CD20","v":{"$error":"#N/A"}},{"$f":"VLOOKUP(1,'出力シート（主要）'!$Q$4:$T$4,3,FALSE)","v":0},{"$f":"IF(OR(ISNA(VLOOKUP(H20, '出力シート（主要）'!$Q$4:$T$15, 3))=TRUE, VLOOKUP(H20, '出力シート（主要）'!$Q$4:$T$15, 3)=0), \"ERROR\", VLOOKUP(H20, '出力シート（主要）'!$Q$4:$T$15, 3))","v":{"$error":"#VALUE!"}},{"$f":"CE20*CK20/100","v":{"$error":"#VALUE!"}},{"$f":"CF20","v":{"$error":"#VALUE!"}},{"$f":"CG20*CL20/100","v":{"$error":"#N/A"}},{"$f":"CH20*CL20/100","v":{"$error":"#N/A"}},{"$f":"CI20*CL20/100","v":{"$error":"#N/A"}},{"$f":"CJ20","v":{"$error":"#N/A"}},{"$f":"CO20","v":{"$error":"#N/A"}},{"$f":"CP20","v":{"$error":"#N/A"}},{"$f":"CM20+CQ20","v":{"$error":"#VALUE!"}},{"$f":"CN20+CR20","v":{"$error":"#VALUE!"}},{"$f":"CS20/55.1","v":{"$error":"#N/A"}},{"$f":"CT20/55.1","v":{"$error":"#N/A"}},{"$f":"CU20/55.1","v":{"$error":"#VALUE!"}},{"$f":"CV20/55.1","v":{"$error":"#VALUE!"}},{"$f":"SUM(CW20:CZ20)","v":{"$error":"#N/A"}},{"$f":"IF(VLOOKUP(B20,'出力シート（主要）'!B20:P22,15,FALSE)=\"\", \"\", VLOOKUP(B20,'出力シート（主要）'!B20:P22,15,FALSE))","v":""},{"$f":"IF(VLOOKUP($B20,'出力シート（主要）'!$B$20:$T$1079,16,FALSE)=0,\"\",VLOOKUP($B20,'出力シート（主要）'!$B$20:$T$1079,16,FALSE))","v":""},{"$f":"IF(入力シート!$E$11=選択肢!$A$4,\"固\",IF(入力シート!$E$11=選択肢!$A$5, \"固\", \"液\"))","v":"液"},{"$f":"IF(DC20=\"不浸透性手袋\", IF(DD20=\"固\",0.05,0.1), 1)","v":1},{"$f":"IF(DB20=\"\", 1, IF(DB20=\"マスク１\",0.25,0.1))","v":1},{"$f":"IF(VLOOKUP($B20,'出力シート（主要）'!$B$20:$T$1079,17,FALSE)=0,\"\",VLOOKUP($B20,'出力シート（主要）'!$B$20:$T$1079,17,FALSE))","v":""},{"$f":"IF(VLOOKUP($B20,'出力シート（主要）'!$B$20:$T$1079,18,FALSE)=0,\"\",VLOOKUP($B20,'出力シート（主要）'!$B$20:$T$1079,18,FALSE))","v":""},{"$f":"IF(VLOOKUP($B20,'出力シート（主要）'!$B$20:$T$1079,19,FALSE)=0,\"\",VLOOKUP($B20,'出力シート（主要）'!$B$20:$T$1079,19,FALSE))","v":""},{"$f":"IF(入力シート!$E$11=選択肢!$A$4,\"固\",IF(入力シート!$E$11=選択肢!$A$5, \"液\", \"液\"))","v":"液"},{"$f":"IF(DG20=\"保護面＋フード＋不浸透性防除衣\", 0.05, IF(DG20=\"\", IF(DH20=\"\", 1, 0.8), IF(OR(DG20=\"不浸透性防除衣\", DG20=\"長ズボン・長袖の作業衣\")=TRUE, IF(DH20=\"\", 1, VLOOKUP(DH20, 防護装備!$B$13:$C$15,2,FALSE)), IF(DH20=\"\", 0.5, 0.4))))","v":1},{"$f":"IF(DG20=\"\",1,IF(DG20=\"長ズボン・長袖の作業衣\",0.1,0.05))","v":1},{"$f":"IF(DI20=\"不浸透性手袋\", IF(DJ20=\"固\", 0.05, 0.1), 1)","v":1},{"$f":"IF(DH20=\"\", 1, IF(DH20=\"マスク１\",0.25,0.1))","v":1},{"$f":"BI20*DE20","v":{"$error":"#VALUE!"}},{"$f":"BJ20*DF20","v":{"$error":"#VALUE!"}},{"$f":"BK20*DK20","v":{"$error":"#N/A"}},{"$error":"#N/A"},{"$error":"#N/A"},{"$error":"#N/A"},{"$f":"DQ20","v":{"$error":"#N/A"}},{"$f":"DR20","v":{"$error":"#N/A"}},{"$f":"DO20+DS20","v":{"$error":"#VALUE!"}},{"$f":"DT20+DP20","v":{"$error":"#N/A"}},{"$f":"DU20/55.1","v":{"$error":"#N/A"}},{"$error":"#N/A"},{"$error":"#VALUE!"},{"$error":"#N/A"},{"$f":"SUM(DY20:EB20)","v":{"$error":"#N/A"}},{"$f":"CM20*DE20","v":{"$error":"#VALUE!"}},{"$f":"CN20*DF20","v":{"$error":"#VALUE!"}},{"$f":"CO20*DK20","v":{"$error":"#N/A"}},{"$f":"CP20*DL20","v":{"$error":"#N/A"}},{"$f":"CQ20*DM20","v":{"$error":"#N/A"}},{"$f":"CR20*DN20","v":{"$error":"#N/A"}},{"$f":"EF20","v":{"$error":"#N/A"}},{"$f":"EG20","v":{"$error":"#N/A"}},{"$f":"ED20+EH20","v":{"$error":"#VALUE!"}},{"$f":"EE20+EI20","v":{"$error":"#VALUE!"}},{"$f":"EJ20/55.1","v":{"$error":"#N/A"}},{"$error":"#N/A"},{"$error":"#VALUE!"},{"$error":"#VALUE!"},{"$f":"SUM(EN20:EQ20)","v":{"$error":"#N/A"}},{"$f":"IF(C20=\"\", 0, 1)","v":0},{"$f":"IF(C20=\"\",\"\", DBCS(VLOOKUP(A20,入力シート!A:P,16,FALSE)&\"回\"))","v":""},{"$f":"IF(ES20>0, DB20&DG20&DH20, \"\")","v":""},{"$f":"IF(ISNA(VLOOKUP(EU20,選択肢!$N$154:$O$159, 2, FALSE) )= TRUE, \"\", VLOOKUP(EU20, 選択肢!$N$154:$O$159, 2, FALSE))","v":""},{"$f":"IF(VLOOKUP(A20,入力シート!A:K,5,FALSE)=0,\"\",VLOOKUP(A20,入力シート!A:K,5,FALSE)&\" 倍, \"&VLOOKUP(A20,入力シート!A:K,6,FALSE)&\" L/10a\")&IF(VLOOKUP(A20,入力シート!A:K,8,FALSE)=0,\"\",VLOOKUP(A20,入力シート!A:K,8,FALSE)&\" mL, \"&VLOOKUP(A20,入力シート!A:K,10,FALSE)&\" L/10a\")&IF(VLOOKUP(A20,入力シート!A:K,11,FALSE)=0,\"\",VLOOKUP(A20,入力シート!A:K,11,FALSE)&\" kg/10a\")","v":""},{"$f":"IF(VLOOKUP(A20,入力シート!A:M,5,FALSE)=0, IF(VLOOKUP(A20,入力シート!A:M,12,FALSE)=0,\"\",VLOOKUP(A20,入力シート!A:M,12,FALSE)&\" L/箱\"),VLOOKUP(A20,入力シート!A:M,5,FALSE)&\" 倍, \"&VLOOKUP(A20,入力シート!A:M,12,FALSE)&\" L/箱\")&IF(VLOOKUP(A20,入力シート!A:M,13,FALSE)=0,\"\",VLOOKUP(A20,入力シート!A:M,13,FALSE)&\" g/箱\")","v":""},{"$f":"IF(B20=\"\",\"\",IF(G20=1,EW20,EX20))","v":""},{"$f":"B20","v":1},{"$f":"AP20","v":{"$error":"#N/A"}},{"$f":"IF(C20=\"\",\"\",IF(O20=1,\"\",ROUND(AY20,2)))","v":""},{"$f":"AX20","v":""},{"$f":"BX20","v":{"$error":"#N/A"}},{"$f":"IF(C20=\"\",\"\",IF(O20=1,\"\",MIN(BY20:CA20)))","v":""},{"$f":"CB20","v":""},{"$f":"IF(G20=1, ROUND(N20,2), \"\")","v":0},{"$f":"IF(O20=1, ROUND(T20, 2), \"\")","v":""},{"$f":"ROUND(AZ20, 0)","v":{"$error":"#VALUE!"}},{"$f":"ROUND(CD20,0)","v":{"$error":"#VALUE!"}},{"$f":"B20","v":1},{"$f":"BW20","v":{"$error":"#N/A"}},{"$f":"DA20","v":{"$error":"#N/A"}},{"$f":"EC20","v":{"$error":"#N/A"}},{"$f":"ER20","v":{"$error":"#N/A"}},{"$f":"BX20","v":{"$error":"#N/A"}},null,{"$f":"B20","v":1},{"$f":"IF(ISNA(AC20)=TRUE, \"\", AC20)","v":""},null,{"$f":"BW20*100/(入力シート!$E$6*1000)","v":{"$error":"#N/A"}},{"$f":"DA20*100/(入力シート!$E$7*1000)","v":{"$error":"#N/A"}},{"$f":"EC20*100/(入力シート!$E$6*1000)","v":{"$error":"#N/A"}},{"$f":"ER20*100/(入力シート!$E$7*1000)","v":{"$error":"#N/A"}}]
[1000002,null,{"$f":"IF(A21=\"\",\"\",DBCS(VLOOKUP(A21,入力シート!A:E,3,FALSE)))","v":""},null,null,null,null,null,null,null,null,null,null,null,null,null,null,null,null,null,null,null,null,null,null,null,null,null,null,null,null,null,null,null,null,null,null,null,null,null,null,null,null,null,null,null,null,null,null,null,null,null,null,null,null,null,null,null,null,null,null,null,null,null,null,null,null,null,null,null,null,null,null,null,null,null,null,null,null,null,null,null,null,null,null,null,null,null,null,null,null,null,null,null,null,null,null,null,null,null,null,null,null,null,null,null,null,null,null,null,null,null,null,null,null,null,null,null,null,null,null,null,null,null,null,null,null,null,null,null,null,null,null,null,null,null,null,null,null,null,null,null,null,null,null,null,null,null,{"$f":"IF(C21=\"\", 0, 1)","v":0}]
[1000003,null,{"$f":"IF(A22=\"\",\"\",DBCS(VLOOKUP(A22,入力シート!A:E,3,FALSE)))","v":""},null,null,null,null,null,null,null,null,null,null,null,null,null,null,null,null,null,null,null,null,null,null,null,null,null,null,null,null,null,null,null,null,null,null,null,null,null,null,null,null,null,null,null,null,null,null,null,null,null,null,null,null,null,null,null,null,null,null,null,null,null,null,null,null,null,null,null,null,null,null,null,null,null,null,null,null,null,null,null,null,null,null,null,null,null,null,null,null,null,null,null,null,null,null,null,null,null,null,null,null,null,null,null,null,null,null,null,null,null,null,null,null,null,null,null,null,null,null,null,null,null,null,null,null,null,null,null,null,null,null,null,null,null,null,null,null,null,null,null,null,null,null,null,null,null,0]
[1000004,null,{"$f":"IF(A23=\"\",\"\",DBCS(VLOOKUP(A23,入力シート!A:E,3,FALSE)))","v":""},null,null,null,null,null,null,null,null,null,null,null,null,null,null,null,null,null,null,null,null,null,null,null,null,null,null,null,null,null,null,null,null,null,null,null,null,null,null,null,null,null,null,null,null,null,null,null,null,null,null,null,null,null,null,null,null,null,null,null,null,null,null,null,null,null,null,null,null,null,null,null,null,null,null,null,null,null,null,null,null,null,null,null,null,null,null,null,null,null,null,null,null,null,null,null,null,null,null,null,null,null,null,null,null,null,null,null,null,null,null,null,null,null,null,null,null,null,null,null,null,null,null,null,null,null,null,null,null,null,null,null,null,null,null,null,null,null,null,null,null,null,null,null,null,null,0]
[1000005,null,{"$f":"IF(A24=\"\",\"\",DBCS(VLOOKUP(A24,入力シート!A:E,3,FALSE)))","v":""},null,null,null,null,null,null,null,null,null,null,null,null,null,null,null,null,null,null,null,null,null,null,null,null,null,null,null,null,null,null,null,null,null,null,null,null,null,null,null,null,null,null,null,null,null,null,null,null,null,null,null,null,null,null,null,null,null,null,null,null,null,null,null,null,null,null,null,null,null,null,null,null,null,null,null,null,null,null,null,null,null,null,null,null,null,null,null,null,null,null,null,null,null,null,null,null,null,null,null,null,null,null,null,null,null,null,null,null,null,null,null,null,null,null,null,null,null,null,null,null,null,null,null,null,null,null,null,null,null,null,null,null,null,null,null,null,null,null,null,null,null,null,null,null,null,0]
[1000006,null,{"$f":"IF(A25=\"\",\"\",DBCS(VLOOKUP(A25,入力シート!A:E,3,FALSE)))","v":""},null,null,null,null,null,null,null,null,null,null,null,null,null,null,null,null,null,null,null,null,null,null,null,null,null,null,null,null,null,null,null,null,null,null,null,null,null,null,null,null,null,null,null,null,null,null,null,null,null,null,null,null,null,null,null,null,null,null,null,null,null,null,null,null,null,null,null,null,null,null,null,null,null,null,null,null,null,null,null,null,null,null,null,null,null,null,null,null,null,null,null,null,null,null,null,null,null,null,null,null,null,null,null,null,null,null,null,null,null,null,null,null,null,null,null,null,null,null,null,null,null,null,null,null,null,null,null,null,null,null,null,null,null,null,null,null,null,null,null,null,null,null,null,null,null,0]
[1000007,null,{"$f":"IF(A26=\"\",\"\",DBCS(VLOOKUP(A26,入力シート!A:E,3,FALSE)))","v":""},null,null,null,null,null,null,null,null,null,null,null,null,null,null,null,null,null,null,null,null,null,null,null,null,null,null,null,null,null,null,null,null,null,null,null,null,null,null,null,null,null,null,null,null,null,null,null,null,null,null,null,null,null,null,null,null,null,null,null,null,null,null,null,null,null,null,null,null,null,null,null,null,null,null,null,null,null,null,null,null,null,null,null,null,null,null,null,null,null,null,null,null,null,null,null,null,null,null,null,null,null,null,null,null,null,null,null,null,null,null,null,null,null,null,null,null,null,null,null,null,null,null,null,null,null,null,null,null,null,null,null,null,null,null,null,null,null,null,null,null,null,null,null,null,null,0]
[1000008,null,{"$f":"IF(A27=\"\",\"\",DBCS(VLOOKUP(A27,入力シート!A:E,3,FALSE)))","v":""},null,null,null,null,null,null,null,null,null,null,null,null,null,null,null,null,null,null,null,null,null,null,null,null,null,null,null,null,null,null,null,null,null,null,null,null,null,null,null,null,null,null,null,null,null,null,null,null,null,null,null,null,null,null,null,null,null,null,null,null,null,null,null,null,null,null,null,null,null,null,null,null,null,null,null,null,null,null,null,null,null,null,null,null,null,null,null,null,null,null,null,null,null,null,null,null,null,null,null,null,null,null,null,null,null,null,null,null,null,null,null,null,null,null,null,null,null,null,null,null,null,null,null,null,null,null,null,null,null,null,null,null,null,null,null,null,null,null,null,null,null,null,null,null,null,0]
[1000009,null,{"$f":"IF(A28=\"\",\"\",DBCS(VLOOKUP(A28,入力シート!A:E,3,FALSE)))","v":""},null,null,null,null,null,null,null,null,null,null,null,null,null,null,null,null,null,null,null,null,null,null,null,null,null,null,null,null,null,null,null,null,null,null,null,null,null,null,null,null,null,null,null,null,null,null,null,null,null,null,null,null,null,null,null,null,null,null,null,null,null,null,null,null,null,null,null,null,null,null,null,null,null,null,null,null,null,null,null,null,null,null,null,null,null,null,null,null,null,null,null,null,null,null,null,null,null,null,null,null,null,null,null,null,null,null,null,null,null,null,null,null,null,null,null,null,null,null,null,null,null,null,null,null,null,null,null,null,null,null,null,null,null,null,null,null,null,null,null,null,null,null,null,null,null,0]
[1000010,null,{"$f":"IF(A29=\"\",\"\",DBCS(VLOOKUP(A29,入力シート!A:E,3,FALSE)))","v":""},null,null,null,null,null,null,null,null,null,null,null,null,null,null,null,null,null,null,null,null,null,null,null,null,null,null,null,null,null,null,null,null,null,null,null,null,null,null,null,null,null,null,null,null,null,null,null,null,null,null,null,null,null,null,null,null,null,null,null,null,null,null,null,null,null,null,null,null,null,null,null,null,null,null,null,null,null,null,null,null,null,null,null,null,null,null,null,null,null,null,null,null,null,null,null,null,null,null,null,null,null,null,null,null,null,null,null,null,null,null,null,null,null,null,null,null,null,null,null,null,null,null,null,null,null,null,null,null,null,null,null,null,null,null,null,null,null,null,null,null,null,null,null,null,null,0]
[1000011,null,{"$f":"IF(A30=\"\",\"\",DBCS(VLOOKUP(A30,入力シート!A:E,3,FALSE)))","v":""},null,null,null,null,null,null,null,null,null,null,null,null,null,null,null,null,null,null,null,null,null,null,null,null,null,null,null,null,null,null,null,null,null,null,null,null,null,null,null,null,null,null,null,null,null,null,null,null,null,null,null,null,null,null,null,null,null,null,null,null,null,null,null,null,null,null,null,null,null,null,null,null,null,null,null,null,null,null,null,null,null,null,null,null,null,null,null,null,null,null,null,null,null,null,null,null,null,null,null,null,null,null,null,null,null,null,null,null,null,null,null,null,null,null,null,null,null,null,null,null,null,null,null,null,null,null,null,null,null,null,null,null,null,null,null,null,null,null,null,null,null,null,null,null,null,0]
[1000012,null,{"$f":"IF(A31=\"\",\"\",DBCS(VLOOKUP(A31,入力シート!A:E,3,FALSE)))","v":""},null,null,null,null,null,null,null,null,null,null,null,null,null,null,null,null,null,null,null,null,null,null,null,null,null,null,null,null,null,null,null,null,null,null,null,null,null,null,null,null,null,null,null,null,null,null,null,null,null,null,null,null,null,null,null,null,null,null,null,null,null,null,null,null,null,null,null,null,null,null,null,null,null,null,null,null,null,null,null,null,null,null,null,null,null,null,null,null,null,null,null,null,null,null,null,null,null,null,null,null,null,null,null,null,null,null,null,null,null,null,null,null,null,null,null,null,null,null,null,null,null,null,null,null,null,null,null,null,null,null,null,null,null,null,null,null,null,null,null,null,null,null,null,null,null,0]
[1000013,null,{"$f":"IF(A32=\"\",\"\",DBCS(VLOOKUP(A32,入力シート!A:E,3,FALSE)))","v":""},null,null,null,null,null,null,null,null,null,null,null,null,null,null,null,null,null,null,null,null,null,null,null,null,null,null,null,null,null,null,null,null,null,null,null,null,null,null,null,null,null,null,null,null,null,null,null,null,null,null,null,null,null,null,null,null,null,null,null,null,null,null,null,null,null,null,null,null,null,null,null,null,null,null,null,null,null,null,null,null,null,null,null,null,null,null,null,null,null,null,null,null,null,null,null,null,null,null,null,null,null,null,null,null,null,null,null,null,null,null,null,null,null,null,null,null,null,null,null,null,null,null,null,null,null,null,null,null,null,null,null,null,null,null,null,null,null,null,null,null,null,null,null,null,null,0]
[1000014,null,{"$f":"IF(A33=\"\",\"\",DBCS(VLOOKUP(A33,入力シート!A:E,3,FALSE)))","v":""},null,null,null,null,null,null,null,null,null,null,null,null,null,null,null,null,null,null,null,null,null,null,null,null,null,null,null,null,null,null,null,null,null,null,null,null,null,null,null,null,null,null,null,null,null,null,null,null,null,null,null,null,null,null,null,null,null,null,null,null,null,null,null,null,null,null,null,null,null,null,null,null,null,null,null,null,null,null,null,null,null,null,null,null,null,null,null,null,null,null,null,null,null,null,null,null,null,null,null,null,null,null,null,null,null,null,null,null,null,null,null,null,null,null,null,null,null,null,null,null,null,null,null,null,null,null,null,null,null,null,null,null,null,null,null,null,null,null,null,null,null,null,null,null,null,0]
[1000015,null,{"$f":"IF(A34=\"\",\"\",DBCS(VLOOKUP(A34,入力シート!A:E,3,FALSE)))","v":""},null,null,null,null,null,null,null,null,null,null,null,null,null,null,null,null,null,null,null,null,null,null,null,null,null,null,null,null,null,null,null,null,null,null,null,null,null,null,null,null,null,null,null,null,null,null,null,null,null,null,null,null,null,null,null,null,null,null,null,null,null,null,null,null,null,null,null,null,null,null,null,null,null,null,null,null,null,null,null,null,null,null,null,null,null,null,null,null,null,null,null,null,null,null,null,null,null,null,null,null,null,null,null,null,null,null,null,null,null,null,null,null,null,null,null,null,null,null,null,null,null,null,null,null,null,null,null,null,null,null,null,null,null,null,null,null,null,null,null,null,null,null,null,null,null,0]
[1000016,null,{"$f":"IF(A35=\"\",\"\",DBCS(VLOOKUP(A35,入力シート!A:E,3,FALSE)))","v":""},null,null,null,null,null,null,null,null,null,null,null,null,null,null,null,null,null,null,null,null,null,null,null,null,null,null,null,null,null,null,null,null,null,null,null,null,null,null,null,null,null,null,null,null,null,null,null,null,null,null,null,null,null,null,null,null,null,null,null,null,null,null,null,null,null,null,null,null,null,null,null,null,null,null,null,null,null,null,null,null,null,null,null,null,null,null,null,null,null,null,null,null,null,null,null,null,null,null,null,null,null,null,null,null,null,null,null,null,null,null,null,null,null,null,null,null,null,null,null,null,null,null,null,null,null,null,null,null,null,null,null,null,null,null,null,null,null,null,null,null,null,null,null,null,null,0]
[1000017,null,{"$f":"IF(A36=\"\",\"\",DBCS(VLOOKUP(A36,入力シート!A:E,3,FALSE)))","v":""},null,null,null,null,null,null,null,null,null,null,null,null,null,null,null,null,null,null,null,null,null,null,null,null,null,null,null,null,null,null,null,null,null,null,null,null,null,null,null,null,null,null,null,null,null,null,null,null,null,null,null,null,null,null,null,null,null,null,null,null,null,null,null,null,null,null,null,null,null,null,null,null,null,null,null,null,null,null,null,null,null,null,null,null,null,null,null,null,null,null,null,null,null,null,null,null,null,null,null,null,null,null,null,null,null,null,null,null,null,null,null,null,null,null,null,null,null,null,null,null,null,null,null,null,null,null,null,null,null,null,null,null,null,null,null,null,null,null,null,null,null,null,null,null,null,0]
[1000018,null,{"$f":"IF(A37=\"\",\"\",DBCS(VLOOKUP(A37,入力シート!A:E,3,FALSE)))","v":""},null,null,null,null,null,null,null,null,null,null,null,null,null,null,null,null,null,null,null,null,null,null,null,null,null,null,null,null,null,null,null,null,null,null,null,null,null,null,null,null,null,null,null,null,null,null,null,null,null,null,null,null,null,null,null,null,null,null,null,null,null,null,null,null,null,null,null,null,null,null,null,null,null,null,null,null,null,null,null,null,null,null,null,null,null,null,null,null,null,null,null,null,null,null,null,null,null,null,null,null,null,null,null,null,null,null,null,null,null,null,null,null,null,null,null,null,null,null,null,null,null,null,null,null,null,null,null,null,null,null,null,null,null,null,null,null,null,null,null,null,null,null,null,null,null,0]
[1000019,null,{"$f":"IF(A38=\"\",\"\",DBCS(VLOOKUP(A38,入力シート!A:E,3,FALSE)))","v":""},null,null,null,null,null,null,null,null,null,null,null,null,null,null,null,null,null,null,null,null,null,null,null,null,null,null,null,null,null,null,null,null,null,null,null,null,null,null,null,null,null,null,null,null,null,null,null,null,null,null,null,null,null,null,null,null,null,null,null,null,null,null,null,null,null,null,null,null,null,null,null,null,null,null,null,null,null,null,null,null,null,null,null,null,null,null,null,null,null,null,null,null,null,null,null,null,null,null,null,null,null,null,null,null,null,null,null,null,null,null,null,null,null,null,null,null,null,null,null,null,null,null,null,null,null,null,null,null,null,null,null,null,null,null,null,null,null,null,null,null,null,null,null,null,null,0]
[1000020,null,{"$f":"IF(A39=\"\",\"\",DBCS(VLOOKUP(A39,入力シート!A:E,3,FALSE)))","v":""},null,null,null,null,null,null,null,null,null,null,null,null,null,null,null,null,null,null,null,null,null,null,null,null,null,null,null,null,null,null,null,null,null,null,null,null,null,null,null,null,null,null,null,null,null,null,null,null,null,null,null,null,null,null,null,null,null,null,null,null,null,null,null,null,null,null,null,null,null,null,null,null,null,null,null,null,null,null,null,null,null,null,null,null,null,null,null,null,null,null,null,null,null,null,null,null,null,null,null,null,null,null,null,null,null,null,null,null,null,null,null,null,null,null,null,null,null,null,null,null,null,null,null,null,null,null,null,null,null,null,null,null,null,null,null,null,null,null,null,null,null,null,null,null,null,0]
[1000021,null,{"$f":"IF(A40=\"\",\"\",DBCS(VLOOKUP(A40,入力シート!A:E,3,FALSE)))","v":""},null,null,null,null,null,null,null,null,null,null,null,null,null,null,null,null,null,null,null,null,null,null,null,null,null,null,null,null,null,null,null,null,null,null,null,null,null,null,null,null,null,null,null,null,null,null,null,null,null,null,null,null,null,null,null,null,null,null,null,null,null,null,null,null,null,null,null,null,null,null,null,null,null,null,null,null,null,null,null,null,null,null,null,null,null,null,null,null,null,null,null,null,null,null,null,null,null,null,null,null,null,null,null,null,null,null,null,null,null,null,null,null,null,null,null,null,null,null,null,null,null,null,null,null,null,null,null,null,null,null,null,null,null,null,null,null,null,null,null,null,null,null,null,null,null,0]
[1000022,null,{"$f":"IF(A41=\"\",\"\",DBCS(VLOOKUP(A41,入力シート!A:E,3,FALSE)))","v":""},null,null,null,null,null,null,null,null,null,null,null,null,null,null,null,null,null,null,null,null,null,null,null,null,null,null,null,null,null,null,null,null,null,null,null,null,null,null,null,null,null,null,null,null,null,null,null,null,null,null,null,null,null,null,null,null,null,null,null,null,null,null,null,null,null,null,null,null,null,null,null,null,null,null,null,null,null,null,null,null,null,null,null,null,null,null,null,null,null,null,null,null,null,null,null,null,null,null,null,null,null,null,null,null,null,null,null,null,null,null,null,null,null,null,null,null,null,null,null,null,null,null,null,null,null,null,null,null,null,null,null,null,null,null,null,null,null,null,null,null,null,null,null,null,null,0]
[1000023,null,{"$f":"IF(A42=\"\",\"\",DBCS(VLOOKUP(A42,入力シート!A:E,3,FALSE)))","v":""},null,null,null,null,null,null,null,null,null,null,null,null,null,null,null,null,null,null,null,null,null,null,null,null,null,null,null,null,null,null,null,null,null,null,null,null,null,null,null,null,null,null,null,null,null,null,null,null,null,null,null,null,null,null,null,null,null,null,null,null,null,null,null,null,null,null,null,null,null,null,null,null,null,null,null,null,null,null,null,null,null,null,null,null,null,null,null,null,null,null,null,null,null,null,null,null,null,null,null,null,null,null,null,null,null,null,null,null,null,null,null,null,null,null,null,null,null,null,null,null,null,null,null,null,null,null,null,null,null,null,null,null,null,null,null,null,null,null,null,null,null,null,null,null,null,0]
[1000024,null,{"$f":"IF(A43=\"\",\"\",DBCS(VLOOKUP(A43,入力シート!A:E,3,FALSE)))","v":""},null,null,null,null,null,null,null,null,null,null,null,null,null,null,null,null,null,null,null,null,null,null,null,null,null,null,null,null,null,null,null,null,null,null,null,null,null,null,null,null,null,null,null,null,null,null,null,null,null,null,null,null,null,null,null,null,null,null,null,null,null,null,null,null,null,null,null,null,null,null,null,null,null,null,null,null,null,null,null,null,null,null,null,null,null,null,null,null,null,null,null,null,null,null,null,null,null,null,null,null,null,null,null,null,null,null,null,null,null,null,null,null,null,null,null,null,null,null,null,null,null,null,null,null,null,null,null,null,null,null,null,null,null,null,null,null,null,null,null,null,null,null,null,null,null,0]
[1000025,null,{"$f":"IF(A44=\"\",\"\",DBCS(VLOOKUP(A44,入力シート!A:E,3,FALSE)))","v":""},null,null,null,null,null,null,null,null,null,null,null,null,null,null,null,null,null,null,null,null,null,null,null,null,null,null,null,null,null,null,null,null,null,null,null,null,null,null,null,null,null,null,null,null,null,null,null,null,null,null,null,null,null,null,null,null,null,null,null,null,null,null,null,null,null,null,null,null,null,null,null,null,null,null,null,null,null,null,null,null,null,null,null,null,null,null,null,null,null,null,null,null,null,null,null,null,null,null,null,null,null,null,null,null,null,null,null,null,null,null,null,null,null,null,null,null,null,null,null,null,null,null,null,null,null,null,null,null,null,null,null,null,null,null,null,null,null,null,null,null,null,null,null,null,null,0]
[1000026,null,{"$f":"IF(A45=\"\",\"\",DBCS(VLOOKUP(A45,入力シート!A:E,3,FALSE)))","v":""},null,null,null,null,null,null,null,null,null,null,null,null,null,null,null,null,null,null,null,null,null,null,null,null,null,null,null,null,null,null,null,null,null,null,null,null,null,null,null,null,null,null,null,null,null,null,null,null,null,null,null,null,null,null,null,null,null,null,null,null,null,null,null,null,null,null,null,null,null,null,null,null,null,null,null,null,null,null,null,null,null,null,null,null,null,null,null,null,null,null,null,null,null,null,null,null,null,null,null,null,null,null,null,null,null,null,null,null,null,null,null,null,null,null,null,null,null,null,null,null,null,null,null,null,null,null,null,null,null,null,null,null,null,null,null,null,null,null,null,null,null,null,null,null,null,0]
[1000027,null,{"$f":"IF(A46=\"\",\"\",DBCS(VLOOKUP(A46,入力シート!A:E,3,FALSE)))","v":""},null,null,null,null,null,null,null,null,null,null,null,null,null,null,null,null,null,null,null,null,null,null,null,null,null,null,null,null,null,null,null,null,null,null,null,null,null,null,null,null,null,null,null,null,null,null,null,null,null,null,null,null,null,null,null,null,null,null,null,null,null,null,null,null,null,null,null,null,null,null,null,null,null,null,null,null,null,null,null,null,null,null,null,null,null,null,null,null,null,null,null,null,null,null,null,null,null,null,null,null,null,null,null,null,null,null,null,null,null,null,null,null,null,null,null,null,null,null,null,null,null,null,null,null,null,null,null,null,null,null,null,null,null,null,null,null,null,null,null,null,null,null,null,null,null,0]
[1000028,null,{"$f":"IF(A47=\"\",\"\",DBCS(VLOOKUP(A47,入力シート!A:E,3,FALSE)))","v":""},null,null,null,null,null,null,null,null,null,null,null,null,null,null,null,null,null,null,null,null,null,null,null,null,null,null,null,null,null,null,null,null,null,null,null,null,null,null,null,null,null,null,null,null,null,null,null,null,null,null,null,null,null,null,null,null,null,null,null,null,null,null,null,null,null,null,null,null,null,null,null,null,null,null,null,null,null,null,null,null,null,null,null,null,null,null,null,null,null,null,null,null,null,null,null,null,null,null,null,null,null,null,null,null,null,null,null,null,null,null,null,null,null,null,null,null,null,null,null,null,null,null,null,null,null,null,null,null,null,null,null,null,null,null,null,null,null,null,null,null,null,null,null,null,null,0]
[1000029,null,{"$f":"IF(A48=\"\",\"\",DBCS(VLOOKUP(A48,入力シート!A:E,3,FALSE)))","v":""},null,null,null,null,null,null,null,null,null,null,null,null,null,null,null,null,null,null,null,null,null,null,null,null,null,null,null,null,null,null,null,null,null,null,null,null,null,null,null,null,null,null,null,null,null,null,null,null,null,null,null,null,null,null,null,null,null,null,null,null,null,null,null,null,null,null,null,null,null,null,null,null,null,null,null,null,null,null,null,null,null,null,null,null,null,null,null,null,null,null,null,null,null,null,null,null,null,null,null,null,null,null,null,null,null,null,null,null,null,null,null,null,null,null,null,null,null,null,null,null,null,null,null,null,null,null,null,null,null,null,null,null,null,null,null,null,null,null,null,null,null,null,null,null,null,0]
[1000030,null,{"$f":"IF(A49=\"\",\"\",DBCS(VLOOKUP(A49,入力シート!A:E,3,FALSE)))","v":""},null,null,null,null,null,null,null,null,null,null,null,null,null,null,null,null,null,null,null,null,null,null,null,null,null,null,null,null,null,null,null,null,null,null,null,null,null,null,null,null,null,null,null,null,null,null,null,null,null,null,null,null,null,null,null,null,null,null,null,null,null,null,null,null,null,null,null,null,null,null,null,null,null,null,null,null,null,null,null,null,null,null,null,null,null,null,null,null,null,null,null,null,null,null,null,null,null,null,null,null,null,null,null,null,null,null,null,null,null,null,null,null,null,null,null,null,null,null,null,null,null,null,null,null,null,null,null,null,null,null,null,null,null,null,null,null,null,null,null,null,null,null,null,null,null,0]
[1000031,null,{"$f":"IF(A50=\"\",\"\",DBCS(VLOOKUP(A50,入力シート!A:E,3,FALSE)))","v":""},null,null,null,null,null,null,null,null,null,null,null,null,null,null,null,null,null,null,null,null,null,null,null,null,null,null,null,null,null,null,null,null,null,null,null,null,null,null,null,null,null,null,null,null,null,null,null,null,null,null,null,null,null,null,null,null,null,null,null,null,null,null,null,null,null,null,null,null,null,null,null,null,null,null,null,null,null,null,null,null,null,null,null,null,null,null,null,null,null,null,null,null,null,null,null,null,null,null,null,null,null,null,null,null,null,null,null,null,null,null,null,null,null,null,null,null,null,null,null,null,null,null,null,null,null,null,null,null,null,null,null,null,null,null,null,null,null,null,null,null,null,null,null,null,null,0]
[1000032,null,{"$f":"IF(A51=\"\",\"\",DBCS(VLOOKUP(A51,入力シート!A:E,3,FALSE)))","v":""},null,null,null,null,null,null,null,null,null,null,null,null,null,null,null,null,null,null,null,null,null,null,null,null,null,null,null,null,null,null,null,null,null,null,null,null,null,null,null,null,null,null,null,null,null,null,null,null,null,null,null,null,null,null,null,null,null,null,null,null,null,null,null,null,null,null,null,null,null,null,null,null,null,null,null,null,null,null,null,null,null,null,null,null,null,null,null,null,null,null,null,null,null,null,null,null,null,null,null,null,null,null,null,null,null,null,null,null,null,null,null,null,null,null,null,null,null,null,null,null,null,null,null,null,null,null,null,null,null,null,null,null,null,null,null,null,null,null,null,null,null,null,null,null,null,0]
[1000033,null,{"$f":"IF(A52=\"\",\"\",DBCS(VLOOKUP(A52,入力シート!A:E,3,FALSE)))","v":""},null,null,null,null,null,null,null,null,null,null,null,null,null,null,null,null,null,null,null,null,null,null,null,null,null,null,null,null,null,null,null,null,null,null,null,null,null,null,null,null,null,null,null,null,null,null,null,null,null,null,null,null,null,null,null,null,null,null,null,null,null,null,null,null,null,null,null,null,null,null,null,null,null,null,null,null,null,null,null,null,null,null,null,null,null,null,null,null,null,null,null,null,null,null,null,null,null,null,null,null,null,null,null,null,null,null,null,null,null,null,null,null,null,null,null,null,null,null,null,null,null,null,null,null,null,null,null,null,null,null,null,null,null,null,null,null,null,null,null,null,null,null,null,null,null,0]
[1000034,null,{"$f":"IF(A53=\"\",\"\",DBCS(VLOOKUP(A53,入力シート!A:E,3,FALSE)))","v":""},null,null,null,null,null,null,null,null,null,null,null,null,null,null,null,null,null,null,null,null,null,null,null,null,null,null,null,null,null,null,null,null,null,null,null,null,null,null,null,null,null,null,null,null,null,null,null,null,null,null,null,null,null,null,null,null,null,null,null,null,null,null,null,null,null,null,null,null,null,null,null,null,null,null,null,null,null,null,null,null,null,null,null,null,null,null,null,null,null,null,null,null,null,null,null,null,null,null,null,null,null,null,null,null,null,null,null,null,null,null,null,null,null,null,null,null,null,null,null,null,null,null,null,null,null,null,null,null,null,null,null,null,null,null,null,null,null,null,null,null,null,null,null,null,null,0]
[1000035,null,{"$f":"IF(A54=\"\",\"\",DBCS(VLOOKUP(A54,入力シート!A:E,3,FALSE)))","v":""},null,null,null,null,null,null,null,null,null,null,null,null,null,null,null,null,null,null,null,null,null,null,null,null,null,null,null,null,null,null,null,null,null,null,null,null,null,null,null,null,null,null,null,null,null,null,null,null,null,null,null,null,null,null,null,null,null,null,null,null,null,null,null,null,null,null,null,null,null,null,null,null,null,null,null,null,null,null,null,null,null,null,null,null,null,null,null,null,null,null,null,null,null,null,null,null,null,null,null,null,null,null,null,null,null,null,null,null,null,null,null,null,null,null,null,null,null,null,null,null,null,null,null,null,null,null,null,null,null,null,null,null,null,null,null,null,null,null,null,null,null,null,null,null,null,0]
[1000036,null,{"$f":"IF(A55=\"\",\"\",DBCS(VLOOKUP(A55,入力シート!A:E,3,FALSE)))","v":""},null,null,null,null,null,null,null,null,null,null,null,null,null,null,null,null,null,null,null,null,null,null,null,null,null,null,null,null,null,null,null,null,null,null,null,null,null,null,null,null,null,null,null,null,null,null,null,null,null,null,null,null,null,null,null,null,null,null,null,null,null,null,null,null,null,null,null,null,null,null,null,null,null,null,null,null,null,null,null,null,null,null,null,null,null,null,null,null,null,null,null,null,null,null,null,null,null,null,null,null,null,null,null,null,null,null,null,null,null,null,null,null,null,null,null,null,null,null,null,null,null,null,null,null,null,null,null,null,null,null,null,null,null,null,null,null,null,null,null,null,null,null,null,null,null,0]
[1000037,null,{"$f":"IF(A56=\"\",\"\",DBCS(VLOOKUP(A56,入力シート!A:E,3,FALSE)))","v":""},null,null,null,null,null,null,null,null,null,null,null,null,null,null,null,null,null,null,null,null,null,null,null,null,null,null,null,null,null,null,null,null,null,null,null,null,null,null,null,null,null,null,null,null,null,null,null,null,null,null,null,null,null,null,null,null,null,null,null,null,null,null,null,null,null,null,null,null,null,null,null,null,null,null,null,null,null,null,null,null,null,null,null,null,null,null,null,null,null,null,null,null,null,null,null,null,null,null,null,null,null,null,null,null,null,null,null,null,null,null,null,null,null,null,null,null,null,null,null,null,null,null,null,null,null,null,null,null,null,null,null,null,null,null,null,null,null,null,null,null,null,null,null,null,null,0]
[1000038,null,{"$f":"IF(A57=\"\",\"\",DBCS(VLOOKUP(A57,入力シート!A:E,3,FALSE)))","v":""},null,null,null,null,null,null,null,null,null,null,null,null,null,null,null,null,null,null,null,null,null,null,null,null,null,null,null,null,null,null,null,null,null,null,null,null,null,null,null,null,null,null,null,null,null,null,null,null,null,null,null,null,null,null,null,null,null,null,null,null,null,null,null,null,null,null,null,null,null,null,null,null,null,null,null,null,null,null,null,null,null,null,null,null,null,null,null,null,null,null,null,null,null,null,null,null,null,null,null,null,null,null,null,null,null,null,null,null,null,null,null,null,null,null,null,null,null,null,null,null,null,null,null,null,null,null,null,null,null,null,null,null,null,null,null,null,null,null,null,null,null,null,null,null,null,0]
[1000039,null,{"$f":"IF(A58=\"\",\"\",DBCS(VLOOKUP(A58,入力シート!A:E,3,FALSE)))","v":""},null,null,null,null,null,null,null,null,null,null,null,null,null,null,null,null,null,null,null,null,null,null,null,null,null,null,null,null,null,null,null,null,null,null,null,null,null,null,null,null,null,null,null,null,null,null,null,null,null,null,null,null,null,null,null,null,null,null,null,null,null,null,null,null,null,null,null,null,null,null,null,null,null,null,null,null,null,null,null,null,null,null,null,null,null,null,null,null,null,null,null,null,null,null,null,null,null,null,null,null,null,null,null,null,null,null,null,null,null,null,null,null,null,null,null,null,null,null,null,null,null,null,null,null,null,null,null,null,null,null,null,null,null,null,null,null,null,null,null,null,null,null,null,null,null,0]
[1000040,null,{"$f":"IF(A59=\"\",\"\",DBCS(VLOOKUP(A59,入力シート!A:E,3,FALSE)))","v":""},null,null,null,null,null,null,null,null,null,null,null,null,null,null,null,null,null,null,null,null,null,null,null,null,null,null,null,null,null,null,null,null,null,null,null,null,null,null,null,null,null,null,null,null,null,null,null,null,null,null,null,null,null,null,null,null,null,null,null,null,null,null,null,null,null,null,null,null,null,null,null,null,null,null,null,null,null,null,null,null,null,null,null,null,null,null,null,null,null,null,null,null,null,null,null,null,null,null,null,null,null,null,null,null,null,null,null,null,null,null,null,null,null,null,null,null,null,null,null,null,null,null,null,null,null,null,null,null,null,null,null,null,null,null,null,null,null,null,null,null,null,null,null,null,null,0]
[1000041,null,{"$f":"IF(A60=\"\",\"\",DBCS(VLOOKUP(A60,入力シート!A:E,3,FALSE)))","v":""},null,null,null,null,null,null,null,null,null,null,null,null,null,null,null,null,null,null,null,null,null,null,null,null,null,null,null,null,null,null,null,null,null,null,null,null,null,null,null,null,null,null,null,null,null,null,null,null,null,null,null,null,null,null,null,null,null,null,null,null,null,null,null,null,null,null,null,null,null,null,null,null,null,null,null,null,null,null,null,null,null,null,null,null,null,null,null,null,null,null,null,null,null,null,null,null,null,null,null,null,null,null,null,null,null,null,null,null,null,null,null,null,null,null,null,null,null,null,null,null,null,null,null,null,null,null,null,null,null,null,null,null,null,null,null,null,null,null,null,null,null,null,null,null,null,0]
[1000042,null,{"$f":"IF(A61=\"\",\"\",DBCS(VLOOKUP(A61,入力シート!A:E,3,FALSE)))","v":""},null,null,null,null,null,null,null,null,null,null,null,null,null,null,null,null,null,null,null,null,null,null,null,null,null,null,null,null,null,null,null,null,null,null,null,null,null,null,null,null,null,null,null,null,null,null,null,null,null,null,null,null,null,null,null,null,null,null,null,null,null,null,null,null,null,null,null,null,null,null,null,null,null,null,null,null,null,null,null,null,null,null,null,null,null,null,null,null,null,null,null,null,null,null,null,null,null,null,null,null,null,null,null,null,null,null,null,null,null,null,null,null,null,null,null,null,null,null,null,null,null,null,null,null,null,null,null,null,null,null,null,null,null,null,null,null,null,null,null,null,null,null,null,null,null,0]
[1000043,null,{"$f":"IF(A62=\"\",\"\",DBCS(VLOOKUP(A62,入力シート!A:E,3,FALSE)))","v":""},null,null,null,null,null,null,null,null,null,null,null,null,null,null,null,null,null,null,null,null,null,null,null,null,null,null,null,null,null,null,null,null,null,null,null,null,null,null,null,null,null,null,null,null,null,null,null,null,null,null,null,null,null,null,null,null,null,null,null,null,null,null,null,null,null,null,null,null,null,null,null,null,null,null,null,null,null,null,null,null,null,null,null,null,null,null,null,null,null,null,null,null,null,null,null,null,null,null,null,null,null,null,null,null,null,null,null,null,null,null,null,null,null,null,null,null,null,null,null,null,null,null,null,null,null,null,null,null,null,null,null,null,null,null,null,null,null,null,null,null,null,null,null,null,null,0]
[1000044,null,{"$f":"IF(A63=\"\",\"\",DBCS(VLOOKUP(A63,入力シート!A:E,3,FALSE)))","v":""},null,null,null,null,null,null,null,null,null,null,null,null,null,null,null,null,null,null,null,null,null,null,null,null,null,null,null,null,null,null,null,null,null,null,null,null,null,null,null,null,null,null,null,null,null,null,null,null,null,null,null,null,null,null,null,null,null,null,null,null,null,null,null,null,null,null,null,null,null,null,null,null,null,null,null,null,null,null,null,null,null,null,null,null,null,null,null,null,null,null,null,null,null,null,null,null,null,null,null,null,null,null,null,null,null,null,null,null,null,null,null,null,null,null,null,null,null,null,null,null,null,null,null,null,null,null,null,null,null,null,null,null,null,null,null,null,null,null,null,null,null,null,null,null,null,0]
[1000045,null,{"$f":"IF(A64=\"\",\"\",DBCS(VLOOKUP(A64,入力シート!A:E,3,FALSE)))","v":""},null,null,null,null,null,null,null,null,null,null,null,null,null,null,null,null,null,null,null,null,null,null,null,null,null,null,null,null,null,null,null,null,null,null,null,null,null,null,null,null,null,null,null,null,null,null,null,null,null,null,null,null,null,null,null,null,null,null,null,null,null,null,null,null,null,null,null,null,null,null,null,null,null,null,null,null,null,null,null,null,null,null,null,null,null,null,null,null,null,null,null,null,null,null,null,null,null,null,null,null,null,null,null,null,null,null,null,null,null,null,null,null,null,null,null,null,null,null,null,null,null,null,null,null,null,null,null,null,null,null,null,null,null,null,null,null,null,null,null,null,null,null,null,null,null,0]
[1000046,null,{"$f":"IF(A65=\"\",\"\",DBCS(VLOOKUP(A65,入力シート!A:E,3,FALSE)))","v":""},null,null,null,null,null,null,null,null,null,null,null,null,null,null,null,null,null,null,null,null,null,null,null,null,null,null,null,null,null,null,null,null,null,null,null,null,null,null,null,null,null,null,null,null,null,null,null,null,null,null,null,null,null,null,null,null,null,null,null,null,null,null,null,null,null,null,null,null,null,null,null,null,null,null,null,null,null,null,null,null,null,null,null,null,null,null,null,null,null,null,null,null,null,null,null,null,null,null,null,null,null,null,null,null,null,null,null,null,null,null,null,null,null,null,null,null,null,null,null,null,null,null,null,null,null,null,null,null,null,null,null,null,null,null,null,null,null,null,null,null,null,null,null,null,null,0]
[1000047,null,{"$f":"IF(A66=\"\",\"\",DBCS(VLOOKUP(A66,入力シート!A:E,3,FALSE)))","v":""},null,null,null,null,null,null,null,null,null,null,null,null,null,null,null,null,null,null,null,null,null,null,null,null,null,null,null,null,null,null,null,null,null,null,null,null,null,null,null,null,null,null,null,null,null,null,null,null,null,null,null,null,null,null,null,null,null,null,null,null,null,null,null,null,null,null,null,null,null,null,null,null,null,null,null,null,null,null,null,null,null,null,null,null,null,null,null,null,null,null,null,null,null,null,null,null,null,null,null,null,null,null,null,null,null,null,null,null,null,null,null,null,null,null,null,null,null,null,null,null,null,null,null,null,null,null,null,null,null,null,null,null,null,null,null,null,null,null,null,null,null,null,null,null,null,0]
[1000048,null,{"$f":"IF(A67=\"\",\"\",DBCS(VLOOKUP(A67,入力シート!A:E,3,FALSE)))","v":""},null,null,null,null,null,null,null,null,null,null,null,null,null,null,null,null,null,null,null,null,null,null,null,null,null,null,null,null,null,null,null,null,null,null,null,null,null,null,null,null,null,null,null,null,null,null,null,null,null,null,null,null,null,null,null,null,null,null,null,null,null,null,null,null,null,null,null,null,null,null,null,null,null,null,null,null,null,null,null,null,null,null,null,null,null,null,null,null,null,null,null,null,null,null,null,null,null,null,null,null,null,null,null,null,null,null,null,null,null,null,null,null,null,null,null,null,null,null,null,null,null,null,null,null,null,null,null,null,null,null,null,null,null,null,null,null,null,null,null,null,null,null,null,null,null,0]
[1000049,null,{"$f":"IF(A68=\"\",\"\",DBCS(VLOOKUP(A68,入力シート!A:E,3,FALSE)))","v":""},null,null,null,null,null,null,null,null,null,null,null,null,null,null,null,null,null,null,null,null,null,null,null,null,null,null,null,null,null,null,null,null,null,null,null,null,null,null,null,null,null,null,null,null,null,null,null,null,null,null,null,null,null,null,null,null,null,null,null,null,null,null,null,null,null,null,null,null,null,null,null,null,null,null,null,null,null,null,null,null,null,null,null,null,null,null,null,null,null,null,null,null,null,null,null,null,null,null,null,null,null,null,null,null,null,null,null,null,null,null,null,null,null,null,null,null,null,null,null,null,null,null,null,null,null,null,null,null,null,null,null,null,null,null,null,null,null,null,null,null,null,null,null,null,null,0]
[1000050,null,{"$f":"IF(A69=\"\",\"\",DBCS(VLOOKUP(A69,入力シート!A:E,3,FALSE)))","v":""},null,null,null,null,null,null,null,null,null,null,null,null,null,null,null,null,null,null,null,null,null,null,null,null,null,null,null,null,null,null,null,null,null,null,null,null,null,null,null,null,null,null,null,null,null,null,null,null,null,null,null,null,null,null,null,null,null,null,null,null,null,null,null,null,null,null,null,null,null,null,null,null,null,null,null,null,null,null,null,null,null,null,null,null,null,null,null,null,null,null,null,null,null,null,null,null,null,null,null,null,null,null,null,null,null,null,null,null,null,null,null,null,null,null,null,null,null,null,null,null,null,null,null,null,null,null,null,null,null,null,null,null,null,null,null,null,null,null,null,null,null,null,null,null,null,0]
[1000051,null,{"$f":"IF(A70=\"\",\"\",DBCS(VLOOKUP(A70,入力シート!A:E,3,FALSE)))","v":""},null,null,null,null,null,null,null,null,null,null,null,null,null,null,null,null,null,null,null,null,null,null,null,null,null,null,null,null,null,null,null,null,null,null,null,null,null,null,null,null,null,null,null,null,null,null,null,null,null,null,null,null,null,null,null,null,null,null,null,null,null,null,null,null,null,null,null,null,null,null,null,null,null,null,null,null,null,null,null,null,null,null,null,null,null,null,null,null,null,null,null,null,null,null,null,null,null,null,null,null,null,null,null,null,null,null,null,null,null,null,null,null,null,null,null,null,null,null,null,null,null,null,null,null,null,null,null,null,null,null,null,null,null,null,null,null,null,null,null,null,null,null,null,null,null,0]
[1000052,null,{"$f":"IF(A71=\"\",\"\",DBCS(VLOOKUP(A71,入力シート!A:E,3,FALSE)))","v":""},null,null,null,null,null,null,null,null,null,null,null,null,null,null,null,null,null,null,null,null,null,null,null,null,null,null,null,null,null,null,null,null,null,null,null,null,null,null,null,null,null,null,null,null,null,null,null,null,null,null,null,null,null,null,null,null,null,null,null,null,null,null,null,null,null,null,null,null,null,null,null,null,null,null,null,null,null,null,null,null,null,null,null,null,null,null,null,null,null,null,null,null,null,null,null,null,null,null,null,null,null,null,null,null,null,null,null,null,null,null,null,null,null,null,null,null,null,null,null,null,null,null,null,null,null,null,null,null,null,null,null,null,null,null,null,null,null,null,null,null,null,null,null,null,null,0]
[1000053,null,{"$f":"IF(A72=\"\",\"\",DBCS(VLOOKUP(A72,入力シート!A:E,3,FALSE)))","v":""},null,null,null,null,null,null,null,null,null,null,null,null,null,null,null,null,null,null,null,null,null,null,null,null,null,null,null,null,null,null,null,null,null,null,null,null,null,null,null,null,null,null,null,null,null,null,null,null,null,null,null,null,null,null,null,null,null,null,null,null,null,null,null,null,null,null,null,null,null,null,null,null,null,null,null,null,null,null,null,null,null,null,null,null,null,null,null,null,null,null,null,null,null,null,null,null,null,null,null,null,null,null,null,null,null,null,null,null,null,null,null,null,null,null,null,null,null,null,null,null,null,null,null,null,null,null,null,null,null,null,null,null,null,null,null,null,null,null,null,null,null,null,null,null,null,0]
[1000054,null,{"$f":"IF(A73=\"\",\"\",DBCS(VLOOKUP(A73,入力シート!A:E,3,FALSE)))","v":""},null,null,null,null,null,null,null,null,null,null,null,null,null,null,null,null,null,null,null,null,null,null,null,null,null,null,null,null,null,null,null,null,null,null,null,null,null,null,null,null,null,null,null,null,null,null,null,null,null,null,null,null,null,null,null,null,null,null,null,null,null,null,null,null,null,null,null,null,null,null,null,null,null,null,null,null,null,null,null,null,null,null,null,null,null,null,null,null,null,null,null,null,null,null,null,null,null,null,null,null,null,null,null,null,null,null,null,null,null,null,null,null,null,null,null,null,null,null,null,null,null,null,null,null,null,null,null,null,null,null,null,null,null,null,null,null,null,null,null,null,null,null,null,null,null,0]
[1000055,null,{"$f":"IF(A74=\"\",\"\",DBCS(VLOOKUP(A74,入力シート!A:E,3,FALSE)))","v":""},null,null,null,null,null,null,null,null,null,null,null,null,null,null,null,null,null,null,null,null,null,null,null,null,null,null,null,null,null,null,null,null,null,null,null,null,null,null,null,null,null,null,null,null,null,null,null,null,null,null,null,null,null,null,null,null,null,null,null,null,null,null,null,null,null,null,null,null,null,null,null,null,null,null,null,null,null,null,null,null,null,null,null,null,null,null,null,null,null,null,null,null,null,null,null,null,null,null,null,null,null,null,null,null,null,null,null,null,null,null,null,null,null,null,null,null,null,null,null,null,null,null,null,null,null,null,null,null,null,null,null,null,null,null,null,null,null,null,null,null,null,null,null,null,null,0]
[1000056,null,{"$f":"IF(A75=\"\",\"\",DBCS(VLOOKUP(A75,入力シート!A:E,3,FALSE)))","v":""},null,null,null,null,null,null,null,null,null,null,null,null,null,null,null,null,null,null,null,null,null,null,null,null,null,null,null,null,null,null,null,null,null,null,null,null,null,null,null,null,null,null,null,null,null,null,null,null,null,null,null,null,null,null,null,null,null,null,null,null,null,null,null,null,null,null,null,null,null,null,null,null,null,null,null,null,null,null,null,null,null,null,null,null,null,null,null,null,null,null,null,null,null,null,null,null,null,null,null,null,null,null,null,null,null,null,null,null,null,null,null,null,null,null,null,null,null,null,null,null,null,null,null,null,null,null,null,null,null,null,null,null,null,null,null,null,null,null,null,null,null,null,null,null,null,0]
[1000057,null,{"$f":"IF(A76=\"\",\"\",DBCS(VLOOKUP(A76,入力シート!A:E,3,FALSE)))","v":""},null,null,null,null,null,null,null,null,null,null,null,null,null,null,null,null,null,null,null,null,null,null,null,null,null,null,null,null,null,null,null,null,null,null,null,null,null,null,null,null,null,null,null,null,null,null,null,null,null,null,null,null,null,null,null,null,null,null,null,null,null,null,null,null,null,null,null,null,null,null,null,null,null,null,null,null,null,null,null,null,null,null,null,null,null,null,null,null,null,null,null,null,null,null,null,null,null,null,null,null,null,null,null,null,null,null,null,null,null,null,null,null,null,null,null,null,null,null,null,null,null,null,null,null,null,null,null,null,null,null,null,null,null,null,null,null,null,null,null,null,null,null,null,null,null,0]
[1000058,null,{"$f":"IF(A77=\"\",\"\",DBCS(VLOOKUP(A77,入力シート!A:E,3,FALSE)))","v":""},null,null,null,null,null,null,null,null,null,null,null,null,null,null,null,null,null,null,null,null,null,null,null,null,null,null,null,null,null,null,null,null,null,null,null,null,null,null,null,null,null,null,null,null,null,null,null,null,null,null,null,null,null,null,null,null,null,null,null,null,null,null,null,null,null,null,null,null,null,null,null,null,null,null,null,null,null,null,null,null,null,null,null,null,null,null,null,null,null,null,null,null,null,null,null,null,null,null,null,null,null,null,null,null,null,null,null,null,null,null,null,null,null,null,null,null,null,null,null,null,null,null,null,null,null,null,null,null,null,null,null,null,null,null,null,null,null,null,null,null,null,null,null,null,null,0]
[1000059,null,{"$f":"IF(A78=\"\",\"\",DBCS(VLOOKUP(A78,入力シート!A:E,3,FALSE)))","v":""},null,null,null,null,null,null,null,null,null,null,null,null,null,null,null,null,null,null,null,null,null,null,null,null,null,null,null,null,null,null,null,null,null,null,null,null,null,null,null,null,null,null,null,null,null,null,null,null,null,null,null,null,null,null,null,null,null,null,null,null,null,null,null,null,null,null,null,null,null,null,null,null,null,null,null,null,null,null,null,null,null,null,null,null,null,null,null,null,null,null,null,null,null,null,null,null,null,null,null,null,null,null,null,null,null,null,null,null,null,null,null,null,null,null,null,null,null,null,null,null,null,null,null,null,null,null,null,null,null,null,null,null,null,null,null,null,null,null,null,null,null,null,null,null,null,0]
[1000060,null,{"$f":"IF(A79=\"\",\"\",DBCS(VLOOKUP(A79,入力シート!A:E,3,FALSE)))","v":""},null,null,null,null,null,null,null,null,null,null,null,null,null,null,null,null,null,null,null,null,null,null,null,null,null,null,null,null,null,null,null,null,null,null,null,null,null,null,null,null,null,null,null,null,null,null,null,null,null,null,null,null,null,null,null,null,null,null,null,null,null,null,null,null,null,null,null,null,null,null,null,null,null,null,null,null,null,null,null,null,null,null,null,null,null,null,null,null,null,null,null,null,null,null,null,null,null,null,null,null,null,null,null,null,null,null,null,null,null,null,null,null,null,null,null,null,null,null,null,null,null,null,null,null,null,null,null,null,null,null,null,null,null,null,null,null,null,null,null,null,null,null,null,null,null,0]
[1000061,null,{"$f":"IF(A80=\"\",\"\",DBCS(VLOOKUP(A80,入力シート!A:E,3,FALSE)))","v":""},null,null,null,null,null,null,null,null,null,null,null,null,null,null,null,null,null,null,null,null,null,null,null,null,null,null,null,null,null,null,null,null,null,null,null,null,null,null,null,null,null,null,null,null,null,null,null,null,null,null,null,null,null,null,null,null,null,null,null,null,null,null,null,null,null,null,null,null,null,null,null,null,null,null,null,null,null,null,null,null,null,null,null,null,null,null,null,null,null,null,null,null,null,null,null,null,null,null,null,null,null,null,null,null,null,null,null,null,null,null,null,null,null,null,null,null,null,null,null,null,null,null,null,null,null,null,null,null,null,null,null,null,null,null,null,null,null,null,null,null,null,null,null,null,null,0]
[1000062,null,{"$f":"IF(A81=\"\",\"\",DBCS(VLOOKUP(A81,入力シート!A:E,3,FALSE)))","v":""},null,null,null,null,null,null,null,null,null,null,null,null,null,null,null,null,null,null,null,null,null,null,null,null,null,null,null,null,null,null,null,null,null,null,null,null,null,null,null,null,null,null,null,null,null,null,null,null,null,null,null,null,null,null,null,null,null,null,null,null,null,null,null,null,null,null,null,null,null,null,null,null,null,null,null,null,null,null,null,null,null,null,null,null,null,null,null,null,null,null,null,null,null,null,null,null,null,null,null,null,null,null,null,null,null,null,null,null,null,null,null,null,null,null,null,null,null,null,null,null,null,null,null,null,null,null,null,null,null,null,null,null,null,null,null,null,null,null,null,null,null,null,null,null,null,0]
[1000063,null,{"$f":"IF(A82=\"\",\"\",DBCS(VLOOKUP(A82,入力シート!A:E,3,FALSE)))","v":""},null,null,null,null,null,null,null,null,null,null,null,null,null,null,null,null,null,null,null,null,null,null,null,null,null,null,null,null,null,null,null,null,null,null,null,null,null,null,null,null,null,null,null,null,null,null,null,null,null,null,null,null,null,null,null,null,null,null,null,null,null,null,null,null,null,null,null,null,null,null,null,null,null,null,null,null,null,null,null,null,null,null,null,null,null,null,null,null,null,null,null,null,null,null,null,null,null,null,null,null,null,null,null,null,null,null,null,null,null,null,null,null,null,null,null,null,null,null,null,null,null,null,null,null,null,null,null,null,null,null,null,null,null,null,null,null,null,null,null,null,null,null,null,null,null,0]
[1000064,null,{"$f":"IF(A83=\"\",\"\",DBCS(VLOOKUP(A83,入力シート!A:E,3,FALSE)))","v":""},null,null,null,null,null,null,null,null,null,null,null,null,null,null,null,null,null,null,null,null,null,null,null,null,null,null,null,null,null,null,null,null,null,null,null,null,null,null,null,null,null,null,null,null,null,null,null,null,null,null,null,null,null,null,null,null,null,null,null,null,null,null,null,null,null,null,null,null,null,null,null,null,null,null,null,null,null,null,null,null,null,null,null,null,null,null,null,null,null,null,null,null,null,null,null,null,null,null,null,null,null,null,null,null,null,null,null,null,null,null,null,null,null,null,null,null,null,null,null,null,null,null,null,null,null,null,null,null,null,null,null,null,null,null,null,null,null,null,null,null,null,null,null,null,null,0]
[1000065,null,{"$f":"IF(A84=\"\",\"\",DBCS(VLOOKUP(A84,入力シート!A:E,3,FALSE)))","v":""},null,null,null,null,null,null,null,null,null,null,null,null,null,null,null,null,null,null,null,null,null,null,null,null,null,null,null,null,null,null,null,null,null,null,null,null,null,null,null,null,null,null,null,null,null,null,null,null,null,null,null,null,null,null,null,null,null,null,null,null,null,null,null,null,null,null,null,null,null,null,null,null,null,null,null,null,null,null,null,null,null,null,null,null,null,null,null,null,null,null,null,null,null,null,null,null,null,null,null,null,null,null,null,null,null,null,null,null,null,null,null,null,null,null,null,null,null,null,null,null,null,null,null,null,null,null,null,null,null,null,null,null,null,null,null,null,null,null,null,null,null,null,null,null,null,0]
[1000066,null,{"$f":"IF(A85=\"\",\"\",DBCS(VLOOKUP(A85,入力シート!A:E,3,FALSE)))","v":""},null,null,null,null,null,null,null,null,null,null,null,null,null,null,null,null,null,null,null,null,null,null,null,null,null,null,null,null,null,null,null,null,null,null,null,null,null,null,null,null,null,null,null,null,null,null,null,null,null,null,null,null,null,null,null,null,null,null,null,null,null,null,null,null,null,null,null,null,null,null,null,null,null,null,null,null,null,null,null,null,null,null,null,null,null,null,null,null,null,null,null,null,null,null,null,null,null,null,null,null,null,null,null,null,null,null,null,null,null,null,null,null,null,null,null,null,null,null,null,null,null,null,null,null,null,null,null,null,null,null,null,null,null,null,null,null,null,null,null,null,null,null,null,null,null,{"$f":"IF(C85=\"\", 0, 1)","v":0}]
[1000067,null,{"$f":"IF(A86=\"\",\"\",DBCS(VLOOKUP(A86,入力シート!A:E,3,FALSE)))","v":""},null,null,null,null,null,null,null,null,null,null,null,null,null,null,null,null,null,null,null,null,null,null,null,null,null,null,null,null,null,null,null,null,null,null,null,null,null,null,null,null,null,null,null,null,null,null,null,null,null,null,null,null,null,null,null,null,null,null,null,null,null,null,null,null,null,null,null,null,null,null,null,null,null,null,null,null,null,null,null,null,null,null,null,null,null,null,null,null,null,null,null,null,null,null,null,null,null,null,null,null,null,null,null,null,null,null,null,null,null,null,null,null,null,null,null,null,null,null,null,null,null,null,null,null,null,null,null,null,null,null,null,null,null,null,null,null,null,null,null,null,null,null,null,null,null,0]
[1000068,null,{"$f":"IF(A87=\"\",\"\",DBCS(VLOOKUP(A87,入力シート!A:E,3,FALSE)))","v":""},null,null,null,null,null,null,null,null,null,null,null,null,null,null,null,null,null,null,null,null,null,null,null,null,null,null,null,null,null,null,null,null,null,null,null,null,null,null,null,null,null,null,null,null,null,null,null,null,null,null,null,null,null,null,null,null,null,null,null,null,null,null,null,null,null,null,null,null,null,null,null,null,null,null,null,null,null,null,null,null,null,null,null,null,null,null,null,null,null,null,null,null,null,null,null,null,null,null,null,null,null,null,null,null,null,null,null,null,null,null,null,null,null,null,null,null,null,null,null,null,null,null,null,null,null,null,null,null,null,null,null,null,null,null,null,null,null,null,null,null,null,null,null,null,null,0]
[1000069,null,{"$f":"IF(A88=\"\",\"\",DBCS(VLOOKUP(A88,入力シート!A:E,3,FALSE)))","v":""},null,null,null,null,null,null,null,null,null,null,null,null,null,null,null,null,null,null,null,null,null,null,null,null,null,null,null,null,null,null,null,null,null,null,null,null,null,null,null,null,null,null,null,null,null,null,null,null,null,null,null,null,null,null,null,null,null,null,null,null,null,null,null,null,null,null,null,null,null,null,null,null,null,null,null,null,null,null,null,null,null,null,null,null,null,null,null,null,null,null,null,null,null,null,null,null,null,null,null,null,null,null,null,null,null,null,null,null,null,null,null,null,null,null,null,null,null,null,null,null,null,null,null,null,null,null,null,null,null,null,null,null,null,null,null,null,null,null,null,null,null,null,null,null,null,0]
[1000070,null,{"$f":"IF(A89=\"\",\"\",DBCS(VLOOKUP(A89,入力シート!A:E,3,FALSE)))","v":""},null,null,null,null,null,null,null,null,null,null,null,null,null,null,null,null,null,null,null,null,null,null,null,null,null,null,null,null,null,null,null,null,null,null,null,null,null,null,null,null,null,null,null,null,null,null,null,null,null,null,null,null,null,null,null,null,null,null,null,null,null,null,null,null,null,null,null,null,null,null,null,null,null,null,null,null,null,null,null,null,null,null,null,null,null,null,null,null,null,null,null,null,null,null,null,null,null,null,null,null,null,null,null,null,null,null,null,null,null,null,null,null,null,null,null,null,null,null,null,null,null,null,null,null,null,null,null,null,null,null,null,null,null,null,null,null,null,null,null,null,null,null,null,null,null,0]
[1000071,null,{"$f":"IF(A90=\"\",\"\",DBCS(VLOOKUP(A90,入力シート!A:E,3,FALSE)))","v":""},null,null,null,null,null,null,null,null,null,null,null,null,null,null,null,null,null,null,null,null,null,null,null,null,null,null,null,null,null,null,null,null,null,null,null,null,null,null,null,null,null,null,null,null,null,null,null,null,null,null,null,null,null,null,null,null,null,null,null,null,null,null,null,null,null,null,null,null,null,null,null,null,null,null,null,null,null,null,null,null,null,null,null,null,null,null,null,null,null,null,null,null,null,null,null,null,null,null,null,null,null,null,null,null,null,null,null,null,null,null,null,null,null,null,null,null,null,null,null,null,null,null,null,null,null,null,null,null,null,null,null,null,null,null,null,null,null,null,null,null,null,null,null,null,null,0]
[1000072,null,{"$f":"IF(A91=\"\",\"\",DBCS(VLOOKUP(A91,入力シート!A:E,3,FALSE)))","v":""},null,null,null,null,null,null,null,null,null,null,null,null,null,null,null,null,null,null,null,null,null,null,null,null,null,null,null,null,null,null,null,null,null,null,null,null,null,null,null,null,null,null,null,null,null,null,null,null,null,null,null,null,null,null,null,null,null,null,null,null,null,null,null,null,null,null,null,null,null,null,null,null,null,null,null,null,null,null,null,null,null,null,null,null,null,null,null,null,null,null,null,null,null,null,null,null,null,null,null,null,null,null,null,null,null,null,null,null,null,null,null,null,null,null,null,null,null,null,null,null,null,null,null,null,null,null,null,null,null,null,null,null,null,null,null,null,null,null,null,null,null,null,null,null,null,0]
[1000073,null,{"$f":"IF(A92=\"\",\"\",DBCS(VLOOKUP(A92,入力シート!A:E,3,FALSE)))","v":""},null,null,null,null,null,null,null,null,null,null,null,null,null,null,null,null,null,null,null,null,null,null,null,null,null,null,null,null,null,null,null,null,null,null,null,null,null,null,null,null,null,null,null,null,null,null,null,null,null,null,null,null,null,null,null,null,null,null,null,null,null,null,null,null,null,null,null,null,null,null,null,null,null,null,null,null,null,null,null,null,null,null,null,null,null,null,null,null,null,null,null,null,null,null,null,null,null,null,null,null,null,null,null,null,null,null,null,null,null,null,null,null,null,null,null,null,null,null,null,null,null,null,null,null,null,null,null,null,null,null,null,null,null,null,null,null,null,null,null,null,null,null,null,null,null,0]
[1000074,null,{"$f":"IF(A93=\"\",\"\",DBCS(VLOOKUP(A93,入力シート!A:E,3,FALSE)))","v":""},null,null,null,null,null,null,null,null,null,null,null,null,null,null,null,null,null,null,null,null,null,null,null,null,null,null,null,null,null,null,null,null,null,null,null,null,null,null,null,null,null,null,null,null,null,null,null,null,null,null,null,null,null,null,null,null,null,null,null,null,null,null,null,null,null,null,null,null,null,null,null,null,null,null,null,null,null,null,null,null,null,null,null,null,null,null,null,null,null,null,null,null,null,null,null,null,null,null,null,null,null,null,null,null,null,null,null,null,null,null,null,null,null,null,null,null,null,null,null,null,null,null,null,null,null,null,null,null,null,null,null,null,null,null,null,null,null,null,null,null,null,null,null,null,null,0]
[1000075,null,{"$f":"IF(A94=\"\",\"\",DBCS(VLOOKUP(A94,入力シート!A:E,3,FALSE)))","v":""},null,null,null,null,null,null,null,null,null,null,null,null,null,null,null,null,null,null,null,null,null,null,null,null,null,null,null,null,null,null,null,null,null,null,null,null,null,null,null,null,null,null,null,null,null,null,null,null,null,null,null,null,null,null,null,null,null,null,null,null,null,null,null,null,null,null,null,null,null,null,null,null,null,null,null,null,null,null,null,null,null,null,null,null,null,null,null,null,null,null,null,null,null,null,null,null,null,null,null,null,null,null,null,null,null,null,null,null,null,null,null,null,null,null,null,null,null,null,null,null,null,null,null,null,null,null,null,null,null,null,null,null,null,null,null,null,null,null,null,null,null,null,null,null,null,0]
[1000076,null,{"$f":"IF(A95=\"\",\"\",DBCS(VLOOKUP(A95,入力シート!A:E,3,FALSE)))","v":""},null,null,null,null,null,null,null,null,null,null,null,null,null,null,null,null,null,null,null,null,null,null,null,null,null,null,null,null,null,null,null,null,null,null,null,null,null,null,null,null,null,null,null,null,null,null,null,null,null,null,null,null,null,null,null,null,null,null,null,null,null,null,null,null,null,null,null,null,null,null,null,null,null,null,null,null,null,null,null,null,null,null,null,null,null,null,null,null,null,null,null,null,null,null,null,null,null,null,null,null,null,null,null,null,null,null,null,null,null,null,null,null,null,null,null,null,null,null,null,null,null,null,null,null,null,null,null,null,null,null,null,null,null,null,null,null,null,null,null,null,null,null,null,null,null,0]
[1000077,null,{"$f":"IF(A96=\"\",\"\",DBCS(VLOOKUP(A96,入力シート!A:E,3,FALSE)))","v":""},null,null,null,null,null,null,null,null,null,null,null,null,null,null,null,null,null,null,null,null,null,null,null,null,null,null,null,null,null,null,null,null,null,null,null,null,null,null,null,null,null,null,null,null,null,null,null,null,null,null,null,null,null,null,null,null,null,null,null,null,null,null,null,null,null,null,null,null,null,null,null,null,null,null,null,null,null,null,null,null,null,null,null,null,null,null,null,null,null,null,null,null,null,null,null,null,null,null,null,null,null,null,null,null,null,null,null,null,null,null,null,null,null,null,null,null,null,null,null,null,null,null,null,null,null,null,null,null,null,null,null,null,null,null,null,null,null,null,null,null,null,null,null,null,null,0]
[1000078,null,{"$f":"IF(A97=\"\",\"\",DBCS(VLOOKUP(A97,入力シート!A:E,3,FALSE)))","v":""},null,null,null,null,null,null,null,null,null,null,null,null,null,null,null,null,null,null,null,null,null,null,null,null,null,null,null,null,null,null,null,null,null,null,null,null,null,null,null,null,null,null,null,null,null,null,null,null,null,null,null,null,null,null,null,null,null,null,null,null,null,null,null,null,null,null,null,null,null,null,null,null,null,null,null,null,null,null,null,null,null,null,null,null,null,null,null,null,null,null,null,null,null,null,null,null,null,null,null,null,null,null,null,null,null,null,null,null,null,null,null,null,null,null,null,null,null,null,null,null,null,null,null,null,null,null,null,null,null,null,null,null,null,null,null,null,null,null,null,null,null,null,null,null,null,0]
[1000079,null,{"$f":"IF(A98=\"\",\"\",DBCS(VLOOKUP(A98,入力シート!A:E,3,FALSE)))","v":""},null,null,null,null,null,null,null,null,null,null,null,null,null,null,null,null,null,null,null,null,null,null,null,null,null,null,null,null,null,null,null,null,null,null,null,null,null,null,null,null,null,null,null,null,null,null,null,null,null,null,null,null,null,null,null,null,null,null,null,null,null,null,null,null,null,null,null,null,null,null,null,null,null,null,null,null,null,null,null,null,null,null,null,null,null,null,null,null,null,null,null,null,null,null,null,null,null,null,null,null,null,null,null,null,null,null,null,null,null,null,null,null,null,null,null,null,null,null,null,null,null,null,null,null,null,null,null,null,null,null,null,null,null,null,null,null,null,null,null,null,null,null,null,null,null,0]
[1000080,null,{"$f":"IF(A99=\"\",\"\",DBCS(VLOOKUP(A99,入力シート!A:E,3,FALSE)))","v":""},null,null,null,null,null,null,null,null,null,null,null,null,null,null,null,null,null,null,null,null,null,null,null,null,null,null,null,null,null,null,null,null,null,null,null,null,null,null,null,null,null,null,null,null,null,null,null,null,null,null,null,null,null,null,null,null,null,null,null,null,null,null,null,null,null,null,null,null,null,null,null,null,null,null,null,null,null,null,null,null,null,null,null,null,null,null,null,null,null,null,null,null,null,null,null,null,null,null,null,null,null,null,null,null,null,null,null,null,null,null,null,null,null,null,null,null,null,null,null,null,null,null,null,null,null,null,null,null,null,null,null,null,null,null,null,null,null,null,null,null,null,null,null,null,null,0]
[1000081,null,{"$f":"IF(A100=\"\",\"\",DBCS(VLOOKUP(A100,入力シート!A:E,3,FALSE)))","v":""},null,null,null,null,null,null,null,null,null,null,null,null,null,null,null,null,null,null,null,null,null,null,null,null,null,null,null,null,null,null,null,null,null,null,null,null,null,null,null,null,null,null,null,null,null,null,null,null,null,null,null,null,null,null,null,null,null,null,null,null,null,null,null,null,null,null,null,null,null,null,null,null,null,null,null,null,null,null,null,null,null,null,null,null,null,null,null,null,null,null,null,null,null,null,null,null,null,null,null,null,null,null,null,null,null,null,null,null,null,null,null,null,null,null,null,null,null,null,null,null,null,null,null,null,null,null,null,null,null,null,null,null,null,null,null,null,null,null,null,null,null,null,null,null,null,0]
[1000082,null,{"$f":"IF(A101=\"\",\"\",DBCS(VLOOKUP(A101,入力シート!A:E,3,FALSE)))","v":""},null,null,null,null,null,null,null,null,null,null,null,null,null,null,null,null,null,null,null,null,null,null,null,null,null,null,null,null,null,null,null,null,null,null,null,null,null,null,null,null,null,null,null,null,null,null,null,null,null,null,null,null,null,null,null,null,null,null,null,null,null,null,null,null,null,null,null,null,null,null,null,null,null,null,null,null,null,null,null,null,null,null,null,null,null,null,null,null,null,null,null,null,null,null,null,null,null,null,null,null,null,null,null,null,null,null,null,null,null,null,null,null,null,null,null,null,null,null,null,null,null,null,null,null,null,null,null,null,null,null,null,null,null,null,null,null,null,null,null,null,null,null,null,null,null,0]
[1000083,null,{"$f":"IF(A102=\"\",\"\",DBCS(VLOOKUP(A102,入力シート!A:E,3,FALSE)))","v":""},null,null,null,null,null,null,null,null,null,null,null,null,null,null,null,null,null,null,null,null,null,null,null,null,null,null,null,null,null,null,null,null,null,null,null,null,null,null,null,null,null,null,null,null,null,null,null,null,null,null,null,null,null,null,null,null,null,null,null,null,null,null,null,null,null,null,null,null,null,null,null,null,null,null,null,null,null,null,null,null,null,null,null,null,null,null,null,null,null,null,null,null,null,null,null,null,null,null,null,null,null,null,null,null,null,null,null,null,null,null,null,null,null,null,null,null,null,null,null,null,null,null,null,null,null,null,null,null,null,null,null,null,null,null,null,null,null,null,null,null,null,null,null,null,null,0]
[1000084,null,{"$f":"IF(A103=\"\",\"\",DBCS(VLOOKUP(A103,入力シート!A:E,3,FALSE)))","v":""},null,null,null,null,null,null,null,null,null,null,null,null,null,null,null,null,null,null,null,null,null,null,null,null,null,null,null,null,null,null,null,null,null,null,null,null,null,null,null,null,null,null,null,null,null,null,null,null,null,null,null,null,null,null,null,null,null,null,null,null,null,null,null,null,null,null,null,null,null,null,null,null,null,null,null,null,null,null,null,null,null,null,null,null,null,null,null,null,null,null,null,null,null,null,null,null,null,null,null,null,null,null,null,null,null,null,null,null,null,null,null,null,null,null,null,null,null,null,null,null,null,null,null,null,null,null,null,null,null,null,null,null,null,null,null,null,null,null,null,null,null,null,null,null,null,0]
[1000085,null,{"$f":"IF(A104=\"\",\"\",DBCS(VLOOKUP(A104,入力シート!A:E,3,FALSE)))","v":""},null,null,null,null,null,null,null,null,null,null,null,null,null,null,null,null,null,null,null,null,null,null,null,null,null,null,null,null,null,null,null,null,null,null,null,null,null,null,null,null,null,null,null,null,null,null,null,null,null,null,null,null,null,null,null,null,null,null,null,null,null,null,null,null,null,null,null,null,null,null,null,null,null,null,null,null,null,null,null,null,null,null,null,null,null,null,null,null,null,null,null,null,null,null,null,null,null,null,null,null,null,null,null,null,null,null,null,null,null,null,null,null,null,null,null,null,null,null,null,null,null,null,null,null,null,null,null,null,null,null,null,null,null,null,null,null,null,null,null,null,null,null,null,null,null,0]
[1000086,null,{"$f":"IF(A105=\"\",\"\",DBCS(VLOOKUP(A105,入力シート!A:E,3,FALSE)))","v":""},null,null,null,null,null,null,null,null,null,null,null,null,null,null,null,null,null,null,null,null,null,null,null,null,null,null,null,null,null,null,null,null,null,null,null,null,null,null,null,null,null,null,null,null,null,null,null,null,null,null,null,null,null,null,null,null,null,null,null,null,null,null,null,null,null,null,null,null,null,null,null,null,null,null,null,null,null,null,null,null,null,null,null,null,null,null,null,null,null,null,null,null,null,null,null,null,null,null,null,null,null,null,null,null,null,null,null,null,null,null,null,null,null,null,null,null,null,null,null,null,null,null,null,null,null,null,null,null,null,null,null,null,null,null,null,null,null,null,null,null,null,null,null,null,null,0]
[1000087,null,{"$f":"IF(A106=\"\",\"\",DBCS(VLOOKUP(A106,入力シート!A:E,3,FALSE)))","v":""},null,null,null,null,null,null,null,null,null,null,null,null,null,null,null,null,null,null,null,null,null,null,null,null,null,null,null,null,null,null,null,null,null,null,null,null,null,null,null,null,null,null,null,null,null,null,null,null,null,null,null,null,null,null,null,null,null,null,null,null,null,null,null,null,null,null,null,null,null,null,null,null,null,null,null,null,null,null,null,null,null,null,null,null,null,null,null,null,null,null,null,null,null,null,null,null,null,null,null,null,null,null,null,null,null,null,null,null,null,null,null,null,null,null,null,null,null,null,null,null,null,null,null,null,null,null,null,null,null,null,null,null,null,null,null,null,null,null,null,null,null,null,null,null,null,0]
[1000088,null,{"$f":"IF(A107=\"\",\"\",DBCS(VLOOKUP(A107,入力シート!A:E,3,FALSE)))","v":""},null,null,null,null,null,null,null,null,null,null,null,null,null,null,null,null,null,null,null,null,null,null,null,null,null,null,null,null,null,null,null,null,null,null,null,null,null,null,null,null,null,null,null,null,null,null,null,null,null,null,null,null,null,null,null,null,null,null,null,null,null,null,null,null,null,null,null,null,null,null,null,null,null,null,null,null,null,null,null,null,null,null,null,null,null,null,null,null,null,null,null,null,null,null,null,null,null,null,null,null,null,null,null,null,null,null,null,null,null,null,null,null,null,null,null,null,null,null,null,null,null,null,null,null,null,null,null,null,null,null,null,null,null,null,null,null,null,null,null,null,null,null,null,null,null,0]
[1000089,null,{"$f":"IF(A108=\"\",\"\",DBCS(VLOOKUP(A108,入力シート!A:E,3,FALSE)))","v":""},null,null,null,null,null,null,null,null,null,null,null,null,null,null,null,null,null,null,null,null,null,null,null,null,null,null,null,null,null,null,null,null,null,null,null,null,null,null,null,null,null,null,null,null,null,null,null,null,null,null,null,null,null,null,null,null,null,null,null,null,null,null,null,null,null,null,null,null,null,null,null,null,null,null,null,null,null,null,null,null,null,null,null,null,null,null,null,null,null,null,null,null,null,null,null,null,null,null,null,null,null,null,null,null,null,null,null,null,null,null,null,null,null,null,null,null,null,null,null,null,null,null,null,null,null,null,null,null,null,null,null,null,null,null,null,null,null,null,null,null,null,null,null,null,null,0]
[1000090,null,{"$f":"IF(A109=\"\",\"\",DBCS(VLOOKUP(A109,入力シート!A:E,3,FALSE)))","v":""},null,null,null,null,null,null,null,null,null,null,null,null,null,null,null,null,null,null,null,null,null,null,null,null,null,null,null,null,null,null,null,null,null,null,null,null,null,null,null,null,null,null,null,null,null,null,null,null,null,null,null,null,null,null,null,null,null,null,null,null,null,null,null,null,null,null,null,null,null,null,null,null,null,null,null,null,null,null,null,null,null,null,null,null,null,null,null,null,null,null,null,null,null,null,null,null,null,null,null,null,null,null,null,null,null,null,null,null,null,null,null,null,null,null,null,null,null,null,null,null,null,null,null,null,null,null,null,null,null,null,null,null,null,null,null,null,null,null,null,null,null,null,null,null,null,0]
[1000091,null,{"$f":"IF(A110=\"\",\"\",DBCS(VLOOKUP(A110,入力シート!A:E,3,FALSE)))","v":""},null,null,null,null,null,null,null,null,null,null,null,null,null,null,null,null,null,null,null,null,null,null,null,null,null,null,null,null,null,null,null,null,null,null,null,null,null,null,null,null,null,null,null,null,null,null,null,null,null,null,null,null,null,null,null,null,null,null,null,null,null,null,null,null,null,null,null,null,null,null,null,null,null,null,null,null,null,null,null,null,null,null,null,null,null,null,null,null,null,null,null,null,null,null,null,null,null,null,null,null,null,null,null,null,null,null,null,null,null,null,null,null,null,null,null,null,null,null,null,null,null,null,null,null,null,null,null,null,null,null,null,null,null,null,null,null,null,null,null,null,null,null,null,null,null,0]
[1000092,null,{"$f":"IF(A111=\"\",\"\",DBCS(VLOOKUP(A111,入力シート!A:E,3,FALSE)))","v":""},null,null,null,null,null,null,null,null,null,null,null,null,null,null,null,null,null,null,null,null,null,null,null,null,null,null,null,null,null,null,null,null,null,null,null,null,null,null,null,null,null,null,null,null,null,null,null,null,null,null,null,null,null,null,null,null,null,null,null,null,null,null,null,null,null,null,null,null,null,null,null,null,null,null,null,null,null,null,null,null,null,null,null,null,null,null,null,null,null,null,null,null,null,null,null,null,null,null,null,null,null,null,null,null,null,null,null,null,null,null,null,null,null,null,null,null,null,null,null,null,null,null,null,null,null,null,null,null,null,null,null,null,null,null,null,null,null,null,null,null,null,null,null,null,null,0]
[1000093,null,{"$f":"IF(A112=\"\",\"\",DBCS(VLOOKUP(A112,入力シート!A:E,3,FALSE)))","v":""},null,null,null,null,null,null,null,null,null,null,null,null,null,null,null,null,null,null,null,null,null,null,null,null,null,null,null,null,null,null,null,null,null,null,null,null,null,null,null,null,null,null,null,null,null,null,null,null,null,null,null,null,null,null,null,null,null,null,null,null,null,null,null,null,null,null,null,null,null,null,null,null,null,null,null,null,null,null,null,null,null,null,null,null,null,null,null,null,null,null,null,null,null,null,null,null,null,null,null,null,null,null,null,null,null,null,null,null,null,null,null,null,null,null,null,null,null,null,null,null,null,null,null,null,null,null,null,null,null,null,null,null,null,null,null,null,null,null,null,null,null,null,null,null,null,0]
[1000094,null,{"$f":"IF(A113=\"\",\"\",DBCS(VLOOKUP(A113,入力シート!A:E,3,FALSE)))","v":""},null,null,null,null,null,null,null,null,null,null,null,null,null,null,null,null,null,null,null,null,null,null,null,null,null,null,null,null,null,null,null,null,null,null,null,null,null,null,null,null,null,null,null,null,null,null,null,null,null,null,null,null,null,null,null,null,null,null,null,null,null,null,null,null,null,null,null,null,null,null,null,null,null,null,null,null,null,null,null,null,null,null,null,null,null,null,null,null,null,null,null,null,null,null,null,null,null,null,null,null,null,null,null,null,null,null,null,null,null,null,null,null,null,null,null,null,null,null,null,null,null,null,null,null,null,null,null,null,null,null,null,null,null,null,null,null,null,null,null,null,null,null,null,null,null,0]
[1000095,null,{"$f":"IF(A114=\"\",\"\",DBCS(VLOOKUP(A114,入力シート!A:E,3,FALSE)))","v":""},null,null,null,null,null,null,null,null,null,null,null,null,null,null,null,null,null,null,null,null,null,null,null,null,null,null,null,null,null,null,null,null,null,null,null,null,null,null,null,null,null,null,null,null,null,null,null,null,null,null,null,null,null,null,null,null,null,null,null,null,null,null,null,null,null,null,null,null,null,null,null,null,null,null,null,null,null,null,null,null,null,null,null,null,null,null,null,null,null,null,null,null,null,null,null,null,null,null,null,null,null,null,null,null,null,null,null,null,null,null,null,null,null,null,null,null,null,null,null,null,null,null,null,null,null,null,null,null,null,null,null,null,null,null,null,null,null,null,null,null,null,null,null,null,null,0]
[1000096,null,{"$f":"IF(A115=\"\",\"\",DBCS(VLOOKUP(A115,入力シート!A:E,3,FALSE)))","v":""},null,null,null,null,null,null,null,null,null,null,null,null,null,null,null,null,null,null,null,null,null,null,null,null,null,null,null,null,null,null,null,null,null,null,null,null,null,null,null,null,null,null,null,null,null,null,null,null,null,null,null,null,null,null,null,null,null,null,null,null,null,null,null,null,null,null,null,null,null,null,null,null,null,null,null,null,null,null,null,null,null,null,null,null,null,null,null,null,null,null,null,null,null,null,null,null,null,null,null,null,null,null,null,null,null,null,null,null,null,null,null,null,null,null,null,null,null,null,null,null,null,null,null,null,null,null,null,null,null,null,null,null,null,null,null,null,null,null,null,null,null,null,null,null,null,0]
[1000097,null,{"$f":"IF(A116=\"\",\"\",DBCS(VLOOKUP(A116,入力シート!A:E,3,FALSE)))","v":""},null,null,null,null,null,null,null,null,null,null,null,null,null,null,null,null,null,null,null,null,null,null,null,null,null,null,null,null,null,null,null,null,null,null,null,null,null,null,null,null,null,null,null,null,null,null,null,null,null,null,null,null,null,null,null,null,null,null,null,null,null,null,null,null,null,null,null,null,null,null,null,null,null,null,null,null,null,null,null,null,null,null,null,null,null,null,null,null,null,null,null,null,null,null,null,null,null,null,null,null,null,null,null,null,null,null,null,null,null,null,null,null,null,null,null,null,null,null,null,null,null,null,null,null,null,null,null,null,null,null,null,null,null,null,null,null,null,null,null,null,null,null,null,null,null,0]
[1000098,null,{"$f":"IF(A117=\"\",\"\",DBCS(VLOOKUP(A117,入力シート!A:E,3,FALSE)))","v":""},null,null,null,null,null,null,null,null,null,null,null,null,null,null,null,null,null,null,null,null,null,null,null,null,null,null,null,null,null,null,null,null,null,null,null,null,null,null,null,null,null,null,null,null,null,null,null,null,null,null,null,null,null,null,null,null,null,null,null,null,null,null,null,null,null,null,null,null,null,null,null,null,null,null,null,null,null,null,null,null,null,null,null,null,null,null,null,null,null,null,null,null,null,null,null,null,null,null,null,null,null,null,null,null,null,null,null,null,null,null,null,null,null,null,null,null,null,null,null,null,null,null,null,null,null,null,null,null,null,null,null,null,null,null,null,null,null,null,null,null,null,null,null,null,null,0]
[1000099,null,{"$f":"IF(A118=\"\",\"\",DBCS(VLOOKUP(A118,入力シート!A:E,3,FALSE)))","v":""},null,null,null,null,null,null,null,null,null,null,null,null,null,null,null,null,null,null,null,null,null,null,null,null,null,null,null,null,null,null,null,null,null,null,null,null,null,null,null,null,null,null,null,null,null,null,null,null,null,null,null,null,null,null,null,null,null,null,null,null,null,null,null,null,null,null,null,null,null,null,null,null,null,null,null,null,null,null,null,null,null,null,null,null,null,null,null,null,null,null,null,null,null,null,null,null,null,null,null,null,null,null,null,null,null,null,null,null,null,null,null,null,null,null,null,null,null,null,null,null,null,null,null,null,null,null,null,null,null,null,null,null,null,null,null,null,null,null,null,null,null,null,null,null,null,0]
[1000100,null,{"$f":"IF(A119=\"\",\"\",DBCS(VLOOKUP(A119,入力シート!A:E,3,FALSE)))","v":""},null,null,null,null,null,null,null,null,null,null,null,null,null,null,null,null,null,null,null,null,null,null,null,null,null,null,null,null,null,null,null,null,null,null,null,null,null,null,null,null,null,null,null,null,null,null,null,null,null,null,null,null,null,null,null,null,null,null,null,null,null,null,null,null,null,null,null,null,null,null,null,null,null,null,null,null,null,null,null,null,null,null,null,null,null,null,null,null,null,null,null,null,null,null,null,null,null,null,null,null,null,null,null,null,null,null,null,null,null,null,null,null,null,null,null,null,null,null,null,null,null,null,null,null,null,null,null,null,null,null,null,null,null,null,null,null,null,null,null,null,null,null,null,null,null,0]
[1000101,null,{"$f":"IF(A120=\"\",\"\",DBCS(VLOOKUP(A120,入力シート!A:E,3,FALSE)))","v":""},null,null,null,null,null,null,null,null,null,null,null,null,null,null,null,null,null,null,null,null,null,null,null,null,null,null,null,null,null,null,null,null,null,null,null,null,null,null,null,null,null,null,null,null,null,null,null,null,null,null,null,null,null,null,null,null,null,null,null,null,null,null,null,null,null,null,null,null,null,null,null,null,null,null,null,null,null,null,null,null,null,null,null,null,null,null,null,null,null,null,null,null,null,null,null,null,null,null,null,null,null,null,null,null,null,null,null,null,null,null,null,null,null,null,null,null,null,null,null,null,null,null,null,null,null,null,null,null,null,null,null,null,null,null,null,null,null,null,null,null,null,null,null,null,null,0]
[1000102,null,{"$f":"IF(A121=\"\",\"\",DBCS(VLOOKUP(A121,入力シート!A:E,3,FALSE)))","v":""},null,null,null,null,null,null,null,null,null,null,null,null,null,null,null,null,null,null,null,null,null,null,null,null,null,null,null,null,null,null,null,null,null,null,null,null,null,null,null,null,null,null,null,null,null,null,null,null,null,null,null,null,null,null,null,null,null,null,null,null,null,null,null,null,null,null,null,null,null,null,null,null,null,null,null,null,null,null,null,null,null,null,null,null,null,null,null,null,null,null,null,null,null,null,null,null,null,null,null,null,null,null,null,null,null,null,null,null,null,null,null,null,null,null,null,null,null,null,null,null,null,null,null,null,null,null,null,null,null,null,null,null,null,null,null,null,null,null,null,null,null,null,null,null,null,0]
[1000103,null,{"$f":"IF(A122=\"\",\"\",DBCS(VLOOKUP(A122,入力シート!A:E,3,FALSE)))","v":""},null,null,null,null,null,null,null,null,null,null,null,null,null,null,null,null,null,null,null,null,null,null,null,null,null,null,null,null,null,null,null,null,null,null,null,null,null,null,null,null,null,null,null,null,null,null,null,null,null,null,null,null,null,null,null,null,null,null,null,null,null,null,null,null,null,null,null,null,null,null,null,null,null,null,null,null,null,null,null,null,null,null,null,null,null,null,null,null,null,null,null,null,null,null,null,null,null,null,null,null,null,null,null,null,null,null,null,null,null,null,null,null,null,null,null,null,null,null,null,null,null,null,null,null,null,null,null,null,null,null,null,null,null,null,null,null,null,null,null,null,null,null,null,null,null,0]
[1000104,null,{"$f":"IF(A123=\"\",\"\",DBCS(VLOOKUP(A123,入力シート!A:E,3,FALSE)))","v":""},null,null,null,null,null,null,null,null,null,null,null,null,null,null,null,null,null,null,null,null,null,null,null,null,null,null,null,null,null,null,null,null,null,null,null,null,null,null,null,null,null,null,null,null,null,null,null,null,null,null,null,null,null,null,null,null,null,null,null,null,null,null,null,null,null,null,null,null,null,null,null,null,null,null,null,null,null,null,null,null,null,null,null,null,null,null,null,null,null,null,null,null,null,null,null,null,null,null,null,null,null,null,null,null,null,null,null,null,null,null,null,null,null,null,null,null,null,null,null,null,null,null,null,null,null,null,null,null,null,null,null,null,null,null,null,null,null,null,null,null,null,null,null,null,null,0]
[1000105,null,{"$f":"IF(A124=\"\",\"\",DBCS(VLOOKUP(A124,入力シート!A:E,3,FALSE)))","v":""},null,null,null,null,null,null,null,null,null,null,null,null,null,null,null,null,null,null,null,null,null,null,null,null,null,null,null,null,null,null,null,null,null,null,null,null,null,null,null,null,null,null,null,null,null,null,null,null,null,null,null,null,null,null,null,null,null,null,null,null,null,null,null,null,null,null,null,null,null,null,null,null,null,null,null,null,null,null,null,null,null,null,null,null,null,null,null,null,null,null,null,null,null,null,null,null,null,null,null,null,null,null,null,null,null,null,null,null,null,null,null,null,null,null,null,null,null,null,null,null,null,null,null,null,null,null,null,null,null,null,null,null,null,null,null,null,null,null,null,null,null,null,null,null,null,0]
[1000106,null,{"$f":"IF(A125=\"\",\"\",DBCS(VLOOKUP(A125,入力シート!A:E,3,FALSE)))","v":""},null,null,null,null,null,null,null,null,null,null,null,null,null,null,null,null,null,null,null,null,null,null,null,null,null,null,null,null,null,null,null,null,null,null,null,null,null,null,null,null,null,null,null,null,null,null,null,null,null,null,null,null,null,null,null,null,null,null,null,null,null,null,null,null,null,null,null,null,null,null,null,null,null,null,null,null,null,null,null,null,null,null,null,null,null,null,null,null,null,null,null,null,null,null,null,null,null,null,null,null,null,null,null,null,null,null,null,null,null,null,null,null,null,null,null,null,null,null,null,null,null,null,null,null,null,null,null,null,null,null,null,null,null,null,null,null,null,null,null,null,null,null,null,null,null,0]
[1000107,null,{"$f":"IF(A126=\"\",\"\",DBCS(VLOOKUP(A126,入力シート!A:E,3,FALSE)))","v":""},null,null,null,null,null,null,null,null,null,null,null,null,null,null,null,null,null,null,null,null,null,null,null,null,null,null,null,null,null,null,null,null,null,null,null,null,null,null,null,null,null,null,null,null,null,null,null,null,null,null,null,null,null,null,null,null,null,null,null,null,null,null,null,null,null,null,null,null,null,null,null,null,null,null,null,null,null,null,null,null,null,null,null,null,null,null,null,null,null,null,null,null,null,null,null,null,null,null,null,null,null,null,null,null,null,null,null,null,null,null,null,null,null,null,null,null,null,null,null,null,null,null,null,null,null,null,null,null,null,null,null,null,null,null,null,null,null,null,null,null,null,null,null,null,null,0]
[1000108,null,{"$f":"IF(A127=\"\",\"\",DBCS(VLOOKUP(A127,入力シート!A:E,3,FALSE)))","v":""},null,null,null,null,null,null,null,null,null,null,null,null,null,null,null,null,null,null,null,null,null,null,null,null,null,null,null,null,null,null,null,null,null,null,null,null,null,null,null,null,null,null,null,null,null,null,null,null,null,null,null,null,null,null,null,null,null,null,null,null,null,null,null,null,null,null,null,null,null,null,null,null,null,null,null,null,null,null,null,null,null,null,null,null,null,null,null,null,null,null,null,null,null,null,null,null,null,null,null,null,null,null,null,null,null,null,null,null,null,null,null,null,null,null,null,null,null,null,null,null,null,null,null,null,null,null,null,null,null,null,null,null,null,null,null,null,null,null,null,null,null,null,null,null,null,0]
[1000109,null,{"$f":"IF(A128=\"\",\"\",DBCS(VLOOKUP(A128,入力シート!A:E,3,FALSE)))","v":""},null,null,null,null,null,null,null,null,null,null,null,null,null,null,null,null,null,null,null,null,null,null,null,null,null,null,null,null,null,null,null,null,null,null,null,null,null,null,null,null,null,null,null,null,null,null,null,null,null,null,null,null,null,null,null,null,null,null,null,null,null,null,null,null,null,null,null,null,null,null,null,null,null,null,null,null,null,null,null,null,null,null,null,null,null,null,null,null,null,null,null,null,null,null,null,null,null,null,null,null,null,null,null,null,null,null,null,null,null,null,null,null,null,null,null,null,null,null,null,null,null,null,null,null,null,null,null,null,null,null,null,null,null,null,null,null,null,null,null,null,null,null,null,null,null,0]
[1000110,null,{"$f":"IF(A129=\"\",\"\",DBCS(VLOOKUP(A129,入力シート!A:E,3,FALSE)))","v":""},null,null,null,null,null,null,null,null,null,null,null,null,null,null,null,null,null,null,null,null,null,null,null,null,null,null,null,null,null,null,null,null,null,null,null,null,null,null,null,null,null,null,null,null,null,null,null,null,null,null,null,null,null,null,null,null,null,null,null,null,null,null,null,null,null,null,null,null,null,null,null,null,null,null,null,null,null,null,null,null,null,null,null,null,null,null,null,null,null,null,null,null,null,null,null,null,null,null,null,null,null,null,null,null,null,null,null,null,null,null,null,null,null,null,null,null,null,null,null,null,null,null,null,null,null,null,null,null,null,null,null,null,null,null,null,null,null,null,null,null,null,null,null,null,null,0]
[1000111,null,{"$f":"IF(A130=\"\",\"\",DBCS(VLOOKUP(A130,入力シート!A:E,3,FALSE)))","v":""},null,null,null,null,null,null,null,null,null,null,null,null,null,null,null,null,null,null,null,null,null,null,null,null,null,null,null,null,null,null,null,null,null,null,null,null,null,null,null,null,null,null,null,null,null,null,null,null,null,null,null,null,null,null,null,null,null,null,null,null,null,null,null,null,null,null,null,null,null,null,null,null,null,null,null,null,null,null,null,null,null,null,null,null,null,null,null,null,null,null,null,null,null,null,null,null,null,null,null,null,null,null,null,null,null,null,null,null,null,null,null,null,null,null,null,null,null,null,null,null,null,null,null,null,null,null,null,null,null,null,null,null,null,null,null,null,null,null,null,null,null,null,null,null,null,0]
[1000112,null,{"$f":"IF(A131=\"\",\"\",DBCS(VLOOKUP(A131,入力シート!A:E,3,FALSE)))","v":""},null,null,null,null,null,null,null,null,null,null,null,null,null,null,null,null,null,null,null,null,null,null,null,null,null,null,null,null,null,null,null,null,null,null,null,null,null,null,null,null,null,null,null,null,null,null,null,null,null,null,null,null,null,null,null,null,null,null,null,null,null,null,null,null,null,null,null,null,null,null,null,null,null,null,null,null,null,null,null,null,null,null,null,null,null,null,null,null,null,null,null,null,null,null,null,null,null,null,null,null,null,null,null,null,null,null,null,null,null,null,null,null,null,null,null,null,null,null,null,null,null,null,null,null,null,null,null,null,null,null,null,null,null,null,null,null,null,null,null,null,null,null,null,null,null,0]
[1000113,null,{"$f":"IF(A132=\"\",\"\",DBCS(VLOOKUP(A132,入力シート!A:E,3,FALSE)))","v":""},null,null,null,null,null,null,null,null,null,null,null,null,null,null,null,null,null,null,null,null,null,null,null,null,null,null,null,null,null,null,null,null,null,null,null,null,null,null,null,null,null,null,null,null,null,null,null,null,null,null,null,null,null,null,null,null,null,null,null,null,null,null,null,null,null,null,null,null,null,null,null,null,null,null,null,null,null,null,null,null,null,null,null,null,null,null,null,null,null,null,null,null,null,null,null,null,null,null,null,null,null,null,null,null,null,null,null,null,null,null,null,null,null,null,null,null,null,null,null,null,null,null,null,null,null,null,null,null,null,null,null,null,null,null,null,null,null,null,null,null,null,null,null,null,null,0]
[1000114,null,{"$f":"IF(A133=\"\",\"\",DBCS(VLOOKUP(A133,入力シート!A:E,3,FALSE)))","v":""},null,null,null,null,null,null,null,null,null,null,null,null,null,null,null,null,null,null,null,null,null,null,null,null,null,null,null,null,null,null,null,null,null,null,null,null,null,null,null,null,null,null,null,null,null,null,null,null,null,null,null,null,null,null,null,null,null,null,null,null,null,null,null,null,null,null,null,null,null,null,null,null,null,null,null,null,null,null,null,null,null,null,null,null,null,null,null,null,null,null,null,null,null,null,null,null,null,null,null,null,null,null,null,null,null,null,null,null,null,null,null,null,null,null,null,null,null,null,null,null,null,null,null,null,null,null,null,null,null,null,null,null,null,null,null,null,null,null,null,null,null,null,null,null,null,0]
[1000115,null,{"$f":"IF(A134=\"\",\"\",DBCS(VLOOKUP(A134,入力シート!A:E,3,FALSE)))","v":""},null,null,null,null,null,null,null,null,null,null,null,null,null,null,null,null,null,null,null,null,null,null,null,null,null,null,null,null,null,null,null,null,null,null,null,null,null,null,null,null,null,null,null,null,null,null,null,null,null,null,null,null,null,null,null,null,null,null,null,null,null,null,null,null,null,null,null,null,null,null,null,null,null,null,null,null,null,null,null,null,null,null,null,null,null,null,null,null,null,null,null,null,null,null,null,null,null,null,null,null,null,null,null,null,null,null,null,null,null,null,null,null,null,null,null,null,null,null,null,null,null,null,null,null,null,null,null,null,null,null,null,null,null,null,null,null,null,null,null,null,null,null,null,null,null,0]
[1000116,null,{"$f":"IF(A135=\"\",\"\",DBCS(VLOOKUP(A135,入力シート!A:E,3,FALSE)))","v":""},null,null,null,null,null,null,null,null,null,null,null,null,null,null,null,null,null,null,null,null,null,null,null,null,null,null,null,null,null,null,null,null,null,null,null,null,null,null,null,null,null,null,null,null,null,null,null,null,null,null,null,null,null,null,null,null,null,null,null,null,null,null,null,null,null,null,null,null,null,null,null,null,null,null,null,null,null,null,null,null,null,null,null,null,null,null,null,null,null,null,null,null,null,null,null,null,null,null,null,null,null,null,null,null,null,null,null,null,null,null,null,null,null,null,null,null,null,null,null,null,null,null,null,null,null,null,null,null,null,null,null,null,null,null,null,null,null,null,null,null,null,null,null,null,null,0]
[1000117,null,{"$f":"IF(A136=\"\",\"\",DBCS(VLOOKUP(A136,入力シート!A:E,3,FALSE)))","v":""},null,null,null,null,null,null,null,null,null,null,null,null,null,null,null,null,null,null,null,null,null,null,null,null,null,null,null,null,null,null,null,null,null,null,null,null,null,null,null,null,null,null,null,null,null,null,null,null,null,null,null,null,null,null,null,null,null,null,null,null,null,null,null,null,null,null,null,null,null,null,null,null,null,null,null,null,null,null,null,null,null,null,null,null,null,null,null,null,null,null,null,null,null,null,null,null,null,null,null,null,null,null,null,null,null,null,null,null,null,null,null,null,null,null,null,null,null,null,null,null,null,null,null,null,null,null,null,null,null,null,null,null,null,null,null,null,null,null,null,null,null,null,null,null,null,0]
[1000118,null,{"$f":"IF(A137=\"\",\"\",DBCS(VLOOKUP(A137,入力シート!A:E,3,FALSE)))","v":""},null,null,null,null,null,null,null,null,null,null,null,null,null,null,null,null,null,null,null,null,null,null,null,null,null,null,null,null,null,null,null,null,null,null,null,null,null,null,null,null,null,null,null,null,null,null,null,null,null,null,null,null,null,null,null,null,null,null,null,null,null,null,null,null,null,null,null,null,null,null,null,null,null,null,null,null,null,null,null,null,null,null,null,null,null,null,null,null,null,null,null,null,null,null,null,null,null,null,null,null,null,null,null,null,null,null,null,null,null,null,null,null,null,null,null,null,null,null,null,null,null,null,null,null,null,null,null,null,null,null,null,null,null,null,null,null,null,null,null,null,null,null,null,null,null,0]
[1000119,null,{"$f":"IF(A138=\"\",\"\",DBCS(VLOOKUP(A138,入力シート!A:E,3,FALSE)))","v":""},null,null,null,null,null,null,null,null,null,null,null,null,null,null,null,null,null,null,null,null,null,null,null,null,null,null,null,null,null,null,null,null,null,null,null,null,null,null,null,null,null,null,null,null,null,null,null,null,null,null,null,null,null,null,null,null,null,null,null,null,null,null,null,null,null,null,null,null,null,null,null,null,null,null,null,null,null,null,null,null,null,null,null,null,null,null,null,null,null,null,null,null,null,null,null,null,null,null,null,null,null,null,null,null,null,null,null,null,null,null,null,null,null,null,null,null,null,null,null,null,null,null,null,null,null,null,null,null,null,null,null,null,null,null,null,null,null,null,null,null,null,null,null,null,null,0]
[1000120,null,{"$f":"IF(A139=\"\",\"\",DBCS(VLOOKUP(A139,入力シート!A:E,3,FALSE)))","v":""},null,null,null,null,null,null,null,null,null,null,null,null,null,null,null,null,null,null,null,null,null,null,null,null,null,null,null,null,null,null,null,null,null,null,null,null,null,null,null,null,null,null,null,null,null,null,null,null,null,null,null,null,null,null,null,null,null,null,null,null,null,null,null,null,null,null,null,null,null,null,null,null,null,null,null,null,null,null,null,null,null,null,null,null,null,null,null,null,null,null,null,null,null,null,null,null,null,null,null,null,null,null,null,null,null,null,null,null,null,null,null,null,null,null,null,null,null,null,null,null,null,null,null,null,null,null,null,null,null,null,null,null,null,null,null,null,null,null,null,null,null,null,null,null,null,0]
[1000121,null,{"$f":"IF(A140=\"\",\"\",DBCS(VLOOKUP(A140,入力シート!A:E,3,FALSE)))","v":""},null,null,null,null,null,null,null,null,null,null,null,null,null,null,null,null,null,null,null,null,null,null,null,null,null,null,null,null,null,null,null,null,null,null,null,null,null,null,null,null,null,null,null,null,null,null,null,null,null,null,null,null,null,null,null,null,null,null,null,null,null,null,null,null,null,null,null,null,null,null,null,null,null,null,null,null,null,null,null,null,null,null,null,null,null,null,null,null,null,null,null,null,null,null,null,null,null,null,null,null,null,null,null,null,null,null,null,null,null,null,null,null,null,null,null,null,null,null,null,null,null,null,null,null,null,null,null,null,null,null,null,null,null,null,null,null,null,null,null,null,null,null,null,null,null,0]
[1000122,null,{"$f":"IF(A141=\"\",\"\",DBCS(VLOOKUP(A141,入力シート!A:E,3,FALSE)))","v":""},null,null,null,null,null,null,null,null,null,null,null,null,null,null,null,null,null,null,null,null,null,null,null,null,null,null,null,null,null,null,null,null,null,null,null,null,null,null,null,null,null,null,null,null,null,null,null,null,null,null,null,null,null,null,null,null,null,null,null,null,null,null,null,null,null,null,null,null,null,null,null,null,null,null,null,null,null,null,null,null,null,null,null,null,null,null,null,null,null,null,null,null,null,null,null,null,null,null,null,null,null,null,null,null,null,null,null,null,null,null,null,null,null,null,null,null,null,null,null,null,null,null,null,null,null,null,null,null,null,null,null,null,null,null,null,null,null,null,null,null,null,null,null,null,null,0]
[1000123,null,{"$f":"IF(A142=\"\",\"\",DBCS(VLOOKUP(A142,入力シート!A:E,3,FALSE)))","v":""},null,null,null,null,null,null,null,null,null,null,null,null,null,null,null,null,null,null,null,null,null,null,null,null,null,null,null,null,null,null,null,null,null,null,null,null,null,null,null,null,null,null,null,null,null,null,null,null,null,null,null,null,null,null,null,null,null,null,null,null,null,null,null,null,null,null,null,null,null,null,null,null,null,null,null,null,null,null,null,null,null,null,null,null,null,null,null,null,null,null,null,null,null,null,null,null,null,null,null,null,null,null,null,null,null,null,null,null,null,null,null,null,null,null,null,null,null,null,null,null,null,null,null,null,null,null,null,null,null,null,null,null,null,null,null,null,null,null,null,null,null,null,null,null,null,0]
[1000124,null,{"$f":"IF(A143=\"\",\"\",DBCS(VLOOKUP(A143,入力シート!A:E,3,FALSE)))","v":""},null,null,null,null,null,null,null,null,null,null,null,null,null,null,null,null,null,null,null,null,null,null,null,null,null,null,null,null,null,null,null,null,null,null,null,null,null,null,null,null,null,null,null,null,null,null,null,null,null,null,null,null,null,null,null,null,null,null,null,null,null,null,null,null,null,null,null,null,null,null,null,null,null,null,null,null,null,null,null,null,null,null,null,null,null,null,null,null,null,null,null,null,null,null,null,null,null,null,null,null,null,null,null,null,null,null,null,null,null,null,null,null,null,null,null,null,null,null,null,null,null,null,null,null,null,null,null,null,null,null,null,null,null,null,null,null,null,null,null,null,null,null,null,null,null,0]
[1000125,null,{"$f":"IF(A144=\"\",\"\",DBCS(VLOOKUP(A144,入力シート!A:E,3,FALSE)))","v":""},null,null,null,null,null,null,null,null,null,null,null,null,null,null,null,null,null,null,null,null,null,null,null,null,null,null,null,null,null,null,null,null,null,null,null,null,null,null,null,null,null,null,null,null,null,null,null,null,null,null,null,null,null,null,null,null,null,null,null,null,null,null,null,null,null,null,null,null,null,null,null,null,null,null,null,null,null,null,null,null,null,null,null,null,null,null,null,null,null,null,null,null,null,null,null,null,null,null,null,null,null,null,null,null,null,null,null,null,null,null,null,null,null,null,null,null,null,null,null,null,null,null,null,null,null,null,null,null,null,null,null,null,null,null,null,null,null,null,null,null,null,null,null,null,null,0]
[1000126,null,{"$f":"IF(A145=\"\",\"\",DBCS(VLOOKUP(A145,入力シート!A:E,3,FALSE)))","v":""},null,null,null,null,null,null,null,null,null,null,null,null,null,null,null,null,null,null,null,null,null,null,null,null,null,null,null,null,null,null,null,null,null,null,null,null,null,null,null,null,null,null,null,null,null,null,null,null,null,null,null,null,null,null,null,null,null,null,null,null,null,null,null,null,null,null,null,null,null,null,null,null,null,null,null,null,null,null,null,null,null,null,null,null,null,null,null,null,null,null,null,null,null,null,null,null,null,null,null,null,null,null,null,null,null,null,null,null,null,null,null,null,null,null,null,null,null,null,null,null,null,null,null,null,null,null,null,null,null,null,null,null,null,null,null,null,null,null,null,null,null,null,null,null,null,0]
[1000127,null,{"$f":"IF(A146=\"\",\"\",DBCS(VLOOKUP(A146,入力シート!A:E,3,FALSE)))","v":""},null,null,null,null,null,null,null,null,null,null,null,null,null,null,null,null,null,null,null,null,null,null,null,null,null,null,null,null,null,null,null,null,null,null,null,null,null,null,null,null,null,null,null,null,null,null,null,null,null,null,null,null,null,null,null,null,null,null,null,null,null,null,null,null,null,null,null,null,null,null,null,null,null,null,null,null,null,null,null,null,null,null,null,null,null,null,null,null,null,null,null,null,null,null,null,null,null,null,null,null,null,null,null,null,null,null,null,null,null,null,null,null,null,null,null,null,null,null,null,null,null,null,null,null,null,null,null,null,null,null,null,null,null,null,null,null,null,null,null,null,null,null,null,null,null,0]
[1000128,null,{"$f":"IF(A147=\"\",\"\",DBCS(VLOOKUP(A147,入力シート!A:E,3,FALSE)))","v":""},null,null,null,null,null,null,null,null,null,null,null,null,null,null,null,null,null,null,null,null,null,null,null,null,null,null,null,null,null,null,null,null,null,null,null,null,null,null,null,null,null,null,null,null,null,null,null,null,null,null,null,null,null,null,null,null,null,null,null,null,null,null,null,null,null,null,null,null,null,null,null,null,null,null,null,null,null,null,null,null,null,null,null,null,null,null,null,null,null,null,null,null,null,null,null,null,null,null,null,null,null,null,null,null,null,null,null,null,null,null,null,null,null,null,null,null,null,null,null,null,null,null,null,null,null,null,null,null,null,null,null,null,null,null,null,null,null,null,null,null,null,null,null,null,null,0]
[1000129,null,{"$f":"IF(A148=\"\",\"\",DBCS(VLOOKUP(A148,入力シート!A:E,3,FALSE)))","v":""},null,null,null,null,null,null,null,null,null,null,null,null,null,null,null,null,null,null,null,null,null,null,null,null,null,null,null,null,null,null,null,null,null,null,null,null,null,null,null,null,null,null,null,null,null,null,null,null,null,null,null,null,null,null,null,null,null,null,null,null,null,null,null,null,null,null,null,null,null,null,null,null,null,null,null,null,null,null,null,null,null,null,null,null,null,null,null,null,null,null,null,null,null,null,null,null,null,null,null,null,null,null,null,null,null,null,null,null,null,null,null,null,null,null,null,null,null,null,null,null,null,null,null,null,null,null,null,null,null,null,null,null,null,null,null,null,null,null,null,null,null,null,null,null,null,0]
[1000130,null,{"$f":"IF(A149=\"\",\"\",DBCS(VLOOKUP(A149,入力シート!A:E,3,FALSE)))","v":""},null,null,null,null,null,null,null,null,null,null,null,null,null,null,null,null,null,null,null,null,null,null,null,null,null,null,null,null,null,null,null,null,null,null,null,null,null,null,null,null,null,null,null,null,null,null,null,null,null,null,null,null,null,null,null,null,null,null,null,null,null,null,null,null,null,null,null,null,null,null,null,null,null,null,null,null,null,null,null,null,null,null,null,null,null,null,null,null,null,null,null,null,null,null,null,null,null,null,null,null,null,null,null,null,null,null,null,null,null,null,null,null,null,null,null,null,null,null,null,null,null,null,null,null,null,null,null,null,null,null,null,null,null,null,null,null,null,null,null,null,null,null,null,null,null,{"$f":"IF(C149=\"\", 0, 1)","v":0}]
[1000131,null,{"$f":"IF(A150=\"\",\"\",DBCS(VLOOKUP(A150,入力シート!A:E,3,FALSE)))","v":""},null,null,null,null,null,null,null,null,null,null,null,null,null,null,null,null,null,null,null,null,null,null,null,null,null,null,null,null,null,null,null,null,null,null,null,null,null,null,null,null,null,null,null,null,null,null,null,null,null,null,null,null,null,null,null,null,null,null,null,null,null,null,null,null,null,null,null,null,null,null,null,null,null,null,null,null,null,null,null,null,null,null,null,null,null,null,null,null,null,null,null,null,null,null,null,null,null,null,null,null,null,null,null,null,null,null,null,null,null,null,null,null,null,null,null,null,null,null,null,null,null,null,null,null,null,null,null,null,null,null,null,null,null,null,null,null,null,null,null,null,null,null,null,null,null,0]
[1000132,null,{"$f":"IF(A151=\"\",\"\",DBCS(VLOOKUP(A151,入力シート!A:E,3,FALSE)))","v":""},null,null,null,null,null,null,null,null,null,null,null,null,null,null,null,null,null,null,null,null,null,null,null,null,null,null,null,null,null,null,null,null,null,null,null,null,null,null,null,null,null,null,null,null,null,null,null,null,null,null,null,null,null,null,null,null,null,null,null,null,null,null,null,null,null,null,null,null,null,null,null,null,null,null,null,null,null,null,null,null,null,null,null,null,null,null,null,null,null,null,null,null,null,null,null,null,null,null,null,null,null,null,null,null,null,null,null,null,null,null,null,null,null,null,null,null,null,null,null,null,null,null,null,null,null,null,null,null,null,null,null,null,null,null,null,null,null,null,null,null,null,null,null,null,null,0]
[1000133,null,{"$f":"IF(A152=\"\",\"\",DBCS(VLOOKUP(A152,入力シート!A:E,3,FALSE)))","v":""},null,null,null,null,null,null,null,null,null,null,null,null,null,null,null,null,null,null,null,null,null,null,null,null,null,null,null,null,null,null,null,null,null,null,null,null,null,null,null,null,null,null,null,null,null,null,null,null,null,null,null,null,null,null,null,null,null,null,null,null,null,null,null,null,null,null,null,null,null,null,null,null,null,null,null,null,null,null,null,null,null,null,null,null,null,null,null,null,null,null,null,null,null,null,null,null,null,null,null,null,null,null,null,null,null,null,null,null,null,null,null,null,null,null,null,null,null,null,null,null,null,null,null,null,null,null,null,null,null,null,null,null,null,null,null,null,null,null,null,null,null,null,null,null,null,0]
[1000134,null,{"$f":"IF(A153=\"\",\"\",DBCS(VLOOKUP(A153,入力シート!A:E,3,FALSE)))","v":""},null,null,null,null,null,null,null,null,null,null,null,null,null,null,null,null,null,null,null,null,null,null,null,null,null,null,null,null,null,null,null,null,null,null,null,null,null,null,null,null,null,null,null,null,null,null,null,null,null,null,null,null,null,null,null,null,null,null,null,null,null,null,null,null,null,null,null,null,null,null,null,null,null,null,null,null,null,null,null,null,null,null,null,null,null,null,null,null,null,null,null,null,null,null,null,null,null,null,null,null,null,null,null,null,null,null,null,null,null,null,null,null,null,null,null,null,null,null,null,null,null,null,null,null,null,null,null,null,null,null,null,null,null,null,null,null,null,null,null,null,null,null,null,null,null,0]
[1000135,null,{"$f":"IF(A154=\"\",\"\",DBCS(VLOOKUP(A154,入力シート!A:E,3,FALSE)))","v":""},null,null,null,null,null,null,null,null,null,null,null,null,null,null,null,null,null,null,null,null,null,null,null,null,null,null,null,null,null,null,null,null,null,null,null,null,null,null,null,null,null,null,null,null,null,null,null,null,null,null,null,null,null,null,null,null,null,null,null,null,null,null,null,null,null,null,null,null,null,null,null,null,null,null,null,null,null,null,null,null,null,null,null,null,null,null,null,null,null,null,null,null,null,null,null,null,null,null,null,null,null,null,null,null,null,null,null,null,null,null,null,null,null,null,null,null,null,null,null,null,null,null,null,null,null,null,null,null,null,null,null,null,null,null,null,null,null,null,null,null,null,null,null,null,null,0]
[1000136,null,{"$f":"IF(A155=\"\",\"\",DBCS(VLOOKUP(A155,入力シート!A:E,3,FALSE)))","v":""},null,null,null,null,null,null,null,null,null,null,null,null,null,null,null,null,null,null,null,null,null,null,null,null,null,null,null,null,null,null,null,null,null,null,null,null,null,null,null,null,null,null,null,null,null,null,null,null,null,null,null,null,null,null,null,null,null,null,null,null,null,null,null,null,null,null,null,null,null,null,null,null,null,null,null,null,null,null,null,null,null,null,null,null,null,null,null,null,null,null,null,null,null,null,null,null,null,null,null,null,null,null,null,null,null,null,null,null,null,null,null,null,null,null,null,null,null,null,null,null,null,null,null,null,null,null,null,null,null,null,null,null,null,null,null,null,null,null,null,null,null,null,null,null,null,0]
[1000137,null,{"$f":"IF(A156=\"\",\"\",DBCS(VLOOKUP(A156,入力シート!A:E,3,FALSE)))","v":""},null,null,null,null,null,null,null,null,null,null,null,null,null,null,null,null,null,null,null,null,null,null,null,null,null,null,null,null,null,null,null,null,null,null,null,null,null,null,null,null,null,null,null,null,null,null,null,null,null,null,null,null,null,null,null,null,null,null,null,null,null,null,null,null,null,null,null,null,null,null,null,null,null,null,null,null,null,null,null,null,null,null,null,null,null,null,null,null,null,null,null,null,null,null,null,null,null,null,null,null,null,null,null,null,null,null,null,null,null,null,null,null,null,null,null,null,null,null,null,null,null,null,null,null,null,null,null,null,null,null,null,null,null,null,null,null,null,null,null,null,null,null,null,null,null,0]
[1000138,null,{"$f":"IF(A157=\"\",\"\",DBCS(VLOOKUP(A157,入力シート!A:E,3,FALSE)))","v":""},null,null,null,null,null,null,null,null,null,null,null,null,null,null,null,null,null,null,null,null,null,null,null,null,null,null,null,null,null,null,null,null,null,null,null,null,null,null,null,null,null,null,null,null,null,null,null,null,null,null,null,null,null,null,null,null,null,null,null,null,null,null,null,null,null,null,null,null,null,null,null,null,null,null,null,null,null,null,null,null,null,null,null,null,null,null,null,null,null,null,null,null,null,null,null,null,null,null,null,null,null,null,null,null,null,null,null,null,null,null,null,null,null,null,null,null,null,null,null,null,null,null,null,null,null,null,null,null,null,null,null,null,null,null,null,null,null,null,null,null,null,null,null,null,null,0]
[1000139,null,{"$f":"IF(A158=\"\",\"\",DBCS(VLOOKUP(A158,入力シート!A:E,3,FALSE)))","v":""},null,null,null,null,null,null,null,null,null,null,null,null,null,null,null,null,null,null,null,null,null,null,null,null,null,null,null,null,null,null,null,null,null,null,null,null,null,null,null,null,null,null,null,null,null,null,null,null,null,null,null,null,null,null,null,null,null,null,null,null,null,null,null,null,null,null,null,null,null,null,null,null,null,null,null,null,null,null,null,null,null,null,null,null,null,null,null,null,null,null,null,null,null,null,null,null,null,null,null,null,null,null,null,null,null,null,null,null,null,null,null,null,null,null,null,null,null,null,null,null,null,null,null,null,null,null,null,null,null,null,null,null,null,null,null,null,null,null,null,null,null,null,null,null,null,0]
[1000140,null,{"$f":"IF(A159=\"\",\"\",DBCS(VLOOKUP(A159,入力シート!A:E,3,FALSE)))","v":""},null,null,null,null,null,null,null,null,null,null,null,null,null,null,null,null,null,null,null,null,null,null,null,null,null,null,null,null,null,null,null,null,null,null,null,null,null,null,null,null,null,null,null,null,null,null,null,null,null,null,null,null,null,null,null,null,null,null,null,null,null,null,null,null,null,null,null,null,null,null,null,null,null,null,null,null,null,null,null,null,null,null,null,null,null,null,null,null,null,null,null,null,null,null,null,null,null,null,null,null,null,null,null,null,null,null,null,null,null,null,null,null,null,null,null,null,null,null,null,null,null,null,null,null,null,null,null,null,null,null,null,null,null,null,null,null,null,null,null,null,null,null,null,null,null,0]
[1000141,null,{"$f":"IF(A160=\"\",\"\",DBCS(VLOOKUP(A160,入力シート!A:E,3,FALSE)))","v":""},null,null,null,null,null,null,null,null,null,null,null,null,null,null,null,null,null,null,null,null,null,null,null,null,null,null,null,null,null,null,null,null,null,null,null,null,null,null,null,null,null,null,null,null,null,null,null,null,null,null,null,null,null,null,null,null,null,null,null,null,null,null,null,null,null,null,null,null,null,null,null,null,null,null,null,null,null,null,null,null,null,null,null,null,null,null,null,null,null,null,null,null,null,null,null,null,null,null,null,null,null,null,null,null,null,null,null,null,null,null,null,null,null,null,null,null,null,null,null,null,null,null,null,null,null,null,null,null,null,null,null,null,null,null,null,null,null,null,null,null,null,null,null,null,null,0]
[1000142,null,{"$f":"IF(A161=\"\",\"\",DBCS(VLOOKUP(A161,入力シート!A:E,3,FALSE)))","v":""},null,null,null,null,null,null,null,null,null,null,null,null,null,null,null,null,null,null,null,null,null,null,null,null,null,null,null,null,null,null,null,null,null,null,null,null,null,null,null,null,null,null,null,null,null,null,null,null,null,null,null,null,null,null,null,null,null,null,null,null,null,null,null,null,null,null,null,null,null,null,null,null,null,null,null,null,null,null,null,null,null,null,null,null,null,null,null,null,null,null,null,null,null,null,null,null,null,null,null,null,null,null,null,null,null,null,null,null,null,null,null,null,null,null,null,null,null,null,null,null,null,null,null,null,null,null,null,null,null,null,null,null,null,null,null,null,null,null,null,null,null,null,null,null,null,0]
[1000143,null,{"$f":"IF(A162=\"\",\"\",DBCS(VLOOKUP(A162,入力シート!A:E,3,FALSE)))","v":""},null,null,null,null,null,null,null,null,null,null,null,null,null,null,null,null,null,null,null,null,null,null,null,null,null,null,null,null,null,null,null,null,null,null,null,null,null,null,null,null,null,null,null,null,null,null,null,null,null,null,null,null,null,null,null,null,null,null,null,null,null,null,null,null,null,null,null,null,null,null,null,null,null,null,null,null,null,null,null,null,null,null,null,null,null,null,null,null,null,null,null,null,null,null,null,null,null,null,null,null,null,null,null,null,null,null,null,null,null,null,null,null,null,null,null,null,null,null,null,null,null,null,null,null,null,null,null,null,null,null,null,null,null,null,null,null,null,null,null,null,null,null,null,null,null,0]
[1000144,null,{"$f":"IF(A163=\"\",\"\",DBCS(VLOOKUP(A163,入力シート!A:E,3,FALSE)))","v":""},null,null,null,null,null,null,null,null,null,null,null,null,null,null,null,null,null,null,null,null,null,null,null,null,null,null,null,null,null,null,null,null,null,null,null,null,null,null,null,null,null,null,null,null,null,null,null,null,null,null,null,null,null,null,null,null,null,null,null,null,null,null,null,null,null,null,null,null,null,null,null,null,null,null,null,null,null,null,null,null,null,null,null,null,null,null,null,null,null,null,null,null,null,null,null,null,null,null,null,null,null,null,null,null,null,null,null,null,null,null,null,null,null,null,null,null,null,null,null,null,null,null,null,null,null,null,null,null,null,null,null,null,null,null,null,null,null,null,null,null,null,null,null,null,null,0]
[1000145,null,{"$f":"IF(A164=\"\",\"\",DBCS(VLOOKUP(A164,入力シート!A:E,3,FALSE)))","v":""},null,null,null,null,null,null,null,null,null,null,null,null,null,null,null,null,null,null,null,null,null,null,null,null,null,null,null,null,null,null,null,null,null,null,null,null,null,null,null,null,null,null,null,null,null,null,null,null,null,null,null,null,null,null,null,null,null,null,null,null,null,null,null,null,null,null,null,null,null,null,null,null,null,null,null,null,null,null,null,null,null,null,null,null,null,null,null,null,null,null,null,null,null,null,null,null,null,null,null,null,null,null,null,null,null,null,null,null,null,null,null,null,null,null,null,null,null,null,null,null,null,null,null,null,null,null,null,null,null,null,null,null,null,null,null,null,null,null,null,null,null,null,null,null,null,0]
[1000146,null,{"$f":"IF(A165=\"\",\"\",DBCS(VLOOKUP(A165,入力シート!A:E,3,FALSE)))","v":""},null,null,null,null,null,null,null,null,null,null,null,null,null,null,null,null,null,null,null,null,null,null,null,null,null,null,null,null,null,null,null,null,null,null,null,null,null,null,null,null,null,null,null,null,null,null,null,null,null,null,null,null,null,null,null,null,null,null,null,null,null,null,null,null,null,null,null,null,null,null,null,null,null,null,null,null,null,null,null,null,null,null,null,null,null,null,null,null,null,null,null,null,null,null,null,null,null,null,null,null,null,null,null,null,null,null,null,null,null,null,null,null,null,null,null,null,null,null,null,null,null,null,null,null,null,null,null,null,null,null,null,null,null,null,null,null,null,null,null,null,null,null,null,null,null,0]
[1000147,null,{"$f":"IF(A166=\"\",\"\",DBCS(VLOOKUP(A166,入力シート!A:E,3,FALSE)))","v":""},null,null,null,null,null,null,null,null,null,null,null,null,null,null,null,null,null,null,null,null,null,null,null,null,null,null,null,null,null,null,null,null,null,null,null,null,null,null,null,null,null,null,null,null,null,null,null,null,null,null,null,null,null,null,null,null,null,null,null,null,null,null,null,null,null,null,null,null,null,null,null,null,null,null,null,null,null,null,null,null,null,null,null,null,null,null,null,null,null,null,null,null,null,null,null,null,null,null,null,null,null,null,null,null,null,null,null,null,null,null,null,null,null,null,null,null,null,null,null,null,null,null,null,null,null,null,null,null,null,null,null,null,null,null,null,null,null,null,null,null,null,null,null,null,null,0]
[1000148,null,{"$f":"IF(A167=\"\",\"\",DBCS(VLOOKUP(A167,入力シート!A:E,3,FALSE)))","v":""},null,null,null,null,null,null,null,null,null,null,null,null,null,null,null,null,null,null,null,null,null,null,null,null,null,null,null,null,null,null,null,null,null,null,null,null,null,null,null,null,null,null,null,null,null,null,null,null,null,null,null,null,null,null,null,null,null,null,null,null,null,null,null,null,null,null,null,null,null,null,null,null,null,null,null,null,null,null,null,null,null,null,null,null,null,null,null,null,null,null,null,null,null,null,null,null,null,null,null,null,null,null,null,null,null,null,null,null,null,null,null,null,null,null,null,null,null,null,null,null,null,null,null,null,null,null,null,null,null,null,null,null,null,null,null,null,null,null,null,null,null,null,null,null,null,0]
[1000149,null,{"$f":"IF(A168=\"\",\"\",DBCS(VLOOKUP(A168,入力シート!A:E,3,FALSE)))","v":""},null,null,null,null,null,null,null,null,null,null,null,null,null,null,null,null,null,null,null,null,null,null,null,null,null,null,null,null,null,null,null,null,null,null,null,null,null,null,null,null,null,null,null,null,null,null,null,null,null,null,null,null,null,null,null,null,null,null,null,null,null,null,null,null,null,null,null,null,null,null,null,null,null,null,null,null,null,null,null,null,null,null,null,null,null,null,null,null,null,null,null,null,null,null,null,null,null,null,null,null,null,null,null,null,null,null,null,null,null,null,null,null,null,null,null,null,null,null,null,null,null,null,null,null,null,null,null,null,null,null,null,null,null,null,null,null,null,null,null,null,null,null,null,null,null,0]
[1000150,null,{"$f":"IF(A169=\"\",\"\",DBCS(VLOOKUP(A169,入力シート!A:E,3,FALSE)))","v":""},null,null,null,null,null,null,null,null,null,null,null,null,null,null,null,null,null,null,null,null,null,null,null,null,null,null,null,null,null,null,null,null,null,null,null,null,null,null,null,null,null,null,null,null,null,null,null,null,null,null,null,null,null,null,null,null,null,null,null,null,null,null,null,null,null,null,null,null,null,null,null,null,null,null,null,null,null,null,null,null,null,null,null,null,null,null,null,null,null,null,null,null,null,null,null,null,null,null,null,null,null,null,null,null,null,null,null,null,null,null,null,null,null,null,null,null,null,null,null,null,null,null,null,null,null,null,null,null,null,null,null,null,null,null,null,null,null,null,null,null,null,null,null,null,null,0]
[1000151,null,{"$f":"IF(A170=\"\",\"\",DBCS(VLOOKUP(A170,入力シート!A:E,3,FALSE)))","v":""},null,null,null,null,null,null,null,null,null,null,null,null,null,null,null,null,null,null,null,null,null,null,null,null,null,null,null,null,null,null,null,null,null,null,null,null,null,null,null,null,null,null,null,null,null,null,null,null,null,null,null,null,null,null,null,null,null,null,null,null,null,null,null,null,null,null,null,null,null,null,null,null,null,null,null,null,null,null,null,null,null,null,null,null,null,null,null,null,null,null,null,null,null,null,null,null,null,null,null,null,null,null,null,null,null,null,null,null,null,null,null,null,null,null,null,null,null,null,null,null,null,null,null,null,null,null,null,null,null,null,null,null,null,null,null,null,null,null,null,null,null,null,null,null,null,0]
[1000152,null,{"$f":"IF(A171=\"\",\"\",DBCS(VLOOKUP(A171,入力シート!A:E,3,FALSE)))","v":""},null,null,null,null,null,null,null,null,null,null,null,null,null,null,null,null,null,null,null,null,null,null,null,null,null,null,null,null,null,null,null,null,null,null,null,null,null,null,null,null,null,null,null,null,null,null,null,null,null,null,null,null,null,null,null,null,null,null,null,null,null,null,null,null,null,null,null,null,null,null,null,null,null,null,null,null,null,null,null,null,null,null,null,null,null,null,null,null,null,null,null,null,null,null,null,null,null,null,null,null,null,null,null,null,null,null,null,null,null,null,null,null,null,null,null,null,null,null,null,null,null,null,null,null,null,null,null,null,null,null,null,null,null,null,null,null,null,null,null,null,null,null,null,null,null,0]
[1000153,null,{"$f":"IF(A172=\"\",\"\",DBCS(VLOOKUP(A172,入力シート!A:E,3,FALSE)))","v":""},null,null,null,null,null,null,null,null,null,null,null,null,null,null,null,null,null,null,null,null,null,null,null,null,null,null,null,null,null,null,null,null,null,null,null,null,null,null,null,null,null,null,null,null,null,null,null,null,null,null,null,null,null,null,null,null,null,null,null,null,null,null,null,null,null,null,null,null,null,null,null,null,null,null,null,null,null,null,null,null,null,null,null,null,null,null,null,null,null,null,null,null,null,null,null,null,null,null,null,null,null,null,null,null,null,null,null,null,null,null,null,null,null,null,null,null,null,null,null,null,null,null,null,null,null,null,null,null,null,null,null,null,null,null,null,null,null,null,null,null,null,null,null,null,null,0]
[1000154,null,{"$f":"IF(A173=\"\",\"\",DBCS(VLOOKUP(A173,入力シート!A:E,3,FALSE)))","v":""},null,null,null,null,null,null,null,null,null,null,null,null,null,null,null,null,null,null,null,null,null,null,null,null,null,null,null,null,null,null,null,null,null,null,null,null,null,null,null,null,null,null,null,null,null,null,null,null,null,null,null,null,null,null,null,null,null,null,null,null,null,null,null,null,null,null,null,null,null,null,null,null,null,null,null,null,null,null,null,null,null,null,null,null,null,null,null,null,null,null,null,null,null,null,null,null,null,null,null,null,null,null,null,null,null,null,null,null,null,null,null,null,null,null,null,null,null,null,null,null,null,null,null,null,null,null,null,null,null,null,null,null,null,null,null,null,null,null,null,null,null,null,null,null,null,0]
[1000155,null,{"$f":"IF(A174=\"\",\"\",DBCS(VLOOKUP(A174,入力シート!A:E,3,FALSE)))","v":""},null,null,null,null,null,null,null,null,null,null,null,null,null,null,null,null,null,null,null,null,null,null,null,null,null,null,null,null,null,null,null,null,null,null,null,null,null,null,null,null,null,null,null,null,null,null,null,null,null,null,null,null,null,null,null,null,null,null,null,null,null,null,null,null,null,null,null,null,null,null,null,null,null,null,null,null,null,null,null,null,null,null,null,null,null,null,null,null,null,null,null,null,null,null,null,null,null,null,null,null,null,null,null,null,null,null,null,null,null,null,null,null,null,null,null,null,null,null,null,null,null,null,null,null,null,null,null,null,null,null,null,null,null,null,null,null,null,null,null,null,null,null,null,null,null,0]
[1000156,null,{"$f":"IF(A175=\"\",\"\",DBCS(VLOOKUP(A175,入力シート!A:E,3,FALSE)))","v":""},null,null,null,null,null,null,null,null,null,null,null,null,null,null,null,null,null,null,null,null,null,null,null,null,null,null,null,null,null,null,null,null,null,null,null,null,null,null,null,null,null,null,null,null,null,null,null,null,null,null,null,null,null,null,null,null,null,null,null,null,null,null,null,null,null,null,null,null,null,null,null,null,null,null,null,null,null,null,null,null,null,null,null,null,null,null,null,null,null,null,null,null,null,null,null,null,null,null,null,null,null,null,null,null,null,null,null,null,null,null,null,null,null,null,null,null,null,null,null,null,null,null,null,null,null,null,null,null,null,null,null,null,null,null,null,null,null,null,null,null,null,null,null,null,null,0]
[1000157,null,{"$f":"IF(A176=\"\",\"\",DBCS(VLOOKUP(A176,入力シート!A:E,3,FALSE)))","v":""},null,null,null,null,null,null,null,null,null,null,null,null,null,null,null,null,null,null,null,null,null,null,null,null,null,null,null,null,null,null,null,null,null,null,null,null,null,null,null,null,null,null,null,null,null,null,null,null,null,null,null,null,null,null,null,null,null,null,null,null,null,null,null,null,null,null,null,null,null,null,null,null,null,null,null,null,null,null,null,null,null,null,null,null,null,null,null,null,null,null,null,null,null,null,null,null,null,null,null,null,null,null,null,null,null,null,null,null,null,null,null,null,null,null,null,null,null,null,null,null,null,null,null,null,null,null,null,null,null,null,null,null,null,null,null,null,null,null,null,null,null,null,null,null,null,0]
[1000158,null,{"$f":"IF(A177=\"\",\"\",DBCS(VLOOKUP(A177,入力シート!A:E,3,FALSE)))","v":""},null,null,null,null,null,null,null,null,null,null,null,null,null,null,null,null,null,null,null,null,null,null,null,null,null,null,null,null,null,null,null,null,null,null,null,null,null,null,null,null,null,null,null,null,null,null,null,null,null,null,null,null,null,null,null,null,null,null,null,null,null,null,null,null,null,null,null,null,null,null,null,null,null,null,null,null,null,null,null,null,null,null,null,null,null,null,null,null,null,null,null,null,null,null,null,null,null,null,null,null,null,null,null,null,null,null,null,null,null,null,null,null,null,null,null,null,null,null,null,null,null,null,null,null,null,null,null,null,null,null,null,null,null,null,null,null,null,null,null,null,null,null,null,null,null,0]
[1000159,null,{"$f":"IF(A178=\"\",\"\",DBCS(VLOOKUP(A178,入力シート!A:E,3,FALSE)))","v":""},null,null,null,null,null,null,null,null,null,null,null,null,null,null,null,null,null,null,null,null,null,null,null,null,null,null,null,null,null,null,null,null,null,null,null,null,null,null,null,null,null,null,null,null,null,null,null,null,null,null,null,null,null,null,null,null,null,null,null,null,null,null,null,null,null,null,null,null,null,null,null,null,null,null,null,null,null,null,null,null,null,null,null,null,null,null,null,null,null,null,null,null,null,null,null,null,null,null,null,null,null,null,null,null,null,null,null,null,null,null,null,null,null,null,null,null,null,null,null,null,null,null,null,null,null,null,null,null,null,null,null,null,null,null,null,null,null,null,null,null,null,null,null,null,null,0]
[1000160,null,{"$f":"IF(A179=\"\",\"\",DBCS(VLOOKUP(A179,入力シート!A:E,3,FALSE)))","v":""},null,null,null,null,null,null,null,null,null,null,null,null,null,null,null,null,null,null,null,null,null,null,null,null,null,null,null,null,null,null,null,null,null,null,null,null,null,null,null,null,null,null,null,null,null,null,null,null,null,null,null,null,null,null,null,null,null,null,null,null,null,null,null,null,null,null,null,null,null,null,null,null,null,null,null,null,null,null,null,null,null,null,null,null,null,null,null,null,null,null,null,null,null,null,null,null,null,null,null,null,null,null,null,null,null,null,null,null,null,null,null,null,null,null,null,null,null,null,null,null,null,null,null,null,null,null,null,null,null,null,null,null,null,null,null,null,null,null,null,null,null,null,null,null,null,0]
[1000161,null,{"$f":"IF(A180=\"\",\"\",DBCS(VLOOKUP(A180,入力シート!A:E,3,FALSE)))","v":""},null,null,null,null,null,null,null,null,null,null,null,null,null,null,null,null,null,null,null,null,null,null,null,null,null,null,null,null,null,null,null,null,null,null,null,null,null,null,null,null,null,null,null,null,null,null,null,null,null,null,null,null,null,null,null,null,null,null,null,null,null,null,null,null,null,null,null,null,null,null,null,null,null,null,null,null,null,null,null,null,null,null,null,null,null,null,null,null,null,null,null,null,null,null,null,null,null,null,null,null,null,null,null,null,null,null,null,null,null,null,null,null,null,null,null,null,null,null,null,null,null,null,null,null,null,null,null,null,null,null,null,null,null,null,null,null,null,null,null,null,null,null,null,null,null,0]
[1000162,null,{"$f":"IF(A181=\"\",\"\",DBCS(VLOOKUP(A181,入力シート!A:E,3,FALSE)))","v":""},null,null,null,null,null,null,null,null,null,null,null,null,null,null,null,null,null,null,null,null,null,null,null,null,null,null,null,null,null,null,null,null,null,null,null,null,null,null,null,null,null,null,null,null,null,null,null,null,null,null,null,null,null,null,null,null,null,null,null,null,null,null,null,null,null,null,null,null,null,null,null,null,null,null,null,null,null,null,null,null,null,null,null,null,null,null,null,null,null,null,null,null,null,null,null,null,null,null,null,null,null,null,null,null,null,null,null,null,null,null,null,null,null,null,null,null,null,null,null,null,null,null,null,null,null,null,null,null,null,null,null,null,null,null,null,null,null,null,null,null,null,null,null,null,null,0]
[1000163,null,{"$f":"IF(A182=\"\",\"\",DBCS(VLOOKUP(A182,入力シート!A:E,3,FALSE)))","v":""},null,null,null,null,null,null,null,null,null,null,null,null,null,null,null,null,null,null,null,null,null,null,null,null,null,null,null,null,null,null,null,null,null,null,null,null,null,null,null,null,null,null,null,null,null,null,null,null,null,null,null,null,null,null,null,null,null,null,null,null,null,null,null,null,null,null,null,null,null,null,null,null,null,null,null,null,null,null,null,null,null,null,null,null,null,null,null,null,null,null,null,null,null,null,null,null,null,null,null,null,null,null,null,null,null,null,null,null,null,null,null,null,null,null,null,null,null,null,null,null,null,null,null,null,null,null,null,null,null,null,null,null,null,null,null,null,null,null,null,null,null,null,null,null,null,0]
[1000164,null,{"$f":"IF(A183=\"\",\"\",DBCS(VLOOKUP(A183,入力シート!A:E,3,FALSE)))","v":""},null,null,null,null,null,null,null,null,null,null,null,null,null,null,null,null,null,null,null,null,null,null,null,null,null,null,null,null,null,null,null,null,null,null,null,null,null,null,null,null,null,null,null,null,null,null,null,null,null,null,null,null,null,null,null,null,null,null,null,null,null,null,null,null,null,null,null,null,null,null,null,null,null,null,null,null,null,null,null,null,null,null,null,null,null,null,null,null,null,null,null,null,null,null,null,null,null,null,null,null,null,null,null,null,null,null,null,null,null,null,null,null,null,null,null,null,null,null,null,null,null,null,null,null,null,null,null,null,null,null,null,null,null,null,null,null,null,null,null,null,null,null,null,null,null,0]
[1000165,null,{"$f":"IF(A184=\"\",\"\",DBCS(VLOOKUP(A184,入力シート!A:E,3,FALSE)))","v":""},null,null,null,null,null,null,null,null,null,null,null,null,null,null,null,null,null,null,null,null,null,null,null,null,null,null,null,null,null,null,null,null,null,null,null,null,null,null,null,null,null,null,null,null,null,null,null,null,null,null,null,null,null,null,null,null,null,null,null,null,null,null,null,null,null,null,null,null,null,null,null,null,null,null,null,null,null,null,null,null,null,null,null,null,null,null,null,null,null,null,null,null,null,null,null,null,null,null,null,null,null,null,null,null,null,null,null,null,null,null,null,null,null,null,null,null,null,null,null,null,null,null,null,null,null,null,null,null,null,null,null,null,null,null,null,null,null,null,null,null,null,null,null,null,null,0]
[1000166,null,{"$f":"IF(A185=\"\",\"\",DBCS(VLOOKUP(A185,入力シート!A:E,3,FALSE)))","v":""},null,null,null,null,null,null,null,null,null,null,null,null,null,null,null,null,null,null,null,null,null,null,null,null,null,null,null,null,null,null,null,null,null,null,null,null,null,null,null,null,null,null,null,null,null,null,null,null,null,null,null,null,null,null,null,null,null,null,null,null,null,null,null,null,null,null,null,null,null,null,null,null,null,null,null,null,null,null,null,null,null,null,null,null,null,null,null,null,null,null,null,null,null,null,null,null,null,null,null,null,null,null,null,null,null,null,null,null,null,null,null,null,null,null,null,null,null,null,null,null,null,null,null,null,null,null,null,null,null,null,null,null,null,null,null,null,null,null,null,null,null,null,null,null,null,0]
[1000167,null,{"$f":"IF(A186=\"\",\"\",DBCS(VLOOKUP(A186,入力シート!A:E,3,FALSE)))","v":""},null,null,null,null,null,null,null,null,null,null,null,null,null,null,null,null,null,null,null,null,null,null,null,null,null,null,null,null,null,null,null,null,null,null,null,null,null,null,null,null,null,null,null,null,null,null,null,null,null,null,null,null,null,null,null,null,null,null,null,null,null,null,null,null,null,null,null,null,null,null,null,null,null,null,null,null,null,null,null,null,null,null,null,null,null,null,null,null,null,null,null,null,null,null,null,null,null,null,null,null,null,null,null,null,null,null,null,null,null,null,null,null,null,null,null,null,null,null,null,null,null,null,null,null,null,null,null,null,null,null,null,null,null,null,null,null,null,null,null,null,null,null,null,null,null,0]
[1000168,null,{"$f":"IF(A187=\"\",\"\",DBCS(VLOOKUP(A187,入力シート!A:E,3,FALSE)))","v":""},null,null,null,null,null,null,null,null,null,null,null,null,null,null,null,null,null,null,null,null,null,null,null,null,null,null,null,null,null,null,null,null,null,null,null,null,null,null,null,null,null,null,null,null,null,null,null,null,null,null,null,null,null,null,null,null,null,null,null,null,null,null,null,null,null,null,null,null,null,null,null,null,null,null,null,null,null,null,null,null,null,null,null,null,null,null,null,null,null,null,null,null,null,null,null,null,null,null,null,null,null,null,null,null,null,null,null,null,null,null,null,null,null,null,null,null,null,null,null,null,null,null,null,null,null,null,null,null,null,null,null,null,null,null,null,null,null,null,null,null,null,null,null,null,null,0]
[1000169,null,{"$f":"IF(A188=\"\",\"\",DBCS(VLOOKUP(A188,入力シート!A:E,3,FALSE)))","v":""},null,null,null,null,null,null,null,null,null,null,null,null,null,null,null,null,null,null,null,null,null,null,null,null,null,null,null,null,null,null,null,null,null,null,null,null,null,null,null,null,null,null,null,null,null,null,null,null,null,null,null,null,null,null,null,null,null,null,null,null,null,null,null,null,null,null,null,null,null,null,null,null,null,null,null,null,null,null,null,null,null,null,null,null,null,null,null,null,null,null,null,null,null,null,null,null,null,null,null,null,null,null,null,null,null,null,null,null,null,null,null,null,null,null,null,null,null,null,null,null,null,null,null,null,null,null,null,null,null,null,null,null,null,null,null,null,null,null,null,null,null,null,null,null,null,0]
[1000170,null,{"$f":"IF(A189=\"\",\"\",DBCS(VLOOKUP(A189,入力シート!A:E,3,FALSE)))","v":""},null,null,null,null,null,null,null,null,null,null,null,null,null,null,null,null,null,null,null,null,null,null,null,null,null,null,null,null,null,null,null,null,null,null,null,null,null,null,null,null,null,null,null,null,null,null,null,null,null,null,null,null,null,null,null,null,null,null,null,null,null,null,null,null,null,null,null,null,null,null,null,null,null,null,null,null,null,null,null,null,null,null,null,null,null,null,null,null,null,null,null,null,null,null,null,null,null,null,null,null,null,null,null,null,null,null,null,null,null,null,null,null,null,null,null,null,null,null,null,null,null,null,null,null,null,null,null,null,null,null,null,null,null,null,null,null,null,null,null,null,null,null,null,null,null,0]
[1000171,null,{"$f":"IF(A190=\"\",\"\",DBCS(VLOOKUP(A190,入力シート!A:E,3,FALSE)))","v":""},null,null,null,null,null,null,null,null,null,null,null,null,null,null,null,null,null,null,null,null,null,null,null,null,null,null,null,null,null,null,null,null,null,null,null,null,null,null,null,null,null,null,null,null,null,null,null,null,null,null,null,null,null,null,null,null,null,null,null,null,null,null,null,null,null,null,null,null,null,null,null,null,null,null,null,null,null,null,null,null,null,null,null,null,null,null,null,null,null,null,null,null,null,null,null,null,null,null,null,null,null,null,null,null,null,null,null,null,null,null,null,null,null,null,null,null,null,null,null,null,null,null,null,null,null,null,null,null,null,null,null,null,null,null,null,null,null,null,null,null,null,null,null,null,null,0]
[1000172,null,{"$f":"IF(A191=\"\",\"\",DBCS(VLOOKUP(A191,入力シート!A:E,3,FALSE)))","v":""},null,null,null,null,null,null,null,null,null,null,null,null,null,null,null,null,null,null,null,null,null,null,null,null,null,null,null,null,null,null,null,null,null,null,null,null,null,null,null,null,null,null,null,null,null,null,null,null,null,null,null,null,null,null,null,null,null,null,null,null,null,null,null,null,null,null,null,null,null,null,null,null,null,null,null,null,null,null,null,null,null,null,null,null,null,null,null,null,null,null,null,null,null,null,null,null,null,null,null,null,null,null,null,null,null,null,null,null,null,null,null,null,null,null,null,null,null,null,null,null,null,null,null,null,null,null,null,null,null,null,null,null,null,null,null,null,null,null,null,null,null,null,null,null,null,0]
[1000173,null,{"$f":"IF(A192=\"\",\"\",DBCS(VLOOKUP(A192,入力シート!A:E,3,FALSE)))","v":""},null,null,null,null,null,null,null,null,null,null,null,null,null,null,null,null,null,null,null,null,null,null,null,null,null,null,null,null,null,null,null,null,null,null,null,null,null,null,null,null,null,null,null,null,null,null,null,null,null,null,null,null,null,null,null,null,null,null,null,null,null,null,null,null,null,null,null,null,null,null,null,null,null,null,null,null,null,null,null,null,null,null,null,null,null,null,null,null,null,null,null,null,null,null,null,null,null,null,null,null,null,null,null,null,null,null,null,null,null,null,null,null,null,null,null,null,null,null,null,null,null,null,null,null,null,null,null,null,null,null,null,null,null,null,null,null,null,null,null,null,null,null,null,null,null,0]
[1000174,null,{"$f":"IF(A193=\"\",\"\",DBCS(VLOOKUP(A193,入力シート!A:E,3,FALSE)))","v":""},null,null,null,null,null,null,null,null,null,null,null,null,null,null,null,null,null,null,null,null,null,null,null,null,null,null,null,null,null,null,null,null,null,null,null,null,null,null,null,null,null,null,null,null,null,null,null,null,null,null,null,null,null,null,null,null,null,null,null,null,null,null,null,null,null,null,null,null,null,null,null,null,null,null,null,null,null,null,null,null,null,null,null,null,null,null,null,null,null,null,null,null,null,null,null,null,null,null,null,null,null,null,null,null,null,null,null,null,null,null,null,null,null,null,null,null,null,null,null,null,null,null,null,null,null,null,null,null,null,null,null,null,null,null,null,null,null,null,null,null,null,null,null,null,null,0]
[1000175,null,{"$f":"IF(A194=\"\",\"\",DBCS(VLOOKUP(A194,入力シート!A:E,3,FALSE)))","v":""},null,null,null,null,null,null,null,null,null,null,null,null,null,null,null,null,null,null,null,null,null,null,null,null,null,null,null,null,null,null,null,null,null,null,null,null,null,null,null,null,null,null,null,null,null,null,null,null,null,null,null,null,null,null,null,null,null,null,null,null,null,null,null,null,null,null,null,null,null,null,null,null,null,null,null,null,null,null,null,null,null,null,null,null,null,null,null,null,null,null,null,null,null,null,null,null,null,null,null,null,null,null,null,null,null,null,null,null,null,null,null,null,null,null,null,null,null,null,null,null,null,null,null,null,null,null,null,null,null,null,null,null,null,null,null,null,null,null,null,null,null,null,null,null,null,0]
[1000176,null,{"$f":"IF(A195=\"\",\"\",DBCS(VLOOKUP(A195,入力シート!A:E,3,FALSE)))","v":""},null,null,null,null,null,null,null,null,null,null,null,null,null,null,null,null,null,null,null,null,null,null,null,null,null,null,null,null,null,null,null,null,null,null,null,null,null,null,null,null,null,null,null,null,null,null,null,null,null,null,null,null,null,null,null,null,null,null,null,null,null,null,null,null,null,null,null,null,null,null,null,null,null,null,null,null,null,null,null,null,null,null,null,null,null,null,null,null,null,null,null,null,null,null,null,null,null,null,null,null,null,null,null,null,null,null,null,null,null,null,null,null,null,null,null,null,null,null,null,null,null,null,null,null,null,null,null,null,null,null,null,null,null,null,null,null,null,null,null,null,null,null,null,null,null,0]
[1000177,null,{"$f":"IF(A196=\"\",\"\",DBCS(VLOOKUP(A196,入力シート!A:E,3,FALSE)))","v":""},null,null,null,null,null,null,null,null,null,null,null,null,null,null,null,null,null,null,null,null,null,null,null,null,null,null,null,null,null,null,null,null,null,null,null,null,null,null,null,null,null,null,null,null,null,null,null,null,null,null,null,null,null,null,null,null,null,null,null,null,null,null,null,null,null,null,null,null,null,null,null,null,null,null,null,null,null,null,null,null,null,null,null,null,null,null,null,null,null,null,null,null,null,null,null,null,null,null,null,null,null,null,null,null,null,null,null,null,null,null,null,null,null,null,null,null,null,null,null,null,null,null,null,null,null,null,null,null,null,null,null,null,null,null,null,null,null,null,null,null,null,null,null,null,null,0]
[1000178,null,{"$f":"IF(A197=\"\",\"\",DBCS(VLOOKUP(A197,入力シート!A:E,3,FALSE)))","v":""},null,null,null,null,null,null,null,null,null,null,null,null,null,null,null,null,null,null,null,null,null,null,null,null,null,null,null,null,null,null,null,null,null,null,null,null,null,null,null,null,null,null,null,null,null,null,null,null,null,null,null,null,null,null,null,null,null,null,null,null,null,null,null,null,null,null,null,null,null,null,null,null,null,null,null,null,null,null,null,null,null,null,null,null,null,null,null,null,null,null,null,null,null,null,null,null,null,null,null,null,null,null,null,null,null,null,null,null,null,null,null,null,null,null,null,null,null,null,null,null,null,null,null,null,null,null,null,null,null,null,null,null,null,null,null,null,null,null,null,null,null,null,null,null,null,0]
[1000179,null,{"$f":"IF(A198=\"\",\"\",DBCS(VLOOKUP(A198,入力シート!A:E,3,FALSE)))","v":""},null,null,null,null,null,null,null,null,null,null,null,null,null,null,null,null,null,null,null,null,null,null,null,null,null,null,null,null,null,null,null,null,null,null,null,null,null,null,null,null,null,null,null,null,null,null,null,null,null,null,null,null,null,null,null,null,null,null,null,null,null,null,null,null,null,null,null,null,null,null,null,null,null,null,null,null,null,null,null,null,null,null,null,null,null,null,null,null,null,null,null,null,null,null,null,null,null,null,null,null,null,null,null,null,null,null,null,null,null,null,null,null,null,null,null,null,null,null,null,null,null,null,null,null,null,null,null,null,null,null,null,null,null,null,null,null,null,null,null,null,null,null,null,null,null,0]
[1000180,null,{"$f":"IF(A199=\"\",\"\",DBCS(VLOOKUP(A199,入力シート!A:E,3,FALSE)))","v":""},null,null,null,null,null,null,null,null,null,null,null,null,null,null,null,null,null,null,null,null,null,null,null,null,null,null,null,null,null,null,null,null,null,null,null,null,null,null,null,null,null,null,null,null,null,null,null,null,null,null,null,null,null,null,null,null,null,null,null,null,null,null,null,null,null,null,null,null,null,null,null,null,null,null,null,null,null,null,null,null,null,null,null,null,null,null,null,null,null,null,null,null,null,null,null,null,null,null,null,null,null,null,null,null,null,null,null,null,null,null,null,null,null,null,null,null,null,null,null,null,null,null,null,null,null,null,null,null,null,null,null,null,null,null,null,null,null,null,null,null,null,null,null,null,null,0]
[1000181,null,{"$f":"IF(A200=\"\",\"\",DBCS(VLOOKUP(A200,入力シート!A:E,3,FALSE)))","v":""},null,null,null,null,null,null,null,null,null,null,null,null,null,null,null,null,null,null,null,null,null,null,null,null,null,null,null,null,null,null,null,null,null,null,null,null,null,null,null,null,null,null,null,null,null,null,null,null,null,null,null,null,null,null,null,null,null,null,null,null,null,null,null,null,null,null,null,null,null,null,null,null,null,null,null,null,null,null,null,null,null,null,null,null,null,null,null,null,null,null,null,null,null,null,null,null,null,null,null,null,null,null,null,null,null,null,null,null,null,null,null,null,null,null,null,null,null,null,null,null,null,null,null,null,null,null,null,null,null,null,null,null,null,null,null,null,null,null,null,null,null,null,null,null,null,0]
[1000182,null,{"$f":"IF(A201=\"\",\"\",DBCS(VLOOKUP(A201,入力シート!A:E,3,FALSE)))","v":""},null,null,null,null,null,null,null,null,null,null,null,null,null,null,null,null,null,null,null,null,null,null,null,null,null,null,null,null,null,null,null,null,null,null,null,null,null,null,null,null,null,null,null,null,null,null,null,null,null,null,null,null,null,null,null,null,null,null,null,null,null,null,null,null,null,null,null,null,null,null,null,null,null,null,null,null,null,null,null,null,null,null,null,null,null,null,null,null,null,null,null,null,null,null,null,null,null,null,null,null,null,null,null,null,null,null,null,null,null,null,null,null,null,null,null,null,null,null,null,null,null,null,null,null,null,null,null,null,null,null,null,null,null,null,null,null,null,null,null,null,null,null,null,null,null,0]
[1000183,null,{"$f":"IF(A202=\"\",\"\",DBCS(VLOOKUP(A202,入力シート!A:E,3,FALSE)))","v":""},null,null,null,null,null,null,null,null,null,null,null,null,null,null,null,null,null,null,null,null,null,null,null,null,null,null,null,null,null,null,null,null,null,null,null,null,null,null,null,null,null,null,null,null,null,null,null,null,null,null,null,null,null,null,null,null,null,null,null,null,null,null,null,null,null,null,null,null,null,null,null,null,null,null,null,null,null,null,null,null,null,null,null,null,null,null,null,null,null,null,null,null,null,null,null,null,null,null,null,null,null,null,null,null,null,null,null,null,null,null,null,null,null,null,null,null,null,null,null,null,null,null,null,null,null,null,null,null,null,null,null,null,null,null,null,null,null,null,null,null,null,null,null,null,null,0]
[1000184,null,{"$f":"IF(A203=\"\",\"\",DBCS(VLOOKUP(A203,入力シート!A:E,3,FALSE)))","v":""},null,null,null,null,null,null,null,null,null,null,null,null,null,null,null,null,null,null,null,null,null,null,null,null,null,null,null,null,null,null,null,null,null,null,null,null,null,null,null,null,null,null,null,null,null,null,null,null,null,null,null,null,null,null,null,null,null,null,null,null,null,null,null,null,null,null,null,null,null,null,null,null,null,null,null,null,null,null,null,null,null,null,null,null,null,null,null,null,null,null,null,null,null,null,null,null,null,null,null,null,null,null,null,null,null,null,null,null,null,null,null,null,null,null,null,null,null,null,null,null,null,null,null,null,null,null,null,null,null,null,null,null,null,null,null,null,null,null,null,null,null,null,null,null,null,0]
[1000185,null,{"$f":"IF(A204=\"\",\"\",DBCS(VLOOKUP(A204,入力シート!A:E,3,FALSE)))","v":""},null,null,null,null,null,null,null,null,null,null,null,null,null,null,null,null,null,null,null,null,null,null,null,null,null,null,null,null,null,null,null,null,null,null,null,null,null,null,null,null,null,null,null,null,null,null,null,null,null,null,null,null,null,null,null,null,null,null,null,null,null,null,null,null,null,null,null,null,null,null,null,null,null,null,null,null,null,null,null,null,null,null,null,null,null,null,null,null,null,null,null,null,null,null,null,null,null,null,null,null,null,null,null,null,null,null,null,null,null,null,null,null,null,null,null,null,null,null,null,null,null,null,null,null,null,null,null,null,null,null,null,null,null,null,null,null,null,null,null,null,null,null,null,null,null,0]
[1000186,null,{"$f":"IF(A205=\"\",\"\",DBCS(VLOOKUP(A205,入力シート!A:E,3,FALSE)))","v":""},null,null,null,null,null,null,null,null,null,null,null,null,null,null,null,null,null,null,null,null,null,null,null,null,null,null,null,null,null,null,null,null,null,null,null,null,null,null,null,null,null,null,null,null,null,null,null,null,null,null,null,null,null,null,null,null,null,null,null,null,null,null,null,null,null,null,null,null,null,null,null,null,null,null,null,null,null,null,null,null,null,null,null,null,null,null,null,null,null,null,null,null,null,null,null,null,null,null,null,null,null,null,null,null,null,null,null,null,null,null,null,null,null,null,null,null,null,null,null,null,null,null,null,null,null,null,null,null,null,null,null,null,null,null,null,null,null,null,null,null,null,null,null,null,null,0]
[1000187,null,{"$f":"IF(A206=\"\",\"\",DBCS(VLOOKUP(A206,入力シート!A:E,3,FALSE)))","v":""},null,null,null,null,null,null,null,null,null,null,null,null,null,null,null,null,null,null,null,null,null,null,null,null,null,null,null,null,null,null,null,null,null,null,null,null,null,null,null,null,null,null,null,null,null,null,null,null,null,null,null,null,null,null,null,null,null,null,null,null,null,null,null,null,null,null,null,null,null,null,null,null,null,null,null,null,null,null,null,null,null,null,null,null,null,null,null,null,null,null,null,null,null,null,null,null,null,null,null,null,null,null,null,null,null,null,null,null,null,null,null,null,null,null,null,null,null,null,null,null,null,null,null,null,null,null,null,null,null,null,null,null,null,null,null,null,null,null,null,null,null,null,null,null,null,0]
[1000188,null,{"$f":"IF(A207=\"\",\"\",DBCS(VLOOKUP(A207,入力シート!A:E,3,FALSE)))","v":""},null,null,null,null,null,null,null,null,null,null,null,null,null,null,null,null,null,null,null,null,null,null,null,null,null,null,null,null,null,null,null,null,null,null,null,null,null,null,null,null,null,null,null,null,null,null,null,null,null,null,null,null,null,null,null,null,null,null,null,null,null,null,null,null,null,null,null,null,null,null,null,null,null,null,null,null,null,null,null,null,null,null,null,null,null,null,null,null,null,null,null,null,null,null,null,null,null,null,null,null,null,null,null,null,null,null,null,null,null,null,null,null,null,null,null,null,null,null,null,null,null,null,null,null,null,null,null,null,null,null,null,null,null,null,null,null,null,null,null,null,null,null,null,null,null,0]
[1000189,null,{"$f":"IF(A208=\"\",\"\",DBCS(VLOOKUP(A208,入力シート!A:E,3,FALSE)))","v":""},null,null,null,null,null,null,null,null,null,null,null,null,null,null,null,null,null,null,null,null,null,null,null,null,null,null,null,null,null,null,null,null,null,null,null,null,null,null,null,null,null,null,null,null,null,null,null,null,null,null,null,null,null,null,null,null,null,null,null,null,null,null,null,null,null,null,null,null,null,null,null,null,null,null,null,null,null,null,null,null,null,null,null,null,null,null,null,null,null,null,null,null,null,null,null,null,null,null,null,null,null,null,null,null,null,null,null,null,null,null,null,null,null,null,null,null,null,null,null,null,null,null,null,null,null,null,null,null,null,null,null,null,null,null,null,null,null,null,null,null,null,null,null,null,null,0]
[1000190,null,{"$f":"IF(A209=\"\",\"\",DBCS(VLOOKUP(A209,入力シート!A:E,3,FALSE)))","v":""},null,null,null,null,null,null,null,null,null,null,null,null,null,null,null,null,null,null,null,null,null,null,null,null,null,null,null,null,null,null,null,null,null,null,null,null,null,null,null,null,null,null,null,null,null,null,null,null,null,null,null,null,null,null,null,null,null,null,null,null,null,null,null,null,null,null,null,null,null,null,null,null,null,null,null,null,null,null,null,null,null,null,null,null,null,null,null,null,null,null,null,null,null,null,null,null,null,null,null,null,null,null,null,null,null,null,null,null,null,null,null,null,null,null,null,null,null,null,null,null,null,null,null,null,null,null,null,null,null,null,null,null,null,null,null,null,null,null,null,null,null,null,null,null,null,0]
[1000191,null,{"$f":"IF(A210=\"\",\"\",DBCS(VLOOKUP(A210,入力シート!A:E,3,FALSE)))","v":""},null,null,null,null,null,null,null,null,null,null,null,null,null,null,null,null,null,null,null,null,null,null,null,null,null,null,null,null,null,null,null,null,null,null,null,null,null,null,null,null,null,null,null,null,null,null,null,null,null,null,null,null,null,null,null,null,null,null,null,null,null,null,null,null,null,null,null,null,null,null,null,null,null,null,null,null,null,null,null,null,null,null,null,null,null,null,null,null,null,null,null,null,null,null,null,null,null,null,null,null,null,null,null,null,null,null,null,null,null,null,null,null,null,null,null,null,null,null,null,null,null,null,null,null,null,null,null,null,null,null,null,null,null,null,null,null,null,null,null,null,null,null,null,null,null,0]
[1000192,null,{"$f":"IF(A211=\"\",\"\",DBCS(VLOOKUP(A211,入力シート!A:E,3,FALSE)))","v":""},null,null,null,null,null,null,null,null,null,null,null,null,null,null,null,null,null,null,null,null,null,null,null,null,null,null,null,null,null,null,null,null,null,null,null,null,null,null,null,null,null,null,null,null,null,null,null,null,null,null,null,null,null,null,null,null,null,null,null,null,null,null,null,null,null,null,null,null,null,null,null,null,null,null,null,null,null,null,null,null,null,null,null,null,null,null,null,null,null,null,null,null,null,null,null,null,null,null,null,null,null,null,null,null,null,null,null,null,null,null,null,null,null,null,null,null,null,null,null,null,null,null,null,null,null,null,null,null,null,null,null,null,null,null,null,null,null,null,null,null,null,null,null,null,null,0]
[1000193,null,{"$f":"IF(A212=\"\",\"\",DBCS(VLOOKUP(A212,入力シート!A:E,3,FALSE)))","v":""},null,null,null,null,null,null,null,null,null,null,null,null,null,null,null,null,null,null,null,null,null,null,null,null,null,null,null,null,null,null,null,null,null,null,null,null,null,null,null,null,null,null,null,null,null,null,null,null,null,null,null,null,null,null,null,null,null,null,null,null,null,null,null,null,null,null,null,null,null,null,null,null,null,null,null,null,null,null,null,null,null,null,null,null,null,null,null,null,null,null,null,null,null,null,null,null,null,null,null,null,null,null,null,null,null,null,null,null,null,null,null,null,null,null,null,null,null,null,null,null,null,null,null,null,null,null,null,null,null,null,null,null,null,null,null,null,null,null,null,null,null,null,null,null,null,0]
[1000194,null,{"$f":"IF(A213=\"\",\"\",DBCS(VLOOKUP(A213,入力シート!A:E,3,FALSE)))","v":""},null,null,null,null,null,null,null,null,null,null,null,null,null,null,null,null,null,null,null,null,null,null,null,null,null,null,null,null,null,null,null,null,null,null,null,null,null,null,null,null,null,null,null,null,null,null,null,null,null,null,null,null,null,null,null,null,null,null,null,null,null,null,null,null,null,null,null,null,null,null,null,null,null,null,null,null,null,null,null,null,null,null,null,null,null,null,null,null,null,null,null,null,null,null,null,null,null,null,null,null,null,null,null,null,null,null,null,null,null,null,null,null,null,null,null,null,null,null,null,null,null,null,null,null,null,null,null,null,null,null,null,null,null,null,null,null,null,null,null,null,null,null,null,null,null,{"$f":"IF(C213=\"\", 0, 1)","v":0}]
[1000195,null,{"$f":"IF(A214=\"\",\"\",DBCS(VLOOKUP(A214,入力シート!A:E,3,FALSE)))","v":""},null,null,null,null,null,null,null,null,null,null,null,null,null,null,null,null,null,null,null,null,null,null,null,null,null,null,null,null,null,null,null,null,null,null,null,null,null,null,null,null,null,null,null,null,null,null,null,null,null,null,null,null,null,null,null,null,null,null,null,null,null,null,null,null,null,null,null,null,null,null,null,null,null,null,null,null,null,null,null,null,null,null,null,null,null,null,null,null,null,null,null,null,null,null,null,null,null,null,null,null,null,null,null,null,null,null,null,null,null,null,null,null,null,null,null,null,null,null,null,null,null,null,null,null,null,null,null,null,null,null,null,null,null,null,null,null,null,null,null,null,null,null,null,null,null,0]
[1000196,null,{"$f":"IF(A215=\"\",\"\",DBCS(VLOOKUP(A215,入力シート!A:E,3,FALSE)))","v":""},null,null,null,null,null,null,null,null,null,null,null,null,null,null,null,null,null,null,null,null,null,null,null,null,null,null,null,null,null,null,null,null,null,null,null,null,null,null,null,null,null,null,null,null,null,null,null,null,null,null,null,null,null,null,null,null,null,null,null,null,null,null,null,null,null,null,null,null,null,null,null,null,null,null,null,null,null,null,null,null,null,null,null,null,null,null,null,null,null,null,null,null,null,null,null,null,null,null,null,null,null,null,null,null,null,null,null,null,null,null,null,null,null,null,null,null,null,null,null,null,null,null,null,null,null,null,null,null,null,null,null,null,null,null,null,null,null,null,null,null,null,null,null,null,null,0]
[1000197,null,{"$f":"IF(A216=\"\",\"\",DBCS(VLOOKUP(A216,入力シート!A:E,3,FALSE)))","v":""},null,null,null,null,null,null,null,null,null,null,null,null,null,null,null,null,null,null,null,null,null,null,null,null,null,null,null,null,null,null,null,null,null,null,null,null,null,null,null,null,null,null,null,null,null,null,null,null,null,null,null,null,null,null,null,null,null,null,null,null,null,null,null,null,null,null,null,null,null,null,null,null,null,null,null,null,null,null,null,null,null,null,null,null,null,null,null,null,null,null,null,null,null,null,null,null,null,null,null,null,null,null,null,null,null,null,null,null,null,null,null,null,null,null,null,null,null,null,null,null,null,null,null,null,null,null,null,null,null,null,null,null,null,null,null,null,null,null,null,null,null,null,null,null,null,0]
[1000198,null,{"$f":"IF(A217=\"\",\"\",DBCS(VLOOKUP(A217,入力シート!A:E,3,FALSE)))","v":""},null,null,null,null,null,null,null,null,null,null,null,null,null,null,null,null,null,null,null,null,null,null,null,null,null,null,null,null,null,null,null,null,null,null,null,null,null,null,null,null,null,null,null,null,null,null,null,null,null,null,null,null,null,null,null,null,null,null,null,null,null,null,null,null,null,null,null,null,null,null,null,null,null,null,null,null,null,null,null,null,null,null,null,null,null,null,null,null,null,null,null,null,null,null,null,null,null,null,null,null,null,null,null,null,null,null,null,null,null,null,null,null,null,null,null,null,null,null,null,null,null,null,null,null,null,null,null,null,null,null,null,null,null,null,null,null,null,null,null,null,null,null,null,null,null,0]
[1000199,null,{"$f":"IF(A218=\"\",\"\",DBCS(VLOOKUP(A218,入力シート!A:E,3,FALSE)))","v":""},null,null,null,null,null,null,null,null,null,null,null,null,null,null,null,null,null,null,null,null,null,null,null,null,null,null,null,null,null,null,null,null,null,null,null,null,null,null,null,null,null,null,null,null,null,null,null,null,null,null,null,null,null,null,null,null,null,null,null,null,null,null,null,null,null,null,null,null,null,null,null,null,null,null,null,null,null,null,null,null,null,null,null,null,null,null,null,null,null,null,null,null,null,null,null,null,null,null,null,null,null,null,null,null,null,null,null,null,null,null,null,null,null,null,null,null,null,null,null,null,null,null,null,null,null,null,null,null,null,null,null,null,null,null,null,null,null,null,null,null,null,null,null,null,null,0]
[1000200,null,{"$f":"IF(A219=\"\",\"\",DBCS(VLOOKUP(A219,入力シート!A:E,3,FALSE)))","v":""},null,null,null,null,null,null,null,null,null,null,null,null,null,null,null,null,null,null,null,null,null,null,null,null,null,null,null,null,null,null,null,null,null,null,null,null,null,null,null,null,null,null,null,null,null,null,null,null,null,null,null,null,null,null,null,null,null,null,null,null,null,null,null,null,null,null,null,null,null,null,null,null,null,null,null,null,null,null,null,null,null,null,null,null,null,null,null,null,null,null,null,null,null,null,null,null,null,null,null,null,null,null,null,null,null,null,null,null,null,null,null,null,null,null,null,null,null,null,null,null,null,null,null,null,null,null,null,null,null,null,null,null,null,null,null,null,null,null,null,null,null,null,null,null,null,0]
[1000201,null,{"$f":"IF(A220=\"\",\"\",DBCS(VLOOKUP(A220,入力シート!A:E,3,FALSE)))","v":""},null,null,null,null,null,null,null,null,null,null,null,null,null,null,null,null,null,null,null,null,null,null,null,null,null,null,null,null,null,null,null,null,null,null,null,null,null,null,null,null,null,null,null,null,null,null,null,null,null,null,null,null,null,null,null,null,null,null,null,null,null,null,null,null,null,null,null,null,null,null,null,null,null,null,null,null,null,null,null,null,null,null,null,null,null,null,null,null,null,null,null,null,null,null,null,null,null,null,null,null,null,null,null,null,null,null,null,null,null,null,null,null,null,null,null,null,null,null,null,null,null,null,null,null,null,null,null,null,null,null,null,null,null,null,null,null,null,null,null,null,null,null,null,null,null,0]
[1000202,null,{"$f":"IF(A221=\"\",\"\",DBCS(VLOOKUP(A221,入力シート!A:E,3,FALSE)))","v":""},null,null,null,null,null,null,null,null,null,null,null,null,null,null,null,null,null,null,null,null,null,null,null,null,null,null,null,null,null,null,null,null,null,null,null,null,null,null,null,null,null,null,null,null,null,null,null,null,null,null,null,null,null,null,null,null,null,null,null,null,null,null,null,null,null,null,null,null,null,null,null,null,null,null,null,null,null,null,null,null,null,null,null,null,null,null,null,null,null,null,null,null,null,null,null,null,null,null,null,null,null,null,null,null,null,null,null,null,null,null,null,null,null,null,null,null,null,null,null,null,null,null,null,null,null,null,null,null,null,null,null,null,null,null,null,null,null,null,null,null,null,null,null,null,null,0]
[1000203,null,{"$f":"IF(A222=\"\",\"\",DBCS(VLOOKUP(A222,入力シート!A:E,3,FALSE)))","v":""},null,null,null,null,null,null,null,null,null,null,null,null,null,null,null,null,null,null,null,null,null,null,null,null,null,null,null,null,null,null,null,null,null,null,null,null,null,null,null,null,null,null,null,null,null,null,null,null,null,null,null,null,null,null,null,null,null,null,null,null,null,null,null,null,null,null,null,null,null,null,null,null,null,null,null,null,null,null,null,null,null,null,null,null,null,null,null,null,null,null,null,null,null,null,null,null,null,null,null,null,null,null,null,null,null,null,null,null,null,null,null,null,null,null,null,null,null,null,null,null,null,null,null,null,null,null,null,null,null,null,null,null,null,null,null,null,null,null,null,null,null,null,null,null,null,0]
[1000204,null,{"$f":"IF(A223=\"\",\"\",DBCS(VLOOKUP(A223,入力シート!A:E,3,FALSE)))","v":""},null,null,null,null,null,null,null,null,null,null,null,null,null,null,null,null,null,null,null,null,null,null,null,null,null,null,null,null,null,null,null,null,null,null,null,null,null,null,null,null,null,null,null,null,null,null,null,null,null,null,null,null,null,null,null,null,null,null,null,null,null,null,null,null,null,null,null,null,null,null,null,null,null,null,null,null,null,null,null,null,null,null,null,null,null,null,null,null,null,null,null,null,null,null,null,null,null,null,null,null,null,null,null,null,null,null,null,null,null,null,null,null,null,null,null,null,null,null,null,null,null,null,null,null,null,null,null,null,null,null,null,null,null,null,null,null,null,null,null,null,null,null,null,null,null,0]
[1000205,null,{"$f":"IF(A224=\"\",\"\",DBCS(VLOOKUP(A224,入力シート!A:E,3,FALSE)))","v":""},null,null,null,null,null,null,null,null,null,null,null,null,null,null,null,null,null,null,null,null,null,null,null,null,null,null,null,null,null,null,null,null,null,null,null,null,null,null,null,null,null,null,null,null,null,null,null,null,null,null,null,null,null,null,null,null,null,null,null,null,null,null,null,null,null,null,null,null,null,null,null,null,null,null,null,null,null,null,null,null,null,null,null,null,null,null,null,null,null,null,null,null,null,null,null,null,null,null,null,null,null,null,null,null,null,null,null,null,null,null,null,null,null,null,null,null,null,null,null,null,null,null,null,null,null,null,null,null,null,null,null,null,null,null,null,null,null,null,null,null,null,null,null,null,null,0]
[1000206,null,{"$f":"IF(A225=\"\",\"\",DBCS(VLOOKUP(A225,入力シート!A:E,3,FALSE)))","v":""},null,null,null,null,null,null,null,null,null,null,null,null,null,null,null,null,null,null,null,null,null,null,null,null,null,null,null,null,null,null,null,null,null,null,null,null,null,null,null,null,null,null,null,null,null,null,null,null,null,null,null,null,null,null,null,null,null,null,null,null,null,null,null,null,null,null,null,null,null,null,null,null,null,null,null,null,null,null,null,null,null,null,null,null,null,null,null,null,null,null,null,null,null,null,null,null,null,null,null,null,null,null,null,null,null,null,null,null,null,null,null,null,null,null,null,null,null,null,null,null,null,null,null,null,null,null,null,null,null,null,null,null,null,null,null,null,null,null,null,null,null,null,null,null,null,0]
[1000207,null,{"$f":"IF(A226=\"\",\"\",DBCS(VLOOKUP(A226,入力シート!A:E,3,FALSE)))","v":""},null,null,null,null,null,null,null,null,null,null,null,null,null,null,null,null,null,null,null,null,null,null,null,null,null,null,null,null,null,null,null,null,null,null,null,null,null,null,null,null,null,null,null,null,null,null,null,null,null,null,null,null,null,null,null,null,null,null,null,null,null,null,null,null,null,null,null,null,null,null,null,null,null,null,null,null,null,null,null,null,null,null,null,null,null,null,null,null,null,null,null,null,null,null,null,null,null,null,null,null,null,null,null,null,null,null,null,null,null,null,null,null,null,null,null,null,null,null,null,null,null,null,null,null,null,null,null,null,null,null,null,null,null,null,null,null,null,null,null,null,null,null,null,null,null,0]
[1000208,null,{"$f":"IF(A227=\"\",\"\",DBCS(VLOOKUP(A227,入力シート!A:E,3,FALSE)))","v":""},null,null,null,null,null,null,null,null,null,null,null,null,null,null,null,null,null,null,null,null,null,null,null,null,null,null,null,null,null,null,null,null,null,null,null,null,null,null,null,null,null,null,null,null,null,null,null,null,null,null,null,null,null,null,null,null,null,null,null,null,null,null,null,null,null,null,null,null,null,null,null,null,null,null,null,null,null,null,null,null,null,null,null,null,null,null,null,null,null,null,null,null,null,null,null,null,null,null,null,null,null,null,null,null,null,null,null,null,null,null,null,null,null,null,null,null,null,null,null,null,null,null,null,null,null,null,null,null,null,null,null,null,null,null,null,null,null,null,null,null,null,null,null,null,null,0]
[1000209,null,{"$f":"IF(A228=\"\",\"\",DBCS(VLOOKUP(A228,入力シート!A:E,3,FALSE)))","v":""},null,null,null,null,null,null,null,null,null,null,null,null,null,null,null,null,null,null,null,null,null,null,null,null,null,null,null,null,null,null,null,null,null,null,null,null,null,null,null,null,null,null,null,null,null,null,null,null,null,null,null,null,null,null,null,null,null,null,null,null,null,null,null,null,null,null,null,null,null,null,null,null,null,null,null,null,null,null,null,null,null,null,null,null,null,null,null,null,null,null,null,null,null,null,null,null,null,null,null,null,null,null,null,null,null,null,null,null,null,null,null,null,null,null,null,null,null,null,null,null,null,null,null,null,null,null,null,null,null,null,null,null,null,null,null,null,null,null,null,null,null,null,null,null,null,0]
[1000210,null,{"$f":"IF(A229=\"\",\"\",DBCS(VLOOKUP(A229,入力シート!A:E,3,FALSE)))","v":""},null,null,null,null,null,null,null,null,null,null,null,null,null,null,null,null,null,null,null,null,null,null,null,null,null,null,null,null,null,null,null,null,null,null,null,null,null,null,null,null,null,null,null,null,null,null,null,null,null,null,null,null,null,null,null,null,null,null,null,null,null,null,null,null,null,null,null,null,null,null,null,null,null,null,null,null,null,null,null,null,null,null,null,null,null,null,null,null,null,null,null,null,null,null,null,null,null,null,null,null,null,null,null,null,null,null,null,null,null,null,null,null,null,null,null,null,null,null,null,null,null,null,null,null,null,null,null,null,null,null,null,null,null,null,null,null,null,null,null,null,null,null,null,null,null,0]
[1000211,null,{"$f":"IF(A230=\"\",\"\",DBCS(VLOOKUP(A230,入力シート!A:E,3,FALSE)))","v":""},null,null,null,null,null,null,null,null,null,null,null,null,null,null,null,null,null,null,null,null,null,null,null,null,null,null,null,null,null,null,null,null,null,null,null,null,null,null,null,null,null,null,null,null,null,null,null,null,null,null,null,null,null,null,null,null,null,null,null,null,null,null,null,null,null,null,null,null,null,null,null,null,null,null,null,null,null,null,null,null,null,null,null,null,null,null,null,null,null,null,null,null,null,null,null,null,null,null,null,null,null,null,null,null,null,null,null,null,null,null,null,null,null,null,null,null,null,null,null,null,null,null,null,null,null,null,null,null,null,null,null,null,null,null,null,null,null,null,null,null,null,null,null,null,null,0]
[1000212,null,{"$f":"IF(A231=\"\",\"\",DBCS(VLOOKUP(A231,入力シート!A:E,3,FALSE)))","v":""},null,null,null,null,null,null,null,null,null,null,null,null,null,null,null,null,null,null,null,null,null,null,null,null,null,null,null,null,null,null,null,null,null,null,null,null,null,null,null,null,null,null,null,null,null,null,null,null,null,null,null,null,null,null,null,null,null,null,null,null,null,null,null,null,null,null,null,null,null,null,null,null,null,null,null,null,null,null,null,null,null,null,null,null,null,null,null,null,null,null,null,null,null,null,null,null,null,null,null,null,null,null,null,null,null,null,null,null,null,null,null,null,null,null,null,null,null,null,null,null,null,null,null,null,null,null,null,null,null,null,null,null,null,null,null,null,null,null,null,null,null,null,null,null,null,0]
[1000213,null,{"$f":"IF(A232=\"\",\"\",DBCS(VLOOKUP(A232,入力シート!A:E,3,FALSE)))","v":""},null,null,null,null,null,null,null,null,null,null,null,null,null,null,null,null,null,null,null,null,null,null,null,null,null,null,null,null,null,null,null,null,null,null,null,null,null,null,null,null,null,null,null,null,null,null,null,null,null,null,null,null,null,null,null,null,null,null,null,null,null,null,null,null,null,null,null,null,null,null,null,null,null,null,null,null,null,null,null,null,null,null,null,null,null,null,null,null,null,null,null,null,null,null,null,null,null,null,null,null,null,null,null,null,null,null,null,null,null,null,null,null,null,null,null,null,null,null,null,null,null,null,null,null,null,null,null,null,null,null,null,null,null,null,null,null,null,null,null,null,null,null,null,null,null,0]
[1000214,null,{"$f":"IF(A233=\"\",\"\",DBCS(VLOOKUP(A233,入力シート!A:E,3,FALSE)))","v":""},null,null,null,null,null,null,null,null,null,null,null,null,null,null,null,null,null,null,null,null,null,null,null,null,null,null,null,null,null,null,null,null,null,null,null,null,null,null,null,null,null,null,null,null,null,null,null,null,null,null,null,null,null,null,null,null,null,null,null,null,null,null,null,null,null,null,null,null,null,null,null,null,null,null,null,null,null,null,null,null,null,null,null,null,null,null,null,null,null,null,null,null,null,null,null,null,null,null,null,null,null,null,null,null,null,null,null,null,null,null,null,null,null,null,null,null,null,null,null,null,null,null,null,null,null,null,null,null,null,null,null,null,null,null,null,null,null,null,null,null,null,null,null,null,null,0]
[1000215,null,{"$f":"IF(A234=\"\",\"\",DBCS(VLOOKUP(A234,入力シート!A:E,3,FALSE)))","v":""},null,null,null,null,null,null,null,null,null,null,null,null,null,null,null,null,null,null,null,null,null,null,null,null,null,null,null,null,null,null,null,null,null,null,null,null,null,null,null,null,null,null,null,null,null,null,null,null,null,null,null,null,null,null,null,null,null,null,null,null,null,null,null,null,null,null,null,null,null,null,null,null,null,null,null,null,null,null,null,null,null,null,null,null,null,null,null,null,null,null,null,null,null,null,null,null,null,null,null,null,null,null,null,null,null,null,null,null,null,null,null,null,null,null,null,null,null,null,null,null,null,null,null,null,null,null,null,null,null,null,null,null,null,null,null,null,null,null,null,null,null,null,null,null,null,0]
[1000216,null,{"$f":"IF(A235=\"\",\"\",DBCS(VLOOKUP(A235,入力シート!A:E,3,FALSE)))","v":""},null,null,null,null,null,null,null,null,null,null,null,null,null,null,null,null,null,null,null,null,null,null,null,null,null,null,null,null,null,null,null,null,null,null,null,null,null,null,null,null,null,null,null,null,null,null,null,null,null,null,null,null,null,null,null,null,null,null,null,null,null,null,null,null,null,null,null,null,null,null,null,null,null,null,null,null,null,null,null,null,null,null,null,null,null,null,null,null,null,null,null,null,null,null,null,null,null,null,null,null,null,null,null,null,null,null,null,null,null,null,null,null,null,null,null,null,null,null,null,null,null,null,null,null,null,null,null,null,null,null,null,null,null,null,null,null,null,null,null,null,null,null,null,null,null,0]
[1000217,null,{"$f":"IF(A236=\"\",\"\",DBCS(VLOOKUP(A236,入力シート!A:E,3,FALSE)))","v":""},null,null,null,null,null,null,null,null,null,null,null,null,null,null,null,null,null,null,null,null,null,null,null,null,null,null,null,null,null,null,null,null,null,null,null,null,null,null,null,null,null,null,null,null,null,null,null,null,null,null,null,null,null,null,null,null,null,null,null,null,null,null,null,null,null,null,null,null,null,null,null,null,null,null,null,null,null,null,null,null,null,null,null,null,null,null,null,null,null,null,null,null,null,null,null,null,null,null,null,null,null,null,null,null,null,null,null,null,null,null,null,null,null,null,null,null,null,null,null,null,null,null,null,null,null,null,null,null,null,null,null,null,null,null,null,null,null,null,null,null,null,null,null,null,null,0]
[1000218,null,{"$f":"IF(A237=\"\",\"\",DBCS(VLOOKUP(A237,入力シート!A:E,3,FALSE)))","v":""},null,null,null,null,null,null,null,null,null,null,null,null,null,null,null,null,null,null,null,null,null,null,null,null,null,null,null,null,null,null,null,null,null,null,null,null,null,null,null,null,null,null,null,null,null,null,null,null,null,null,null,null,null,null,null,null,null,null,null,null,null,null,null,null,null,null,null,null,null,null,null,null,null,null,null,null,null,null,null,null,null,null,null,null,null,null,null,null,null,null,null,null,null,null,null,null,null,null,null,null,null,null,null,null,null,null,null,null,null,null,null,null,null,null,null,null,null,null,null,null,null,null,null,null,null,null,null,null,null,null,null,null,null,null,null,null,null,null,null,null,null,null,null,null,null,0]
[1000219,null,{"$f":"IF(A238=\"\",\"\",DBCS(VLOOKUP(A238,入力シート!A:E,3,FALSE)))","v":""},null,null,null,null,null,null,null,null,null,null,null,null,null,null,null,null,null,null,null,null,null,null,null,null,null,null,null,null,null,null,null,null,null,null,null,null,null,null,null,null,null,null,null,null,null,null,null,null,null,null,null,null,null,null,null,null,null,null,null,null,null,null,null,null,null,null,null,null,null,null,null,null,null,null,null,null,null,null,null,null,null,null,null,null,null,null,null,null,null,null,null,null,null,null,null,null,null,null,null,null,null,null,null,null,null,null,null,null,null,null,null,null,null,null,null,null,null,null,null,null,null,null,null,null,null,null,null,null,null,null,null,null,null,null,null,null,null,null,null,null,null,null,null,null,null,0]
[1000220,null,{"$f":"IF(A239=\"\",\"\",DBCS(VLOOKUP(A239,入力シート!A:E,3,FALSE)))","v":""},null,null,null,null,null,null,null,null,null,null,null,null,null,null,null,null,null,null,null,null,null,null,null,null,null,null,null,null,null,null,null,null,null,null,null,null,null,null,null,null,null,null,null,null,null,null,null,null,null,null,null,null,null,null,null,null,null,null,null,null,null,null,null,null,null,null,null,null,null,null,null,null,null,null,null,null,null,null,null,null,null,null,null,null,null,null,null,null,null,null,null,null,null,null,null,null,null,null,null,null,null,null,null,null,null,null,null,null,null,null,null,null,null,null,null,null,null,null,null,null,null,null,null,null,null,null,null,null,null,null,null,null,null,null,null,null,null,null,null,null,null,null,null,null,null,0]
[1000221,null,{"$f":"IF(A240=\"\",\"\",DBCS(VLOOKUP(A240,入力シート!A:E,3,FALSE)))","v":""},null,null,null,null,null,null,null,null,null,null,null,null,null,null,null,null,null,null,null,null,null,null,null,null,null,null,null,null,null,null,null,null,null,null,null,null,null,null,null,null,null,null,null,null,null,null,null,null,null,null,null,null,null,null,null,null,null,null,null,null,null,null,null,null,null,null,null,null,null,null,null,null,null,null,null,null,null,null,null,null,null,null,null,null,null,null,null,null,null,null,null,null,null,null,null,null,null,null,null,null,null,null,null,null,null,null,null,null,null,null,null,null,null,null,null,null,null,null,null,null,null,null,null,null,null,null,null,null,null,null,null,null,null,null,null,null,null,null,null,null,null,null,null,null,null,0]
[1000222,null,{"$f":"IF(A241=\"\",\"\",DBCS(VLOOKUP(A241,入力シート!A:E,3,FALSE)))","v":""},null,null,null,null,null,null,null,null,null,null,null,null,null,null,null,null,null,null,null,null,null,null,null,null,null,null,null,null,null,null,null,null,null,null,null,null,null,null,null,null,null,null,null,null,null,null,null,null,null,null,null,null,null,null,null,null,null,null,null,null,null,null,null,null,null,null,null,null,null,null,null,null,null,null,null,null,null,null,null,null,null,null,null,null,null,null,null,null,null,null,null,null,null,null,null,null,null,null,null,null,null,null,null,null,null,null,null,null,null,null,null,null,null,null,null,null,null,null,null,null,null,null,null,null,null,null,null,null,null,null,null,null,null,null,null,null,null,null,null,null,null,null,null,null,null,0]
[1000223,null,{"$f":"IF(A242=\"\",\"\",DBCS(VLOOKUP(A242,入力シート!A:E,3,FALSE)))","v":""},null,null,null,null,null,null,null,null,null,null,null,null,null,null,null,null,null,null,null,null,null,null,null,null,null,null,null,null,null,null,null,null,null,null,null,null,null,null,null,null,null,null,null,null,null,null,null,null,null,null,null,null,null,null,null,null,null,null,null,null,null,null,null,null,null,null,null,null,null,null,null,null,null,null,null,null,null,null,null,null,null,null,null,null,null,null,null,null,null,null,null,null,null,null,null,null,null,null,null,null,null,null,null,null,null,null,null,null,null,null,null,null,null,null,null,null,null,null,null,null,null,null,null,null,null,null,null,null,null,null,null,null,null,null,null,null,null,null,null,null,null,null,null,null,null,0]
[1000224,null,{"$f":"IF(A243=\"\",\"\",DBCS(VLOOKUP(A243,入力シート!A:E,3,FALSE)))","v":""},null,null,null,null,null,null,null,null,null,null,null,null,null,null,null,null,null,null,null,null,null,null,null,null,null,null,null,null,null,null,null,null,null,null,null,null,null,null,null,null,null,null,null,null,null,null,null,null,null,null,null,null,null,null,null,null,null,null,null,null,null,null,null,null,null,null,null,null,null,null,null,null,null,null,null,null,null,null,null,null,null,null,null,null,null,null,null,null,null,null,null,null,null,null,null,null,null,null,null,null,null,null,null,null,null,null,null,null,null,null,null,null,null,null,null,null,null,null,null,null,null,null,null,null,null,null,null,null,null,null,null,null,null,null,null,null,null,null,null,null,null,null,null,null,null,0]
[1000225,null,{"$f":"IF(A244=\"\",\"\",DBCS(VLOOKUP(A244,入力シート!A:E,3,FALSE)))","v":""},null,null,null,null,null,null,null,null,null,null,null,null,null,null,null,null,null,null,null,null,null,null,null,null,null,null,null,null,null,null,null,null,null,null,null,null,null,null,null,null,null,null,null,null,null,null,null,null,null,null,null,null,null,null,null,null,null,null,null,null,null,null,null,null,null,null,null,null,null,null,null,null,null,null,null,null,null,null,null,null,null,null,null,null,null,null,null,null,null,null,null,null,null,null,null,null,null,null,null,null,null,null,null,null,null,null,null,null,null,null,null,null,null,null,null,null,null,null,null,null,null,null,null,null,null,null,null,null,null,null,null,null,null,null,null,null,null,null,null,null,null,null,null,null,null,0]
[1000226,null,{"$f":"IF(A245=\"\",\"\",DBCS(VLOOKUP(A245,入力シート!A:E,3,FALSE)))","v":""},null,null,null,null,null,null,null,null,null,null,null,null,null,null,null,null,null,null,null,null,null,null,null,null,null,null,null,null,null,null,null,null,null,null,null,null,null,null,null,null,null,null,null,null,null,null,null,null,null,null,null,null,null,null,null,null,null,null,null,null,null,null,null,null,null,null,null,null,null,null,null,null,null,null,null,null,null,null,null,null,null,null,null,null,null,null,null,null,null,null,null,null,null,null,null,null,null,null,null,null,null,null,null,null,null,null,null,null,null,null,null,null,null,null,null,null,null,null,null,null,null,null,null,null,null,null,null,null,null,null,null,null,null,null,null,null,null,null,null,null,null,null,null,null,null,0]
[1000227,null,{"$f":"IF(A246=\"\",\"\",DBCS(VLOOKUP(A246,入力シート!A:E,3,FALSE)))","v":""},null,null,null,null,null,null,null,null,null,null,null,null,null,null,null,null,null,null,null,null,null,null,null,null,null,null,null,null,null,null,null,null,null,null,null,null,null,null,null,null,null,null,null,null,null,null,null,null,null,null,null,null,null,null,null,null,null,null,null,null,null,null,null,null,null,null,null,null,null,null,null,null,null,null,null,null,null,null,null,null,null,null,null,null,null,null,null,null,null,null,null,null,null,null,null,null,null,null,null,null,null,null,null,null,null,null,null,null,null,null,null,null,null,null,null,null,null,null,null,null,null,null,null,null,null,null,null,null,null,null,null,null,null,null,null,null,null,null,null,null,null,null,null,null,null,0]
[1000228,null,{"$f":"IF(A247=\"\",\"\",DBCS(VLOOKUP(A247,入力シート!A:E,3,FALSE)))","v":""},null,null,null,null,null,null,null,null,null,null,null,null,null,null,null,null,null,null,null,null,null,null,null,null,null,null,null,null,null,null,null,null,null,null,null,null,null,null,null,null,null,null,null,null,null,null,null,null,null,null,null,null,null,null,null,null,null,null,null,null,null,null,null,null,null,null,null,null,null,null,null,null,null,null,null,null,null,null,null,null,null,null,null,null,null,null,null,null,null,null,null,null,null,null,null,null,null,null,null,null,null,null,null,null,null,null,null,null,null,null,null,null,null,null,null,null,null,null,null,null,null,null,null,null,null,null,null,null,null,null,null,null,null,null,null,null,null,null,null,null,null,null,null,null,null,0]
[1000229,null,{"$f":"IF(A248=\"\",\"\",DBCS(VLOOKUP(A248,入力シート!A:E,3,FALSE)))","v":""},null,null,null,null,null,null,null,null,null,null,null,null,null,null,null,null,null,null,null,null,null,null,null,null,null,null,null,null,null,null,null,null,null,null,null,null,null,null,null,null,null,null,null,null,null,null,null,null,null,null,null,null,null,null,null,null,null,null,null,null,null,null,null,null,null,null,null,null,null,null,null,null,null,null,null,null,null,null,null,null,null,null,null,null,null,null,null,null,null,null,null,null,null,null,null,null,null,null,null,null,null,null,null,null,null,null,null,null,null,null,null,null,null,null,null,null,null,null,null,null,null,null,null,null,null,null,null,null,null,null,null,null,null,null,null,null,null,null,null,null,null,null,null,null,null,0]
[1000230,null,{"$f":"IF(A249=\"\",\"\",DBCS(VLOOKUP(A249,入力シート!A:E,3,FALSE)))","v":""},null,null,null,null,null,null,null,null,null,null,null,null,null,null,null,null,null,null,null,null,null,null,null,null,null,null,null,null,null,null,null,null,null,null,null,null,null,null,null,null,null,null,null,null,null,null,null,null,null,null,null,null,null,null,null,null,null,null,null,null,null,null,null,null,null,null,null,null,null,null,null,null,null,null,null,null,null,null,null,null,null,null,null,null,null,null,null,null,null,null,null,null,null,null,null,null,null,null,null,null,null,null,null,null,null,null,null,null,null,null,null,null,null,null,null,null,null,null,null,null,null,null,null,null,null,null,null,null,null,null,null,null,null,null,null,null,null,null,null,null,null,null,null,null,null,0]
[1000231,null,{"$f":"IF(A250=\"\",\"\",DBCS(VLOOKUP(A250,入力シート!A:E,3,FALSE)))","v":""},null,null,null,null,null,null,null,null,null,null,null,null,null,null,null,null,null,null,null,null,null,null,null,null,null,null,null,null,null,null,null,null,null,null,null,null,null,null,null,null,null,null,null,null,null,null,null,null,null,null,null,null,null,null,null,null,null,null,null,null,null,null,null,null,null,null,null,null,null,null,null,null,null,null,null,null,null,null,null,null,null,null,null,null,null,null,null,null,null,null,null,null,null,null,null,null,null,null,null,null,null,null,null,null,null,null,null,null,null,null,null,null,null,null,null,null,null,null,null,null,null,null,null,null,null,null,null,null,null,null,null,null,null,null,null,null,null,null,null,null,null,null,null,null,null,0]
[1000232,null,{"$f":"IF(A251=\"\",\"\",DBCS(VLOOKUP(A251,入力シート!A:E,3,FALSE)))","v":""},null,null,null,null,null,null,null,null,null,null,null,null,null,null,null,null,null,null,null,null,null,null,null,null,null,null,null,null,null,null,null,null,null,null,null,null,null,null,null,null,null,null,null,null,null,null,null,null,null,null,null,null,null,null,null,null,null,null,null,null,null,null,null,null,null,null,null,null,null,null,null,null,null,null,null,null,null,null,null,null,null,null,null,null,null,null,null,null,null,null,null,null,null,null,null,null,null,null,null,null,null,null,null,null,null,null,null,null,null,null,null,null,null,null,null,null,null,null,null,null,null,null,null,null,null,null,null,null,null,null,null,null,null,null,null,null,null,null,null,null,null,null,null,null,null,0]
[1000233,null,{"$f":"IF(A252=\"\",\"\",DBCS(VLOOKUP(A252,入力シート!A:E,3,FALSE)))","v":""},null,null,null,null,null,null,null,null,null,null,null,null,null,null,null,null,null,null,null,null,null,null,null,null,null,null,null,null,null,null,null,null,null,null,null,null,null,null,null,null,null,null,null,null,null,null,null,null,null,null,null,null,null,null,null,null,null,null,null,null,null,null,null,null,null,null,null,null,null,null,null,null,null,null,null,null,null,null,null,null,null,null,null,null,null,null,null,null,null,null,null,null,null,null,null,null,null,null,null,null,null,null,null,null,null,null,null,null,null,null,null,null,null,null,null,null,null,null,null,null,null,null,null,null,null,null,null,null,null,null,null,null,null,null,null,null,null,null,null,null,null,null,null,null,null,0]
[1000234,null,{"$f":"IF(A253=\"\",\"\",DBCS(VLOOKUP(A253,入力シート!A:E,3,FALSE)))","v":""},null,null,null,null,null,null,null,null,null,null,null,null,null,null,null,null,null,null,null,null,null,null,null,null,null,null,null,null,null,null,null,null,null,null,null,null,null,null,null,null,null,null,null,null,null,null,null,null,null,null,null,null,null,null,null,null,null,null,null,null,null,null,null,null,null,null,null,null,null,null,null,null,null,null,null,null,null,null,null,null,null,null,null,null,null,null,null,null,null,null,null,null,null,null,null,null,null,null,null,null,null,null,null,null,null,null,null,null,null,null,null,null,null,null,null,null,null,null,null,null,null,null,null,null,null,null,null,null,null,null,null,null,null,null,null,null,null,null,null,null,null,null,null,null,null,0]
[1000235,null,{"$f":"IF(A254=\"\",\"\",DBCS(VLOOKUP(A254,入力シート!A:E,3,FALSE)))","v":""},null,null,null,null,null,null,null,null,null,null,null,null,null,null,null,null,null,null,null,null,null,null,null,null,null,null,null,null,null,null,null,null,null,null,null,null,null,null,null,null,null,null,null,null,null,null,null,null,null,null,null,null,null,null,null,null,null,null,null,null,null,null,null,null,null,null,null,null,null,null,null,null,null,null,null,null,null,null,null,null,null,null,null,null,null,null,null,null,null,null,null,null,null,null,null,null,null,null,null,null,null,null,null,null,null,null,null,null,null,null,null,null,null,null,null,null,null,null,null,null,null,null,null,null,null,null,null,null,null,null,null,null,null,null,null,null,null,null,null,null,null,null,null,null,null,0]
[1000236,null,{"$f":"IF(A255=\"\",\"\",DBCS(VLOOKUP(A255,入力シート!A:E,3,FALSE)))","v":""},null,null,null,null,null,null,null,null,null,null,null,null,null,null,null,null,null,null,null,null,null,null,null,null,null,null,null,null,null,null,null,null,null,null,null,null,null,null,null,null,null,null,null,null,null,null,null,null,null,null,null,null,null,null,null,null,null,null,null,null,null,null,null,null,null,null,null,null,null,null,null,null,null,null,null,null,null,null,null,null,null,null,null,null,null,null,null,null,null,null,null,null,null,null,null,null,null,null,null,null,null,null,null,null,null,null,null,null,null,null,null,null,null,null,null,null,null,null,null,null,null,null,null,null,null,null,null,null,null,null,null,null,null,null,null,null,null,null,null,null,null,null,null,null,null,0]
[1000237,null,{"$f":"IF(A256=\"\",\"\",DBCS(VLOOKUP(A256,入力シート!A:E,3,FALSE)))","v":""},null,null,null,null,null,null,null,null,null,null,null,null,null,null,null,null,null,null,null,null,null,null,null,null,null,null,null,null,null,null,null,null,null,null,null,null,null,null,null,null,null,null,null,null,null,null,null,null,null,null,null,null,null,null,null,null,null,null,null,null,null,null,null,null,null,null,null,null,null,null,null,null,null,null,null,null,null,null,null,null,null,null,null,null,null,null,null,null,null,null,null,null,null,null,null,null,null,null,null,null,null,null,null,null,null,null,null,null,null,null,null,null,null,null,null,null,null,null,null,null,null,null,null,null,null,null,null,null,null,null,null,null,null,null,null,null,null,null,null,null,null,null,null,null,null,0]
[1000238,null,{"$f":"IF(A257=\"\",\"\",DBCS(VLOOKUP(A257,入力シート!A:E,3,FALSE)))","v":""},null,null,null,null,null,null,null,null,null,null,null,null,null,null,null,null,null,null,null,null,null,null,null,null,null,null,null,null,null,null,null,null,null,null,null,null,null,null,null,null,null,null,null,null,null,null,null,null,null,null,null,null,null,null,null,null,null,null,null,null,null,null,null,null,null,null,null,null,null,null,null,null,null,null,null,null,null,null,null,null,null,null,null,null,null,null,null,null,null,null,null,null,null,null,null,null,null,null,null,null,null,null,null,null,null,null,null,null,null,null,null,null,null,null,null,null,null,null,null,null,null,null,null,null,null,null,null,null,null,null,null,null,null,null,null,null,null,null,null,null,null,null,null,null,null,0]
[1000239,null,{"$f":"IF(A258=\"\",\"\",DBCS(VLOOKUP(A258,入力シート!A:E,3,FALSE)))","v":""},null,null,null,null,null,null,null,null,null,null,null,null,null,null,null,null,null,null,null,null,null,null,null,null,null,null,null,null,null,null,null,null,null,null,null,null,null,null,null,null,null,null,null,null,null,null,null,null,null,null,null,null,null,null,null,null,null,null,null,null,null,null,null,null,null,null,null,null,null,null,null,null,null,null,null,null,null,null,null,null,null,null,null,null,null,null,null,null,null,null,null,null,null,null,null,null,null,null,null,null,null,null,null,null,null,null,null,null,null,null,null,null,null,null,null,null,null,null,null,null,null,null,null,null,null,null,null,null,null,null,null,null,null,null,null,null,null,null,null,null,null,null,null,null,null,0]
[1000240,null,{"$f":"IF(A259=\"\",\"\",DBCS(VLOOKUP(A259,入力シート!A:E,3,FALSE)))","v":""},null,null,null,null,null,null,null,null,null,null,null,null,null,null,null,null,null,null,null,null,null,null,null,null,null,null,null,null,null,null,null,null,null,null,null,null,null,null,null,null,null,null,null,null,null,null,null,null,null,null,null,null,null,null,null,null,null,null,null,null,null,null,null,null,null,null,null,null,null,null,null,null,null,null,null,null,null,null,null,null,null,null,null,null,null,null,null,null,null,null,null,null,null,null,null,null,null,null,null,null,null,null,null,null,null,null,null,null,null,null,null,null,null,null,null,null,null,null,null,null,null,null,null,null,null,null,null,null,null,null,null,null,null,null,null,null,null,null,null,null,null,null,null,null,null,0]
[1000241,null,{"$f":"IF(A260=\"\",\"\",DBCS(VLOOKUP(A260,入力シート!A:E,3,FALSE)))","v":""},null,null,null,null,null,null,null,null,null,null,null,null,null,null,null,null,null,null,null,null,null,null,null,null,null,null,null,null,null,null,null,null,null,null,null,null,null,null,null,null,null,null,null,null,null,null,null,null,null,null,null,null,null,null,null,null,null,null,null,null,null,null,null,null,null,null,null,null,null,null,null,null,null,null,null,null,null,null,null,null,null,null,null,null,null,null,null,null,null,null,null,null,null,null,null,null,null,null,null,null,null,null,null,null,null,null,null,null,null,null,null,null,null,null,null,null,null,null,null,null,null,null,null,null,null,null,null,null,null,null,null,null,null,null,null,null,null,null,null,null,null,null,null,null,null,0]
[1000242,null,{"$f":"IF(A261=\"\",\"\",DBCS(VLOOKUP(A261,入力シート!A:E,3,FALSE)))","v":""},null,null,null,null,null,null,null,null,null,null,null,null,null,null,null,null,null,null,null,null,null,null,null,null,null,null,null,null,null,null,null,null,null,null,null,null,null,null,null,null,null,null,null,null,null,null,null,null,null,null,null,null,null,null,null,null,null,null,null,null,null,null,null,null,null,null,null,null,null,null,null,null,null,null,null,null,null,null,null,null,null,null,null,null,null,null,null,null,null,null,null,null,null,null,null,null,null,null,null,null,null,null,null,null,null,null,null,null,null,null,null,null,null,null,null,null,null,null,null,null,null,null,null,null,null,null,null,null,null,null,null,null,null,null,null,null,null,null,null,null,null,null,null,null,null,0]
[1000243,null,{"$f":"IF(A262=\"\",\"\",DBCS(VLOOKUP(A262,入力シート!A:E,3,FALSE)))","v":""},null,null,null,null,null,null,null,null,null,null,null,null,null,null,null,null,null,null,null,null,null,null,null,null,null,null,null,null,null,null,null,null,null,null,null,null,null,null,null,null,null,null,null,null,null,null,null,null,null,null,null,null,null,null,null,null,null,null,null,null,null,null,null,null,null,null,null,null,null,null,null,null,null,null,null,null,null,null,null,null,null,null,null,null,null,null,null,null,null,null,null,null,null,null,null,null,null,null,null,null,null,null,null,null,null,null,null,null,null,null,null,null,null,null,null,null,null,null,null,null,null,null,null,null,null,null,null,null,null,null,null,null,null,null,null,null,null,null,null,null,null,null,null,null,null,0]
[1000244,null,{"$f":"IF(A263=\"\",\"\",DBCS(VLOOKUP(A263,入力シート!A:E,3,FALSE)))","v":""},null,null,null,null,null,null,null,null,null,null,null,null,null,null,null,null,null,null,null,null,null,null,null,null,null,null,null,null,null,null,null,null,null,null,null,null,null,null,null,null,null,null,null,null,null,null,null,null,null,null,null,null,null,null,null,null,null,null,null,null,null,null,null,null,null,null,null,null,null,null,null,null,null,null,null,null,null,null,null,null,null,null,null,null,null,null,null,null,null,null,null,null,null,null,null,null,null,null,null,null,null,null,null,null,null,null,null,null,null,null,null,null,null,null,null,null,null,null,null,null,null,null,null,null,null,null,null,null,null,null,null,null,null,null,null,null,null,null,null,null,null,null,null,null,null,0]
[1000245,null,{"$f":"IF(A264=\"\",\"\",DBCS(VLOOKUP(A264,入力シート!A:E,3,FALSE)))","v":""},null,null,null,null,null,null,null,null,null,null,null,null,null,null,null,null,null,null,null,null,null,null,null,null,null,null,null,null,null,null,null,null,null,null,null,null,null,null,null,null,null,null,null,null,null,null,null,null,null,null,null,null,null,null,null,null,null,null,null,null,null,null,null,null,null,null,null,null,null,null,null,null,null,null,null,null,null,null,null,null,null,null,null,null,null,null,null,null,null,null,null,null,null,null,null,null,null,null,null,null,null,null,null,null,null,null,null,null,null,null,null,null,null,null,null,null,null,null,null,null,null,null,null,null,null,null,null,null,null,null,null,null,null,null,null,null,null,null,null,null,null,null,null,null,null,0]
[1000246,null,{"$f":"IF(A265=\"\",\"\",DBCS(VLOOKUP(A265,入力シート!A:E,3,FALSE)))","v":""},null,null,null,null,null,null,null,null,null,null,null,null,null,null,null,null,null,null,null,null,null,null,null,null,null,null,null,null,null,null,null,null,null,null,null,null,null,null,null,null,null,null,null,null,null,null,null,null,null,null,null,null,null,null,null,null,null,null,null,null,null,null,null,null,null,null,null,null,null,null,null,null,null,null,null,null,null,null,null,null,null,null,null,null,null,null,null,null,null,null,null,null,null,null,null,null,null,null,null,null,null,null,null,null,null,null,null,null,null,null,null,null,null,null,null,null,null,null,null,null,null,null,null,null,null,null,null,null,null,null,null,null,null,null,null,null,null,null,null,null,null,null,null,null,null,0]
[1000247,null,{"$f":"IF(A266=\"\",\"\",DBCS(VLOOKUP(A266,入力シート!A:E,3,FALSE)))","v":""},null,null,null,null,null,null,null,null,null,null,null,null,null,null,null,null,null,null,null,null,null,null,null,null,null,null,null,null,null,null,null,null,null,null,null,null,null,null,null,null,null,null,null,null,null,null,null,null,null,null,null,null,null,null,null,null,null,null,null,null,null,null,null,null,null,null,null,null,null,null,null,null,null,null,null,null,null,null,null,null,null,null,null,null,null,null,null,null,null,null,null,null,null,null,null,null,null,null,null,null,null,null,null,null,null,null,null,null,null,null,null,null,null,null,null,null,null,null,null,null,null,null,null,null,null,null,null,null,null,null,null,null,null,null,null,null,null,null,null,null,null,null,null,null,null,0]
[1000248,null,{"$f":"IF(A267=\"\",\"\",DBCS(VLOOKUP(A267,入力シート!A:E,3,FALSE)))","v":""},null,null,null,null,null,null,null,null,null,null,null,null,null,null,null,null,null,null,null,null,null,null,null,null,null,null,null,null,null,null,null,null,null,null,null,null,null,null,null,null,null,null,null,null,null,null,null,null,null,null,null,null,null,null,null,null,null,null,null,null,null,null,null,null,null,null,null,null,null,null,null,null,null,null,null,null,null,null,null,null,null,null,null,null,null,null,null,null,null,null,null,null,null,null,null,null,null,null,null,null,null,null,null,null,null,null,null,null,null,null,null,null,null,null,null,null,null,null,null,null,null,null,null,null,null,null,null,null,null,null,null,null,null,null,null,null,null,null,null,null,null,null,null,null,null,0]
[1000249,null,{"$f":"IF(A268=\"\",\"\",DBCS(VLOOKUP(A268,入力シート!A:E,3,FALSE)))","v":""},null,null,null,null,null,null,null,null,null,null,null,null,null,null,null,null,null,null,null,null,null,null,null,null,null,null,null,null,null,null,null,null,null,null,null,null,null,null,null,null,null,null,null,null,null,null,null,null,null,null,null,null,null,null,null,null,null,null,null,null,null,null,null,null,null,null,null,null,null,null,null,null,null,null,null,null,null,null,null,null,null,null,null,null,null,null,null,null,null,null,null,null,null,null,null,null,null,null,null,null,null,null,null,null,null,null,null,null,null,null,null,null,null,null,null,null,null,null,null,null,null,null,null,null,null,null,null,null,null,null,null,null,null,null,null,null,null,null,null,null,null,null,null,null,null,0]
[1000250,null,{"$f":"IF(A269=\"\",\"\",DBCS(VLOOKUP(A269,入力シート!A:E,3,FALSE)))","v":""},null,null,null,null,null,null,null,null,null,null,null,null,null,null,null,null,null,null,null,null,null,null,null,null,null,null,null,null,null,null,null,null,null,null,null,null,null,null,null,null,null,null,null,null,null,null,null,null,null,null,null,null,null,null,null,null,null,null,null,null,null,null,null,null,null,null,null,null,null,null,null,null,null,null,null,null,null,null,null,null,null,null,null,null,null,null,null,null,null,null,null,null,null,null,null,null,null,null,null,null,null,null,null,null,null,null,null,null,null,null,null,null,null,null,null,null,null,null,null,null,null,null,null,null,null,null,null,null,null,null,null,null,null,null,null,null,null,null,null,null,null,null,null,null,null,0]

{"sheet":"経皮吸収率","index":15,"n_rows":16,"n_cols":3,"rows_kept":16,"cut":false,"hidden":true,"merged":[[1,1,1,2]]}
[]
[null,"経皮吸収率"]
[]
[null,null,"希釈倍数"]
[null,"製剤",1]
[null,"希釈液１",1000]
[null,"希釈液２",""]
[null,"希釈液３"]
[null,"希釈液４"]
[null,"希釈液５"]
[null,"希釈液６"]
[null,"希釈液７"]
[null,"希釈液８"]
[null,"希釈液９"]
[null,"希釈液１０"]
[null,"希釈液１１"]

{"sheet":"標準面積","index":16,"n_rows":16,"n_cols":5,"rows_kept":16,"cut":false,"hidden":false,"merged":[[9,1,9,7],[0,1,1,1],[0,2,0,3],[10,1,10,7]]}
[null,"１日標準作業面積","(a)"]
[null,null,"50%ile","75%ile"]
["手散布","水稲",100,200]
["手散布","水稲（育苗箱）",140,240,"※箱"]
["手散布","野菜（立体）",15,20]
["手散布","野菜（平面）",20,30]
["手散布","果樹（立体）",30,50]
["手散布","果樹（棚）",30,30]
["手散布","芝",40,100]
[]
[null,"散布時の計算式が、液剤_水稲、野菜（平面）、果樹（立体）、果樹（棚）の場合は、以下が追加計算される。"]
["機械散布","水稲",100,200]
["機械散布","野菜（平面）",55,100]
["機械散布","果樹（立体）",50,100]
["機械散布","果樹（棚）",50,100]
["機械散布","野菜（立体）",15,20]

{"sheet":"調製時","index":17,"n_rows":8,"n_cols":4,"rows_kept":8,"cut":false,"hidden":false,"merged":[]}
[]
[null,"調製時の予測式","手","吸気"]
[null,"固形剤（粉剤、微粒剤、粒剤等）",14,8.5999999999999993E-2]
[null,"顆粒水和剤等",13,3.6999999999999998E-2]
[null,"水和剤等",77,7.0999999999999994E-2]
[null,"フロアブル剤等",130,8.4999999999999995E-4]
[null,"乳剤等",140,1.2999999999999999E-3]
[null,"調製作業による暴露なし",0,0]

{"sheet":"散布時","index":18,"n_rows":22,"n_cols":8,"rows_kept":22,"cut":false,"hidden":false,"merged":[[0,2,0,5],[1,2,1,5],[0,1,2,1]]}
[null,"散布時の予測式","単位暴露量（µgai/gai使用量）"]
[null,null,"暴露部位／経路"]
[null,null,"頭","その他","手","呼気"]
[null,"液剤_水稲",0.53,12,11,1.7999999999999999E-2,"手散布"]
[null,"液剤_水稲_育苗箱",3.4000000000000002E-2,0.44,6.5,3.6000000000000002E-4,"育苗箱"]
[null,"液剤_野菜（立体）",3.9,82,23,0.67,"手散布"]
[null,"液剤_野菜（平面）",2.1,150,12,0.47,"手散布"]
[null,"液剤_果樹（立体）",38,470,80,0.45,"手散布"]
[null,"液剤_果樹（棚）",78,850,87,1.8,"手散布"]
[null,"液剤_芝",6.6000000000000003E-2,1.6,1.4,5.0000000000000001E-3,"手散布"]
[null,"固形剤（粉剤）_水稲",1.6,25,130,0.48,"手散布"]
[null,"固形剤（粉粒剤）_水稲",0.04,3.7,4.5999999999999996,2.7E-2,"手散布"]
[null,"固形剤（粒剤）_水稲",0.24,2.9,0.39,8.8999999999999999E-3,"手散布"]
[null,"固形剤（粒剤）_水稲_育苗箱",2.3E-2,0.3,5.6,2.1000000000000001E-4,"育苗箱"]
[null,"固形剤（粉剤）_畑作物",1.4,37,14,0.24,"手散布"]
[null,"固形剤（粒剤）_畑作物",0.14000000000000001,2.9,6.5,8.3999999999999995E-3,"手散布"]
[null,"散布による暴露なし",0,0,0,0,"手散布"]
[null,"「殺虫剤あるいは殺菌剤」かつ「液剤_野菜（平面）、果樹（立体）、果樹（棚）」の場合は、以下が追加計算される。"]
[null,"液剤_水稲",0.45,5.2,0.5,2.5999999999999999E-2,"機械散布","※数値は平面野菜機械散布"]
[null,"液剤_野菜（平面）",0.45,5.2,0.5,2.5999999999999999E-2,"機械散布"]
[null,"液剤_果樹（立体）",14,92,6.4,1.0999999999999999E-2,"機械散布"]
[null,"液剤_果樹（棚）",27,150,17,0.14000000000000001,"機械散布"]

{"sheet":"平均面積","index":19,"n_rows":24,"n_cols":4,"rows_kept":24,"cut":false,"hidden":false,"merged":[[0,0,2,0],[0,1,0,3],[1,1,1,2]]}
["１日平均作業面積","経営体あたりの作付面積（a）"]
[null,"⑫で液剤_水稲、野菜（平面）、果樹（立体）、果樹（棚）を選択した場合",null,"左以外の場合"]
[null,"（手散布）","（機械散布）","（手散布）"]
["稲",460,460,460]
["麦類",640,1800,1800]
["その他穀類",50,370,370]
["いも類",40,560,560]
["鱗茎野菜",6,80,80]
["だいず、あずき",110,720,720]
["豆類（だいず、あずきを除く）",28,330,330]
["うり科果菜類",10,60,60]
["なす科果菜類",5,31,31]
["葉菜類",15,100,100]
["根菜類",5,100,100]
["あぶらな属野菜（葉菜類、根菜類を除く）",5,82,82]
["その他野菜",39,200,200]
["かんきつ類",75,200,200]
["仁果類（なしを除く）",98,230,230]
["なし",70,160,160]
["核果類",40,94,94]
["ベリー類等の小粒果実類",50,120,120]
["その他果樹",26,72,72]
["樹木類",30,50,30]
["芝",40,40,40]

{"sheet":"作物分類","index":20,"n_rows":974,"n_cols":5,"rows_kept":974,"cut":false,"hidden":true,"merged":[]}
["作物名",null,null,"1日標準作業面積","1日平均作業面積"]
["アーティチョーク",null,null,"野菜（平面）","その他野菜"]
["アーモンド",null,null,"果樹（立体）","その他果樹"]
["アイスプラント",null,null,"野菜（平面）","葉菜類"]
["アイスランドポピー",null,null,"野菜（平面）","その他野菜"]
["アイビーゼラニウム",null,null,"野菜（平面）","その他野菜"]
["アイリス",null,null,"野菜（平面）","その他野菜"]
["あおき",null,null,"果樹（立体）"]
["あかがし",null,null,"果樹（立体）"]
["アカシア",null,null,"果樹（立体）"]
["アガパンサス",null,null,"野菜（平面）","その他野菜"]
["あかまつ",null,null,"果樹（立体）"]
["あけび",null,null,"果樹（立体）","その他果樹"]
["アゲラタム",null,null,"野菜（平面）","その他野菜"]
["あさがお",null,null,"野菜（平面）","その他野菜"]
["あさつき",null,null,"野菜（平面）","鱗茎野菜"]
["あざみ",null,null,"野菜（平面）","その他野菜"]
["あざみな",null,null,"野菜（平面）","葉菜類"]
["アザレア",null,null,"果樹（立体）"]
["アジアンタム",null,null,"野菜（平面）","その他野菜"]
["あじさい",null,null,"果樹（立体）"]
["あしたば",null,null,"野菜（平面）","葉菜類"]
["あじみな",null,null,"野菜（平面）","葉菜類"]
["アジュガ",null,null,"野菜（平面）","その他野菜"]
["あずき",null,null,"野菜（平面）","だいず、あずき"]
["アスター",null,null,"野菜（平面）","その他野菜"]
["アスチルベ",null,null,"野菜（平面）","その他野菜"]
["あすっこ",null,null,"野菜（平面）","その他野菜"]
["アスパラガス",null,null,"野菜（平面）","その他野菜"]
["アセロラ",null,null,"果樹（立体）","その他果樹"]
["アッサムニオイザクラ",null,null,"果樹（立体）"]
["アッツザクラ",null,null,"野菜（平面）","その他野菜"]
["アテモヤ",null,null,"果樹（立体）","その他果樹"]
["アナナス",null,null,"野菜（平面）","その他野菜"]
["アネモネ",null,null,"野菜（平面）","その他野菜"]
["アフェランドラ",null,null,"果樹（立体）"]
["あぶらな",null,null,"野菜（平面）","葉菜類"]
["あぶらな科茎野菜",null,null,"野菜（平面）","葉菜類"]
["あぶらな科野菜",null,null,"野菜（平面）","葉菜類"]
["あべまき",null,null,"果樹（立体）"]
["アベリア",null,null,"果樹（立体）"]
["アボカド",null,null,"果樹（立体）","その他果樹"]
["あま",null,null,"野菜（平面）","その他野菜"]
["アマゾンリリー",null,null,"野菜（平面）","その他野菜"]
["あまちゃ",null,null,"野菜（平面）","その他野菜"]
["アマドコロ",null,null,"野菜（平面）","その他野菜"]
["アマランサス",null,null,"野菜（平面）","その他穀類"]
["アメリカフウ",null,null,"果樹（立体）"]
["アメリカホドイモ",null,null,"野菜（平面）","いも類"]
["アメリカンブルー",null,null,"野菜（平面）","その他野菜"]
["あらかし",null,null,"果樹（立体）"]
["アラレア",null,null,"果樹（立体）"]
["アリウム",null,null,"野菜（平面）","その他野菜"]
["アルストロメリア",null,null,"野菜（平面）","その他野菜"]
["アレカヤシ",null,null,"果樹（立体）"]
["アロエ",null,null,"野菜（平面）","その他野菜"]
["アロニア",null,null,"果樹（立体）","ベリー類等の小粒果実類"]
["あわ",null,null,"野菜（平面）","その他穀類"]
["アンコール",null,null,"果樹（立体）","かんきつ類"]
["あんず",null,null,"果樹（立体）","核果類"]
["アンスリウム",null,null,"野菜（平面）","その他野菜"]
["いぐさ",null,null,"野菜（平面）","その他野菜"]
["いたどり",null,null,"野菜（平面）","その他野菜"]
["イチイ",null,null,"果樹（立体）"]
["いちい",null,null,"果樹（立体）"]
["いちご",null,null,"野菜（平面）","その他野菜"]
["いちじく",null,null,"果樹（立体）","その他果樹"]
["いちょう",null,null,"果樹（立体）"]
["いぬつげ",null,null,"果樹（立体）"]
["いぬまき",null,null,"果樹（立体）"]
["イネ科雑穀類",null,null,"野菜（平面）","その他穀類"]
["いね科牧草",null,null,"野菜（平面）","その他野菜"]
["いも類",null,null,"野菜（平面）","いも類"]
["いんげんまめ",null,null,"野菜（平面）","豆類（だいず、あずきを除く）"]
["いんちんこう",null,null,"野菜（平面）","その他野菜"]
["インパチェンス",null,null,"野菜（平面）","その他野菜"]
["うこぎ",null,null,"野菜（平面）","葉菜類"]
["うこん",null,null,"野菜（平面）","根菜類"]
["うすばさいしん",null,null,"野菜（平面）","その他野菜"]
["うつぼかずら",null,null,"野菜（平面）","その他野菜"]
["うど",null,null,"野菜（平面）","その他野菜"]
["うばめがし",null,null,"果樹（立体）"]
["うめ",null,null,"果樹（立体）","核果類"]
["うめもどき",null,null,"果樹（立体）"]
["うらじろがし",null,null,"果樹（立体）"]
["うり科野菜",null,null,"野菜（立体）","うり科果菜類"]
["うり科野菜類",null,null,"野菜（立体）","うり科果菜類"]
["うり類",null,null,"野菜（立体）","うり科果菜類"]
["うるし",null,null,"果樹（立体）"]
["鱗茎類",null,null,"野菜（平面）","鱗茎野菜"]
["エキザカム",null,null,"野菜（平面）","その他野菜"]
["えごま",null,null,"野菜（平面）","その他野菜"]
["えぞまつ",null,null,"果樹（立体）"]
["えだまめ",null,null,"野菜（平面）","豆類（だいず、あずきを除く）"]
["えのきたけ",null,null,"野菜（平面）","その他野菜"]
["えびすぐさ",null,null,"野菜（平面）","その他野菜"]
["エリカ",null,null,"果樹（立体）"]
["エリンギ",null,null,"野菜（平面）","その他野菜"]
["エレムルス",null,null,"野菜（平面）","その他野菜"]
["エンサイ",null,null,"野菜（平面）","葉菜類"]
["エンダイブ",null,null,"野菜（平面）","葉菜類"]
["えんどうまめ",null,null,"野菜（平面）","豆類（だいず、あずきを除く）"]
["えんばく",null,null,"野菜（平面）","麦類"]
["おうぎ",null,null,"野菜（平面）","その他野菜"]
["おうごん",null,null,"野菜（平面）","その他野菜"]
["おうごんくじゃくひば",null,null,"果樹（立体）"]
["おうとう",null,null,"果樹（立体）","核果類"]
["おうれん",null,null,"野菜（平面）","その他野菜"]
["おおさきな",null,null,"野菜（平面）","葉菜類"]
["オータムポエム",null,null,"野菜（平面）","葉菜類"]
["おおむらさき",null,null,"果樹（立体）"]
["おかのり",null,null,"野菜（平面）","葉菜類"]
["おかひじき",null,null,"野菜（平面）","葉菜類"]
["おかめざさ",null,null,"野菜（平面）","その他野菜"]
["オクラ",null,null,"野菜（平面）","その他野菜"]
["おけら",null,null,"野菜（平面）","その他野菜"]
["オドントグロッサム",null,null,"野菜（平面）","その他野菜"]
["おみなえし",null,null,"野菜（平面）","その他野菜"]
["おもと",null,null,"野菜（平面）","その他野菜"]
["おらんだわれもこう",null,null,"野菜（平面）","葉菜類"]
["オリーブ",null,null,"果樹（立体）","その他果樹"]
["オレガノ",null,null,"野菜（平面）","葉菜類"]
["オレンジ",null,null,"果樹（立体）","かんきつ類"]
["オンシジウム",null,null,"野菜（平面）","その他野菜"]
["ガーデンハックルベリー",null,null,"野菜（平面）","その他野菜"]
["カーネーション",null,null,"野菜（平面）","その他野菜"]
["カーブチー",null,null,"果樹（立体）","かんきつ類"]
["ガーベラ",null,null,"野菜（平面）","その他野菜"]
["カーボロネロ",null,null,"野菜（平面）","葉菜類"]
["かいづかいぶき",null,null,"果樹（立体）"]
["かえで",null,null,"果樹（立体）"]
["かえんさい",null,null,"野菜（平面）","根菜類"]
["かき",null,null,"果樹（立体）","その他果樹"]
["かぐらなんばん",null,null,"野菜（立体）","なす科果菜類"]
["かくれみの",null,null,"果樹（立体）"]
["ガザニア",null,null,"野菜（平面）","その他野菜"]
["かし",null,null,"果樹（立体）"]
["ガジュマル",null,null,"果樹（立体）"]
["かしわ",null,null,"果樹（立体）"]
["かし類",null,null,"果樹（立体）"]
["かすみそう",null,null,"野菜（平面）","その他野菜"]
["カトレア",null,null,"野菜（平面）","その他野菜"]
["かなめもち",null,null,"果樹（立体）"]
["カニステル",null,null,"果樹（立体）","その他果樹"]
["かのこそう",null,null,"野菜（平面）","根菜類"]
["かばのき",null,null,"果樹（立体）"]
["かぶ",null,null,"野菜（平面）","根菜類"]
["かぶな",null,null,"野菜（平面）","葉菜類"]
["かほくな",null,null,"野菜（平面）","葉菜類"]
["かぼす",null,null,"果樹（立体）","かんきつ類"]
["かぼちゃ",null,null,"野菜（立体）","うり科果菜類"]
["がまずみ",null,null,"果樹（立体）","ベリー類等の小粒果実類"]
["カモミール",null,null,"野菜（平面）","その他野菜"]
["カラ",null,null,"果樹（立体）","かんきつ類"]
["カラー",null,null,"野菜（平面）","その他野菜"]
["カラジウム",null,null,"野菜（平面）","その他野菜"]
["からしな",null,null,"野菜（平面）","葉菜類"]
["からまつ",null,null,"果樹（立体）"]
["カランコエ",null,null,"野菜（平面）","その他野菜"]
["カリフラワー",null,null,"野菜（平面）","あぶらな属野菜（葉菜類、根菜類を除く）"]
["かりん",null,null,"果樹（立体）","仁果類（なしを除く）"]
["カルセオラリア",null,null,"野菜（平面）","その他野菜"]
["カレープラント",null,null,"野菜（平面）","葉菜類"]
["カロライナジャスミン",null,null,"果樹（立体）"]
["かわらけつめい",null,null,"野菜（平面）","葉菜類"]
["カンガルーポー",null,null,"野菜（平面）","その他野菜"]
["かんきつ",null,null,"果樹（立体）","かんきつ類"]
["かんしょ",null,null,"野菜（平面）","いも類"]
["かんぞう",null,null,"野菜（平面）","その他野菜"]
["かんのんちく",null,null,"果樹（立体）"]
["かんば",null,null,"果樹（立体）"]
["カンパニュラ",null,null,"野菜（平面）","その他野菜"]
["キウイフルーツ",null,null,"果樹（棚）","その他果樹"]
["ききょう",null,null,"野菜（平面）","その他野菜"]
["きく",null,null,"野菜（平面）","その他野菜"]
["きくいも",null,null,"野菜（平面）","いも類"]
["きだちとうがらし",null,null,"野菜（立体）","なす科果菜類"]
["きづた",null,null,"果樹（立体）"]
["キノア",null,null,"野菜（平面）","その他穀類"]
["きのこ類",null,null,"野菜（平面）","その他野菜"]
["きび",null,null,"野菜（平面）","その他穀類"]
["ぎぼうし",null,null,"野菜（平面）","その他野菜"]
["キャベツ",null,null,"野菜（平面）","葉菜類"]
["キャラウエイ",null,null,"野菜（平面）","その他野菜"]
["きゅうり",null,null,"野菜（立体）","うり科果菜類"]
["ぎょうじゃにんにく",null,null,"野菜（平面）","鱗茎野菜"]
["きり",null,null,"果樹（立体）"]
["きんかん",null,null,"果樹（立体）","かんきつ類"]
["きんさい",null,null,"野菜（平面）","葉菜類"]
["きんせんか",null,null,"野菜（平面）","その他野菜"]
["きんぽうじゅ",null,null,"果樹（立体）"]
["グアバ",null,null,"果樹（立体）","その他果樹"]
["くきちしゃ",null,null,"野菜（平面）","その他野菜"]
["くこ",null,null,"野菜（平面）","その他野菜"]
["くさそてつ",null,null,"野菜（平面）","その他野菜"]
["くちなし",null,null,"果樹（立体）"]
["くぬぎ",null,null,"果樹（立体）"]
["ぐみ",null,null,"果樹（立体）","ベリー類等の小粒果実類"]
["グラジオラス",null,null,"野菜（平面）","その他野菜"]
["くり",null,null,"果樹（立体）","その他果樹"]
["クリサンセマム",null,null,"野菜（平面）","その他野菜"]
["クリスマスローズ",null,null,"野菜（平面）","その他野菜"]
["クルクマ",null,null,"野菜（平面）","その他野菜"]
["くるみ",null,null,"果樹（立体）","その他果樹"]
["くるめつつじ",null,null,"果樹（立体）"]
["グレープフルーツ",null,null,"果樹（立体）","かんきつ類"]
["クレソン",null,null,"野菜（平面）","その他野菜"]
["クレマチス",null,null,"野菜（平面）","その他野菜"]
["グロキシニア",null,null,"野菜（平面）","その他野菜"]
["クロサンドラ",null,null,"果樹（立体）"]
["クロッカス",null,null,"野菜（平面）","その他野菜"]
["クロトン",null,null,"果樹（立体）"]
["くろまつ",null,null,"果樹（立体）"]
["グロリオサ",null,null,"野菜（平面）","その他野菜"]
["くわい",null,null,"野菜（平面）","その他野菜"]
["けいとう",null,null,"野菜（平面）","その他野菜"]
["ケール",null,null,"野菜（平面）","葉菜類"]
["ケールッコラ",null,null,"野菜（平面）","葉菜類"]
["げっきつ",null,null,"果樹（立体）"]
["結球あぶらな科葉菜類",null,null,"野菜（平面）","葉菜類"]
["げっけいじゅ",null,null,"果樹（立体）"]
["げっとう",null,null,"野菜（平面）","その他野菜"]
["ケナフ",null,null,"野菜（平面）","その他野菜"]
["けやき",null,null,"果樹（立体）"]
["ケンチャヤシ",null,null,"果樹（立体）"]
["げんのしょうこ",null,null,"野菜（平面）","その他野菜"]
["こうぞ",null,null,"果樹（立体）"]
["こうやまき",null,null,"果樹（立体）"]
["こおにたびらこ",null,null,"野菜（平面）","葉菜類"]
["ゴールデンクラッカー",null,null,"野菜（平面）","その他野菜"]
["ゴールドクレスト",null,null,"果樹（立体）"]
["コールラビ",null,null,"野菜（平面）","あぶらな属野菜（葉菜類、根菜類を除く）"]
["こがねばな",null,null,"野菜（平面）","その他野菜"]
["穀類",null,null,"野菜（平面）","麦類"]
["コスモス",null,null,"野菜（平面）","その他野菜"]
["こちょうらん",null,null,"野菜（平面）","その他野菜"]
["ゴデチア",null,null,"野菜（平面）","その他野菜"]
["こでまり",null,null,"果樹（立体）"]
["コトネアスター",null,null,"果樹（立体）"]
["こなら",null,null,"果樹（立体）"]
["ごぼう",null,null,"野菜（平面）","根菜類"]
["ごま",null,null,"野菜（平面）","その他野菜"]
["こまつな",null,null,"野菜（平面）","葉菜類"]
["ゴムノキ",null,null,"果樹（立体）"]
["ごようまつ",null,null,"果樹（立体）"]
["コリアンダー",null,null,"野菜（平面）","その他野菜"]
["コリウス",null,null,"野菜（平面）","その他野菜"]
["コルディリネ",null,null,"果樹（立体）"]
["コレオプシス",null,null,"野菜（平面）","その他野菜"]
["ゴレンシ",null,null,"果樹（立体）","その他果樹"]
["根菜類",null,null,"野菜（平面）","その他野菜"]
["こんにゃく",null,null,"野菜（平面）","いも類"]
["コンロンカ",null,null,"果樹（立体）"]
["ザーサイ",null,null,"野菜（平面）","葉菜類"]
["さかき",null,null,"果樹（立体）"]
["サガマンダリン",null,null,"果樹（立体）","かんきつ類"]
["さがみグリーン",null,null,"野菜（平面）","葉菜類"]
["さくら",null,null,"果樹（立体）"]
["さくらそう",null,null,"野菜（平面）","その他野菜"]
["ざくろ",null,null,"果樹（立体）","その他果樹"]
["ささげ",null,null,"野菜（平面）","豆類（だいず、あずきを除く）"]
["さざんか",null,null,"果樹（立体）"]
["さつき",null,null,"果樹（立体）"]
["さといも",null,null,"野菜（平面）","いも類"]
["さとうきび",null,null,"野菜（平面）","その他野菜"]
["さぬきな",null,null,"野菜（平面）","葉菜類"]
["サフラン",null,null,"野菜（平面）","その他野菜"]
["サポジラ",null,null,"果樹（立体）","その他果樹"]
["サポナリア",null,null,"野菜（平面）","その他野菜"]
["サマーフレッシュ",null,null,"果樹（立体）","かんきつ類"]
["さやいんげん",null,null,"野菜（平面）","豆類（だいず、あずきを除く）"]
["さやえんどう",null,null,"野菜（平面）","豆類（だいず、あずきを除く）"]
["サラダ菜",null,null,"野菜（平面）","葉菜類"]
["さるすべり",null,null,"果樹（立体）"]
["さるなし",null,null,"果樹（立体）","その他果樹"]
["サルビア",null,null,"野菜（平面）","その他野菜"]
["さわあざみ",null,null,"野菜（平面）","葉菜類"]
["さわぎきょう",null,null,"野菜（平面）","その他野菜"]
["さんごじゅ",null,null,"果樹（立体）"]
["さんごみずき",null,null,"果樹（立体）"]
["さんざし",null,null,"果樹（立体）"]
["さんしゅゆ",null,null,"果樹（立体）"]
["さんしょう",null,null,"果樹（立体）","その他果樹"]
["サンセベリア",null,null,"野菜（平面）","その他野菜"]
["サンダーソニア",null,null,"野菜（平面）","その他野菜"]
["さんたんか",null,null,"果樹（立体）"]
["さんとうさい",null,null,"野菜（平面）","葉菜類"]
["シークヮーサー",null,null,"果樹（立体）","かんきつ類"]
["しいたけ",null,null,"野菜（平面）","その他野菜"]
["シーベリー",null,null,"果樹（立体）","ベリー類等の小粒果実類"]
["シーマニア",null,null,"野菜（平面）","その他野菜"]
["しい類",null,null,"果樹（立体）"]
["シェフレラ",null,null,"果樹（立体）"]
["じおう",null,null,"野菜（平面）","その他野菜"]
["しきみ",null,null,"果樹（立体）"]
["シクラメン",null,null,"野菜（平面）","その他野菜"]
["ししとう",null,null,"野菜（立体）","なす科果菜類"]
["しそ",null,null,"野菜（平面）","葉菜類"]
["しそ科葉菜類",null,null,"野菜（平面）","その他野菜"]
["しちとうい",null,null,"野菜（平面）","その他野菜"]
["シネラリア",null,null,"野菜（平面）","その他野菜"]
["しばざくら",null,null,"野菜（平面）","その他野菜"]
["ジャカランダ",null,null,"果樹（立体）"]
["しゃくなげ",null,null,"果樹（立体）"]
["しゃくやく",null,null,"野菜（平面）","その他野菜"]
["ジャスミナム・ポリアンサ",null,null,"果樹（立体）"]
["じゃばら",null,null,"果樹（立体）","かんきつ類"]
["ジャボチカバ",null,null,"果樹（立体）","その他果樹"]
["しゃりんばい",null,null,"果樹（立体）"]
["しゅうめいぎく",null,null,"野菜（平面）","その他野菜"]
["シュロ",null,null,"果樹（立体）"]
["シュロチク",null,null,"果樹（立体）"]
["しゅんぎく",null,null,"野菜（平面）","葉菜類"]
["じゅんさい",null,null,"野菜（平面）","その他野菜"]
["しょうが",null,null,"野菜（平面）","根菜類"]
["食用おやまぼくち",null,null,"野菜（平面）","その他野菜"]
["食用花",null,null,"野菜（平面）","その他野菜"]
["食用ペンタス",null,null,"野菜（平面）","その他野菜"]
["しょくようほおずき",null,null,"野菜（立体）","なす科果菜類"]
["しらかし",null,null,"果樹（立体）"]
["しらん",null,null,"野菜（平面）","その他野菜"]
["しろうり",null,null,"野菜（立体）","うり科果菜類"]
["しろな",null,null,"野菜（平面）","葉菜類"]
["じんちょうげ",null,null,"果樹（立体）"]
["シンビジウム",null,null,"野菜（平面）","その他野菜"]
["シンフォリカルポス",null,null,"果樹（立体）"]
["すいか",null,null,"野菜（立体）","うり科果菜類"]
["すいかの接木用のゆうがお",null,null,"野菜（立体）","うり科果菜類"]
["ずいき類",null,null,"野菜（平面）","いも類"]
["すいせん",null,null,"野菜（平面）","その他野菜"]
["すいぜんじな",null,null,"野菜（平面）","葉菜類"]
["スイトピー",null,null,"野菜（平面）","その他野菜"]
["すぎ",null,null,"果樹（立体）"]
["すぐり",null,null,"果樹（立体）","ベリー類等の小粒果実類"]
["すずらん",null,null,"野菜（平面）","その他野菜"]
["スターチス",null,null,"野菜（平面）","その他野菜"]
["すだじい",null,null,"果樹（立体）"]
["すだち",null,null,"果樹（立体）","かんきつ類"]
["ズッキーニ",null,null,"野菜（立体）","うり科果菜類"]
["ストック",null,null,"野菜（平面）","その他野菜"]
["ストレプトカーパス",null,null,"野菜（平面）","その他野菜"]
["ストレリチア",null,null,"野菜（平面）","その他野菜"]
["ストロベリーグアバ",null,null,"果樹（立体）","その他果樹"]
["すなごけ",null,null,"野菜（平面）","その他野菜"]
["スパティフィラム",null,null,"野菜（平面）","その他野菜"]
["スピードリオン",null,null,"野菜（平面）","その他野菜"]
["すみれ",null,null,"野菜（平面）","その他野菜"]
["すもも",null,null,"果樹（立体）","核果類"]
["せいよういわなんてん",null,null,"果樹（立体）"]
["せいようきんしばい",null,null,"果樹（立体）"]
["せいようばくちのき",null,null,"果樹（立体）"]
["セージ",null,null,"野菜（平面）","葉菜類"]
["せとか",null,null,"果樹（立体）","かんきつ類"]
["セネガ",null,null,"野菜（平面）","その他野菜"]
["セミノール",null,null,"果樹（立体）","かんきつ類"]
["ゼラニウム",null,null,"野菜（平面）","その他野菜"]
["せり",null,null,"野菜（平面）","葉菜類"]
["せり科葉菜類",null,null,"野菜（平面）","その他野菜"]
["セルリアック",null,null,"野菜（平面）","根菜類"]
["セルリー",null,null,"野菜（平面）","葉菜類"]
["せんきゅう",null,null,"野菜（平面）","その他野菜"]
["千宝菜",null,null,"野菜（平面）","葉菜類"]
["センチピードグラス",null,null,"野菜（平面）","その他野菜"]
["セントポーリア",null,null,"野菜（平面）","その他野菜"]
["せんにちこう",null,null,"野菜（平面）","その他野菜"]
["せんぶり",null,null,"野菜（平面）","その他野菜"]
["ぜんまい",null,null,"野菜（平面）","その他野菜"]
["せんりょう",null,null,"果樹（立体）"]
["ソテツ",null,null,"果樹（立体）"]
["そてつ",null,null,"果樹（立体）"]
["そば",null,null,"野菜（平面）","その他穀類"]
["そらまめ",null,null,"野菜（平面）","豆類（だいず、あずきを除く）"]
["ソリダゴ",null,null,"野菜（平面）","その他野菜"]
["ソリダスター",null,null,"野菜（平面）","その他野菜"]
["ソルガム",null,null,"野菜（平面）","その他野菜"]
["タアサイ",null,null,"野菜（平面）","葉菜類"]
["だいおう",null,null,"野菜（平面）","その他野菜"]
["だいおうしょう",null,null,"果樹（立体）"]
["だいこん",null,null,"野菜（平面）","根菜類"]
["たいさい",null,null,"野菜（平面）","葉菜類"]
["だいず",null,null,"野菜（平面）","だいず、あずき"]
["タイム",null,null,"野菜（平面）","葉菜類"]
["だいもんじそう",null,null,"野菜（平面）","その他野菜"]
["たかな",null,null,"野菜（平面）","葉菜類"]
["たけのこ",null,null,"野菜（平面）","その他野菜"]
["たであい",null,null,"野菜（平面）","その他野菜"]
["たにわたり",null,null,"野菜（平面）","その他野菜"]
["たばこ",null,null,"野菜（平面）","その他野菜"]
["たまねぎ",null,null,"野菜（平面）","鱗茎野菜"]
["タラゴン",null,null,"野菜（平面）","葉菜類"]
["たらのき",null,null,"野菜（平面）","その他野菜"]
["ダリア",null,null,"野菜（平面）","その他野菜"]
["タロガヨ",null,null,"果樹（立体）","かんきつ類"]
["たんかん",null,null,"果樹（立体）","かんきつ類"]
["チェリモヤ",null,null,"果樹（立体）","その他果樹"]
["チコリ",null,null,"野菜（平面）","その他野菜"]
["チャービル",null,null,"野菜（平面）","葉菜類"]
["チャイブ",null,null,"野菜（平面）","鱗茎野菜"]
["チューベローズ",null,null,"野菜（平面）","その他野菜"]
["チューリップ",null,null,"野菜（平面）","その他野菜"]
["ちょうせんまき",null,null,"果樹（立体）"]
["ちょろぎ",null,null,"野菜（平面）","いも類"]
["チンゲンサイ",null,null,"野菜（平面）","葉菜類"]
["チンゲンルッコラ",null,null,"野菜（平面）","葉菜類"]
["つげ",null,null,"果樹（立体）"]
["つつじ類",null,null,"果樹（立体）"]
["つばき類",null,null,"果樹（立体）"]
["つぶらじい",null,null,"果樹（立体）"]
["つぼみな",null,null,"野菜（平面）","その他野菜"]
["つるな",null,null,"野菜（平面）","葉菜類"]
["つるむらさき",null,null,"野菜（平面）","葉菜類"]
["つる日々草",null,null,"野菜（平面）","その他野菜"]
["つわぶき",null,null,"野菜（平面）","その他野菜"]
["デイゴ",null,null,"果樹（立体）"]
["ディサ",null,null,"野菜（平面）","その他野菜"]
["ディフェンバキア",null,null,"野菜（平面）","その他野菜"]
["ディモルホセカ",null,null,"野菜（平面）","その他野菜"]
["ディル",null,null,"野菜（平面）","葉菜類"]
["デージー",null,null,"野菜（平面）","その他野菜"]
["テーブルヤシ",null,null,"果樹（立体）"]
["てごろ菜",null,null,"野菜（平面）","葉菜類"]
["てっぽうゆり",null,null,"野菜（平面）","その他野菜"]
["デュランタ",null,null,"果樹（立体）"]
["デルフィニウム",null,null,"野菜（平面）","その他野菜"]
["てんさい",null,null,"野菜（平面）","根菜類"]
["デンドロビウム",null,null,"野菜（平面）","その他野菜"]
["デンマークカクタス",null,null,"野菜（平面）","その他野菜"]
["とうかえで",null,null,"果樹（立体）"]
["とうがらし",null,null,"野菜（立体）","なす科果菜類"]
["とうがらし類",null,null,"野菜（立体）","なす科果菜類"]
["とうがん",null,null,"野菜（立体）","うり科果菜類"]
["とうき",null,null,"野菜（平面）","その他野菜"]
["とうすけぼうふう",null,null,"野菜（平面）","その他野菜"]
["どうだんつつじ",null,null,"果樹（立体）"]
["とうつばき",null,null,"果樹（立体）"]
["とうもろこし",null,null,"野菜（平面）","その他穀類"]
["どくだみ",null,null,"野菜（平面）","葉菜類"]
["とちのき",null,null,"果樹（立体）"]
["とちゅう",null,null,"野菜（平面）","その他野菜"]
["とっくりらん",null,null,"果樹（立体）"]
["とどまつ",null,null,"果樹（立体）"]
["とべら",null,null,"果樹（立体）"]
["トマト",null,null,"野菜（立体）","なす科果菜類"]
["ドラセナ",null,null,"果樹（立体）"]
["とりかぶと",null,null,"野菜（平面）","その他野菜"]
["トルコギキョウ",null,null,"野菜（平面）","その他野菜"]
["トレニア",null,null,"野菜（平面）","その他野菜"]
["トレビス",null,null,"野菜（平面）","葉菜類"]
["なし",null,null,"果樹（棚）","なし"]
["なす",null,null,"野菜（立体）","なす科果菜類"]
["なす科果菜類",null,null,"野菜（立体）","なす科果菜類"]
["ナスタチウム",null,null,"野菜（平面）","その他野菜"]
["なずな",null,null,"野菜（平面）","葉菜類"]
["なす科野菜",null,null,"野菜（立体）","なす科果菜類"]
["なたね",null,null,"野菜（平面）","その他野菜"]
["なたまめ",null,null,"野菜（平面）","豆類（だいず、あずきを除く）"]
["なつみかん",null,null,"果樹（立体）","かんきつ類"]
["なつめ",null,null,"果樹（立体）","その他果樹"]
["ナツメヤシ",null,null,"果樹（立体）"]
["なでしこ",null,null,"野菜（平面）","その他野菜"]
["ななかまど",null,null,"果樹（立体）"]
["なばな",null,null,"野菜（平面）","葉菜類"]
["なばな類",null,null,"野菜（平面）","葉菜類"]
["なめこ",null,null,"野菜（平面）","その他野菜"]
["なら類",null,null,"果樹（立体）"]
["なんてん",null,null,"果樹（立体）"]
["ニーレンベルギア",null,null,"野菜（平面）","その他野菜"]
["にがうり",null,null,"野菜（立体）","うり科果菜類"]
["ニゲラ",null,null,"野菜（平面）","その他野菜"]
["にしきぎ",null,null,"果樹（立体）"]
["にら",null,null,"野菜（平面）","鱗茎野菜"]
["にれ",null,null,"果樹（立体）"]
["にんじん",null,null,"野菜（平面）","根菜類"]
["にんにく",null,null,"野菜（平面）","鱗茎野菜"]
["ネーブル",null,null,"果樹（立体）","かんきつ類"]
["ねぎ",null,null,"野菜（平面）","鱗茎野菜"]
["ねぎ類",null,null,"野菜（平面）","鱗茎野菜"]
["ネクタリン",null,null,"果樹（立体）","核果類"]
["ネモフィラ",null,null,"野菜（平面）","その他野菜"]
["のうぜんかずら",null,null,"果樹（立体）"]
["のざわな",null,null,"野菜（平面）","葉菜類"]
["のびる",null,null,"野菜（平面）","鱗茎野菜"]
["のぼたん",null,null,"果樹（立体）"]
["ノラナ",null,null,"野菜（平面）","その他野菜"]
["バーベナ",null,null,"野菜（平面）","その他野菜"]
["ハイドランジア",null,null,"果樹（立体）"]
["パイナップル",null,null,"果樹（立体）","その他果樹"]
["ハイビスカス",null,null,"果樹（立体）"]
["はいびゃくしん",null,null,"果樹（立体）"]
["パキラ",null,null,"果樹（立体）"]
["はくさい",null,null,"野菜（平面）","葉菜類"]
["パクチョイ",null,null,"野菜（平面）","葉菜類"]
["はげいとう",null,null,"野菜（平面）","その他野菜"]
["バコパ",null,null,"野菜（平面）","その他野菜"]
["はこべ",null,null,"野菜（平面）","葉菜類"]
["バジル",null,null,"野菜（平面）","葉菜類"]
["はすいも",null,null,"野菜（平面）","いも類"]
["ハスカップ",null,null,"果樹（立体）","ベリー類等の小粒果実類"]
["パセリ",null,null,"野菜（平面）","葉菜類"]
["はっか",null,null,"野菜（平面）","葉菜類"]
["はつかだいこん",null,null,"野菜（平面）","根菜類"]
["はっさく",null,null,"果樹（立体）","かんきつ類"]
["パッションフルーツ",null,null,"果樹（立体）","その他果樹"]
["はとむぎ",null,null,"野菜（平面）","その他穀類"]
["はなしょうぶ",null,null,"野菜（平面）","その他野菜"]
["はなっこりー",null,null,"野菜（平面）","葉菜類"]
["はなとりかぶと",null,null,"野菜（平面）","その他野菜"]
["バナナ",null,null,"果樹（立体）","その他果樹"]
["はなびしそう",null,null,"野菜（平面）","その他野菜"]
["はなみずき",null,null,"果樹（立体）"]
["はなやさい類",null,null,"野菜（平面）","あぶらな属野菜（葉菜類、根菜類を除く）"]
["バニラ",null,null,"野菜（平面）","その他野菜"]
["パパイヤ",null,null,"果樹（立体）","その他果樹"]
["ははこぐさ",null,null,"野菜（平面）","葉菜類"]
["ハバネロ",null,null,"野菜（立体）","なす科果菜類"]
["はぶそう",null,null,"野菜（平面）","その他野菜"]
["はぼたん",null,null,"野菜（平面）","その他野菜"]
["はまぼうふう",null,null,"野菜（平面）","葉菜類"]
["はやとうり",null,null,"野菜（立体）","うり科果菜類"]
["ばら",null,null,"野菜（平面）","その他野菜"]
["はるか",null,null,"果樹（立体）","かんきつ類"]
["はるみ",null,null,"果樹（立体）","かんきつ類"]
["ばれいしょ",null,null,"野菜（平面）","いも類"]
["はれひめ",null,null,"果樹（立体）","かんきつ類"]
["パンジー",null,null,"野菜（平面）","その他野菜"]
["バンジロウ",null,null,"果樹（立体）","その他果樹"]
["バンダ",null,null,"野菜（平面）","その他野菜"]
["バンレイシ",null,null,"果樹（立体）","その他果樹"]
["ピーマン",null,null,"野菜（立体）","なす科果菜類"]
["ピーマン及びとうがらし類",null,null,"野菜（立体）","なす科果菜類"]
["ひいらぎなんてん",null,null,"果樹（立体）"]
["ひいらぎもくせい",null,null,"果樹（立体）"]
["ひえ",null,null,"野菜（平面）","その他穀類"]
["ひおうぎ",null,null,"野菜（平面）","その他野菜"]
["ピカンテ",null,null,"野菜（立体）","なす科果菜類"]
["ひきおこし",null,null,"野菜（平面）","その他野菜"]
["非結球はくさい",null,null,"野菜（平面）","葉菜類"]
["非結球レタス",null,null,"野菜（平面）","葉菜類"]
["ひこしまはるな",null,null,"野菜（平面）","葉菜類"]
["ひさかき",null,null,"果樹（立体）"]
["ひし",null,null,"野菜（平面）","その他野菜"]
["ピタヤ",null,null,"果樹（立体）","その他果樹"]
["ピタンガ",null,null,"果樹（立体）","その他果樹"]
["ひのき",null,null,"果樹（立体）"]
["ひば",null,null,"果樹（立体）"]
["ビブルナム",null,null,"果樹（立体）"]
["ヒペリカム",null,null,"果樹（立体）"]
["ヒポエステス",null,null,"野菜（平面）","その他野菜"]
["ヒマラヤシーダ",null,null,"果樹（立体）"]
["ヒマラヤスギ",null,null,"果樹（立体）"]
["ひまわり",null,null,"野菜（平面）","その他野菜"]
["ひめのぼたん",null,null,"野菜（平面）","その他野菜"]
["ひめひまわり",null,null,"野菜（平面）","その他野菜"]
["びゃくし",null,null,"野菜（平面）","その他野菜"]
["びゃくしん",null,null,"果樹（立体）"]
["びゃくしん類",null,null,"果樹（立体）"]
["ヒヤシンス",null,null,"野菜（平面）","その他野菜"]
["ヒユ科雑穀類",null,null,"野菜（平面）","その他穀類"]
["ヒユ科葉菜類",null,null,"野菜（平面）","その他野菜"]
["ひらたけ",null,null,"野菜（平面）","その他野菜"]
["ひろしまな",null,null,"野菜（平面）","葉菜類"]
["びわ",null,null,"果樹（立体）","仁果類（なしを除く）"]
["フィカス・プミラ",null,null,"野菜（平面）","その他野菜"]
["フィロデンドロン",null,null,"野菜（平面）","その他野菜"]
["ふう",null,null,"果樹（立体）"]
["ブーゲンビリア",null,null,"果樹（立体）"]
["ブータンルリマツリ",null,null,"野菜（平面）","その他野菜"]
["フェイジョア",null,null,"果樹（立体）","その他果樹"]
["フェニックス・ロベレニー",null,null,"果樹（立体）"]
["フェンネル",null,null,"野菜（平面）","その他野菜"]
["ふき",null,null,"野菜（平面）","その他野菜"]
["ふき類",null,null,"野菜（平面）","その他野菜"]
["ふさすぐり",null,null,"果樹（立体）","ベリー類等の小粒果実類"]
["ふじまめ",null,null,"野菜（平面）","豆類（だいず、あずきを除く）"]
["ふだんそう",null,null,"野菜（平面）","葉菜類"]
["ふっきそう",null,null,"果樹（立体）"]
["ぶどう",null,null,"果樹（棚）","ベリー類等の小粒果実類"]
["ぶな",null,null,"果樹（立体）"]
["ぶなしめじ",null,null,"野菜（平面）","その他野菜"]
["ブバルディア",null,null,"果樹（立体）"]
["ブプレウラム",null,null,"野菜（平面）","その他野菜"]
["ブライダルベール",null,null,"野菜（平面）","その他野菜"]
["ブラキカム",null,null,"野菜（平面）","その他野菜"]
["プラタナス",null,null,"果樹（立体）"]
["ブラックベリー",null,null,"果樹（立体）","ベリー類等の小粒果実類"]
["フリージア",null,null,"野菜（平面）","その他野菜"]
["プリムラ",null,null,"野菜（平面）","その他野菜"]
["ブルーサルビア",null,null,"野菜（平面）","その他野菜"]
["ブルースター",null,null,"野菜（平面）","その他野菜"]
["ブルーデージー",null,null,"野菜（平面）","その他野菜"]
["ブルーベリー",null,null,"果樹（立体）","ベリー類等の小粒果実類"]
["ブルーレースフラワー",null,null,"野菜（平面）","その他野菜"]
["フローレンスフェンネル",null,null,"野菜（平面）","その他野菜"]
["フロックス",null,null,"野菜（平面）","その他野菜"]
["ブロッコリー",null,null,"野菜（平面）","あぶらな属野菜（葉菜類、根菜類を除く）"]
["ブロワリア",null,null,"野菜（平面）","その他野菜"]
["プンタレッラ",null,null,"野菜（平面）","葉菜類"]
["ぶんたん",null,null,"果樹（立体）","かんきつ類"]
["ペカン",null,null,"果樹（立体）","その他果樹"]
["ベゴニア",null,null,"野菜（平面）","その他野菜"]
["ペチュニア",null,null,"野菜（平面）","その他野菜"]
["ヘデラ",null,null,"野菜（平面）","その他野菜"]
["べにばな",null,null,"野菜（平面）","その他野菜"]
["べにばないんげん",null,null,"野菜（平面）","豆類（だいず、あずきを除く）"]
["ペピーノ",null,null,"果樹（立体）","その他果樹"]
["ベビーローズ",null,null,"野菜（平面）","その他野菜"]
["ぺぽかぼちゃ",null,null,"野菜（平面）","その他野菜"]
["ペラルゴニウム",null,null,"野菜（平面）","その他野菜"]
["ベリー類",null,null,"果樹（立体）","ベリー類等の小粒果実類"]
["ベリー類等の小粒果実類",null,null,"果樹（立体）","ベリー類等の小粒果実類"]
["ヘリクリサム",null,null,"野菜（平面）","その他野菜"]
["ベルギーエシャロット",null,null,"野菜（平面）","鱗茎野菜"]
["ヘルコニア",null,null,"野菜（平面）","その他野菜"]
["ベロニカ",null,null,"野菜（平面）","その他野菜"]
["ベンジャミン",null,null,"果樹（立体）"]
["べんり菜",null,null,"野菜（平面）","葉菜類"]
["ボイセンベリー",null,null,"果樹（立体）","ベリー類等の小粒果実類"]
["ポインセチア",null,null,"果樹（立体）"]
["ほうきぎ",null,null,"野菜（平面）","その他野菜"]
["ほうせんか",null,null,"野菜（平面）","その他野菜"]
["ぼうふう",null,null,"野菜（平面）","その他野菜"]
["ほうれんそう",null,null,"野菜（平面）","葉菜類"]
["ほおずき",null,null,"野菜（平面）","その他野菜"]
["ポーチュラカ",null,null,"野菜（平面）","その他野菜"]
["ホクシャ",null,null,"果樹（立体）"]
["ぼけ",null,null,"果樹（立体）"]
["ほそばわだん",null,null,"野菜（平面）","葉菜類"]
["ぼたん",null,null,"野菜（平面）","その他野菜"]
["ぼたんぼうふう",null,null,"野菜（平面）","葉菜類"]
["ほだ木",null,null,"野菜（平面）","その他野菜"]
["ほだ木用笠木",null,null,"野菜（平面）","その他野菜"]
["ホップ",null,null,"野菜（平面）","その他野菜"]
["ポトス",null,null,"野菜（平面）","その他野菜"]
["ポプラ",null,null,"果樹（立体）"]
["ポポー",null,null,"果樹（立体）","その他果樹"]
["ボリジ",null,null,"野菜（平面）","葉菜類"]
["ポリシャス",null,null,"果樹（立体）"]
["ボロニア",null,null,"果樹（立体）"]
["ホワイトサポテ",null,null,"果樹（立体）","その他果樹"]
["ホワイトレースフラワー",null,null,"野菜（平面）","その他野菜"]
["ぽんかん",null,null,"果樹（立体）","かんきつ類"]
["マーガレット",null,null,"野菜（平面）","その他野菜"]
["マーコット",null,null,"果樹（立体）","かんきつ類"]
["マーシュ",null,null,"野菜（平面）","葉菜類"]
["まいたけ",null,null,"野菜（平面）","その他野菜"]
["まおう",null,null,"野菜（平面）","その他野菜"]
["まくわうり",null,null,"野菜（立体）","うり科果菜類"]
["まこもたけ",null,null,"野菜（平面）","その他野菜"]
["まさき",null,null,"果樹（立体）"]
["マジョラム",null,null,"野菜（平面）","葉菜類"]
["まつ",null,null,"果樹（立体）"]
["マッシュルーム",null,null,"野菜（平面）","その他野菜"]
["まつばぼたん",null,null,"野菜（平面）","その他野菜"]
["まつ類",null,null,"果樹（立体）"]
["まてばしい",null,null,"果樹（立体）"]
["マトリカリア",null,null,"野菜（平面）","その他野菜"]
["まめつげ",null,null,"果樹（立体）"]
["まめ科牧草",null,null,"野菜（平面）","その他野菜"]
["まめ科牧草等",null,null,"野菜（平面）","その他野菜"]
["マリーゴールド",null,null,"野菜（平面）","その他野菜"]
["マルメロ",null,null,"果樹（立体）","仁果類（なしを除く）"]
["マンゴー",null,null,"果樹（立体）","その他果樹"]
["まんさく",null,null,"果樹（立体）"]
["マンデビラ",null,null,"果樹（立体）"]
["みかん",null,null,"果樹（立体）","かんきつ類"]
["みしまさいこ",null,null,"野菜（平面）","その他野菜"]
["みずいも",null,null,"野菜（平面）","いも類"]
["みずかけな",null,null,"野菜（平面）","葉菜類"]
["みずき",null,null,"果樹（立体）"]
["みずな",null,null,"野菜（平面）","葉菜類"]
["みずなら",null,null,"果樹（立体）"]
["みつば",null,null,"野菜（平面）","葉菜類"]
["みつまた",null,null,"果樹（立体）"]
["ミニトマト",null,null,"野菜（立体）","なす科果菜類"]
["みぶな",null,null,"野菜（平面）","葉菜類"]
["ミムラス",null,null,"野菜（平面）","その他野菜"]
["みやこわすれ",null,null,"野菜（平面）","その他野菜"]
["みょうが",null,null,"野菜（平面）","その他野菜"]
["ミラクルフルーツ",null,null,"果樹（立体）","その他果樹"]
["ミルトニア",null,null,"野菜（平面）","その他野菜"]
["むくげ",null,null,"果樹（立体）"]
["ムスカリ",null,null,"野菜（平面）","その他野菜"]
["むべ",null,null,"果樹（立体）","その他果樹"]
["メキャベツ",null,null,"野菜（平面）","葉菜類"]
["メロン",null,null,"野菜（立体）","うり科果菜類"]
["もくせい",null,null,"果樹（立体）"]
["もくれん",null,null,"果樹（立体）"]
["もちのき",null,null,"果樹（立体）"]
["もっこく",null,null,"果樹（立体）"]
["もみじがさ",null,null,"野菜（平面）","葉菜類"]
["もも",null,null,"果樹（立体）","核果類"]
["もも類",null,null,"果樹（立体）","核果類"]
["もりあざみ",null,null,"野菜（平面）","根菜類"]
["モロヘイヤ",null,null,"野菜（平面）","葉菜類"]
["モンステラ",null,null,"野菜（平面）","その他野菜"]
["ヤーコン",null,null,"野菜（平面）","いも類"]
["薬用アロエ",null,null,"野菜（平面）","その他野菜"]
["薬用いぐさ",null,null,"野菜（平面）","その他野菜"]
["薬用うど",null,null,"野菜（平面）","その他野菜"]
["薬用カロライナジャスミン",null,null,"野菜（平面）","その他野菜"]
["薬用ごぼう",null,null,"野菜（平面）","その他野菜"]
["薬用デンドロビウム",null,null,"野菜（平面）","その他野菜"]
["薬用なんてん",null,null,"野菜（平面）","その他野菜"]
["薬用ほうせんか",null,null,"野菜（平面）","その他野菜"]
["薬用ほおずき",null,null,"野菜（平面）","その他野菜"]
["薬用りんどう",null,null,"野菜（平面）","その他野菜"]
["薬用ロベリア",null,null,"野菜（平面）","その他野菜"]
["やぐるまぎく",null,null,"野菜（平面）","その他野菜"]
["野菜類",null,null,"果樹（立体）","だいず、あずき"]
["ヤシ",null,null,"果樹（立体）"]
["ヤシ類",null,null,"果樹（立体）"]
["やなぎ",null,null,"果樹（立体）"]
["やなぎたで",null,null,"野菜（平面）","葉菜類"]
["やぶかんぞう",null,null,"野菜（平面）","その他野菜"]
["やぶさんざし",null,null,"果樹（立体）"]
["やぶつばき",null,null,"果樹（立体）"]
["やまのいも",null,null,"野菜（平面）","いも類"]
["やまもも",null,null,"果樹（立体）","ベリー類等の小粒果実類"]
["ヤングコーン",null,null,"野菜（平面）","その他野菜"]
["ゆうがお",null,null,"野菜（立体）","うり科果菜類"]
["ユーカリ",null,null,"果樹（立体）"]
["ゆうぜんぎく",null,null,"野菜（平面）","その他野菜"]
["ユーフォルビア・フルゲンス",null,null,"野菜（平面）","その他野菜"]
["ゆきつばき",null,null,"果樹（立体）"]
["ゆきのした",null,null,"野菜（平面）","葉菜類"]
["ゆきやなぎ",null,null,"果樹（立体）"]
["ゆず",null,null,"果樹（立体）","かんきつ類"]
["ユッカ",null,null,"果樹（立体）"]
["ゆり",null,null,"野菜（平面）","その他野菜"]
["ユリオプスデージー",null,null,"野菜（平面）","その他野菜"]
["ゆりのき",null,null,"果樹（立体）"]
["よぶすまそう",null,null,"野菜（平面）","葉菜類"]
["よめな",null,null,"野菜（平面）","葉菜類"]
["よもぎ",null,null,"野菜（平面）","葉菜類"]
["ラークスパー",null,null,"野菜（平面）","その他野菜"]
["ライスフラワー",null,null,"野菜（平面）","その他野菜"]
["ライム",null,null,"果樹（立体）","かんきつ類"]
["ライ麦",null,null,"野菜（平面）","麦類"]
["ラズベリー",null,null,"果樹（立体）","ベリー類等の小粒果実類"]
["らっかせい",null,null,"野菜（平面）","豆類（だいず、あずきを除く）"]
["らっきょう",null,null,"野菜（平面）","鱗茎野菜"]
["ラナンキュラス",null,null,"野菜（平面）","その他野菜"]
["ラバテラ",null,null,"野菜（平面）","その他野菜"]
["ラファノブラシカ",null,null,"野菜（平面）","葉菜類"]
["ラベンダー",null,null,"野菜（平面）","その他野菜"]
["ランタナ",null,null,"果樹（立体）"]
["リアトリス",null,null,"野菜（平面）","その他野菜"]
["リーフレタス",null,null,"野菜（平面）","葉菜類"]
["リシマキア",null,null,"野菜（平面）","その他野菜"]
["リムナンテス",null,null,"野菜（平面）","その他野菜"]
["リュウガン",null,null,"果樹（立体）","その他果樹"]
["りんご",null,null,"果樹（立体）","仁果類（なしを除く）"]
["りんどう",null,null,"野菜（平面）","その他野菜"]
["ルッコラ",null,null,"野菜（平面）","葉菜類"]
["ルドベキア",null,null,"野菜（平面）","その他野菜"]
["ルバーブ",null,null,"野菜（平面）","その他野菜"]
["ルピナス",null,null,"野菜（平面）","その他野菜"]
["ルリマツリ",null,null,"果樹（立体）"]
["レイシ",null,null,"果樹（立体）","その他果樹"]
["レザーファン",null,null,"野菜（平面）","その他野菜"]
["レタス",null,null,"野菜（平面）","葉菜類"]
["レタス類",null,null,"野菜（平面）","葉菜類"]
["レタス類以外のきく科葉菜類",null,null,"野菜（平面）","その他野菜"]
["レッドジンジャー",null,null,"野菜（平面）","その他野菜"]
["レモン",null,null,"果樹（立体）","かんきつ類"]
["レモングラス",null,null,"野菜（平面）","葉菜類"]
["レモンバーベナ",null,null,"野菜（平面）","葉菜類"]
["レモンバーム",null,null,"野菜（平面）","葉菜類"]
["れんぎょう",null,null,"果樹（立体）"]
["れんげ",null,null,"野菜（平面）","その他野菜"]
["れんこん",null,null,"野菜（平面）","その他野菜"]
["レンブ",null,null,"果樹（立体）","その他果樹"]
["ローズマリー",null,null,"野菜（平面）","葉菜類"]
["ローレンティア",null,null,"野菜（平面）","その他野菜"]
["ロケア",null,null,"野菜（平面）","その他野菜"]
["ロベリア",null,null,"野菜（平面）","その他野菜"]
["わけぎ",null,null,"野菜（平面）","鱗茎野菜"]
["わさび",null,null,"野菜（平面）","その他野菜"]
["わさびだいこん",null,null,"野菜（平面）","根菜類"]
["わさびな",null,null,"野菜（平面）","葉菜類"]
["ワシントンネーブル",null,null,"果樹（立体）","かんきつ類"]
["わすれなぐさ",null,null,"野菜（平面）","その他野菜"]
["わた",null,null,"野菜（平面）","その他野菜"]
["わらび",null,null,"野菜（平面）","その他野菜"]
["われもこう",null,null,"野菜（平面）","その他野菜"]
["伊予柑",null,null,"果樹（立体）","かんきつ類"]
["移植水稲",null,null,"水稲","稲"]
["稲",null,null,"水稲","稲"]
["温州みかん",null,null,"果樹（立体）","かんきつ類"]
["果樹類",null,null,"果樹（立体）","仁果類（なしを除く）"]
["河内晩柑",null,null,"果樹（立体）","かんきつ類"]
["花オクラ",null,null,"野菜（平面）","その他野菜"]
["花き",null,null,"野菜（平面）","その他野菜"]
["花き類",null,null,"野菜（平面）","その他野菜"]
["花き類・観葉植物",null,null,"野菜（平面）","その他野菜"]
["花はす",null,null,"野菜（平面）","その他野菜"]
["花木",null,null,"果樹（立体）"]
["海野",null,null,"野菜（平面）","葉菜類"]
["開墾後に栽培する樹木類",null,null,"芝"]
["開墾後に栽培する農作物等",null,null,"芝"]
["核果類",null,null,"果樹（立体）","核果類"]
["乾田直播水稲",null,null,"水稲","稲"]
["甘草",null,null,"野菜（平面）","根菜類"]
["甘長とうがらし",null,null,"野菜（立体）","なす科果菜類"]
["観賞用アスパラガス",null,null,"野菜（平面）","その他野菜"]
["観賞用ナス",null,null,"野菜（平面）","その他野菜"]
["観賞用もうそうちく",null,null,"野菜（平面）","その他野菜"]
["球根花き",null,null,"野菜（平面）","その他野菜"]
["金魚草",null,null,"野菜（平面）","その他野菜"]
["桑",null,null,"果樹（立体）","その他果樹"]
["桑園",null,null,"果樹（立体）","その他果樹"]
["茎ブロッコリー",null,null,"野菜（平面）","あぶらな属野菜（葉菜類、根菜類を除く）"]
["茎野菜類",null,null,"野菜（平面）","いも類"]
["穀物類、豆類、飼料、種子",null,null,"野菜（平面）","その他野菜"]
["採種用とうき",null,null,"野菜（平面）","その他野菜"]
["採種用小麦",null,null,"野菜（平面）","麦類"]
["雑穀類",null,null,"野菜（平面）","麦類"]
["山形みどりな",null,null,"野菜（平面）","葉菜類"]
["四川搾菜",null,null,"野菜（平面）","葉菜類"]
["紫うこん",null,null,"野菜（平面）","根菜類"]
["飼料作物",null,null,"野菜（平面）","その他野菜"]
["飼料用えんばく",null,null,"野菜（平面）","その他野菜"]
["飼料用さとうきび",null,null,"野菜（平面）","その他野菜"]
["飼料用とうもろこし",null,null,"野菜（平面）","その他野菜"]
["実えんどう",null,null,"野菜（平面）","豆類（だいず、あずきを除く）"]
["芝",null,null,"芝"]
["種いも用ばれいしょ",null,null,"野菜（平面）","いも類"]
["樹木等",null,null,"芝"]
["樹木類",null,null,"果樹（立体）"]
["宿根アスター",null,null,"野菜（平面）","その他野菜"]
["宿根かすみそう",null,null,"野菜（平面）","その他野菜"]
["宿根スターチス",null,null,"野菜（平面）","その他野菜"]
["小倉はくさい菜",null,null,"野菜（平面）","葉菜類"]
["小麦",null,null,"野菜（平面）","麦類"]
["小粒核果類",null,null,"果樹（立体）","核果類"]
["小粒種ぶどう",null,null,"果樹（棚）","ベリー類等の小粒果実類"]
["食べて菜",null,null,"野菜（平面）","葉菜類"]
["食用アジアンタム",null,null,"野菜（平面）","その他野菜"]
["食用アスター",null,null,"野菜（平面）","その他野菜"]
["食用あまどころ",null,null,"野菜（平面）","根菜類"]
["食用アロエ",null,null,"野菜（平面）","その他野菜"]
["食用インパチェンス",null,null,"野菜（平面）","その他野菜"]
["食用エキザカム",null,null,"野菜（平面）","その他野菜"]
["食用おおばこ",null,null,"野菜（平面）","その他野菜"]
["食用カーネーション",null,null,"野菜（平面）","その他野菜"]
["食用かえで",null,null,"果樹（立体）","その他果樹"]
["食用ききょう",null,null,"野菜（平面）","根菜類"]
["食用ぎく",null,null,"野菜（平面）","その他野菜"]
["食用きんせんか",null,null,"野菜（平面）","その他野菜"]
["食用コスモス",null,null,"野菜（平面）","その他野菜"]
["食用さくら",null,null,"果樹（立体）","その他果樹"]
["食用シネラリア",null,null,"野菜（平面）","その他野菜"]
["食用すいば",null,null,"野菜（平面）","葉菜類"]
["食用ストック",null,null,"野菜（平面）","その他野菜"]
["食用すべりひゆ",null,null,"野菜（平面）","葉菜類"]
["食用せんにちこう",null,null,"野菜（平面）","その他野菜"]
["食用ソルガム",null,null,"野菜（平面）","その他穀類"]
["食用つばき",null,null,"果樹（立体）","その他果樹"]
["食用トレニア",null,null,"野菜（平面）","その他野菜"]
["食用ナスタチウム",null,null,"野菜（平面）","その他野菜"]
["食用なでしこ",null,null,"野菜（平面）","その他野菜"]
["食用パンジー",null,null,"野菜（平面）","その他野菜"]
["食用ひょうたん",null,null,"野菜（立体）","うり科果菜類"]
["食用プリムラ",null,null,"野菜（平面）","その他野菜"]
["食用へちま",null,null,"野菜（立体）","うり科果菜類"]
["食用ペチュニア",null,null,"野菜（平面）","その他野菜"]
["食用べにばな",null,null,"野菜（平面）","その他野菜"]
["食用ほおのき",null,null,"野菜（平面）","その他野菜"]
["食用ミニバラ",null,null,"野菜（平面）","その他野菜"]
["食用やぐるまぎく",null,null,"野菜（平面）","その他野菜"]
["食用ゆり",null,null,"野菜（平面）","鱗茎野菜"]
["食用ラベンダー",null,null,"野菜（平面）","その他野菜"]
["食用ルドベキア",null,null,"野菜（平面）","その他野菜"]
["食用亜麻",null,null,"野菜（平面）","その他野菜"]
["食用金魚草",null,null,"野菜（平面）","その他野菜"]
["食用桑",null,null,"果樹（立体）","ベリー類等の小粒果実類"]
["食用月桂樹",null,null,"野菜（平面）","その他野菜"]
["食用西洋たんぽぽ",null,null,"野菜（平面）","葉菜類"]
["食用綿実",null,null,"野菜（平面）","その他野菜"]
["針葉樹",null,null,"果樹（立体）"]
["仁果類",null,null,"果樹（立体）","仁果類（なしを除く）"]
["水稲",null,null,"水稲","稲"]
["水田作物",null,null,"野菜（平面）","その他野菜"]
["水田作物、畑作物",null,null,"野菜（平面）","その他野菜"]
["水田作物、畑作物等",null,null,"野菜（平面）","その他野菜"]
["清見",null,null,"果樹（立体）","かんきつ類"]
["西洋ごぼう",null,null,"野菜（平面）","根菜類"]
["西洋なし",null,null,"果樹（棚）","なし"]
["西洋芝",null,null,"芝"]
["赤毛ウリ",null,null,"野菜（立体）","うり科果菜類"]
["体中菜",null,null,"野菜（平面）","葉菜類"]
["大紅みかん",null,null,"果樹（立体）","かんきつ類"]
["大高菜",null,null,"野菜（平面）","葉菜類"]
["大山そだち",null,null,"野菜（平面）","葉菜類"]
["大麦",null,null,"野菜（平面）","麦類"]
["大粒種ぶどう",null,null,"果樹（棚）","ベリー類等の小粒果実類"]
["湛水直播水稲",null,null,"水稲","稲"]
["茶",null,null,"野菜（平面）","その他野菜"]
["長崎はくさい",null,null,"野菜（平面）","葉菜類"]
["長門ユズキチ",null,null,"果樹（立体）","かんきつ類"]
["直播水稲",null,null,"水稲","稲"]
["漬物用すいか",null,null,"野菜（立体）","うり科果菜類"]
["漬物用まくわうり",null,null,"野菜（立体）","うり科果菜類"]
["漬物用メロン",null,null,"野菜（立体）","うり科果菜類"]
["庭園樹",null,null,"果樹（立体）"]
["庭木",null,null,"果樹（立体）"]
["天草",null,null,"果樹（立体）","かんきつ類"]
["豆類",null,null,"野菜（平面）","だいず、あずき"]
["日向夏",null,null,"果樹（立体）","かんきつ類"]
["日々草",null,null,"野菜（平面）","その他野菜"]
["日本なし",null,null,"果樹（棚）","なし"]
["日本芝",null,null,"芝"]
["麦",null,null,"野菜（平面）","麦類"]
["麦類",null,null,"野菜（平面）","麦類"]
["畑わさび",null,null,"野菜（平面）","葉菜類"]
["畑作物",null,null,"野菜（平面）","その他野菜"]
["斑入りアマドコロ",null,null,"野菜（平面）","その他野菜"]
["晩柑類",null,null,"果樹（立体）","かんきつ類"]
["非結球あぶらな科葉菜類",null,null,"野菜（平面）","葉菜類"]
["非結球メキャベツ",null,null,"野菜（平面）","葉菜類"]
["百日草",null,null,"野菜（平面）","その他野菜"]
["不知火",null,null,"果樹（立体）","かんきつ類"]
["平兵衛酢",null,null,"果樹（立体）","かんきつ類"]
["牧草",null,null,"野菜（平面）","その他野菜"]
["未成熟ささげ",null,null,"野菜（平面）","豆類（だいず、あずきを除く）"]
["未成熟しかくまめ",null,null,"野菜（平面）","豆類（だいず、あずきを除く）"]
["未成熟そらまめ",null,null,"野菜（平面）","豆類（だいず、あずきを除く）"]
["未成熟とうもろこし",null,null,"野菜（平面）","その他穀類"]
["未成熟なたまめ",null,null,"野菜（平面）","豆類（だいず、あずきを除く）"]
["未成熟ふじまめ",null,null,"野菜（平面）","豆類（だいず、あずきを除く）"]
["木材",null,null,"野菜（平面）","その他野菜"]
["餅菜",null,null,"野菜（平面）","葉菜類"]
["薬用いちい",null,null,"野菜（平面）","その他野菜"]
["薬用おもと",null,null,"野菜（平面）","その他野菜"]
["薬用さわぎきょう",null,null,"野菜（平面）","その他野菜"]
["薬用すずらん",null,null,"野菜（平面）","その他野菜"]
["薬用そてつ",null,null,"野菜（平面）","その他野菜"]
["薬用にんじん",null,null,"野菜（平面）","根菜類"]
["薬用作物",null,null,"野菜（平面）","その他野菜"]
["葉ごぼう",null,null,"野菜（平面）","葉菜類"]
["葉しょうが",null,null,"野菜（平面）","根菜類"]
["葉たばこ",null,null,"野菜（平面）","その他野菜"]
["葉たまねぎ",null,null,"野菜（平面）","鱗茎野菜"]
["葉にんにく",null,null,"野菜（平面）","鱗茎野菜"]
["葉菜類",null,null,"野菜（平面）","その他野菜"]
["落葉果樹",null,null,"果樹（立体）","仁果類（なしを除く）"]
["落葉性庭木類",null,null,"果樹（立体）"]
["陸稲",null,null,"水稲","稲"]
["立ちちしゃ",null,null,"野菜（平面）","葉菜類"]
["林木",null,null,"果樹（立体）"]
["カカオ",null,null,"果樹（立体）","その他果樹"]
["コーヒーノキ",null,null,"果樹（立体）","その他果樹"]
["キャッサバ",null,null,"野菜（平面）","いも類"]
["パースニップ",null,null,"野菜（平面）","根菜類"]
["エホバク",null,null,"野菜（立体）","うり科果菜類"]
["ツノニガウリ",null,null,"野菜（立体）","うり科果菜類"]
["飯田冬菜",null,null,"野菜（平面）","葉菜類"]
["潮江菜",null,null,"野菜（平面）","葉菜類"]
["ごまな",null,null,"野菜（平面）","葉菜類"]
["エルバステラ",null,null,"野菜（平面）","葉菜類"]
["ストリドーロ",null,null,"野菜（平面）","葉菜類"]
["食用あさがお",null,null,"野菜（平面）","その他野菜"]
["食用アリッサム",null,null,"野菜（平面）","その他野菜"]
["食用トルコギキョウ",null,null,"野菜（平面）","その他野菜"]
["食用ヒメヒマワリ",null,null,"野菜（平面）","その他野菜"]
["食用ベゴニア",null,null,"野菜（平面）","その他野菜"]
["食用モモイロタンポポ",null,null,"野菜（平面）","その他野菜"]
["食用リナリア",null,null,"野菜（平面）","その他野菜"]
["食用サボテン",null,null,"野菜（平面）","その他野菜"]
["ローゼル",null,null,"野菜（平面）","その他野菜"]
["花月",null,null,"野菜（平面）","その他野菜"]
["観賞用ジャノヒゲ",null,null,"野菜（平面）","その他野菜"]
["紅まどんな",null,null,"果樹（立体）","かんきつ類"]
["はまなす",null,null,"果樹（立体）","その他果樹"]

{"sheet":"防護装備","index":21,"n_rows":27,"n_cols":3,"rows_kept":27,"cut":false,"hidden":false,"merged":[[15,0,17,0],[18,0,20,0],[12,0,14,0]]}
["手袋"]
["不浸透性手袋（固体）",0.05]
["不浸透性手袋（液体）",0.1]
["手袋なし",1]
[]
["マスク","吸入","頭部"]
["マスクなし",1,1]
["マスク１",0.25,0.8]
["マスク２",0.1,0.8]
[]
["頭部"]
["防護装備","マスク",1]
["長ズボン・長袖の作業衣\nあるいは不浸透性防除衣",null,1]
[null,"マスク１",0.8]
[null,"マスク２",0.8]
["不浸透＋フード",null,0.5]
[null,"マスク１",0.4]
[null,"マスク２",0.4]
["不浸透＋フード＋保護面",null,0.05]
[null,"マスク１",0.05]
[null,"マスク２",0.05]
[]
["身体のみ",1]
["長ズボン・長袖の作業衣",0.1]
["不浸透性防除衣",0.05]
["フード＋不浸透性防除衣",0.05]
["保護面＋フード＋不浸透性防除衣",0.05]