Workbook
Name _: #REF!
Name _______________uri1: #REF!
Name ______________uri1: #REF!
Name _____________uri1: [1]ﾌﾙｰﾂ村pet!#REF!
Name ____________uri1: #REF!
Name ____________uri2: [1]ﾌﾙｰﾂ村pet!#REF!
Name ___________a100000: #REF!
Name ___________uri1: #REF!
Name ___________uri2: [1]ﾌﾙｰﾂ村pet!#REF!
Name ___________ｘ４: [2]負荷b!#REF!
Name __________a100000: #REF!
Name __________uri1: #REF!
Name __________uri2: [1]ﾌﾙｰﾂ村pet!#REF!
Name __________ｘ４: [3]負荷b!#REF!
Name _________a100000: #REF!
Name _________DAT1: #REF!
Name _________DAT10: #REF!
Name _________DAT2: #REF!
Name _________DAT3: #REF!
Name _________DAT4: #REF!
Name _________DAT5: #REF!
Name _________DAT6: #REF!
Name _________DAT7: #REF!
Name _________DAT8: #REF!
Name _________DAT9: #REF!
Name _________uri1: #REF!
Name _________uri2: [1]ﾌﾙｰﾂ村pet!#REF!
Name _________ｘ４: [4]負荷b!#REF!
Name ________a100000: #REF!
Name ________DAT1: #REF!
Name ________DAT10: #REF!
Name ________DAT2: #REF!
Name ________DAT3: #REF!
Name ________DAT4: #REF!
Name ________DAT5: #REF!
Name ________DAT6: #REF!
Name ________DAT7: #REF!
Name ________DAT8: #REF!
Name ________DAT9: #REF!
Name ________uri1: #REF!
Name ________uri2: [1]ﾌﾙｰﾂ村pet!#REF!
Name ________ｘ４: [4]負荷b!#REF!
Name _______a100000: #REF!
Name _______DAT1: #REF!
Name _______DAT10: #REF!
Name _______DAT2: #REF!
Name _______DAT3: #REF!
Name _______DAT4: #REF!
Name _______DAT5: #REF!
Name _______DAT6: #REF!
Name _______DAT7: #REF!
Name _______DAT8: #REF!
Name _______DAT9: #REF!
Name _______uri1: #REF!
Name _______uri2: [1]ﾌﾙｰﾂ村pet!#REF!
Name _______ｘ４: [5]負荷b!#REF!
Name ______a100000: #REF!
Name ______DAT1: #REF!
Name ______DAT10: #REF!
Name ______DAT2: #REF!

Sheet 結果概要
A1: ＦＣＰ 食品安全文化可視化ツール
J5: 初 版
A12: 実施日 | D12: 年 月 日
A16: 事業所名
A18: 年度（実施期間）
A22: 従業員数 | G22: 人 ※手動でご入力下さい。
A23: 回答者数 | F23: =+COUNTIFS(Table134[あなたの仕事における役職・階層を選択してください],詳細結果!F8) -> 0 | G23: 人
A24: 回答率 | F24: =F23/F22 -> #DIV/0!
A26: トータルスコア | F26: =詳細結果!G12 -> #DIV/0!
A28: 側面毎のスコア
A40: 別紙「詳細結果」シートにアンケート結果が表示されます。「アンケート実施後のガイダンス」を活用することで
A41: 自組織の食品安全文化の強み、弱みを知る機会を得ることができます。
A44: このシートは農林水産省フード・コミュニケーション・プロジェクト（FCP）により、作成されました。
A45: 詳しくは下記のリンク先をご覧下さい。
A46: https://www.maff.go.jp/j/shokusan/fcp/index.html

Sheet 詳細結果
B1: 食品安全文化アンケート結果
B3: 事業所名
B4: 年度（実施期間）
X6: 【管理者/上級管理者】 現場ではない場所で働いていて、みんながどんな仕事をするかを考えたり、仕事がうまく進むように手伝う人 | Y6: 製造部門
X7: 【監督者/チームリーダー】(従業員を見守るリーダーのような人) 現場で一緒に働きながら、自分のグループやエリアの人たちの仕事を見守ったり、手助けしたりする人。 | Y7: 管理・間接部門
E8: 部門 | F8: 製造部門 | H8: ※選択で入力下さい。 | X8: 【作業員/オペレーター】(自分の仕事をする人) 現場で決まった仕事をしていて、ほかの人の仕事を見る役目はない人。 | Y8: それ以外 | Z8: **
X9: 【選択しない】 | Y9: **
X10: **
G11: 全体 | H11: 【管理者/ 上級管理者】 | I11: 【監督者/ チームリーダー】 | J11: 【作業員/ オペレーター】
B12: トータルスコア | G12: =AVERAGE(M23:M59) -> #DIV/0! | H12: =AVERAGE(N23:N59) -> #DIV/0! | I12: =AVERAGE(O23:O59) -> #DIV/0! | J12: =AVERAGE(P23:P59) -> #DIV/0! | L12: ◆役割・階層の解説 | W12: table | X12: 2 | Y12: 3 | Z12: 4 | AA12: 5 | AB12: 6 | AC12: 7 | AD12: 8 | AE12: 9 | AF12: 10 | AG12: 11 | AH12: 12 | AI12: 13 | AJ12: 14 | AK12: 15 | AL12: 16 | AM12: 17 | AN12: 18 | AO12: 19 | AP12: 20 | AQ12: 21 | AR12: 22 | AS12: 23 | AT12: 24 | AU12: 25 | AV12: 26 | AW12: 27 | AX12: 28 | AY12: 29 | AZ12: 30 | BA12: 31 | BB12: 32 | BC12: 33 | BD12: 34 | BE12: 35 | BF12: 36 | BG12: 37 | BH12: 38
B13: 側面毎のスコア | E13: ビジョンとミッション | G13: =AVERAGE(M23:M29) -> #DIV/0! | H13: =AVERAGE(N23:N29) -> #DIV/0! | I13: =AVERAGE(O23:O29) -> #DIV/0! | J13: =AVERAGE(P23:P29) -> #DIV/0! | L13: 【管理者/上級管理者】 現場ではない場所で働いていて、みんながどんな仕事をするかを考えたり、 | W13: 全体 | X13: =AVERAGEIFS(データ反映シート!I$2:I$201,データ反映シート!$H$2:$H$201,$F$8,データ反映シート!$G$2:$G$201,$X$10) -> #DIV/0! | Y13: =AVERAGEIFS(データ反映シート!J$2:J$201,データ反映シート!$H$2:$H$201,$F$8,データ反映シート!$G$2:$G$201,$X$10) -> #DIV/0! | Z13: =AVERAGEIFS(データ反映シート!K$2:K$201,データ反映シート!$H$2:$H$201,$F$8,データ反映シート!$G$2:$G$201,$X$10) -> #DIV/0! | AA13: =AVERAGEIFS(データ反映シート!L$2:L$201,データ反映シート!$H$2:$H$201,$F$8,データ反映シート!$G$2:$G$201,$X$10) -> #DIV/0! | AB13: =AVERAGEIFS(データ反映シート!M$2:M$201,データ反映シート!$H$2:$H$201,$F$8,データ反映シート!$G$2:$G$201,$X$10) -> #DIV/0! | AC13: =AVERAGEIFS(データ反映シート!N$2:N$201,データ反映シート!$H$2:$H$201,$F$8,データ反映シート!$G$2:$G$201,$X$10) -> #DIV/0! | AD13: =AVERAGEIFS(データ反映シート!O$2:O$201,データ反映シート!$H$2:$H$201,$F$8,データ反映シート!$G$2:$G$201,$X$10) -> #DIV/0! | AE13: =AVERAGEIFS(データ反映シート!P$2:P$201,データ反映シート!$H$2:$H$201,$F$8,データ反映シート!$G$2:$G$201,$X$10) -> #DIV/0! | ... BA13: =AVERAGEIFS(データ反映シート!AL$2:AL$201,データ反映シート!$H$2:$H$201,$F$8,データ反映シート!$G$2:$G$201,$X$10) -> #DIV/0! | BB13: =8-AVERAGEIFS(データ反映シート!AM$2:AM$201,データ反映シート!$H$2:$H$201,$F$8,データ反映シート!$G$2:$G$201,$X$10) -> #DIV/0! | BC13: =8-AVERAGEIFS(データ反映シート!AN$2:AN$201,データ反映シート!$H$2:$H$201,$F$8,データ反映シート!$G$2:$G$201,$X$10) -> #DIV/0! | BD13: =8-AVERAGEIFS(データ反映シート!AO$2:AO$201,データ反映シート!$H$2:$H$201,$F$8,データ反映シート!$G$2:$G$201,$X$10) -> #DIV/0! | BE13: =8-AVERAGEIFS(データ反映シート!AP$2:AP$201,データ反映シート!$H$2:$H$201,$F$8,データ反映シート!$G$2:$G$201,$X$10) -> #DIV/0! | BF13: =AVERAGEIFS(データ反映シート!AQ$2:AQ$201,データ反映シート!$H$2:$H$201,$F$8,データ反映シート!$G$2:$G$201,$X$10) -> #DIV/0! | BG13: =AVERAGEIFS(データ反映シート!AR$2:AR$201,データ反映シート!$H$2:$H$201,$F$8,データ反映シート!$G$2:$G$201,$X$10) -> #DIV/0! | BH13: =AVERAGEIFS(データ反映シート!AS$2:AS$201,データ反映シート!$H$2:$H$201,$F$8,データ反映シート!$G$2:$G$201,$X$10) -> #DIV/0!
E14: 人 | G14: =AVERAGE(M30:M39) -> #DIV/0! | H14: =AVERAGE(N30:N39) -> #DIV/0! | I14: =AVERAGE(O30:O39) -> #DIV/0! | J14: =AVERAGE(P30:P39) -> #DIV/0! | M14: 仕事がうまく進むように手伝う人 | W14: 管理者 | X14: =AVERAGEIFS(データ反映シート!I$2:I$201,データ反映シート!$H$2:$H$201,$F$8,データ反映シート!$G$2:$G$201,$X$6) -> #DIV/0! | Y14: =AVERAGEIFS(データ反映シート!J$2:J$201,データ反映シート!$H$2:$H$201,$F$8,データ反映シート!$G$2:$G$201,$X$6) -> #DIV/0! | Z14: =AVERAGEIFS(データ反映シート!K$2:K$201,データ反映シート!$H$2:$H$201,$F$8,データ反映シート!$G$2:$G$201,$X$6) -> #DIV/0! | AA14: =AVERAGEIFS(データ反映シート!L$2:L$201,データ反映シート!$H$2:$H$201,$F$8,データ反映シート!$G$2:$G$201,$X$6) -> #DIV/0! | AB14: =AVERAGEIFS(データ反映シート!M$2:M$201,データ反映シート!$H$2:$H$201,$F$8,データ反映シート!$G$2:$G$201,$X$6) -> #DIV/0! | AC14: =AVERAGEIFS(データ反映シート!N$2:N$201,データ反映シート!$H$2:$H$201,$F$8,データ反映シート!$G$2:$G$201,$X$6) -> #DIV/0! | AD14: =AVERAGEIFS(データ反映シート!O$2:O$201,データ反映シート!$H$2:$H$201,$F$8,データ反映シート!$G$2:$G$201,$X$6) -> #DIV/0! | AE14: =AVERAGEIFS(データ反映シート!P$2:P$201,データ反映シート!$H$2:$H$201,$F$8,データ反映シート!$G$2:$G$201,$X$6) -> #DIV/0! | ... BA14: =AVERAGEIFS(データ反映シート!AL$2:AL$201,データ反映シート!$H$2:$H$201,$F$8,データ反映シート!$G$2:$G$201,$X$6) -> #DIV/0! | BB14: =8-AVERAGEIFS(データ反映シート!AM$2:AM$201,データ反映シート!$H$2:$H$201,$F$8,データ反映シート!$G$2:$G$201,$X$6) -> #DIV/0! | BC14: =8-AVERAGEIFS(データ反映シート!AN$2:AN$201,データ反映シート!$H$2:$H$201,$F$8,データ反映シート!$G$2:$G$201,$X$6) -> #DIV/0! | BD14: =8-AVERAGEIFS(データ反映シート!AO$2:AO$201,データ反映シート!$H$2:$H$201,$F$8,データ反映シート!$G$2:$G$201,$X$6) -> #DIV/0! | BE14: =8-AVERAGEIFS(データ反映シート!AP$2:AP$201,データ反映シート!$H$2:$H$201,$F$8,データ反映シート!$G$2:$G$201,$X$6) -> #DIV/0! | BF14: =AVERAGEIFS(データ反映シート!AQ$2:AQ$201,データ反映シート!$H$2:$H$201,$F$8,データ反映シート!$G$2:$G$201,$X$6) -> #DIV/0! | BG14: =AVERAGEIFS(データ反映シート!AR$2:AR$201,データ反映シート!$H$2:$H$201,$F$8,データ反映シート!$G$2:$G$201,$X$6) -> #DIV/0! | BH14: =AVERAGEIFS(データ反映シート!AS$2:AS$201,データ反映シート!$H$2:$H$201,$F$8,データ反映シート!$G$2:$G$201,$X$6) -> #DIV/0!
E15: 一貫性 | G15: =AVERAGE(M40:M46) -> #DIV/0! | H15: =AVERAGE(N40:N46) -> #DIV/0! | I15: =AVERAGE(O40:O46) -> #DIV/0! | J15: =AVERAGE(P40:P46) -> #DIV/0! | L15: 【監督者/チームリーダー】(従業員を見守るリーダーのような人) 現場で一緒に働きながら、自分の | W15: 監督者 | X15: =AVERAGEIFS(データ反映シート!I$2:I$201,データ反映シート!$H$2:$H$201,$F$8,データ反映シート!$G$2:$G$201,$X$7) -> #DIV/0! | Y15: =AVERAGEIFS(データ反映シート!J$2:J$201,データ反映シート!$H$2:$H$201,$F$8,データ反映シート!$G$2:$G$201,$X$7) -> #DIV/0! | Z15: =AVERAGEIFS(データ反映シート!K$2:K$201,データ反映シート!$H$2:$H$201,$F$8,データ反映シート!$G$2:$G$201,$X$7) -> #DIV/0! | AA15: =AVERAGEIFS(データ反映シート!L$2:L$201,データ反映シート!$H$2:$H$201,$F$8,データ反映シート!$G$2:$G$201,$X$7) -> #DIV/0! | AB15: =AVERAGEIFS(データ反映シート!M$2:M$201,データ反映シート!$H$2:$H$201,$F$8,データ反映シート!$G$2:$G$201,$X$7) -> #DIV/0! | AC15: =AVERAGEIFS(データ反映シート!N$2:N$201,データ反映シート!$H$2:$H$201,$F$8,データ反映シート!$G$2:$G$201,$X$7) -> #DIV/0! | AD15: =AVERAGEIFS(データ反映シート!O$2:O$201,データ反映シート!$H$2:$H$201,$F$8,データ反映シート!$G$2:$G$201,$X$7) -> #DIV/0! | AE15: =AVERAGEIFS(データ反映シート!P$2:P$201,データ反映シート!$H$2:$H$201,$F$8,データ反映シート!$G$2:$G$201,$X$7) -> #DIV/0! | ... BA15: =AVERAGEIFS(データ反映シート!AL$2:AL$201,データ反映シート!$H$2:$H$201,$F$8,データ反映シート!$G$2:$G$201,$X$7) -> #DIV/0! | BB15: =8-AVERAGEIFS(データ反映シート!AM$2:AM$201,データ反映シート!$H$2:$H$201,$F$8,データ反映シート!$G$2:$G$201,$X$7) -> #DIV/0! | BC15: =8-AVERAGEIFS(データ反映シート!AN$2:AN$201,データ反映シート!$H$2:$H$201,$F$8,データ反映シート!$G$2:$G$201,$X$7) -> #DIV/0! | BD15: =8-AVERAGEIFS(データ反映シート!AO$2:AO$201,データ反映シート!$H$2:$H$201,$F$8,データ反映シート!$G$2:$G$201,$X$7) -> #DIV/0! | BE15: =8-AVERAGEIFS(データ反映シート!AP$2:AP$201,データ反映シート!$H$2:$H$201,$F$8,データ反映シート!$G$2:$G$201,$X$7) -> #DIV/0! | BF15: =AVERAGEIFS(データ反映シート!AQ$2:AQ$201,データ反映シート!$H$2:$H$201,$F$8,データ反映シート!$G$2:$G$201,$X$7) -> #DIV/0! | BG15: =AVERAGEIFS(データ反映シート!AR$2:AR$201,データ反映シート!$H$2:$H$201,$F$8,データ反映シート!$G$2:$G$201,$X$7) -> #DIV/0! | BH15: =AVERAGEIFS(データ反映シート!AS$2:AS$201,データ反映シート!$H$2:$H$201,$F$8,データ反映シート!$G$2:$G$201,$X$7) -> #DIV/0!
E16: 適応力 | G16: =AVERAGE(M47:M50) -> #DIV/0! | H16: =AVERAGE(N47:N50) -> #DIV/0! | I16: =AVERAGE(O47:O50) -> #DIV/0! | J16: =AVERAGE(P47:P50) -> #DIV/0! | M16: グループやエリアの人たちの仕事を見守ったり、手助けしたりする人。 | W16: 作業者 | X16: =AVERAGEIFS(データ反映シート!I$2:I$201,データ反映シート!$H$2:$H$201,$F$8,データ反映シート!$G$2:$G$201,$X$8) -> #DIV/0! | Y16: =AVERAGEIFS(データ反映シート!J$2:J$201,データ反映シート!$H$2:$H$201,$F$8,データ反映シート!$G$2:$G$201,$X$8) -> #DIV/0! | Z16: =AVERAGEIFS(データ反映シート!K$2:K$201,データ反映シート!$H$2:$H$201,$F$8,データ反映シート!$G$2:$G$201,$X$8) -> #DIV/0! | AA16: =AVERAGEIFS(データ反映シート!L$2:L$201,データ反映シート!$H$2:$H$201,$F$8,データ反映シート!$G$2:$G$201,$X$8) -> #DIV/0! | AB16: =AVERAGEIFS(データ反映シート!M$2:M$201,データ反映シート!$H$2:$H$201,$F$8,データ反映シート!$G$2:$G$201,$X$8) -> #DIV/0! | AC16: =AVERAGEIFS(データ反映シート!N$2:N$201,データ反映シート!$H$2:$H$201,$F$8,データ反映シート!$G$2:$G$201,$X$8) -> #DIV/0! | AD16: =AVERAGEIFS(データ反映シート!O$2:O$201,データ反映シート!$H$2:$H$201,$F$8,データ反映シート!$G$2:$G$201,$X$8) -> #DIV/0! | AE16: =AVERAGEIFS(データ反映シート!P$2:P$201,データ反映シート!$H$2:$H$201,$F$8,データ反映シート!$G$2:$G$201,$X$8) -> #DIV/0! | ... BA16: =AVERAGEIFS(データ反映シート!AL$2:AL$201,データ反映シート!$H$2:$H$201,$F$8,データ反映シート!$G$2:$G$201,$X$8) -> #DIV/0! | BB16: =8-AVERAGEIFS(データ反映シート!AM$2:AM$201,データ反映シート!$H$2:$H$201,$F$8,データ反映シート!$G$2:$G$201,$X$8) -> #DIV/0! | BC16: =8-AVERAGEIFS(データ反映シート!AN$2:AN$201,データ反映シート!$H$2:$H$201,$F$8,データ反映シート!$G$2:$G$201,$X$8) -> #DIV/0! | BD16: =8-AVERAGEIFS(データ反映シート!AO$2:AO$201,データ反映シート!$H$2:$H$201,$F$8,データ反映シート!$G$2:$G$201,$X$8) -> #DIV/0! | BE16: =8-AVERAGEIFS(データ反映シート!AP$2:AP$201,データ反映シート!$H$2:$H$201,$F$8,データ反映シート!$G$2:$G$201,$X$8) -> #DIV/0! | BF16: =AVERAGEIFS(データ反映シート!AQ$2:AQ$201,データ反映シート!$H$2:$H$201,$F$8,データ反映シート!$G$2:$G$201,$X$8) -> #DIV/0! | BG16: =AVERAGEIFS(データ反映シート!AR$2:AR$201,データ反映シート!$H$2:$H$201,$F$8,データ反映シート!$G$2:$G$201,$X$8) -> #DIV/0! | BH16: =AVERAGEIFS(データ反映シート!AS$2:AS$201,データ反映シート!$H$2:$H$201,$F$8,データ反映シート!$G$2:$G$201,$X$8) -> #DIV/0!
E17: 危害とリスク認知 | G17: =AVERAGE(M51:M56) -> #DIV/0! | H17: =AVERAGE(N51:N56) -> #DIV/0! | I17: =AVERAGE(O51:O56) -> #DIV/0! | J17: =AVERAGE(P51:P56) -> #DIV/0! | L17: 【作業員/オペレーター】(自分の仕事をする人) 現場で決まった仕事をしていて、ほかの人の
E18: 施設・設備 | G18: =AVERAGE(M57:M59) -> #DIV/0! | H18: =AVERAGE(N57:N59) -> #DIV/0! | I18: =AVERAGE(O57:O59) -> #DIV/0! | J18: =AVERAGE(P57:P59) -> #DIV/0! | M18: 仕事を見る役目はない人。 | W18: 標準偏差 | X18: =STDEVP(Table134[3]) -> #DIV/0! | Y18: =STDEVP(Table134[4]) -> #DIV/0! | Z18: =STDEVP(Table134[5]) -> #DIV/0! | AA18: =STDEVP(Table134[6]) -> #DIV/0! | AB18: =STDEVP(Table134[7]) -> #DIV/0! | AC18: =STDEVP(Table134[8]) -> #DIV/0! | AD18: =STDEVP(Table134[9]) -> #DIV/0! | AE18: =STDEVP(Table134[10]) -> #DIV/0! | AF18: =STDEVP(Table134[11]) -> #DIV/0! | AG18: =STDEVP(Table134[12]) -> #DIV/0! | AH18: =STDEVP(Table134[13]) -> #DIV/0! | AI18: =STDEVP(Table134[14]) -> #DIV/0! | AJ18: =STDEVP(Table134[15]) -> #DIV/0! | AK18: =STDEVP(Table134[16]) -> #DIV/0! | AL18: =STDEVP(Table134[17]) -> #DIV/0! | AM18: =STDEVP(Table134[18]) -> #DIV/0! | AN18: =STDEVP(Table134[19]) -> #DIV/0! | AO18: =STDEVP(Table134[20]) -> #DIV/0! | AP18: =STDEVP(Table134[21]) -> #DIV/0! | AQ18: =STDEVP(Table134[22]) -> #DIV/0! | AR18: =STDEVP(Table134[23]) -> #DIV/0! | AS18: =STDEVP(Table134[24]) -> #DIV/0! | AT18: =STDEVP(Table134[25]) -> #DIV/0! | AU18: =STDEVP(Table134[26]) -> #DIV/0! | AV18: =STDEVP(Table134[27]) -> #DIV/0! | AW18: =STDEVP(Table134[28]) -> #DIV/0! | AX18: =STDEVP(Table134[29]) -> #DIV/0! | AY18: =STDEVP(Table134[30]) -> #DIV/0! | AZ18: =STDEVP(Table134[31]) -> #DIV/0! | BA18: =STDEVP(Table134[32]) -> #DIV/0! | BB18: =STDEVP(Table134[33]) -> #DIV/0! | BC18: =STDEVP(Table134[34]) -> #DIV/0! | BD18: =STDEVP(Table134[35]) -> #DIV/0! | BE18: =STDEVP(Table134[36]) -> #DIV/0! | BF18: =STDEVP(Table134[37]) -> #DIV/0! | BG18: =STDEVP(Table134[38]) -> #DIV/0! | BH18: =STDEVP(Table134[39]) -> #DIV/0!
E19: 食品安全文化の5つの側面,GFSI見解書,2018
B21: 質問毎のスコア | M21: ※上位3スコアをオレンジ、下位5スコアを青で表示
D22: No. | E22: 質問項目 | M22: 全体 | N22: 【管理者/ 上級管理者】 | O22: 【監督者/ チームリーダー】 | P22: 【作業員/ オペレーター】 | T22: 計算用 全体 | U22: 管理者 | V22: 監督者 | W22: 作業者
C23: ビジョンと ミッション | D23: 1 | E23: 私の職場は食品安全文化・衛生を厳格に管理している | M23: =T23*14.2857 -> #DIV/0! | N23: =U23*14.2857 -> #DIV/0! | O23: =V23*14.2857 -> #DIV/0! | P23: =W23*14.2857 -> #DIV/0! | T23: =$X13 -> #DIV/0! | U23: =$X14 -> #DIV/0! | V23: =$X15 -> #DIV/0! | W23: =$X16 -> #DIV/0! | AC23: とてもそう思う | AE23: 7
D24: 2 | E24: 直属の上司は、食品安全・衛生を重視している | M24: =T24*14.2857 -> #DIV/0! | N24: =U24*14.2857 -> #DIV/0! | O24: =V24*14.2857 -> #DIV/0! | P24: =W24*14.2857 -> #DIV/0! | T24: =$Y13 -> #DIV/0! | U24: =$Y14 -> #DIV/0! | V24: =$Y15 -> #DIV/0! | W24: =$Y16 -> #DIV/0! | AC24: そう思う | AE24: 6
D25: 3 | E25: 私は生産現場の食品安全の方針を理解し、それに従った行動をとっている | M25: =T25*14.2857 -> #DIV/0! | N25: =U25*14.2857 -> #DIV/0! | O25: =V25*14.2857 -> #DIV/0! | P25: =W25*14.2857 -> #DIV/0! | T25: =$Z13 -> #DIV/0! | U25: =$Z14 -> #DIV/0! | V25: =$Z15 -> #DIV/0! | W25: =$Z16 -> #DIV/0! | AC25: どちらかというとそう思う | AE25: 5
D26: 4 | E26: 私は、私の職場の食品安全に関する目標を理解している | M26: =T26*14.2857 -> #DIV/0! | N26: =U26*14.2857 -> #DIV/0! | O26: =V26*14.2857 -> #DIV/0! | P26: =W26*14.2857 -> #DIV/0! | T26: =$AA13 -> #DIV/0! | U26: =$AA14 -> #DIV/0! | V26: =$AA15 -> #DIV/0! | W26: =$AA16 -> #DIV/0! | AC26: どちらでもない | AE26: 4
D27: 5 | E27: 経営層（社長、本部長）は、食品安全・品質に対する目標とその他の重要経営指標（コストや生産性等）を同等に評価している | M27: =T27*14.2857 -> #DIV/0! | N27: =U27*14.2857 -> #DIV/0! | O27: =V27*14.2857 -> #DIV/0! | P27: =W27*14.2857 -> #DIV/0! | T27: =$AB13 -> #DIV/0! | U27: =$AB14 -> #DIV/0! | V27: =$AB15 -> #DIV/0! | W27: =$AB16 -> #DIV/0! | AC27: どちらかというとそう思わない | AE27: 3
D28: 6 | E28: 経営層（工場長を含む）は、食品安全の大切さを理解し、それを社内外に積極的に自分の言葉で伝えている | M28: =T28*14.2857 -> #DIV/0! | N28: =U28*14.2857 -> #DIV/0! | O28: =V28*14.2857 -> #DIV/0! | P28: =W28*14.2857 -> #DIV/0! | T28: =$AC13 -> #DIV/0! | U28: =$AC14 -> #DIV/0! | V28: =$AC15 -> #DIV/0! | W28: =$AC16 -> #DIV/0! | AC28: そう思わない | AE28: 2
D29: 7 | E29: 私は、会社のビジョン（企業理念・経営方針）とミッション（目標）に共感している | M29: =T29*14.2857 -> #DIV/0! | N29: =U29*14.2857 -> #DIV/0! | O29: =V29*14.2857 -> #DIV/0! | P29: =W29*14.2857 -> #DIV/0! | T29: =$AD13 -> #DIV/0! | U29: =$AD14 -> #DIV/0! | V29: =$AD15 -> #DIV/0! | W29: =$AD16 -> #DIV/0! | AC29: まったくそう思わない | AE29: 1
C30: 人 | D30: 8 | E30: 私の職場は、誤った手順や方法で衛生管理や作業をしたら、その場で上司や同僚から指摘される | M30: =T30*14.2857 -> #DIV/0! | N30: =U30*14.2857 -> #DIV/0! | O30: =V30*14.2857 -> #DIV/0! | P30: =W30*14.2857 -> #DIV/0! | T30: =$AE13 -> #DIV/0! | U30: =$AE14 -> #DIV/0! | V30: =$AE15 -> #DIV/0! | W30: =$AE16 -> #DIV/0!
D31: 9 | E31: 私の職場は、一人ひとりの能力や適性を考えながら、育成・キャリア形成のために人員配置を行っている | M31: =T31*14.2857 -> #DIV/0! | N31: =U31*14.2857 -> #DIV/0! | O31: =V31*14.2857 -> #DIV/0! | P31: =W31*14.2857 -> #DIV/0! | T31: =$AF13 -> #DIV/0! | U31: =$AF14 -> #DIV/0! | V31: =$AF15 -> #DIV/0! | W31: =$AF16 -> #DIV/0!
D32: 10 | E32: 私のチームでは、安全で衛生的な製品を作るために、他のチームと協力しあっている | M32: =T32*14.2857 -> #DIV/0! | N32: =U32*14.2857 -> #DIV/0! | O32: =V32*14.2857 -> #DIV/0! | P32: =W32*14.2857 -> #DIV/0! | T32: =$AG13 -> #DIV/0! | U32: =$AG14 -> #DIV/0! | V32: =$AG15 -> #DIV/0! | W32: =$AG16 -> #DIV/0!
D33: 11 | E33: 私の職場は、新しく加わった同僚に対して、経験豊かなメンバーや上司が作業手順や衛生管理のやり方を理解するまで寄り添ってくれている | M33: =T33*14.2857 -> #DIV/0! | N33: =U33*14.2857 -> #DIV/0! | O33: =V33*14.2857 -> #DIV/0! | P33: =W33*14.2857 -> #DIV/0! | T33: =$AH13 -> #DIV/0! | U33: =$AH14 -> #DIV/0! | V33: =$AH15 -> #DIV/0! | W33: =$AH16 -> #DIV/0!
D34: 12 | E34: 私の職場は、上司や同僚とお互いに、作業手順や食品の安全・衛生について注意を促しあい、声を掛け合っている | M34: =T34*14.2857 -> #DIV/0! | N34: =U34*14.2857 -> #DIV/0! | O34: =V34*14.2857 -> #DIV/0! | P34: =W34*14.2857 -> #DIV/0! | T34: =$AI13 -> #DIV/0! | U34: =$AI14 -> #DIV/0! | V34: =$AI15 -> #DIV/0! | W34: =$AI16 -> #DIV/0!
D35: 13 | E35: 私の職場は、作業手順や衛生管理のことが分からないときには、上司や同僚に気軽に聞ける雰囲気がある | M35: =T35*14.2857 -> #DIV/0! | N35: =U35*14.2857 -> #DIV/0! | O35: =V35*14.2857 -> #DIV/0! | P35: =W35*14.2857 -> #DIV/0! | T35: =$AJ13 -> #DIV/0! | U35: =$AJ14 -> #DIV/0! | V35: =$AJ15 -> #DIV/0! | W35: =$AJ16 -> #DIV/0!
D36: 14 | E36: 上司は安全な製品を作るためのやる気を高めてくれる | M36: =T36*14.2857 -> #DIV/0! | N36: =U36*14.2857 -> #DIV/0! | O36: =V36*14.2857 -> #DIV/0! | P36: =W36*14.2857 -> #DIV/0! | T36: =$AK13 -> #DIV/0! | U36: =$AK14 -> #DIV/0! | V36: =$AK15 -> #DIV/0! | W36: =$AK16 -> #DIV/0!
D37: 15 | E37: 食品安全や衛生に関する情報は、十分に理解できる内容で共有されている（掲示物等） | M37: =T37*14.2857 -> #DIV/0! | N37: =U37*14.2857 -> #DIV/0! | O37: =V37*14.2857 -> #DIV/0! | P37: =W37*14.2857 -> #DIV/0! | T37: =$AL13 -> #DIV/0! | U37: =$AL14 -> #DIV/0! | V37: =$AL15 -> #DIV/0! | W37: =$AL16 -> #DIV/0!
D38: 16 | E38: 食品安全や衛生に関する研修（社内・社外研修や、現場でのトレーニング）は、十分な頻度で行われている | M38: =T38*14.2857 -> #DIV/0! | N38: =U38*14.2857 -> #DIV/0! | O38: =V38*14.2857 -> #DIV/0! | P38: =W38*14.2857 -> #DIV/0! | T38: =$AM13 -> #DIV/0! | U38: =$AM14 -> #DIV/0! | V38: =$AM15 -> #DIV/0! | W38: =$AM16 -> #DIV/0!
D39: 17 | E39: 食品安全や衛生に関する研修（社内・社外研修や、現場でのトレーニング）で学んだことは、自分の仕事をより良くするために役立っている | M39: =T39*14.2857 -> #DIV/0! | N39: =U39*14.2857 -> #DIV/0! | O39: =V39*14.2857 -> #DIV/0! | P39: =W39*14.2857 -> #DIV/0! | T39: =$AN13 -> #DIV/0! | U39: =$AN14 -> #DIV/0! | V39: =$AN15 -> #DIV/0! | W39: =$AN16 -> #DIV/0!
C40: 一貫性 | D40: 18 | E40: 私の職場は、たとえ忙しかったとしても必ず作業手順をしっかりと守り、正しい作業を実施している | M40: =T40*14.2857 -> #DIV/0! | N40: =U40*14.2857 -> #DIV/0! | O40: =V40*14.2857 -> #DIV/0! | P40: =W40*14.2857 -> #DIV/0! | T40: =$AO13 -> #DIV/0! | U40: =$AO14 -> #DIV/0! | V40: =$AO15 -> #DIV/0! | W40: =$AO16 -> #DIV/0!
D41: 19 | E41: 私の職場は、作業手順書や管理基準は必要なときにすぐに確認できる | M41: =T41*14.2857 -> #DIV/0! | N41: =U41*14.2857 -> #DIV/0! | O41: =V41*14.2857 -> #DIV/0! | P41: =W41*14.2857 -> #DIV/0! | T41: =$AP13 -> #DIV/0! | U41: =$AP14 -> #DIV/0! | V41: =$AP15 -> #DIV/0! | W41: =$AP16 -> #DIV/0!
D42: 20 | E42: 私の職場の作業手順書や管理基準は、とても分かりやすく、理解しやすいように工夫されている | M42: =T42*14.2857 -> #DIV/0! | N42: =U42*14.2857 -> #DIV/0! | O42: =V42*14.2857 -> #DIV/0! | P42: =W42*14.2857 -> #DIV/0! | T42: =$AQ13 -> #DIV/0! | U42: =$AQ14 -> #DIV/0! | V42: =$AQ15 -> #DIV/0! | W42: =$AQ16 -> #DIV/0!
D43: 21 | E43: 私の職場は、作業手順書や管理基準の作成や見直しに、実際に作業をしている方の声が反映されている | M43: =T43*14.2857 -> #DIV/0! | N43: =U43*14.2857 -> #DIV/0! | O43: =V43*14.2857 -> #DIV/0! | P43: =W43*14.2857 -> #DIV/0! | T43: =$AR13 -> #DIV/0! | U43: =$AR14 -> #DIV/0! | V43: =$AR15 -> #DIV/0! | W43: =$AR16 -> #DIV/0!
D44: 22 | E44: 私の職場は、食品安全に関する書類や記録、日報などの文書業務の量が適切であると感じている | M44: =T44*14.2857 -> #DIV/0! | N44: =U44*14.2857 -> #DIV/0! | O44: =V44*14.2857 -> #DIV/0! | P44: =W44*14.2857 -> #DIV/0! | T44: =$AS13 -> #DIV/0! | U44: =$AS14 -> #DIV/0! | V44: =$AS15 -> #DIV/0! | W44: =$AS16 -> #DIV/0!
D45: 23 | E45: 私は、自分の仕事を正しく行うことで、安全な商品をお客様に提供できていると実感している | M45: =T45*14.2857 -> #DIV/0! | N45: =U45*14.2857 -> #DIV/0! | O45: =V45*14.2857 -> #DIV/0! | P45: =W45*14.2857 -> #DIV/0! | T45: =$AT13 -> #DIV/0! | U45: =$AT14 -> #DIV/0! | V45: =$AT15 -> #DIV/0! | W45: =$AT16 -> #DIV/0!
D46: 24 | E46: 私は、食品安全を保つために衛生管理のルール（服装、手洗い、入退室、食品の取り扱いなど）を守ることが大切だと思っている | M46: =T46*14.2857 -> #DIV/0! | N46: =U46*14.2857 -> #DIV/0! | O46: =V46*14.2857 -> #DIV/0! | P46: =W46*14.2857 -> #DIV/0! | T46: =$AU13 -> #DIV/0! | U46: =$AU14 -> #DIV/0! | V46: =$AU15 -> #DIV/0! | W46: =$AU16 -> #DIV/0!
C47: 適応力 | D47: 25 | E47: 私の職場は、何かおかしいと感じたらすぐに作業を止めることが出来る | M47: =T47*14.2857 -> #DIV/0! | N47: =U47*14.2857 -> #DIV/0! | O47: =V47*14.2857 -> #DIV/0! | P47: =W47*14.2857 -> #DIV/0! | T47: =$AV13 -> #DIV/0! | U47: =$AV14 -> #DIV/0! | V47: =$AV15 -> #DIV/0! | W47: =$AV16 -> #DIV/0!
D48: 26 | E48: 私の職場は、変化や異常を見つけたときには、すぐに対応している | M48: =T48*14.2857 -> #DIV/0! | N48: =U48*14.2857 -> #DIV/0! | O48: =V48*14.2857 -> #DIV/0! | P48: =W48*14.2857 -> #DIV/0! | T48: =$AW13 -> #DIV/0! | U48: =$AW14 -> #DIV/0! | V48: =$AW15 -> #DIV/0! | W48: =$AW16 -> #DIV/0!
D49: 27 | E49: 私の職場は、新しい制度、ルール、知識や技術を取り入れて成長し続けることを大切にしている | M49: =T49*14.2857 -> #DIV/0! | N49: =U49*14.2857 -> #DIV/0! | O49: =V49*14.2857 -> #DIV/0! | P49: =W49*14.2857 -> #DIV/0! | T49: =$AX13 -> #DIV/0! | U49: =$AX14 -> #DIV/0! | V49: =$AX15 -> #DIV/0! | W49: =$AX16 -> #DIV/0!
D50: 28 | E50: 私は、自分の作業を振り返り、もっと良い方法がないか考え、提案している | M50: =T50*14.2857 -> #DIV/0! | N50: =U50*14.2857 -> #DIV/0! | O50: =V50*14.2857 -> #DIV/0! | P50: =W50*14.2857 -> #DIV/0! | T50: =$AY13 -> #DIV/0! | U50: =$AY14 -> #DIV/0! | V50: =$AY15 -> #DIV/0! | W50: =$AY16 -> #DIV/0!
C51: 危害と リスク認知 | D51: 29 | E51: 私の職場は、食品安全や衛生について気づいたことがあれば、みんなが自由に意見を言える雰囲気がある | M51: =T51*14.2857 -> #DIV/0! | N51: =U51*14.2857 -> #DIV/0! | O51: =V51*14.2857 -> #DIV/0! | P51: =W51*14.2857 -> #DIV/0! | T51: =$AZ13 -> #DIV/0! | U51: =$AZ14 -> #DIV/0! | V51: =$AZ15 -> #DIV/0! | W51: =$AZ16 -> #DIV/0!
D52: 30 | E52: 私たちの職場では、問題があると感じたら作業を止めても責められることはない | M52: =T52*14.2857 -> #DIV/0! | N52: =U52*14.2857 -> #DIV/0! | O52: =V52*14.2857 -> #DIV/0! | P52: =W52*14.2857 -> #DIV/0! | T52: =$BA13 -> #DIV/0! | U52: =$BA14 -> #DIV/0! | V52: =$BA15 -> #DIV/0! | W52: =$BA16 -> #DIV/0!
D53: 31 | E53: 私は業務中に食品安全や衛生面の問題が少しあると感じながらも、そのまま作業してしまうことがある | L53: ＊反転項目 | M53: =T53*14.2857 -> #DIV/0! | N53: =U53*14.2857 -> #DIV/0! | O53: =V53*14.2857 -> #DIV/0! | P53: =W53*14.2857 -> #DIV/0! | T53: =$BB13 -> #DIV/0! | U53: =$BB14 -> #DIV/0! | V53: =$BB15 -> #DIV/0! | W53: =$BB16 -> #DIV/0!
D54: 32 | E54: 作業手順書や衛生管理のマニュアル・ルールを守るのは、めんとうに感じるときがある | L54: ＊反転項目 | M54: =T54*14.2857 -> #DIV/0! | N54: =U54*14.2857 -> #DIV/0! | O54: =V54*14.2857 -> #DIV/0! | P54: =W54*14.2857 -> #DIV/0! | T54: =$BC13 -> #DIV/0! | U54: =$BC14 -> #DIV/0! | V54: =$BC15 -> #DIV/0! | W54: =$BC16 -> #DIV/0!
D55: 33 | E55: 私は時間に追われると、作業手順書や衛生管理をおろそかにしてしまうことがある | L55: ＊反転項目 | M55: =T55*14.2857 -> #DIV/0! | N55: =U55*14.2857 -> #DIV/0! | O55: =V55*14.2857 -> #DIV/0! | P55: =W55*14.2857 -> #DIV/0! | T55: =$BD13 -> #DIV/0! | U55: =$BD14 -> #DIV/0! | V55: =$BD15 -> #DIV/0! | W55: =$BD16 -> #DIV/0!
D56: 34 | E56: 私は器具や設備に小さな不具合を見つけても、つい『大したことではないから後でいいや』と思ってしまうことがある | L56: ＊反転項目 | M56: =T56*14.2857 -> #DIV/0! | N56: =U56*14.2857 -> #DIV/0! | O56: =V56*14.2857 -> #DIV/0! | P56: =W56*14.2857 -> #DIV/0! | T56: =$BE13 -> #DIV/0! | U56: =$BE14 -> #DIV/0! | V56: =$BE15 -> #DIV/0! | W56: =$BE16 -> #DIV/0!
C57: 施設・ 設備 | D57: 35 | E57: 私の職場には、食品の安全と衛生を守るために必要な施設や設備、備品がしっかり整っている | M57: =T57*14.2857 -> #DIV/0! | N57: =U57*14.2857 -> #DIV/0! | O57: =V57*14.2857 -> #DIV/0! | P57: =W57*14.2857 -> #DIV/0! | T57: =$BF13 -> #DIV/0! | U57: =$BF14 -> #DIV/0! | V57: =$BF15 -> #DIV/0! | W57: =$BF16 -> #DIV/0!
D58: 36 | E58: 製造エリア・トイレ・食堂の手洗い設備は、必要な時にすぐ使える | M58: =T58*14.2857 -> #DIV/0! | N58: =U58*14.2857 -> #DIV/0! | O58: =V58*14.2857 -> #DIV/0! | P58: =W58*14.2857 -> #DIV/0! | T58: =$BG13 -> #DIV/0! | U58: =$BG14 -> #DIV/0! | V58: =$BG15 -> #DIV/0! | W58: =$BG16 -> #DIV/0!
D59: 37 | E59: 私の職場は、修理が必要な施設や設備を見つけたら、修理をお願いできる環境が整っている | M59: =T59*14.2857 -> #DIV/0! | N59: =U59*14.2857 -> #DIV/0! | O59: =V59*14.2857 -> #DIV/0! | P59: =W59*14.2857 -> #DIV/0! | T59: =$BH13 -> #DIV/0! | U59: =$BH14 -> #DIV/0! | V59: =$BH15 -> #DIV/0! | W59: =$BH16 -> #DIV/0!
Q61: 以上

Sheet データ反映シート
A1: ID | B1: 開始時刻 | C1: 完了時刻 | D1: メール | E1: 名前 | F1: 最終変更時刻 | G1: あなたの仕事における役職・階層を選択してください | H1: あなたの所属する部門（Column） | I1: 3 | J1: 4 | K1: 5 | L1: 6 | M1: 7 | N1: 8 | O1: 9 | P1: 10 | Q1: 11 | R1: 12 | S1: 13 | T1: 14 | U1: 15 | V1: 16 | W1: 17 | X1: 18 | Y1: 19 | Z1: 20 | AA1: 21 | AB1: 22 | AC1: 23 | AD1: 24 | AE1: 25 | AF1: 26 | AG1: 27 | AH1: 28 | AI1: 29 | AJ1: 30 | AK1: 31 | AL1: 32 | AM1: 33 | AN1: 34 | AO1: 35 | AP1: 36 | AQ1: 37 | AR1: 38 | AS1: 39 | AT1: 列1 | AU1: 列2 | AV1: 列3 | AW1: 列4 | AX1: 列5 | AY1: 列6 | AZ1: 列7 | BA1: 列8 | BB1: 列9 | BC1: 列10 | BD1: 列11 | BE1: 列12 | BF1: 列13 | BG1: 列14 | BH1: 列15 | BI1: 列16 | BJ1: 列17 | BK1: 列18 | BL1: 列19 | BM1: 列20 | BN1: 列21 | BO1: 列22 | BP1: 列23 | BQ1: 列24 | BR1: 列25 | BS1: 列26 | BT1: 列27
A2: 1 | AT2: 当てはまる
A3: 2 | AT3: 当てはまる
A4: 3 | AT4: どちらでもない
A5: 4 | AT5: 当てはまる
A6: 5 | AT6: どちらでもない
A7: 6 | AT7: 当てはまらない
A8: 7 | AT8: どちらでもない
A9: 8 | AT9: 当てはまる
A10: 9 | AT10: 当てはまる
A11: 10 | AT11: 当てはまる
A12: 11 | AT12: どちらでもない
A13: 12 | AT13: 当てはまる
... A34: 33 | AT34: どちらでもない
A35: 34
A36: 35
A37: 36
A38: 37
A39: 38
A40: 39
A41: 40
A42: 41
A43: 42
A44: 43
A45: 44
A46: 45
... A201: 200
