{"text_format":"3","workbook":"xlsx","n_sheets":4,"sheets":["経済的アクセス関係","物理的アクセス関係","【経済】data","【物理】data"],"not_rendered":{"defined_names":8},"read":"whole","date_system":"1900"}

{"sheet":"経済的アクセス関係","index":0,"n_rows":38,"n_cols":14,"rows_kept":38,"merged":[[1,1,1,2],[6,1,9,1],[11,1,12,1],[14,1,15,1]]}
[null,"食品アクセスの確保に関する支援策パッケージ【経済的アクセス関係】（詳細版）"]
[null,"令和９年度予算概算要求時点版"]
[]
[]
[]
[null,"【検索条件】"]
[null,"①利用者","地方公共団体","民間事業者","NPO法人","フードバンク","フードパントリー","こども食堂"]
[null,null,"-","-","-","-","-","-"]
[null,null,"こども宅食","農業協同組合","消費生活協同組合","社会福祉法人","社会福祉協議会","その他"]
[null,null,"-","-","-","-","-","-"]
[]
[null,"②目的","食料提供に資する体制を構築したい","食料提供に資する体制を構築したい\n（特にデータ構築の観点から）","食品・食事の提供活動を強化したい","食品・食事の提供活動を強化したい\n（特に物価高騰への対応の観点から）","政府の備蓄食品を\n受け取りたい","食品アクセスの状況や対策事例等について知りたい"]
[null,null,"-","-","-","-","-","-"]
[]
[null,"③予算の別","令和９年度予算概算要求",null,"予算以外の施策"]
[null,null,"-",null,"-"]
[]
[]
["表示No","目的","実施主体・支援の流れ","支援メニュー（例）","補助対象経費（例）","補助率・補助上限","要件","事業名","公募要領等\n関連ページ","担当省庁・局・課","問合せ先（電話・メール）"]
[1,{"$f":"IFERROR(_xlfn.XLOOKUP($A20,【経済】data!$A$3:$A$21,【経済】data!C$3:C$21),\"\")","v":""},{"$f":"IFERROR(_xlfn.XLOOKUP($A20,【経済】data!$A$3:$A$21,【経済】data!D$3:D$21),\"\")","v":""},{"$f":"IFERROR(_xlfn.XLOOKUP($A20,【経済】data!$A$3:$A$21,【経済】data!E$3:E$21),\"\")","v":""},{"$f":"IFERROR(_xlfn.XLOOKUP($A20,【経済】data!$A$3:$A$21,【経済】data!F$3:F$21),\"\")","v":""},{"$f":"IFERROR(_xlfn.XLOOKUP($A20,【経済】data!$A$3:$A$21,【経済】data!G$3:G$21),\"\")","v":""},{"$f":"IFERROR(_xlfn.XLOOKUP($A20,【経済】data!$A$3:$A$21,【経済】data!H$3:H$21),\"\")","v":""},{"$f":"IFERROR(_xlfn.XLOOKUP($A20,【経済】data!$A$3:$A$21,【経済】data!B$3:B$21),\"\")","v":""},{"$f":"IFERROR(_xlfn.XLOOKUP($A20,【経済】data!$A$3:$A$21,【経済】data!I$3:I$21),\"\")","v":""},{"$f":"IFERROR(_xlfn.XLOOKUP($A20,【経済】data!$A$3:$A$21,【経済】data!J$3:J$21),\"\")","v":""},{"$f":"IFERROR(_xlfn.XLOOKUP($A20,【経済】data!$A$3:$A$21,【経済】data!K$3:K$21),\"\")","v":""}]
[2,{"$f":"IFERROR(_xlfn.XLOOKUP($A21,【経済】data!$A$3:$A$21,【経済】data!C$3:C$21),\"\")","v":""},{"$f":"IFERROR(_xlfn.XLOOKUP($A21,【経済】data!$A$3:$A$21,【経済】data!D$3:D$21),\"\")","v":""},{"$f":"IFERROR(_xlfn.XLOOKUP($A21,【経済】data!$A$3:$A$21,【経済】data!E$3:E$21),\"\")","v":""},{"$f":"IFERROR(_xlfn.XLOOKUP($A21,【経済】data!$A$3:$A$21,【経済】data!F$3:F$21),\"\")","v":""},{"$f":"IFERROR(_xlfn.XLOOKUP($A21,【経済】data!$A$3:$A$21,【経済】data!G$3:G$21),\"\")","v":""},{"$f":"IFERROR(_xlfn.XLOOKUP($A21,【経済】data!$A$3:$A$21,【経済】data!H$3:H$21),\"\")","v":""},{"$f":"IFERROR(_xlfn.XLOOKUP($A21,【経済】data!$A$3:$A$21,【経済】data!B$3:B$21),\"\")","v":""},{"$f":"IFERROR(_xlfn.XLOOKUP($A21,【経済】data!$A$3:$A$21,【経済】data!I$3:I$21),\"\")","v":""},{"$f":"IFERROR(_xlfn.XLOOKUP($A21,【経済】data!$A$3:$A$21,【経済】data!J$3:J$21),\"\")","v":""},{"$f":"IFERROR(_xlfn.XLOOKUP($A21,【経済】data!$A$3:$A$21,【経済】data!K$3:K$21),\"\")","v":""}]
[3,{"$f":"IFERROR(_xlfn.XLOOKUP($A22,【経済】data!$A$3:$A$21,【経済】data!C$3:C$21),\"\")","v":""},{"$f":"IFERROR(_xlfn.XLOOKUP($A22,【経済】data!$A$3:$A$21,【経済】data!D$3:D$21),\"\")","v":""},{"$f":"IFERROR(_xlfn.XLOOKUP($A22,【経済】data!$A$3:$A$21,【経済】data!E$3:E$21),\"\")","v":""},{"$f":"IFERROR(_xlfn.XLOOKUP($A22,【経済】data!$A$3:$A$21,【経済】data!F$3:F$21),\"\")","v":""},{"$f":"IFERROR(_xlfn.XLOOKUP($A22,【経済】data!$A$3:$A$21,【経済】data!G$3:G$21),\"\")","v":""},{"$f":"IFERROR(_xlfn.XLOOKUP($A22,【経済】data!$A$3:$A$21,【経済】data!H$3:H$21),\"\")","v":""},{"$f":"IFERROR(_xlfn.XLOOKUP($A22,【経済】data!$A$3:$A$21,【経済】data!B$3:B$21),\"\")","v":""},{"$f":"IFERROR(_xlfn.XLOOKUP($A22,【経済】data!$A$3:$A$21,【経済】data!I$3:I$21),\"\")","v":""},{"$f":"IFERROR(_xlfn.XLOOKUP($A22,【経済】data!$A$3:$A$21,【経済】data!J$3:J$21),\"\")","v":""},{"$f":"IFERROR(_xlfn.XLOOKUP($A22,【経済】data!$A$3:$A$21,【経済】data!K$3:K$21),\"\")","v":""}]
[4,{"$f":"IFERROR(_xlfn.XLOOKUP($A23,【経済】data!$A$3:$A$21,【経済】data!C$3:C$21),\"\")","v":""},{"$f":"IFERROR(_xlfn.XLOOKUP($A23,【経済】data!$A$3:$A$21,【経済】data!D$3:D$21),\"\")","v":""},{"$f":"IFERROR(_xlfn.XLOOKUP($A23,【経済】data!$A$3:$A$21,【経済】data!E$3:E$21),\"\")","v":""},{"$f":"IFERROR(_xlfn.XLOOKUP($A23,【経済】data!$A$3:$A$21,【経済】data!F$3:F$21),\"\")","v":""},{"$f":"IFERROR(_xlfn.XLOOKUP($A23,【経済】data!$A$3:$A$21,【経済】data!G$3:G$21),\"\")","v":""},{"$f":"IFERROR(_xlfn.XLOOKUP($A23,【経済】data!$A$3:$A$21,【経済】data!H$3:H$21),\"\")","v":""},{"$f":"IFERROR(_xlfn.XLOOKUP($A23,【経済】data!$A$3:$A$21,【経済】data!B$3:B$21),\"\")","v":""},{"$f":"IFERROR(_xlfn.XLOOKUP($A23,【経済】data!$A$3:$A$21,【経済】data!I$3:I$21),\"\")","v":""},{"$f":"IFERROR(_xlfn.XLOOKUP($A23,【経済】data!$A$3:$A$21,【経済】data!J$3:J$21),\"\")","v":""},{"$f":"IFERROR(_xlfn.XLOOKUP($A23,【経済】data!$A$3:$A$21,【経済】data!K$3:K$21),\"\")","v":""}]
[5,{"$f":"IFERROR(_xlfn.XLOOKUP($A24,【経済】data!$A$3:$A$21,【経済】data!C$3:C$21),\"\")","v":""},{"$f":"IFERROR(_xlfn.XLOOKUP($A24,【経済】data!$A$3:$A$21,【経済】data!D$3:D$21),\"\")","v":""},{"$f":"IFERROR(_xlfn.XLOOKUP($A24,【経済】data!$A$3:$A$21,【経済】data!E$3:E$21),\"\")","v":""},{"$f":"IFERROR(_xlfn.XLOOKUP($A24,【経済】data!$A$3:$A$21,【経済】data!F$3:F$21),\"\")","v":""},{"$f":"IFERROR(_xlfn.XLOOKUP($A24,【経済】data!$A$3:$A$21,【経済】data!G$3:G$21),\"\")","v":""},{"$f":"IFERROR(_xlfn.XLOOKUP($A24,【経済】data!$A$3:$A$21,【経済】data!H$3:H$21),\"\")","v":""},{"$f":"IFERROR(_xlfn.XLOOKUP($A24,【経済】data!$A$3:$A$21,【経済】data!B$3:B$21),\"\")","v":""},{"$f":"IFERROR(_xlfn.XLOOKUP($A24,【経済】data!$A$3:$A$21,【経済】data!I$3:I$21),\"\")","v":""},{"$f":"IFERROR(_xlfn.XLOOKUP($A24,【経済】data!$A$3:$A$21,【経済】data!J$3:J$21),\"\")","v":""},{"$f":"IFERROR(_xlfn.XLOOKUP($A24,【経済】data!$A$3:$A$21,【経済】data!K$3:K$21),\"\")","v":""}]
[6,{"$f":"IFERROR(_xlfn.XLOOKUP($A25,【経済】data!$A$3:$A$21,【経済】data!C$3:C$21),\"\")","v":""},{"$f":"IFERROR(_xlfn.XLOOKUP($A25,【経済】data!$A$3:$A$21,【経済】data!D$3:D$21),\"\")","v":""},{"$f":"IFERROR(_xlfn.XLOOKUP($A25,【経済】data!$A$3:$A$21,【経済】data!E$3:E$21),\"\")","v":""},{"$f":"IFERROR(_xlfn.XLOOKUP($A25,【経済】data!$A$3:$A$21,【経済】data!F$3:F$21),\"\")","v":""},{"$f":"IFERROR(_xlfn.XLOOKUP($A25,【経済】data!$A$3:$A$21,【経済】data!G$3:G$21),\"\")","v":""},{"$f":"IFERROR(_xlfn.XLOOKUP($A25,【経済】data!$A$3:$A$21,【経済】data!H$3:H$21),\"\")","v":""},{"$f":"IFERROR(_xlfn.XLOOKUP($A25,【経済】data!$A$3:$A$21,【経済】data!B$3:B$21),\"\")","v":""},{"$f":"IFERROR(_xlfn.XLOOKUP($A25,【経済】data!$A$3:$A$21,【経済】data!I$3:I$21),\"\")","v":""},{"$f":"IFERROR(_xlfn.XLOOKUP($A25,【経済】data!$A$3:$A$21,【経済】data!J$3:J$21),\"\")","v":""},{"$f":"IFERROR(_xlfn.XLOOKUP($A25,【経済】data!$A$3:$A$21,【経済】data!K$3:K$21),\"\")","v":""}]
[7,{"$f":"IFERROR(_xlfn.XLOOKUP($A26,【経済】data!$A$3:$A$21,【経済】data!C$3:C$21),\"\")","v":""},{"$f":"IFERROR(_xlfn.XLOOKUP($A26,【経済】data!$A$3:$A$21,【経済】data!D$3:D$21),\"\")","v":""},{"$f":"IFERROR(_xlfn.XLOOKUP($A26,【経済】data!$A$3:$A$21,【経済】data!E$3:E$21),\"\")","v":""},{"$f":"IFERROR(_xlfn.XLOOKUP($A26,【経済】data!$A$3:$A$21,【経済】data!F$3:F$21),\"\")","v":""},{"$f":"IFERROR(_xlfn.XLOOKUP($A26,【経済】data!$A$3:$A$21,【経済】data!G$3:G$21),\"\")","v":""},{"$f":"IFERROR(_xlfn.XLOOKUP($A26,【経済】data!$A$3:$A$21,【経済】data!H$3:H$21),\"\")","v":""},{"$f":"IFERROR(_xlfn.XLOOKUP($A26,【経済】data!$A$3:$A$21,【経済】data!B$3:B$21),\"\")","v":""},{"$f":"IFERROR(_xlfn.XLOOKUP($A26,【経済】data!$A$3:$A$21,【経済】data!I$3:I$21),\"\")","v":""},{"$f":"IFERROR(_xlfn.XLOOKUP($A26,【経済】data!$A$3:$A$21,【経済】data!J$3:J$21),\"\")","v":""},{"$f":"IFERROR(_xlfn.XLOOKUP($A26,【経済】data!$A$3:$A$21,【経済】data!K$3:K$21),\"\")","v":""}]
[8,{"$f":"IFERROR(_xlfn.XLOOKUP($A27,【経済】data!$A$3:$A$21,【経済】data!C$3:C$21),\"\")","v":""},{"$f":"IFERROR(_xlfn.XLOOKUP($A27,【経済】data!$A$3:$A$21,【経済】data!D$3:D$21),\"\")","v":""},{"$f":"IFERROR(_xlfn.XLOOKUP($A27,【経済】data!$A$3:$A$21,【経済】data!E$3:E$21),\"\")","v":""},{"$f":"IFERROR(_xlfn.XLOOKUP($A27,【経済】data!$A$3:$A$21,【経済】data!F$3:F$21),\"\")","v":""},{"$f":"IFERROR(_xlfn.XLOOKUP($A27,【経済】data!$A$3:$A$21,【経済】data!G$3:G$21),\"\")","v":""},{"$f":"IFERROR(_xlfn.XLOOKUP($A27,【経済】data!$A$3:$A$21,【経済】data!H$3:H$21),\"\")","v":""},{"$f":"IFERROR(_xlfn.XLOOKUP($A27,【経済】data!$A$3:$A$21,【経済】data!B$3:B$21),\"\")","v":""},{"$f":"IFERROR(_xlfn.XLOOKUP($A27,【経済】data!$A$3:$A$21,【経済】data!I$3:I$21),\"\")","v":""},{"$f":"IFERROR(_xlfn.XLOOKUP($A27,【経済】data!$A$3:$A$21,【経済】data!J$3:J$21),\"\")","v":""},{"$f":"IFERROR(_xlfn.XLOOKUP($A27,【経済】data!$A$3:$A$21,【経済】data!K$3:K$21),\"\")","v":""}]
[9,{"$f":"IFERROR(_xlfn.XLOOKUP($A28,【経済】data!$A$3:$A$21,【経済】data!C$3:C$21),\"\")","v":""},{"$f":"IFERROR(_xlfn.XLOOKUP($A28,【経済】data!$A$3:$A$21,【経済】data!D$3:D$21),\"\")","v":""},{"$f":"IFERROR(_xlfn.XLOOKUP($A28,【経済】data!$A$3:$A$21,【経済】data!E$3:E$21),\"\")","v":""},{"$f":"IFERROR(_xlfn.XLOOKUP($A28,【経済】data!$A$3:$A$21,【経済】data!F$3:F$21),\"\")","v":""},{"$f":"IFERROR(_xlfn.XLOOKUP($A28,【経済】data!$A$3:$A$21,【経済】data!G$3:G$21),\"\")","v":""},{"$f":"IFERROR(_xlfn.XLOOKUP($A28,【経済】data!$A$3:$A$21,【経済】data!H$3:H$21),\"\")","v":""},{"$f":"IFERROR(_xlfn.XLOOKUP($A28,【経済】data!$A$3:$A$21,【経済】data!B$3:B$21),\"\")","v":""},{"$f":"IFERROR(_xlfn.XLOOKUP($A28,【経済】data!$A$3:$A$21,【経済】data!I$3:I$21),\"\")","v":""},{"$f":"IFERROR(_xlfn.XLOOKUP($A28,【経済】data!$A$3:$A$21,【経済】data!J$3:J$21),\"\")","v":""},{"$f":"IFERROR(_xlfn.XLOOKUP($A28,【経済】data!$A$3:$A$21,【経済】data!K$3:K$21),\"\")","v":""}]
[10,{"$f":"IFERROR(_xlfn.XLOOKUP($A29,【経済】data!$A$3:$A$21,【経済】data!C$3:C$21),\"\")","v":""},{"$f":"IFERROR(_xlfn.XLOOKUP($A29,【経済】data!$A$3:$A$21,【経済】data!D$3:D$21),\"\")","v":""},{"$f":"IFERROR(_xlfn.XLOOKUP($A29,【経済】data!$A$3:$A$21,【経済】data!E$3:E$21),\"\")","v":""},{"$f":"IFERROR(_xlfn.XLOOKUP($A29,【経済】data!$A$3:$A$21,【経済】data!F$3:F$21),\"\")","v":""},{"$f":"IFERROR(_xlfn.XLOOKUP($A29,【経済】data!$A$3:$A$21,【経済】data!G$3:G$21),\"\")","v":""},{"$f":"IFERROR(_xlfn.XLOOKUP($A29,【経済】data!$A$3:$A$21,【経済】data!H$3:H$21),\"\")","v":""},{"$f":"IFERROR(_xlfn.XLOOKUP($A29,【経済】data!$A$3:$A$21,【経済】data!B$3:B$21),\"\")","v":""},{"$f":"IFERROR(_xlfn.XLOOKUP($A29,【経済】data!$A$3:$A$21,【経済】data!I$3:I$21),\"\")","v":""},{"$f":"IFERROR(_xlfn.XLOOKUP($A29,【経済】data!$A$3:$A$21,【経済】data!J$3:J$21),\"\")","v":""},{"$f":"IFERROR(_xlfn.XLOOKUP($A29,【経済】data!$A$3:$A$21,【経済】data!K$3:K$21),\"\")","v":""},null,{"$f":"IFERROR(_xlfn.XLOOKUP($A29,【経済】data!$A$3:$A$20,【経済】data!M$3:M$20),\"\")","v":""},{"$f":"IFERROR(_xlfn.XLOOKUP($A29,【経済】data!$A$3:$A$20,【経済】data!N$3:N$20),\"\")","v":""}]
[11,{"$f":"IFERROR(_xlfn.XLOOKUP($A30,【経済】data!$A$3:$A$21,【経済】data!C$3:C$21),\"\")","v":""},{"$f":"IFERROR(_xlfn.XLOOKUP($A30,【経済】data!$A$3:$A$21,【経済】data!D$3:D$21),\"\")","v":""},{"$f":"IFERROR(_xlfn.XLOOKUP($A30,【経済】data!$A$3:$A$21,【経済】data!E$3:E$21),\"\")","v":""},{"$f":"IFERROR(_xlfn.XLOOKUP($A30,【経済】data!$A$3:$A$21,【経済】data!F$3:F$21),\"\")","v":""},{"$f":"IFERROR(_xlfn.XLOOKUP($A30,【経済】data!$A$3:$A$21,【経済】data!G$3:G$21),\"\")","v":""},{"$f":"IFERROR(_xlfn.XLOOKUP($A30,【経済】data!$A$3:$A$21,【経済】data!H$3:H$21),\"\")","v":""},{"$f":"IFERROR(_xlfn.XLOOKUP($A30,【経済】data!$A$3:$A$21,【経済】data!B$3:B$21),\"\")","v":""},{"$f":"IFERROR(_xlfn.XLOOKUP($A30,【経済】data!$A$3:$A$21,【経済】data!I$3:I$21),\"\")","v":""},{"$f":"IFERROR(_xlfn.XLOOKUP($A30,【経済】data!$A$3:$A$21,【経済】data!J$3:J$21),\"\")","v":""},{"$f":"IFERROR(_xlfn.XLOOKUP($A30,【経済】data!$A$3:$A$21,【経済】data!K$3:K$21),\"\")","v":""},null,{"$f":"IFERROR(_xlfn.XLOOKUP($A30,【経済】data!$A$3:$A$20,【経済】data!M$3:M$20),\"\")","v":""},{"$f":"IFERROR(_xlfn.XLOOKUP($A30,【経済】data!$A$3:$A$20,【経済】data!N$3:N$20),\"\")","v":""}]
[12,{"$f":"IFERROR(_xlfn.XLOOKUP($A31,【経済】data!$A$3:$A$21,【経済】data!C$3:C$21),\"\")","v":""},{"$f":"IFERROR(_xlfn.XLOOKUP($A31,【経済】data!$A$3:$A$21,【経済】data!D$3:D$21),\"\")","v":""},{"$f":"IFERROR(_xlfn.XLOOKUP($A31,【経済】data!$A$3:$A$21,【経済】data!E$3:E$21),\"\")","v":""},{"$f":"IFERROR(_xlfn.XLOOKUP($A31,【経済】data!$A$3:$A$21,【経済】data!F$3:F$21),\"\")","v":""},{"$f":"IFERROR(_xlfn.XLOOKUP($A31,【経済】data!$A$3:$A$21,【経済】data!G$3:G$21),\"\")","v":""},{"$f":"IFERROR(_xlfn.XLOOKUP($A31,【経済】data!$A$3:$A$21,【経済】data!H$3:H$21),\"\")","v":""},{"$f":"IFERROR(_xlfn.XLOOKUP($A31,【経済】data!$A$3:$A$21,【経済】data!B$3:B$21),\"\")","v":""},{"$f":"IFERROR(_xlfn.XLOOKUP($A31,【経済】data!$A$3:$A$21,【経済】data!I$3:I$21),\"\")","v":""},{"$f":"IFERROR(_xlfn.XLOOKUP($A31,【経済】data!$A$3:$A$21,【経済】data!J$3:J$21),\"\")","v":""},{"$f":"IFERROR(_xlfn.XLOOKUP($A31,【経済】data!$A$3:$A$21,【経済】data!K$3:K$21),\"\")","v":""},null,{"$f":"IFERROR(_xlfn.XLOOKUP($A31,【経済】data!$A$3:$A$20,【経済】data!M$3:M$20),\"\")","v":""},{"$f":"IFERROR(_xlfn.XLOOKUP($A31,【経済】data!$A$3:$A$20,【経済】data!N$3:N$20),\"\")","v":""}]
[13,{"$f":"IFERROR(_xlfn.XLOOKUP($A32,【経済】data!$A$3:$A$21,【経済】data!C$3:C$21),\"\")","v":""},{"$f":"IFERROR(_xlfn.XLOOKUP($A32,【経済】data!$A$3:$A$21,【経済】data!D$3:D$21),\"\")","v":""},{"$f":"IFERROR(_xlfn.XLOOKUP($A32,【経済】data!$A$3:$A$21,【経済】data!E$3:E$21),\"\")","v":""},{"$f":"IFERROR(_xlfn.XLOOKUP($A32,【経済】data!$A$3:$A$21,【経済】data!F$3:F$21),\"\")","v":""},{"$f":"IFERROR(_xlfn.XLOOKUP($A32,【経済】data!$A$3:$A$21,【経済】data!G$3:G$21),\"\")","v":""},{"$f":"IFERROR(_xlfn.XLOOKUP($A32,【経済】data!$A$3:$A$21,【経済】data!H$3:H$21),\"\")","v":""},{"$f":"IFERROR(_xlfn.XLOOKUP($A32,【経済】data!$A$3:$A$21,【経済】data!B$3:B$21),\"\")","v":""},{"$f":"IFERROR(_xlfn.XLOOKUP($A32,【経済】data!$A$3:$A$21,【経済】data!I$3:I$21),\"\")","v":""},{"$f":"IFERROR(_xlfn.XLOOKUP($A32,【経済】data!$A$3:$A$21,【経済】data!J$3:J$21),\"\")","v":""},{"$f":"IFERROR(_xlfn.XLOOKUP($A32,【経済】data!$A$3:$A$21,【経済】data!K$3:K$21),\"\")","v":""},null,{"$f":"IFERROR(_xlfn.XLOOKUP($A32,【経済】data!$A$3:$A$20,【経済】data!M$3:M$20),\"\")","v":""},{"$f":"IFERROR(_xlfn.XLOOKUP($A32,【経済】data!$A$3:$A$20,【経済】data!N$3:N$20),\"\")","v":""}]
[14,{"$f":"IFERROR(_xlfn.XLOOKUP($A33,【経済】data!$A$3:$A$21,【経済】data!C$3:C$21),\"\")","v":""},{"$f":"IFERROR(_xlfn.XLOOKUP($A33,【経済】data!$A$3:$A$21,【経済】data!D$3:D$21),\"\")","v":""},{"$f":"IFERROR(_xlfn.XLOOKUP($A33,【経済】data!$A$3:$A$21,【経済】data!E$3:E$21),\"\")","v":""},{"$f":"IFERROR(_xlfn.XLOOKUP($A33,【経済】data!$A$3:$A$21,【経済】data!F$3:F$21),\"\")","v":""},{"$f":"IFERROR(_xlfn.XLOOKUP($A33,【経済】data!$A$3:$A$21,【経済】data!G$3:G$21),\"\")","v":""},{"$f":"IFERROR(_xlfn.XLOOKUP($A33,【経済】data!$A$3:$A$21,【経済】data!H$3:H$21),\"\")","v":""},{"$f":"IFERROR(_xlfn.XLOOKUP($A33,【経済】data!$A$3:$A$21,【経済】data!B$3:B$21),\"\")","v":""},{"$f":"IFERROR(_xlfn.XLOOKUP($A33,【経済】data!$A$3:$A$21,【経済】data!I$3:I$21),\"\")","v":""},{"$f":"IFERROR(_xlfn.XLOOKUP($A33,【経済】data!$A$3:$A$21,【経済】data!J$3:J$21),\"\")","v":""},{"$f":"IFERROR(_xlfn.XLOOKUP($A33,【経済】data!$A$3:$A$21,【経済】data!K$3:K$21),\"\")","v":""},null,{"$f":"IFERROR(_xlfn.XLOOKUP($A33,【経済】data!$A$3:$A$20,【経済】data!M$3:M$20),\"\")","v":""},{"$f":"IFERROR(_xlfn.XLOOKUP($A33,【経済】data!$A$3:$A$20,【経済】data!N$3:N$20),\"\")","v":""}]
[15,{"$f":"IFERROR(_xlfn.XLOOKUP($A34,【経済】data!$A$3:$A$21,【経済】data!C$3:C$21),\"\")","v":""},{"$f":"IFERROR(_xlfn.XLOOKUP($A34,【経済】data!$A$3:$A$21,【経済】data!D$3:D$21),\"\")","v":""},{"$f":"IFERROR(_xlfn.XLOOKUP($A34,【経済】data!$A$3:$A$21,【経済】data!E$3:E$21),\"\")","v":""},{"$f":"IFERROR(_xlfn.XLOOKUP($A34,【経済】data!$A$3:$A$21,【経済】data!F$3:F$21),\"\")","v":""},{"$f":"IFERROR(_xlfn.XLOOKUP($A34,【経済】data!$A$3:$A$21,【経済】data!G$3:G$21),\"\")","v":""},{"$f":"IFERROR(_xlfn.XLOOKUP($A34,【経済】data!$A$3:$A$21,【経済】data!H$3:H$21),\"\")","v":""},{"$f":"IFERROR(_xlfn.XLOOKUP($A34,【経済】data!$A$3:$A$21,【経済】data!B$3:B$21),\"\")","v":""},{"$f":"IFERROR(_xlfn.XLOOKUP($A34,【経済】data!$A$3:$A$21,【経済】data!I$3:I$21),\"\")","v":""},{"$f":"IFERROR(_xlfn.XLOOKUP($A34,【経済】data!$A$3:$A$21,【経済】data!J$3:J$21),\"\")","v":""},{"$f":"IFERROR(_xlfn.XLOOKUP($A34,【経済】data!$A$3:$A$21,【経済】data!K$3:K$21),\"\")","v":""},null,{"$f":"IFERROR(_xlfn.XLOOKUP($A34,【経済】data!$A$3:$A$20,【経済】data!M$3:M$20),\"\")","v":""},{"$f":"IFERROR(_xlfn.XLOOKUP($A34,【経済】data!$A$3:$A$20,【経済】data!N$3:N$20),\"\")","v":""}]
[16,{"$f":"IFERROR(_xlfn.XLOOKUP($A35,【経済】data!$A$3:$A$21,【経済】data!C$3:C$21),\"\")","v":""},{"$f":"IFERROR(_xlfn.XLOOKUP($A35,【経済】data!$A$3:$A$21,【経済】data!D$3:D$21),\"\")","v":""},{"$f":"IFERROR(_xlfn.XLOOKUP($A35,【経済】data!$A$3:$A$21,【経済】data!E$3:E$21),\"\")","v":""},{"$f":"IFERROR(_xlfn.XLOOKUP($A35,【経済】data!$A$3:$A$21,【経済】data!F$3:F$21),\"\")","v":""},{"$f":"IFERROR(_xlfn.XLOOKUP($A35,【経済】data!$A$3:$A$21,【経済】data!G$3:G$21),\"\")","v":""},{"$f":"IFERROR(_xlfn.XLOOKUP($A35,【経済】data!$A$3:$A$21,【経済】data!H$3:H$21),\"\")","v":""},{"$f":"IFERROR(_xlfn.XLOOKUP($A35,【経済】data!$A$3:$A$21,【経済】data!B$3:B$21),\"\")","v":""},{"$f":"IFERROR(_xlfn.XLOOKUP($A35,【経済】data!$A$3:$A$21,【経済】data!I$3:I$21),\"\")","v":""},{"$f":"IFERROR(_xlfn.XLOOKUP($A35,【経済】data!$A$3:$A$21,【経済】data!J$3:J$21),\"\")","v":""},{"$f":"IFERROR(_xlfn.XLOOKUP($A35,【経済】data!$A$3:$A$21,【経済】data!K$3:K$21),\"\")","v":""},null,{"$f":"IFERROR(_xlfn.XLOOKUP($A35,【経済】data!$A$3:$A$20,【経済】data!M$3:M$20),\"\")","v":""},{"$f":"IFERROR(_xlfn.XLOOKUP($A35,【経済】data!$A$3:$A$20,【経済】data!N$3:N$20),\"\")","v":""}]
[17,{"$f":"IFERROR(_xlfn.XLOOKUP($A36,【経済】data!$A$3:$A$21,【経済】data!C$3:C$21),\"\")","v":""},{"$f":"IFERROR(_xlfn.XLOOKUP($A36,【経済】data!$A$3:$A$21,【経済】data!D$3:D$21),\"\")","v":""},{"$f":"IFERROR(_xlfn.XLOOKUP($A36,【経済】data!$A$3:$A$21,【経済】data!E$3:E$21),\"\")","v":""},{"$f":"IFERROR(_xlfn.XLOOKUP($A36,【経済】data!$A$3:$A$21,【経済】data!F$3:F$21),\"\")","v":""},{"$f":"IFERROR(_xlfn.XLOOKUP($A36,【経済】data!$A$3:$A$21,【経済】data!G$3:G$21),\"\")","v":""},{"$f":"IFERROR(_xlfn.XLOOKUP($A36,【経済】data!$A$3:$A$21,【経済】data!H$3:H$21),\"\")","v":""},{"$f":"IFERROR(_xlfn.XLOOKUP($A36,【経済】data!$A$3:$A$21,【経済】data!B$3:B$21),\"\")","v":""},{"$f":"IFERROR(_xlfn.XLOOKUP($A36,【経済】data!$A$3:$A$21,【経済】data!I$3:I$21),\"\")","v":""},{"$f":"IFERROR(_xlfn.XLOOKUP($A36,【経済】data!$A$3:$A$21,【経済】data!J$3:J$21),\"\")","v":""},{"$f":"IFERROR(_xlfn.XLOOKUP($A36,【経済】data!$A$3:$A$21,【経済】data!K$3:K$21),\"\")","v":""},null,{"$f":"IFERROR(_xlfn.XLOOKUP($A36,【経済】data!$A$3:$A$20,【経済】data!M$3:M$20),\"\")","v":""},{"$f":"IFERROR(_xlfn.XLOOKUP($A36,【経済】data!$A$3:$A$20,【経済】data!N$3:N$20),\"\")","v":""}]
[18,{"$f":"IFERROR(_xlfn.XLOOKUP($A37,【経済】data!$A$3:$A$21,【経済】data!C$3:C$21),\"\")","v":""},{"$f":"IFERROR(_xlfn.XLOOKUP($A37,【経済】data!$A$3:$A$21,【経済】data!D$3:D$21),\"\")","v":""},{"$f":"IFERROR(_xlfn.XLOOKUP($A37,【経済】data!$A$3:$A$21,【経済】data!E$3:E$21),\"\")","v":""},{"$f":"IFERROR(_xlfn.XLOOKUP($A37,【経済】data!$A$3:$A$21,【経済】data!F$3:F$21),\"\")","v":""},{"$f":"IFERROR(_xlfn.XLOOKUP($A37,【経済】data!$A$3:$A$21,【経済】data!G$3:G$21),\"\")","v":""},{"$f":"IFERROR(_xlfn.XLOOKUP($A37,【経済】data!$A$3:$A$21,【経済】data!H$3:H$21),\"\")","v":""},{"$f":"IFERROR(_xlfn.XLOOKUP($A37,【経済】data!$A$3:$A$21,【経済】data!B$3:B$21),\"\")","v":""},{"$f":"IFERROR(_xlfn.XLOOKUP($A37,【経済】data!$A$3:$A$21,【経済】data!I$3:I$21),\"\")","v":""},{"$f":"IFERROR(_xlfn.XLOOKUP($A37,【経済】data!$A$3:$A$21,【経済】data!J$3:J$21),\"\")","v":""},{"$f":"IFERROR(_xlfn.XLOOKUP($A37,【経済】data!$A$3:$A$21,【経済】data!K$3:K$21),\"\")","v":""},null,{"$f":"IFERROR(_xlfn.XLOOKUP($A37,【経済】data!$A$3:$A$20,【経済】data!M$3:M$20),\"\")","v":""},{"$f":"IFERROR(_xlfn.XLOOKUP($A37,【経済】data!$A$3:$A$20,【経済】data!N$3:N$20),\"\")","v":""}]
[19,{"$f":"IFERROR(_xlfn.XLOOKUP($A38,【経済】data!$A$3:$A$21,【経済】data!C$3:C$21),\"\")","v":""},{"$f":"IFERROR(_xlfn.XLOOKUP($A38,【経済】data!$A$3:$A$21,【経済】data!D$3:D$21),\"\")","v":""},{"$f":"IFERROR(_xlfn.XLOOKUP($A38,【経済】data!$A$3:$A$21,【経済】data!E$3:E$21),\"\")","v":""},{"$f":"IFERROR(_xlfn.XLOOKUP($A38,【経済】data!$A$3:$A$21,【経済】data!F$3:F$21),\"\")","v":""},{"$f":"IFERROR(_xlfn.XLOOKUP($A38,【経済】data!$A$3:$A$21,【経済】data!G$3:G$21),\"\")","v":""},{"$f":"IFERROR(_xlfn.XLOOKUP($A38,【経済】data!$A$3:$A$21,【経済】data!H$3:H$21),\"\")","v":""},{"$f":"IFERROR(_xlfn.XLOOKUP($A38,【経済】data!$A$3:$A$21,【経済】data!B$3:B$21),\"\")","v":""},{"$f":"IFERROR(_xlfn.XLOOKUP($A38,【経済】data!$A$3:$A$21,【経済】data!I$3:I$21),\"\")","v":""},{"$f":"IFERROR(_xlfn.XLOOKUP($A38,【経済】data!$A$3:$A$21,【経済】data!J$3:J$21),\"\")","v":""},{"$f":"IFERROR(_xlfn.XLOOKUP($A38,【経済】data!$A$3:$A$21,【経済】data!K$3:K$21),\"\")","v":""},null,{"$f":"IFERROR(_xlfn.XLOOKUP($A38,【経済】data!$A$3:$A$20,【経済】data!M$3:M$20),\"\")","v":""},{"$f":"IFERROR(_xlfn.XLOOKUP($A38,【経済】data!$A$3:$A$20,【経済】data!N$3:N$20),\"\")","v":""}]

{"sheet":"物理的アクセス関係","index":1,"n_rows":35,"n_cols":14,"rows_kept":35,"merged":[[1,1,1,2],[6,1,9,1],[11,1,12,1],[14,1,15,1]]}
[null,"食品アクセスの確保に関する支援策パッケージ【経済的アクセス関係】（詳細版）"]
[null,"令和９年度予算概算要求時点版"]
[]
[]
[]
[null,"【検索条件】"]
[null,"①利用者","地方公共団体","食品製造業者","食品小売業者","食品卸業者","物流事業者","農業協同組合\n（連合会）"]
[null,null,"-","-","-","-","-","-"]
[null,null,"事業協同組合（連合会）","社会福祉協議会","地域協議会","ロボットベンダー","その他"]
[null,null,"-","-","-","-","-"]
[]
[null,"②目的","食料提供に資する体制を構築したい","移動販売等の拠点となる施設を\n整備したい","店舗への交通手段を確保したい","移動販売等で店舗を届けたい","政府の備蓄食品を\n受け取りたい","商品を届けたい","食品アクセスの状況や対策事例等について知りたい"]
[null,null,"-","-","-","-","-","-","-"]
[]
[null,"③予算の別","令和９年度予算概算要求",null,"予算以外の施策"]
[null,null,"-",null,"-"]
[]
[]
["表示No","目的","実施主体・支援の流れ","支援メニュー（例）","補助対象経費（例）","補助率・補助上限","要件","事業名","公募要領等\n関連ページ","担当省庁・局・課","問合せ先（電話・メール）"]
[1,{"$f":"IFERROR(_xlfn.XLOOKUP($A20,【物理】data!$A$3:$A$18,【物理】data!C$3:C$18),\"\")","v":""},{"$f":"IFERROR(_xlfn.XLOOKUP($A20,【物理】data!$A$3:$A$18,【物理】data!D$3:D$18),\"\")","v":""},{"$f":"IFERROR(_xlfn.XLOOKUP($A20,【物理】data!$A$3:$A$18,【物理】data!E$3:E$18),\"\")","v":""},{"$f":"IFERROR(_xlfn.XLOOKUP($A20,【物理】data!$A$3:$A$18,【物理】data!F$3:F$18),\"\")","v":""},{"$f":"IFERROR(_xlfn.XLOOKUP($A20,【物理】data!$A$3:$A$18,【物理】data!G$3:G$18),\"\")","v":""},{"$f":"IFERROR(_xlfn.XLOOKUP($A20,【物理】data!$A$3:$A$18,【物理】data!H$3:H$18),\"\")","v":""},{"$f":"IFERROR(_xlfn.XLOOKUP($A20,【物理】data!$A$3:$A$18,【物理】data!B$3:B$18),\"\")","v":""},{"$f":"IFERROR(_xlfn.XLOOKUP($A20,【物理】data!$A$3:$A$18,【物理】data!I$3:I$18),\"\")","v":""},{"$f":"IFERROR(_xlfn.XLOOKUP($A20,【物理】data!$A$3:$A$18,【物理】data!J$3:J$18),\"\")","v":""},{"$f":"IFERROR(_xlfn.XLOOKUP($A20,【物理】data!$A$3:$A$18,【物理】data!K$3:K$18),\"\")","v":""}]
[2,{"$f":"IFERROR(_xlfn.XLOOKUP($A21,【物理】data!$A$3:$A$18,【物理】data!C$3:C$18),\"\")","v":""},{"$f":"IFERROR(_xlfn.XLOOKUP($A21,【物理】data!$A$3:$A$18,【物理】data!D$3:D$18),\"\")","v":""},{"$f":"IFERROR(_xlfn.XLOOKUP($A21,【物理】data!$A$3:$A$18,【物理】data!E$3:E$18),\"\")","v":""},{"$f":"IFERROR(_xlfn.XLOOKUP($A21,【物理】data!$A$3:$A$18,【物理】data!F$3:F$18),\"\")","v":""},{"$f":"IFERROR(_xlfn.XLOOKUP($A21,【物理】data!$A$3:$A$18,【物理】data!G$3:G$18),\"\")","v":""},{"$f":"IFERROR(_xlfn.XLOOKUP($A21,【物理】data!$A$3:$A$18,【物理】data!H$3:H$18),\"\")","v":""},{"$f":"IFERROR(_xlfn.XLOOKUP($A21,【物理】data!$A$3:$A$18,【物理】data!B$3:B$18),\"\")","v":""},{"$f":"IFERROR(_xlfn.XLOOKUP($A21,【物理】data!$A$3:$A$18,【物理】data!I$3:I$18),\"\")","v":""},{"$f":"IFERROR(_xlfn.XLOOKUP($A21,【物理】data!$A$3:$A$18,【物理】data!J$3:J$18),\"\")","v":""},{"$f":"IFERROR(_xlfn.XLOOKUP($A21,【物理】data!$A$3:$A$18,【物理】data!K$3:K$18),\"\")","v":""}]
[3,{"$f":"IFERROR(_xlfn.XLOOKUP($A22,【物理】data!$A$3:$A$18,【物理】data!C$3:C$18),\"\")","v":""},{"$f":"IFERROR(_xlfn.XLOOKUP($A22,【物理】data!$A$3:$A$18,【物理】data!D$3:D$18),\"\")","v":""},{"$f":"IFERROR(_xlfn.XLOOKUP($A22,【物理】data!$A$3:$A$18,【物理】data!E$3:E$18),\"\")","v":""},{"$f":"IFERROR(_xlfn.XLOOKUP($A22,【物理】data!$A$3:$A$18,【物理】data!F$3:F$18),\"\")","v":""},{"$f":"IFERROR(_xlfn.XLOOKUP($A22,【物理】data!$A$3:$A$18,【物理】data!G$3:G$18),\"\")","v":""},{"$f":"IFERROR(_xlfn.XLOOKUP($A22,【物理】data!$A$3:$A$18,【物理】data!H$3:H$18),\"\")","v":""},{"$f":"IFERROR(_xlfn.XLOOKUP($A22,【物理】data!$A$3:$A$18,【物理】data!B$3:B$18),\"\")","v":""},{"$f":"IFERROR(_xlfn.XLOOKUP($A22,【物理】data!$A$3:$A$18,【物理】data!I$3:I$18),\"\")","v":""},{"$f":"IFERROR(_xlfn.XLOOKUP($A22,【物理】data!$A$3:$A$18,【物理】data!J$3:J$18),\"\")","v":""},{"$f":"IFERROR(_xlfn.XLOOKUP($A22,【物理】data!$A$3:$A$18,【物理】data!K$3:K$18),\"\")","v":""}]
[4,{"$f":"IFERROR(_xlfn.XLOOKUP($A23,【物理】data!$A$3:$A$18,【物理】data!C$3:C$18),\"\")","v":""},{"$f":"IFERROR(_xlfn.XLOOKUP($A23,【物理】data!$A$3:$A$18,【物理】data!D$3:D$18),\"\")","v":""},{"$f":"IFERROR(_xlfn.XLOOKUP($A23,【物理】data!$A$3:$A$18,【物理】data!E$3:E$18),\"\")","v":""},{"$f":"IFERROR(_xlfn.XLOOKUP($A23,【物理】data!$A$3:$A$18,【物理】data!F$3:F$18),\"\")","v":""},{"$f":"IFERROR(_xlfn.XLOOKUP($A23,【物理】data!$A$3:$A$18,【物理】data!G$3:G$18),\"\")","v":""},{"$f":"IFERROR(_xlfn.XLOOKUP($A23,【物理】data!$A$3:$A$18,【物理】data!H$3:H$18),\"\")","v":""},{"$f":"IFERROR(_xlfn.XLOOKUP($A23,【物理】data!$A$3:$A$18,【物理】data!B$3:B$18),\"\")","v":""},{"$f":"IFERROR(_xlfn.XLOOKUP($A23,【物理】data!$A$3:$A$18,【物理】data!I$3:I$18),\"\")","v":""},{"$f":"IFERROR(_xlfn.XLOOKUP($A23,【物理】data!$A$3:$A$18,【物理】data!J$3:J$18),\"\")","v":""},{"$f":"IFERROR(_xlfn.XLOOKUP($A23,【物理】data!$A$3:$A$18,【物理】data!K$3:K$18),\"\")","v":""}]
[5,{"$f":"IFERROR(_xlfn.XLOOKUP($A24,【物理】data!$A$3:$A$18,【物理】data!C$3:C$18),\"\")","v":""},{"$f":"IFERROR(_xlfn.XLOOKUP($A24,【物理】data!$A$3:$A$18,【物理】data!D$3:D$18),\"\")","v":""},{"$f":"IFERROR(_xlfn.XLOOKUP($A24,【物理】data!$A$3:$A$18,【物理】data!E$3:E$18),\"\")","v":""},{"$f":"IFERROR(_xlfn.XLOOKUP($A24,【物理】data!$A$3:$A$18,【物理】data!F$3:F$18),\"\")","v":""},{"$f":"IFERROR(_xlfn.XLOOKUP($A24,【物理】data!$A$3:$A$18,【物理】data!G$3:G$18),\"\")","v":""},{"$f":"IFERROR(_xlfn.XLOOKUP($A24,【物理】data!$A$3:$A$18,【物理】data!H$3:H$18),\"\")","v":""},{"$f":"IFERROR(_xlfn.XLOOKUP($A24,【物理】data!$A$3:$A$18,【物理】data!B$3:B$18),\"\")","v":""},{"$f":"IFERROR(_xlfn.XLOOKUP($A24,【物理】data!$A$3:$A$18,【物理】data!I$3:I$18),\"\")","v":""},{"$f":"IFERROR(_xlfn.XLOOKUP($A24,【物理】data!$A$3:$A$18,【物理】data!J$3:J$18),\"\")","v":""},{"$f":"IFERROR(_xlfn.XLOOKUP($A24,【物理】data!$A$3:$A$18,【物理】data!K$3:K$18),\"\")","v":""}]
[6,{"$f":"IFERROR(_xlfn.XLOOKUP($A25,【物理】data!$A$3:$A$18,【物理】data!C$3:C$18),\"\")","v":""},{"$f":"IFERROR(_xlfn.XLOOKUP($A25,【物理】data!$A$3:$A$18,【物理】data!D$3:D$18),\"\")","v":""},{"$f":"IFERROR(_xlfn.XLOOKUP($A25,【物理】data!$A$3:$A$18,【物理】data!E$3:E$18),\"\")","v":""},{"$f":"IFERROR(_xlfn.XLOOKUP($A25,【物理】data!$A$3:$A$18,【物理】data!F$3:F$18),\"\")","v":""},{"$f":"IFERROR(_xlfn.XLOOKUP($A25,【物理】data!$A$3:$A$18,【物理】data!G$3:G$18),\"\")","v":""},{"$f":"IFERROR(_xlfn.XLOOKUP($A25,【物理】data!$A$3:$A$18,【物理】data!H$3:H$18),\"\")","v":""},{"$f":"IFERROR(_xlfn.XLOOKUP($A25,【物理】data!$A$3:$A$18,【物理】data!B$3:B$18),\"\")","v":""},{"$f":"IFERROR(_xlfn.XLOOKUP($A25,【物理】data!$A$3:$A$18,【物理】data!I$3:I$18),\"\")","v":""},{"$f":"IFERROR(_xlfn.XLOOKUP($A25,【物理】data!$A$3:$A$18,【物理】data!J$3:J$18),\"\")","v":""},{"$f":"IFERROR(_xlfn.XLOOKUP($A25,【物理】data!$A$3:$A$18,【物理】data!K$3:K$18),\"\")","v":""}]
[7,{"$f":"IFERROR(_xlfn.XLOOKUP($A26,【物理】data!$A$3:$A$18,【物理】data!C$3:C$18),\"\")","v":""},{"$f":"IFERROR(_xlfn.XLOOKUP($A26,【物理】data!$A$3:$A$18,【物理】data!D$3:D$18),\"\")","v":""},{"$f":"IFERROR(_xlfn.XLOOKUP($A26,【物理】data!$A$3:$A$18,【物理】data!E$3:E$18),\"\")","v":""},{"$f":"IFERROR(_xlfn.XLOOKUP($A26,【物理】data!$A$3:$A$18,【物理】data!F$3:F$18),\"\")","v":""},{"$f":"IFERROR(_xlfn.XLOOKUP($A26,【物理】data!$A$3:$A$18,【物理】data!G$3:G$18),\"\")","v":""},{"$f":"IFERROR(_xlfn.XLOOKUP($A26,【物理】data!$A$3:$A$18,【物理】data!H$3:H$18),\"\")","v":""},{"$f":"IFERROR(_xlfn.XLOOKUP($A26,【物理】data!$A$3:$A$18,【物理】data!B$3:B$18),\"\")","v":""},{"$f":"IFERROR(_xlfn.XLOOKUP($A26,【物理】data!$A$3:$A$18,【物理】data!I$3:I$18),\"\")","v":""},{"$f":"IFERROR(_xlfn.XLOOKUP($A26,【物理】data!$A$3:$A$18,【物理】data!J$3:J$18),\"\")","v":""},{"$f":"IFERROR(_xlfn.XLOOKUP($A26,【物理】data!$A$3:$A$18,【物理】data!K$3:K$18),\"\")","v":""}]
[8,{"$f":"IFERROR(_xlfn.XLOOKUP($A27,【物理】data!$A$3:$A$18,【物理】data!C$3:C$18),\"\")","v":""},{"$f":"IFERROR(_xlfn.XLOOKUP($A27,【物理】data!$A$3:$A$18,【物理】data!D$3:D$18),\"\")","v":""},{"$f":"IFERROR(_xlfn.XLOOKUP($A27,【物理】data!$A$3:$A$18,【物理】data!E$3:E$18),\"\")","v":""},{"$f":"IFERROR(_xlfn.XLOOKUP($A27,【物理】data!$A$3:$A$18,【物理】data!F$3:F$18),\"\")","v":""},{"$f":"IFERROR(_xlfn.XLOOKUP($A27,【物理】data!$A$3:$A$18,【物理】data!G$3:G$18),\"\")","v":""},{"$f":"IFERROR(_xlfn.XLOOKUP($A27,【物理】data!$A$3:$A$18,【物理】data!H$3:H$18),\"\")","v":""},{"$f":"IFERROR(_xlfn.XLOOKUP($A27,【物理】data!$A$3:$A$18,【物理】data!B$3:B$18),\"\")","v":""},{"$f":"IFERROR(_xlfn.XLOOKUP($A27,【物理】data!$A$3:$A$18,【物理】data!I$3:I$18),\"\")","v":""},{"$f":"IFERROR(_xlfn.XLOOKUP($A27,【物理】data!$A$3:$A$18,【物理】data!J$3:J$18),\"\")","v":""},{"$f":"IFERROR(_xlfn.XLOOKUP($A27,【物理】data!$A$3:$A$18,【物理】data!K$3:K$18),\"\")","v":""}]
[9,{"$f":"IFERROR(_xlfn.XLOOKUP($A28,【物理】data!$A$3:$A$18,【物理】data!C$3:C$18),\"\")","v":""},{"$f":"IFERROR(_xlfn.XLOOKUP($A28,【物理】data!$A$3:$A$18,【物理】data!D$3:D$18),\"\")","v":""},{"$f":"IFERROR(_xlfn.XLOOKUP($A28,【物理】data!$A$3:$A$18,【物理】data!E$3:E$18),\"\")","v":""},{"$f":"IFERROR(_xlfn.XLOOKUP($A28,【物理】data!$A$3:$A$18,【物理】data!F$3:F$18),\"\")","v":""},{"$f":"IFERROR(_xlfn.XLOOKUP($A28,【物理】data!$A$3:$A$18,【物理】data!G$3:G$18),\"\")","v":""},{"$f":"IFERROR(_xlfn.XLOOKUP($A28,【物理】data!$A$3:$A$18,【物理】data!H$3:H$18),\"\")","v":""},{"$f":"IFERROR(_xlfn.XLOOKUP($A28,【物理】data!$A$3:$A$18,【物理】data!B$3:B$18),\"\")","v":""},{"$f":"IFERROR(_xlfn.XLOOKUP($A28,【物理】data!$A$3:$A$18,【物理】data!I$3:I$18),\"\")","v":""},{"$f":"IFERROR(_xlfn.XLOOKUP($A28,【物理】data!$A$3:$A$18,【物理】data!J$3:J$18),\"\")","v":""},{"$f":"IFERROR(_xlfn.XLOOKUP($A28,【物理】data!$A$3:$A$18,【物理】data!K$3:K$18),\"\")","v":""}]
[10,{"$f":"IFERROR(_xlfn.XLOOKUP($A29,【物理】data!$A$3:$A$18,【物理】data!C$3:C$18),\"\")","v":""},{"$f":"IFERROR(_xlfn.XLOOKUP($A29,【物理】data!$A$3:$A$18,【物理】data!D$3:D$18),\"\")","v":""},{"$f":"IFERROR(_xlfn.XLOOKUP($A29,【物理】data!$A$3:$A$18,【物理】data!E$3:E$18),\"\")","v":""},{"$f":"IFERROR(_xlfn.XLOOKUP($A29,【物理】data!$A$3:$A$18,【物理】data!F$3:F$18),\"\")","v":""},{"$f":"IFERROR(_xlfn.XLOOKUP($A29,【物理】data!$A$3:$A$18,【物理】data!G$3:G$18),\"\")","v":""},{"$f":"IFERROR(_xlfn.XLOOKUP($A29,【物理】data!$A$3:$A$18,【物理】data!H$3:H$18),\"\")","v":""},{"$f":"IFERROR(_xlfn.XLOOKUP($A29,【物理】data!$A$3:$A$18,【物理】data!B$3:B$18),\"\")","v":""},{"$f":"IFERROR(_xlfn.XLOOKUP($A29,【物理】data!$A$3:$A$18,【物理】data!I$3:I$18),\"\")","v":""},{"$f":"IFERROR(_xlfn.XLOOKUP($A29,【物理】data!$A$3:$A$18,【物理】data!J$3:J$18),\"\")","v":""},{"$f":"IFERROR(_xlfn.XLOOKUP($A29,【物理】data!$A$3:$A$18,【物理】data!K$3:K$18),\"\")","v":""},null,{"$f":"IFERROR(_xlfn.XLOOKUP($A29,【物理】data!$A$3:$A$17,【物理】data!M$3:M$17),\"\")","v":""},{"$f":"IFERROR(_xlfn.XLOOKUP($A29,【物理】data!$A$3:$A$17,【物理】data!N$3:N$17),\"\")","v":""}]
[11,{"$f":"IFERROR(_xlfn.XLOOKUP($A30,【物理】data!$A$3:$A$18,【物理】data!C$3:C$18),\"\")","v":""},{"$f":"IFERROR(_xlfn.XLOOKUP($A30,【物理】data!$A$3:$A$18,【物理】data!D$3:D$18),\"\")","v":""},{"$f":"IFERROR(_xlfn.XLOOKUP($A30,【物理】data!$A$3:$A$18,【物理】data!E$3:E$18),\"\")","v":""},{"$f":"IFERROR(_xlfn.XLOOKUP($A30,【物理】data!$A$3:$A$18,【物理】data!F$3:F$18),\"\")","v":""},{"$f":"IFERROR(_xlfn.XLOOKUP($A30,【物理】data!$A$3:$A$18,【物理】data!G$3:G$18),\"\")","v":""},{"$f":"IFERROR(_xlfn.XLOOKUP($A30,【物理】data!$A$3:$A$18,【物理】data!H$3:H$18),\"\")","v":""},{"$f":"IFERROR(_xlfn.XLOOKUP($A30,【物理】data!$A$3:$A$18,【物理】data!B$3:B$18),\"\")","v":""},{"$f":"IFERROR(_xlfn.XLOOKUP($A30,【物理】data!$A$3:$A$18,【物理】data!I$3:I$18),\"\")","v":""},{"$f":"IFERROR(_xlfn.XLOOKUP($A30,【物理】data!$A$3:$A$18,【物理】data!J$3:J$18),\"\")","v":""},{"$f":"IFERROR(_xlfn.XLOOKUP($A30,【物理】data!$A$3:$A$18,【物理】data!K$3:K$18),\"\")","v":""},null,{"$f":"IFERROR(_xlfn.XLOOKUP($A30,【物理】data!$A$3:$A$17,【物理】data!M$3:M$17),\"\")","v":""},{"$f":"IFERROR(_xlfn.XLOOKUP($A30,【物理】data!$A$3:$A$17,【物理】data!N$3:N$17),\"\")","v":""}]
[12,{"$f":"IFERROR(_xlfn.XLOOKUP($A31,【物理】data!$A$3:$A$18,【物理】data!C$3:C$18),\"\")","v":""},{"$f":"IFERROR(_xlfn.XLOOKUP($A31,【物理】data!$A$3:$A$18,【物理】data!D$3:D$18),\"\")","v":""},{"$f":"IFERROR(_xlfn.XLOOKUP($A31,【物理】data!$A$3:$A$18,【物理】data!E$3:E$18),\"\")","v":""},{"$f":"IFERROR(_xlfn.XLOOKUP($A31,【物理】data!$A$3:$A$18,【物理】data!F$3:F$18),\"\")","v":""},{"$f":"IFERROR(_xlfn.XLOOKUP($A31,【物理】data!$A$3:$A$18,【物理】data!G$3:G$18),\"\")","v":""},{"$f":"IFERROR(_xlfn.XLOOKUP($A31,【物理】data!$A$3:$A$18,【物理】data!H$3:H$18),\"\")","v":""},{"$f":"IFERROR(_xlfn.XLOOKUP($A31,【物理】data!$A$3:$A$18,【物理】data!B$3:B$18),\"\")","v":""},{"$f":"IFERROR(_xlfn.XLOOKUP($A31,【物理】data!$A$3:$A$18,【物理】data!I$3:I$18),\"\")","v":""},{"$f":"IFERROR(_xlfn.XLOOKUP($A31,【物理】data!$A$3:$A$18,【物理】data!J$3:J$18),\"\")","v":""},{"$f":"IFERROR(_xlfn.XLOOKUP($A31,【物理】data!$A$3:$A$18,【物理】data!K$3:K$18),\"\")","v":""},null,{"$f":"IFERROR(_xlfn.XLOOKUP($A31,【物理】data!$A$3:$A$17,【物理】data!M$3:M$17),\"\")","v":""},{"$f":"IFERROR(_xlfn.XLOOKUP($A31,【物理】data!$A$3:$A$17,【物理】data!N$3:N$17),\"\")","v":""}]
[13,{"$f":"IFERROR(_xlfn.XLOOKUP($A32,【物理】data!$A$3:$A$18,【物理】data!C$3:C$18),\"\")","v":""},{"$f":"IFERROR(_xlfn.XLOOKUP($A32,【物理】data!$A$3:$A$18,【物理】data!D$3:D$18),\"\")","v":""},{"$f":"IFERROR(_xlfn.XLOOKUP($A32,【物理】data!$A$3:$A$18,【物理】data!E$3:E$18),\"\")","v":""},{"$f":"IFERROR(_xlfn.XLOOKUP($A32,【物理】data!$A$3:$A$18,【物理】data!F$3:F$18),\"\")","v":""},{"$f":"IFERROR(_xlfn.XLOOKUP($A32,【物理】data!$A$3:$A$18,【物理】data!G$3:G$18),\"\")","v":""},{"$f":"IFERROR(_xlfn.XLOOKUP($A32,【物理】data!$A$3:$A$18,【物理】data!H$3:H$18),\"\")","v":""},{"$f":"IFERROR(_xlfn.XLOOKUP($A32,【物理】data!$A$3:$A$18,【物理】data!B$3:B$18),\"\")","v":""},{"$f":"IFERROR(_xlfn.XLOOKUP($A32,【物理】data!$A$3:$A$18,【物理】data!I$3:I$18),\"\")","v":""},{"$f":"IFERROR(_xlfn.XLOOKUP($A32,【物理】data!$A$3:$A$18,【物理】data!J$3:J$18),\"\")","v":""},{"$f":"IFERROR(_xlfn.XLOOKUP($A32,【物理】data!$A$3:$A$18,【物理】data!K$3:K$18),\"\")","v":""},null,{"$f":"IFERROR(_xlfn.XLOOKUP($A32,【物理】data!$A$3:$A$17,【物理】data!M$3:M$17),\"\")","v":""},{"$f":"IFERROR(_xlfn.XLOOKUP($A32,【物理】data!$A$3:$A$17,【物理】data!N$3:N$17),\"\")","v":""}]
[14,{"$f":"IFERROR(_xlfn.XLOOKUP($A33,【物理】data!$A$3:$A$18,【物理】data!C$3:C$18),\"\")","v":""},{"$f":"IFERROR(_xlfn.XLOOKUP($A33,【物理】data!$A$3:$A$18,【物理】data!D$3:D$18),\"\")","v":""},{"$f":"IFERROR(_xlfn.XLOOKUP($A33,【物理】data!$A$3:$A$18,【物理】data!E$3:E$18),\"\")","v":""},{"$f":"IFERROR(_xlfn.XLOOKUP($A33,【物理】data!$A$3:$A$18,【物理】data!F$3:F$18),\"\")","v":""},{"$f":"IFERROR(_xlfn.XLOOKUP($A33,【物理】data!$A$3:$A$18,【物理】data!G$3:G$18),\"\")","v":""},{"$f":"IFERROR(_xlfn.XLOOKUP($A33,【物理】data!$A$3:$A$18,【物理】data!H$3:H$18),\"\")","v":""},{"$f":"IFERROR(_xlfn.XLOOKUP($A33,【物理】data!$A$3:$A$18,【物理】data!B$3:B$18),\"\")","v":""},{"$f":"IFERROR(_xlfn.XLOOKUP($A33,【物理】data!$A$3:$A$18,【物理】data!I$3:I$18),\"\")","v":""},{"$f":"IFERROR(_xlfn.XLOOKUP($A33,【物理】data!$A$3:$A$18,【物理】data!J$3:J$18),\"\")","v":""},{"$f":"IFERROR(_xlfn.XLOOKUP($A33,【物理】data!$A$3:$A$18,【物理】data!K$3:K$18),\"\")","v":""},null,{"$f":"IFERROR(_xlfn.XLOOKUP($A33,【物理】data!$A$3:$A$17,【物理】data!M$3:M$17),\"\")","v":""},{"$f":"IFERROR(_xlfn.XLOOKUP($A33,【物理】data!$A$3:$A$17,【物理】data!N$3:N$17),\"\")","v":""}]
[15,{"$f":"IFERROR(_xlfn.XLOOKUP($A34,【物理】data!$A$3:$A$18,【物理】data!C$3:C$18),\"\")","v":""},{"$f":"IFERROR(_xlfn.XLOOKUP($A34,【物理】data!$A$3:$A$18,【物理】data!D$3:D$18),\"\")","v":""},{"$f":"IFERROR(_xlfn.XLOOKUP($A34,【物理】data!$A$3:$A$18,【物理】data!E$3:E$18),\"\")","v":""},{"$f":"IFERROR(_xlfn.XLOOKUP($A34,【物理】data!$A$3:$A$18,【物理】data!F$3:F$18),\"\")","v":""},{"$f":"IFERROR(_xlfn.XLOOKUP($A34,【物理】data!$A$3:$A$18,【物理】data!G$3:G$18),\"\")","v":""},{"$f":"IFERROR(_xlfn.XLOOKUP($A34,【物理】data!$A$3:$A$18,【物理】data!H$3:H$18),\"\")","v":""},{"$f":"IFERROR(_xlfn.XLOOKUP($A34,【物理】data!$A$3:$A$18,【物理】data!B$3:B$18),\"\")","v":""},{"$f":"IFERROR(_xlfn.XLOOKUP($A34,【物理】data!$A$3:$A$18,【物理】data!I$3:I$18),\"\")","v":""},{"$f":"IFERROR(_xlfn.XLOOKUP($A34,【物理】data!$A$3:$A$18,【物理】data!J$3:J$18),\"\")","v":""},{"$f":"IFERROR(_xlfn.XLOOKUP($A34,【物理】data!$A$3:$A$18,【物理】data!K$3:K$18),\"\")","v":""},null,{"$f":"IFERROR(_xlfn.XLOOKUP($A34,【物理】data!$A$3:$A$17,【物理】data!M$3:M$17),\"\")","v":""},{"$f":"IFERROR(_xlfn.XLOOKUP($A34,【物理】data!$A$3:$A$17,【物理】data!N$3:N$17),\"\")","v":""}]
[16,{"$f":"IFERROR(_xlfn.XLOOKUP($A35,【物理】data!$A$3:$A$18,【物理】data!C$3:C$18),\"\")","v":""},{"$f":"IFERROR(_xlfn.XLOOKUP($A35,【物理】data!$A$3:$A$18,【物理】data!D$3:D$18),\"\")","v":""},{"$f":"IFERROR(_xlfn.XLOOKUP($A35,【物理】data!$A$3:$A$18,【物理】data!E$3:E$18),\"\")","v":""},{"$f":"IFERROR(_xlfn.XLOOKUP($A35,【物理】data!$A$3:$A$18,【物理】data!F$3:F$18),\"\")","v":""},{"$f":"IFERROR(_xlfn.XLOOKUP($A35,【物理】data!$A$3:$A$18,【物理】data!G$3:G$18),\"\")","v":""},{"$f":"IFERROR(_xlfn.XLOOKUP($A35,【物理】data!$A$3:$A$18,【物理】data!H$3:H$18),\"\")","v":""},{"$f":"IFERROR(_xlfn.XLOOKUP($A35,【物理】data!$A$3:$A$18,【物理】data!B$3:B$18),\"\")","v":""},{"$f":"IFERROR(_xlfn.XLOOKUP($A35,【物理】data!$A$3:$A$18,【物理】data!I$3:I$18),\"\")","v":""},{"$f":"IFERROR(_xlfn.XLOOKUP($A35,【物理】data!$A$3:$A$18,【物理】data!J$3:J$18),\"\")","v":""},{"$f":"IFERROR(_xlfn.XLOOKUP($A35,【物理】data!$A$3:$A$18,【物理】data!K$3:K$18),\"\")","v":""},null,{"$f":"IFERROR(_xlfn.XLOOKUP($A35,【物理】data!$A$3:$A$17,【物理】data!M$3:M$17),\"\")","v":""},{"$f":"IFERROR(_xlfn.XLOOKUP($A35,【物理】data!$A$3:$A$17,【物理】data!N$3:N$17),\"\")","v":""}]

{"sheet":"【経済】data","index":2,"n_rows":21,"n_cols":56,"rows_kept":21,"hidden":true,"merged":[[0,14,0,25],[0,26,0,31]]}
[{"$nulls":14},"作業対象「利用者」",{"$nulls":11},"作業対象「目的」"]
["表示No","事業名","目的","実施主体・支援の流れ","支援メニュー（例）","補助対象経費（例）","補助率・補助上限","要件","公募要領等\n関連ページ","担当省庁・局・課","問合せ先\n（電話・メール）","①予算の別","②目的","③利用者","利用者_地方公共団体","利用者_民間事業者","利用者_NPO法人","利用者_フードバンク","利用者_フードパントリー","利用者_こども食堂","利用者_こども宅食","利用者_農業協同組合","利用者_消費生活協同組合","利用者_社会福祉法人","利用者_社会福祉協議会","利用者_その他","目的_食料提供に資する体制を構築したい","目的_食料提供に資する体制を構築したい（特にデータ構築の観点から）","目的_食品・食事の提供活動を強化したい","目的_食品・食事の提供活動を強化したい（特に物価高騰への対応の観点から）","目的_政府の備蓄食品を受け取りたい","目的_食品アクセスの状況や対策事例等について知りたい","予算の別_令和９年度予算概算要求","予算の別_令和７年度補正予算","予算の別_予算以外の施策",{"$f":"\"F_\"&O2","v":"F_利用者_地方公共団体"},"F_利用者_民間事業者","F_利用者_NPO法人","F_利用者_フードバンク","F_利用者_フードパントリー","F_利用者_こども食堂","F_利用者_こども宅食","F_利用者_農業協同組合","F_利用者_消費生活協同組合","F_利用者_社会福祉法人","F_利用者_社会福祉協議会","F_利用者_その他","F_目的_食料提供に資する体制を構築したい","F_目的_食料提供に資する体制を構築したい（特にデータ構築の観点から）","F_目的_食品・食事の提供活動を強化したい","F_目的_食品・食事の提供活動を強化したい（特に物価高騰への対応の観点から）","F_目的_政府の備蓄食品を受け取りたい","F_目的_食品アクセスの状況や対策事例等について知りたい","F_予算の別_令和９年度予算概算要求","F_予算の別_令和７年度補正予算",{"$f":"\"F_\"&AI2","v":"F_予算の別_予算以外の施策"}]
[{"$f":"IF(AND(SUM(AJ3:AU3)>0,SUM(AV3:BA3)>0,SUM(BB3:BD3)>0),COUNTIF($A$2:A2,\">0\")+1,0)","v":0},"食品アクセス確保対策事業","円滑な食品アクセスの確保に向けた、地方公共団体や食品事業者、フードバンク・こども食堂等の地域の関係者が連携する体制づくりを支援する。","地域協議会、都道府県・市町村、社会福祉協議会等","\n①地域の関係者が連携して組織する協議会の設置\n②関係者間の調整役（コーディネーター）の配置\n③地域における食品アクセスの現状・課題の調査\n④課題解決に向けた計画の策定\n⑤フードバンク、こども食堂等の立上げ・取組拡大\n","事務局員賃金、謝金、旅費、倉庫・保管用機械の賃借料等","【補助率】\n・１年目：定額、２年目：3/4補助、３年目：1/2補助\n\n【補助上限】\n・1,000万円/年、1,500万円/地域","地域協議会の構成団体として、都道府県又は市町村が参画すること","【公募開始予定時期/公募受付期間】\n未定\n\n【公募URL】\n未定","農林水産省\n消費・安全局\n消費者行政・食育課","03-3502-5723\nfoodaccess@maff.go.jp",{"$nulls":3},1,0,0,0,0,0,0,1,1,1,1,1,1,0,1,0,0,0,1,null,0,{"$f":"IF(AND(経済的アクセス関係!C$8=\"〇\",O3=1),1,0)","v":0},{"$f":"IF(AND(経済的アクセス関係!D$8=\"〇\",P3=1),1,0)","v":0},{"$f":"IF(AND(経済的アクセス関係!E$8=\"〇\",Q3=1),1,0)","v":0},{"$f":"IF(AND(経済的アクセス関係!F$8=\"〇\",R3=1),1,0)","v":0},{"$f":"IF(AND(経済的アクセス関係!G$8=\"〇\",S3=1),1,0)","v":0},{"$f":"IF(AND(経済的アクセス関係!H$8=\"〇\",T3=1),1,0)","v":0},{"$f":"IF(AND(経済的アクセス関係!C$10=\"〇\",U3=1),1,0)","v":0},{"$f":"IF(AND(経済的アクセス関係!D$10=\"〇\",V3=1),1,0)","v":0},{"$f":"IF(AND(経済的アクセス関係!E$10=\"〇\",W3=1),1,0)","v":0},{"$f":"IF(AND(経済的アクセス関係!F$10=\"〇\",X3=1),1,0)","v":0},{"$f":"IF(AND(経済的アクセス関係!G$10=\"〇\",Y3=1),1,0)","v":0},{"$f":"IF(AND(経済的アクセス関係!H$10=\"〇\",Z3=1),1,0)","v":0},{"$f":"IF(AND(経済的アクセス関係!C$13=\"〇\",AA3=1),1,0)","v":0},{"$f":"IF(AND(経済的アクセス関係!D$13=\"〇\",AB3=1),1,0)","v":0},{"$f":"IF(AND(経済的アクセス関係!E$13=\"〇\",AC3=1),1,0)","v":0},{"$f":"IF(AND(経済的アクセス関係!F$13=\"〇\",AD3=1),1,0)","v":0},{"$f":"IF(AND(経済的アクセス関係!G$13=\"〇\",AE3=1),1,0)","v":0},{"$f":"IF(AND(経済的アクセス関係!H$13=\"〇\",AF3=1),1,0)","v":0},{"$f":"IF(AND(経済的アクセス関係!C$16=\"〇\",AG3=1),1,0)","v":0},null,{"$f":"IF(AND(経済的アクセス関係!E$16=\"〇\",AI3=1),1,0)","v":0}]
[{"$f":"IF(AND(SUM(AJ4:AU4)>0,SUM(AV4:BA4)>0,SUM(BB4:BD4)>0),COUNTIF($A$2:A3,\">0\")+1,0)","v":0},"食品アクセス確保対策事業","フードバンクの安定的・持続的な体制構築への支援や、出し⼿と受け⼿をつなぐコーディネーターの配置等を実施する。","民間団体→フードバンク","フードバンクの機能強化を図るため、活動経費や未利用食品の輸配送費、倉庫・保管用機械の賃借料等を支援","活動経費、未利用食品の輸配送費、倉庫・配送用車両の賃借料、保管用機械（冷凍・冷蔵庫、冷凍ストッカー）の賃借料又は購入費等","【補助率】\n・定額\n\n【補助上限】\n・2,500万円","\n次に掲げる①から③までの要件を満たし、かつ、④又は⑤の要件を満たすフードバンク又は協議会\n①令和８年４月１日以前より、「食品寄附ガイドライン～食品寄附の信頼性向上に向けて～」（令和６年12月25日食品寄附等に関する官民協議会作成）に基づく食品の取扱い又はこれに準じた食品の取扱いを行っていること。\n②食料提供団体への食品提供の取組の拡大を図る計画を有すること。\n③利用者を特定した上で食品を提供すること。\n④食品廃棄物等多量発生事業者（食品リサイクル法第９条第１項に規定する食品廃棄物等多量発生事業者をいう。）からの未利用食品の寄附を直接受けて、食料提供団体に食品を提供する計画を有すること。\n⑤複数の市区町村の食料提供団体に食品を提供する計画を有すること。\n","\n【公募開始予定時期　/公募受付期間】\n未定\n\n【公募URL】\n未定","農林水産省\n消費・安全局\n消費者行政・食育課","03-3502-5723\nfoodaccess@maff.go.jp",{"$nulls":3},1,1,1,1,1,0,1,0,0,1,1,0,0,0,1,0,0,0,1,null,0,{"$f":"IF(AND(経済的アクセス関係!C$8=\"〇\",O4=1),1,0)","v":0},{"$f":"IF(AND(経済的アクセス関係!D$8=\"〇\",P4=1),1,0)","v":0},{"$f":"IF(AND(経済的アクセス関係!E$8=\"〇\",Q4=1),1,0)","v":0},{"$f":"IF(AND(経済的アクセス関係!F$8=\"〇\",R4=1),1,0)","v":0},{"$f":"IF(AND(経済的アクセス関係!G$8=\"〇\",S4=1),1,0)","v":0},{"$f":"IF(AND(経済的アクセス関係!H$8=\"〇\",T4=1),1,0)","v":0},{"$f":"IF(AND(経済的アクセス関係!C$10=\"〇\",U4=1),1,0)","v":0},{"$f":"IF(AND(経済的アクセス関係!D$10=\"〇\",V4=1),1,0)","v":0},{"$f":"IF(AND(経済的アクセス関係!E$10=\"〇\",W4=1),1,0)","v":0},{"$f":"IF(AND(経済的アクセス関係!F$10=\"〇\",X4=1),1,0)","v":0},{"$f":"IF(AND(経済的アクセス関係!G$10=\"〇\",Y4=1),1,0)","v":0},{"$f":"IF(AND(経済的アクセス関係!H$10=\"〇\",Z4=1),1,0)","v":0},{"$f":"IF(AND(経済的アクセス関係!C$13=\"〇\",AA4=1),1,0)","v":0},{"$f":"IF(AND(経済的アクセス関係!D$13=\"〇\",AB4=1),1,0)","v":0},{"$f":"IF(AND(経済的アクセス関係!E$13=\"〇\",AC4=1),1,0)","v":0},{"$f":"IF(AND(経済的アクセス関係!F$13=\"〇\",AD4=1),1,0)","v":0},{"$f":"IF(AND(経済的アクセス関係!G$13=\"〇\",AE4=1),1,0)","v":0},{"$f":"IF(AND(経済的アクセス関係!H$13=\"〇\",AF4=1),1,0)","v":0},{"$f":"IF(AND(経済的アクセス関係!C$16=\"〇\",AG4=1),1,0)","v":0},null,{"$f":"IF(AND(経済的アクセス関係!E$16=\"〇\",AI4=1),1,0)","v":0}]
[{"$f":"IF(AND(SUM(AJ5:AU5)>0,SUM(AV5:BA5)>0,SUM(BB5:BD5)>0),COUNTIF($A$2:A4,\">0\")+1,0)","v":0},"孤独・孤立対策推進交付金","\n孤独・孤立対策の安定的・継続的な推進に向けて、食料支援等の取組を含め、地方における官・民・ＮＰＯ等の連携による地域の実情に応じた孤独・孤立対策の推進を支援するとともに、孤独・孤立対策に取り組むＮＰＯ等の運営能力の向上や活動基盤の整備に取り組む中間支援組織を支援する。\n","都道府県、市区町村、中間支援組織","・孤独・孤立対策の安定的・継続的な推進に向けて、地方公共団体が実施する多様な主体による水平的な連携・協働体制の構築と地域の実情に応じた孤独・孤立対策に関する各種取組への支援を行うことにより、地方における孤独・孤立対策を推進\n・孤独・孤立対策に取り組むＮＰＯ等の運営能力の向上や活動基盤の整備に取り組む中間支援組織を支援","人件費、謝金、旅費、消耗品費、会議費、印刷製本費、通信運搬費等","【交付率】\n・都道府県1/2補助、市区町村3/4補助\n　中間支援組織2/3補助\n\n【交付上限】\n・都道府県450万円、市区町村375万円\n　中間支援組織600万円","【中間支援組織向け】\n（１）本事業の実施主体である中間支援組織（以下「交付事業者」という。）は、次のすべての要件を満たす団体とする。 \n　ア 法人格を有する非営利団体（特定非営利活動法人、社会福祉法人、公益社団法人、一般社団法人、公益財団法人、一般財団法人等）であること。 \n　イ 市民活動に取り組む団体に対して、情報提供、相談対応、人材育成、ネットワーク形成等の非資金的支援、活動資金・施設の仲介・提供、市民活動に関する一般社会への啓発等を行う団体であること。 \n　ウ 日本に拠点を有していること。 \n　エ 本事業を的確に遂行する組織、人員等を有していること。 \n　オ 本事業を円滑に遂行するために必要な経営基盤を有し、かつ資金等について十分な管理能力を有していること。 \n　カ 暴力団員による不当な行為の防止等に関する法律（平成３年法律第77号）第２条第２号に規定する暴力団、申請者の役員等が暴力団員である団体若しくは暴力団員がその経営に実質的に関与している団体ではないこと。 \n　キ 宗教活動又は政治活動（政策提言活動を除く。）を主たる目的とする団体ではないこと。 \n　ク コンソーシアムで応募する場合にあっては、次に掲げるいずれにも該当すること。 \n　　① コンソーシアムの構成員は、単体法人又は他のコンソーシアムでの応募をしていないこと。 \n　　② コンソーシアムを構成する法人間において、交付決定後、その結成、運営等について以下の事項に関する規程を含む協定を締結すること（協定書（案）については、申請書とともに事前に提出し、交付決定後には、速やかに協定書を提出すること。） \n　　　・代表者の権限（申請、報告、請求、財産管理、内閣府との調整） \n　　　・事業を実施する上での監理体制 \n　　　・各構成員の業務の分担\n　　③ コンソーシアムの構成員全てが上記ア～キの全てを満たしていること。","【公募開始予定時期】\n未定\n\n【公募URL】https://www.cao.go.jp/kodoku_koritsu/torikumi/kouhukin/r07/r07_kouhukin.html\nhttps://www.cao.go.jp/kodoku_koritsu/torikumi/kouhukin_npo/npo_r7.html","内閣府\n孤独・孤立対策推進室","03-3581-4531\nkodoku.koritsu.taisaku.k7x@cao.go.jp",{"$nulls":3},1,0,1,1,1,1,1,1,1,1,1,1,1,0,0,0,0,0,1,null,0,{"$f":"IF(AND(経済的アクセス関係!C$8=\"〇\",O5=1),1,0)","v":0},{"$f":"IF(AND(経済的アクセス関係!D$8=\"〇\",P5=1),1,0)","v":0},{"$f":"IF(AND(経済的アクセス関係!E$8=\"〇\",Q5=1),1,0)","v":0},{"$f":"IF(AND(経済的アクセス関係!F$8=\"〇\",R5=1),1,0)","v":0},{"$f":"IF(AND(経済的アクセス関係!G$8=\"〇\",S5=1),1,0)","v":0},{"$f":"IF(AND(経済的アクセス関係!H$8=\"〇\",T5=1),1,0)","v":0},{"$f":"IF(AND(経済的アクセス関係!C$10=\"〇\",U5=1),1,0)","v":0},{"$f":"IF(AND(経済的アクセス関係!D$10=\"〇\",V5=1),1,0)","v":0},{"$f":"IF(AND(経済的アクセス関係!E$10=\"〇\",W5=1),1,0)","v":0},{"$f":"IF(AND(経済的アクセス関係!F$10=\"〇\",X5=1),1,0)","v":0},{"$f":"IF(AND(経済的アクセス関係!G$10=\"〇\",Y5=1),1,0)","v":0},{"$f":"IF(AND(経済的アクセス関係!H$10=\"〇\",Z5=1),1,0)","v":0},{"$f":"IF(AND(経済的アクセス関係!C$13=\"〇\",AA5=1),1,0)","v":0},{"$f":"IF(AND(経済的アクセス関係!D$13=\"〇\",AB5=1),1,0)","v":0},{"$f":"IF(AND(経済的アクセス関係!E$13=\"〇\",AC5=1),1,0)","v":0},{"$f":"IF(AND(経済的アクセス関係!F$13=\"〇\",AD5=1),1,0)","v":0},{"$f":"IF(AND(経済的アクセス関係!G$13=\"〇\",AE5=1),1,0)","v":0},{"$f":"IF(AND(経済的アクセス関係!H$13=\"〇\",AF5=1),1,0)","v":0},{"$f":"IF(AND(経済的アクセス関係!C$16=\"〇\",AG5=1),1,0)","v":0},null,{"$f":"IF(AND(経済的アクセス関係!E$16=\"〇\",AI5=1),1,0)","v":0}]
[{"$f":"IF(AND(SUM(AJ6:AU6)>0,SUM(AV6:BA6)>0,SUM(BB6:BD6)>0),COUNTIF($A$2:A5,\">0\")+1,0)","v":0},"地域における孤独・孤立対策に関するＮＰＯ等の取組調査","\n誰にでも起こり得る孤独・孤立の問題に対しては、予防等の観点から、地域の多様な主体の連携を通じた日常生活環境での緩やかなつながりや居場所の確保が重要になるため、食料支援等の取組を含め、こうした孤独・孤立の予防や早期対応に資するＮＰＯ等の取組を調査し、全国展開を図るとともに、効果的な支援方法等の検討を行う。\n","民間団体\n→ＮＰＯ法人や社会福祉法人等の非営利団体","ＮＰＯ法人や社会福祉法人等の非営利団体を対象として、日常生活環境での緩やかなつながりや居場所づくりに関する先駆的な取組への支援を行い、そのプロセスや成果を取りまとめ、全国展開。","人件費、謝金、旅費、消耗品費、会議費、印刷製本費、通信運搬費等","【補助率】\n・定額\n\n【補助上限】\n・〇〇〇万円","　公募にあたっては、法人格を有する非営利団体（特定非営利活動法人、社会福祉法人、公益法人（公益社団法人・公益財団法人）、一般社団法人・一般財団法人、学校法人等）及び法人格を持たない任意団体（地縁組織、地域運営協議会等非営利かつ公益に資する活動を行う団体）とする。\n\n（資格要件）\n・日本国内に拠点を有していること。\n・契約締結後の経理実務について、責任を持って管理できること。\n・特定の宗教や政治思想を広めることを目的とする団体、反社会的勢力および反社会的勢力と密接な関わりがある団体でないこと。","【公募開始予定時期】\n未定\n\n【公募URL】https://www.cao.go.jp/kodoku_koritsu/torikumi/modelchousa.html","内閣府\n孤独・孤立対策推進室","03-3581-4531\nkodoku.koritsu.taisaku.k7x@cao.go.jp",{"$nulls":3},0,0,1,1,1,1,1,1,1,1,1,1,1,0,0,0,0,0,1,null,0,{"$f":"IF(AND(経済的アクセス関係!C$8=\"〇\",O6=1),1,0)","v":0},{"$f":"IF(AND(経済的アクセス関係!D$8=\"〇\",P6=1),1,0)","v":0},{"$f":"IF(AND(経済的アクセス関係!E$8=\"〇\",Q6=1),1,0)","v":0},{"$f":"IF(AND(経済的アクセス関係!F$8=\"〇\",R6=1),1,0)","v":0},{"$f":"IF(AND(経済的アクセス関係!G$8=\"〇\",S6=1),1,0)","v":0},{"$f":"IF(AND(経済的アクセス関係!H$8=\"〇\",T6=1),1,0)","v":0},{"$f":"IF(AND(経済的アクセス関係!C$10=\"〇\",U6=1),1,0)","v":0},{"$f":"IF(AND(経済的アクセス関係!D$10=\"〇\",V6=1),1,0)","v":0},{"$f":"IF(AND(経済的アクセス関係!E$10=\"〇\",W6=1),1,0)","v":0},{"$f":"IF(AND(経済的アクセス関係!F$10=\"〇\",X6=1),1,0)","v":0},{"$f":"IF(AND(経済的アクセス関係!G$10=\"〇\",Y6=1),1,0)","v":0},{"$f":"IF(AND(経済的アクセス関係!H$10=\"〇\",Z6=1),1,0)","v":0},{"$f":"IF(AND(経済的アクセス関係!C$13=\"〇\",AA6=1),1,0)","v":0},{"$f":"IF(AND(経済的アクセス関係!D$13=\"〇\",AB6=1),1,0)","v":0},{"$f":"IF(AND(経済的アクセス関係!E$13=\"〇\",AC6=1),1,0)","v":0},{"$f":"IF(AND(経済的アクセス関係!F$13=\"〇\",AD6=1),1,0)","v":0},{"$f":"IF(AND(経済的アクセス関係!G$13=\"〇\",AE6=1),1,0)","v":0},{"$f":"IF(AND(経済的アクセス関係!H$13=\"〇\",AF6=1),1,0)","v":0},{"$f":"IF(AND(経済的アクセス関係!C$16=\"〇\",AG6=1),1,0)","v":0},null,{"$f":"IF(AND(経済的アクセス関係!E$16=\"〇\",AI6=1),1,0)","v":0}]
[{"$f":"IF(AND(SUM(AJ7:AU7)>0,SUM(AV7:BA7)>0,SUM(BB7:BD7)>0),COUNTIF($A$2:A6,\">0\")+1,0)","v":0},"フードバンク認証制度の認証取得等に向けた体制整備支援及び同制度の運用事業","\nフードバンク認証制度に係る認証取得に向けてフードバンクが体制を整備すること、及び認証を取得したフードバンクにおける食品寄附量の増加に対応するための体制の整備を支援する観点から、食品衛生責任者・倉庫管理主任者の資格取得の経費を補助するとともに、トレーサビリティの確保に資する在庫管理システムの導入・改修の経費を補助する。\n","民間団体→フードバンク等","・食品衛生責任者・倉庫管理主任者の養成講習を受講する費用の補助\n・トレーサビリティの確保に資する在庫管理システムの導入・改修の経費を補助\n","①食品衛生責任者・倉庫管理主任者の養成講習を受講する費用\n②トレーサビリティの確保に資する在庫管理システムの導入・改修の経費\n","【補助率】\n・1/2\n\n【補助上限】\n・調整中","調整中","準備中\n","消費者庁\n消費者教育推進課\n食品ロス削減推進室","03-3507-9261\nno-foodloss-houan@caa.go.jp",{"$nulls":3},0,0,1,1,0,0,0,0,0,0,0,0,1,1,1,1,0,0,1,null,0,{"$f":"IF(AND(経済的アクセス関係!C$8=\"〇\",O7=1),1,0)","v":0},{"$f":"IF(AND(経済的アクセス関係!D$8=\"〇\",P7=1),1,0)","v":0},{"$f":"IF(AND(経済的アクセス関係!E$8=\"〇\",Q7=1),1,0)","v":0},{"$f":"IF(AND(経済的アクセス関係!F$8=\"〇\",R7=1),1,0)","v":0},{"$f":"IF(AND(経済的アクセス関係!G$8=\"〇\",S7=1),1,0)","v":0},{"$f":"IF(AND(経済的アクセス関係!H$8=\"〇\",T7=1),1,0)","v":0},{"$f":"IF(AND(経済的アクセス関係!C$10=\"〇\",U7=1),1,0)","v":0},{"$f":"IF(AND(経済的アクセス関係!D$10=\"〇\",V7=1),1,0)","v":0},{"$f":"IF(AND(経済的アクセス関係!E$10=\"〇\",W7=1),1,0)","v":0},{"$f":"IF(AND(経済的アクセス関係!F$10=\"〇\",X7=1),1,0)","v":0},{"$f":"IF(AND(経済的アクセス関係!G$10=\"〇\",Y7=1),1,0)","v":0},{"$f":"IF(AND(経済的アクセス関係!H$10=\"〇\",Z7=1),1,0)","v":0},{"$f":"IF(AND(経済的アクセス関係!C$13=\"〇\",AA7=1),1,0)","v":0},{"$f":"IF(AND(経済的アクセス関係!D$13=\"〇\",AB7=1),1,0)","v":0},{"$f":"IF(AND(経済的アクセス関係!E$13=\"〇\",AC7=1),1,0)","v":0},{"$f":"IF(AND(経済的アクセス関係!F$13=\"〇\",AD7=1),1,0)","v":0},{"$f":"IF(AND(経済的アクセス関係!G$13=\"〇\",AE7=1),1,0)","v":0},{"$f":"IF(AND(経済的アクセス関係!H$13=\"〇\",AF7=1),1,0)","v":0},{"$f":"IF(AND(経済的アクセス関係!C$16=\"〇\",AG7=1),1,0)","v":0},null,{"$f":"IF(AND(経済的アクセス関係!E$16=\"〇\",AI7=1),1,0)","v":0}]
[{"$f":"IF(AND(SUM(AJ8:AU8)>0,SUM(AV8:BA8)>0,SUM(BB8:BD8)>0),COUNTIF($A$2:A7,\">0\")+1,0)","v":0},"食品ロス削減等総合対策事業のうち食品ロス削減等モデル支援","食品企業による未利用食品の寄附促進につながるよう、物流事業者等との連携による、未利用食品の提供体制の構築を支援する。","国→民間団体等→民間団体等","\n食品企業による未利用食品の寄附促進につながるよう、提供可能な食品やそのニーズに係る情報を共有・コーディネートし、食品企業が物流事業者等と連携して食品の提供をワンストップで行うことが可能となる体制の検討・実証を支援\n","人件費、賃金、謝金、旅費、会場借料、通信運搬費、資料作成費、消耗品費、役務費、委託費等","【補助率】\n・定額\n\n【補助上限】\n・調整中","調整中","【公募開始予定時期】\n未定\n\n【公募URL】https://www.maff.go.jp/j/shokusan/recycle/syoku_loss/161227_8.html","農林水産省\n大臣官房新事業・食品産業部\n外食・食文化課\n食品ロス・リサイクル対策室","03-6744-2066\nloss-non@maff.go.jp",{"$nulls":3},0,1,1,0,0,0,0,0,0,1,1,1,1,0,0,0,0,0,1,null,0,{"$f":"IF(AND(経済的アクセス関係!C$8=\"〇\",O8=1),1,0)","v":0},{"$f":"IF(AND(経済的アクセス関係!D$8=\"〇\",P8=1),1,0)","v":0},{"$f":"IF(AND(経済的アクセス関係!E$8=\"〇\",Q8=1),1,0)","v":0},{"$f":"IF(AND(経済的アクセス関係!F$8=\"〇\",R8=1),1,0)","v":0},{"$f":"IF(AND(経済的アクセス関係!G$8=\"〇\",S8=1),1,0)","v":0},{"$f":"IF(AND(経済的アクセス関係!H$8=\"〇\",T8=1),1,0)","v":0},{"$f":"IF(AND(経済的アクセス関係!C$10=\"〇\",U8=1),1,0)","v":0},{"$f":"IF(AND(経済的アクセス関係!D$10=\"〇\",V8=1),1,0)","v":0},{"$f":"IF(AND(経済的アクセス関係!E$10=\"〇\",W8=1),1,0)","v":0},{"$f":"IF(AND(経済的アクセス関係!F$10=\"〇\",X8=1),1,0)","v":0},{"$f":"IF(AND(経済的アクセス関係!G$10=\"〇\",Y8=1),1,0)","v":0},{"$f":"IF(AND(経済的アクセス関係!H$10=\"〇\",Z8=1),1,0)","v":0},{"$f":"IF(AND(経済的アクセス関係!C$13=\"〇\",AA8=1),1,0)","v":0},{"$f":"IF(AND(経済的アクセス関係!D$13=\"〇\",AB8=1),1,0)","v":0},{"$f":"IF(AND(経済的アクセス関係!E$13=\"〇\",AC8=1),1,0)","v":0},{"$f":"IF(AND(経済的アクセス関係!F$13=\"〇\",AD8=1),1,0)","v":0},{"$f":"IF(AND(経済的アクセス関係!G$13=\"〇\",AE8=1),1,0)","v":0},{"$f":"IF(AND(経済的アクセス関係!H$13=\"〇\",AF8=1),1,0)","v":0},{"$f":"IF(AND(経済的アクセス関係!C$16=\"〇\",AG8=1),1,0)","v":0},null,{"$f":"IF(AND(経済的アクセス関係!E$16=\"〇\",AI8=1),1,0)","v":0}]
[{"$f":"IF(AND(SUM(AJ9:AU9)>0,SUM(AV9:BA9)>0,SUM(BB9:BD9)>0),COUNTIF($A$2:A8,\">0\")+1,0)","v":0},"生活困窮者自立支援の機能強化事業","物価高騰による生活困窮者の増加に伴い、緊急的な対応が必要であるため、自治体と民間団体との連携の推進等により、生活困窮者自立支援の機能強化を図る。","福祉事務所設置自治体→自立相談支援機関","１．特定非営利活動法人等と連携した緊急対応の強化のうち\n①支援策の多様化を目的とした特定非営利活動法人や社会福祉法人等との連携強化","\n【①の補助対象経費】\n（ア）自立相談支援機関が連携する特定非営利活動法人や社会福祉法人等の取組を広報するための経費\n（イ）フードバンク等から提供された食料等を保管するための経費\n（ウ）特定非営利活動法人や社会福祉法人等から提供された現物を相談者へ送付するための経費\n（エ）その他自立相談支援機関が特定非営利活動法人や社会福祉法人等と連携するために必要な経費（ただし、特定非営利活動法人や社会福祉法人等が独自に支援に取り組むための経費は除く。）\n","\n【補助率】\n・国3/4、福祉事務所設置自治体1/4\n\n【補助上限】（調整中）\n・基本基準額：管内自立相談支援機関１箇所あたり4,000千円　\n\n","－","各自治体において実施","厚生労働省\n社会・援護局\n地域福祉課\n生活困窮者自立支援室","03-6812-7848\njiritsu-model@mhlw.go.jp",{"$nulls":3},1,1,1,1,1,1,1,1,1,1,1,1,1,0,1,1,0,0,1,null,0,{"$f":"IF(AND(経済的アクセス関係!C$8=\"〇\",O9=1),1,0)","v":0},{"$f":"IF(AND(経済的アクセス関係!D$8=\"〇\",P9=1),1,0)","v":0},{"$f":"IF(AND(経済的アクセス関係!E$8=\"〇\",Q9=1),1,0)","v":0},{"$f":"IF(AND(経済的アクセス関係!F$8=\"〇\",R9=1),1,0)","v":0},{"$f":"IF(AND(経済的アクセス関係!G$8=\"〇\",S9=1),1,0)","v":0},{"$f":"IF(AND(経済的アクセス関係!H$8=\"〇\",T9=1),1,0)","v":0},{"$f":"IF(AND(経済的アクセス関係!C$10=\"〇\",U9=1),1,0)","v":0},{"$f":"IF(AND(経済的アクセス関係!D$10=\"〇\",V9=1),1,0)","v":0},{"$f":"IF(AND(経済的アクセス関係!E$10=\"〇\",W9=1),1,0)","v":0},{"$f":"IF(AND(経済的アクセス関係!F$10=\"〇\",X9=1),1,0)","v":0},{"$f":"IF(AND(経済的アクセス関係!G$10=\"〇\",Y9=1),1,0)","v":0},{"$f":"IF(AND(経済的アクセス関係!H$10=\"〇\",Z9=1),1,0)","v":0},{"$f":"IF(AND(経済的アクセス関係!C$13=\"〇\",AA9=1),1,0)","v":0},{"$f":"IF(AND(経済的アクセス関係!D$13=\"〇\",AB9=1),1,0)","v":0},{"$f":"IF(AND(経済的アクセス関係!E$13=\"〇\",AC9=1),1,0)","v":0},{"$f":"IF(AND(経済的アクセス関係!F$13=\"〇\",AD9=1),1,0)","v":0},{"$f":"IF(AND(経済的アクセス関係!G$13=\"〇\",AE9=1),1,0)","v":0},{"$f":"IF(AND(経済的アクセス関係!H$13=\"〇\",AF9=1),1,0)","v":0},{"$f":"IF(AND(経済的アクセス関係!C$16=\"〇\",AG9=1),1,0)","v":0},null,{"$f":"IF(AND(経済的アクセス関係!E$16=\"〇\",AI9=1),1,0)","v":0}]
[{"$f":"IF(AND(SUM(AJ10:AU10)>0,SUM(AV10:BA10)>0,SUM(BB10:BD10)>0),COUNTIF($A$2:A9,\">0\")+1,0)","v":0},"生活困窮者自立支援の機能強化事業","物価高騰による生活困窮者の増加に伴い、緊急的な対応が必要であるため、自治体と民間団体との連携の推進等により、生活困窮者自立支援の機能強化を図る。","福祉事務所設置自治体→NPO法人、社会福祉法人等","１．特定非営利活動法人等と連携した緊急対応の強化のうち\n②支援ニーズの増大に対応した地域の特定非営利活動法人等に対する活動支援","\n【②の補助対象経費】\n地域の生活困窮者自立支援に取り組む上で、必要と認められる支援を実施するために必要な経費（食料や日用生活用品等の物資支援に必要な物品購入費、相談者に物品を届ける送料・運搬経費、居場所づくりに必要な借上料、Ｗｉ－Ｆｉ等の通信環境整備に係る経費、その他人件費、印刷製本費、燃料費、光熱水費、雑役務費等）\n","\n【補助率】\n・国3/4、福祉事務所設置自治体1/4\n\n【補助上限】（調整中）\n・基本基準額：管内自立相談支援機関１箇所あたり4,000千円　\n・②のメニュー利用で以下の金額を加算（2,500千円（１団体あたり50万円。ただし、広域的な支援を実施している場合は100万円。））\n","\n【②支援対象となる民間団体の要件】\n・地域の自立相談支援機関と連携が図られていること。または、複数の市町村において広域的な支援に取り組んでおり、かつ、都道府県と連携が図られていること（いずれも、今後連携する予定の場合を含む。）。\n・地域のプラットフォームにおいて、地域の生活困窮者を支援する上で、当該民間団体による支援を行うことが必要と認められること。または、複数の市町村において広域的な支援に取り組んでおり、かつ、当該団体又は当該団体が所属するネットワーク等が都道府県と連携することで、地域の生活困窮者への支援に資すると認められること等。\n","各自治体において実施","厚生労働省\n社会・援護局\n地域福祉課\n生活困窮者自立支援室","03-6812-7848\njiritsu-model@mhlw.go.jp",{"$nulls":3},0,1,1,1,1,1,1,1,1,1,1,1,1,0,1,1,0,0,1,null,0,{"$f":"IF(AND(経済的アクセス関係!C$8=\"〇\",O10=1),1,0)","v":0},{"$f":"IF(AND(経済的アクセス関係!D$8=\"〇\",P10=1),1,0)","v":0},{"$f":"IF(AND(経済的アクセス関係!E$8=\"〇\",Q10=1),1,0)","v":0},{"$f":"IF(AND(経済的アクセス関係!F$8=\"〇\",R10=1),1,0)","v":0},{"$f":"IF(AND(経済的アクセス関係!G$8=\"〇\",S10=1),1,0)","v":0},{"$f":"IF(AND(経済的アクセス関係!H$8=\"〇\",T10=1),1,0)","v":0},{"$f":"IF(AND(経済的アクセス関係!C$10=\"〇\",U10=1),1,0)","v":0},{"$f":"IF(AND(経済的アクセス関係!D$10=\"〇\",V10=1),1,0)","v":0},{"$f":"IF(AND(経済的アクセス関係!E$10=\"〇\",W10=1),1,0)","v":0},{"$f":"IF(AND(経済的アクセス関係!F$10=\"〇\",X10=1),1,0)","v":0},{"$f":"IF(AND(経済的アクセス関係!G$10=\"〇\",Y10=1),1,0)","v":0},{"$f":"IF(AND(経済的アクセス関係!H$10=\"〇\",Z10=1),1,0)","v":0},{"$f":"IF(AND(経済的アクセス関係!C$13=\"〇\",AA10=1),1,0)","v":0},{"$f":"IF(AND(経済的アクセス関係!D$13=\"〇\",AB10=1),1,0)","v":0},{"$f":"IF(AND(経済的アクセス関係!E$13=\"〇\",AC10=1),1,0)","v":0},{"$f":"IF(AND(経済的アクセス関係!F$13=\"〇\",AD10=1),1,0)","v":0},{"$f":"IF(AND(経済的アクセス関係!G$13=\"〇\",AE10=1),1,0)","v":0},{"$f":"IF(AND(経済的アクセス関係!H$13=\"〇\",AF10=1),1,0)","v":0},{"$f":"IF(AND(経済的アクセス関係!C$16=\"〇\",AG10=1),1,0)","v":0},null,{"$f":"IF(AND(経済的アクセス関係!E$16=\"〇\",AI10=1),1,0)","v":0}]
[{"$f":"IF(AND(SUM(AJ11:AU11)>0,SUM(AV11:BA11)>0,SUM(BB11:BD11)>0),COUNTIF($A$2:A10,\">0\")+1,0)","v":0},"地方消費者行政強化交付金（食品ロス関係部分）","\n安全・安心な消費生活の実現のために国が特に必要と考え推進する施策を地域において実現すること等により、消費者政策全体の機能強化を図る。食品ロスの削減を推進するため、重点課題対応型として、都道府県・市町村等が実施するフードバンク団体等の活動支援に係る取組を支援する。","都道府県、市区町村\n→フードバンク等","食品ロス削減の普及・促進","フードバンク団体等の活動支援に係る経費","【補助率】\n・1/2\n\n【補助上限】\n・都道府県：2,500万円\n・市町村等：1,500万円","交付要綱に規定する取組の中で、以下の取組を実施する都道府県及び市町村等\n\n食品ロス削減の普及・促進\n・フードバンク活動支援","\nhttps://www.caa.go.jp/policies/policy/local_cooperation/local_consumer_administration/grant/\n","消費者庁\n消費者教育推進課\n食品ロス削減推進室","03-3507-9261\nno-foodloss-houan@caa.go.jp",{"$nulls":3},1,0,0,0,0,0,0,0,0,0,0,0,0,0,1,0,0,0,1,null,0,{"$f":"IF(AND(経済的アクセス関係!C$8=\"〇\",O11=1),1,0)","v":0},{"$f":"IF(AND(経済的アクセス関係!D$8=\"〇\",P11=1),1,0)","v":0},{"$f":"IF(AND(経済的アクセス関係!E$8=\"〇\",Q11=1),1,0)","v":0},{"$f":"IF(AND(経済的アクセス関係!F$8=\"〇\",R11=1),1,0)","v":0},{"$f":"IF(AND(経済的アクセス関係!G$8=\"〇\",S11=1),1,0)","v":0},{"$f":"IF(AND(経済的アクセス関係!H$8=\"〇\",T11=1),1,0)","v":0},{"$f":"IF(AND(経済的アクセス関係!C$10=\"〇\",U11=1),1,0)","v":0},{"$f":"IF(AND(経済的アクセス関係!D$10=\"〇\",V11=1),1,0)","v":0},{"$f":"IF(AND(経済的アクセス関係!E$10=\"〇\",W11=1),1,0)","v":0},{"$f":"IF(AND(経済的アクセス関係!F$10=\"〇\",X11=1),1,0)","v":0},{"$f":"IF(AND(経済的アクセス関係!G$10=\"〇\",Y11=1),1,0)","v":0},{"$f":"IF(AND(経済的アクセス関係!H$10=\"〇\",Z11=1),1,0)","v":0},{"$f":"IF(AND(経済的アクセス関係!C$13=\"〇\",AA11=1),1,0)","v":0},{"$f":"IF(AND(経済的アクセス関係!D$13=\"〇\",AB11=1),1,0)","v":0},{"$f":"IF(AND(経済的アクセス関係!E$13=\"〇\",AC11=1),1,0)","v":0},{"$f":"IF(AND(経済的アクセス関係!F$13=\"〇\",AD11=1),1,0)","v":0},{"$f":"IF(AND(経済的アクセス関係!G$13=\"〇\",AE11=1),1,0)","v":0},{"$f":"IF(AND(経済的アクセス関係!H$13=\"〇\",AF11=1),1,0)","v":0},{"$f":"IF(AND(経済的アクセス関係!C$16=\"〇\",AG11=1),1,0)","v":0},null,{"$f":"IF(AND(経済的アクセス関係!E$16=\"〇\",AI11=1),1,0)","v":0}]
[{"$f":"IF(AND(SUM(AJ12:AU12)>0,SUM(AV12:BA12)>0,SUM(BB12:BD12)>0),COUNTIF($A$2:A11,\">0\")+1,0)","v":0},"生活困窮者等支援民間団体活動助成事業","物価高騰の影響下において、生活困窮者やひきこもり状態にある者等に対する支援活動を行う民間団体の活動を推進する。","（独）福祉医療機構→NPO法人等民間団体","\n（独）福祉医療機構において、生活困窮者やひきこもり状態にある者等に対して電話・ＳＮＳ相談、住まいの確保等の支援、居場所づくり、就労に向けた支援、食料の支援、こどもの学習支援、地域活動等での就労体験の提供、その他生活上の支援などの支援活動を実施する民間団体の先進的な取組へ助成\n※地域のフードバンク等の社会資源と連携したり、フードバンクを運営する等、食料等の物資を提供することを通じて生活困窮者等を支援する事業については、助成事業選定において優先的に採択\n","助成対象事業を実施するために必要な以下の経費\n謝金、旅費（国内旅費及び外国旅費）、借料損料（会場借料含む）、家賃、備品購入費、消耗品費（燃料費、食材費及び会議費含む）、印刷製本費、通信運搬費、賃金、委託費、保険料、雑役務費、光熱水費、修繕費","【補助率】\n・定額\n\n【補助上限】　\n①全国的又は４以上の都道府県にまたがる支援活動を行う団体：上限2,000万円\n②２以上の都道府県にまたがる支援活動を行う団体：上限900万円　　\n③同一都道府県内での支援活動を行う団体：上限700万円　","核となる団体が他の団体と相互に連携し、協力関係を築き実施する事業であること。\n同一の都道府県内で活動する事業であること。\nもしくは複数の都道府県で活動する事業であること。\n\n","\n【公募開始予定時期】\n未定\n\n【公募URL】https://www.wam.go.jp/hp/r7hosei_wamjyosei/\n","厚生労働省\n社会・援護局\n地域福祉課\n生活困窮者自立支援室","03-6812-7848\njiritsu-model@mhlw.go.jp",{"$nulls":3},0,1,1,1,1,1,1,1,1,1,1,1,1,1,1,1,0,0,1,null,0,{"$f":"IF(AND(経済的アクセス関係!C$8=\"〇\",O12=1),1,0)","v":0},{"$f":"IF(AND(経済的アクセス関係!D$8=\"〇\",P12=1),1,0)","v":0},{"$f":"IF(AND(経済的アクセス関係!E$8=\"〇\",Q12=1),1,0)","v":0},{"$f":"IF(AND(経済的アクセス関係!F$8=\"〇\",R12=1),1,0)","v":0},{"$f":"IF(AND(経済的アクセス関係!G$8=\"〇\",S12=1),1,0)","v":0},{"$f":"IF(AND(経済的アクセス関係!H$8=\"〇\",T12=1),1,0)","v":0},{"$f":"IF(AND(経済的アクセス関係!C$10=\"〇\",U12=1),1,0)","v":0},{"$f":"IF(AND(経済的アクセス関係!D$10=\"〇\",V12=1),1,0)","v":0},{"$f":"IF(AND(経済的アクセス関係!E$10=\"〇\",W12=1),1,0)","v":0},{"$f":"IF(AND(経済的アクセス関係!F$10=\"〇\",X12=1),1,0)","v":0},{"$f":"IF(AND(経済的アクセス関係!G$10=\"〇\",Y12=1),1,0)","v":0},{"$f":"IF(AND(経済的アクセス関係!H$10=\"〇\",Z12=1),1,0)","v":0},{"$f":"IF(AND(経済的アクセス関係!C$13=\"〇\",AA12=1),1,0)","v":0},{"$f":"IF(AND(経済的アクセス関係!D$13=\"〇\",AB12=1),1,0)","v":0},{"$f":"IF(AND(経済的アクセス関係!E$13=\"〇\",AC12=1),1,0)","v":0},{"$f":"IF(AND(経済的アクセス関係!F$13=\"〇\",AD12=1),1,0)","v":0},{"$f":"IF(AND(経済的アクセス関係!G$13=\"〇\",AE12=1),1,0)","v":0},{"$f":"IF(AND(経済的アクセス関係!H$13=\"〇\",AF12=1),1,0)","v":0},{"$f":"IF(AND(経済的アクセス関係!C$16=\"〇\",AG12=1),1,0)","v":0},null,{"$f":"IF(AND(経済的アクセス関係!E$16=\"〇\",AI12=1),1,0)","v":0}]
[{"$f":"IF(AND(SUM(AJ13:AU13)>0,SUM(AV13:BA13)>0,SUM(BB13:BD13)>0),COUNTIF($A$2:A12,\">0\")+1,0)","v":0},"子育て安心アウトリーチ強化事業","児童虐待防止に向けて子育て家庭の孤立を防ぎ、支援が必要なこどもや家庭を早期に把握して継続的に支援できるよう、こども家庭センターを中核として地域の民間団体･事業者等と連携した多様な手法によりアウトリーチを実施し、その状況を継続的に把握するとともに、必要な相談や支援につなげることができる体制を強化する。","市区町村","（必須実施）\n①多様なアウトリーチ手法により、こどもや家庭の状況把握を行うための経費（訪問費、事務職員雇上費、事務運営費等）を補助\n（加算）\n②状況把握のための訪問等に際し、食事を提供する場合に必要な経費を補助\n③状況把握のための訪問等に際して、おむつ･ミルク等の消耗品を提供する場合に必要な経費を補助\n④虐待防止の観点から、衣服･哺乳瓶等の育児用品等の提供が不可欠な場合に必要な経費を補助\n⑤支援やサービスの利用申請その他の利用支援等を行う場合に必要な経費を補助","子育て安心アウトリーチ強化事業の実施に必要な報酬、給料、職員手当、賃金、報償費、共済費、旅費、需用費、役務費、委託料、改修費、設備整備費、備品購入費及び賃借料等","【補助率】　　\n国2/3（市区町村1/3）又は国1/2（市区町村1/2） \n※補助率2/3の対象となるのは、財政力指数１未満の自治体のみ。財政力指数の低い自治体については、当該取組により捻出できた予算の範囲内で補助額を増額する場合がある。\n\n【補助基準額】\n①\n訪問回数の規模に応じて2,314千円～45,577千円\n②③④⑤\n訪問回数の規模及び実施内容に応じて330千円～4,536千円を加算","実施主体（１市区町村あたり）が実施する訪問の回数（市区町村が複数の事業者に委託等して実施する場合は複数事業者の合計訪問回数）の規模に応じて\n設定する必須事業分の基準額と、各加算事業を実施する場合には、それぞれを実施する訪問回数に応じて設定する加算事業分の基準額を合算したものを補助金額とする。","各自治体において実施","こども家庭庁\n支援局\n虐待防止対策課","03-6859-0103\njidounetwork@cfa.go.jp",{"$nulls":3},1,1,1,1,1,1,1,1,1,1,1,1,0,0,1,0,0,0,1,null,0,{"$f":"IF(AND(経済的アクセス関係!C$8=\"〇\",O13=1),1,0)","v":0},{"$f":"IF(AND(経済的アクセス関係!D$8=\"〇\",P13=1),1,0)","v":0},{"$f":"IF(AND(経済的アクセス関係!E$8=\"〇\",Q13=1),1,0)","v":0},{"$f":"IF(AND(経済的アクセス関係!F$8=\"〇\",R13=1),1,0)","v":0},{"$f":"IF(AND(経済的アクセス関係!G$8=\"〇\",S13=1),1,0)","v":0},{"$f":"IF(AND(経済的アクセス関係!H$8=\"〇\",T13=1),1,0)","v":0},{"$f":"IF(AND(経済的アクセス関係!C$10=\"〇\",U13=1),1,0)","v":0},{"$f":"IF(AND(経済的アクセス関係!D$10=\"〇\",V13=1),1,0)","v":0},{"$f":"IF(AND(経済的アクセス関係!E$10=\"〇\",W13=1),1,0)","v":0},{"$f":"IF(AND(経済的アクセス関係!F$10=\"〇\",X13=1),1,0)","v":0},{"$f":"IF(AND(経済的アクセス関係!G$10=\"〇\",Y13=1),1,0)","v":0},{"$f":"IF(AND(経済的アクセス関係!H$10=\"〇\",Z13=1),1,0)","v":0},{"$f":"IF(AND(経済的アクセス関係!C$13=\"〇\",AA13=1),1,0)","v":0},{"$f":"IF(AND(経済的アクセス関係!D$13=\"〇\",AB13=1),1,0)","v":0},{"$f":"IF(AND(経済的アクセス関係!E$13=\"〇\",AC13=1),1,0)","v":0},{"$f":"IF(AND(経済的アクセス関係!F$13=\"〇\",AD13=1),1,0)","v":0},{"$f":"IF(AND(経済的アクセス関係!G$13=\"〇\",AE13=1),1,0)","v":0},{"$f":"IF(AND(経済的アクセス関係!H$13=\"〇\",AF13=1),1,0)","v":0},{"$f":"IF(AND(経済的アクセス関係!C$16=\"〇\",AG13=1),1,0)","v":0},null,{"$f":"IF(AND(経済的アクセス関係!E$16=\"〇\",AI13=1),1,0)","v":0}]
[{"$f":"IF(AND(SUM(AJ14:AU14)>0,SUM(AV14:BA14)>0,SUM(BB14:BD14)>0),COUNTIF($A$2:A13,\">0\")+1,0)","v":0},"\n宅食アウトリーチ活動支援事業","児童虐待防止に向けて子育て家庭の孤立を防ぎ、支援が必要なこどもや家庭を早期に把握して継続的に支援できるよう、地域の民間団体･事業者等と連携したアウトリーチを実施し、その状況を継続的に把握するとともに、必要な相談や支援につなげることができる体制を強化する。","都道府県　","都道府県等から中間支援法人への委託等により、アウトリーチを行う民間団体・事業者等の活動の支援や、当該事業の未実施地域等において、支援が必要なこどもや家庭の状況の把握、食事の提供、生活習慣習得の支援、周知啓発などを実施","宅食アウトリーチ活動支援事業の実施に必要な報酬、給料、職員手当、賃金、報償費、共済費、旅費、需用費、役務費、委託料、改修費、設備整備費、備品購入費及び賃借料等","【補助率】　　\n国2/3（都道府県1/3）又は国1/2（都道府県1/2） \n※補助率2/3の対象となるのは、財政力指数１未満の自治体のみ。財政力指数の低い自治体については、当該取組により捻出できた予算の範囲内で補助額を増額する場合がある。\n\n【補助基準額】\n60,000千円（＋周知啓発加算28千円）","中間支援法人は、以下のアを実施するとともに、イ～エのいずれかに該当する事業を実施する。\nア　宅食等を実施する民間団体等に向けた見守り支援に関する研修等を行うなどにより地域の見守り支援に係る環境を整備するともに、支援の質を向上させるための取組を行う。\nイ　民間団体等に対して、事業実施期間中のこども宅食等の運営等に係る費用やこども自身が申請できるよう周知啓発に係る費用の助成、及び運営に関するノウハウの提供や助言等を行う事業。\nウ　中間支援法人自らがこども宅食等を運営し、支援を必要とするこども等の状況を把握し必要に応じて市町村へこども等の状況を連絡する事業。\nエ　民間団体等に対する食品・食材、学用品、生活必需品の提供等、こども宅食等の活動を支援する事業。\n\n","各自治体において実施","こども家庭庁\n支援局\n虐待防止対策課","03-6859-0103\njidounetwork@cfa.go.jp",{"$nulls":3},1,1,1,1,1,1,1,1,1,1,1,1,0,0,1,0,0,0,1,null,0,{"$f":"IF(AND(経済的アクセス関係!C$8=\"〇\",O14=1),1,0)","v":0},{"$f":"IF(AND(経済的アクセス関係!D$8=\"〇\",P14=1),1,0)","v":0},{"$f":"IF(AND(経済的アクセス関係!E$8=\"〇\",Q14=1),1,0)","v":0},{"$f":"IF(AND(経済的アクセス関係!F$8=\"〇\",R14=1),1,0)","v":0},{"$f":"IF(AND(経済的アクセス関係!G$8=\"〇\",S14=1),1,0)","v":0},{"$f":"IF(AND(経済的アクセス関係!H$8=\"〇\",T14=1),1,0)","v":0},{"$f":"IF(AND(経済的アクセス関係!C$10=\"〇\",U14=1),1,0)","v":0},{"$f":"IF(AND(経済的アクセス関係!D$10=\"〇\",V14=1),1,0)","v":0},{"$f":"IF(AND(経済的アクセス関係!E$10=\"〇\",W14=1),1,0)","v":0},{"$f":"IF(AND(経済的アクセス関係!F$10=\"〇\",X14=1),1,0)","v":0},{"$f":"IF(AND(経済的アクセス関係!G$10=\"〇\",Y14=1),1,0)","v":0},{"$f":"IF(AND(経済的アクセス関係!H$10=\"〇\",Z14=1),1,0)","v":0},{"$f":"IF(AND(経済的アクセス関係!C$13=\"〇\",AA14=1),1,0)","v":0},{"$f":"IF(AND(経済的アクセス関係!D$13=\"〇\",AB14=1),1,0)","v":0},{"$f":"IF(AND(経済的アクセス関係!E$13=\"〇\",AC14=1),1,0)","v":0},{"$f":"IF(AND(経済的アクセス関係!F$13=\"〇\",AD14=1),1,0)","v":0},{"$f":"IF(AND(経済的アクセス関係!G$13=\"〇\",AE14=1),1,0)","v":0},{"$f":"IF(AND(経済的アクセス関係!H$13=\"〇\",AF14=1),1,0)","v":0},{"$f":"IF(AND(経済的アクセス関係!C$16=\"〇\",AG14=1),1,0)","v":0},null,{"$f":"IF(AND(経済的アクセス関係!E$16=\"〇\",AI14=1),1,0)","v":0}]
[{"$f":"IF(AND(SUM(AJ15:AU15)>0,SUM(AV15:BA15)>0,SUM(BB15:BD15)>0),COUNTIF($A$2:A14,\">0\")+1,0)","v":0},"地域こども・若者の生活支援強化事業","支援が必要なこども・若者を早期発見し、行政の適切な機関につなげることを目的として、都道府県・市区町村を通じて、こども食堂等の居場所における食事の提供やその立上げ等、地域においてこども・若者が気軽に立ち寄ることができる場所の提供に係る取組を支援。","都道府県・市区町村\n→こども食堂等","\nア　通常実施型（開催頻度等の要件なし）​\n　　年間を通じて食事（こども食堂等）やこども用品（文房具、生理用品、おむつ等）の提供等を行う　​\nイ　長期休暇期間集中実施型（開催頻度等の要件あり）\n　　長期休暇期間中に集中的に、暑さ等対策の整った安全な居場所で食事を提供（居場所モデル）、​又はこども宅食やフードパントリーの実施による食事支援（宅食等モデル）を実施​\nウ　体験・交流・学習支援提供型\n　　多様な人物との出会いを通じて将来像を考える機会や屋外活動等様々な体験機会の提供、学習支援を行う​\nエ　備品等購入支援​\n　　①立上げ支援：既存の福祉・教育施設、地域にある様々な場所での立上げ等を支援する​\n　　②継続支援：こどもの居場所等の事業を継続するための備品購入等を支援する​\nオ　環境整備支援（地域でこども等を支援するための仕組みづくり）​\n　　相談窓口の設置やコーディーターの配置、地域のこども等の支援ニーズを把握するための研修等を行う　​\nカ　その他上記に類する事業\n","地域こども・若者の生活支援強化事業実施に必要な報酬、給料（ただし会計年度任用職員及び臨時的任用職員へ支給されるものに限る）、職員手当等（ただし会計年度任用職員及び臨時的任用職員へ支給されるものに限る）、共済費、報償費、旅費、需用費（消耗品費、燃料費、食糧費、印刷製本費、修繕費）、役務費（通信運搬費、広告料、保険料）、委託料、使用料及び賃借料、備品購入費、負担金､補助及び交付金","【補助率】\n・2/3又は1/2\n\n【補助基準額】\n・最大16,312千円\n（要支援児童等支援強化加算と合わせて最大19,163千円）","（１）事業の実施に当たっては、こども家庭センター等の相談機関や、学校や放課後児童クラブ等との連携を図り、支援が必要なこどもや家庭の把握に努めること。\n（２）支援が必要なこどもや家庭を発見した場合は、自治体や関係機関と連携して適切な対応を図ること。\n（３）民間団体等と連携して本事業を実施する場合、（１）及び（２）について、都道府県又は市区町村の具体的な対応方針を連携する民間団体と共有したうえで、事業を実施すること。","【公募開始予定時期】\n各自治体において実施\n\n【関連URL】https://www.cfa.go.jp/policies/kodomonohinkon/seikatsushien/","こども家庭庁\n支援局\n家庭福祉課","こどもの貧困対策担当\n03-6859-0183\ntaisaku.kodomohinkon@cfa.go.jp",{"$nulls":3},1,1,1,1,1,1,1,1,1,1,1,1,0,0,1,0,0,0,1,null,0,{"$f":"IF(AND(経済的アクセス関係!C$8=\"〇\",O15=1),1,0)","v":0},{"$f":"IF(AND(経済的アクセス関係!D$8=\"〇\",P15=1),1,0)","v":0},{"$f":"IF(AND(経済的アクセス関係!E$8=\"〇\",Q15=1),1,0)","v":0},{"$f":"IF(AND(経済的アクセス関係!F$8=\"〇\",R15=1),1,0)","v":0},{"$f":"IF(AND(経済的アクセス関係!G$8=\"〇\",S15=1),1,0)","v":0},{"$f":"IF(AND(経済的アクセス関係!H$8=\"〇\",T15=1),1,0)","v":0},{"$f":"IF(AND(経済的アクセス関係!C$10=\"〇\",U15=1),1,0)","v":0},{"$f":"IF(AND(経済的アクセス関係!D$10=\"〇\",V15=1),1,0)","v":0},{"$f":"IF(AND(経済的アクセス関係!E$10=\"〇\",W15=1),1,0)","v":0},{"$f":"IF(AND(経済的アクセス関係!F$10=\"〇\",X15=1),1,0)","v":0},{"$f":"IF(AND(経済的アクセス関係!G$10=\"〇\",Y15=1),1,0)","v":0},{"$f":"IF(AND(経済的アクセス関係!H$10=\"〇\",Z15=1),1,0)","v":0},{"$f":"IF(AND(経済的アクセス関係!C$13=\"〇\",AA15=1),1,0)","v":0},{"$f":"IF(AND(経済的アクセス関係!D$13=\"〇\",AB15=1),1,0)","v":0},{"$f":"IF(AND(経済的アクセス関係!E$13=\"〇\",AC15=1),1,0)","v":0},{"$f":"IF(AND(経済的アクセス関係!F$13=\"〇\",AD15=1),1,0)","v":0},{"$f":"IF(AND(経済的アクセス関係!G$13=\"〇\",AE15=1),1,0)","v":0},{"$f":"IF(AND(経済的アクセス関係!H$13=\"〇\",AF15=1),1,0)","v":0},{"$f":"IF(AND(経済的アクセス関係!C$16=\"〇\",AG15=1),1,0)","v":0},null,{"$f":"IF(AND(経済的アクセス関係!E$16=\"〇\",AI15=1),1,0)","v":0}]
[{"$f":"IF(AND(SUM(AJ16:AU16)>0,SUM(AV16:BA16)>0,SUM(BB16:BD16)>0),COUNTIF($A$2:A15,\">0\")+1,0)","v":0},"ひとり親家庭等のこどもの食事等支援事業","\nこどもの貧困や孤独・孤立への支援のため、広域的に運営支援等を行う民間団体（中間支援法人）を通じて、こども食堂、こども宅食、フードパントリー等による、ひとり親家庭を始めとする要支援世帯のこども等への食事の提供等の取組を支援。\n\n","社会福祉法人、NPO法人等の営利を目的としない民間団体（中間支援法人）→こども食堂等","中間支援法人が採択したこども食堂等に対する助成事業","賃金、諸謝金、旅費、需用費（消耗品費、燃料費、食糧費、印刷製本費、光熱水費）、会議費、役務費（雑役務費、通信運搬費、保険料）、委託費、借料及び損料、備品購入費、負担金、補助及び交付金","【補助率】\n・定額（国：10/10相当）\n\n【補助基準額】\n・１法人当たり：148,000千円","こども食堂等を実施する事業者に対して、事業実施期間中のこども食堂等の運営等に係る費用を助成するとともに、助成を行うこども食堂等に対し、研修を実施するなど、こども食堂等の運営に関するノウハウの提供や助言等を行う。\nまた、事業の中間報告会等の実施により各助成対象事業者の運営状況を把握するとともに、助成対象事業者が相互に情報交換ができる機会や行政機関等との関係構築ができる機会を設定する。","【公募開始予定時期】\n未定\n\n【公募URL】https://www.cfa.go.jp/policies/hitori-oya/kodomo-syokuji-koubo","こども家庭庁\n支援局\n家庭福祉課","こどもの貧困対策担当\n03-6859-0183\ntaisaku.kodomohinkon@cfa.go.jp",{"$nulls":3},0,1,1,1,1,1,1,1,1,1,1,1,0,0,1,0,0,0,1,null,0,{"$f":"IF(AND(経済的アクセス関係!C$8=\"〇\",O16=1),1,0)","v":0},{"$f":"IF(AND(経済的アクセス関係!D$8=\"〇\",P16=1),1,0)","v":0},{"$f":"IF(AND(経済的アクセス関係!E$8=\"〇\",Q16=1),1,0)","v":0},{"$f":"IF(AND(経済的アクセス関係!F$8=\"〇\",R16=1),1,0)","v":0},{"$f":"IF(AND(経済的アクセス関係!G$8=\"〇\",S16=1),1,0)","v":0},{"$f":"IF(AND(経済的アクセス関係!H$8=\"〇\",T16=1),1,0)","v":0},{"$f":"IF(AND(経済的アクセス関係!C$10=\"〇\",U16=1),1,0)","v":0},{"$f":"IF(AND(経済的アクセス関係!D$10=\"〇\",V16=1),1,0)","v":0},{"$f":"IF(AND(経済的アクセス関係!E$10=\"〇\",W16=1),1,0)","v":0},{"$f":"IF(AND(経済的アクセス関係!F$10=\"〇\",X16=1),1,0)","v":0},{"$f":"IF(AND(経済的アクセス関係!G$10=\"〇\",Y16=1),1,0)","v":0},{"$f":"IF(AND(経済的アクセス関係!H$10=\"〇\",Z16=1),1,0)","v":0},{"$f":"IF(AND(経済的アクセス関係!C$13=\"〇\",AA16=1),1,0)","v":0},{"$f":"IF(AND(経済的アクセス関係!D$13=\"〇\",AB16=1),1,0)","v":0},{"$f":"IF(AND(経済的アクセス関係!E$13=\"〇\",AC16=1),1,0)","v":0},{"$f":"IF(AND(経済的アクセス関係!F$13=\"〇\",AD16=1),1,0)","v":0},{"$f":"IF(AND(経済的アクセス関係!G$13=\"〇\",AE16=1),1,0)","v":0},{"$f":"IF(AND(経済的アクセス関係!H$13=\"〇\",AF16=1),1,0)","v":0},{"$f":"IF(AND(経済的アクセス関係!C$16=\"〇\",AG16=1),1,0)","v":0},null,{"$f":"IF(AND(経済的アクセス関係!E$16=\"〇\",AI16=1),1,0)","v":0}]
[{"$f":"IF(AND(SUM(AJ17:AU17)>0,SUM(AV17:BA17)>0,SUM(BB17:BD17)>0),COUNTIF($A$2:A16,\">0\")+1,0)","v":0},"消費・安全対策交付金のうち地域での食育の推進（食品安全等に関する消費者の理解醸成等）","第５次食育推進基本計画に掲げられた目標達成に向けて、地域の関係者等が連携して取り組む食育活動を引き続き推進する。","\n①都道府県を通じた取組：都道府県→民間団体等（都道府県、市区町村を含む）\n②都道府県域を越えた取組：民間団体等（都道府県、市区町村を含む）\n","こども食堂等の共食の場の提供等","共食の機会の提供に係る費用等","\n【補助率】\n・1/2\n\n【補助上限】\n※食材費について\n①都道府県を通じた取組：補助上限額100万円（交付上限額50万円）\n②都道府県域を越えた取組：補助上限額300万円（交付上限額150万円）\n","①都道府県を通じた取組：都道府県→民間団体等（都道府県、市区町村を含む）\n②都道府県域を越えた取組：民間団体等（都道府県、市区町村を含む）\n\n","\n【公募開始予定時期】\n未定\n\n【公募URL】\nhttps://www.maff.go.jp/j/syokuiku/torikumi/kouhukin/r8.html","農林水産省\n消費・安全局\n消費者行政・食育課","食育推進G\n03-6738-6558\nshokuiku@maff.go.jp",{"$nulls":3},1,1,1,0,0,1,0,1,1,1,1,1,1,0,1,0,0,0,1,null,0,{"$f":"IF(AND(経済的アクセス関係!C$8=\"〇\",O17=1),1,0)","v":0},{"$f":"IF(AND(経済的アクセス関係!D$8=\"〇\",P17=1),1,0)","v":0},{"$f":"IF(AND(経済的アクセス関係!E$8=\"〇\",Q17=1),1,0)","v":0},{"$f":"IF(AND(経済的アクセス関係!F$8=\"〇\",R17=1),1,0)","v":0},{"$f":"IF(AND(経済的アクセス関係!G$8=\"〇\",S17=1),1,0)","v":0},{"$f":"IF(AND(経済的アクセス関係!H$8=\"〇\",T17=1),1,0)","v":0},{"$f":"IF(AND(経済的アクセス関係!C$10=\"〇\",U17=1),1,0)","v":0},{"$f":"IF(AND(経済的アクセス関係!D$10=\"〇\",V17=1),1,0)","v":0},{"$f":"IF(AND(経済的アクセス関係!E$10=\"〇\",W17=1),1,0)","v":0},{"$f":"IF(AND(経済的アクセス関係!F$10=\"〇\",X17=1),1,0)","v":0},{"$f":"IF(AND(経済的アクセス関係!G$10=\"〇\",Y17=1),1,0)","v":0},{"$f":"IF(AND(経済的アクセス関係!H$10=\"〇\",Z17=1),1,0)","v":0},{"$f":"IF(AND(経済的アクセス関係!C$13=\"〇\",AA17=1),1,0)","v":0},{"$f":"IF(AND(経済的アクセス関係!D$13=\"〇\",AB17=1),1,0)","v":0},{"$f":"IF(AND(経済的アクセス関係!E$13=\"〇\",AC17=1),1,0)","v":0},{"$f":"IF(AND(経済的アクセス関係!F$13=\"〇\",AD17=1),1,0)","v":0},{"$f":"IF(AND(経済的アクセス関係!G$13=\"〇\",AE17=1),1,0)","v":0},{"$f":"IF(AND(経済的アクセス関係!H$13=\"〇\",AF17=1),1,0)","v":0},{"$f":"IF(AND(経済的アクセス関係!C$16=\"〇\",AG17=1),1,0)","v":0},null,{"$f":"IF(AND(経済的アクセス関係!E$16=\"〇\",AI17=1),1,0)","v":0}]
[{"$f":"IF(AND(SUM(AJ18:AU18)>0,SUM(AV18:BA18)>0,SUM(BB18:BD18)>0),COUNTIF($A$2:A17,\">0\")+1,0)","v":0},"農山漁村振興交付金のうち都市農業機能発揮対策","都市農業の振興を図るため、都市農業の多様な機能の発揮に資する取組を支援する。","都道府県、市区町村、民間団体等","都市農業共生推進等地域支援事業（都市農地で生産した農産物のこども食堂への提供等）","\n賃金、報償費、旅費、需用費、役務費、\n委託料、使用料及び賃借料、備品購入費、報酬、共済費等、補償費、資材等購入費、機械賃料並びに研修費\n","【補助率】\n・定額\n\n【補助上限】\n・メニューに応じて、100～700万円","・事業実施区域が、都市計画法第５条第１項又は第２項の規定による都市計画区域内に所在すること。\n・簡易な施設等の整備を行う場合は、取り組む農地が、都市計画法第７条の規定による市街化区域内の農地であって、以下のいずれかに該当する農地であること。\n① 生産緑地法第３条第１項の規定により定められた生産緑\n地地区内の農地\n② 都市計画法第18 条の２に規定する市町村基本方針、都市緑地法第４条に規定する市町村基本計画等において、保全の方針が示されている農地","\n【公募開始予定時期】\n未定\n\n【公募URL】\nhttps://www.maff.go.jp/j/nousin/kouryu/tosi_nougyo/hojo_gaiyou.html","農林水産省\n農村振興局\n農村計画課\n都市農業室","03-3502-5948\nnousonkeikaku_ML@maff.go.jp",{"$nulls":3},1,1,1,0,0,0,0,1,1,1,1,1,0,0,1,0,0,0,1,null,0,{"$f":"IF(AND(経済的アクセス関係!C$8=\"〇\",O18=1),1,0)","v":0},{"$f":"IF(AND(経済的アクセス関係!D$8=\"〇\",P18=1),1,0)","v":0},{"$f":"IF(AND(経済的アクセス関係!E$8=\"〇\",Q18=1),1,0)","v":0},{"$f":"IF(AND(経済的アクセス関係!F$8=\"〇\",R18=1),1,0)","v":0},{"$f":"IF(AND(経済的アクセス関係!G$8=\"〇\",S18=1),1,0)","v":0},{"$f":"IF(AND(経済的アクセス関係!H$8=\"〇\",T18=1),1,0)","v":0},{"$f":"IF(AND(経済的アクセス関係!C$10=\"〇\",U18=1),1,0)","v":0},{"$f":"IF(AND(経済的アクセス関係!D$10=\"〇\",V18=1),1,0)","v":0},{"$f":"IF(AND(経済的アクセス関係!E$10=\"〇\",W18=1),1,0)","v":0},{"$f":"IF(AND(経済的アクセス関係!F$10=\"〇\",X18=1),1,0)","v":0},{"$f":"IF(AND(経済的アクセス関係!G$10=\"〇\",Y18=1),1,0)","v":0},{"$f":"IF(AND(経済的アクセス関係!H$10=\"〇\",Z18=1),1,0)","v":0},{"$f":"IF(AND(経済的アクセス関係!C$13=\"〇\",AA18=1),1,0)","v":0},{"$f":"IF(AND(経済的アクセス関係!D$13=\"〇\",AB18=1),1,0)","v":0},{"$f":"IF(AND(経済的アクセス関係!E$13=\"〇\",AC18=1),1,0)","v":0},{"$f":"IF(AND(経済的アクセス関係!F$13=\"〇\",AD18=1),1,0)","v":0},{"$f":"IF(AND(経済的アクセス関係!G$13=\"〇\",AE18=1),1,0)","v":0},{"$f":"IF(AND(経済的アクセス関係!H$13=\"〇\",AF18=1),1,0)","v":0},{"$f":"IF(AND(経済的アクセス関係!C$16=\"〇\",AG18=1),1,0)","v":0},null,{"$f":"IF(AND(経済的アクセス関係!E$16=\"〇\",AI18=1),1,0)","v":0}]
[{"$f":"IF(AND(SUM(AJ19:AU19)>0,SUM(AV19:BA19)>0,SUM(BB19:BD19)>0),COUNTIF($A$2:A18,\">0\")+1,0)","v":0},"政府備蓄米の無償交付","ごはん食を通じた食育の推進を図るため、こども食堂・こども宅食、フードバンクに政府備蓄米を無償交付する。","こども食堂・こども宅食、\nフードバンク","政府備蓄米の無償交付","－","－","\n【食事食材提供団体の交付要件】\n・ごはん食を推進することを目的に政府備蓄米を使用し、こどもにごはんとして提供、又は、子育て家庭に直接配付すること。 \n・食事又は食材の提供を行う場所で、こどもにごはん食の魅力などを伝える食育の取組を行うこと。\n・1申請当たり上限600kg （食事提供分は上限120kgまで）\n\n【フードバンクの交付要件】\n・食育の一環としてごはん食の推進に取組む営利を目的としない直接提供団体等に政府備蓄米を提供すること等。 \n・フードバンクが提供するために必要な米穀の数量から、自ら調達できるものを差し引いた数量を交付。ただし、前年度の食品の取扱実績の1/5を超えない範囲とする（50トンを上限）。\n","https://www.maff.go.jp/j/seisan/kokumotu/bichikumai.html","農林水産省\n農産局\n穀物課\n米麦消費拡大推進室","03-3502-7950\nsyokuiku_gohan@maff.go.jp",{"$nulls":3},0,0,0,1,0,1,1,0,0,0,0,0,0,0,1,0,1,0,0,null,1,{"$f":"IF(AND(経済的アクセス関係!C$8=\"〇\",O19=1),1,0)","v":0},{"$f":"IF(AND(経済的アクセス関係!D$8=\"〇\",P19=1),1,0)","v":0},{"$f":"IF(AND(経済的アクセス関係!E$8=\"〇\",Q19=1),1,0)","v":0},{"$f":"IF(AND(経済的アクセス関係!F$8=\"〇\",R19=1),1,0)","v":0},{"$f":"IF(AND(経済的アクセス関係!G$8=\"〇\",S19=1),1,0)","v":0},{"$f":"IF(AND(経済的アクセス関係!H$8=\"〇\",T19=1),1,0)","v":0},{"$f":"IF(AND(経済的アクセス関係!C$10=\"〇\",U19=1),1,0)","v":0},{"$f":"IF(AND(経済的アクセス関係!D$10=\"〇\",V19=1),1,0)","v":0},{"$f":"IF(AND(経済的アクセス関係!E$10=\"〇\",W19=1),1,0)","v":0},{"$f":"IF(AND(経済的アクセス関係!F$10=\"〇\",X19=1),1,0)","v":0},{"$f":"IF(AND(経済的アクセス関係!G$10=\"〇\",Y19=1),1,0)","v":0},{"$f":"IF(AND(経済的アクセス関係!H$10=\"〇\",Z19=1),1,0)","v":0},{"$f":"IF(AND(経済的アクセス関係!C$13=\"〇\",AA19=1),1,0)","v":0},{"$f":"IF(AND(経済的アクセス関係!D$13=\"〇\",AB19=1),1,0)","v":0},{"$f":"IF(AND(経済的アクセス関係!E$13=\"〇\",AC19=1),1,0)","v":0},{"$f":"IF(AND(経済的アクセス関係!F$13=\"〇\",AD19=1),1,0)","v":0},{"$f":"IF(AND(経済的アクセス関係!G$13=\"〇\",AE19=1),1,0)","v":0},{"$f":"IF(AND(経済的アクセス関係!H$13=\"〇\",AF19=1),1,0)","v":0},{"$f":"IF(AND(経済的アクセス関係!C$16=\"〇\",AG19=1),1,0)","v":0},null,{"$f":"IF(AND(経済的アクセス関係!E$16=\"〇\",AI19=1),1,0)","v":0}]
[{"$f":"IF(AND(SUM(AJ20:AU20)>0,SUM(AV20:BA20)>0,SUM(BB20:BD20)>0),COUNTIF($A$2:A19,\">0\")+1,0)","v":0},"国の災害用備蓄食品の有効活用","国の災害用備蓄食品について、経済的理由により十分な食料を入手できない方への支援や食品ロス削減の観点から、入替えにより災害用備蓄食品としての役割を終えたものについて、フードバンク団体等へ提供する。","フードバンク等","災害用備蓄食品の提供","－","－","－","https://www.maff.go.jp/j/syouan/access/saigaiportal.html","内閣官房、内閣法制局、\n復興庁、内閣府、宮内庁、\n公正取引委員会、警察庁、金融庁、消費者庁、総務省、法務省、外務省、財務省、文部科学省、厚生労働省、農林水産省、経済産業省、国土交通省、環境省、防衛省、デジタル庁、国立国会図書館、独立行政法人駐留軍等労働者労務管理機構(LMO)","各府省庁に直接ご連絡ください。",{"$nulls":3},0,1,1,1,1,1,1,0,0,1,1,1,0,0,0,0,1,0,0,null,1,{"$f":"IF(AND(経済的アクセス関係!C$8=\"〇\",O20=1),1,0)","v":0},{"$f":"IF(AND(経済的アクセス関係!D$8=\"〇\",P20=1),1,0)","v":0},{"$f":"IF(AND(経済的アクセス関係!E$8=\"〇\",Q20=1),1,0)","v":0},{"$f":"IF(AND(経済的アクセス関係!F$8=\"〇\",R20=1),1,0)","v":0},{"$f":"IF(AND(経済的アクセス関係!G$8=\"〇\",S20=1),1,0)","v":0},{"$f":"IF(AND(経済的アクセス関係!H$8=\"〇\",T20=1),1,0)","v":0},{"$f":"IF(AND(経済的アクセス関係!C$10=\"〇\",U20=1),1,0)","v":0},{"$f":"IF(AND(経済的アクセス関係!D$10=\"〇\",V20=1),1,0)","v":0},{"$f":"IF(AND(経済的アクセス関係!E$10=\"〇\",W20=1),1,0)","v":0},{"$f":"IF(AND(経済的アクセス関係!F$10=\"〇\",X20=1),1,0)","v":0},{"$f":"IF(AND(経済的アクセス関係!G$10=\"〇\",Y20=1),1,0)","v":0},{"$f":"IF(AND(経済的アクセス関係!H$10=\"〇\",Z20=1),1,0)","v":0},{"$f":"IF(AND(経済的アクセス関係!C$13=\"〇\",AA20=1),1,0)","v":0},{"$f":"IF(AND(経済的アクセス関係!D$13=\"〇\",AB20=1),1,0)","v":0},{"$f":"IF(AND(経済的アクセス関係!E$13=\"〇\",AC20=1),1,0)","v":0},{"$f":"IF(AND(経済的アクセス関係!F$13=\"〇\",AD20=1),1,0)","v":0},{"$f":"IF(AND(経済的アクセス関係!G$13=\"〇\",AE20=1),1,0)","v":0},{"$f":"IF(AND(経済的アクセス関係!H$13=\"〇\",AF20=1),1,0)","v":0},{"$f":"IF(AND(経済的アクセス関係!C$16=\"〇\",AG20=1),1,0)","v":0},null,{"$f":"IF(AND(経済的アクセス関係!E$16=\"〇\",AI20=1),1,0)","v":0}]
[{"$f":"IF(AND(SUM(AJ21:AU21)>0,SUM(AV21:BA21)>0,SUM(BB21:BD21)>0),COUNTIF($A$2:A20,\">0\")+1,0)","v":0},"「円滑な食品アクセスの確保」ウェブサイトの運営","\n食品アクセスの確保に関する関係省庁の支援策や先進事例集、経済的アクセスの確保に取り組む地域の実態を把握するための全国市町村アンケート調査等の情報を発信する。\n","－","－","－","－","－","https://www.maff.go.jp/j/syouan/access/index.html","農林水産省\n消費・安全局\n消費者行政・食育課","03-3502-5723\nfoodaccess@maff.go.jp",{"$nulls":3},1,1,1,1,1,1,1,1,1,1,1,1,0,0,0,0,0,1,0,null,1,{"$f":"IF(AND(経済的アクセス関係!C$8=\"〇\",O21=1),1,0)","v":0},{"$f":"IF(AND(経済的アクセス関係!D$8=\"〇\",P21=1),1,0)","v":0},{"$f":"IF(AND(経済的アクセス関係!E$8=\"〇\",Q21=1),1,0)","v":0},{"$f":"IF(AND(経済的アクセス関係!F$8=\"〇\",R21=1),1,0)","v":0},{"$f":"IF(AND(経済的アクセス関係!G$8=\"〇\",S21=1),1,0)","v":0},{"$f":"IF(AND(経済的アクセス関係!H$8=\"〇\",T21=1),1,0)","v":0},{"$f":"IF(AND(経済的アクセス関係!C$10=\"〇\",U21=1),1,0)","v":0},{"$f":"IF(AND(経済的アクセス関係!D$10=\"〇\",V21=1),1,0)","v":0},{"$f":"IF(AND(経済的アクセス関係!E$10=\"〇\",W21=1),1,0)","v":0},{"$f":"IF(AND(経済的アクセス関係!F$10=\"〇\",X21=1),1,0)","v":0},{"$f":"IF(AND(経済的アクセス関係!G$10=\"〇\",Y21=1),1,0)","v":0},{"$f":"IF(AND(経済的アクセス関係!H$10=\"〇\",Z21=1),1,0)","v":0},{"$f":"IF(AND(経済的アクセス関係!C$13=\"〇\",AA21=1),1,0)","v":0},{"$f":"IF(AND(経済的アクセス関係!D$13=\"〇\",AB21=1),1,0)","v":0},{"$f":"IF(AND(経済的アクセス関係!E$13=\"〇\",AC21=1),1,0)","v":0},{"$f":"IF(AND(経済的アクセス関係!F$13=\"〇\",AD21=1),1,0)","v":0},{"$f":"IF(AND(経済的アクセス関係!G$13=\"〇\",AE21=1),1,0)","v":0},{"$f":"IF(AND(経済的アクセス関係!H$13=\"〇\",AF21=1),1,0)","v":0},{"$f":"IF(AND(経済的アクセス関係!C$16=\"〇\",AG21=1),1,0)","v":0},null,{"$f":"IF(AND(経済的アクセス関係!E$16=\"〇\",AI21=1),1,0)","v":0}]

{"sheet":"【物理】data","index":3,"n_rows":18,"n_cols":56,"rows_kept":18,"hidden":true,"merged":[[0,14,0,24],[0,25,0,31]]}
[{"$nulls":14},"作業対象「利用者」",{"$nulls":10},"作業対象「目的」"]
["表示No","事業名","目的","実施主体・支援の流れ","支援メニュー（例）","補助対象経費（例）","補助率・補助上限","要件","公募要領等\n関連ページ","担当省庁・局・課","問合せ先\n（電話・メール）","①予算の別","②目的","③利用者","利用者_地方公共団体","利用者_食品製造業者","利用者_食品小売業者","利用者_食品卸業者","利用者_物流事業者","利用者_農業協同組合（連合会）","利用者_事業協同組合（連合会）","利用者_社会福祉協議会","利用者_地域協議会","利用者_ロボットベンダー","利用者_その他","目的_食料提供に資する体制を構築したい","目的_移動販売等の拠点となる施設を整備したい","目的_店舗への交通手段を確保したい","目的_移動販売等で店舗を届けたい","目的_政府の備蓄食品を受け取りたい","目的_商品を届けたい","目的_食品アクセスの状況や対策事例等について知りたい","予算の別_令和９年度予算概算要求","予算の別_令和７年度補正予算","予算の別_予算以外の施策",{"$f":"\"F_\"&O2","v":"F_利用者_地方公共団体"},"F_利用者_食品製造業者","F_利用者_食品小売業者","F_利用者_食品卸業者","F_利用者_物流事業者","F_利用者_農業協同組合（連合会）","F_利用者_事業協同組合（連合会）","F_利用者_社会福祉協議会","F_利用者_地域協議会","F_利用者_ロボットベンダー","F_利用者_その他","F_目的_食料提供に資する体制を構築したい","F_目的_移動販売等の拠点となる施設を整備したい","F_目的_店舗への交通手段を確保したい","F_目的_移動販売等で店舗を届けたい","F_目的_政府の備蓄食品を受け取りたい","F_目的_商品を届けたい","F_目的_食品アクセスの状況や対策事例等について知りたい","F_予算の別_令和９年度予算概算要求",null,"F_予算の別_予算以外の施策"]
[{"$f":"IF(AND(SUM(AJ3:AT3)>0,SUM(AU3:BA3)>0,SUM(BB3:BD3)>0),COUNTIF($A$2:A2,\">0\")+1,0)","v":0},"食品アクセス確保対策事業","円滑な食品アクセスの確保に向けた、地方公共団体や食品事業者、フードバンク・こども食堂等の地域の関係者が連携する体制づくりを支援する。","地域協議会、都道府県・市町村、社会福祉協議会等","\n①地域の関係者が連携して組織する協議会の設置\n②関係者間の調整役（コーディネーター）の配置\n③地域における食品アクセスの現状・課題の調査\n④課題解決に向けた計画の策定\n⑤フードバンク、こども食堂等の立上げ・取組拡大\n","事務局員賃金、謝金、旅費、倉庫・保管用機械の賃借料等","【補助率】\n・１年目：定額、２年目：3/4補助、３年目：\n1/2補助\n【補助上限】\n・1,000万円/年、1,500万円/地域","地域協議会の構成団体として、都道府県又は市町村が参画すること","【公募開始予定時期】\n未定\n\n【公募URL】\n未定","農林水産省\n消費・安全局\n消費者行政・食育課","03-3502-5723\nfoodaccess@maff.go.jp",{"$nulls":3},1,0,0,0,0,1,1,1,1,0,0,1,0,0,0,0,0,0,1,null,0,{"$f":"IF(AND(物理的アクセス関係!C$8=\"〇\",O3=1),1,0)","v":0},{"$f":"IF(AND(物理的アクセス関係!D$8=\"〇\",P3=1),1,0)","v":0},{"$f":"IF(AND(物理的アクセス関係!E$8=\"〇\",Q3=1),1,0)","v":0},{"$f":"IF(AND(物理的アクセス関係!F$8=\"〇\",R3=1),1,0)","v":0},{"$f":"IF(AND(物理的アクセス関係!G$8=\"〇\",S3=1),1,0)","v":0},{"$f":"IF(AND(物理的アクセス関係!H$8=\"〇\",T3=1),1,0)","v":0},{"$f":"IF(AND(物理的アクセス関係!C$10=\"〇\",U3=1),1,0)","v":0},{"$f":"IF(AND(物理的アクセス関係!D$10=\"〇\",V3=1),1,0)","v":0},{"$f":"IF(AND(物理的アクセス関係!E$10=\"〇\",W3=1),1,0)","v":0},{"$f":"IF(AND(物理的アクセス関係!F$10=\"〇\",X3=1),1,0)","v":0},{"$f":"IF(AND(物理的アクセス関係!G$10=\"〇\",Y3=1),1,0)","v":0},{"$f":"IF(AND(物理的アクセス関係!C$13=\"〇\",Z3=1),1,0)","v":0},{"$f":"IF(AND(物理的アクセス関係!D$13=\"〇\",AA3=1),1,0)","v":0},{"$f":"IF(AND(物理的アクセス関係!E$13=\"〇\",AB3=1),1,0)","v":0},{"$f":"IF(AND(物理的アクセス関係!F$13=\"〇\",AC3=1),1,0)","v":0},{"$f":"IF(AND(物理的アクセス関係!G$13=\"〇\",AD3=1),1,0)","v":0},{"$f":"IF(AND(物理的アクセス関係!H$13=\"〇\",AE3=1),1,0)","v":0},{"$f":"IF(AND(物理的アクセス関係!I$13=\"〇\",AF3=1),1,0)","v":0},{"$f":"IF(AND(物理的アクセス関係!C$16=\"〇\",AG3=1),1,0)","v":0},{"$f":"IF(AND(物理的アクセス関係!D$16=\"〇\",AH3=1),1,0)","v":0},{"$f":"IF(AND(物理的アクセス関係!E$16=\"〇\",AI3=1),1,0)","v":0}]
[{"$f":"IF(AND(SUM(AJ4:AT4)>0,SUM(AU4:BA4)>0,SUM(BB4:BD4)>0),COUNTIF($A$2:A3,\">0\")+1,0)","v":0},"地域未来交付金","地方の大きな伸び代と地域特性を最大限に活かし、地場産業の付加価値向上等を通じて、地方の暮らしの安定を実現し、「強い経済」を構築するため、大規模な地方創生策等を推進する。地場産業の付加価値向上など、地方公共団体の自主性と創意工夫に基づく地域独自の取組を、計画から実施まで後押しする。","国→地方公共団体等","（ソフト事業）\n観光や農林水産業の振興等の地方創生に資する取組などを支援。\n\n（拠点整備事業）\n観光や農林水産業の振興等の地方創生に資する拠点施設の整備などを支援。","（ソフト事業）\n新たな取組に向けた構想・企画段階、具体化に向けた事業中心の組成段階等に要する経費\n\n（拠点整備事業）\n地方創生の充実・強化に向けて効果の発現を期待できる建築基準法の「建築物」及び「建築物以外の施設（設備・用地造成等）」に該当するもの","【補助率】\n・1/2\n\n【補助上限】\n・１自治体当たり国費\n　都道府県：15億円/年度\n　中枢中核：15億円/年度\n   市区町村：10億円/年度]\n※拠点整備事業の１事業当たりの事業計画期間における交付上限額（国費）について、都道府県・中枢中核都市は15億円、市区町村は10億円を目安とする。","　都道府県まち・ひと・しごと創生総合戦略又は市町村まち・ひと・しごと創生総合戦略に定められた事業を記載した地域再生計画等に基づく事業であること","https://www.chisou.go.jp/sousei/about/chiikimiraikoufukin/index.html","内閣官房\n地域未来戦略本部事務局\n内閣府\n地方創生推進事務局\n内閣府\n地方創生推進室","03-6257-1416\nchiiki.sosei-senko@cao.go.jp",{"$nulls":3},1,0,0,0,0,0,0,0,0,0,0,1,1,1,1,0,1,0,1,null,0,{"$f":"IF(AND(物理的アクセス関係!C$8=\"〇\",O4=1),1,0)","v":0},{"$f":"IF(AND(物理的アクセス関係!D$8=\"〇\",P4=1),1,0)","v":0},{"$f":"IF(AND(物理的アクセス関係!E$8=\"〇\",Q4=1),1,0)","v":0},{"$f":"IF(AND(物理的アクセス関係!F$8=\"〇\",R4=1),1,0)","v":0},{"$f":"IF(AND(物理的アクセス関係!G$8=\"〇\",S4=1),1,0)","v":0},{"$f":"IF(AND(物理的アクセス関係!H$8=\"〇\",T4=1),1,0)","v":0},{"$f":"IF(AND(物理的アクセス関係!C$10=\"〇\",U4=1),1,0)","v":0},{"$f":"IF(AND(物理的アクセス関係!D$10=\"〇\",V4=1),1,0)","v":0},{"$f":"IF(AND(物理的アクセス関係!E$10=\"〇\",W4=1),1,0)","v":0},{"$f":"IF(AND(物理的アクセス関係!F$10=\"〇\",X4=1),1,0)","v":0},{"$f":"IF(AND(物理的アクセス関係!G$10=\"〇\",Y4=1),1,0)","v":0},{"$f":"IF(AND(物理的アクセス関係!C$13=\"〇\",Z4=1),1,0)","v":0},{"$f":"IF(AND(物理的アクセス関係!D$13=\"〇\",AA4=1),1,0)","v":0},{"$f":"IF(AND(物理的アクセス関係!E$13=\"〇\",AB4=1),1,0)","v":0},{"$f":"IF(AND(物理的アクセス関係!F$13=\"〇\",AC4=1),1,0)","v":0},{"$f":"IF(AND(物理的アクセス関係!G$13=\"〇\",AD4=1),1,0)","v":0},{"$f":"IF(AND(物理的アクセス関係!H$13=\"〇\",AE4=1),1,0)","v":0},{"$f":"IF(AND(物理的アクセス関係!I$13=\"〇\",AF4=1),1,0)","v":0},{"$f":"IF(AND(物理的アクセス関係!C$16=\"〇\",AG4=1),1,0)","v":0},null,{"$f":"IF(AND(物理的アクセス関係!E$16=\"〇\",AI4=1),1,0)","v":0}]
[{"$f":"IF(AND(SUM(AJ5:AT5)>0,SUM(AU5:BA5)>0,SUM(BB5:BD5)>0),COUNTIF($A$2:A4,\">0\")+1,0)","v":0},"農山漁村振興交付金(中山間地農業推進対策)のうち農村型地域運営組織形成推進事業","中山間地域等において、地域別農業振興計画に基づき、複数集落の機能を補完する農村RMOの形成を推進するため、地域の協議会等が行う実証事業等を支援する。","都道府県→複数集落を含む地域協議会","\n農村RMOの活動の定着に向けた活動継続計画の策定や、地方公共団体等と連携した農用地保全、地域資源活用、生活支援に関する実証事業等を支援\n※生活支援の実証に取り組む場合は、事業実施主体が農用地保全や地域資源活動の取組を行っていること","調査、計画作成、実証に関する取組を支援\n・旅費（調査等旅費・委員等旅費）\n・事務費（通信運搬費、職員手当等）\n・実証に必要な機械器具のリース・レンタル費等\n※生活支援の実証に取り組む場合は、事業実施主体が農用地保全や地域資源活動の取組を行っていること","活動着手支援型\n【補助率】\n・定額\n【補助上限】\n・200万円\n\n地域連携型\n【補助率】\n・1/2以内\n【補助上限】\n・375万円（年標準額）×上限４年間","\n①対象地域は、農林統計上の中山間地域や地域振興８法指定地域等\n②当該地域において、中山間地農業ルネッサンス事業の地域別農業振興計画を策定していること\n③事業実施主体は、複数集落を含む地域協議会　等","https://www.maff.go.jp/j/nousin/tiiki/sesaku/chusankan_suishin.html","農林水産省\n農村振興局\n地域振興課","03-3502-6286\nchiikishinkou_ml@maff.go.jp",0,0,0,0,0,0,0,0,0,0,0,1,0,0,0,0,1,0,0,0,0,1,null,0,{"$f":"IF(AND(物理的アクセス関係!C$8=\"〇\",O5=1),1,0)","v":0},{"$f":"IF(AND(物理的アクセス関係!D$8=\"〇\",P5=1),1,0)","v":0},{"$f":"IF(AND(物理的アクセス関係!E$8=\"〇\",Q5=1),1,0)","v":0},{"$f":"IF(AND(物理的アクセス関係!F$8=\"〇\",R5=1),1,0)","v":0},{"$f":"IF(AND(物理的アクセス関係!G$8=\"〇\",S5=1),1,0)","v":0},{"$f":"IF(AND(物理的アクセス関係!H$8=\"〇\",T5=1),1,0)","v":0},{"$f":"IF(AND(物理的アクセス関係!C$10=\"〇\",U5=1),1,0)","v":0},{"$f":"IF(AND(物理的アクセス関係!D$10=\"〇\",V5=1),1,0)","v":0},{"$f":"IF(AND(物理的アクセス関係!E$10=\"〇\",W5=1),1,0)","v":0},{"$f":"IF(AND(物理的アクセス関係!F$10=\"〇\",X5=1),1,0)","v":0},{"$f":"IF(AND(物理的アクセス関係!G$10=\"〇\",Y5=1),1,0)","v":0},{"$f":"IF(AND(物理的アクセス関係!C$13=\"〇\",Z5=1),1,0)","v":0},{"$f":"IF(AND(物理的アクセス関係!D$13=\"〇\",AA5=1),1,0)","v":0},{"$f":"IF(AND(物理的アクセス関係!E$13=\"〇\",AB5=1),1,0)","v":0},{"$f":"IF(AND(物理的アクセス関係!F$13=\"〇\",AC5=1),1,0)","v":0},{"$f":"IF(AND(物理的アクセス関係!G$13=\"〇\",AD5=1),1,0)","v":0},{"$f":"IF(AND(物理的アクセス関係!H$13=\"〇\",AE5=1),1,0)","v":0},{"$f":"IF(AND(物理的アクセス関係!I$13=\"〇\",AF5=1),1,0)","v":0},{"$f":"IF(AND(物理的アクセス関係!C$16=\"〇\",AG5=1),1,0)","v":0},null,{"$f":"IF(AND(物理的アクセス関係!E$16=\"〇\",AI5=1),1,0)","v":0}]
[{"$f":"IF(AND(SUM(AJ6:AT6)>0,SUM(AU6:BA6)>0,SUM(BB6:BD6)>0),COUNTIF($A$2:A5,\">0\")+1,0)","v":0},"過疎地域持続的発展支援交付金\n（過疎地域等集落ネットワーク圏形成支援事業）","過疎地域等における地域課題解決のための取組を支援することにより、過疎地域の持続的発展を支援する。","国→地方公共団体→地域運営組織等","過疎地域等における集落ネットワーク圏において、地域住民が中心となって形成した地域運営組織等が行う買物支援等の取組を支援\n（取組例）\n・買物支援バスの運行\n・移動販売車による買物支援\n・ドローンを活用した買物支援　等","事業実施計画に基づく事業で次に掲げるものに要する経費\n・生活の安全・安心確保対策（有償運送の仕組み構築、日用品・食料品等の買物支援等）　等","【補助率】\r\n　・定額\r\n【補助上限】\r\n　・1,500万円\r\n　・2,000万円\r\n　・2,500万円\r\n　・3,000万円","定額補助（1,500万円）\n※下記事業については、限度額を上乗せ\n①専門人材を活用する事業（＋500万円）\n②AI、ＩＣＴ等技術を活用する事業（＋1,000万円）\n　上記（①＋②）併用事業（＋1,500万円)","https://www.soumu.go.jp/main_sosiki/jichi_gyousei/c-gyousei/2001/kaso/kasomain11.htm","総務省\n自治行政局\n地域自立応援課\n過疎対策室","03-5253-5536\n（内線23131,23133）\nkasotaisaku@soumu.go.jp",{"$nulls":3},0,0,0,0,0,1,1,1,1,0,1,0,0,1,1,0,1,0,1,null,0,{"$f":"IF(AND(物理的アクセス関係!C$8=\"〇\",O6=1),1,0)","v":0},{"$f":"IF(AND(物理的アクセス関係!D$8=\"〇\",P6=1),1,0)","v":0},{"$f":"IF(AND(物理的アクセス関係!E$8=\"〇\",Q6=1),1,0)","v":0},{"$f":"IF(AND(物理的アクセス関係!F$8=\"〇\",R6=1),1,0)","v":0},{"$f":"IF(AND(物理的アクセス関係!G$8=\"〇\",S6=1),1,0)","v":0},{"$f":"IF(AND(物理的アクセス関係!H$8=\"〇\",T6=1),1,0)","v":0},{"$f":"IF(AND(物理的アクセス関係!C$10=\"〇\",U6=1),1,0)","v":0},{"$f":"IF(AND(物理的アクセス関係!D$10=\"〇\",V6=1),1,0)","v":0},{"$f":"IF(AND(物理的アクセス関係!E$10=\"〇\",W6=1),1,0)","v":0},{"$f":"IF(AND(物理的アクセス関係!F$10=\"〇\",X6=1),1,0)","v":0},{"$f":"IF(AND(物理的アクセス関係!G$10=\"〇\",Y6=1),1,0)","v":0},{"$f":"IF(AND(物理的アクセス関係!C$13=\"〇\",Z6=1),1,0)","v":0},{"$f":"IF(AND(物理的アクセス関係!D$13=\"〇\",AA6=1),1,0)","v":0},{"$f":"IF(AND(物理的アクセス関係!E$13=\"〇\",AB6=1),1,0)","v":0},{"$f":"IF(AND(物理的アクセス関係!F$13=\"〇\",AC6=1),1,0)","v":0},{"$f":"IF(AND(物理的アクセス関係!G$13=\"〇\",AD6=1),1,0)","v":0},{"$f":"IF(AND(物理的アクセス関係!H$13=\"〇\",AE6=1),1,0)","v":0},{"$f":"IF(AND(物理的アクセス関係!I$13=\"〇\",AF6=1),1,0)","v":0},{"$f":"IF(AND(物理的アクセス関係!C$16=\"〇\",AG6=1),1,0)","v":0},null,{"$f":"IF(AND(物理的アクセス関係!E$16=\"〇\",AI6=1),1,0)","v":0}]
[{"$f":"IF(AND(SUM(AJ7:AT7)>0,SUM(AU7:BA7)>0,SUM(BB7:BD7)>0),COUNTIF($A$2:A6,\">0\")+1,0)","v":0},"過疎地域持続的発展支援交付金\n（過疎地域持続的発展支援事業）","過疎地域等における地域課題解決のための取組を支援することにより、過疎地域の持続的発展を支援する。","国→地方公共団体","過疎市町村がAI、ＩＣＴ等技術を活用して行う買物支援等の取組を支援\n（取組例）\n・デマンド交通実証事業\n・ドローンによる買物支援　等","（１）AI、ICT 等技術を活用する事業で、以下の取組を目的とするものに要する経費\n・生活の安全・安心確保対策（コミュニティバス・デマンド交通システムの整備、医師確保、巡回医療等）\n・集落の維持・活性化対策（集落の見守り活動、住民との話し合い等）　等\n（２）AI、ICT 等技術活用事業を実施する上で要する調査研究に係る経費","【補助率】\r\n　・定額\r\n【補助上限】\r\n　・1,500万円\r\n　・2,000万円\r\n　・2,500万円\r\n　・3,000万円","上限額：2，000万円\n補助率：市町村等1/1、\n           都道府県1/2または6/10","https://www.soumu.go.jp/main_sosiki/jichi_gyousei/c-gyousei/2001/kaso/kasomain11.htm","総務省\n自治行政局\n地域自立応援課\n過疎対策室","03-5253-5536\n（内線23131,23133）\nkasotaisaku@soumu.go.jp",{"$nulls":3},1,0,0,0,0,0,0,0,0,0,0,0,0,1,1,0,1,0,1,null,0,{"$f":"IF(AND(物理的アクセス関係!C$8=\"〇\",O7=1),1,0)","v":0},{"$f":"IF(AND(物理的アクセス関係!D$8=\"〇\",P7=1),1,0)","v":0},{"$f":"IF(AND(物理的アクセス関係!E$8=\"〇\",Q7=1),1,0)","v":0},{"$f":"IF(AND(物理的アクセス関係!F$8=\"〇\",R7=1),1,0)","v":0},{"$f":"IF(AND(物理的アクセス関係!G$8=\"〇\",S7=1),1,0)","v":0},{"$f":"IF(AND(物理的アクセス関係!H$8=\"〇\",T7=1),1,0)","v":0},{"$f":"IF(AND(物理的アクセス関係!C$10=\"〇\",U7=1),1,0)","v":0},{"$f":"IF(AND(物理的アクセス関係!D$10=\"〇\",V7=1),1,0)","v":0},{"$f":"IF(AND(物理的アクセス関係!E$10=\"〇\",W7=1),1,0)","v":0},{"$f":"IF(AND(物理的アクセス関係!F$10=\"〇\",X7=1),1,0)","v":0},{"$f":"IF(AND(物理的アクセス関係!G$10=\"〇\",Y7=1),1,0)","v":0},{"$f":"IF(AND(物理的アクセス関係!C$13=\"〇\",Z7=1),1,0)","v":0},{"$f":"IF(AND(物理的アクセス関係!D$13=\"〇\",AA7=1),1,0)","v":0},{"$f":"IF(AND(物理的アクセス関係!E$13=\"〇\",AB7=1),1,0)","v":0},{"$f":"IF(AND(物理的アクセス関係!F$13=\"〇\",AC7=1),1,0)","v":0},{"$f":"IF(AND(物理的アクセス関係!G$13=\"〇\",AD7=1),1,0)","v":0},{"$f":"IF(AND(物理的アクセス関係!H$13=\"〇\",AE7=1),1,0)","v":0},{"$f":"IF(AND(物理的アクセス関係!I$13=\"〇\",AF7=1),1,0)","v":0},{"$f":"IF(AND(物理的アクセス関係!C$16=\"〇\",AG7=1),1,0)","v":0},null,{"$f":"IF(AND(物理的アクセス関係!E$16=\"〇\",AI7=1),1,0)","v":0}]
[{"$f":"IF(AND(SUM(AJ8:AT8)>0,SUM(AU8:BA8)>0,SUM(BB8:BD8)>0),COUNTIF($A$2:A7,\">0\")+1,0)","v":0},"地域公共交通確保維持改善事業（持続可能な地域社会の実現のための「交通空白」解消の深化・加速化）","「取組方針２０２６」に基づき、令和９年度までの集中対策期間において、全国約3,000の「交通空白」解消に道筋をつけるとともに、集中対策期間の先も見据え、成長投資として、地方公共団体や公共交通事業者等による地域の実情に応じた移動手段の確保・維持の取組を進める。","国→（執行団体）→地方公共団体、交通事業者等","調査・計画策定・合意形成、車両・システム・運行費等の支援　等","調査・計画策定・合意形成、車両・システム・運行費等の支援　等","【補助率】\n・調整中\n\n【補助上限】\n・調整中","調整中","https://www.mlit.go.jp/sogoseisaku/transport/sosei_transport_tk_000041.html","国土交通省\n総合政策局\n地域交通課","03-5253-8987","03-5253-8987",null,null,1,0,0,0,0,0,0,1,1,0,1,0,0,1,0,0,1,0,1,null,0,{"$f":"IF(AND(物理的アクセス関係!C$8=\"〇\",O8=1),1,0)","v":0},{"$f":"IF(AND(物理的アクセス関係!D$8=\"〇\",P8=1),1,0)","v":0},{"$f":"IF(AND(物理的アクセス関係!E$8=\"〇\",Q8=1),1,0)","v":0},{"$f":"IF(AND(物理的アクセス関係!F$8=\"〇\",R8=1),1,0)","v":0},{"$f":"IF(AND(物理的アクセス関係!G$8=\"〇\",S8=1),1,0)","v":0},{"$f":"IF(AND(物理的アクセス関係!H$8=\"〇\",T8=1),1,0)","v":0},{"$f":"IF(AND(物理的アクセス関係!C$10=\"〇\",U8=1),1,0)","v":0},{"$f":"IF(AND(物理的アクセス関係!D$10=\"〇\",V8=1),1,0)","v":0},{"$f":"IF(AND(物理的アクセス関係!E$10=\"〇\",W8=1),1,0)","v":0},{"$f":"IF(AND(物理的アクセス関係!F$10=\"〇\",X8=1),1,0)","v":0},{"$f":"IF(AND(物理的アクセス関係!G$10=\"〇\",Y8=1),1,0)","v":0},{"$f":"IF(AND(物理的アクセス関係!C$13=\"〇\",Z8=1),1,0)","v":0},{"$f":"IF(AND(物理的アクセス関係!D$13=\"〇\",AA8=1),1,0)","v":0},{"$f":"IF(AND(物理的アクセス関係!E$13=\"〇\",AB8=1),1,0)","v":0},{"$f":"IF(AND(物理的アクセス関係!F$13=\"〇\",AC8=1),1,0)","v":0},{"$f":"IF(AND(物理的アクセス関係!G$13=\"〇\",AD8=1),1,0)","v":0},{"$f":"IF(AND(物理的アクセス関係!H$13=\"〇\",AE8=1),1,0)","v":0},{"$f":"IF(AND(物理的アクセス関係!I$13=\"〇\",AF8=1),1,0)","v":0},{"$f":"IF(AND(物理的アクセス関係!C$16=\"〇\",AG8=1),1,0)","v":0},null,{"$f":"IF(AND(物理的アクセス関係!E$16=\"〇\",AI8=1),1,0)","v":0}]
[{"$f":"IF(AND(SUM(AJ9:AT9)>0,SUM(AU9:BA9)>0,SUM(BB9:BD9)>0),COUNTIF($A$2:A8,\">0\")+1,0)","v":0},"地域公共交通確保維持改善事業（地域公共交通確保維持事業）","地域の実情に応じた生活交通の確保維持を目的とし、地域間幹線バス交通・地域内フィーダー交通の運行等への支援を実施。","国→一般乗合旅客自動車運送事業者又は地域交通法に基づく協議会","運行経費等補助等","補助対象系統に係る経常費用から経常収益を控除した額","補助率：1/2　等","補助率：1/2　等","「地域公共交通確保維持改善事業費補助金交付要綱」https://www.mlit.go.jp/sogoseisaku/transport/sosei_transport_tk_000041.html","国土交通省\n総合政策局\n地域交通課","03-5253-8987",{"$nulls":3},1,0,0,0,0,0,0,1,1,0,0,0,0,1,0,0,0,0,1,null,0,{"$f":"IF(AND(物理的アクセス関係!C$8=\"〇\",O9=1),1,0)","v":0},{"$f":"IF(AND(物理的アクセス関係!D$8=\"〇\",P9=1),1,0)","v":0},{"$f":"IF(AND(物理的アクセス関係!E$8=\"〇\",Q9=1),1,0)","v":0},{"$f":"IF(AND(物理的アクセス関係!F$8=\"〇\",R9=1),1,0)","v":0},{"$f":"IF(AND(物理的アクセス関係!G$8=\"〇\",S9=1),1,0)","v":0},{"$f":"IF(AND(物理的アクセス関係!H$8=\"〇\",T9=1),1,0)","v":0},{"$f":"IF(AND(物理的アクセス関係!C$10=\"〇\",U9=1),1,0)","v":0},{"$f":"IF(AND(物理的アクセス関係!D$10=\"〇\",V9=1),1,0)","v":0},{"$f":"IF(AND(物理的アクセス関係!E$10=\"〇\",W9=1),1,0)","v":0},{"$f":"IF(AND(物理的アクセス関係!F$10=\"〇\",X9=1),1,0)","v":0},{"$f":"IF(AND(物理的アクセス関係!G$10=\"〇\",Y9=1),1,0)","v":0},{"$f":"IF(AND(物理的アクセス関係!C$13=\"〇\",Z9=1),1,0)","v":0},{"$f":"IF(AND(物理的アクセス関係!D$13=\"〇\",AA9=1),1,0)","v":0},{"$f":"IF(AND(物理的アクセス関係!E$13=\"〇\",AB9=1),1,0)","v":0},{"$f":"IF(AND(物理的アクセス関係!F$13=\"〇\",AC9=1),1,0)","v":0},{"$f":"IF(AND(物理的アクセス関係!G$13=\"〇\",AD9=1),1,0)","v":0},{"$f":"IF(AND(物理的アクセス関係!H$13=\"〇\",AE9=1),1,0)","v":0},{"$f":"IF(AND(物理的アクセス関係!I$13=\"〇\",AF9=1),1,0)","v":0},{"$f":"IF(AND(物理的アクセス関係!C$16=\"〇\",AG9=1),1,0)","v":0},null,{"$f":"IF(AND(物理的アクセス関係!E$16=\"〇\",AI9=1),1,0)","v":0}]
[{"$f":"IF(AND(SUM(AJ10:AT10)>0,SUM(AU10:BA10)>0,SUM(BB10:BD10)>0),COUNTIF($A$2:A9,\">0\")+1,0)","v":0},"持続可能な食品等流通対策事業のうち物流生産性・食品アクセス向上推進事業","食品アクセスの確保に向けて、ラストワンマイル配送に必要な実装、設備・機器の導入を支援する。","国→民間団体→食品流通業者等で構成される協議会等","移動販売車の導入等","①ラストワンマイル配送の実装等に係る経費\n②設備・機器導入経費","【補助率】\n・①　定額\n・②　1/2以内\n\n【補助上限】\n・①　4,000万円\n・②　１億円（協議会等）、4,000万円（構成員）","①流通合理化事業活動計画の認定を受けること。","【公募開始予定時期】\n未定\n\n【公募URL】\n準備中\n\n","\n農林水産省\n大臣官房新事業・食品産業部\n食品流通課\n物流生産性向上推進室\n","03-6744-2389\nsyokuhin_ryutu@maff.go.jp",{"$nulls":3},0,0,0,0,0,0,0,0,1,0,0,0,1,1,0,0,1,0,1,null,0,{"$f":"IF(AND(物理的アクセス関係!C$8=\"〇\",O10=1),1,0)","v":0},{"$f":"IF(AND(物理的アクセス関係!D$8=\"〇\",P10=1),1,0)","v":0},{"$f":"IF(AND(物理的アクセス関係!E$8=\"〇\",Q10=1),1,0)","v":0},{"$f":"IF(AND(物理的アクセス関係!F$8=\"〇\",R10=1),1,0)","v":0},{"$f":"IF(AND(物理的アクセス関係!G$8=\"〇\",S10=1),1,0)","v":0},{"$f":"IF(AND(物理的アクセス関係!H$8=\"〇\",T10=1),1,0)","v":0},{"$f":"IF(AND(物理的アクセス関係!C$10=\"〇\",U10=1),1,0)","v":0},{"$f":"IF(AND(物理的アクセス関係!D$10=\"〇\",V10=1),1,0)","v":0},{"$f":"IF(AND(物理的アクセス関係!E$10=\"〇\",W10=1),1,0)","v":0},{"$f":"IF(AND(物理的アクセス関係!F$10=\"〇\",X10=1),1,0)","v":0},{"$f":"IF(AND(物理的アクセス関係!G$10=\"〇\",Y10=1),1,0)","v":0},{"$f":"IF(AND(物理的アクセス関係!C$13=\"〇\",Z10=1),1,0)","v":0},{"$f":"IF(AND(物理的アクセス関係!D$13=\"〇\",AA10=1),1,0)","v":0},{"$f":"IF(AND(物理的アクセス関係!E$13=\"〇\",AB10=1),1,0)","v":0},{"$f":"IF(AND(物理的アクセス関係!F$13=\"〇\",AC10=1),1,0)","v":0},{"$f":"IF(AND(物理的アクセス関係!G$13=\"〇\",AD10=1),1,0)","v":0},{"$f":"IF(AND(物理的アクセス関係!H$13=\"〇\",AE10=1),1,0)","v":0},{"$f":"IF(AND(物理的アクセス関係!I$13=\"〇\",AF10=1),1,0)","v":0},{"$f":"IF(AND(物理的アクセス関係!C$16=\"〇\",AG10=1),1,0)","v":0},null,{"$f":"IF(AND(物理的アクセス関係!E$16=\"〇\",AI10=1),1,0)","v":0}]
[{"$f":"IF(AND(SUM(AJ11:AT11)>0,SUM(AU11:BA11)>0,SUM(BB11:BD11)>0),COUNTIF($A$2:A10,\">0\")+1,0)","v":0},"物流効率化推進事業","物流分野の労働力不足に対応するとともに、温室効果ガスの排出量を削減しカーボンニュートラルを推進するため、物流効率化法の枠組みの下、荷主・物流事業者等の多様な関係者が連携した物流効率化の取組を推進。","協議会→物流事業者","①　「総合効率化計画」等の策定経費\n②　認定された「総合効率化計画」等に基づいた取組\n　　に関する初年度の運行経費\n③　①のうち、「総合効率化計画」については、省人化・自動化機器の導入等の計画策定経費\n③　②のうち、「総合効率化計画」については、実際に当該機器を用いた運行経費","・協議会運営費用等\n・初年度の運行経費\n・省人化・自動化機器の導入費用","【補助率】\n調整中\n\n補助上限】\n調整中","物資の流通の効率化に関する法律（平成17年法律第85号）第６条第１項に規定する総合効率化計画の認定を受けた計画（以下「認定総合効率化計画」という。）に基づき、実施される事業であって、走行車両台数及びCO２排出量の削減やトラックドライバーの負荷低減を図る目的として実施する事業。","準備中","国土交通省\n物流・自動車局\n物流政策課","03-5253-8799",{"$nulls":3},0,0,0,0,0,0,0,0,1,0,0,1,0,0,0,0,1,0,1,null,0,{"$f":"IF(AND(物理的アクセス関係!C$8=\"〇\",O11=1),1,0)","v":0},{"$f":"IF(AND(物理的アクセス関係!D$8=\"〇\",P11=1),1,0)","v":0},{"$f":"IF(AND(物理的アクセス関係!E$8=\"〇\",Q11=1),1,0)","v":0},{"$f":"IF(AND(物理的アクセス関係!F$8=\"〇\",R11=1),1,0)","v":0},{"$f":"IF(AND(物理的アクセス関係!G$8=\"〇\",S11=1),1,0)","v":0},{"$f":"IF(AND(物理的アクセス関係!H$8=\"〇\",T11=1),1,0)","v":0},{"$f":"IF(AND(物理的アクセス関係!C$10=\"〇\",U11=1),1,0)","v":0},{"$f":"IF(AND(物理的アクセス関係!D$10=\"〇\",V11=1),1,0)","v":0},{"$f":"IF(AND(物理的アクセス関係!E$10=\"〇\",W11=1),1,0)","v":0},{"$f":"IF(AND(物理的アクセス関係!F$10=\"〇\",X11=1),1,0)","v":0},{"$f":"IF(AND(物理的アクセス関係!G$10=\"〇\",Y11=1),1,0)","v":0},{"$f":"IF(AND(物理的アクセス関係!C$13=\"〇\",Z11=1),1,0)","v":0},{"$f":"IF(AND(物理的アクセス関係!D$13=\"〇\",AA11=1),1,0)","v":0},{"$f":"IF(AND(物理的アクセス関係!E$13=\"〇\",AB11=1),1,0)","v":0},{"$f":"IF(AND(物理的アクセス関係!F$13=\"〇\",AC11=1),1,0)","v":0},{"$f":"IF(AND(物理的アクセス関係!G$13=\"〇\",AD11=1),1,0)","v":0},{"$f":"IF(AND(物理的アクセス関係!H$13=\"〇\",AE11=1),1,0)","v":0},{"$f":"IF(AND(物理的アクセス関係!I$13=\"〇\",AF11=1),1,0)","v":0},{"$f":"IF(AND(物理的アクセス関係!C$16=\"〇\",AG11=1),1,0)","v":0},null,{"$f":"IF(AND(物理的アクセス関係!E$16=\"〇\",AI11=1),1,0)","v":0}]
[{"$f":"IF(AND(SUM(AJ12:AT12)>0,SUM(AU12:BA12)>0,SUM(BB12:BD12)>0),COUNTIF($A$2:A11,\">0\")+1,0)","v":0},"物流効率化法に基づく総合効率化計画の認定","物流分野における労働力不足や荷主や消費者ニーズの高度化・多様化による多頻度小口輸送の進展、過疎地域のラストワンマイル配送の効率化等に対応するため、物流効率化法に基づき、「２以上の者の連携」による流通業務の省力化及び物資の流通に伴う環境負荷の低減を図るための物流効率化の取組を支援する。","物流事業者（申請者）","①　事業の立ち上げ・実施の促進\n・計画策定経費・運行経費の補助\n・事業開始に当たっての、倉庫業、貨物自動車運送事業等の許可等のみなし\n②　必要な施設・設備等への支援\n・施設の立地規制に関する配慮\n③　金融支援\n・信用保険制度の限度額の拡充\n・長期低利子貸付制度\n・長期無利子貸付制度　（主に中小企業向け）　\n④（独）鉄道・運輸機構による支援\n・事業実施のための資金の貸付け、融資 等","－","－","二以上の者が連携して、流通業務の総合化（輸送、荷役、保管、荷さばき及び流通加工を一体的に行うこと。）及び効率化（輸送の合理化）を図る事業であって、環境負荷の低減及び省力化に資する取組。","https://www.mlit.go.jp/seisakutokatsu/freight/bukkouhou.html","国土交通省\n物流・自動車局\n物流政策課　","03-5253-8801",{"$nulls":3},0,0,0,0,0,0,0,0,1,0,0,1,0,0,0,0,1,0,0,null,1,{"$f":"IF(AND(物理的アクセス関係!C$8=\"〇\",O12=1),1,0)","v":0},{"$f":"IF(AND(物理的アクセス関係!D$8=\"〇\",P12=1),1,0)","v":0},{"$f":"IF(AND(物理的アクセス関係!E$8=\"〇\",Q12=1),1,0)","v":0},{"$f":"IF(AND(物理的アクセス関係!F$8=\"〇\",R12=1),1,0)","v":0},{"$f":"IF(AND(物理的アクセス関係!G$8=\"〇\",S12=1),1,0)","v":0},{"$f":"IF(AND(物理的アクセス関係!H$8=\"〇\",T12=1),1,0)","v":0},{"$f":"IF(AND(物理的アクセス関係!C$10=\"〇\",U12=1),1,0)","v":0},{"$f":"IF(AND(物理的アクセス関係!D$10=\"〇\",V12=1),1,0)","v":0},{"$f":"IF(AND(物理的アクセス関係!E$10=\"〇\",W12=1),1,0)","v":0},{"$f":"IF(AND(物理的アクセス関係!F$10=\"〇\",X12=1),1,0)","v":0},{"$f":"IF(AND(物理的アクセス関係!G$10=\"〇\",Y12=1),1,0)","v":0},{"$f":"IF(AND(物理的アクセス関係!C$13=\"〇\",Z12=1),1,0)","v":0},{"$f":"IF(AND(物理的アクセス関係!D$13=\"〇\",AA12=1),1,0)","v":0},{"$f":"IF(AND(物理的アクセス関係!E$13=\"〇\",AB12=1),1,0)","v":0},{"$f":"IF(AND(物理的アクセス関係!F$13=\"〇\",AC12=1),1,0)","v":0},{"$f":"IF(AND(物理的アクセス関係!G$13=\"〇\",AD12=1),1,0)","v":0},{"$f":"IF(AND(物理的アクセス関係!H$13=\"〇\",AE12=1),1,0)","v":0},{"$f":"IF(AND(物理的アクセス関係!I$13=\"〇\",AF12=1),1,0)","v":0},{"$f":"IF(AND(物理的アクセス関係!C$16=\"〇\",AG12=1),1,0)","v":0},null,{"$f":"IF(AND(物理的アクセス関係!E$16=\"〇\",AI12=1),1,0)","v":0}]
[{"$f":"IF(AND(SUM(AJ13:AT13)>0,SUM(AU13:BA13)>0,SUM(BB13:BD13)>0),COUNTIF($A$2:A12,\">0\")+1,0)","v":0},"物流市場の構造改革によるサステナブル物流実現事業（ラストマイル配送効率化促進型）\n※旧：ラストマイル配送効率化促進事業","\n物流の小口・多頻度化や人口減少・少子高齢化の進行を踏まえ、地域の宅配便ドライバーの負担の軽減を図り、配送サービスの水準を維持するとともに、ラストマイル配送の持続可能な提供を確保する。\n","協議会→構成員（地方自治体、荷主、物流事業者等）","①受取拠点の整備\n②貨客混載・共同配送の推進\n③ドローン等の新たな輸送手段の活用\nなどを図る先進的な取組","・地域の受取拠点の整備費用\n・貨客混載、共同配送等に取り組む際の資機材導入経費や集配拠点整備費用\n・ドローン等を活用する際の配送拠点の整備\n等","【補助率】\n調整中\n\n補助上限】\n調整中","調整中","準備中","国土交通省\n物流・自動車局\n物流政策課　","03-5253-8801",{"$nulls":3},0,0,0,0,0,0,0,0,1,0,0,0,1,0,0,0,1,0,1,null,0,{"$f":"IF(AND(物理的アクセス関係!C$8=\"〇\",O13=1),1,0)","v":0},{"$f":"IF(AND(物理的アクセス関係!D$8=\"〇\",P13=1),1,0)","v":0},{"$f":"IF(AND(物理的アクセス関係!E$8=\"〇\",Q13=1),1,0)","v":0},{"$f":"IF(AND(物理的アクセス関係!F$8=\"〇\",R13=1),1,0)","v":0},{"$f":"IF(AND(物理的アクセス関係!G$8=\"〇\",S13=1),1,0)","v":0},{"$f":"IF(AND(物理的アクセス関係!H$8=\"〇\",T13=1),1,0)","v":0},{"$f":"IF(AND(物理的アクセス関係!C$10=\"〇\",U13=1),1,0)","v":0},{"$f":"IF(AND(物理的アクセス関係!D$10=\"〇\",V13=1),1,0)","v":0},{"$f":"IF(AND(物理的アクセス関係!E$10=\"〇\",W13=1),1,0)","v":0},{"$f":"IF(AND(物理的アクセス関係!F$10=\"〇\",X13=1),1,0)","v":0},{"$f":"IF(AND(物理的アクセス関係!G$10=\"〇\",Y13=1),1,0)","v":0},{"$f":"IF(AND(物理的アクセス関係!C$13=\"〇\",Z13=1),1,0)","v":0},{"$f":"IF(AND(物理的アクセス関係!D$13=\"〇\",AA13=1),1,0)","v":0},{"$f":"IF(AND(物理的アクセス関係!E$13=\"〇\",AB13=1),1,0)","v":0},{"$f":"IF(AND(物理的アクセス関係!F$13=\"〇\",AC13=1),1,0)","v":0},{"$f":"IF(AND(物理的アクセス関係!G$13=\"〇\",AD13=1),1,0)","v":0},{"$f":"IF(AND(物理的アクセス関係!H$13=\"〇\",AE13=1),1,0)","v":0},{"$f":"IF(AND(物理的アクセス関係!I$13=\"〇\",AF13=1),1,0)","v":0},{"$f":"IF(AND(物理的アクセス関係!C$16=\"〇\",AG13=1),1,0)","v":0},null,{"$f":"IF(AND(物理的アクセス関係!E$16=\"〇\",AI13=1),1,0)","v":0}]
[{"$f":"IF(AND(SUM(AJ14:AT14)>0,SUM(AU14:BA14)>0,SUM(BB14:BD14)>0),COUNTIF($A$2:A13,\">0\")+1,0)","v":0},"食品アクセス（買物困難者等）問題ポータルサイトの運営","全国の地方公共団体や民間事業者等が食品アクセス問題の解決に向けた取組に役立てられるよう、食品アクセス問題への取組方法や支援施策、先進事例、調査結果等の情報等を発信すべく食品アクセスポータルサイトを運営。各省の関連施策や、地方公共団体の取組などを掲載している。","－","－","－",null,"－","ポータルサイトhttps://www.maff.go.jp/j/shokusan/eat/syoku_akusesu.html","農林水産省\n大臣官房\n新事業・食品産業部\n食品流通課　","03-3502-7659\nkaimono_konnan@maff.go.jp",{"$nulls":3},1,1,1,1,1,1,1,1,1,1,1,0,0,0,0,0,0,1,0,null,1,{"$f":"IF(AND(物理的アクセス関係!C$8=\"〇\",O14=1),1,0)","v":0},{"$f":"IF(AND(物理的アクセス関係!D$8=\"〇\",P14=1),1,0)","v":0},{"$f":"IF(AND(物理的アクセス関係!E$8=\"〇\",Q14=1),1,0)","v":0},{"$f":"IF(AND(物理的アクセス関係!F$8=\"〇\",R14=1),1,0)","v":0},{"$f":"IF(AND(物理的アクセス関係!G$8=\"〇\",S14=1),1,0)","v":0},{"$f":"IF(AND(物理的アクセス関係!H$8=\"〇\",T14=1),1,0)","v":0},{"$f":"IF(AND(物理的アクセス関係!C$10=\"〇\",U14=1),1,0)","v":0},{"$f":"IF(AND(物理的アクセス関係!D$10=\"〇\",V14=1),1,0)","v":0},{"$f":"IF(AND(物理的アクセス関係!E$10=\"〇\",W14=1),1,0)","v":0},{"$f":"IF(AND(物理的アクセス関係!F$10=\"〇\",X14=1),1,0)","v":0},{"$f":"IF(AND(物理的アクセス関係!G$10=\"〇\",Y14=1),1,0)","v":0},{"$f":"IF(AND(物理的アクセス関係!C$13=\"〇\",Z14=1),1,0)","v":0},{"$f":"IF(AND(物理的アクセス関係!D$13=\"〇\",AA14=1),1,0)","v":0},{"$f":"IF(AND(物理的アクセス関係!E$13=\"〇\",AB14=1),1,0)","v":0},{"$f":"IF(AND(物理的アクセス関係!F$13=\"〇\",AC14=1),1,0)","v":0},{"$f":"IF(AND(物理的アクセス関係!G$13=\"〇\",AD14=1),1,0)","v":0},{"$f":"IF(AND(物理的アクセス関係!H$13=\"〇\",AE14=1),1,0)","v":0},{"$f":"IF(AND(物理的アクセス関係!I$13=\"〇\",AF14=1),1,0)","v":0},{"$f":"IF(AND(物理的アクセス関係!C$16=\"〇\",AG14=1),1,0)","v":0},null,{"$f":"IF(AND(物理的アクセス関係!E$16=\"〇\",AI14=1),1,0)","v":0}]
[{"$f":"IF(AND(SUM(AJ15:AT15)>0,SUM(AU15:BA15)>0,SUM(BB15:BD15)>0),COUNTIF($A$2:A14,\">0\")+1,0)","v":0},"「食品アクセス問題」に関する全国市町村アンケートの実施","平成23年度より、毎年全国の市町村を対象にアンケートを実施。食料品の購入に困難を感じている住民への対策に関するアンケート調査を実施し、各地方自治体等の抱える課題や対策の状況を把握し、今後の施策の参考として活用。①のサイトに結果を掲載。","－","－","－",null,"－","https://www.maff.go.jp/j/shokusan/eat/syoku_akusesu.html","農林水産省\n大臣官房\n新事業・食品産業部\n食品流通課　","03-3502-7659\nkaimono_konnan@maff.go.jp",{"$nulls":3},1,1,1,1,1,1,1,1,1,1,1,0,0,0,0,0,0,1,0,null,1,{"$f":"IF(AND(物理的アクセス関係!C$8=\"〇\",O15=1),1,0)","v":0},{"$f":"IF(AND(物理的アクセス関係!D$8=\"〇\",P15=1),1,0)","v":0},{"$f":"IF(AND(物理的アクセス関係!E$8=\"〇\",Q15=1),1,0)","v":0},{"$f":"IF(AND(物理的アクセス関係!F$8=\"〇\",R15=1),1,0)","v":0},{"$f":"IF(AND(物理的アクセス関係!G$8=\"〇\",S15=1),1,0)","v":0},{"$f":"IF(AND(物理的アクセス関係!H$8=\"〇\",T15=1),1,0)","v":0},{"$f":"IF(AND(物理的アクセス関係!C$10=\"〇\",U15=1),1,0)","v":0},{"$f":"IF(AND(物理的アクセス関係!D$10=\"〇\",V15=1),1,0)","v":0},{"$f":"IF(AND(物理的アクセス関係!E$10=\"〇\",W15=1),1,0)","v":0},{"$f":"IF(AND(物理的アクセス関係!F$10=\"〇\",X15=1),1,0)","v":0},{"$f":"IF(AND(物理的アクセス関係!G$10=\"〇\",Y15=1),1,0)","v":0},{"$f":"IF(AND(物理的アクセス関係!C$13=\"〇\",Z15=1),1,0)","v":0},{"$f":"IF(AND(物理的アクセス関係!D$13=\"〇\",AA15=1),1,0)","v":0},{"$f":"IF(AND(物理的アクセス関係!E$13=\"〇\",AB15=1),1,0)","v":0},{"$f":"IF(AND(物理的アクセス関係!F$13=\"〇\",AC15=1),1,0)","v":0},{"$f":"IF(AND(物理的アクセス関係!G$13=\"〇\",AD15=1),1,0)","v":0},{"$f":"IF(AND(物理的アクセス関係!H$13=\"〇\",AE15=1),1,0)","v":0},{"$f":"IF(AND(物理的アクセス関係!I$13=\"〇\",AF15=1),1,0)","v":0},{"$f":"IF(AND(物理的アクセス関係!C$16=\"〇\",AG15=1),1,0)","v":0},null,{"$f":"IF(AND(物理的アクセス関係!E$16=\"〇\",AI15=1),1,0)","v":0}]
[{"$f":"IF(AND(SUM(AJ16:AT16)>0,SUM(AU16:BA16)>0,SUM(BB16:BD16)>0),COUNTIF($A$2:A15,\">0\")+1,0)","v":0},"食料品アクセスマップ","\n食料品アクセス困難人口（店舗まで500m以上かつ自動車の利用が困難な65歳以上の高齢者を指す。）が、どこでどの程度発生しているのかを把握するため、食料品アクセスマップを５年ごとに作成・公表。\n","－","－","－",null,"－","https://www.maff.go.jp/primaff/seika/fsc/faccess/a_map.html","農林水産省\n農林水産政策研究所","農林水産策研究所\n企画広報室広報資料課\n03-6737-9012",{"$nulls":3},1,1,1,1,1,1,1,1,1,1,1,0,0,0,0,0,0,1,0,null,1,{"$f":"IF(AND(物理的アクセス関係!C$8=\"〇\",O16=1),1,0)","v":0},{"$f":"IF(AND(物理的アクセス関係!D$8=\"〇\",P16=1),1,0)","v":0},{"$f":"IF(AND(物理的アクセス関係!E$8=\"〇\",Q16=1),1,0)","v":0},{"$f":"IF(AND(物理的アクセス関係!F$8=\"〇\",R16=1),1,0)","v":0},{"$f":"IF(AND(物理的アクセス関係!G$8=\"〇\",S16=1),1,0)","v":0},{"$f":"IF(AND(物理的アクセス関係!H$8=\"〇\",T16=1),1,0)","v":0},{"$f":"IF(AND(物理的アクセス関係!C$10=\"〇\",U16=1),1,0)","v":0},{"$f":"IF(AND(物理的アクセス関係!D$10=\"〇\",V16=1),1,0)","v":0},{"$f":"IF(AND(物理的アクセス関係!E$10=\"〇\",W16=1),1,0)","v":0},{"$f":"IF(AND(物理的アクセス関係!F$10=\"〇\",X16=1),1,0)","v":0},{"$f":"IF(AND(物理的アクセス関係!G$10=\"〇\",Y16=1),1,0)","v":0},{"$f":"IF(AND(物理的アクセス関係!C$13=\"〇\",Z16=1),1,0)","v":0},{"$f":"IF(AND(物理的アクセス関係!D$13=\"〇\",AA16=1),1,0)","v":0},{"$f":"IF(AND(物理的アクセス関係!E$13=\"〇\",AB16=1),1,0)","v":0},{"$f":"IF(AND(物理的アクセス関係!F$13=\"〇\",AC16=1),1,0)","v":0},{"$f":"IF(AND(物理的アクセス関係!G$13=\"〇\",AD16=1),1,0)","v":0},{"$f":"IF(AND(物理的アクセス関係!H$13=\"〇\",AE16=1),1,0)","v":0},{"$f":"IF(AND(物理的アクセス関係!I$13=\"〇\",AF16=1),1,0)","v":0},{"$f":"IF(AND(物理的アクセス関係!C$16=\"〇\",AG16=1),1,0)","v":0},null,{"$f":"IF(AND(物理的アクセス関係!E$16=\"〇\",AI16=1),1,0)","v":0}]
[{"$f":"IF(AND(SUM(AJ17:AT17)>0,SUM(AU17:BA17)>0,SUM(BB17:BD17)>0),COUNTIF($A$2:A16,\">0\")+1,0)","v":0},"「デジ活」中山間地域","\n中山間地域等において、基幹産業である農林水産業の「仕事づくり」を軸として、地域資源やデジタル技術を活用し、多様な内外の人材を巻き込みながら社会課題解決に向けて取組を積み重ねることで活性化を図る地域を「デジ活」中山間地域として登録し、関係府省が連携しつつ、その取組を支援。\n","国→市町村、地域運営組織","－","-",null,"－","https://www.maff.go.jp/j/nousin/digikatsu/index.html","農林水産省\n農村振興局\n農村計画課\n農村活性化推進室","03-6744-2203\nmaff-noushin-dijikatsu@maff.go.jp",{"$nulls":3},1,0,0,0,0,0,0,0,1,0,0,0,0,0,0,0,0,1,0,null,1,{"$f":"IF(AND(物理的アクセス関係!C$8=\"〇\",O17=1),1,0)","v":0},{"$f":"IF(AND(物理的アクセス関係!D$8=\"〇\",P17=1),1,0)","v":0},{"$f":"IF(AND(物理的アクセス関係!E$8=\"〇\",Q17=1),1,0)","v":0},{"$f":"IF(AND(物理的アクセス関係!F$8=\"〇\",R17=1),1,0)","v":0},{"$f":"IF(AND(物理的アクセス関係!G$8=\"〇\",S17=1),1,0)","v":0},{"$f":"IF(AND(物理的アクセス関係!H$8=\"〇\",T17=1),1,0)","v":0},{"$f":"IF(AND(物理的アクセス関係!C$10=\"〇\",U17=1),1,0)","v":0},{"$f":"IF(AND(物理的アクセス関係!D$10=\"〇\",V17=1),1,0)","v":0},{"$f":"IF(AND(物理的アクセス関係!E$10=\"〇\",W17=1),1,0)","v":0},{"$f":"IF(AND(物理的アクセス関係!F$10=\"〇\",X17=1),1,0)","v":0},{"$f":"IF(AND(物理的アクセス関係!G$10=\"〇\",Y17=1),1,0)","v":0},{"$f":"IF(AND(物理的アクセス関係!C$13=\"〇\",Z17=1),1,0)","v":0},{"$f":"IF(AND(物理的アクセス関係!D$13=\"〇\",AA17=1),1,0)","v":0},{"$f":"IF(AND(物理的アクセス関係!E$13=\"〇\",AB17=1),1,0)","v":0},{"$f":"IF(AND(物理的アクセス関係!F$13=\"〇\",AC17=1),1,0)","v":0},{"$f":"IF(AND(物理的アクセス関係!G$13=\"〇\",AD17=1),1,0)","v":0},{"$f":"IF(AND(物理的アクセス関係!H$13=\"〇\",AE17=1),1,0)","v":0},{"$f":"IF(AND(物理的アクセス関係!I$13=\"〇\",AF17=1),1,0)","v":0},{"$f":"IF(AND(物理的アクセス関係!C$16=\"〇\",AG17=1),1,0)","v":0},null,{"$f":"IF(AND(物理的アクセス関係!E$16=\"〇\",AI17=1),1,0)","v":0}]
[{"$f":"IF(AND(SUM(AJ18:AT18)>0,SUM(AU18:BA18)>0,SUM(BB18:BD18)>0),COUNTIF($A$2:A17,\">0\")+1,0)","v":0},"人口減少地域における買物サービスの確保のための地域と民間事業者の連携に関する調査研究報告書の公表","\n過疎地域等において、地域と民間事業者の連携により実施する、店舗設置や移動販売などの買物サービスの確保の取組について調査研究を実施し、先進事例や有識者の知見を踏まえ、持続的な買物環境の維持等の観点から留意すべきポイントを整理するなど、その取組を支援（令和８年３月報告書公表）。\n","－","－","－",null,"－","https://www.soumu.go.jp/main_sosiki/jichi_gyousei/c-gyousei/2001/kaso/chosa.html","総務省\n自治行政局\n地域自立応援課\n過疎対策室","03-5253-5536\n（内線23132）\nkasotaisaku@soumu.go.jp",{"$nulls":3},1,1,1,1,1,1,1,1,1,1,1,0,0,0,0,0,0,1,0,null,1,{"$f":"IF(AND(物理的アクセス関係!C$8=\"〇\",O18=1),1,0)","v":0},{"$f":"IF(AND(物理的アクセス関係!D$8=\"〇\",P18=1),1,0)","v":0},{"$f":"IF(AND(物理的アクセス関係!E$8=\"〇\",Q18=1),1,0)","v":0},{"$f":"IF(AND(物理的アクセス関係!F$8=\"〇\",R18=1),1,0)","v":0},{"$f":"IF(AND(物理的アクセス関係!G$8=\"〇\",S18=1),1,0)","v":0},{"$f":"IF(AND(物理的アクセス関係!H$8=\"〇\",T18=1),1,0)","v":0},{"$f":"IF(AND(物理的アクセス関係!C$10=\"〇\",U18=1),1,0)","v":0},{"$f":"IF(AND(物理的アクセス関係!D$10=\"〇\",V18=1),1,0)","v":0},{"$f":"IF(AND(物理的アクセス関係!E$10=\"〇\",W18=1),1,0)","v":0},{"$f":"IF(AND(物理的アクセス関係!F$10=\"〇\",X18=1),1,0)","v":0},{"$f":"IF(AND(物理的アクセス関係!G$10=\"〇\",Y18=1),1,0)","v":0},{"$f":"IF(AND(物理的アクセス関係!C$13=\"〇\",Z18=1),1,0)","v":0},{"$f":"IF(AND(物理的アクセス関係!D$13=\"〇\",AA18=1),1,0)","v":0},{"$f":"IF(AND(物理的アクセス関係!E$13=\"〇\",AB18=1),1,0)","v":0},{"$f":"IF(AND(物理的アクセス関係!F$13=\"〇\",AC18=1),1,0)","v":0},{"$f":"IF(AND(物理的アクセス関係!G$13=\"〇\",AD18=1),1,0)","v":0},{"$f":"IF(AND(物理的アクセス関係!H$13=\"〇\",AE18=1),1,0)","v":0},{"$f":"IF(AND(物理的アクセス関係!I$13=\"〇\",AF18=1),1,0)","v":0},{"$f":"IF(AND(物理的アクセス関係!C$16=\"〇\",AG18=1),1,0)","v":0},null,{"$f":"IF(AND(物理的アクセス関係!E$16=\"〇\",AI18=1),1,0)","v":0}]