Workbook

Sheet H22-10
A1: 農林水産関係市町村別統計
A2: 平成22年
A3: 耕地面積
A4: 千葉県 | D4: 2010 | E4: 2010 | F4: 2010 | G4: 2010
A5: 都道 | B5: 市町 | D5: 耕地面積 | E5: 田耕地面積 | G5: 畑耕地面積
A6: 府県 | B6: 村 | C6: 市町村名 | F6: 田本地面積
A7: ｺｰﾄﾞ | B7: ｺｰﾄﾞ
D8: ha | E8: ha | F8: ha | G8: ha
A9: 12 | B9: 100 | C9: 千葉市 | D9: 3910 | E9: 941 | F9: 891 | G9: 2970
A10: 12 | B10: 202 | C10: 銚子市 | D10: 2580 | E10: 553 | F10: 535 | G10: 2030
A11: 12 | B11: 203 | C11: 市川市 | D11: 554 | E11: 3 | F11: 3 | G11: 551
A12: 12 | B12: 204 | C12: 船橋市 | D12: 1280 | E12: 130 | F12: 125 | G12: 1150
A13: 12 | B13: 205 | C13: 館山市 | D13: 1820 | E13: 1150 | F13: 1080 | G13: 677
A14: 12 | B14: 206 | C14: 木更津市 | D14: 2610 | E14: 2030 | F14: 1910 | G14: 579
A15: 12 | B15: 207 | C15: 松戸市 | D15: 776 | E15: 67 | F15: 65 | G15: 709
A16: 12 | B16: 208 | C16: 野田市 | D16: 2710 | E16: 1390 | F16: 1340 | G16: 1320
A17: 12 | B17: 210 | C17: 茂原市 | D17: 3240 | E17: 2210 | F17: 2140 | G17: 1030
A18: 12 | B18: 211 | C18: 成田市 | D18: 6690 | E18: 3890 | F18: 3720 | G18: 2810
A19: 12 | B19: 212 | C19: 佐倉市 | D19: 2970 | E19: 1760 | F19: 1690 | G19: 1210
A20: 12 | B20: 213 | C20: 東金市 | D20: 3470 | E20: 2360 | F20: 2280 | G20: 1110
... A32: 12 | B32: 226 | C32: 富津市 | D32: 2370 | E32: 1750 | F32: 1640 | G32: 622
A33: 12 | B33: 227 | C33: 浦安市 | D33: - | E33: - | F33: - | G33: -
A34: 12 | B34: 228 | C34: 四街道市 | D34: 729 | E34: 235 | F34: 225 | G34: 494
A35: 12 | B35: 229 | C35: 袖ヶ浦市 | D35: 2650 | E35: 1660 | F35: 1560 | G35: 994
A36: 12 | B36: 230 | C36: 八街市 | D36: 3630 | E36: 180 | F36: 172 | G36: 3450
A37: 12 | B37: 231 | C37: 印西市 | D37: 4220 | E37: 3050 | F37: 2920 | G37: 1170
A38: 12 | B38: 232 | C38: 白井市 | D38: 1110 | E38: 305 | F38: 292 | G38: 805
A39: 12 | B39: 233 | C39: 富里市 | D39: 2560 | E39: 239 | F39: 229 | G39: 2320
A40: 12 | B40: 234 | C40: 南房総市 | D40: 3600 | E40: 2200 | F40: 2060 | G40: 1410
A41: 12 | B41: 235 | C41: 匝瑳市 | D41: 5260 | E41: 3250 | F41: 3150 | G41: 2000
A42: 12 | B42: 236 | C42: 香取市 | D42: 11400 | E42: 7820 | F42: 7540 | G42: 3570
A43: 12 | B43: 237 | C43: 山武市 | D43: 5830 | E43: 3060 | F43: 2960 | G43: 2760
A44: 12 | B44: 238 | C44: いすみ市 | D44: 3600 | E44: 2990 | F44: 2850 | G44: 609
A45: 12 | B45: 402 | C45: 大網白里町 | D45: 2460 | E45: 1650 | F45: 1600 | G45: 811
... A62: 12 | B62: 463 | C62: 鋸南町 | D62: 471 | E62: 230 | F62: 216 | G62: 241
A64: 利用上の注意
A65: １ この市町村別統計は、「作物統計調査」を実施する上で把握した地域における標本調査及び現地見積りの結果、
A66: 関係機関からの情報等を踏まえ、都道府県計値の内訳として市町村別に作成した加工統計であり、作成するうえで
A67: 精度を設定しているものではない。
A68: なお、「作物統計調査」は都道府県計値を求めるために設計されている。
...

Sheet H23-11
A1: 農林水産関係市町村別統計
A2: 平成23年
A3: 耕地面積
A4: 千葉県 | D4: 2011 | E4: 2011 | F4: 2011 | G4: 2011
A5: 都道 | B5: 市町 | D5: 耕地面積 | E5: 田耕地面積 | G5: 畑耕地面積
A6: 府県 | B6: 村 | C6: 市町村名 | F6: 田本地面積
A7: ｺｰﾄﾞ | B7: ｺｰﾄﾞ
D8: ha | E8: ha | F8: ha | G8: ha
A9: 12 | B9: 100 | C9: 千葉市 | D9: 3860 | E9: 926 | F9: 877 | G9: 2940
A10: 12 | B10: 202 | C10: 銚子市 | D10: 2570 | E10: 551 | F10: 533 | G10: 2020
A11: 12 | B11: 203 | C11: 市川市 | D11: 550 | E11: 3 | F11: 3 | G11: 547
A12: 12 | B12: 204 | C12: 船橋市 | D12: 1280 | E12: 130 | F12: 125 | G12: 1150
A13: 12 | B13: 205 | C13: 館山市 | D13: 1820 | E13: 1140 | F13: 1070 | G13: 675
A14: 12 | B14: 206 | C14: 木更津市 | D14: 2600 | E14: 2030 | F14: 1900 | G14: 573
A15: 12 | B15: 207 | C15: 松戸市 | D15: 771 | E15: 67 | F15: 65 | G15: 704
A16: 12 | B16: 208 | C16: 野田市 | D16: 2710 | E16: 1390 | F16: 1340 | G16: 1320
A17: 12 | B17: 210 | C17: 茂原市 | D17: 3230 | E17: 2210 | F17: 2140 | G17: 1030
A18: 12 | B18: 211 | C18: 成田市 | D18: 6680 | E18: 3890 | F18: 3720 | G18: 2800
A19: 12 | B19: 212 | C19: 佐倉市 | D19: 2970 | E19: 1760 | F19: 1690 | G19: 1200
A20: 12 | B20: 213 | C20: 東金市 | D20: 3470 | E20: 2360 | F20: 2280 | G20: 1110
... A29: 12 | B29: 223 | C29: 鴨川市 | D29: 2260 | E29: 1870 | F29: 1750 | G29: 391
A30: 12 | B30: 224 | C30: 鎌ケ谷市 | D30: 459 | E30: - | F30: - | G30: 459
A31: 12 | B31: 225 | C31: 君津市 | D31: 3280 | E31: 2470 | F31: 2320 | G31: 811
A32: 12 | B32: 226 | C32: 富津市 | D32: 2360 | E32: 1740 | F32: 1640 | G32: 620
A33: 12 | B33: 227 | C33: 浦安市 | D33: - | E33: - | F33: - | G33: -
A34: 12 | B34: 228 | C34: 四街道市 | D34: 721 | E34: 234 | F34: 224 | G34: 487
A35: 12 | B35: 229 | C35: 袖ヶ浦市 | D35: 2650 | E35: 1650 | F35: 1550 | G35: 992
A36: 12 | B36: 230 | C36: 八街市 | D36: 3620 | E36: 179 | F36: 171 | G36: 3440
A37: 12 | B37: 231 | C37: 印西市 | D37: 4210 | E37: 3050 | F37: 2920 | G37: 1170
A38: 12 | B38: 232 | C38: 白井市 | D38: 1110 | E38: 304 | F38: 291 | G38: 801
A39: 12 | B39: 233 | C39: 富里市 | D39: 2550 | E39: 239 | F39: 229 | G39: 2310
A40: 12 | B40: 234 | C40: 南房総市 | D40: 3600 | E40: 2190 | F40: 2060 | G40: 1410
A41: 12 | B41: 235 | C41: 匝瑳市 | D41: 5250 | E41: 3250 | F41: 3140 | G41: 1990
A42: 12 | B42: 236 | C42: 香取市 | D42: 11000 | E42: 7470 | F42: 7210 | G42: 3540
A43: 12 | B43: 237 | C43: 山武市 | D43: 5820 | E43: 3060 | F43: 2960 | G43: 2760
A44: 12 | B44: 238 | C44: いすみ市 | D44: 3590 | E44: 2990 | F44: 2850 | G44: 608
A45: 12 | B45: 402 | C45: 大網白里町 | D45: 2460 | E45: 1650 | F45: 1600 | G45: 811
... A62: 12 | B62: 463 | C62: 鋸南町 | D62: 470 | E62: 229 | F62: 215 | G62: 241
C64: 計 | D64: 128100 | E64: 74700 | F64: 71500 | G64: 53400
A66: 利用上の注意
...

Sheet H24-12
A1: 農林水産関係市町村別統計
A2: 平成24年
A3: 耕地面積
A4: 千葉県 | D4: 2012 | E4: 2012 | F4: 2012 | G4: 2012
A5: 都道 | B5: 市町 | D5: 耕地面積 | E5: 田耕地面積 | G5: 畑耕地面積
A6: 府県 | B6: 村 | C6: 市町村名 | F6: 田本地面積
A7: ｺｰﾄﾞ | B7: ｺｰﾄﾞ
D8: ha | E8: ha | F8: ha | G8: ha
A9: 12 | B9: 100 | C9: 千葉市 | D9: 3830 | E9: 920 | F9: 871 | G9: 2910
A10: 12 | B10: 202 | C10: 銚子市 | D10: 2560 | E10: 548 | F10: 530 | G10: 2010
A11: 12 | B11: 203 | C11: 市川市 | D11: 546 | E11: 2 | F11: 2 | G11: 544
A12: 12 | B12: 204 | C12: 船橋市 | D12: 1270 | E12: 129 | F12: 124 | G12: 1140
A13: 12 | B13: 205 | C13: 館山市 | D13: 1810 | E13: 1140 | F13: 1070 | G13: 673
A14: 12 | B14: 206 | C14: 木更津市 | D14: 2590 | E14: 2030 | F14: 1900 | G14: 568
A15: 12 | B15: 207 | C15: 松戸市 | D15: 768 | E15: 66 | F15: 64 | G15: 702
A16: 12 | B16: 208 | C16: 野田市 | D16: 2710 | E16: 1390 | F16: 1340 | G16: 1320
A17: 12 | B17: 210 | C17: 茂原市 | D17: 3220 | E17: 2200 | F17: 2130 | G17: 1020
A18: 12 | B18: 211 | C18: 成田市 | D18: 6670 | E18: 3880 | F18: 3720 | G18: 2790
A19: 12 | B19: 212 | C19: 佐倉市 | D19: 2960 | E19: 1760 | F19: 1690 | G19: 1200
A20: 12 | B20: 213 | C20: 東金市 | D20: 3460 | E20: 2350 | F20: 2270 | G20: 1110
... A29: 12 | B29: 223 | C29: 鴨川市 | D29: 2260 | E29: 1870 | F29: 1750 | G29: 390
A30: 12 | B30: 224 | C30: 鎌ケ谷市 | D30: 459 | E30: - | F30: - | G30: 459
A31: 12 | B31: 225 | C31: 君津市 | D31: 3270 | E31: 2470 | F31: 2320 | G31: 805
A32: 12 | B32: 226 | C32: 富津市 | D32: 2360 | E32: 1740 | F32: 1640 | G32: 618
A33: 12 | B33: 227 | C33: 浦安市 | D33: - | E33: - | F33: - | G33: -
A34: 12 | B34: 228 | C34: 四街道市 | D34: 717 | E34: 233 | F34: 223 | G34: 484
A35: 12 | B35: 229 | C35: 袖ヶ浦市 | D35: 2630 | E35: 1640 | F35: 1540 | G35: 988
A36: 12 | B36: 230 | C36: 八街市 | D36: 3610 | E36: 179 | F36: 171 | G36: 3430
A37: 12 | B37: 231 | C37: 印西市 | D37: 4210 | E37: 3050 | F37: 2920 | G37: 1160
A38: 12 | B38: 232 | C38: 白井市 | D38: 1100 | E38: 303 | F38: 290 | G38: 797
A39: 12 | B39: 233 | C39: 富里市 | D39: 2550 | E39: 239 | F39: 229 | G39: 2310
A40: 12 | B40: 234 | C40: 南房総市 | D40: 3600 | E40: 2190 | F40: 2060 | G40: 1400
A41: 12 | B41: 235 | C41: 匝瑳市 | D41: 5230 | E41: 3250 | F41: 3140 | G41: 1980
A42: 12 | B42: 236 | C42: 香取市 | D42: 11300 | E42: 7800 | F42: 7530 | G42: 3520
A43: 12 | B43: 237 | C43: 山武市 | D43: 5820 | E43: 3060 | F43: 2960 | G43: 2760
A44: 12 | B44: 238 | C44: いすみ市 | D44: 3590 | E44: 2980 | F44: 2850 | G44: 606
A45: 12 | B45: 402 | C45: 大網白里町 | D45: 2460 | E45: 1650 | F45: 1600 | G45: 811
... A62: 12 | B62: 463 | C62: 鋸南町 | D62: 468 | E62: 228 | F62: 214 | G62: 240
C64: 計 | D64: 128000 | E64: 74900 | F64: 71700 | G64: 53200
A66: 利用上の注意
...

Sheet H25-13
A1: 農林水産関係市町村別統計
A2: 平成25年
A3: 耕地面積
A4: 千葉県 | D4: 2013 | E4: 2013 | F4: 2013 | G4: 2013
A5: 都道 | B5: 市町 | D5: 耕地面積 | E5: 田耕地面積 | G5: 畑耕地面積
A6: 府県 | B6: 村 | C6: 市町村名 | F6: 田本地面積
A7: ｺｰﾄﾞ | B7: ｺｰﾄﾞ
D8: ha | E8: ha | F8: ha | G8: ha
A9: 12 | B9: 100 | C9: 千葉市 | D9: 3790 | E9: 912 | F9: 864 | G9: 2880
A10: 12 | B10: 202 | C10: 銚子市 | D10: 2550 | E10: 546 | F10: 528 | G10: 2000
A11: 12 | B11: 203 | C11: 市川市 | D11: 543 | E11: 2 | F11: 2 | G11: 541
A12: 12 | B12: 204 | C12: 船橋市 | D12: 1260 | E12: 127 | F12: 122 | G12: 1130
A13: 12 | B13: 205 | C13: 館山市 | D13: 1810 | E13: 1140 | F13: 1070 | G13: 672
A14: 12 | B14: 206 | C14: 木更津市 | D14: 2580 | E14: 2020 | F14: 1890 | G14: 561
A15: 12 | B15: 207 | C15: 松戸市 | D15: 766 | E15: 66 | F15: 64 | G15: 700
A16: 12 | B16: 208 | C16: 野田市 | D16: 2700 | E16: 1390 | F16: 1340 | G16: 1310
A17: 12 | B17: 210 | C17: 茂原市 | D17: 3220 | E17: 2200 | F17: 2130 | G17: 1020
A18: 12 | B18: 211 | C18: 成田市 | D18: 6660 | E18: 3880 | F18: 3710 | G18: 2780
A19: 12 | B19: 212 | C19: 佐倉市 | D19: 2950 | E19: 1760 | F19: 1680 | G19: 1200
A20: 12 | B20: 213 | C20: 東金市 | D20: 3450 | E20: 2350 | F20: 2270 | G20: 1110
... A29: 12 | B29: 223 | C29: 鴨川市 | D29: 2250 | E29: 1860 | F29: 1750 | G29: 389
A30: 12 | B30: 224 | C30: 鎌ケ谷市 | D30: 459 | E30: - | F30: - | G30: 459
A31: 12 | B31: 225 | C31: 君津市 | D31: 3270 | E31: 2470 | F31: 2320 | G31: 799
A32: 12 | B32: 226 | C32: 富津市 | D32: 2360 | E32: 1740 | F32: 1630 | G32: 616
A33: 12 | B33: 227 | C33: 浦安市 | D33: - | E33: - | F33: - | G33: -
A34: 12 | B34: 228 | C34: 四街道市 | D34: 713 | E34: 231 | F34: 221 | G34: 482
A35: 12 | B35: 229 | C35: 袖ケ浦市 | D35: 2610 | E35: 1630 | F35: 1530 | G35: 984
A36: 12 | B36: 230 | C36: 八街市 | D36: 3600 | E36: 180 | F36: 172 | G36: 3420
A37: 12 | B37: 231 | C37: 印西市 | D37: 4200 | E37: 3050 | F37: 2920 | G37: 1150
A38: 12 | B38: 232 | C38: 白井市 | D38: 1100 | E38: 302 | F38: 289 | G38: 793
A39: 12 | B39: 233 | C39: 富里市 | D39: 2550 | E39: 239 | F39: 229 | G39: 2310
A40: 12 | B40: 234 | C40: 南房総市 | D40: 3590 | E40: 2190 | F40: 2060 | G40: 1400
A41: 12 | B41: 235 | C41: 匝瑳市 | D41: 5230 | E41: 3250 | F41: 3140 | G41: 1980
A42: 12 | B42: 236 | C42: 香取市 | D42: 11300 | E42: 7800 | F42: 7520 | G42: 3510
A43: 12 | B43: 237 | C43: 山武市 | D43: 5820 | E43: 3060 | F43: 2960 | G43: 2760
A44: 12 | B44: 238 | C44: いすみ市 | D44: 3580 | E44: 2980 | F44: 2840 | G44: 603
A45: 12 | B45: 239 | C45: 大網白里市 | D45: 2460 | E45: 1650 | F45: 1600 | G45: 810
... A62: 12 | B62: 463 | C62: 鋸南町 | D62: 467 | E62: 228 | F62: 214 | G62: 239
C64: 計 | D64: 127700 | E64: 74800 | F64: 71600 | G64: 53000
A66: 利用上の注意
...

Sheet H26-14
A1: 農林水産関係市町村別統計
A2: 平成26年
A3: 耕地面積
A4: 千葉県 | D4: 2014 | E4: 2014 | F4: 2014 | G4: 2014
A5: 都道 | B5: 市町 | D5: 耕地面積 | E5: 田耕地面積 | G5: 畑耕地面積
A6: 府県 | B6: 村 | C6: 市町村名 | F6: 田本地面積
A7: ｺｰﾄﾞ | B7: ｺｰﾄﾞ
D8: ha | E8: ha | F8: ha | G8: ha
A9: 12 | B9: 100 | C9: 千葉市 | D9: 3750 | E9: 905 | F9: 866 | G9: 2840
A10: 12 | B10: 202 | C10: 銚子市 | D10: 2540 | E10: 545 | F10: 527 | G10: 2000
A11: 12 | B11: 203 | C11: 市川市 | D11: 541 | E11: 2 | F11: 2 | G11: 539
A12: 12 | B12: 204 | C12: 船橋市 | D12: 1250 | E12: 125 | F12: 120 | G12: 1130
A13: 12 | B13: 205 | C13: 館山市 | D13: 1810 | E13: 1140 | F13: 1070 | G13: 670
A14: 12 | B14: 206 | C14: 木更津市 | D14: 2560 | E14: 2000 | F14: 1880 | G14: 553
A15: 12 | B15: 207 | C15: 松戸市 | D15: 757 | E15: 65 | F15: 62 | G15: 692
A16: 12 | B16: 208 | C16: 野田市 | D16: 2690 | E16: 1380 | F16: 1320 | G16: 1300
A17: 12 | B17: 210 | C17: 茂原市 | D17: 3210 | E17: 2200 | F17: 2130 | G17: 1010
A18: 12 | B18: 211 | C18: 成田市 | D18: 6650 | E18: 3870 | F18: 3700 | G18: 2770
A19: 12 | B19: 212 | C19: 佐倉市 | D19: 2950 | E19: 1760 | F19: 1680 | G19: 1190
A20: 12 | B20: 213 | C20: 東金市 | D20: 3450 | E20: 2340 | F20: 2270 | G20: 1100
... A29: 12 | B29: 223 | C29: 鴨川市 | D29: 2250 | E29: 1860 | F29: 1750 | G29: 388
A30: 12 | B30: 224 | C30: 鎌ケ谷市 | D30: 457 | E30: - | F30: - | G30: 457
A31: 12 | B31: 225 | C31: 君津市 | D31: 3260 | E31: 2460 | F31: 2310 | G31: 794
A32: 12 | B32: 226 | C32: 富津市 | D32: 2350 | E32: 1740 | F32: 1630 | G32: 612
A33: 12 | B33: 227 | C33: 浦安市 | D33: - | E33: - | F33: - | G33: -
A34: 12 | B34: 228 | C34: 四街道市 | D34: 701 | E34: 227 | F34: 217 | G34: 474
A35: 12 | B35: 229 | C35: 袖ケ浦市 | D35: 2590 | E35: 1610 | F35: 1520 | G35: 980
A36: 12 | B36: 230 | C36: 八街市 | D36: 3590 | E36: 180 | F36: 172 | G36: 3410
A37: 12 | B37: 231 | C37: 印西市 | D37: 4210 | E37: 3050 | F37: 2920 | G37: 1150
A38: 12 | B38: 232 | C38: 白井市 | D38: 1090 | E38: 302 | F38: 289 | G38: 789
A39: 12 | B39: 233 | C39: 富里市 | D39: 2540 | E39: 237 | F39: 227 | G39: 2300
A40: 12 | B40: 234 | C40: 南房総市 | D40: 3590 | E40: 2190 | F40: 2050 | G40: 1400
A41: 12 | B41: 235 | C41: 匝瑳市 | D41: 5230 | E41: 3250 | F41: 3140 | G41: 1980
A42: 12 | B42: 236 | C42: 香取市 | D42: 11300 | E42: 7800 | F42: 7520 | G42: 3500
A43: 12 | B43: 237 | C43: 山武市 | D43: 5810 | E43: 3060 | F43: 2960 | G43: 2760
A44: 12 | B44: 238 | C44: いすみ市 | D44: 3570 | E44: 2970 | F44: 2800 | G44: 600
A45: 12 | B45: 239 | C45: 大網白里市 | D45: 2460 | E45: 1650 | F45: 1600 | G45: 808
... A62: 12 | B62: 463 | C62: 鋸南町 | D62: 466 | E62: 227 | F62: 213 | G62: 239
C64: 計 | D64: 127300 | E64: 74600 | F64: 71400 | G64: 52700
A66: 利用上の注意
...

Sheet H27-15
A1: 農林水産関係市町村別統計
A2: 平成27年
A3: 耕地面積
A4: 千葉県 | D4: 2015 | E4: 2015 | F4: 2015 | G4: 2015
A5: 都道 | B5: 市町 | D5: 耕地面積 | E5: 田耕地面積 | G5: 畑耕地面積
A6: 府県 | B6: 村 | C6: 市町村名 | F6: 田本地面積
A7: ｺｰﾄﾞ | B7: ｺｰﾄﾞ
D8: ha | E8: ha | F8: ha | G8: ha
A9: 12 | B9: 100 | C9: 千葉市 | D9: 3710 | E9: 899 | F9: 860 | G9: 2810
A10: 12 | B10: 202 | C10: 銚子市 | D10: 2540 | E10: 544 | F10: 526 | G10: 2000
A11: 12 | B11: 203 | C11: 市川市 | D11: 537 | E11: 2 | F11: 2 | G11: 535
A12: 12 | B12: 204 | C12: 船橋市 | D12: 1250 | E12: 123 | F12: 118 | G12: 1120
A13: 12 | B13: 205 | C13: 館山市 | D13: 1800 | E13: 1130 | F13: 1060 | G13: 666
A14: 12 | B14: 206 | C14: 木更津市 | D14: 2550 | E14: 2000 | F14: 1880 | G14: 552
A15: 12 | B15: 207 | C15: 松戸市 | D15: 749 | E15: 63 | F15: 60 | G15: 686
A16: 12 | B16: 208 | C16: 野田市 | D16: 2670 | E16: 1380 | F16: 1320 | G16: 1290
A17: 12 | B17: 210 | C17: 茂原市 | D17: 3190 | E17: 2190 | F17: 2120 | G17: 1000
A18: 12 | B18: 211 | C18: 成田市 | D18: 6620 | E18: 3860 | F18: 3700 | G18: 2760
A19: 12 | B19: 212 | C19: 佐倉市 | D19: 2950 | E19: 1760 | F19: 1680 | G19: 1190
A20: 12 | B20: 213 | C20: 東金市 | D20: 3440 | E20: 2340 | F20: 2260 | G20: 1100
... A29: 12 | B29: 223 | C29: 鴨川市 | D29: 2250 | E29: 1860 | F29: 1750 | G29: 387
A30: 12 | B30: 224 | C30: 鎌ケ谷市 | D30: 456 | E30: - | F30: - | G30: 456
A31: 12 | B31: 225 | C31: 君津市 | D31: 3260 | E31: 2470 | F31: 2320 | G31: 789
A32: 12 | B32: 226 | C32: 富津市 | D32: 2340 | E32: 1730 | F32: 1630 | G32: 610
A33: 12 | B33: 227 | C33: 浦安市 | D33: - | E33: - | F33: - | G33: -
A34: 12 | B34: 228 | C34: 四街道市 | D34: 695 | E34: 227 | F34: 217 | G34: 468
A35: 12 | B35: 229 | C35: 袖ケ浦市 | D35: 2550 | E35: 1590 | F35: 1490 | G35: 955
A36: 12 | B36: 230 | C36: 八街市 | D36: 3570 | E36: 179 | F36: 171 | G36: 3400
A37: 12 | B37: 231 | C37: 印西市 | D37: 4190 | E37: 3050 | F37: 2920 | G37: 1140
A38: 12 | B38: 232 | C38: 白井市 | D38: 1080 | E38: 302 | F38: 289 | G38: 780
A39: 12 | B39: 233 | C39: 富里市 | D39: 2530 | E39: 237 | F39: 227 | G39: 2300
A40: 12 | B40: 234 | C40: 南房総市 | D40: 3580 | E40: 2180 | F40: 2050 | G40: 1400
A41: 12 | B41: 235 | C41: 匝瑳市 | D41: 5220 | E41: 3250 | F41: 3140 | G41: 1970
A42: 12 | B42: 236 | C42: 香取市 | D42: 11300 | E42: 7790 | F42: 7520 | G42: 3490
A43: 12 | B43: 237 | C43: 山武市 | D43: 5800 | E43: 3050 | F43: 2950 | G43: 2750
A44: 12 | B44: 238 | C44: いすみ市 | D44: 3560 | E44: 2960 | F44: 2790 | G44: 595
A45: 12 | B45: 239 | C45: 大網白里市 | D45: 2460 | E45: 1650 | F45: 1600 | G45: 806
... A62: 12 | B62: 463 | C62: 鋸南町 | D62: 465 | E62: 226 | F62: 212 | G62: 239
C64: 計 | D64: 126800 | E64: 74400 | F64: 71300 | G64: 52300
A66: 利用上の注意
...

Sheet H28-16
A1: 農林水産関係市町村別統計
A2: 平成28年
A3: 耕地面積
A4: 千葉県 | D4: 2016 | E4: 2016 | F4: 2016 | G4: 2016
A5: 都道 | B5: 市町 | D5: 耕地面積 | E5: 田耕地面積 | G5: 畑耕地面積
A6: 府県 | B6: 村 | C6: 市町村名 | F6: 田本地面積
A7: ｺｰﾄﾞ | B7: ｺｰﾄﾞ
D8: ha | E8: ha | F8: ha | G8: ha
A9: 12 | B9: 100 | C9: 千葉市 | D9: 3670 | E9: 893 | F9: 855 | G9: 2770
A10: 12 | B10: 202 | C10: 銚子市 | D10: 2540 | E10: 544 | F10: 525 | G10: 1990
A11: 12 | B11: 203 | C11: 市川市 | D11: 535 | E11: 2 | F11: 2 | G11: 533
A12: 12 | B12: 204 | C12: 船橋市 | D12: 1240 | E12: 122 | F12: 117 | G12: 1120
A13: 12 | B13: 205 | C13: 館山市 | D13: 1790 | E13: 1130 | F13: 1060 | G13: 663
A14: 12 | B14: 206 | C14: 木更津市 | D14: 2540 | E14: 1990 | F14: 1870 | G14: 548
A15: 12 | B15: 207 | C15: 松戸市 | D15: 742 | E15: 59 | F15: 56 | G15: 683
A16: 12 | B16: 208 | C16: 野田市 | D16: 2650 | E16: 1370 | F16: 1310 | G16: 1280
A17: 12 | B17: 210 | C17: 茂原市 | D17: 3170 | E17: 2180 | F17: 2110 | G17: 997
A18: 12 | B18: 211 | C18: 成田市 | D18: 6610 | E18: 3860 | F18: 3700 | G18: 2750
A19: 12 | B19: 212 | C19: 佐倉市 | D19: 2930 | E19: 1750 | F19: 1680 | G19: 1180
A20: 12 | B20: 213 | C20: 東金市 | D20: 3420 | E20: 2330 | F20: 2260 | G20: 1100
... A29: 12 | B29: 223 | C29: 鴨川市 | D29: 2240 | E29: 1860 | F29: 1750 | G29: 385
A30: 12 | B30: 224 | C30: 鎌ケ谷市 | D30: 452 | E30: - | F30: - | G30: 452
A31: 12 | B31: 225 | C31: 君津市 | D31: 3240 | E31: 2460 | F31: 2310 | G31: 784
A32: 12 | B32: 226 | C32: 富津市 | D32: 2340 | E32: 1730 | F32: 1630 | G32: 608
A33: 12 | B33: 227 | C33: 浦安市 | D33: - | E33: - | F33: - | G33: -
A34: 12 | B34: 228 | C34: 四街道市 | D34: 684 | E34: 224 | F34: 214 | G34: 460
A35: 12 | B35: 229 | C35: 袖ケ浦市 | D35: 2540 | E35: 1590 | F35: 1490 | G35: 949
A36: 12 | B36: 230 | C36: 八街市 | D36: 3550 | E36: 176 | F36: 168 | G36: 3380
A37: 12 | B37: 231 | C37: 印西市 | D37: 4180 | E37: 3050 | F37: 2920 | G37: 1130
A38: 12 | B38: 232 | C38: 白井市 | D38: 1070 | E38: 297 | F38: 284 | G38: 776
A39: 12 | B39: 233 | C39: 富里市 | D39: 2520 | E39: 233 | F39: 223 | G39: 2290
A40: 12 | B40: 234 | C40: 南房総市 | D40: 3570 | E40: 2180 | F40: 2050 | G40: 1390
A41: 12 | B41: 235 | C41: 匝瑳市 | D41: 5220 | E41: 3240 | F41: 3130 | G41: 1970
A42: 12 | B42: 236 | C42: 香取市 | D42: 11300 | E42: 7790 | F42: 7520 | G42: 3480
A43: 12 | B43: 237 | C43: 山武市 | D43: 5790 | E43: 3050 | F43: 2950 | G43: 2750
A44: 12 | B44: 238 | C44: いすみ市 | D44: 3540 | E44: 2950 | F44: 2780 | G44: 590
A45: 12 | B45: 239 | C45: 大網白里市 | D45: 2450 | E45: 1650 | F45: 1600 | G45: 804
... A62: 12 | B62: 463 | C62: 鋸南町 | D62: 465 | E62: 226 | F62: 213 | G62: 239
C64: 計 | D64: 126300 | E64: 74300 | F64: 71100 | G64: 52000
A66: 利用上の注意
...

Sheet H29-17
A1: 農林水産関係市町村別統計
A2: 平成29年
A3: 耕地面積
A4: 千葉県 | D4: 2017 | E4: 2017 | F4: 2017 | G4: 2017
A5: 都道 | B5: 市町 | D5: 耕地面積 | E5: 田耕地面積 | G5: 畑耕地面積
A6: 府県 | B6: 村 | C6: 市町村名 | F6: 田本地面積
A7: ｺｰﾄﾞ | B7: ｺｰﾄﾞ
D8: ha | E8: ha | F8: ha | G8: ha
A9: 12 | B9: 100 | C9: 千葉市 | D9: 3610 | E9: 885 | F9: 847 | G9: 2730
A10: 12 | B10: 202 | C10: 銚子市 | D10: 2530 | E10: 543 | F10: 525 | G10: 1990
A11: 12 | B11: 203 | C11: 市川市 | D11: 532 | E11: 2 | F11: 2 | G11: 530
A12: 12 | B12: 204 | C12: 船橋市 | D12: 1230 | E12: 119 | F12: 114 | G12: 1110
A13: 12 | B13: 205 | C13: 館山市 | D13: 1780 | E13: 1120 | F13: 1060 | G13: 659
A14: 12 | B14: 206 | C14: 木更津市 | D14: 2530 | E14: 1990 | F14: 1870 | G14: 546
A15: 12 | B15: 207 | C15: 松戸市 | D15: 740 | E15: 59 | F15: 56 | G15: 681
A16: 12 | B16: 208 | C16: 野田市 | D16: 2640 | E16: 1370 | F16: 1310 | G16: 1270
A17: 12 | B17: 210 | C17: 茂原市 | D17: 3160 | E17: 2160 | F17: 2090 | G17: 991
A18: 12 | B18: 211 | C18: 成田市 | D18: 6590 | E18: 3860 | F18: 3690 | G18: 2740
A19: 12 | B19: 212 | C19: 佐倉市 | D19: 2920 | E19: 1740 | F19: 1670 | G19: 1170
A20: 12 | B20: 213 | C20: 東金市 | D20: 3410 | E20: 2320 | F20: 2240 | G20: 1090
... A29: 12 | B29: 223 | C29: 鴨川市 | D29: 2240 | E29: 1850 | F29: 1740 | G29: 383
A30: 12 | B30: 224 | C30: 鎌ケ谷市 | D30: 449 | E30: - | F30: - | G30: 449
A31: 12 | B31: 225 | C31: 君津市 | D31: 3230 | E31: 2450 | F31: 2300 | G31: 778
A32: 12 | B32: 226 | C32: 富津市 | D32: 2330 | E32: 1730 | F32: 1620 | G32: 606
A33: 12 | B33: 227 | C33: 浦安市 | D33: - | E33: - | F33: - | G33: -
A34: 12 | B34: 228 | C34: 四街道市 | D34: 672 | E34: 220 | F34: 211 | G34: 452
A35: 12 | B35: 229 | C35: 袖ケ浦市 | D35: 2530 | E35: 1590 | F35: 1490 | G35: 948
A36: 12 | B36: 230 | C36: 八街市 | D36: 3530 | E36: 173 | F36: 166 | G36: 3360
A37: 12 | B37: 231 | C37: 印西市 | D37: 4160 | E37: 3040 | F37: 2910 | G37: 1120
A38: 12 | B38: 232 | C38: 白井市 | D38: 1070 | E38: 294 | F38: 281 | G38: 773
A39: 12 | B39: 233 | C39: 富里市 | D39: 2510 | E39: 231 | F39: 221 | G39: 2280
A40: 12 | B40: 234 | C40: 南房総市 | D40: 3560 | E40: 2170 | F40: 2040 | G40: 1390
A41: 12 | B41: 235 | C41: 匝瑳市 | D41: 5190 | E41: 3230 | F41: 3130 | G41: 1960
A42: 12 | B42: 236 | C42: 香取市 | D42: 11200 | E42: 7780 | F42: 7520 | G42: 3470
A43: 12 | B43: 237 | C43: 山武市 | D43: 5780 | E43: 3040 | F43: 2940 | G43: 2740
A44: 12 | B44: 238 | C44: いすみ市 | D44: 3520 | E44: 2940 | F44: 2770 | G44: 582
A45: 12 | B45: 239 | C45: 大網白里市 | D45: 2440 | E45: 1640 | F45: 1580 | G45: 799
... A62: 12 | B62: 463 | C62: 鋸南町 | D62: 463 | E62: 225 | F62: 212 | G62: 238
C64: 計 | D64: 125700 | E64: 74000 | F64: 70900 | G64: 51700
A66: 利用上の注意
...

Sheet H30-18
A1: 農林水産関係市町村別統計
A2: 平成30年
A3: 耕地面積
A4: 千葉県 | D4: 2018 | E4: 2018 | F4: 2018 | G4: 2018
A5: 都道 | B5: 市町 | D5: 耕地面積 | E5: 田耕地面積 | G5: 畑耕地面積
A6: 府県 | B6: 村 | C6: 市町村名 | F6: 田本地面積
A7: ｺｰﾄﾞ | B7: ｺｰﾄﾞ
D8: ha | E8: ha | F8: ha | G8: ha
A9: 12 | B9: 100 | C9: 千葉市 | D9: 3600 | E9: 880 | F9: 842 | G9: 2720
A10: 12 | B10: 202 | C10: 銚子市 | D10: 2530 | E10: 541 | F10: 523 | G10: 1990
A11: 12 | B11: 203 | C11: 市川市 | D11: 531 | E11: 2 | F11: 2 | G11: 529
A12: 12 | B12: 204 | C12: 船橋市 | D12: 1210 | E12: 117 | F12: 112 | G12: 1100
A13: 12 | B13: 205 | C13: 館山市 | D13: 1780 | E13: 1120 | F13: 1050 | G13: 656
A14: 12 | B14: 206 | C14: 木更津市 | D14: 2530 | E14: 1980 | F14: 1860 | G14: 545
A15: 12 | B15: 207 | C15: 松戸市 | D15: 724 | E15: 59 | F15: 56 | G15: 665
A16: 12 | B16: 208 | C16: 野田市 | D16: 2630 | E16: 1360 | F16: 1300 | G16: 1270
A17: 12 | B17: 210 | C17: 茂原市 | D17: 3140 | E17: 2160 | F17: 2080 | G17: 987
A18: 12 | B18: 211 | C18: 成田市 | D18: 6570 | E18: 3850 | F18: 3690 | G18: 2720
A19: 12 | B19: 212 | C19: 佐倉市 | D19: 2890 | E19: 1730 | F19: 1660 | G19: 1160
A20: 12 | B20: 213 | C20: 東金市 | D20: 3400 | E20: 2320 | F20: 2240 | G20: 1080
... A29: 12 | B29: 223 | C29: 鴨川市 | D29: 2230 | E29: 1850 | F29: 1740 | G29: 381
A30: 12 | B30: 224 | C30: 鎌ケ谷市 | D30: 441 | E30: - | F30: - | G30: 441
A31: 12 | B31: 225 | C31: 君津市 | D31: 3220 | E31: 2440 | F31: 2290 | G31: 775
A32: 12 | B32: 226 | C32: 富津市 | D32: 2320 | E32: 1720 | F32: 1620 | G32: 603
A33: 12 | B33: 227 | C33: 浦安市 | D33: - | E33: - | F33: - | G33: -
A34: 12 | B34: 228 | C34: 四街道市 | D34: 662 | E34: 212 | F34: 203 | G34: 450
A35: 12 | B35: 229 | C35: 袖ケ浦市 | D35: 2530 | E35: 1580 | F35: 1490 | G35: 945
A36: 12 | B36: 230 | C36: 八街市 | D36: 3500 | E36: 162 | F36: 155 | G36: 3330
A37: 12 | B37: 231 | C37: 印西市 | D37: 4160 | E37: 3040 | F37: 2910 | G37: 1120
A38: 12 | B38: 232 | C38: 白井市 | D38: 1060 | E38: 285 | F38: 273 | G38: 773
A39: 12 | B39: 233 | C39: 富里市 | D39: 2480 | E39: 223 | F39: 213 | G39: 2260
A40: 12 | B40: 234 | C40: 南房総市 | D40: 3550 | E40: 2160 | F40: 2030 | G40: 1390
A41: 12 | B41: 235 | C41: 匝瑳市 | D41: 5180 | E41: 3230 | F41: 3120 | G41: 1950
A42: 12 | B42: 236 | C42: 香取市 | D42: 11200 | E42: 7780 | F42: 7520 | G42: 3460
A43: 12 | B43: 237 | C43: 山武市 | D43: 5770 | E43: 3040 | F43: 2940 | G43: 2730
A44: 12 | B44: 238 | C44: いすみ市 | D44: 3510 | E44: 2930 | F44: 2760 | G44: 577
A45: 12 | B45: 239 | C45: 大網白里市 | D45: 2430 | E45: 1630 | F45: 1580 | G45: 798
... A62: 12 | B62: 463 | C62: 鋸南町 | D62: 463 | E62: 225 | F62: 212 | G62: 238
C64: 計 | D64: 125200 | E64: 73800 | F64: 70700 | G64: 51400
A66: 利用上の注意
...

Sheet R1-19
A1: 農林水産関係市町村別統計
A2: 令和元年
A3: 耕地面積
A4: 千葉県 | D4: 2019 | E4: 2019 | F4: 2019 | G4: 2019
A5: 都道 | B5: 市町 | D5: 耕地面積 | E5: 田耕地面積 | G5: 畑耕地面積
A6: 府県 | B6: 村 | C6: 市町村名 | F6: 田本地面積
A7: ｺｰﾄﾞ | B7: ｺｰﾄﾞ
D8: ha | E8: ha | F8: ha | G8: ha
A9: 12 | B9: 100 | C9: 千葉市 | D9: 3580 | E9: 869 | F9: 832 | G9: 2710
A10: 12 | B10: 202 | C10: 銚子市 | D10: 2520 | E10: 538 | F10: 520 | G10: 1980
A11: 12 | B11: 203 | C11: 市川市 | D11: 530 | E11: 2 | F11: 2 | G11: 528
A12: 12 | B12: 204 | C12: 船橋市 | D12: 1200 | E12: 117 | F12: 112 | G12: 1080
A13: 12 | B13: 205 | C13: 館山市 | D13: 1760 | E13: 1120 | F13: 1050 | G13: 644
A14: 12 | B14: 206 | C14: 木更津市 | D14: 2510 | E14: 1970 | F14: 1850 | G14: 540
A15: 12 | B15: 207 | C15: 松戸市 | D15: 712 | E15: 57 | F15: 55 | G15: 655
A16: 12 | B16: 208 | C16: 野田市 | D16: 2610 | E16: 1350 | F16: 1290 | G16: 1260
A17: 12 | B17: 210 | C17: 茂原市 | D17: 3120 | E17: 2140 | F17: 2070 | G17: 979
A18: 12 | B18: 211 | C18: 成田市 | D18: 6560 | E18: 3850 | F18: 3690 | G18: 2700
A19: 12 | B19: 212 | C19: 佐倉市 | D19: 2860 | E19: 1720 | F19: 1650 | G19: 1140
A20: 12 | B20: 213 | C20: 東金市 | D20: 3390 | E20: 2310 | F20: 2240 | G20: 1080
... A29: 12 | B29: 223 | C29: 鴨川市 | D29: 2220 | E29: 1850 | F29: 1740 | G29: 379
A30: 12 | B30: 224 | C30: 鎌ケ谷市 | D30: 433 | E30: - | F30: - | G30: 433
A31: 12 | B31: 225 | C31: 君津市 | D31: 3200 | E31: 2430 | F31: 2280 | G31: 767
A32: 12 | B32: 226 | C32: 富津市 | D32: 2290 | E32: 1710 | F32: 1610 | G32: 586
A33: 12 | B33: 227 | C33: 浦安市 | D33: - | E33: - | F33: - | G33: -
A34: 12 | B34: 228 | C34: 四街道市 | D34: 654 | E34: 208 | F34: 199 | G34: 446
A35: 12 | B35: 229 | C35: 袖ケ浦市 | D35: 2510 | E35: 1570 | F35: 1480 | G35: 936
A36: 12 | B36: 230 | C36: 八街市 | D36: 3480 | E36: 158 | F36: 151 | G36: 3320
A37: 12 | B37: 231 | C37: 印西市 | D37: 4150 | E37: 3040 | F37: 2910 | G37: 1110
A38: 12 | B38: 232 | C38: 白井市 | D38: 1050 | E38: 280 | F38: 268 | G38: 771
A39: 12 | B39: 233 | C39: 富里市 | D39: 2470 | E39: 220 | F39: 211 | G39: 2250
A40: 12 | B40: 234 | C40: 南房総市 | D40: 3540 | E40: 2160 | F40: 2030 | G40: 1380
A41: 12 | B41: 235 | C41: 匝瑳市 | D41: 5170 | E41: 3220 | F41: 3120 | G41: 1950
A42: 12 | B42: 236 | C42: 香取市 | D42: 11200 | E42: 7770 | F42: 7510 | G42: 3450
A43: 12 | B43: 237 | C43: 山武市 | D43: 5760 | E43: 3030 | F43: 2930 | G43: 2720
A44: 12 | B44: 238 | C44: いすみ市 | D44: 3490 | E44: 2920 | F44: 2750 | G44: 570
A45: 12 | B45: 239 | C45: 大網白里市 | D45: 2420 | E45: 1630 | F45: 1580 | G45: 788
... A62: 12 | B62: 463 | C62: 鋸南町 | D62: 462 | E62: 224 | F62: 211 | G62: 238
C64: 計 | D64: 124600 | E64: 73500 | F64: 70400 | G64: 51000
A66: 利用上の注意
...

Sheet R2-20
A1: 農林水産関係市町村別統計
A2: 令和2年
A3: 耕地面積
A4: 千葉県 | D4: 2020 | E4: 2020 | F4: 2020 | G4: 2020
A5: 都道 | B5: 市町 | D5: 耕地面積 | E5: 田耕地面積 | G5: 畑耕地面積
A6: 府県 | B6: 村 | C6: 市町村名 | F6: 田本地面積
A7: ｺｰﾄﾞ | B7: ｺｰﾄﾞ
D8: ha | E8: ha | F8: ha | G8: ha
A9: 12 | B9: 100 | C9: 千葉市 | D9: 3570 | E9: 868 | F9: 831 | G9: 2700
A10: 12 | B10: 202 | C10: 銚子市 | D10: 2520 | E10: 537 | F10: 519 | G10: 1980
A11: 12 | B11: 203 | C11: 市川市 | D11: 521 | E11: 2 | F11: 2 | G11: 519
A12: 12 | B12: 204 | C12: 船橋市 | D12: 1180 | E12: 108 | F12: 103 | G12: 1070
A13: 12 | B13: 205 | C13: 館山市 | D13: 1710 | E13: 1090 | F13: 1030 | G13: 616
A14: 12 | B14: 206 | C14: 木更津市 | D14: 2460 | E14: 1920 | F14: 1810 | G14: 537
A15: 12 | B15: 207 | C15: 松戸市 | D15: 695 | E15: 49 | F15: 47 | G15: 646
A16: 12 | B16: 208 | C16: 野田市 | D16: 2600 | E16: 1350 | F16: 1290 | G16: 1250
A17: 12 | B17: 210 | C17: 茂原市 | D17: 3080 | E17: 2110 | F17: 2040 | G17: 969
A18: 12 | B18: 211 | C18: 成田市 | D18: 6520 | E18: 3840 | F18: 3680 | G18: 2680
A19: 12 | B19: 212 | C19: 佐倉市 | D19: 2840 | E19: 1720 | F19: 1650 | G19: 1120
A20: 12 | B20: 213 | C20: 東金市 | D20: 3370 | E20: 2300 | F20: 2220 | G20: 1070
... A29: 12 | B29: 223 | C29: 鴨川市 | D29: 2180 | E29: 1830 | F29: 1720 | G29: 353
A30: 12 | B30: 224 | C30: 鎌ケ谷市 | D30: 426 | E30: - | F30: - | G30: 426
A31: 12 | B31: 225 | C31: 君津市 | D31: 3180 | E31: 2420 | F31: 2270 | G31: 756
A32: 12 | B32: 226 | C32: 富津市 | D32: 2260 | E32: 1690 | F32: 1590 | G32: 569
A33: 12 | B33: 227 | C33: 浦安市 | D33: - | E33: - | F33: - | G33: -
A34: 12 | B34: 228 | C34: 四街道市 | D34: 645 | E34: 204 | F34: 195 | G34: 441
A35: 12 | B35: 229 | C35: 袖ケ浦市 | D35: 2470 | E35: 1550 | F35: 1460 | G35: 923
A36: 12 | B36: 230 | C36: 八街市 | D36: 3440 | E36: 151 | F36: 145 | G36: 3290
A37: 12 | B37: 231 | C37: 印西市 | D37: 4140 | E37: 3040 | F37: 2910 | G37: 1100
A38: 12 | B38: 232 | C38: 白井市 | D38: 1040 | E38: 273 | F38: 261 | G38: 769
A39: 12 | B39: 233 | C39: 富里市 | D39: 2450 | E39: 215 | F39: 206 | G39: 2240
A40: 12 | B40: 234 | C40: 南房総市 | D40: 3470 | E40: 2120 | F40: 1990 | G40: 1360
A41: 12 | B41: 235 | C41: 匝瑳市 | D41: 5160 | E41: 3220 | F41: 3110 | G41: 1940
A42: 12 | B42: 236 | C42: 香取市 | D42: 11200 | E42: 7740 | F42: 7480 | G42: 3430
A43: 12 | B43: 237 | C43: 山武市 | D43: 5730 | E43: 3020 | F43: 2920 | G43: 2710
A44: 12 | B44: 238 | C44: いすみ市 | D44: 3460 | E44: 2900 | F44: 2730 | G44: 556
A45: 12 | B45: 239 | C45: 大網白里市 | D45: 2410 | E45: 1630 | F45: 1580 | G45: 783
... A62: 12 | B62: 463 | C62: 鋸南町 | D62: 458 | E62: 222 | F62: 209 | G62: 236
C64: 計 | D64: 123500 | E64: 73000 | F64: 69900 | G64: 50500
A66: 利用上の注意
...

Sheet R3-21
A1: 農林水産関係市町村別統計
A2: 令和3年
A3: 耕地面積
A4: 千葉県 | D4: 2021 | E4: 2021 | F4: 2021 | G4: 2021
A5: 都道 | B5: 市町 | C5: 市町村名 | D5: 耕地面積 | E5: 田耕地面積 | G5: 畑耕地面積
A6: 府県 | B6: 村 | F6: 田本地面積
A7: ｺｰﾄﾞ | B7: ｺｰﾄﾞ
D8: ha | E8: ha | F8: ha | G8: ha
A9: 12 | B9: 100 | C9: 千葉市 | D9: 3540 | E9: 859 | F9: 822 | G9: 2680
A10: 12 | B10: 202 | C10: 銚子市 | D10: 2510 | E10: 536 | F10: 518 | G10: 1980
A11: 12 | B11: 203 | C11: 市川市 | D11: 518 | E11: 2 | F11: 2 | G11: 516
A12: 12 | B12: 204 | C12: 船橋市 | D12: 1170 | E12: 105 | F12: 101 | G12: 1060
A13: 12 | B13: 205 | C13: 館山市 | D13: 1690 | E13: 1090 | F13: 1020 | G13: 600
A14: 12 | B14: 206 | C14: 木更津市 | D14: 2430 | E14: 1890 | F14: 1780 | G14: 534
A15: 12 | B15: 207 | C15: 松戸市 | D15: 691 | E15: 49 | F15: 47 | G15: 642
A16: 12 | B16: 208 | C16: 野田市 | D16: 2590 | E16: 1350 | F16: 1290 | G16: 1240
A17: 12 | B17: 210 | C17: 茂原市 | D17: 3050 | E17: 2100 | F17: 2030 | G17: 949
A18: 12 | B18: 211 | C18: 成田市 | D18: 6470 | E18: 3840 | F18: 3670 | G18: 2630
A19: 12 | B19: 212 | C19: 佐倉市 | D19: 2820 | E19: 1710 | F19: 1640 | G19: 1110
A20: 12 | B20: 213 | C20: 東金市 | D20: 3360 | E20: 2290 | F20: 2220 | G20: 1070
... A29: 12 | B29: 223 | C29: 鴨川市 | D29: 2160 | E29: 1820 | F29: 1710 | G29: 347
A30: 12 | B30: 224 | C30: 鎌ケ谷市 | D30: 425 | E30: - | F30: - | G30: 425
A31: 12 | B31: 225 | C31: 君津市 | D31: 3130 | E31: 2390 | F31: 2250 | G31: 744
A32: 12 | B32: 226 | C32: 富津市 | D32: 2230 | E32: 1680 | F32: 1580 | G32: 552
A33: 12 | B33: 227 | C33: 浦安市 | D33: - | E33: - | F33: - | G33: -
A34: 12 | B34: 228 | C34: 四街道市 | D34: 641 | E34: 204 | F34: 195 | G34: 437
A35: 12 | B35: 229 | C35: 袖ケ浦市 | D35: 2450 | E35: 1540 | F35: 1450 | G35: 915
A36: 12 | B36: 230 | C36: 八街市 | D36: 3420 | E36: 148 | F36: 142 | G36: 3270
A37: 12 | B37: 231 | C37: 印西市 | D37: 4130 | E37: 3040 | F37: 2910 | G37: 1090
A38: 12 | B38: 232 | C38: 白井市 | D38: 1040 | E38: 271 | F38: 259 | G38: 769
A39: 12 | B39: 233 | C39: 富里市 | D39: 2450 | E39: 211 | F39: 202 | G39: 2230
A40: 12 | B40: 234 | C40: 南房総市 | D40: 3440 | E40: 2100 | F40: 1980 | G40: 1340
A41: 12 | B41: 235 | C41: 匝瑳市 | D41: 5140 | E41: 3210 | F41: 3100 | G41: 1930
A42: 12 | B42: 236 | C42: 香取市 | D42: 11100 | E42: 7730 | F42: 7470 | G42: 3400
A43: 12 | B43: 237 | C43: 山武市 | D43: 5700 | E43: 3000 | F43: 2900 | G43: 2700
A44: 12 | B44: 238 | C44: いすみ市 | D44: 3440 | E44: 2890 | F44: 2720 | G44: 547
A45: 12 | B45: 239 | C45: 大網白里市 | D45: 2400 | E45: 1630 | F45: 1570 | G45: 773
... A62: 12 | B62: 463 | C62: 鋸南町 | D62: 454 | E62: 219 | F62: 206 | G62: 235
C64: 計 | D64: 122700 | E64: 72700 | F64: 69600 | G64: 50100
A66: 利用上の注意
...

Sheet R4-22
A1: 農林水産関係市町村別統計
A2: 令和4年
A3: 耕地面積
A4: 千葉県 | D4: 2022 | E4: 2022 | F4: 2022 | G4: 2022
A5: 都道 | B5: 市町 | C5: 市町村名 | D5: 耕地面積 | E5: 田耕地面積 | G5: 畑耕地面積
A6: 府県 | B6: 村 | F6: 田本地面積
A7: ｺｰﾄﾞ | B7: ｺｰﾄﾞ
D8: ha | E8: ha | F8: ha | G8: ha
A9: 12 | B9: 100 | C9: 千葉市 | D9: 3530 | E9: 856 | F9: 819 | G9: 2670
A10: 12 | B10: 202 | C10: 銚子市 | D10: 2520 | E10: 534 | F10: 516 | G10: 1990
A11: 12 | B11: 203 | C11: 市川市 | D11: 510 | E11: 2 | F11: 2 | G11: 508
A12: 12 | B12: 204 | C12: 船橋市 | D12: 1150 | E12: 103 | F12: 99 | G12: 1050
A13: 12 | B13: 205 | C13: 館山市 | D13: 1600 | E13: 1070 | F13: 1010 | G13: 530
A14: 12 | B14: 206 | C14: 木更津市 | D14: 2330 | E14: 1850 | F14: 1740 | G14: 488
A15: 12 | B15: 207 | C15: 松戸市 | D15: 671 | E15: 49 | F15: 47 | G15: 622
A16: 12 | B16: 208 | C16: 野田市 | D16: 2580 | E16: 1350 | F16: 1290 | G16: 1240
A17: 12 | B17: 210 | C17: 茂原市 | D17: 3010 | E17: 2080 | F17: 2010 | G17: 927
A18: 12 | B18: 211 | C18: 成田市 | D18: 6420 | E18: 3830 | F18: 3670 | G18: 2590
A19: 12 | B19: 212 | C19: 佐倉市 | D19: 2780 | E19: 1700 | F19: 1630 | G19: 1080
A20: 12 | B20: 213 | C20: 東金市 | D20: 3340 | E20: 2280 | F20: 2200 | G20: 1060
... A29: 12 | B29: 223 | C29: 鴨川市 | D29: 2130 | E29: 1790 | F29: 1680 | G29: 342
A30: 12 | B30: 224 | C30: 鎌ケ谷市 | D30: 415 | E30: - | F30: - | G30: 415
A31: 12 | B31: 225 | C31: 君津市 | D31: 3080 | E31: 2340 | F31: 2200 | G31: 732
A32: 12 | B32: 226 | C32: 富津市 | D32: 2140 | E32: 1610 | F32: 1510 | G32: 527
A33: 12 | B33: 227 | C33: 浦安市 | D33: - | E33: - | F33: - | G33: -
A34: 12 | B34: 228 | C34: 四街道市 | D34: 637 | E34: 203 | F34: 194 | G34: 434
A35: 12 | B35: 229 | C35: 袖ケ浦市 | D35: 2430 | E35: 1520 | F35: 1430 | G35: 904
A36: 12 | B36: 230 | C36: 八街市 | D36: 3370 | E36: 146 | F36: 140 | G36: 3220
A37: 12 | B37: 231 | C37: 印西市 | D37: 4130 | E37: 3040 | F37: 2910 | G37: 1090
A38: 12 | B38: 232 | C38: 白井市 | D38: 1040 | E38: 270 | F38: 258 | G38: 766
A39: 12 | B39: 233 | C39: 富里市 | D39: 2430 | E39: 210 | F39: 201 | G39: 2220
A40: 12 | B40: 234 | C40: 南房総市 | D40: 3350 | E40: 2020 | F40: 1900 | G40: 1330
A41: 12 | B41: 235 | C41: 匝瑳市 | D41: 5070 | E41: 3200 | F41: 3090 | G41: 1880
A42: 12 | B42: 236 | C42: 香取市 | D42: 11100 | E42: 7720 | F42: 7460 | G42: 3390
A43: 12 | B43: 237 | C43: 山武市 | D43: 5640 | E43: 2980 | F43: 2880 | G43: 2660
A44: 12 | B44: 238 | C44: いすみ市 | D44: 3370 | E44: 2840 | F44: 2680 | G44: 526
A45: 12 | B45: 239 | C45: 大網白里市 | D45: 2380 | E45: 1630 | F45: 1570 | G45: 753
... A62: 12 | B62: 463 | C62: 鋸南町 | D62: 439 | E62: 214 | F62: 201 | G62: 225
C64: 計 | D64: 121500 | E64: 72100 | F64: 69000 | G64: 49400
A66: 利用上の注意
...

Sheet R5-23
A1: 農林水産関係市町村別統計
A2: 令和5年
A3: 耕地面積
A4: 千葉県
A5: 都道府県ｺｰﾄﾞ | B5: 市町村 ｺｰﾄﾞ | C5: 市町村名 | D5: 耕地面積 | E5: 田耕地面積 | G5: 畑耕地面積
F6: 田本地面積
D8: ha | E8: ha | F8: ha | G8: ha
A9: 12 | B9: 100 | C9: 千葉市 | D9: 3530 | E9: 856 | F9: 819 | G9: 2670
A10: 12 | B10: 202 | C10: 銚子市 | D10: 2530 | E10: 532 | F10: 514 | G10: 2000
A11: 12 | B11: 203 | C11: 市川市 | D11: 498 | E11: 2 | F11: 2 | G11: 496
A12: 12 | B12: 204 | C12: 船橋市 | D12: 1130 | E12: 103 | F12: 99 | G12: 1020
A13: 12 | B13: 205 | C13: 館山市 | D13: 1540 | E13: 1050 | F13: 989 | G13: 492
A14: 12 | B14: 206 | C14: 木更津市 | D14: 2290 | E14: 1820 | F14: 1720 | G14: 462
A15: 12 | B15: 207 | C15: 松戸市 | D15: 644 | E15: 49 | F15: 47 | G15: 595
A16: 12 | B16: 208 | C16: 野田市 | D16: 2590 | E16: 1350 | F16: 1290 | G16: 1240
A17: 12 | B17: 210 | C17: 茂原市 | D17: 2970 | E17: 2050 | F17: 1990 | G17: 920
A18: 12 | B18: 211 | C18: 成田市 | D18: 6420 | E18: 3830 | F18: 3670 | G18: 2590
A19: 12 | B19: 212 | C19: 佐倉市 | D19: 2740 | E19: 1690 | F19: 1620 | G19: 1050
A20: 12 | B20: 213 | C20: 東金市 | D20: 3310 | E20: 2250 | F20: 2180 | G20: 1060
... A29: 12 | B29: 223 | C29: 鴨川市 | D29: 2080 | E29: 1750 | F29: 1640 | G29: 338
A30: 12 | B30: 224 | C30: 鎌ケ谷市 | D30: 403 | E30: - | F30: - | G30: 403
A31: 12 | B31: 225 | C31: 君津市 | D31: 3010 | E31: 2300 | F31: 2160 | G31: 712
A32: 12 | B32: 226 | C32: 富津市 | D32: 2050 | E32: 1540 | F32: 1450 | G32: 508
A33: 12 | B33: 227 | C33: 浦安市 | D33: - | E33: - | F33: - | G33: -
A34: 12 | B34: 228 | C34: 四街道市 | D34: 626 | E34: 201 | F34: 192 | G34: 425
A35: 12 | B35: 229 | C35: 袖ケ浦市 | D35: 2400 | E35: 1510 | F35: 1420 | G35: 886
A36: 12 | B36: 230 | C36: 八街市 | D36: 3290 | E36: 142 | F36: 136 | G36: 3150
A37: 12 | B37: 231 | C37: 印西市 | D37: 4110 | E37: 3040 | F37: 2910 | G37: 1070
A38: 12 | B38: 232 | C38: 白井市 | D38: 1030 | E38: 266 | F38: 255 | G38: 761
A39: 12 | B39: 233 | C39: 富里市 | D39: 2400 | E39: 207 | F39: 198 | G39: 2190
A40: 12 | B40: 234 | C40: 南房総市 | D40: 3260 | E40: 1950 | F40: 1840 | G40: 1310
A41: 12 | B41: 235 | C41: 匝瑳市 | D41: 5030 | E41: 3200 | F41: 3090 | G41: 1830
A42: 12 | B42: 236 | C42: 香取市 | D42: 11100 | E42: 7710 | F42: 7460 | G42: 3380
A43: 12 | B43: 237 | C43: 山武市 | D43: 5580 | E43: 2950 | F43: 2850 | G43: 2630
A44: 12 | B44: 238 | C44: いすみ市 | D44: 3320 | E44: 2810 | F44: 2640 | G44: 510
A45: 12 | B45: 239 | C45: 大網白里市 | D45: 2340 | E45: 1620 | F45: 1570 | G45: 718
... A62: 12 | B62: 463 | C62: 鋸南町 | D62: 428 | E62: 209 | F62: 197 | G62: 219
C64: 計 | D64: 120300 | E64: 71500 | F64: 68500 | G64: 48800
A66: 利用上の注意
A67: １ この市町村別統計は、「作物統計調査」を実施する上で把握した地域における標本調査及び現地見積りの結果、関係機関
...

Sheet R6-24
A1: 農林水産関係市町村別統計
A2: 令和6年
A3: 耕地面積
A4: 千葉県
A5: 都道府県ｺｰﾄﾞ | B5: 市町村 ｺｰﾄﾞ | C5: 市町村名 | D5: 耕地面積 | E5: 田耕地面積 | G5: 畑耕地面積
F6: 田本地面積
D8: ha | E8: ha | F8: ha | G8: ha
A9: 12 | B9: 100 | C9: 千葉市 | D9: 3540 | E9: 858 | F9: 821 | G9: 2680
A10: 12 | B10: 202 | C10: 銚子市 | D10: 2540 | E10: 530 | F10: 512 | G10: 2010
A11: 12 | B11: 203 | C11: 市川市 | D11: 495 | E11: 2 | F11: 2 | G11: 493
A12: 12 | B12: 204 | C12: 船橋市 | D12: 1120 | E12: 102 | F12: 98 | G12: 1020
A13: 12 | B13: 205 | C13: 館山市 | D13: 1520 | E13: 1020 | F13: 963 | G13: 498
A14: 12 | B14: 206 | C14: 木更津市 | D14: 2250 | E14: 1790 | F14: 1680 | G14: 465
A15: 12 | B15: 207 | C15: 松戸市 | D15: 642 | E15: 49 | F15: 47 | G15: 593
A16: 12 | B16: 208 | C16: 野田市 | D16: 2590 | E16: 1350 | F16: 1290 | G16: 1240
A17: 12 | B17: 210 | C17: 茂原市 | D17: 2930 | E17: 2020 | F17: 1960 | G17: 912
A18: 12 | B18: 211 | C18: 成田市 | D18: 6420 | E18: 3830 | F18: 3670 | G18: 2590
A19: 12 | B19: 212 | C19: 佐倉市 | D19: 2730 | E19: 1690 | F19: 1620 | G19: 1040
A20: 12 | B20: 213 | C20: 東金市 | D20: 3280 | E20: 2220 | F20: 2150 | G20: 1060
... A29: 12 | B29: 223 | C29: 鴨川市 | D29: 2040 | E29: 1700 | F29: 1600 | G29: 338
A30: 12 | B30: 224 | C30: 鎌ケ谷市 | D30: 401 | E30: - | F30: - | G30: 401
A31: 12 | B31: 225 | C31: 君津市 | D31: 2970 | E31: 2250 | F31: 2120 | G31: 717
A32: 12 | B32: 226 | C32: 富津市 | D32: 2000 | E32: 1480 | F32: 1390 | G32: 524
A33: 12 | B33: 227 | C33: 浦安市 | D33: - | E33: - | F33: - | G33: -
A34: 12 | B34: 228 | C34: 四街道市 | D34: 620 | E34: 198 | F34: 190 | G34: 422
A35: 12 | B35: 229 | C35: 袖ケ浦市 | D35: 2370 | E35: 1480 | F35: 1390 | G35: 893
A36: 12 | B36: 230 | C36: 八街市 | D36: 3220 | E36: 137 | F36: 131 | G36: 3080
A37: 12 | B37: 231 | C37: 印西市 | D37: 4110 | E37: 3040 | F37: 2910 | G37: 1070
A38: 12 | B38: 232 | C38: 白井市 | D38: 1020 | E38: 259 | F38: 248 | G38: 761
A39: 12 | B39: 233 | C39: 富里市 | D39: 2380 | E39: 203 | F39: 194 | G39: 2180
A40: 12 | B40: 234 | C40: 南房総市 | D40: 3180 | E40: 1900 | F40: 1780 | G40: 1290
A41: 12 | B41: 235 | C41: 匝瑳市 | D41: 4980 | E41: 3190 | F41: 3090 | G41: 1790
A42: 12 | B42: 236 | C42: 香取市 | D42: 11100 | E42: 7710 | F42: 7450 | G42: 3370
A43: 12 | B43: 237 | C43: 山武市 | D43: 5530 | E43: 2910 | F43: 2820 | G43: 2620
A44: 12 | B44: 238 | C44: いすみ市 | D44: 3280 | E44: 2760 | F44: 2600 | G44: 515
A45: 12 | B45: 239 | C45: 大網白里市 | D45: 2310 | E45: 1620 | F45: 1570 | G45: 688
... A62: 12 | B62: 463 | C62: 鋸南町 | D62: 428 | E62: 204 | F62: 192 | G62: 224
C64: 計 | D64: 119500 | E64: 70900 | F64: 67900 | G64: 48700
A66: 利用上の注意
A67: １ この市町村別統計は、「作物統計調査」を実施する上で把握した地域における標本調査結果及び現地見積りの結果、関係機関
...

Sheet 2010-24all
A1: 農林水産関係市町村別統計
A2: 令和6年
A3: 耕地面積
A4: 千葉県 | C4: 年 | D4: 2010 | E4: 2010 | F4: 2010 | G4: 2010 | H4: 2011 | I4: 2011 | J4: 2011 | K4: 2011 | L4: 2012 | M4: 2012 | N4: 2012 | O4: 2012 | P4: 2013 | Q4: 2013 | R4: 2013 | S4: 2013 | T4: 2014 | U4: 2014 | V4: 2014 | W4: 2014 | X4: 2015 | Y4: 2015 | Z4: 2015 | AA4: 2015 | AB4: 2016 | AC4: 2016 | AD4: 2016 | AE4: 2016 | AF4: 2017 | AG4: 2017 | AH4: 2017 | AI4: 2017 | AJ4: 2018 | AK4: 2018 | AL4: 2018 | AM4: 2018 | AN4: 2019 | AO4: 2019 | AP4: 2019 | AQ4: 2019 | AR4: 2020 | AS4: 2020 | AT4: 2020 | AU4: 2020 | AV4: 2021 | AW4: 2021 | AX4: 2021 | AY4: 2021 | AZ4: 2022 | BA4: 2022 | BB4: 2022 | BC4: 2022 | BD4: 2023 | BE4: 2023 | BF4: 2023 | BG4: 2023 | BH4: 2024 | BI4: 2024 | BJ4: 2024 | BK4: 2024
A5: 都道府県ｺｰﾄﾞ | B5: 市町村 ｺｰﾄﾞ | C5: 市町村名 | D5: 耕地面積 | E5: 田耕地面積 | F5: 田本地面積 | G5: 畑耕地面積 | H5: 耕地面積 | I5: 田耕地面積 | J5: 田本地面積 | K5: 畑耕地面積 | L5: 耕地面積 | M5: 田耕地面積 | N5: 田本地面積 | O5: 畑耕地面積 | P5: 耕地面積 | Q5: 田耕地面積 | R5: 田本地面積 | S5: 畑耕地面積 | T5: 耕地面積 | U5: 田耕地面積 | V5: 田本地面積 | W5: 畑耕地面積 | X5: 耕地面積 | Y5: 田耕地面積 | Z5: 田本地面積 | AA5: 畑耕地面積 | AB5: 耕地面積 | AC5: 田耕地面積 | AD5: 田本地面積 | AE5: 畑耕地面積 | AF5: 耕地面積 | AG5: 田耕地面積 | AH5: 田本地面積 | AI5: 畑耕地面積 | AJ5: 耕地面積 | AK5: 田耕地面積 | AL5: 田本地面積 | AM5: 畑耕地面積 | AN5: 耕地面積 | AO5: 田耕地面積 | AP5: 田本地面積 | AQ5: 畑耕地面積 | AR5: 耕地面積 | AS5: 田耕地面積 | AT5: 田本地面積 | AU5: 畑耕地面積 | AV5: 耕地面積 | AW5: 田耕地面積 | AX5: 田本地面積 | AY5: 畑耕地面積 | AZ5: 耕地面積 | BA5: 田耕地面積 | BB5: 田本地面積 | BC5: 畑耕地面積 | BD5: 耕地面積 | BE5: 田耕地面積 | BF5: 田本地面積 | BG5: 畑耕地面積 | BH5: 耕地面積 | BI5: 田耕地面積 | BJ5: 田本地面積 | BK5: 畑耕地面積
A6: 12 | B6: 100 | C6: 千葉市 | D6: 3910 | E6: 941 | F6: 891 | G6: 2970 | H6: 3860 | I6: 926 | J6: 877 | K6: 2940 | L6: 3830 | M6: 920 | N6: 871 | O6: 2910 | P6: 3790 | Q6: 912 | R6: 864 | S6: 2880 | T6: 3750 | U6: 905 | V6: 866 | W6: 2840 | X6: 3710 | Y6: 899 | Z6: 860 | AA6: 2810 | AB6: 3670 | AC6: 893 | AD6: 855 | AE6: 2770 | AF6: 3610 | AG6: 885 | AH6: 847 | AI6: 2730 | AJ6: 3600 | AK6: 880 | AL6: 842 | AM6: 2720 | AN6: 3580 | AO6: 869 | AP6: 832 | AQ6: 2710 | AR6: 3570 | AS6: 868 | AT6: 831 | AU6: 2700 | AV6: 3540 | AW6: 859 | AX6: 822 | AY6: 2680 | AZ6: 3530 | BA6: 856 | BB6: 819 | BC6: 2670 | BD6: 3530 | BE6: 856 | BF6: 819 | BG6: 2670 | BH6: 3540 | BI6: 858 | BJ6: 821 | BK6: 2680
A7: 12 | B7: 202 | C7: 銚子市 | D7: 2580 | E7: 553 | F7: 535 | G7: 2030 | H7: 2570 | I7: 551 | J7: 533 | K7: 2020 | L7: 2560 | M7: 548 | N7: 530 | O7: 2010 | P7: 2550 | Q7: 546 | R7: 528 | S7: 2000 | T7: 2540 | U7: 545 | V7: 527 | W7: 2000 | X7: 2540 | Y7: 544 | Z7: 526 | AA7: 2000 | AB7: 2540 | AC7: 544 | AD7: 525 | AE7: 1990 | AF7: 2530 | AG7: 543 | AH7: 525 | AI7: 1990 | AJ7: 2530 | AK7: 541 | AL7: 523 | AM7: 1990 | AN7: 2520 | AO7: 538 | AP7: 520 | AQ7: 1980 | AR7: 2520 | AS7: 537 | AT7: 519 | AU7: 1980 | AV7: 2510 | AW7: 536 | AX7: 518 | AY7: 1980 | AZ7: 2520 | BA7: 534 | BB7: 516 | BC7: 1990 | BD7: 2530 | BE7: 532 | BF7: 514 | BG7: 2000 | BH7: 2540 | BI7: 530 | BJ7: 512 | BK7: 2010
A8: 12 | B8: 203 | C8: 市川市 | D8: 554 | E8: 3 | F8: 3 | G8: 551 | H8: 550 | I8: 3 | J8: 3 | K8: 547 | L8: 546 | M8: 2 | N8: 2 | O8: 544 | P8: 543 | Q8: 2 | R8: 2 | S8: 541 | T8: 541 | U8: 2 | V8: 2 | W8: 539 | X8: 537 | Y8: 2 | Z8: 2 | AA8: 535 | AB8: 535 | AC8: 2 | AD8: 2 | AE8: 533 | AF8: 532 | AG8: 2 | AH8: 2 | AI8: 530 | AJ8: 531 | AK8: 2 | AL8: 2 | AM8: 529 | AN8: 530 | AO8: 2 | AP8: 2 | AQ8: 528 | AR8: 521 | AS8: 2 | AT8: 2 | AU8: 519 | AV8: 518 | AW8: 2 | AX8: 2 | AY8: 516 | AZ8: 510 | BA8: 2 | BB8: 2 | BC8: 508 | BD8: 498 | BE8: 2 | BF8: 2 | BG8: 496 | BH8: 495 | BI8: 2 | BJ8: 2 | BK8: 493
A9: 12 | B9: 204 | C9: 船橋市 | D9: 1280 | E9: 130 | F9: 125 | G9: 1150 | H9: 1280 | I9: 130 | J9: 125 | K9: 1150 | L9: 1270 | M9: 129 | N9: 124 | O9: 1140 | P9: 1260 | Q9: 127 | R9: 122 | S9: 1130 | T9: 1250 | U9: 125 | V9: 120 | W9: 1130 | X9: 1250 | Y9: 123 | Z9: 118 | AA9: 1120 | AB9: 1240 | AC9: 122 | AD9: 117 | AE9: 1120 | AF9: 1230 | AG9: 119 | AH9: 114 | AI9: 1110 | AJ9: 1210 | AK9: 117 | AL9: 112 | AM9: 1100 | AN9: 1200 | AO9: 117 | AP9: 112 | AQ9: 1080 | AR9: 1180 | AS9: 108 | AT9: 103 | AU9: 1070 | AV9: 1170 | AW9: 105 | AX9: 101 | AY9: 1060 | AZ9: 1150 | BA9: 103 | BB9: 99 | BC9: 1050 | BD9: 1130 | BE9: 103 | BF9: 99 | BG9: 1020 | BH9: 1120 | BI9: 102 | BJ9: 98 | BK9: 1020
A10: 12 | B10: 205 | C10: 館山市 | D10: 1820 | E10: 1150 | F10: 1080 | G10: 677 | H10: 1820 | I10: 1140 | J10: 1070 | K10: 675 | L10: 1810 | M10: 1140 | N10: 1070 | O10: 673 | P10: 1810 | Q10: 1140 | R10: 1070 | S10: 672 | T10: 1810 | U10: 1140 | V10: 1070 | W10: 670 | X10: 1800 | Y10: 1130 | Z10: 1060 | AA10: 666 | AB10: 1790 | AC10: 1130 | AD10: 1060 | AE10: 663 | AF10: 1780 | AG10: 1120 | AH10: 1060 | AI10: 659 | AJ10: 1780 | AK10: 1120 | AL10: 1050 | AM10: 656 | AN10: 1760 | AO10: 1120 | AP10: 1050 | AQ10: 644 | AR10: 1710 | AS10: 1090 | AT10: 1030 | AU10: 616 | AV10: 1690 | AW10: 1090 | AX10: 1020 | AY10: 600 | AZ10: 1600 | BA10: 1070 | BB10: 1010 | BC10: 530 | BD10: 1540 | BE10: 1050 | BF10: 989 | BG10: 492 | BH10: 1520 | BI10: 1020 | BJ10: 963 | BK10: 498
A11: 12 | B11: 206 | C11: 木更津市 | D11: 2610 | E11: 2030 | F11: 1910 | G11: 579 | H11: 2600 | I11: 2030 | J11: 1900 | K11: 573 | L11: 2590 | M11: 2030 | N11: 1900 | O11: 568 | P11: 2580 | Q11: 2020 | R11: 1890 | S11: 561 | T11: 2560 | U11: 2000 | V11: 1880 | W11: 553 | X11: 2550 | Y11: 2000 | Z11: 1880 | AA11: 552 | AB11: 2540 | AC11: 1990 | AD11: 1870 | AE11: 548 | AF11: 2530 | AG11: 1990 | AH11: 1870 | AI11: 546 | AJ11: 2530 | AK11: 1980 | AL11: 1860 | AM11: 545 | AN11: 2510 | AO11: 1970 | AP11: 1850 | AQ11: 540 | AR11: 2460 | AS11: 1920 | AT11: 1810 | AU11: 537 | AV11: 2430 | AW11: 1890 | AX11: 1780 | AY11: 534 | AZ11: 2330 | BA11: 1850 | BB11: 1740 | BC11: 488 | BD11: 2290 | BE11: 1820 | BF11: 1720 | BG11: 462 | BH11: 2250 | BI11: 1790 | BJ11: 1680 | BK11: 465
A12: 12 | B12: 207 | C12: 松戸市 | D12: 776 | E12: 67 | F12: 65 | G12: 709 | H12: 771 | I12: 67 | J12: 65 | K12: 704 | L12: 768 | M12: 66 | N12: 64 | O12: 702 | P12: 766 | Q12: 66 | R12: 64 | S12: 700 | T12: 757 | U12: 65 | V12: 62 | W12: 692 | X12: 749 | Y12: 63 | Z12: 60 | AA12: 686 | AB12: 742 | AC12: 59 | AD12: 56 | AE12: 683 | AF12: 740 | AG12: 59 | AH12: 56 | AI12: 681 | AJ12: 724 | AK12: 59 | AL12: 56 | AM12: 665 | AN12: 712 | AO12: 57 | AP12: 55 | AQ12: 655 | AR12: 695 | AS12: 49 | AT12: 47 | AU12: 646 | AV12: 691 | AW12: 49 | AX12: 47 | AY12: 642 | AZ12: 671 | BA12: 49 | BB12: 47 | BC12: 622 | BD12: 644 | BE12: 49 | BF12: 47 | BG12: 595 | BH12: 642 | BI12: 49 | BJ12: 47 | BK12: 593
A13: 12 | B13: 208 | C13: 野田市 | D13: 2710 | E13: 1390 | F13: 1340 | G13: 1320 | H13: 2710 | I13: 1390 | J13: 1340 | K13: 1320 | L13: 2710 | M13: 1390 | N13: 1340 | O13: 1320 | P13: 2700 | Q13: 1390 | R13: 1340 | S13: 1310 | T13: 2690 | U13: 1380 | V13: 1320 | W13: 1300 | X13: 2670 | Y13: 1380 | Z13: 1320 | AA13: 1290 | AB13: 2650 | AC13: 1370 | AD13: 1310 | AE13: 1280 | AF13: 2640 | AG13: 1370 | AH13: 1310 | AI13: 1270 | AJ13: 2630 | AK13: 1360 | AL13: 1300 | AM13: 1270 | AN13: 2610 | AO13: 1350 | AP13: 1290 | AQ13: 1260 | AR13: 2600 | AS13: 1350 | AT13: 1290 | AU13: 1250 | AV13: 2590 | AW13: 1350 | AX13: 1290 | AY13: 1240 | AZ13: 2580 | BA13: 1350 | BB13: 1290 | BC13: 1240 | BD13: 2590 | BE13: 1350 | BF13: 1290 | BG13: 1240 | BH13: 2590 | BI13: 1350 | BJ13: 1290 | BK13: 1240
A14: 12 | B14: 210 | C14: 茂原市 | D14: 3240 | E14: 2210 | F14: 2140 | G14: 1030 | H14: 3230 | I14: 2210 | J14: 2140 | K14: 1030 | L14: 3220 | M14: 2200 | N14: 2130 | O14: 1020 | P14: 3220 | Q14: 2200 | R14: 2130 | S14: 1020 | T14: 3210 | U14: 2200 | V14: 2130 | W14: 1010 | X14: 3190 | Y14: 2190 | Z14: 2120 | AA14: 1000 | AB14: 3170 | AC14: 2180 | AD14: 2110 | AE14: 997 | AF14: 3160 | AG14: 2160 | AH14: 2090 | AI14: 991 | AJ14: 3140 | AK14: 2160 | AL14: 2080 | AM14: 987 | AN14: 3120 | AO14: 2140 | AP14: 2070 | AQ14: 979 | AR14: 3080 | AS14: 2110 | AT14: 2040 | AU14: 969 | AV14: 3050 | AW14: 2100 | AX14: 2030 | AY14: 949 | AZ14: 3010 | BA14: 2080 | BB14: 2010 | BC14: 927 | BD14: 2970 | BE14: 2050 | BF14: 1990 | BG14: 920 | BH14: 2930 | BI14: 2020 | BJ14: 1960 | BK14: 912
A15: 12 | B15: 211 | C15: 成田市 | D15: 6690 | E15: 3890 | F15: 3720 | G15: 2810 | H15: 6680 | I15: 3890 | J15: 3720 | K15: 2800 | L15: 6670 | M15: 3880 | N15: 3720 | O15: 2790 | P15: 6660 | Q15: 3880 | R15: 3710 | S15: 2780 | T15: 6650 | U15: 3870 | V15: 3700 | W15: 2770 | X15: 6620 | Y15: 3860 | Z15: 3700 | AA15: 2760 | AB15: 6610 | AC15: 3860 | AD15: 3700 | AE15: 2750 | AF15: 6590 | AG15: 3860 | AH15: 3690 | AI15: 2740 | AJ15: 6570 | AK15: 3850 | AL15: 3690 | AM15: 2720 | AN15: 6560 | AO15: 3850 | AP15: 3690 | AQ15: 2700 | AR15: 6520 | AS15: 3840 | AT15: 3680 | AU15: 2680 | AV15: 6470 | AW15: 3840 | AX15: 3670 | AY15: 2630 | AZ15: 6420 | BA15: 3830 | BB15: 3670 | BC15: 2590 | BD15: 6420 | BE15: 3830 | BF15: 3670 | BG15: 2590 | BH15: 6420 | BI15: 3830 | BJ15: 3670 | BK15: 2590
A16: 12 | B16: 212 | C16: 佐倉市 | D16: 2970 | E16: 1760 | F16: 1690 | G16: 1210 | H16: 2970 | I16: 1760 | J16: 1690 | K16: 1200 | L16: 2960 | M16: 1760 | N16: 1690 | O16: 1200 | P16: 2950 | Q16: 1760 | R16: 1680 | S16: 1200 | T16: 2950 | U16: 1760 | V16: 1680 | W16: 1190 | X16: 2950 | Y16: 1760 | Z16: 1680 | AA16: 1190 | AB16: 2930 | AC16: 1750 | AD16: 1680 | AE16: 1180 | AF16: 2920 | AG16: 1740 | AH16: 1670 | AI16: 1170 | AJ16: 2890 | AK16: 1730 | AL16: 1660 | AM16: 1160 | AN16: 2860 | AO16: 1720 | AP16: 1650 | AQ16: 1140 | AR16: 2840 | AS16: 1720 | AT16: 1650 | AU16: 1120 | AV16: 2820 | AW16: 1710 | AX16: 1640 | AY16: 1110 | AZ16: 2780 | BA16: 1700 | BB16: 1630 | BC16: 1080 | BD16: 2740 | BE16: 1690 | BF16: 1620 | BG16: 1050 | BH16: 2730 | BI16: 1690 | BJ16: 1620 | BK16: 1040
A17: 12 | B17: 213 | C17: 東金市 | D17: 3470 | E17: 2360 | F17: 2280 | G17: 1110 | H17: 3470 | I17: 2360 | J17: 2280 | K17: 1110 | L17: 3460 | M17: 2350 | N17: 2270 | O17: 1110 | P17: 3450 | Q17: 2350 | R17: 2270 | S17: 1110 | T17: 3450 | U17: 2340 | V17: 2270 | W17: 1100 | X17: 3440 | Y17: 2340 | Z17: 2260 | AA17: 1100 | AB17: 3420 | AC17: 2330 | AD17: 2260 | AE17: 1100 | AF17: 3410 | AG17: 2320 | AH17: 2240 | AI17: 1090 | AJ17: 3400 | AK17: 2320 | AL17: 2240 | AM17: 1080 | AN17: 3390 | AO17: 2310 | AP17: 2240 | AQ17: 1080 | AR17: 3370 | AS17: 2300 | AT17: 2220 | AU17: 1070 | AV17: 3360 | AW17: 2290 | AX17: 2220 | AY17: 1070 | AZ17: 3340 | BA17: 2280 | BB17: 2200 | BC17: 1060 | BD17: 3310 | BE17: 2250 | BF17: 2180 | BG17: 1060 | BH17: 3280 | BI17: 2220 | BJ17: 2150 | BK17: 1060
... A26: 12 | B26: 223 | C26: 鴨川市 | D26: 2260 | E26: 1870 | F26: 1760 | G26: 393 | H26: 2260 | I26: 1870 | J26: 1750 | K26: 391 | L26: 2260 | M26: 1870 | N26: 1750 | O26: 390 | P26: 2250 | Q26: 1860 | R26: 1750 | S26: 389 | T26: 2250 | U26: 1860 | V26: 1750 | W26: 388 | X26: 2250 | Y26: 1860 | Z26: 1750 | AA26: 387 | AB26: 2240 | AC26: 1860 | AD26: 1750 | AE26: 385 | AF26: 2240 | AG26: 1850 | AH26: 1740 | AI26: 383 | AJ26: 2230 | AK26: 1850 | AL26: 1740 | AM26: 381 | AN26: 2220 | AO26: 1850 | AP26: 1740 | AQ26: 379 | AR26: 2180 | AS26: 1830 | AT26: 1720 | AU26: 353 | AV26: 2160 | AW26: 1820 | AX26: 1710 | AY26: 347 | AZ26: 2130 | BA26: 1790 | BB26: 1680 | BC26: 342 | BD26: 2080 | BE26: 1750 | BF26: 1640 | BG26: 338 | BH26: 2040 | BI26: 1700 | BJ26: 1600 | BK26: 338
A27: 12 | B27: 224 | C27: 鎌ケ谷市 | D27: 460 | E27: 0 | F27: 0 | G27: 460 | H27: 459 | I27: - | J27: - | K27: 459 | L27: 459 | M27: - | N27: - | O27: 459 | P27: 459 | Q27: - | R27: - | S27: 459 | T27: 457 | U27: - | V27: - | W27: 457 | X27: 456 | Y27: - | Z27: - | AA27: 456 | AB27: 452 | AC27: - | AD27: - | AE27: 452 | AF27: 449 | AG27: - | AH27: - | AI27: 449 | AJ27: 441 | AK27: - | AL27: - | AM27: 441 | AN27: 433 | AO27: - | AP27: - | AQ27: 433 | AR27: 426 | AS27: - | AT27: - | AU27: 426 | AV27: 425 | AW27: - | AX27: - | AY27: 425 | AZ27: 415 | BA27: - | BB27: - | BC27: 415 | BD27: 403 | BE27: - | BF27: - | BG27: 403 | BH27: 401 | BI27: - | BJ27: - | BK27: 401
A28: 12 | B28: 225 | C28: 君津市 | D28: 3290 | E28: 2470 | F28: 2320 | G28: 817 | H28: 3280 | I28: 2470 | J28: 2320 | K28: 811 | L28: 3270 | M28: 2470 | N28: 2320 | O28: 805 | P28: 3270 | Q28: 2470 | R28: 2320 | S28: 799 | T28: 3260 | U28: 2460 | V28: 2310 | W28: 794 | X28: 3260 | Y28: 2470 | Z28: 2320 | AA28: 789 | AB28: 3240 | AC28: 2460 | AD28: 2310 | AE28: 784 | AF28: 3230 | AG28: 2450 | AH28: 2300 | AI28: 778 | AJ28: 3220 | AK28: 2440 | AL28: 2290 | AM28: 775 | AN28: 3200 | AO28: 2430 | AP28: 2280 | AQ28: 767 | AR28: 3180 | AS28: 2420 | AT28: 2270 | AU28: 756 | AV28: 3130 | AW28: 2390 | AX28: 2250 | AY28: 744 | AZ28: 3080 | BA28: 2340 | BB28: 2200 | BC28: 732 | BD28: 3010 | BE28: 2300 | BF28: 2160 | BG28: 712 | BH28: 2970 | BI28: 2250 | BJ28: 2120 | BK28: 717
A29: 12 | B29: 226 | C29: 富津市 | D29: 2370 | E29: 1750 | F29: 1640 | G29: 622 | H29: 2360 | I29: 1740 | J29: 1640 | K29: 620 | L29: 2360 | M29: 1740 | N29: 1640 | O29: 618 | P29: 2360 | Q29: 1740 | R29: 1630 | S29: 616 | T29: 2350 | U29: 1740 | V29: 1630 | W29: 612 | X29: 2340 | Y29: 1730 | Z29: 1630 | AA29: 610 | AB29: 2340 | AC29: 1730 | AD29: 1630 | AE29: 608 | AF29: 2330 | AG29: 1730 | AH29: 1620 | AI29: 606 | AJ29: 2320 | AK29: 1720 | AL29: 1620 | AM29: 603 | AN29: 2290 | AO29: 1710 | AP29: 1610 | AQ29: 586 | AR29: 2260 | AS29: 1690 | AT29: 1590 | AU29: 569 | AV29: 2230 | AW29: 1680 | AX29: 1580 | AY29: 552 | AZ29: 2140 | BA29: 1610 | BB29: 1510 | BC29: 527 | BD29: 2050 | BE29: 1540 | BF29: 1450 | BG29: 508 | BH29: 2000 | BI29: 1480 | BJ29: 1390 | BK29: 524
A30: 12 | B30: 227 | C30: 浦安市 | D30: - | E30: - | F30: - | G30: - | H30: - | I30: - | J30: - | K30: - | L30: - | M30: - | N30: - | O30: - | P30: - | Q30: - | R30: - | S30: - | T30: - | U30: - | V30: - | W30: - | X30: - | Y30: - | Z30: - | AA30: - | AB30: - | AC30: - | AD30: - | AE30: - | AF30: - | AG30: - | AH30: - | AI30: - | AJ30: - | AK30: - | AL30: - | AM30: - | AN30: - | AO30: - | AP30: - | AQ30: - | AR30: - | AS30: - | AT30: - | AU30: - | AV30: - | AW30: - | AX30: - | AY30: - | AZ30: - | BA30: - | BB30: - | BC30: - | BD30: - | BE30: - | BF30: - | BG30: - | BH30: - | BI30: - | BJ30: - | BK30: -
A31: 12 | B31: 228 | C31: 四街道市 | D31: 729 | E31: 235 | F31: 225 | G31: 494 | H31: 721 | I31: 234 | J31: 224 | K31: 487 | L31: 717 | M31: 233 | N31: 223 | O31: 484 | P31: 713 | Q31: 231 | R31: 221 | S31: 482 | T31: 701 | U31: 227 | V31: 217 | W31: 474 | X31: 695 | Y31: 227 | Z31: 217 | AA31: 468 | AB31: 684 | AC31: 224 | AD31: 214 | AE31: 460 | AF31: 672 | AG31: 220 | AH31: 211 | AI31: 452 | AJ31: 662 | AK31: 212 | AL31: 203 | AM31: 450 | AN31: 654 | AO31: 208 | AP31: 199 | AQ31: 446 | AR31: 645 | AS31: 204 | AT31: 195 | AU31: 441 | AV31: 641 | AW31: 204 | AX31: 195 | AY31: 437 | AZ31: 637 | BA31: 203 | BB31: 194 | BC31: 434 | BD31: 626 | BE31: 201 | BF31: 192 | BG31: 425 | BH31: 620 | BI31: 198 | BJ31: 190 | BK31: 422
A32: 12 | B32: 229 | C32: 袖ケ浦市 | D32: 2650 | E32: 1660 | F32: 1560 | G32: 994 | H32: 2650 | I32: 1650 | J32: 1550 | K32: 992 | L32: 2630 | M32: 1640 | N32: 1540 | O32: 988 | P32: 2610 | Q32: 1630 | R32: 1530 | S32: 984 | T32: 2590 | U32: 1610 | V32: 1520 | W32: 980 | X32: 2550 | Y32: 1590 | Z32: 1490 | AA32: 955 | AB32: 2540 | AC32: 1590 | AD32: 1490 | AE32: 949 | AF32: 2530 | AG32: 1590 | AH32: 1490 | AI32: 948 | AJ32: 2530 | AK32: 1580 | AL32: 1490 | AM32: 945 | AN32: 2510 | AO32: 1570 | AP32: 1480 | AQ32: 936 | AR32: 2470 | AS32: 1550 | AT32: 1460 | AU32: 923 | AV32: 2450 | AW32: 1540 | AX32: 1450 | AY32: 915 | AZ32: 2430 | BA32: 1520 | BB32: 1430 | BC32: 904 | BD32: 2400 | BE32: 1510 | BF32: 1420 | BG32: 886 | BH32: 2370 | BI32: 1480 | BJ32: 1390 | BK32: 893
A33: 12 | B33: 230 | C33: 八街市 | D33: 3630 | E33: 180 | F33: 172 | G33: 3450 | H33: 3620 | I33: 179 | J33: 171 | K33: 3440 | L33: 3610 | M33: 179 | N33: 171 | O33: 3430 | P33: 3600 | Q33: 180 | R33: 172 | S33: 3420 | T33: 3590 | U33: 180 | V33: 172 | W33: 3410 | X33: 3570 | Y33: 179 | Z33: 171 | AA33: 3400 | AB33: 3550 | AC33: 176 | AD33: 168 | AE33: 3380 | AF33: 3530 | AG33: 173 | AH33: 166 | AI33: 3360 | AJ33: 3500 | AK33: 162 | AL33: 155 | AM33: 3330 | AN33: 3480 | AO33: 158 | AP33: 151 | AQ33: 3320 | AR33: 3440 | AS33: 151 | AT33: 145 | AU33: 3290 | AV33: 3420 | AW33: 148 | AX33: 142 | AY33: 3270 | AZ33: 3370 | BA33: 146 | BB33: 140 | BC33: 3220 | BD33: 3290 | BE33: 142 | BF33: 136 | BG33: 3150 | BH33: 3220 | BI33: 137 | BJ33: 131 | BK33: 3080
A34: 12 | B34: 231 | C34: 印西市 | D34: 4220 | E34: 3050 | F34: 2920 | G34: 1170 | H34: 4210 | I34: 3050 | J34: 2920 | K34: 1170 | L34: 4210 | M34: 3050 | N34: 2920 | O34: 1160 | P34: 4200 | Q34: 3050 | R34: 2920 | S34: 1150 | T34: 4210 | U34: 3050 | V34: 2920 | W34: 1150 | X34: 4190 | Y34: 3050 | Z34: 2920 | AA34: 1140 | AB34: 4180 | AC34: 3050 | AD34: 2920 | AE34: 1130 | AF34: 4160 | AG34: 3040 | AH34: 2910 | AI34: 1120 | AJ34: 4160 | AK34: 3040 | AL34: 2910 | AM34: 1120 | AN34: 4150 | AO34: 3040 | AP34: 2910 | AQ34: 1110 | AR34: 4140 | AS34: 3040 | AT34: 2910 | AU34: 1100 | AV34: 4130 | AW34: 3040 | AX34: 2910 | AY34: 1090 | AZ34: 4130 | BA34: 3040 | BB34: 2910 | BC34: 1090 | BD34: 4110 | BE34: 3040 | BF34: 2910 | BG34: 1070 | BH34: 4110 | BI34: 3040 | BJ34: 2910 | BK34: 1070
A35: 12 | B35: 232 | C35: 白井市 | D35: 1110 | E35: 305 | F35: 292 | G35: 805 | H35: 1110 | I35: 304 | J35: 291 | K35: 801 | L35: 1100 | M35: 303 | N35: 290 | O35: 797 | P35: 1100 | Q35: 302 | R35: 289 | S35: 793 | T35: 1090 | U35: 302 | V35: 289 | W35: 789 | X35: 1080 | Y35: 302 | Z35: 289 | AA35: 780 | AB35: 1070 | AC35: 297 | AD35: 284 | AE35: 776 | AF35: 1070 | AG35: 294 | AH35: 281 | AI35: 773 | AJ35: 1060 | AK35: 285 | AL35: 273 | AM35: 773 | AN35: 1050 | AO35: 280 | AP35: 268 | AQ35: 771 | AR35: 1040 | AS35: 273 | AT35: 261 | AU35: 769 | AV35: 1040 | AW35: 271 | AX35: 259 | AY35: 769 | AZ35: 1040 | BA35: 270 | BB35: 258 | BC35: 766 | BD35: 1030 | BE35: 266 | BF35: 255 | BG35: 761 | BH35: 1020 | BI35: 259 | BJ35: 248 | BK35: 761
A36: 12 | B36: 233 | C36: 富里市 | D36: 2560 | E36: 239 | F36: 229 | G36: 2320 | H36: 2550 | I36: 239 | J36: 229 | K36: 2310 | L36: 2550 | M36: 239 | N36: 229 | O36: 2310 | P36: 2550 | Q36: 239 | R36: 229 | S36: 2310 | T36: 2540 | U36: 237 | V36: 227 | W36: 2300 | X36: 2530 | Y36: 237 | Z36: 227 | AA36: 2300 | AB36: 2520 | AC36: 233 | AD36: 223 | AE36: 2290 | AF36: 2510 | AG36: 231 | AH36: 221 | AI36: 2280 | AJ36: 2480 | AK36: 223 | AL36: 213 | AM36: 2260 | AN36: 2470 | AO36: 220 | AP36: 211 | AQ36: 2250 | AR36: 2450 | AS36: 215 | AT36: 206 | AU36: 2240 | AV36: 2450 | AW36: 211 | AX36: 202 | AY36: 2230 | AZ36: 2430 | BA36: 210 | BB36: 201 | BC36: 2220 | BD36: 2400 | BE36: 207 | BF36: 198 | BG36: 2190 | BH36: 2380 | BI36: 203 | BJ36: 194 | BK36: 2180
A37: 12 | B37: 234 | C37: 南房総市 | D37: 3600 | E37: 2200 | F37: 2060 | G37: 1410 | H37: 3600 | I37: 2190 | J37: 2060 | K37: 1410 | L37: 3600 | M37: 2190 | N37: 2060 | O37: 1400 | P37: 3590 | Q37: 2190 | R37: 2060 | S37: 1400 | T37: 3590 | U37: 2190 | V37: 2050 | W37: 1400 | X37: 3580 | Y37: 2180 | Z37: 2050 | AA37: 1400 | AB37: 3570 | AC37: 2180 | AD37: 2050 | AE37: 1390 | AF37: 3560 | AG37: 2170 | AH37: 2040 | AI37: 1390 | AJ37: 3550 | AK37: 2160 | AL37: 2030 | AM37: 1390 | AN37: 3540 | AO37: 2160 | AP37: 2030 | AQ37: 1380 | AR37: 3470 | AS37: 2120 | AT37: 1990 | AU37: 1360 | AV37: 3440 | AW37: 2100 | AX37: 1980 | AY37: 1340 | AZ37: 3350 | BA37: 2020 | BB37: 1900 | BC37: 1330 | BD37: 3260 | BE37: 1950 | BF37: 1840 | BG37: 1310 | BH37: 3180 | BI37: 1900 | BJ37: 1780 | BK37: 1290
A38: 12 | B38: 235 | C38: 匝瑳市 | D38: 5260 | E38: 3250 | F38: 3150 | G38: 2000 | H38: 5250 | I38: 3250 | J38: 3140 | K38: 1990 | L38: 5230 | M38: 3250 | N38: 3140 | O38: 1980 | P38: 5230 | Q38: 3250 | R38: 3140 | S38: 1980 | T38: 5230 | U38: 3250 | V38: 3140 | W38: 1980 | X38: 5220 | Y38: 3250 | Z38: 3140 | AA38: 1970 | AB38: 5220 | AC38: 3240 | AD38: 3130 | AE38: 1970 | AF38: 5190 | AG38: 3230 | AH38: 3130 | AI38: 1960 | AJ38: 5180 | AK38: 3230 | AL38: 3120 | AM38: 1950 | AN38: 5170 | AO38: 3220 | AP38: 3120 | AQ38: 1950 | AR38: 5160 | AS38: 3220 | AT38: 3110 | AU38: 1940 | AV38: 5140 | AW38: 3210 | AX38: 3100 | AY38: 1930 | AZ38: 5070 | BA38: 3200 | BB38: 3090 | BC38: 1880 | BD38: 5030 | BE38: 3200 | BF38: 3090 | BG38: 1830 | BH38: 4980 | BI38: 3190 | BJ38: 3090 | BK38: 1790
A39: 12 | B39: 236 | C39: 香取市 | D39: 11400 | E39: 7820 | F39: 7540 | G39: 3570 | H39: 11000 | I39: 7470 | J39: 7210 | K39: 3540 | L39: 11300 | M39: 7800 | N39: 7530 | O39: 3520 | P39: 11300 | Q39: 7800 | R39: 7520 | S39: 3510 | T39: 11300 | U39: 7800 | V39: 7520 | W39: 3500 | X39: 11300 | Y39: 7790 | Z39: 7520 | AA39: 3490 | AB39: 11300 | AC39: 7790 | AD39: 7520 | AE39: 3480 | AF39: 11200 | AG39: 7780 | AH39: 7520 | AI39: 3470 | AJ39: 11200 | AK39: 7780 | AL39: 7520 | AM39: 3460 | AN39: 11200 | AO39: 7770 | AP39: 7510 | AQ39: 3450 | AR39: 11200 | AS39: 7740 | AT39: 7480 | AU39: 3430 | AV39: 11100 | AW39: 7730 | AX39: 7470 | AY39: 3400 | AZ39: 11100 | BA39: 7720 | BB39: 7460 | BC39: 3390 | BD39: 11100 | BE39: 7710 | BF39: 7460 | BG39: 3380 | BH39: 11100 | BI39: 7710 | BJ39: 7450 | BK39: 3370
