Workbook

Sheet H22-10
A1: 農林水産関係市町村別統計
A2: 平成22年産
A3: 水稲
A4: 千葉県 | D4: 2010 | E4: 2010 | F4: 2010
A5: 都道 | B5: 市町 | D5: 作付面積 | E5: 10a当たり | F5: 収穫量
A6: 府県 | B6: 村 | C6: 市町村名 | E6: 収量
A7: ｺｰﾄﾞ | B7: ｺｰﾄﾞ
D8: ha | E8: kg | F8: t
A9: 12 | B9: 100 | C9: 千葉市 | D9: 760 | E9: 501 | F9: 3810
A10: 12 | B10: 202 | C10: 銚子市 | D10: 483 | E10: 551 | F10: 2660
A11: 12 | B11: 203 | C11: 市川市 | D11: 3 | E11: 430 | F11: 13
A12: 12 | B12: 204 | C12: 船橋市 | D12: 111 | E12: 479 | F12: 532
A13: 12 | B13: 205 | C13: 館山市 | D13: 770 | E13: 495 | F13: 3810
A14: 12 | B14: 206 | C14: 木更津市 | D14: 1540 | E14: 519 | F14: 7990
A15: 12 | B15: 207 | C15: 松戸市 | D15: 61 | E15: 460 | F15: 281
A16: 12 | B16: 208 | C16: 野田市 | D16: 1060 | E16: 512 | F16: 5420
A17: 12 | B17: 210 | C17: 茂原市 | D17: 1900 | E17: 550 | F17: 10400
A18: 12 | B18: 211 | C18: 成田市 | D18: 3150 | E18: 551 | F18: 17400
A19: 12 | B19: 212 | C19: 佐倉市 | D19: 1380 | E19: 539 | F19: 7460
A20: 12 | B20: 213 | C20: 東金市 | D20: 2090 | E20: 565 | F20: 11800
... A32: 12 | B32: 226 | C32: 富津市 | D32: 1200 | E32: 508 | F32: 6080
A33: 12 | B33: 227 | C33: 浦安市 | D33: - | E33: - | F33: -
A34: 12 | B34: 228 | C34: 四街道市 | D34: 169 | E34: 523 | F34: 884
A35: 12 | B35: 229 | C35: 袖ヶ浦市 | D35: 1220 | E35: 551 | F35: 6730
A36: 12 | B36: 230 | C36: 八街市 | D36: 109 | E36: 500 | F36: 545
A37: 12 | B37: 231 | C37: 印西市 | D37: 2600 | E37: 539 | F37: 14000
A38: 12 | B38: 232 | C38: 白井市 | D38: 238 | E38: 514 | F38: 1220
A39: 12 | B39: 233 | C39: 富里市 | D39: 184 | E39: 506 | F39: 931
A40: 12 | B40: 234 | C40: 南房総市 | D40: 1270 | E40: 491 | F40: 6260
A41: 12 | B41: 235 | C41: 匝瑳市 | D41: 3040 | E41: 573 | F41: 17400
A42: 12 | B42: 236 | C42: 香取市 | D42: 6930 | E42: 562 | F42: 39000
A43: 12 | B43: 237 | C43: 山武市 | D43: 2680 | E43: 560 | F43: 15000
A44: 12 | B44: 238 | C44: いすみ市 | D44: 2200 | E44: 516 | F44: 11400
A45: 12 | B45: 402 | C45: 大網白里町 | D45: 1410 | E45: 564 | F45: 7980
... A62: 12 | B62: 463 | C62: 鋸南町 | D62: 163 | E62: 480 | F62: 782
A64: 利用上の注意
A65: １ この市町村別統計は、「作物統計調査」を実施する上で把握した地域における標本調査及び現地見積りの結果、
A66: 関係機関からの情報等を踏まえ、都道府県計値の内訳として市町村別に作成した加工統計であり、作成するうえで
A67: 精度を設定しているものではない。
A68: なお、「作物統計調査」は都道府県計値を求めるために設計されている。
...

Sheet H23-11
A1: 農林水産関係市町村別統計
A2: 平成23年産
A3: 水稲
A4: 千葉県 | D4: 2011 | E4: 2011 | F4: 2011
A5: 都道 | B5: 市町 | D5: 作付面積 | E5: 10a当たり | F5: 収穫量
A6: 府県 | B6: 村 | C6: 市町村名 | E6: 収量
A7: ｺｰﾄﾞ | B7: ｺｰﾄﾞ
D8: ha | E8: kg | F8: t
A9: 12 | B9: 100 | C9: 千葉市 | D9: 750 | E9: 526 | F9: 3950
A10: 12 | B10: 202 | C10: 銚子市 | D10: 481 | E10: 524 | F10: 2520
A11: 12 | B11: 203 | C11: 市川市 | D11: 3 | E11: 416 | F11: 12
A12: 12 | B12: 204 | C12: 船橋市 | D12: 109 | E12: 478 | F12: 521
A13: 12 | B13: 205 | C13: 館山市 | D13: 762 | E13: 506 | F13: 3860
A14: 12 | B14: 206 | C14: 木更津市 | D14: 1510 | E14: 530 | F14: 8010
A15: 12 | B15: 207 | C15: 松戸市 | D15: 61 | E15: 448 | F15: 273
A16: 12 | B16: 208 | C16: 野田市 | D16: 1020 | E16: 501 | F16: 5090
A17: 12 | B17: 210 | C17: 茂原市 | D17: 1870 | E17: 534 | F17: 10000
A18: 12 | B18: 211 | C18: 成田市 | D18: 3040 | E18: 541 | F18: 16400
A19: 12 | B19: 212 | C19: 佐倉市 | D19: 1340 | E19: 532 | F19: 7140
A20: 12 | B20: 213 | C20: 東金市 | D20: 2060 | E20: 551 | F20: 11400
... A29: 12 | B29: 223 | C29: 鴨川市 | D29: 1400 | E29: 515 | F29: 7220
A30: 12 | B30: 224 | C30: 鎌ケ谷市 | D30: - | E30: - | F30: -
A31: 12 | B31: 225 | C31: 君津市 | D31: 2010 | E31: 529 | F31: 10600
A32: 12 | B32: 226 | C32: 富津市 | D32: 1180 | E32: 519 | F32: 6140
A33: 12 | B33: 227 | C33: 浦安市 | D33: - | E33: - | F33: -
A34: 12 | B34: 228 | C34: 四街道市 | D34: 167 | E34: 516 | F34: 862
A35: 12 | B35: 229 | C35: 袖ヶ浦市 | D35: 1200 | E35: 563 | F35: 6730
A36: 12 | B36: 230 | C36: 八街市 | D36: 109 | E36: 498 | F36: 543
A37: 12 | B37: 231 | C37: 印西市 | D37: 2580 | E37: 532 | F37: 13700
A38: 12 | B38: 232 | C38: 白井市 | D38: 236 | E38: 508 | F38: 1200
A39: 12 | B39: 233 | C39: 富里市 | D39: 184 | E39: 501 | F39: 922
A40: 12 | B40: 234 | C40: 南房総市 | D40: 1270 | E40: 502 | F40: 6400
A41: 12 | B41: 235 | C41: 匝瑳市 | D41: 3020 | E41: 541 | F41: 16300
A42: 12 | B42: 236 | C42: 香取市 | D42: 6640 | E42: 535 | F42: 35500
A43: 12 | B43: 237 | C43: 山武市 | D43: 2670 | E43: 542 | F43: 14500
A44: 12 | B44: 238 | C44: いすみ市 | D44: 2180 | E44: 532 | F44: 11600
A45: 12 | B45: 402 | C45: 大網白里町 | D45: 1420 | E45: 551 | F45: 7850
... A62: 12 | B62: 463 | C62: 鋸南町 | D62: 162 | E62: 490 | F62: 794
C64: 計 | D64: 60400 | E64: 533 | F64: 321900
A66: 利用上の注意
...

Sheet H24-12
A1: 農林水産関係市町村別統計
A2: 平成24年産
A3: 水稲
A4: 千葉県 | D4: 2012 | E4: 2012 | F4: 2012
A5: 都道 | B5: 市町 | D5: 作付面積 | E5: 10a当たり | F5: 収穫量
A6: 府県 | B6: 村 | C6: 市町村名 | E6: 収量
A7: ｺｰﾄﾞ | B7: ｺｰﾄﾞ
D8: ha | E8: kg | F8: t
A9: 12 | B9: 100 | C9: 千葉市 | D9: 745 | E9: 515 | F9: 3840
A10: 12 | B10: 202 | C10: 銚子市 | D10: 477 | E10: 566 | F10: 2700
A11: 12 | B11: 203 | C11: 市川市 | D11: 2 | E11: 425 | F11: 9
A12: 12 | B12: 204 | C12: 船橋市 | D12: 109 | E12: 468 | F12: 510
A13: 12 | B13: 205 | C13: 館山市 | D13: 754 | E13: 511 | F13: 3850
A14: 12 | B14: 206 | C14: 木更津市 | D14: 1500 | E14: 535 | F14: 8040
A15: 12 | B15: 207 | C15: 松戸市 | D15: 61 | E15: 453 | F15: 276
A16: 12 | B16: 208 | C16: 野田市 | D16: 1010 | E16: 510 | F16: 5150
A17: 12 | B17: 210 | C17: 茂原市 | D17: 1860 | E17: 555 | F17: 10300
A18: 12 | B18: 211 | C18: 成田市 | D18: 3200 | E18: 549 | F18: 17500
A19: 12 | B19: 212 | C19: 佐倉市 | D19: 1340 | E19: 540 | F19: 7210
A20: 12 | B20: 213 | C20: 東金市 | D20: 2070 | E20: 573 | F20: 11900
... A29: 12 | B29: 223 | C29: 鴨川市 | D29: 1400 | E29: 520 | F29: 7290
A30: 12 | B30: 224 | C30: 鎌ケ谷市 | D30: - | E30: - | F30: -
A31: 12 | B31: 225 | C31: 君津市 | D31: 1990 | E31: 534 | F31: 10600
A32: 12 | B32: 226 | C32: 富津市 | D32: 1180 | E32: 524 | F32: 6170
A33: 12 | B33: 227 | C33: 浦安市 | D33: - | E33: - | F33: -
A34: 12 | B34: 228 | C34: 四街道市 | D34: 167 | E34: 524 | F34: 875
A35: 12 | B35: 229 | C35: 袖ヶ浦市 | D35: 1180 | E35: 568 | F35: 6700
A36: 12 | B36: 230 | C36: 八街市 | D36: 109 | E36: 503 | F36: 548
A37: 12 | B37: 231 | C37: 印西市 | D37: 2580 | E37: 540 | F37: 13900
A38: 12 | B38: 232 | C38: 白井市 | D38: 237 | E38: 515 | F38: 1220
A39: 12 | B39: 233 | C39: 富里市 | D39: 187 | E39: 506 | F39: 946
A40: 12 | B40: 234 | C40: 南房総市 | D40: 1270 | E40: 507 | F40: 6450
A41: 12 | B41: 235 | C41: 匝瑳市 | D41: 2990 | E41: 586 | F41: 17500
A42: 12 | B42: 236 | C42: 香取市 | D42: 6830 | E42: 578 | F42: 39500
A43: 12 | B43: 237 | C43: 山武市 | D43: 2660 | E43: 567 | F43: 15100
A44: 12 | B44: 238 | C44: いすみ市 | D44: 2140 | E44: 537 | F44: 11500
A45: 12 | B45: 402 | C45: 大網白里町 | D45: 1410 | E45: 571 | F45: 8030
... A62: 12 | B62: 463 | C62: 鋸南町 | D62: 161 | E62: 495 | F62: 797
C64: 計 | D64: 60500 | E64: 552 | F64: 334000
A66: 利用上の注意
...

Sheet H25-13
A1: 農林水産関係市町村別統計
A2: 平成25年産
A3: 水稲
A4: 千葉県 | D4: 2013 | E4: 2013 | F4: 2013
A5: 都道 | B5: 市町 | D5: 作付面積 | E5: 10a当たり | F5: 収穫量
A6: 府県 | B6: 村 | C6: 市町村名 | E6: 収量
A7: ｺｰﾄﾞ | B7: ｺｰﾄﾞ
D8: ha | E8: kg | F8: t
A9: 12 | B9: 100 | C9: 千葉市 | D9: 748 | E9: 515 | F9: 3850
A10: 12 | B10: 202 | C10: 銚子市 | D10: 476 | E10: 567 | F10: 2700
A11: 12 | B11: 203 | C11: 市川市 | D11: 2 | E11: 438 | F11: 9
A12: 12 | B12: 204 | C12: 船橋市 | D12: 109 | E12: 476 | F12: 519
A13: 12 | B13: 205 | C13: 館山市 | D13: 759 | E13: 511 | F13: 3880
A14: 12 | B14: 206 | C14: 木更津市 | D14: 1530 | E14: 538 | F14: 8220
A15: 12 | B15: 207 | C15: 松戸市 | D15: 59 | E15: 460 | F15: 271
A16: 12 | B16: 208 | C16: 野田市 | D16: 1040 | E16: 519 | F16: 5420
A17: 12 | B17: 210 | C17: 茂原市 | D17: 1890 | E17: 559 | F17: 10600
A18: 12 | B18: 211 | C18: 成田市 | D18: 3260 | E18: 555 | F18: 18100
A19: 12 | B19: 212 | C19: 佐倉市 | D19: 1370 | E19: 544 | F19: 7430
A20: 12 | B20: 213 | C20: 東金市 | D20: 2060 | E20: 576 | F20: 11900
... A29: 12 | B29: 223 | C29: 鴨川市 | D29: 1400 | E29: 520 | F29: 7280
A30: 12 | B30: 224 | C30: 鎌ケ谷市 | D30: - | E30: - | F30: -
A31: 12 | B31: 225 | C31: 君津市 | D31: 1990 | E31: 536 | F31: 10700
A32: 12 | B32: 226 | C32: 富津市 | D32: 1200 | E32: 527 | F32: 6340
A33: 12 | B33: 227 | C33: 浦安市 | D33: - | E33: - | F33: -
A34: 12 | B34: 228 | C34: 四街道市 | D34: 172 | E34: 536 | F34: 922
A35: 12 | B35: 229 | C35: 袖ケ浦市 | D35: 1190 | E35: 570 | F35: 6760
A36: 12 | B36: 230 | C36: 八街市 | D36: 109 | E36: 511 | F36: 557
A37: 12 | B37: 231 | C37: 印西市 | D37: 2600 | E37: 549 | F37: 14300
A38: 12 | B38: 232 | C38: 白井市 | D38: 230 | E38: 529 | F38: 1220
A39: 12 | B39: 233 | C39: 富里市 | D39: 184 | E39: 514 | F39: 946
A40: 12 | B40: 234 | C40: 南房総市 | D40: 1270 | E40: 506 | F40: 6400
A41: 12 | B41: 235 | C41: 匝瑳市 | D41: 2990 | E41: 586 | F41: 17500
A42: 12 | B42: 236 | C42: 香取市 | D42: 6830 | E42: 577 | F42: 39400
A43: 12 | B43: 237 | C43: 山武市 | D43: 2690 | E43: 570 | F43: 15300
A44: 12 | B44: 238 | C44: いすみ市 | D44: 2160 | E44: 535 | F44: 11500
A45: 12 | B45: 239 | C45: 大網白里市 | D45: 1440 | E45: 573 | F45: 8240
... A62: 12 | B62: 463 | C62: 鋸南町 | D62: 159 | E62: 495 | F62: 787
C64: 計 | D64: 60900 | E64: 554 | F64: 337400
A66: 利用上の注意
...

Sheet H26-14
A1: 農林水産関係市町村別統計
A2: 平成26年産
A3: 水稲
A4: 千葉県 | D4: 2014 | E4: 2014 | F4: 2014
A5: 都道 | B5: 市町 | D5: 作付面積 | E5: 10a当たり | F5: 収穫量
A6: 府県 | B6: 村 | C6: 市町村名 | E6: 収量
A7: ｺｰﾄﾞ | B7: ｺｰﾄﾞ
D8: ha | E8: kg | F8: t
A9: 12 | B9: 100 | C9: 千葉市 | D9: 745 | E9: 526 | F9: 3920
A10: 12 | B10: 202 | C10: 銚子市 | D10: 474 | E10: 570 | F10: 2700
A11: 12 | B11: 203 | C11: 市川市 | D11: 2 | E11: 443 | F11: 9
A12: 12 | B12: 204 | C12: 船橋市 | D12: 108 | E12: 484 | F12: 523
A13: 12 | B13: 205 | C13: 館山市 | D13: 749 | E13: 512 | F13: 3840
A14: 12 | B14: 206 | C14: 木更津市 | D14: 1470 | E14: 542 | F14: 7980
A15: 12 | B15: 207 | C15: 松戸市 | D15: 57 | E15: 469 | F15: 267
A16: 12 | B16: 208 | C16: 野田市 | D16: 991 | E16: 520 | F16: 5150
A17: 12 | B17: 210 | C17: 茂原市 | D17: 1880 | E17: 561 | F17: 10500
A18: 12 | B18: 211 | C18: 成田市 | D18: 3200 | E18: 559 | F18: 17900
A19: 12 | B19: 212 | C19: 佐倉市 | D19: 1350 | E19: 549 | F19: 7380
A20: 12 | B20: 213 | C20: 東金市 | D20: 2050 | E20: 579 | F20: 11900
... A29: 12 | B29: 223 | C29: 鴨川市 | D29: 1390 | E29: 522 | F29: 7240
A30: 12 | B30: 224 | C30: 鎌ケ谷市 | D30: - | E30: - | F30: -
A31: 12 | B31: 225 | C31: 君津市 | D31: 1980 | E31: 539 | F31: 10700
A32: 12 | B32: 226 | C32: 富津市 | D32: 1150 | E32: 530 | F32: 6120
A33: 12 | B33: 227 | C33: 浦安市 | D33: - | E33: - | F33: -
A34: 12 | B34: 228 | C34: 四街道市 | D34: 164 | E34: 533 | F34: 874
A35: 12 | B35: 229 | C35: 袖ケ浦市 | D35: 1170 | E35: 574 | F35: 6700
A36: 12 | B36: 230 | C36: 八街市 | D36: 101 | E36: 515 | F36: 520
A37: 12 | B37: 231 | C37: 印西市 | D37: 2600 | E37: 550 | F37: 14300
A38: 12 | B38: 232 | C38: 白井市 | D38: 227 | E38: 527 | F38: 1200
A39: 12 | B39: 233 | C39: 富里市 | D39: 183 | E39: 517 | F39: 946
A40: 12 | B40: 234 | C40: 南房総市 | D40: 1250 | E40: 509 | F40: 6370
A41: 12 | B41: 235 | C41: 匝瑳市 | D41: 3030 | E41: 588 | F41: 17800
A42: 12 | B42: 236 | C42: 香取市 | D42: 6740 | E42: 583 | F42: 39300
A43: 12 | B43: 237 | C43: 山武市 | D43: 2650 | E43: 573 | F43: 15200
A44: 12 | B44: 238 | C44: いすみ市 | D44: 2110 | E44: 536 | F44: 11300
A45: 12 | B45: 239 | C45: 大網白里市 | D45: 1430 | E45: 575 | F45: 8230
... A62: 12 | B62: 463 | C62: 鋸南町 | D62: 153 | E62: 497 | F62: 760
C64: 計 | D64: 60200 | E64: 558 | F64: 335900
A66: 利用上の注意
...

Sheet H27-15
A1: 農林水産関係市町村別統計
A2: 平成27年産
A3: 水稲
A4: 千葉県 | D4: 2015 | E4: 2015 | F4: 2015
A5: 都道 | B5: 市町 | D5: 作付面積 | E5: 10a当たり | F5: 収穫量
A6: 府県 | B6: 村 | C6: 市町村名 | E6: 収量
A7: ｺｰﾄﾞ | B7: ｺｰﾄﾞ
D8: ha | E8: kg | F8: t
A9: 12 | B9: 100 | C9: 千葉市 | D9: 705 | E9: 511 | F9: 3600
A10: 12 | B10: 202 | C10: 銚子市 | D10: 472 | E10: 551 | F10: 2600
A11: 12 | B11: 203 | C11: 市川市 | D11: 2 | E11: 429 | F11: 9
A12: 12 | B12: 204 | C12: 船橋市 | D12: 106 | E12: 467 | F12: 495
A13: 12 | B13: 205 | C13: 館山市 | D13: 729 | E13: 500 | F13: 3650
A14: 12 | B14: 206 | C14: 木更津市 | D14: 1410 | E14: 529 | F14: 7440
A15: 12 | B15: 207 | C15: 松戸市 | D15: 54 | E15: 454 | F15: 245
A16: 12 | B16: 208 | C16: 野田市 | D16: 927 | E16: 498 | F16: 4620
A17: 12 | B17: 210 | C17: 茂原市 | D17: 1870 | E17: 544 | F17: 10200
A18: 12 | B18: 211 | C18: 成田市 | D18: 2970 | E18: 542 | F18: 16100
A19: 12 | B19: 212 | C19: 佐倉市 | D19: 1250 | E19: 532 | F19: 6660
A20: 12 | B20: 213 | C20: 東金市 | D20: 1890 | E20: 557 | F20: 10500
... A29: 12 | B29: 223 | C29: 鴨川市 | D29: 1340 | E29: 511 | F29: 6850
A30: 12 | B30: 224 | C30: 鎌ケ谷市 | D30: - | E30: - | F30: -
A31: 12 | B31: 225 | C31: 君津市 | D31: 1930 | E31: 527 | F31: 10200
A32: 12 | B32: 226 | C32: 富津市 | D32: 1120 | E32: 518 | F32: 5820
A33: 12 | B33: 227 | C33: 浦安市 | D33: - | E33: - | F33: -
A34: 12 | B34: 228 | C34: 四街道市 | D34: 162 | E34: 515 | F34: 834
A35: 12 | B35: 229 | C35: 袖ケ浦市 | D35: 1100 | E35: 562 | F35: 6190
A36: 12 | B36: 230 | C36: 八街市 | D36: 101 | E36: 496 | F36: 501
A37: 12 | B37: 231 | C37: 印西市 | D37: 2550 | E37: 534 | F37: 13600
A38: 12 | B38: 232 | C38: 白井市 | D38: 226 | E38: 511 | F38: 1160
A39: 12 | B39: 233 | C39: 富里市 | D39: 182 | E39: 501 | F39: 912
A40: 12 | B40: 234 | C40: 南房総市 | D40: 1180 | E40: 497 | F40: 5880
A41: 12 | B41: 235 | C41: 匝瑳市 | D41: 2840 | E41: 566 | F41: 16100
A42: 12 | B42: 236 | C42: 香取市 | D42: 6210 | E42: 555 | F42: 34400
A43: 12 | B43: 237 | C43: 山武市 | D43: 2530 | E43: 554 | F43: 14000
A44: 12 | B44: 238 | C44: いすみ市 | D44: 1890 | E44: 525 | F44: 9900
A45: 12 | B45: 239 | C45: 大網白里市 | D45: 1420 | E45: 555 | F45: 7880
... A62: 12 | B62: 463 | C62: 鋸南町 | D62: 141 | E62: 487 | F62: 687
C64: 計 | D64: 57000 | E64: 539 | F64: 307200
A66: 利用上の注意
...

Sheet H28-16
A1: 農林水産関係市町村別統計
A2: 平成28年産
A3: 水稲
A4: 千葉県 | D4: 2016 | E4: 2016 | F4: 2016
A5: 都道 | B5: 市町 | D5: 作付面積 | E5: 10a当たり | F5: 収穫量
A6: 府県 | B6: 村 | C6: 市町村名 | E6: 収量
A7: ｺｰﾄﾞ | B7: ｺｰﾄﾞ
D8: ha | E8: kg | F8: t
A9: 12 | B9: 100 | C9: 千葉市 | D9: 682 | E9: 514 | F9: 3510
A10: 12 | B10: 202 | C10: 銚子市 | D10: 471 | E10: 560 | F10: 2640
A11: 12 | B11: 203 | C11: 市川市 | D11: 1 | E11: 432 | F11: 4
A12: 12 | B12: 204 | C12: 船橋市 | D12: 105 | E12: 471 | F12: 495
A13: 12 | B13: 205 | C13: 館山市 | D13: 707 | E13: 512 | F13: 3620
A14: 12 | B14: 206 | C14: 木更津市 | D14: 1380 | E14: 536 | F14: 7390
A15: 12 | B15: 207 | C15: 松戸市 | D15: 51 | E15: 457 | F15: 233
A16: 12 | B16: 208 | C16: 野田市 | D16: 909 | E16: 510 | F16: 4640
A17: 12 | B17: 210 | C17: 茂原市 | D17: 1840 | E17: 552 | F17: 10200
A18: 12 | B18: 211 | C18: 成田市 | D18: 2940 | E18: 547 | F18: 16100
A19: 12 | B19: 212 | C19: 佐倉市 | D19: 1220 | E19: 536 | F19: 6560
A20: 12 | B20: 213 | C20: 東金市 | D20: 1850 | E20: 549 | F20: 10200
... A29: 12 | B29: 223 | C29: 鴨川市 | D29: 1330 | E29: 519 | F29: 6880
A30: 12 | B30: 224 | C30: 鎌ケ谷市 | D30: - | E30: - | F30: -
A31: 12 | B31: 225 | C31: 君津市 | D31: 1900 | E31: 533 | F31: 10100
A32: 12 | B32: 226 | C32: 富津市 | D32: 1090 | E32: 525 | F32: 5710
A33: 12 | B33: 227 | C33: 浦安市 | D33: - | E33: - | F33: -
A34: 12 | B34: 228 | C34: 四街道市 | D34: 160 | E34: 520 | F34: 832
A35: 12 | B35: 229 | C35: 袖ケ浦市 | D35: 1030 | E35: 570 | F35: 5890
A36: 12 | B36: 230 | C36: 八街市 | D36: 100 | E36: 478 | F36: 478
A37: 12 | B37: 231 | C37: 印西市 | D37: 2550 | E37: 538 | F37: 13700
A38: 12 | B38: 232 | C38: 白井市 | D38: 223 | E38: 514 | F38: 1150
A39: 12 | B39: 233 | C39: 富里市 | D39: 176 | E39: 505 | F39: 889
A40: 12 | B40: 234 | C40: 南房総市 | D40: 1140 | E40: 506 | F40: 5750
A41: 12 | B41: 235 | C41: 匝瑳市 | D41: 2790 | E41: 585 | F41: 16300
A42: 12 | B42: 236 | C42: 香取市 | D42: 6050 | E42: 580 | F42: 35100
A43: 12 | B43: 237 | C43: 山武市 | D43: 2480 | E43: 565 | F43: 14000
A44: 12 | B44: 238 | C44: いすみ市 | D44: 1790 | E44: 535 | F44: 9580
A45: 12 | B45: 239 | C45: 大網白里市 | D45: 1410 | E45: 569 | F45: 7990
... A62: 12 | B62: 463 | C62: 鋸南町 | D62: 133 | E62: 493 | F62: 656
C64: 計 | D64: 55700 | E64: 549 | F64: 305800
A66: 利用上の注意
...

Sheet H29-17
A1: 農林水産関係市町村別統計
A2: 平成29年産
A3: 水稲
A4: 千葉県 | D4: 2017 | E4: 2017 | F4: 2017
A5: 都道 | B5: 市町 | D5: 作付面積 | E5: 10a当たり | F5: 収穫量
A6: 府県 | B6: 村 | C6: 市町村名 | E6: 収量
A7: ｺｰﾄﾞ | B7: ｺｰﾄﾞ
D8: ha | E8: kg | F8: t
A9: 12 | B9: 100 | C9: 千葉市 | D9: 679 | E9: 511 | F9: 3470
A10: 12 | B10: 202 | C10: 銚子市 | D10: 471 | E10: 550 | F10: 2590
A11: 12 | B11: 203 | C11: 市川市 | D11: 1 | E11: 422 | F11: 4
A12: 12 | B12: 204 | C12: 船橋市 | D12: 105 | E12: 464 | F12: 487
A13: 12 | B13: 205 | C13: 館山市 | D13: 693 | E13: 510 | F13: 3530
A14: 12 | B14: 206 | C14: 木更津市 | D14: 1350 | E14: 535 | F14: 7230
A15: 12 | B15: 207 | C15: 松戸市 | D15: 50 | E15: 447 | F15: 224
A16: 12 | B16: 208 | C16: 野田市 | D16: 890 | E16: 500 | F16: 4450
A17: 12 | B17: 210 | C17: 茂原市 | D17: 1840 | E17: 548 | F17: 10100
A18: 12 | B18: 211 | C18: 成田市 | D18: 2910 | E18: 537 | F18: 15600
A19: 12 | B19: 212 | C19: 佐倉市 | D19: 1220 | E19: 526 | F19: 6400
A20: 12 | B20: 213 | C20: 東金市 | D20: 1830 | E20: 562 | F20: 10300
... A29: 12 | B29: 223 | C29: 鴨川市 | D29: 1310 | E29: 518 | F29: 6790
A30: 12 | B30: 224 | C30: 鎌ケ谷市 | D30: - | E30: - | F30: -
A31: 12 | B31: 225 | C31: 君津市 | D31: 1870 | E31: 534 | F31: 9990
A32: 12 | B32: 226 | C32: 富津市 | D32: 1080 | E32: 524 | F32: 5640
A33: 12 | B33: 227 | C33: 浦安市 | D33: - | E33: - | F33: -
A34: 12 | B34: 228 | C34: 四街道市 | D34: 159 | E34: 512 | F34: 814
A35: 12 | B35: 229 | C35: 袖ケ浦市 | D35: 1010 | E35: 568 | F35: 5710
A36: 12 | B36: 230 | C36: 八街市 | D36: 97 | E36: 491 | F36: 476
A37: 12 | B37: 231 | C37: 印西市 | D37: 2500 | E37: 528 | F37: 13200
A38: 12 | B38: 232 | C38: 白井市 | D38: 223 | E38: 506 | F38: 1130
A39: 12 | B39: 233 | C39: 富里市 | D39: 172 | E39: 495 | F39: 851
A40: 12 | B40: 234 | C40: 南房総市 | D40: 1100 | E40: 506 | F40: 5570
A41: 12 | B41: 235 | C41: 匝瑳市 | D41: 2770 | E41: 573 | F41: 15900
A42: 12 | B42: 236 | C42: 香取市 | D42: 6030 | E42: 564 | F42: 34000
A43: 12 | B43: 237 | C43: 山武市 | D43: 2540 | E43: 560 | F43: 14200
A44: 12 | B44: 238 | C44: いすみ市 | D44: 1790 | E44: 533 | F44: 9560
A45: 12 | B45: 239 | C45: 大網白里市 | D45: 1360 | E45: 561 | F45: 7650
... A62: 12 | B62: 463 | C62: 鋸南町 | D62: 127 | E62: 494 | F62: 627
C64: 計 | D64: 55200 | E64: 543 | F64: 299700
A66: 利用上の注意
...

Sheet H30-18
A1: 農林水産関係市町村別統計
A2: 平成30年産
A3: 水稲
A4: 千葉県 | D4: 2018 | E4: 2018 | F4: 2018
A5: 都道 | B5: 市町 | D5: 作付面積 | E5: 10a当たり | F5: 収穫量
A6: 府県 | B6: 村 | C6: 市町村名 | E6: 収量
A7: ｺｰﾄﾞ | B7: ｺｰﾄﾞ
D8: ha | E8: kg | F8: t
A9: 12 | B9: 100 | C9: 千葉市 | D9: 678 | E9: 509 | F9: 3450
A10: 12 | B10: 202 | C10: 銚子市 | D10: 465 | E10: 546 | F10: 2540
A11: 12 | B11: 203 | C11: 市川市 | D11: 1 | E11: 420 | F11: 4
A12: 12 | B12: 204 | C12: 船橋市 | D12: 98 | E12: 462 | F12: 453
A13: 12 | B13: 205 | C13: 館山市 | D13: 688 | E13: 515 | F13: 3540
A14: 12 | B14: 206 | C14: 木更津市 | D14: 1360 | E14: 538 | F14: 7320
A15: 12 | B15: 207 | C15: 松戸市 | D15: 50 | E15: 444 | F15: 222
A16: 12 | B16: 208 | C16: 野田市 | D16: 881 | E16: 498 | F16: 4390
A17: 12 | B17: 210 | C17: 茂原市 | D17: 1820 | E17: 544 | F17: 9910
A18: 12 | B18: 211 | C18: 成田市 | D18: 2940 | E18: 535 | F18: 15700
A19: 12 | B19: 212 | C19: 佐倉市 | D19: 1210 | E19: 525 | F19: 6360
A20: 12 | B20: 213 | C20: 東金市 | D20: 1890 | E20: 558 | F20: 10500
... A29: 12 | B29: 223 | C29: 鴨川市 | D29: 1320 | E29: 522 | F29: 6870
A30: 12 | B30: 224 | C30: 鎌ケ谷市 | D30: - | E30: - | F30: -
A31: 12 | B31: 225 | C31: 君津市 | D31: 1890 | E31: 536 | F31: 10100
A32: 12 | B32: 226 | C32: 富津市 | D32: 1080 | E32: 525 | F32: 5680
A33: 12 | B33: 227 | C33: 浦安市 | D33: - | E33: - | F33: -
A34: 12 | B34: 228 | C34: 四街道市 | D34: 162 | E34: 511 | F34: 828
A35: 12 | B35: 229 | C35: 袖ケ浦市 | D35: 1050 | E35: 570 | F35: 5960
A36: 12 | B36: 230 | C36: 八街市 | D36: 93 | E36: 490 | F36: 456
A37: 12 | B37: 231 | C37: 印西市 | D37: 2500 | E37: 527 | F37: 13200
A38: 12 | B38: 232 | C38: 白井市 | D38: 211 | E38: 505 | F38: 1070
A39: 12 | B39: 233 | C39: 富里市 | D39: 172 | E39: 494 | F39: 850
A40: 12 | B40: 234 | C40: 南房総市 | D40: 1100 | E40: 511 | F40: 5610
A41: 12 | B41: 235 | C41: 匝瑳市 | D41: 2800 | E41: 569 | F41: 15900
A42: 12 | B42: 236 | C42: 香取市 | D42: 6100 | E42: 560 | F42: 34200
A43: 12 | B43: 237 | C43: 山武市 | D43: 2570 | E43: 555 | F43: 14300
A44: 12 | B44: 238 | C44: いすみ市 | D44: 1840 | E44: 537 | F44: 9870
A45: 12 | B45: 239 | C45: 大網白里市 | D45: 1420 | E45: 557 | F45: 7930
... A62: 12 | B62: 463 | C62: 鋸南町 | D62: 131 | E62: 496 | F62: 650
C64: 計 | D64: 55600 | E64: 542 | F64: 301400
A66: 利用上の注意
...

Sheet R1-19
A1: 農林水産関係市町村別統計
A2: 令和元年産
A3: 水稲
A4: 千葉県 | D4: 2019 | E4: 2019 | F4: 2019
A5: 都道 | B5: 市町 | D5: 作付面積 | E5: 10a当たり | F5: 収穫量
A6: 府県 | B6: 村 | C6: 市町村名 | E6: 収量
A7: ｺｰﾄﾞ | B7: ｺｰﾄﾞ
D8: ha | E8: kg | F8: t
A9: 12 | B9: 100 | C9: 千葉市 | D9: 673 | E9: 494 | F9: 3330
A10: 12 | B10: 202 | C10: 銚子市 | D10: 453 | E10: 518 | F10: 2350
A11: 12 | B11: 203 | C11: 市川市 | D11: 1 | E11: 412 | F11: 4
A12: 12 | B12: 204 | C12: 船橋市 | D12: 101 | E12: 447 | F12: 451
A13: 12 | B13: 205 | C13: 館山市 | D13: 686 | E13: 493 | F13: 3380
A14: 12 | B14: 206 | C14: 木更津市 | D14: 1370 | E14: 518 | F14: 7110
A15: 12 | B15: 207 | C15: 松戸市 | D15: 50 | E15: 434 | F15: 217
A16: 12 | B16: 208 | C16: 野田市 | D16: 923 | E16: 485 | F16: 4480
A17: 12 | B17: 210 | C17: 茂原市 | D17: 1840 | E17: 512 | F17: 9440
A18: 12 | B18: 211 | C18: 成田市 | D18: 2970 | E18: 521 | F18: 15500
A19: 12 | B19: 212 | C19: 佐倉市 | D19: 1210 | E19: 511 | F19: 6160
A20: 12 | B20: 213 | C20: 東金市 | D20: 1940 | E20: 527 | F20: 10200
... A29: 12 | B29: 223 | C29: 鴨川市 | D29: 1310 | E29: 499 | F29: 6520
A30: 12 | B30: 224 | C30: 鎌ケ谷市 | D30: - | E30: - | F30: -
A31: 12 | B31: 225 | C31: 君津市 | D31: 1880 | E31: 515 | F31: 9700
A32: 12 | B32: 226 | C32: 富津市 | D32: 1080 | E32: 506 | F32: 5460
A33: 12 | B33: 227 | C33: 浦安市 | D33: - | E33: - | F33: -
A34: 12 | B34: 228 | C34: 四街道市 | D34: 155 | E34: 498 | F34: 772
A35: 12 | B35: 229 | C35: 袖ケ浦市 | D35: 1050 | E35: 550 | F35: 5750
A36: 12 | B36: 230 | C36: 八街市 | D36: 88 | E36: 475 | F36: 418
A37: 12 | B37: 231 | C37: 印西市 | D37: 2530 | E37: 511 | F37: 12900
A38: 12 | B38: 232 | C38: 白井市 | D38: 211 | E38: 492 | F38: 1040
A39: 12 | B39: 233 | C39: 富里市 | D39: 169 | E39: 481 | F39: 813
A40: 12 | B40: 234 | C40: 南房総市 | D40: 1100 | E40: 488 | F40: 5350
A41: 12 | B41: 235 | C41: 匝瑳市 | D41: 2780 | E41: 540 | F41: 15000
A42: 12 | B42: 236 | C42: 香取市 | D42: 6150 | E42: 525 | F42: 32300
A43: 12 | B43: 237 | C43: 山武市 | D43: 2610 | E43: 525 | F43: 13700
A44: 12 | B44: 238 | C44: いすみ市 | D44: 1890 | E44: 512 | F44: 9670
A45: 12 | B45: 239 | C45: 大網白里市 | D45: 1390 | E45: 525 | F45: 7320
... A62: 12 | B62: 463 | C62: 鋸南町 | D62: 128 | E62: 478 | F62: 612
C64: 計 | D64: 56000 | E64: 516 | F64: 289000
A66: 利用上の注意
...

Sheet R2-20
A1: 農林水産関係市町村別統計
A2: 令和2年産
A3: 水稲
A4: 千葉県 | D4: 2020 | E4: 2020 | F4: 2020
A5: 都道 | B5: 市町 | D5: 作付面積 | E5: 10a当たり | F5: 収穫量
A6: 府県 | B6: 村 | C6: 市町村名 | E6: 収量
A7: ｺｰﾄﾞ | B7: ｺｰﾄﾞ
D8: ha | E8: kg | F8: t
A9: 12 | B9: 100 | C9: 千葉市 | D9: 674 | E9: 514 | F9: 3460
A10: 12 | B10: 202 | C10: 銚子市 | D10: 447 | E10: 549 | F10: 2450
A11: 12 | B11: 203 | C11: 市川市 | D11: 1 | E11: 433 | F11: 4
A12: 12 | B12: 204 | C12: 船橋市 | D12: 93 | E12: 469 | F12: 436
A13: 12 | B13: 205 | C13: 館山市 | D13: 651 | E13: 490 | F13: 3190
A14: 12 | B14: 206 | C14: 木更津市 | D14: 1340 | E14: 517 | F14: 6920
A15: 12 | B15: 207 | C15: 松戸市 | D15: 43 | E15: 449 | F15: 193
A16: 12 | B16: 208 | C16: 野田市 | D16: 923 | E16: 502 | F16: 4630
A17: 12 | B17: 210 | C17: 茂原市 | D17: 1820 | E17: 544 | F17: 9900
A18: 12 | B18: 211 | C18: 成田市 | D18: 2950 | E18: 530 | F18: 15600
A19: 12 | B19: 212 | C19: 佐倉市 | D19: 1220 | E19: 532 | F19: 6500
A20: 12 | B20: 213 | C20: 東金市 | D20: 1910 | E20: 554 | F20: 10600
... A29: 12 | B29: 223 | C29: 鴨川市 | D29: 1260 | E29: 498 | F29: 6250
A30: 12 | B30: 224 | C30: 鎌ケ谷市 | D30: - | E30: - | F30: -
A31: 12 | B31: 225 | C31: 君津市 | D31: 1840 | E31: 514 | F31: 9430
A32: 12 | B32: 226 | C32: 富津市 | D32: 1050 | E32: 504 | F32: 5300
A33: 12 | B33: 227 | C33: 浦安市 | D33: - | E33: - | F33: -
A34: 12 | B34: 228 | C34: 四街道市 | D34: 153 | E34: 520 | F34: 796
A35: 12 | B35: 229 | C35: 袖ケ浦市 | D35: 1050 | E35: 547 | F35: 5720
A36: 12 | B36: 230 | C36: 八街市 | D36: 84 | E36: 495 | F36: 416
A37: 12 | B37: 231 | C37: 印西市 | D37: 2500 | E37: 521 | F37: 13000
A38: 12 | B38: 232 | C38: 白井市 | D38: 207 | E38: 508 | F38: 1050
A39: 12 | B39: 233 | C39: 富里市 | D39: 163 | E39: 499 | F39: 813
A40: 12 | B40: 234 | C40: 南房総市 | D40: 1060 | E40: 486 | F40: 5170
A41: 12 | B41: 235 | C41: 匝瑳市 | D41: 2730 | E41: 569 | F41: 15500
A42: 12 | B42: 236 | C42: 香取市 | D42: 6130 | E42: 561 | F42: 34400
A43: 12 | B43: 237 | C43: 山武市 | D43: 2590 | E43: 555 | F43: 14400
A44: 12 | B44: 238 | C44: いすみ市 | D44: 1910 | E44: 511 | F44: 9780
A45: 12 | B45: 239 | C45: 大網白里市 | D45: 1400 | E45: 556 | F45: 7760
... A62: 12 | B62: 463 | C62: 鋸南町 | D62: 119 | E62: 475 | F62: 565
C64: 計 | D64: 55400 | E64: 537 | F64: 297500
A66: 利用上の注意
...

Sheet R3-21
A1: 農林水産関係市町村別統計
A2: 令和3年産
A3: 水稲
A4: 千葉県 | D4: 2021 | E4: 2021 | F4: 2021
A5: 都道 | B5: 市町 | C5: 市町村名 | D5: 作付面積 | E5: 10a当たり | F5: 収穫量
A6: 府県 | B6: 村 | E6: 収量
A7: ｺｰﾄﾞ | B7: ｺｰﾄﾞ
D8: ha | E8: kg | F8: t
A9: 12 | B9: 100 | C9: 千葉市 | D9: 648 | E9: 520 | F9: 3370
A10: 12 | B10: 202 | C10: 銚子市 | D10: 440 | E10: 554 | F10: 2440
A11: 12 | B11: 203 | C11: 市川市 | D11: 1 | E11: 437 | F11: 4
A12: 12 | B12: 204 | C12: 船橋市 | D12: 90 | E12: 478 | F12: 430
A13: 12 | B13: 205 | C13: 館山市 | D13: 631 | E13: 517 | F13: 3260
A14: 12 | B14: 206 | C14: 木更津市 | D14: 1210 | E14: 545 | F14: 6580
A15: 12 | B15: 207 | C15: 松戸市 | D15: 42 | E15: 458 | F15: 192
A16: 12 | B16: 208 | C16: 野田市 | D16: 834 | E16: 510 | F16: 4250
A17: 12 | B17: 210 | C17: 茂原市 | D17: 1780 | E17: 549 | F17: 9780
A18: 12 | B18: 211 | C18: 成田市 | D18: 2490 | E18: 545 | F18: 13600
A19: 12 | B19: 212 | C19: 佐倉市 | D19: 1130 | E19: 537 | F19: 6080
A20: 12 | B20: 213 | C20: 東金市 | D20: 1650 | E20: 559 | F20: 9210
... A29: 12 | B29: 223 | C29: 鴨川市 | D29: 1240 | E29: 525 | F29: 6480
A30: 12 | B30: 224 | C30: 鎌ケ谷市 | D30: - | E30: - | F30: -
A31: 12 | B31: 225 | C31: 君津市 | D31: 1760 | E31: 542 | F31: 9520
A32: 12 | B32: 226 | C32: 富津市 | D32: 1040 | E32: 534 | F32: 5530
A33: 12 | B33: 227 | C33: 浦安市 | D33: - | E33: - | F33: -
A34: 12 | B34: 228 | C34: 四街道市 | D34: 148 | E34: 524 | F34: 776
A35: 12 | B35: 229 | C35: 袖ケ浦市 | D35: 934 | E35: 579 | F35: 5410
A36: 12 | B36: 230 | C36: 八街市 | D36: 82 | E36: 498 | F36: 408
A37: 12 | B37: 231 | C37: 印西市 | D37: 2040 | E37: 536 | F37: 10900
A38: 12 | B38: 232 | C38: 白井市 | D38: 203 | E38: 518 | F38: 1050
A39: 12 | B39: 233 | C39: 富里市 | D39: 155 | E39: 507 | F39: 786
A40: 12 | B40: 234 | C40: 南房総市 | D40: 1020 | E40: 513 | F40: 5220
A41: 12 | B41: 235 | C41: 匝瑳市 | D41: 2510 | E41: 575 | F41: 14400
A42: 12 | B42: 236 | C42: 香取市 | D42: 5400 | E42: 568 | F42: 30700
A43: 12 | B43: 237 | C43: 山武市 | D43: 2350 | E43: 562 | F43: 13200
A44: 12 | B44: 238 | C44: いすみ市 | D44: 1790 | E44: 541 | F44: 9670
A45: 12 | B45: 239 | C45: 大網白里市 | D45: 1250 | E45: 563 | F45: 7040
... A62: 12 | B62: 463 | C62: 鋸南町 | D62: 116 | E62: 502 | F62: 582
C64: 計 | D64: 50600 | E64: 549 | F64: 277800
A66: 利用上の注意
...

Sheet R4-22
A1: 農林水産関係市町村別統計
A2: 令和4年産
A3: 水稲
A4: 千葉県 | D4: 2022 | E4: 2022 | F4: 2022
A5: 都道 | B5: 市町 | C5: 市町村名 | D5: 作付面積 | E5: 10a当たり | F5: 収穫量
A6: 府県 | B6: 村 | E6: 収量
A7: ｺｰﾄﾞ | B7: ｺｰﾄﾞ
D8: ha | E8: kg | F8: t
A9: 12 | B9: 100 | C9: 千葉市 | D9: 635 | E9: 508 | F9: 3230
A10: 12 | B10: 202 | C10: 銚子市 | D10: 438 | E10: 554 | F10: 2430
A11: 12 | B11: 203 | C11: 市川市 | D11: 1 | E11: 424 | F11: 4
A12: 12 | B12: 204 | C12: 船橋市 | D12: 87 | E12: 463 | F12: 403
A13: 12 | B13: 205 | C13: 館山市 | D13: 611 | E13: 514 | F13: 3140
A14: 12 | B14: 206 | C14: 木更津市 | D14: 1120 | E14: 541 | F14: 6060
A15: 12 | B15: 207 | C15: 松戸市 | D15: 40 | E15: 447 | F15: 179
A16: 12 | B16: 208 | C16: 野田市 | D16: 785 | E16: 502 | F16: 3940
A17: 12 | B17: 210 | C17: 茂原市 | D17: 1720 | E17: 550 | F17: 9430
A18: 12 | B18: 211 | C18: 成田市 | D18: 2270 | E18: 534 | F18: 12100
A19: 12 | B19: 212 | C19: 佐倉市 | D19: 1080 | E19: 526 | F19: 5700
A20: 12 | B20: 213 | C20: 東金市 | D20: 1510 | E20: 559 | F20: 8450
... A29: 12 | B29: 223 | C29: 鴨川市 | D29: 1140 | E29: 522 | F29: 5950
A30: 12 | B30: 224 | C30: 鎌ケ谷市 | D30: - | E30: - | F30: -
A31: 12 | B31: 225 | C31: 君津市 | D31: 1690 | E31: 538 | F31: 9070
A32: 12 | B32: 226 | C32: 富津市 | D32: 999 | E32: 529 | F32: 5290
A33: 12 | B33: 227 | C33: 浦安市 | D33: - | E33: - | F33: -
A34: 12 | B34: 228 | C34: 四街道市 | D34: 142 | E34: 512 | F34: 727
A35: 12 | B35: 229 | C35: 袖ケ浦市 | D35: 811 | E35: 574 | F35: 4660
A36: 12 | B36: 230 | C36: 八街市 | D36: 81 | E36: 486 | F36: 394
A37: 12 | B37: 231 | C37: 印西市 | D37: 1930 | E37: 525 | F37: 10100
A38: 12 | B38: 232 | C38: 白井市 | D38: 203 | E38: 505 | F38: 1030
A39: 12 | B39: 233 | C39: 富里市 | D39: 154 | E39: 495 | F39: 762
A40: 12 | B40: 234 | C40: 南房総市 | D40: 951 | E40: 511 | F40: 4860
A41: 12 | B41: 235 | C41: 匝瑳市 | D41: 2400 | E41: 574 | F41: 13700
A42: 12 | B42: 236 | C42: 香取市 | D42: 4970 | E42: 566 | F42: 28100
A43: 12 | B43: 237 | C43: 山武市 | D43: 2210 | E43: 561 | F43: 12400
A44: 12 | B44: 238 | C44: いすみ市 | D44: 1740 | E44: 538 | F44: 9330
A45: 12 | B45: 239 | C45: 大網白里市 | D45: 1220 | E45: 562 | F45: 6850
... A62: 12 | B62: 463 | C62: 鋸南町 | D62: 114 | E62: 499 | F62: 569
C64: 計 | D64: 47700 | E64: 544 | F64: 259500
A66: 利用上の注意
...

Sheet R5-23
A1: 農林水産関係市町村別統計
A2: 令和5年産
A3: 水稲
A4: 千葉県 | D4: 2023 | E4: 2023 | F4: 2023
A5: 都道府県ｺｰﾄﾞ | B5: 市町村 ｺｰﾄﾞ | C5: 市町村名 | D5: 作付面積 | E5: 10a当たり 収量 | F5: 収穫量
D8: ha | E8: kg | F8: t
A9: 12 | B9: 100 | C9: 千葉市 | D9: 638 | E9: 520 | F9: 3320
A10: 12 | B10: 202 | C10: 銚子市 | D10: 440 | E10: 565 | F10: 2490
A11: 12 | B11: 203 | C11: 市川市 | D11: 1 | E11: 434 | F11: 4
A12: 12 | B12: 204 | C12: 船橋市 | D12: 83 | E12: 474 | F12: 393
A13: 12 | B13: 205 | C13: 館山市 | D13: 599 | E13: 530 | F13: 3180
A14: 12 | B14: 206 | C14: 木更津市 | D14: 1100 | E14: 556 | F14: 6120
A15: 12 | B15: 207 | C15: 松戸市 | D15: 39 | E15: 457 | F15: 178
A16: 12 | B16: 208 | C16: 野田市 | D16: 790 | E16: 511 | F16: 4040
A17: 12 | B17: 210 | C17: 茂原市 | D17: 1710 | E17: 562 | F17: 9590
A18: 12 | B18: 211 | C18: 成田市 | D18: 2320 | E18: 546 | F18: 12700
A19: 12 | B19: 212 | C19: 佐倉市 | D19: 1090 | E19: 539 | F19: 5880
A20: 12 | B20: 213 | C20: 東金市 | D20: 1590 | E20: 571 | F20: 9090
... A29: 12 | B29: 223 | C29: 鴨川市 | D29: 1140 | E29: 538 | F29: 6120
A30: 12 | B30: 224 | C30: 鎌ケ谷市 | D30: - | E30: - | F30: -
A31: 12 | B31: 225 | C31: 君津市 | D31: 1680 | E31: 553 | F31: 9260
A32: 12 | B32: 226 | C32: 富津市 | D32: 994 | E32: 544 | F32: 5410
A33: 12 | B33: 227 | C33: 浦安市 | D33: - | E33: - | F33: -
A34: 12 | B34: 228 | C34: 四街道市 | D34: 142 | E34: 524 | F34: 744
A35: 12 | B35: 229 | C35: 袖ケ浦市 | D35: 810 | E35: 590 | F35: 4780
A36: 12 | B36: 230 | C36: 八街市 | D36: 80 | E36: 497 | F36: 398
A37: 12 | B37: 231 | C37: 印西市 | D37: 1910 | E37: 537 | F37: 10200
A38: 12 | B38: 232 | C38: 白井市 | D38: 201 | E38: 517 | F38: 1040
A39: 12 | B39: 233 | C39: 富里市 | D39: 155 | E39: 507 | F39: 786
A40: 12 | B40: 234 | C40: 南房総市 | D40: 915 | E40: 525 | F40: 4800
A41: 12 | B41: 235 | C41: 匝瑳市 | D41: 2420 | E41: 586 | F41: 14200
A42: 12 | B42: 236 | C42: 香取市 | D42: 4930 | E42: 578 | F42: 28500
A43: 12 | B43: 237 | C43: 山武市 | D43: 2310 | E43: 573 | F43: 13200
A44: 12 | B44: 238 | C44: いすみ市 | D44: 1730 | E44: 555 | F44: 9600
A45: 12 | B45: 239 | C45: 大網白里市 | D45: 1240 | E45: 574 | F45: 7120
... A62: 12 | B62: 463 | C62: 鋸南町 | D62: 114 | E62: 513 | F62: 585
C64: 計 | D64: 47700 | E64: 557 | F64: 265700
A66: 利用上の注意
A67: １ この市町村別統計は、「作物統計調査」を実施する上で把握した地域における標本調査及び現地見積りの結果、関係機関
A68: からの情報等を踏まえ、都道府県計値の内訳として市町村別に配分することにより作成した加工統計であり、市町村別の値
...

Sheet R6-24
A1: 農林水産関係市町村別統計
A2: 令和6年産
A3: 水稲
A4: 千葉県
A5: 都道府県ｺｰﾄﾞ | B5: 市町村 ｺｰﾄﾞ | C5: 市町村名 | D5: 作付面積 | E5: 10a当たり 収量 | F5: 収穫量
D8: ha | E8: kg | F8: t
A9: 12 | B9: 100 | C9: 千葉市 | D9: 644 | E9: 523 | F9: 3370
A10: 12 | B10: 202 | C10: 銚子市 | D10: 436 | E10: 583 | F10: 2540
A11: 12 | B11: 203 | C11: 市川市 | D11: 1 | E11: 437 | F11: 4
A12: 12 | B12: 204 | C12: 船橋市 | D12: 84 | E12: 476 | F12: 400
A13: 12 | B13: 205 | C13: 館山市 | D13: 610 | E13: 535 | F13: 3260
A14: 12 | B14: 206 | C14: 木更津市 | D14: 1110 | E14: 561 | F14: 6230
A15: 12 | B15: 207 | C15: 松戸市 | D15: 44 | E15: 472 | F15: 208
A16: 12 | B16: 208 | C16: 野田市 | D16: 811 | E16: 513 | F16: 4160
A17: 12 | B17: 210 | C17: 茂原市 | D17: 1730 | E17: 579 | F17: 10000
A18: 12 | B18: 211 | C18: 成田市 | D18: 2700 | E18: 548 | F18: 14800
A19: 12 | B19: 212 | C19: 佐倉市 | D19: 1130 | E19: 541 | F19: 6110
A20: 12 | B20: 213 | C20: 東金市 | D20: 1780 | E20: 590 | F20: 10500
... A29: 12 | B29: 223 | C29: 鴨川市 | D29: 1100 | E29: 542 | F29: 5970
A30: 12 | B30: 224 | C30: 鎌ケ谷市 | D30: - | E30: - | F30: -
A31: 12 | B31: 225 | C31: 君津市 | D31: 1620 | E31: 559 | F31: 9060
A32: 12 | B32: 226 | C32: 富津市 | D32: 1000 | E32: 549 | F32: 5500
A33: 12 | B33: 227 | C33: 浦安市 | D33: - | E33: - | F33: -
A34: 12 | B34: 228 | C34: 四街道市 | D34: 150 | E34: 527 | F34: 791
A35: 12 | B35: 229 | C35: 袖ケ浦市 | D35: 927 | E35: 595 | F35: 5520
A36: 12 | B36: 230 | C36: 八街市 | D36: 80 | E36: 503 | F36: 402
A37: 12 | B37: 231 | C37: 印西市 | D37: 2170 | E37: 539 | F37: 11700
A38: 12 | B38: 232 | C38: 白井市 | D38: 201 | E38: 519 | F38: 1040
A39: 12 | B39: 233 | C39: 富里市 | D39: 157 | E39: 509 | F39: 799
A40: 12 | B40: 234 | C40: 南房総市 | D40: 1050 | E40: 530 | F40: 5590
A41: 12 | B41: 235 | C41: 匝瑳市 | D41: 2720 | E41: 605 | F41: 16400
A42: 12 | B42: 236 | C42: 香取市 | D42: 5400 | E42: 597 | F42: 32200
A43: 12 | B43: 237 | C43: 山武市 | D43: 2400 | E43: 592 | F43: 14200
A44: 12 | B44: 238 | C44: いすみ市 | D44: 1740 | E44: 558 | F44: 9700
A45: 12 | B45: 239 | C45: 大網白里市 | D45: 1370 | E45: 593 | F45: 8110
... A62: 12 | B62: 463 | C62: 鋸南町 | D62: 112 | E62: 520 | F62: 582
C64: 計 | D64: 50600 | E64: 569 | F64: 287900
A66: 利用上の注意
A67: １ この市町村別統計は、「作物統計調査」を実施する上で把握した地域における標本調査結果及び現地見積りの結果、関係機関
A68: からの情報等を踏まえ、都道府県計値の内訳として市町村別に配分することにより作成した加工統計であり、市町村別の値
...

Sheet 2010-2024all
A1: 農林水産関係市町村別統計
A2: 令和6年産
A3: 水稲
A4: 千葉県 | D4: 2010 | E4: 2010 | F4: 2010 | G4: 2011 | H4: 2011 | I4: 2011 | J4: 2012 | K4: 2012 | L4: 2012 | M4: 2013 | N4: 2013 | O4: 2013 | P4: 2014 | Q4: 2014 | R4: 2014 | S4: 2015 | T4: 2015 | U4: 2015 | V4: 2016 | W4: 2016 | X4: 2016 | Y4: 2017 | Z4: 2017 | AA4: 2017 | AB4: 2018 | AC4: 2018 | AD4: 2018 | AE4: 2019 | AF4: 2019 | AG4: 2019 | AH4: 2020 | AI4: 2020 | AJ4: 2020 | AK4: 2021 | AL4: 2021 | AM4: 2021 | AN4: 2022 | AO4: 2022 | AP4: 2022 | AQ4: 2023 | AR4: 2023 | AS4: 2023 | AT4: 2024 | AU4: 2024 | AV4: 2024
A5: 都道府県ｺｰﾄﾞ | B5: 市町村 ｺｰﾄﾞ | C5: 市町村名 | D5: 作付面積 | E5: 10a当たり | F5: 収穫量 | G5: 作付面積 | H5: 10a当たり | I5: 収穫量 | J5: 作付面積 | K5: 10a当たり | L5: 収穫量 | M5: 作付面積 | N5: 10a当たり | O5: 収穫量 | P5: 作付面積 | Q5: 10a当たり | R5: 収穫量 | S5: 作付面積 | T5: 10a当たり | U5: 収穫量 | V5: 作付面積 | W5: 10a当たり | X5: 収穫量 | Y5: 作付面積 | Z5: 10a当たり | AA5: 収穫量 | AB5: 作付面積 | AC5: 10a当たり | AD5: 収穫量 | AE5: 作付面積 | AF5: 10a当たり | AG5: 収穫量 | AH5: 作付面積 | AI5: 10a当たり | AJ5: 収穫量 | AK5: 作付面積 | AL5: 10a当たり | AM5: 収穫量 | AN5: 作付面積 | AO5: 10a当たり | AP5: 収穫量 | AQ5: 作付面積 | AR5: 10a当たり 収量 | AS5: 収穫量 | AT5: 作付面積 | AU5: 10a当たり 収量 | AV5: 収穫量
E6: 収量 | H6: 収量 | K6: 収量 | N6: 収量 | Q6: 収量 | T6: 収量 | W6: 収量 | Z6: 収量 | AC6: 収量 | AF6: 収量 | AI6: 収量 | AL6: 収量 | AO6: 収量
D8: ha | E8: kg | F8: t | G8: ha | H8: kg | I8: t | J8: ha | K8: kg | L8: t | M8: ha | N8: kg | O8: t | P8: ha | Q8: kg | R8: t | S8: ha | T8: kg | U8: t | V8: ha | W8: kg | X8: t | Y8: ha | Z8: kg | AA8: t | AB8: ha | AC8: kg | AD8: t | AE8: ha | AF8: kg | AG8: t | AH8: ha | AI8: kg | AJ8: t | AK8: ha | AL8: kg | AM8: t | AN8: ha | AO8: kg | AP8: t | AQ8: ha | AR8: kg | AS8: t | AT8: ha | AU8: kg | AV8: t
A9: 12 | B9: 100 | C9: 千葉市 | D9: 760 | E9: 501 | F9: 3810 | G9: 750 | H9: 526 | I9: 3950 | J9: 745 | K9: 515 | L9: 3840 | M9: 748 | N9: 515 | O9: 3850 | P9: 745 | Q9: 526 | R9: 3920 | S9: 705 | T9: 511 | U9: 3600 | V9: 682 | W9: 514 | X9: 3510 | Y9: 679 | Z9: 511 | AA9: 3470 | AB9: 678 | AC9: 509 | AD9: 3450 | AE9: 673 | AF9: 494 | AG9: 3330 | AH9: 674 | AI9: 514 | AJ9: 3460 | AK9: 648 | AL9: 520 | AM9: 3370 | AN9: 635 | AO9: 508 | AP9: 3230 | AQ9: 638 | AR9: 520 | AS9: 3320 | AT9: 644 | AU9: 523 | AV9: 3370
A10: 12 | B10: 202 | C10: 銚子市 | D10: 483 | E10: 551 | F10: 2660 | G10: 481 | H10: 524 | I10: 2520 | J10: 477 | K10: 566 | L10: 2700 | M10: 476 | N10: 567 | O10: 2700 | P10: 474 | Q10: 570 | R10: 2700 | S10: 472 | T10: 551 | U10: 2600 | V10: 471 | W10: 560 | X10: 2640 | Y10: 471 | Z10: 550 | AA10: 2590 | AB10: 465 | AC10: 546 | AD10: 2540 | AE10: 453 | AF10: 518 | AG10: 2350 | AH10: 447 | AI10: 549 | AJ10: 2450 | AK10: 440 | AL10: 554 | AM10: 2440 | AN10: 438 | AO10: 554 | AP10: 2430 | AQ10: 440 | AR10: 565 | AS10: 2490 | AT10: 436 | AU10: 583 | AV10: 2540
A11: 12 | B11: 203 | C11: 市川市 | D11: 3 | E11: 430 | F11: 13 | G11: 3 | H11: 416 | I11: 12 | J11: 2 | K11: 425 | L11: 9 | M11: 2 | N11: 438 | O11: 9 | P11: 2 | Q11: 443 | R11: 9 | S11: 2 | T11: 429 | U11: 9 | V11: 1 | W11: 432 | X11: 4 | Y11: 1 | Z11: 422 | AA11: 4 | AB11: 1 | AC11: 420 | AD11: 4 | AE11: 1 | AF11: 412 | AG11: 4 | AH11: 1 | AI11: 433 | AJ11: 4 | AK11: 1 | AL11: 437 | AM11: 4 | AN11: 1 | AO11: 424 | AP11: 4 | AQ11: 1 | AR11: 434 | AS11: 4 | AT11: 1 | AU11: 437 | AV11: 4
A12: 12 | B12: 204 | C12: 船橋市 | D12: 111 | E12: 479 | F12: 532 | G12: 109 | H12: 478 | I12: 521 | J12: 109 | K12: 468 | L12: 510 | M12: 109 | N12: 476 | O12: 519 | P12: 108 | Q12: 484 | R12: 523 | S12: 106 | T12: 467 | U12: 495 | V12: 105 | W12: 471 | X12: 495 | Y12: 105 | Z12: 464 | AA12: 487 | AB12: 98 | AC12: 462 | AD12: 453 | AE12: 101 | AF12: 447 | AG12: 451 | AH12: 93 | AI12: 469 | AJ12: 436 | AK12: 90 | AL12: 478 | AM12: 430 | AN12: 87 | AO12: 463 | AP12: 403 | AQ12: 83 | AR12: 474 | AS12: 393 | AT12: 84 | AU12: 476 | AV12: 400
A13: 12 | B13: 205 | C13: 館山市 | D13: 770 | E13: 495 | F13: 3810 | G13: 762 | H13: 506 | I13: 3860 | J13: 754 | K13: 511 | L13: 3850 | M13: 759 | N13: 511 | O13: 3880 | P13: 749 | Q13: 512 | R13: 3840 | S13: 729 | T13: 500 | U13: 3650 | V13: 707 | W13: 512 | X13: 3620 | Y13: 693 | Z13: 510 | AA13: 3530 | AB13: 688 | AC13: 515 | AD13: 3540 | AE13: 686 | AF13: 493 | AG13: 3380 | AH13: 651 | AI13: 490 | AJ13: 3190 | AK13: 631 | AL13: 517 | AM13: 3260 | AN13: 611 | AO13: 514 | AP13: 3140 | AQ13: 599 | AR13: 530 | AS13: 3180 | AT13: 610 | AU13: 535 | AV13: 3260
A14: 12 | B14: 206 | C14: 木更津市 | D14: 1540 | E14: 519 | F14: 7990 | G14: 1510 | H14: 530 | I14: 8010 | J14: 1500 | K14: 535 | L14: 8040 | M14: 1530 | N14: 538 | O14: 8220 | P14: 1470 | Q14: 542 | R14: 7980 | S14: 1410 | T14: 529 | U14: 7440 | V14: 1380 | W14: 536 | X14: 7390 | Y14: 1350 | Z14: 535 | AA14: 7230 | AB14: 1360 | AC14: 538 | AD14: 7320 | AE14: 1370 | AF14: 518 | AG14: 7110 | AH14: 1340 | AI14: 517 | AJ14: 6920 | AK14: 1210 | AL14: 545 | AM14: 6580 | AN14: 1120 | AO14: 541 | AP14: 6060 | AQ14: 1100 | AR14: 556 | AS14: 6120 | AT14: 1110 | AU14: 561 | AV14: 6230
A15: 12 | B15: 207 | C15: 松戸市 | D15: 61 | E15: 460 | F15: 281 | G15: 61 | H15: 448 | I15: 273 | J15: 61 | K15: 453 | L15: 276 | M15: 59 | N15: 460 | O15: 271 | P15: 57 | Q15: 469 | R15: 267 | S15: 54 | T15: 454 | U15: 245 | V15: 51 | W15: 457 | X15: 233 | Y15: 50 | Z15: 447 | AA15: 224 | AB15: 50 | AC15: 444 | AD15: 222 | AE15: 50 | AF15: 434 | AG15: 217 | AH15: 43 | AI15: 449 | AJ15: 193 | AK15: 42 | AL15: 458 | AM15: 192 | AN15: 40 | AO15: 447 | AP15: 179 | AQ15: 39 | AR15: 457 | AS15: 178 | AT15: 44 | AU15: 472 | AV15: 208
A16: 12 | B16: 208 | C16: 野田市 | D16: 1060 | E16: 512 | F16: 5420 | G16: 1020 | H16: 501 | I16: 5090 | J16: 1010 | K16: 510 | L16: 5150 | M16: 1040 | N16: 519 | O16: 5420 | P16: 991 | Q16: 520 | R16: 5150 | S16: 927 | T16: 498 | U16: 4620 | V16: 909 | W16: 510 | X16: 4640 | Y16: 890 | Z16: 500 | AA16: 4450 | AB16: 881 | AC16: 498 | AD16: 4390 | AE16: 923 | AF16: 485 | AG16: 4480 | AH16: 923 | AI16: 502 | AJ16: 4630 | AK16: 834 | AL16: 510 | AM16: 4250 | AN16: 785 | AO16: 502 | AP16: 3940 | AQ16: 790 | AR16: 511 | AS16: 4040 | AT16: 811 | AU16: 513 | AV16: 4160
A17: 12 | B17: 210 | C17: 茂原市 | D17: 1900 | E17: 550 | F17: 10400 | G17: 1870 | H17: 534 | I17: 10000 | J17: 1860 | K17: 555 | L17: 10300 | M17: 1890 | N17: 559 | O17: 10600 | P17: 1880 | Q17: 561 | R17: 10500 | S17: 1870 | T17: 544 | U17: 10200 | V17: 1840 | W17: 552 | X17: 10200 | Y17: 1840 | Z17: 548 | AA17: 10100 | AB17: 1820 | AC17: 544 | AD17: 9910 | AE17: 1840 | AF17: 512 | AG17: 9440 | AH17: 1820 | AI17: 544 | AJ17: 9900 | AK17: 1780 | AL17: 549 | AM17: 9780 | AN17: 1720 | AO17: 550 | AP17: 9430 | AQ17: 1710 | AR17: 562 | AS17: 9590 | AT17: 1730 | AU17: 579 | AV17: 10000
A18: 12 | B18: 211 | C18: 成田市 | D18: 3150 | E18: 551 | F18: 17400 | G18: 3040 | H18: 541 | I18: 16400 | J18: 3200 | K18: 549 | L18: 17500 | M18: 3260 | N18: 555 | O18: 18100 | P18: 3200 | Q18: 559 | R18: 17900 | S18: 2970 | T18: 542 | U18: 16100 | V18: 2940 | W18: 547 | X18: 16100 | Y18: 2910 | Z18: 537 | AA18: 15600 | AB18: 2940 | AC18: 535 | AD18: 15700 | AE18: 2970 | AF18: 521 | AG18: 15500 | AH18: 2950 | AI18: 530 | AJ18: 15600 | AK18: 2490 | AL18: 545 | AM18: 13600 | AN18: 2270 | AO18: 534 | AP18: 12100 | AQ18: 2320 | AR18: 546 | AS18: 12700 | AT18: 2700 | AU18: 548 | AV18: 14800
A19: 12 | B19: 212 | C19: 佐倉市 | D19: 1380 | E19: 539 | F19: 7460 | G19: 1340 | H19: 532 | I19: 7140 | J19: 1340 | K19: 540 | L19: 7210 | M19: 1370 | N19: 544 | O19: 7430 | P19: 1350 | Q19: 549 | R19: 7380 | S19: 1250 | T19: 532 | U19: 6660 | V19: 1220 | W19: 536 | X19: 6560 | Y19: 1220 | Z19: 526 | AA19: 6400 | AB19: 1210 | AC19: 525 | AD19: 6360 | AE19: 1210 | AF19: 511 | AG19: 6160 | AH19: 1220 | AI19: 532 | AJ19: 6500 | AK19: 1130 | AL19: 537 | AM19: 6080 | AN19: 1080 | AO19: 526 | AP19: 5700 | AQ19: 1090 | AR19: 539 | AS19: 5880 | AT19: 1130 | AU19: 541 | AV19: 6110
A20: 12 | B20: 213 | C20: 東金市 | D20: 2090 | E20: 565 | F20: 11800 | G20: 2060 | H20: 551 | I20: 11400 | J20: 2070 | K20: 573 | L20: 11900 | M20: 2060 | N20: 576 | O20: 11900 | P20: 2050 | Q20: 579 | R20: 11900 | S20: 1890 | T20: 557 | U20: 10500 | V20: 1850 | W20: 549 | X20: 10200 | Y20: 1830 | Z20: 562 | AA20: 10300 | AB20: 1890 | AC20: 558 | AD20: 10500 | AE20: 1940 | AF20: 527 | AG20: 10200 | AH20: 1910 | AI20: 554 | AJ20: 10600 | AK20: 1650 | AL20: 559 | AM20: 9210 | AN20: 1510 | AO20: 559 | AP20: 8450 | AQ20: 1590 | AR20: 571 | AS20: 9090 | AT20: 1780 | AU20: 590 | AV20: 10500
... A29: 12 | B29: 223 | C29: 鴨川市 | D29: 1410 | E29: 504 | F29: 7090 | G29: 1400 | H29: 515 | I29: 7220 | J29: 1400 | K29: 520 | L29: 7290 | M29: 1400 | N29: 520 | O29: 7280 | P29: 1390 | Q29: 522 | R29: 7240 | S29: 1340 | T29: 511 | U29: 6850 | V29: 1330 | W29: 519 | X29: 6880 | Y29: 1310 | Z29: 518 | AA29: 6790 | AB29: 1320 | AC29: 522 | AD29: 6870 | AE29: 1310 | AF29: 499 | AG29: 6520 | AH29: 1260 | AI29: 498 | AJ29: 6250 | AK29: 1240 | AL29: 525 | AM29: 6480 | AN29: 1140 | AO29: 522 | AP29: 5950 | AQ29: 1140 | AR29: 538 | AS29: 6120 | AT29: 1100 | AU29: 542 | AV29: 5970
A30: 12 | B30: 224 | C30: 鎌ケ谷市 | D30: 0 | E30: 410 | F30: 0 | G30: - | H30: - | I30: - | J30: - | K30: - | L30: - | M30: - | N30: - | O30: - | P30: - | Q30: - | R30: - | S30: - | T30: - | U30: - | V30: - | W30: - | X30: - | Y30: - | Z30: - | AA30: - | AB30: - | AC30: - | AD30: - | AE30: - | AF30: - | AG30: - | AH30: - | AI30: - | AJ30: - | AK30: - | AL30: - | AM30: - | AN30: - | AO30: - | AP30: - | AQ30: - | AR30: - | AS30: - | AT30: - | AU30: - | AV30: -
A31: 12 | B31: 225 | C31: 君津市 | D31: 2020 | E31: 518 | F31: 10500 | G31: 2010 | H31: 529 | I31: 10600 | J31: 1990 | K31: 534 | L31: 10600 | M31: 1990 | N31: 536 | O31: 10700 | P31: 1980 | Q31: 539 | R31: 10700 | S31: 1930 | T31: 527 | U31: 10200 | V31: 1900 | W31: 533 | X31: 10100 | Y31: 1870 | Z31: 534 | AA31: 9990 | AB31: 1890 | AC31: 536 | AD31: 10100 | AE31: 1880 | AF31: 515 | AG31: 9700 | AH31: 1840 | AI31: 514 | AJ31: 9430 | AK31: 1760 | AL31: 542 | AM31: 9520 | AN31: 1690 | AO31: 538 | AP31: 9070 | AQ31: 1680 | AR31: 553 | AS31: 9260 | AT31: 1620 | AU31: 559 | AV31: 9060
A32: 12 | B32: 226 | C32: 富津市 | D32: 1200 | E32: 508 | F32: 6080 | G32: 1180 | H32: 519 | I32: 6140 | J32: 1180 | K32: 524 | L32: 6170 | M32: 1200 | N32: 527 | O32: 6340 | P32: 1150 | Q32: 530 | R32: 6120 | S32: 1120 | T32: 518 | U32: 5820 | V32: 1090 | W32: 525 | X32: 5710 | Y32: 1080 | Z32: 524 | AA32: 5640 | AB32: 1080 | AC32: 525 | AD32: 5680 | AE32: 1080 | AF32: 506 | AG32: 5460 | AH32: 1050 | AI32: 504 | AJ32: 5300 | AK32: 1040 | AL32: 534 | AM32: 5530 | AN32: 999 | AO32: 529 | AP32: 5290 | AQ32: 994 | AR32: 544 | AS32: 5410 | AT32: 1000 | AU32: 549 | AV32: 5500
A33: 12 | B33: 227 | C33: 浦安市 | D33: - | E33: - | F33: - | G33: - | H33: - | I33: - | J33: - | K33: - | L33: - | M33: - | N33: - | O33: - | P33: - | Q33: - | R33: - | S33: - | T33: - | U33: - | V33: - | W33: - | X33: - | Y33: - | Z33: - | AA33: - | AB33: - | AC33: - | AD33: - | AE33: - | AF33: - | AG33: - | AH33: - | AI33: - | AJ33: - | AK33: - | AL33: - | AM33: - | AN33: - | AO33: - | AP33: - | AQ33: - | AR33: - | AS33: - | AT33: - | AU33: - | AV33: -
A34: 12 | B34: 228 | C34: 四街道市 | D34: 169 | E34: 523 | F34: 884 | G34: 167 | H34: 516 | I34: 862 | J34: 167 | K34: 524 | L34: 875 | M34: 172 | N34: 536 | O34: 922 | P34: 164 | Q34: 533 | R34: 874 | S34: 162 | T34: 515 | U34: 834 | V34: 160 | W34: 520 | X34: 832 | Y34: 159 | Z34: 512 | AA34: 814 | AB34: 162 | AC34: 511 | AD34: 828 | AE34: 155 | AF34: 498 | AG34: 772 | AH34: 153 | AI34: 520 | AJ34: 796 | AK34: 148 | AL34: 524 | AM34: 776 | AN34: 142 | AO34: 512 | AP34: 727 | AQ34: 142 | AR34: 524 | AS34: 744 | AT34: 150 | AU34: 527 | AV34: 791
A35: 12 | B35: 229 | C35: 袖ケ浦市 | D35: 1220 | E35: 551 | F35: 6730 | G35: 1200 | H35: 563 | I35: 6730 | J35: 1180 | K35: 568 | L35: 6700 | M35: 1190 | N35: 570 | O35: 6760 | P35: 1170 | Q35: 574 | R35: 6700 | S35: 1100 | T35: 562 | U35: 6190 | V35: 1030 | W35: 570 | X35: 5890 | Y35: 1010 | Z35: 568 | AA35: 5710 | AB35: 1050 | AC35: 570 | AD35: 5960 | AE35: 1050 | AF35: 550 | AG35: 5750 | AH35: 1050 | AI35: 547 | AJ35: 5720 | AK35: 934 | AL35: 579 | AM35: 5410 | AN35: 811 | AO35: 574 | AP35: 4660 | AQ35: 810 | AR35: 590 | AS35: 4780 | AT35: 927 | AU35: 595 | AV35: 5520
A36: 12 | B36: 230 | C36: 八街市 | D36: 109 | E36: 500 | F36: 545 | G36: 109 | H36: 498 | I36: 543 | J36: 109 | K36: 503 | L36: 548 | M36: 109 | N36: 511 | O36: 557 | P36: 101 | Q36: 515 | R36: 520 | S36: 101 | T36: 496 | U36: 501 | V36: 100 | W36: 478 | X36: 478 | Y36: 97 | Z36: 491 | AA36: 476 | AB36: 93 | AC36: 490 | AD36: 456 | AE36: 88 | AF36: 475 | AG36: 418 | AH36: 84 | AI36: 495 | AJ36: 416 | AK36: 82 | AL36: 498 | AM36: 408 | AN36: 81 | AO36: 486 | AP36: 394 | AQ36: 80 | AR36: 497 | AS36: 398 | AT36: 80 | AU36: 503 | AV36: 402
A37: 12 | B37: 231 | C37: 印西市 | D37: 2600 | E37: 539 | F37: 14000 | G37: 2580 | H37: 532 | I37: 13700 | J37: 2580 | K37: 540 | L37: 13900 | M37: 2600 | N37: 549 | O37: 14300 | P37: 2600 | Q37: 550 | R37: 14300 | S37: 2550 | T37: 534 | U37: 13600 | V37: 2550 | W37: 538 | X37: 13700 | Y37: 2500 | Z37: 528 | AA37: 13200 | AB37: 2500 | AC37: 527 | AD37: 13200 | AE37: 2530 | AF37: 511 | AG37: 12900 | AH37: 2500 | AI37: 521 | AJ37: 13000 | AK37: 2040 | AL37: 536 | AM37: 10900 | AN37: 1930 | AO37: 525 | AP37: 10100 | AQ37: 1910 | AR37: 537 | AS37: 10200 | AT37: 2170 | AU37: 539 | AV37: 11700
A38: 12 | B38: 232 | C38: 白井市 | D38: 238 | E38: 514 | F38: 1220 | G38: 236 | H38: 508 | I38: 1200 | J38: 237 | K38: 515 | L38: 1220 | M38: 230 | N38: 529 | O38: 1220 | P38: 227 | Q38: 527 | R38: 1200 | S38: 226 | T38: 511 | U38: 1160 | V38: 223 | W38: 514 | X38: 1150 | Y38: 223 | Z38: 506 | AA38: 1130 | AB38: 211 | AC38: 505 | AD38: 1070 | AE38: 211 | AF38: 492 | AG38: 1040 | AH38: 207 | AI38: 508 | AJ38: 1050 | AK38: 203 | AL38: 518 | AM38: 1050 | AN38: 203 | AO38: 505 | AP38: 1030 | AQ38: 201 | AR38: 517 | AS38: 1040 | AT38: 201 | AU38: 519 | AV38: 1040
A39: 12 | B39: 233 | C39: 富里市 | D39: 184 | E39: 506 | F39: 931 | G39: 184 | H39: 501 | I39: 922 | J39: 187 | K39: 506 | L39: 946 | M39: 184 | N39: 514 | O39: 946 | P39: 183 | Q39: 517 | R39: 946 | S39: 182 | T39: 501 | U39: 912 | V39: 176 | W39: 505 | X39: 889 | Y39: 172 | Z39: 495 | AA39: 851 | AB39: 172 | AC39: 494 | AD39: 850 | AE39: 169 | AF39: 481 | AG39: 813 | AH39: 163 | AI39: 499 | AJ39: 813 | AK39: 155 | AL39: 507 | AM39: 786 | AN39: 154 | AO39: 495 | AP39: 762 | AQ39: 155 | AR39: 507 | AS39: 786 | AT39: 157 | AU39: 509 | AV39: 799
A40: 12 | B40: 234 | C40: 南房総市 | D40: 1270 | E40: 491 | F40: 6260 | G40: 1270 | H40: 502 | I40: 6400 | J40: 1270 | K40: 507 | L40: 6450 | M40: 1270 | N40: 506 | O40: 6400 | P40: 1250 | Q40: 509 | R40: 6370 | S40: 1180 | T40: 497 | U40: 5880 | V40: 1140 | W40: 506 | X40: 5750 | Y40: 1100 | Z40: 506 | AA40: 5570 | AB40: 1100 | AC40: 511 | AD40: 5610 | AE40: 1100 | AF40: 488 | AG40: 5350 | AH40: 1060 | AI40: 486 | AJ40: 5170 | AK40: 1020 | AL40: 513 | AM40: 5220 | AN40: 951 | AO40: 511 | AP40: 4860 | AQ40: 915 | AR40: 525 | AS40: 4800 | AT40: 1050 | AU40: 530 | AV40: 5590
A41: 12 | B41: 235 | C41: 匝瑳市 | D41: 3040 | E41: 573 | F41: 17400 | G41: 3020 | H41: 541 | I41: 16300 | J41: 2990 | K41: 586 | L41: 17500 | M41: 2990 | N41: 586 | O41: 17500 | P41: 3030 | Q41: 588 | R41: 17800 | S41: 2840 | T41: 566 | U41: 16100 | V41: 2790 | W41: 585 | X41: 16300 | Y41: 2770 | Z41: 573 | AA41: 15900 | AB41: 2800 | AC41: 569 | AD41: 15900 | AE41: 2780 | AF41: 540 | AG41: 15000 | AH41: 2730 | AI41: 569 | AJ41: 15500 | AK41: 2510 | AL41: 575 | AM41: 14400 | AN41: 2400 | AO41: 574 | AP41: 13700 | AQ41: 2420 | AR41: 586 | AS41: 14200 | AT41: 2720 | AU41: 605 | AV41: 16400
A42: 12 | B42: 236 | C42: 香取市 | D42: 6930 | E42: 562 | F42: 39000 | G42: 6640 | H42: 535 | I42: 35500 | J42: 6830 | K42: 578 | L42: 39500 | M42: 6830 | N42: 577 | O42: 39400 | P42: 6740 | Q42: 583 | R42: 39300 | S42: 6210 | T42: 555 | U42: 34400 | V42: 6050 | W42: 580 | X42: 35100 | Y42: 6030 | Z42: 564 | AA42: 34000 | AB42: 6100 | AC42: 560 | AD42: 34200 | AE42: 6150 | AF42: 525 | AG42: 32300 | AH42: 6130 | AI42: 561 | AJ42: 34400 | AK42: 5400 | AL42: 568 | AM42: 30700 | AN42: 4970 | AO42: 566 | AP42: 28100 | AQ42: 4930 | AR42: 578 | AS42: 28500 | AT42: 5400 | AU42: 597 | AV42: 32200
A43: 12 | B43: 237 | C43: 山武市 | D43: 2680 | E43: 560 | F43: 15000 | G43: 2670 | H43: 542 | I43: 14500 | J43: 2660 | K43: 567 | L43: 15100 | M43: 2690 | N43: 570 | O43: 15300 | P43: 2650 | Q43: 573 | R43: 15200 | S43: 2530 | T43: 554 | U43: 14000 | V43: 2480 | W43: 565 | X43: 14000 | Y43: 2540 | Z43: 560 | AA43: 14200 | AB43: 2570 | AC43: 555 | AD43: 14300 | AE43: 2610 | AF43: 525 | AG43: 13700 | AH43: 2590 | AI43: 555 | AJ43: 14400 | AK43: 2350 | AL43: 562 | AM43: 13200 | AN43: 2210 | AO43: 561 | AP43: 12400 | AQ43: 2310 | AR43: 573 | AS43: 13200 | AT43: 2400 | AU43: 592 | AV43: 14200
A44: 12 | B44: 238 | C44: いすみ市 | D44: 2200 | E44: 516 | F44: 11400 | G44: 2180 | H44: 532 | I44: 11600 | J44: 2140 | K44: 537 | L44: 11500 | M44: 2160 | N44: 535 | O44: 11500 | P44: 2110 | Q44: 536 | R44: 11300 | S44: 1890 | T44: 525 | U44: 9900 | V44: 1790 | W44: 535 | X44: 9580 | Y44: 1790 | Z44: 533 | AA44: 9560 | AB44: 1840 | AC44: 537 | AD44: 9870 | AE44: 1890 | AF44: 512 | AG44: 9670 | AH44: 1910 | AI44: 511 | AJ44: 9780 | AK44: 1790 | AL44: 541 | AM44: 9670 | AN44: 1740 | AO44: 538 | AP44: 9330 | AQ44: 1730 | AR44: 555 | AS44: 9600 | AT44: 1740 | AU44: 558 | AV44: 9700
A45: 12 | B45: 239 | C45: 大網白里市 | D45: 1410 | E45: 564 | F45: 7980 | G45: 1420 | H45: 551 | I45: 7850 | J45: 1410 | K45: 571 | L45: 8030 | M45: 1440 | N45: 573 | O45: 8240 | P45: 1430 | Q45: 575 | R45: 8230 | S45: 1420 | T45: 555 | U45: 7880 | V45: 1410 | W45: 569 | X45: 7990 | Y45: 1360 | Z45: 561 | AA45: 7650 | AB45: 1420 | AC45: 557 | AD45: 7930 | AE45: 1390 | AF45: 525 | AG45: 7320 | AH45: 1400 | AI45: 556 | AJ45: 7760 | AK45: 1250 | AL45: 563 | AM45: 7040 | AN45: 1220 | AO45: 562 | AP45: 6850 | AQ45: 1240 | AR45: 574 | AS45: 7120 | AT45: 1370 | AU45: 593 | AV45: 8110
... A62: 12 | B62: 463 | C62: 鋸南町 | D62: 163 | E62: 480 | F62: 782 | G62: 162 | H62: 490 | I62: 794 | J62: 161 | K62: 495 | L62: 797 | M62: 159 | N62: 495 | O62: 787 | P62: 153 | Q62: 497 | R62: 760 | S62: 141 | T62: 487 | U62: 687 | V62: 133 | W62: 493 | X62: 656 | Y62: 127 | Z62: 494 | AA62: 627 | AB62: 131 | AC62: 496 | AD62: 650 | AE62: 128 | AF62: 478 | AG62: 612 | AH62: 119 | AI62: 475 | AJ62: 565 | AK62: 116 | AL62: 502 | AM62: 582 | AN62: 114 | AO62: 499 | AP62: 569 | AQ62: 114 | AR62: 513 | AS62: 585 | AT62: 112 | AU62: 520 | AV62: 582
C64: 計 | D64: =SUM(D9:D62) -> 61412 | E64: =F64/D64*100 -> 542.07972 | F64: =SUM(F9:F62) -> 332902 | G64: 60400 | H64: 533 | I64: 321900 | J64: 60500 | K64: 552 | L64: 334000 | M64: 60900 | N64: 554 | O64: 337400 | P64: 60200 | Q64: 558 | R64: 335900 | S64: 57000 | T64: 539 | U64: 307200 | V64: 55700 | W64: 549 | X64: 305800 | Y64: 55200 | Z64: 543 | AA64: 299700 | AB64: 55600 | AC64: 542 | AD64: 301400 | AE64: 56000 | AF64: 516 | AG64: 289000 | AH64: 55400 | AI64: 537 | AJ64: 297500 | AK64: 50600 | AL64: 549 | AM64: 277800 | AN64: 47700 | AO64: 544 | AP64: 259500 | AQ64: 47700 | AR64: 557 | AS64: 265700 | AT64: 50600 | AU64: 569 | AV64: 287900
H66: =I64/G64*100 -> 532.94702

Sheet 2010-2024all (作付面積)
A1: 農林水産関係市町村別統計
A2: 令和6年産
A3: 水稲
A4: 千葉県 | D4: 2010 | E4: 2011 | F4: 2012 | G4: 2013 | H4: 2014 | I4: 2015 | J4: 2016 | K4: 2017 | L4: 2018 | M4: 2019 | N4: 2020 | O4: 2021 | P4: 2022 | Q4: 2023 | R4: 2024
A5: 都道府県ｺｰﾄﾞ | B5: 市町村 ｺｰﾄﾞ | C5: 市町村名 | D5: 作付面積 | E5: 作付面積 | F5: 作付面積 | G5: 作付面積 | H5: 作付面積 | I5: 作付面積 | J5: 作付面積 | K5: 作付面積 | L5: 作付面積 | M5: 作付面積 | N5: 作付面積 | O5: 作付面積 | P5: 作付面積 | Q5: 作付面積 | R5: 作付面積
D8: ha | E8: ha | F8: ha | G8: ha | H8: ha | I8: ha | J8: ha | K8: ha | L8: ha | M8: ha | N8: ha | O8: ha | P8: ha | Q8: ha | R8: ha
A9: 12 | B9: 100 | C9: 千葉市 | D9: 760 | E9: 750 | F9: 745 | G9: 748 | H9: 745 | I9: 705 | J9: 682 | K9: 679 | L9: 678 | M9: 673 | N9: 674 | O9: 648 | P9: 635 | Q9: 638 | R9: 644
A10: 12 | B10: 202 | C10: 銚子市 | D10: 483 | E10: 481 | F10: 477 | G10: 476 | H10: 474 | I10: 472 | J10: 471 | K10: 471 | L10: 465 | M10: 453 | N10: 447 | O10: 440 | P10: 438 | Q10: 440 | R10: 436
A11: 12 | B11: 203 | C11: 市川市 | D11: 3 | E11: 3 | F11: 2 | G11: 2 | H11: 2 | I11: 2 | J11: 1 | K11: 1 | L11: 1 | M11: 1 | N11: 1 | O11: 1 | P11: 1 | Q11: 1 | R11: 1
A12: 12 | B12: 204 | C12: 船橋市 | D12: 111 | E12: 109 | F12: 109 | G12: 109 | H12: 108 | I12: 106 | J12: 105 | K12: 105 | L12: 98 | M12: 101 | N12: 93 | O12: 90 | P12: 87 | Q12: 83 | R12: 84
A13: 12 | B13: 205 | C13: 館山市 | D13: 770 | E13: 762 | F13: 754 | G13: 759 | H13: 749 | I13: 729 | J13: 707 | K13: 693 | L13: 688 | M13: 686 | N13: 651 | O13: 631 | P13: 611 | Q13: 599 | R13: 610
A14: 12 | B14: 206 | C14: 木更津市 | D14: 1540 | E14: 1510 | F14: 1500 | G14: 1530 | H14: 1470 | I14: 1410 | J14: 1380 | K14: 1350 | L14: 1360 | M14: 1370 | N14: 1340 | O14: 1210 | P14: 1120 | Q14: 1100 | R14: 1110
A15: 12 | B15: 207 | C15: 松戸市 | D15: 61 | E15: 61 | F15: 61 | G15: 59 | H15: 57 | I15: 54 | J15: 51 | K15: 50 | L15: 50 | M15: 50 | N15: 43 | O15: 42 | P15: 40 | Q15: 39 | R15: 44
A16: 12 | B16: 208 | C16: 野田市 | D16: 1060 | E16: 1020 | F16: 1010 | G16: 1040 | H16: 991 | I16: 927 | J16: 909 | K16: 890 | L16: 881 | M16: 923 | N16: 923 | O16: 834 | P16: 785 | Q16: 790 | R16: 811
A17: 12 | B17: 210 | C17: 茂原市 | D17: 1900 | E17: 1870 | F17: 1860 | G17: 1890 | H17: 1880 | I17: 1870 | J17: 1840 | K17: 1840 | L17: 1820 | M17: 1840 | N17: 1820 | O17: 1780 | P17: 1720 | Q17: 1710 | R17: 1730
A18: 12 | B18: 211 | C18: 成田市 | D18: 3150 | E18: 3040 | F18: 3200 | G18: 3260 | H18: 3200 | I18: 2970 | J18: 2940 | K18: 2910 | L18: 2940 | M18: 2970 | N18: 2950 | O18: 2490 | P18: 2270 | Q18: 2320 | R18: 2700
A19: 12 | B19: 212 | C19: 佐倉市 | D19: 1380 | E19: 1340 | F19: 1340 | G19: 1370 | H19: 1350 | I19: 1250 | J19: 1220 | K19: 1220 | L19: 1210 | M19: 1210 | N19: 1220 | O19: 1130 | P19: 1080 | Q19: 1090 | R19: 1130
A20: 12 | B20: 213 | C20: 東金市 | D20: 2090 | E20: 2060 | F20: 2070 | G20: 2060 | H20: 2050 | I20: 1890 | J20: 1850 | K20: 1830 | L20: 1890 | M20: 1940 | N20: 1910 | O20: 1650 | P20: 1510 | Q20: 1590 | R20: 1780
... A29: 12 | B29: 223 | C29: 鴨川市 | D29: 1410 | E29: 1400 | F29: 1400 | G29: 1400 | H29: 1390 | I29: 1340 | J29: 1330 | K29: 1310 | L29: 1320 | M29: 1310 | N29: 1260 | O29: 1240 | P29: 1140 | Q29: 1140 | R29: 1100
A30: 12 | B30: 224 | C30: 鎌ケ谷市 | D30: 0 | E30: - | F30: - | G30: - | H30: - | I30: - | J30: - | K30: - | L30: - | M30: - | N30: - | O30: - | P30: - | Q30: - | R30: -
A31: 12 | B31: 225 | C31: 君津市 | D31: 2020 | E31: 2010 | F31: 1990 | G31: 1990 | H31: 1980 | I31: 1930 | J31: 1900 | K31: 1870 | L31: 1890 | M31: 1880 | N31: 1840 | O31: 1760 | P31: 1690 | Q31: 1680 | R31: 1620
A32: 12 | B32: 226 | C32: 富津市 | D32: 1200 | E32: 1180 | F32: 1180 | G32: 1200 | H32: 1150 | I32: 1120 | J32: 1090 | K32: 1080 | L32: 1080 | M32: 1080 | N32: 1050 | O32: 1040 | P32: 999 | Q32: 994 | R32: 1000
A33: 12 | B33: 227 | C33: 浦安市 | D33: - | E33: - | F33: - | G33: - | H33: - | I33: - | J33: - | K33: - | L33: - | M33: - | N33: - | O33: - | P33: - | Q33: - | R33: -
A34: 12 | B34: 228 | C34: 四街道市 | D34: 169 | E34: 167 | F34: 167 | G34: 172 | H34: 164 | I34: 162 | J34: 160 | K34: 159 | L34: 162 | M34: 155 | N34: 153 | O34: 148 | P34: 142 | Q34: 142 | R34: 150
A35: 12 | B35: 229 | C35: 袖ケ浦市 | D35: 1220 | E35: 1200 | F35: 1180 | G35: 1190 | H35: 1170 | I35: 1100 | J35: 1030 | K35: 1010 | L35: 1050 | M35: 1050 | N35: 1050 | O35: 934 | P35: 811 | Q35: 810 | R35: 927
A36: 12 | B36: 230 | C36: 八街市 | D36: 109 | E36: 109 | F36: 109 | G36: 109 | H36: 101 | I36: 101 | J36: 100 | K36: 97 | L36: 93 | M36: 88 | N36: 84 | O36: 82 | P36: 81 | Q36: 80 | R36: 80
A37: 12 | B37: 231 | C37: 印西市 | D37: 2600 | E37: 2580 | F37: 2580 | G37: 2600 | H37: 2600 | I37: 2550 | J37: 2550 | K37: 2500 | L37: 2500 | M37: 2530 | N37: 2500 | O37: 2040 | P37: 1930 | Q37: 1910 | R37: 2170
A38: 12 | B38: 232 | C38: 白井市 | D38: 238 | E38: 236 | F38: 237 | G38: 230 | H38: 227 | I38: 226 | J38: 223 | K38: 223 | L38: 211 | M38: 211 | N38: 207 | O38: 203 | P38: 203 | Q38: 201 | R38: 201
A39: 12 | B39: 233 | C39: 富里市 | D39: 184 | E39: 184 | F39: 187 | G39: 184 | H39: 183 | I39: 182 | J39: 176 | K39: 172 | L39: 172 | M39: 169 | N39: 163 | O39: 155 | P39: 154 | Q39: 155 | R39: 157
A40: 12 | B40: 234 | C40: 南房総市 | D40: 1270 | E40: 1270 | F40: 1270 | G40: 1270 | H40: 1250 | I40: 1180 | J40: 1140 | K40: 1100 | L40: 1100 | M40: 1100 | N40: 1060 | O40: 1020 | P40: 951 | Q40: 915 | R40: 1050
A41: 12 | B41: 235 | C41: 匝瑳市 | D41: 3040 | E41: 3020 | F41: 2990 | G41: 2990 | H41: 3030 | I41: 2840 | J41: 2790 | K41: 2770 | L41: 2800 | M41: 2780 | N41: 2730 | O41: 2510 | P41: 2400 | Q41: 2420 | R41: 2720
A42: 12 | B42: 236 | C42: 香取市 | D42: 6930 | E42: 6640 | F42: 6830 | G42: 6830 | H42: 6740 | I42: 6210 | J42: 6050 | K42: 6030 | L42: 6100 | M42: 6150 | N42: 6130 | O42: 5400 | P42: 4970 | Q42: 4930 | R42: 5400
A43: 12 | B43: 237 | C43: 山武市 | D43: 2680 | E43: 2670 | F43: 2660 | G43: 2690 | H43: 2650 | I43: 2530 | J43: 2480 | K43: 2540 | L43: 2570 | M43: 2610 | N43: 2590 | O43: 2350 | P43: 2210 | Q43: 2310 | R43: 2400
A44: 12 | B44: 238 | C44: いすみ市 | D44: 2200 | E44: 2180 | F44: 2140 | G44: 2160 | H44: 2110 | I44: 1890 | J44: 1790 | K44: 1790 | L44: 1840 | M44: 1890 | N44: 1910 | O44: 1790 | P44: 1740 | Q44: 1730 | R44: 1740
A45: 12 | B45: 239 | C45: 大網白里市 | D45: 1410 | E45: 1420 | F45: 1410 | G45: 1440 | H45: 1430 | I45: 1420 | J45: 1410 | K45: 1360 | L45: 1420 | M45: 1390 | N45: 1400 | O45: 1250 | P45: 1220 | Q45: 1240 | R45: 1370
... A62: 12 | B62: 463 | C62: 鋸南町 | D62: 163 | E62: 162 | F62: 161 | G62: 159 | H62: 153 | I62: 141 | J62: 133 | K62: 127 | L62: 131 | M62: 128 | N62: 119 | O62: 116 | P62: 114 | Q62: 114 | R62: 112
C63: 千葉県 | D63: =SUM(D9:D62) -> 61412 | E63: 60400 | F63: 60500 | G63: 60900 | H63: 60200 | I63: 57000 | J63: 55700 | K63: 55200 | L63: 55600 | M63: 56000 | N63: 55400 | O63: 50600 | P63: 47700 | Q63: 47700 | R63: 50600

Sheet 2010-2024all (10a)
A1: 農林水産関係市町村別統計
A2: 令和6年産
A3: 水稲
A4: 千葉県 | D4: 2010 | E4: 2011 | F4: 2012 | G4: 2013 | H4: 2014 | I4: 2015 | J4: 2016 | K4: 2017 | L4: 2018 | M4: 2019 | N4: 2020 | O4: 2021 | P4: 2022 | Q4: 2023 | R4: 2024
A5: 都道府県ｺｰﾄﾞ | B5: 市町村 ｺｰﾄﾞ | C5: 市町村名 | D5: 10a当たり | E5: 10a当たり | F5: 10a当たり | G5: 10a当たり | H5: 10a当たり | I5: 10a当たり | J5: 10a当たり | K5: 10a当たり | L5: 10a当たり | M5: 10a当たり | N5: 10a当たり | O5: 10a当たり | P5: 10a当たり | Q5: 10a当たり 収量 | R5: 10a当たり 収量
D6: 収量 | E6: 収量 | F6: 収量 | G6: 収量 | H6: 収量 | I6: 収量 | J6: 収量 | K6: 収量 | L6: 収量 | M6: 収量 | N6: 収量 | O6: 収量 | P6: 収量
D8: kg | E8: kg | F8: kg | G8: kg | H8: kg | I8: kg | J8: kg | K8: kg | L8: kg | M8: kg | N8: kg | O8: kg | P8: kg | Q8: kg | R8: kg
A9: 12 | B9: 100 | C9: 千葉市 | D9: 501 | E9: 526 | F9: 515 | G9: 515 | H9: 526 | I9: 511 | J9: 514 | K9: 511 | L9: 509 | M9: 494 | N9: 514 | O9: 520 | P9: 508 | Q9: 520 | R9: 523
