Workbook
Name DDT: グラフ耕地!$C$1:$R$36

Sheet 16
A1: 農林水産関係市町村別データ
A2: 平成16年
A3: 耕地面積
A4: 神奈川県
A5: 都道 | B5: 市町 | D5: 耕地面積 | E5: 田耕地面積 | F5: 田本地面積 | G5: 畑耕地面積 | H5: 普通畑 | I5: 樹園地 | J5: 牧草地 | K5: 田畑計の作 | L5: 田畑計の耕
A6: 府県 | B6: 村 | C6: 市町村名 | K6: 付延べ面積 | L6: 地利用率
A7: ｺｰﾄﾞ | B7: ｺｰﾄﾞ
D8: ha | E8: ha | F8: ha | G8: ha | H8: ha | I8: ha | J8: ha | K8: ha | L8: 0.0%
A9: 14 | B9: 100 | C9: 横浜市 | D9: 3120 | E9: 209 | F9: 199 | G9: 2910 | H9: 2560 | I9: 356 | J9: - | K9: 3420 | L9: 109.6
A10: 14 | B10: 130 | C10: 川崎市 | D10: 646 | E10: 31 | F10: 29 | G10: 615 | H10: 458 | I10: 157 | J10: - | K10: 695 | L10: 107.6
A11: 14 | B11: 201 | C11: 横須賀市 | D11: 508 | E11: 19 | F11: 18 | G11: 489 | H11: 446 | I11: 43 | J11: - | K11: 739 | L11: 145.5
A12: 14 | B12: 203 | C12: 平塚市 | D12: 1580 | E12: 777 | F12: 755 | G12: 798 | H12: 725 | I12: 73 | J12: - | K12: 1420 | L12: 90
A13: 14 | B13: 204 | C13: 鎌倉市 | D13: 122 | E13: 1 | F13: 1 | G13: 121 | H13: 112 | I13: 9 | J13: - | K13: 97 | L13: 79.5
A14: 14 | B14: 205 | C14: 藤沢市 | D14: 988 | E14: 148 | F14: 139 | G14: 840 | H14: 711 | I14: 129 | J14: - | K14: 1120 | L14: 113.6
A15: 14 | B15: 206 | C15: 小田原市 | D15: 1980 | E15: 577 | F15: 552 | G15: 1400 | H15: 347 | I15: 1050 | J15: - | K15: 1920 | L15: 97
A16: 14 | B16: 207 | C16: 茅ヶ崎市 | D16: 399 | E16: 61 | F16: 57 | G16: 338 | H16: 297 | I16: 41 | J16: - | K16: 536 | L16: 134.3
A17: 14 | B17: 208 | C17: 逗子市 | D17: 9 | E17: - | F17: - | G17: 9 | H17: 9 | I17: 0 | J17: - | K17: 7 | L17: 77.8
A18: 14 | B18: 209 | C18: 相模原市 | D18: 933 | E18: 99 | F18: 96 | G18: 834 | H18: 747 | I18: 87 | J18: 0 | K18: 646 | L18: 69.2
A19: 14 | B19: 210 | C19: 三浦市 | D19: 1190 | E19: 10 | F19: 9 | G19: 1180 | H19: 1170 | I19: 11 | J19: - | K19: 2260 | L19: 189.3
A20: 14 | B20: 211 | C20: 秦野市 | D20: 1300 | E20: 146 | F20: 126 | G20: 1150 | H20: 897 | I20: 256 | J20: - | K20: 941 | L20: 72.4
A21: 14 | B21: 212 | C21: 厚木市 | D21: 1250 | E21: 550 | F21: 533 | G21: 700 | H21: 581 | I21: 119 | J21: 0 | K21: 1060 | L21: 85.1
A22: 14 | B22: 213 | C22: 大和市 | D22: 250 | E22: 17 | F22: 16 | G22: 233 | H22: 186 | I22: 47 | J22: - | K22: 255 | L22: 102
A23: 14 | B23: 214 | C23: 伊勢原市 | D23: 1190 | E23: 433 | F23: 413 | G23: 754 | H23: 549 | I23: 205 | J23: - | K23: 1040 | L23: 87.4
A24: 14 | B24: 215 | C24: 海老名市 | D24: 597 | E24: 281 | F24: 272 | G24: 316 | H24: 288 | I24: 27 | J24: 1 | K24: 548 | L24: 91.8
A25: 14 | B25: 216 | C25: 座間市 | D25: 233 | E25: 92 | F25: 89 | G25: 141 | H25: 124 | I25: 17 | J25: - | K25: 209 | L25: 89.7
A26: 14 | B26: 217 | C26: 南足柄市 | D26: 706 | E26: 201 | F26: 188 | G26: 505 | H26: 147 | I26: 357 | J26: - | K26: 592 | L26: 83.9
A27: 14 | B27: 218 | C27: 綾瀬市 | D27: 284 | E27: 19 | F27: 18 | G27: 265 | H27: 233 | I27: 32 | J27: - | K27: 262 | L27: 92.3
A28: 14 | B28: 301 | C28: 葉山町 | D28: 41 | E28: 4 | F28: 4 | G28: 37 | H28: 32 | I28: 5 | J28: - | K28: 37 | L28: 90.2
A29: 14 | B29: 321 | C29: 寒川町 | D29: 267 | E29: 83 | F29: 79 | G29: 184 | H29: 164 | I29: 20 | J29: - | K29: 231 | L29: 86.5
A30: 14 | B30: 341 | C30: 大磯町 | D30: 285 | E30: 27 | F30: 24 | G30: 258 | H30: 162 | I30: 96 | J30: - | K30: 268 | L30: 94
A31: 14 | B31: 342 | C31: 二宮町 | D31: 135 | E31: 1 | F31: 1 | G31: 134 | H31: 75 | I31: 59 | J31: - | K31: 103 | L31: 76.3
A32: 14 | B32: 361 | C32: 中井町 | D32: 510 | E32: 34 | F32: 30 | G32: 476 | H32: 323 | I32: 154 | J32: - | K32: 418 | L32: 82
A33: 14 | B33: 362 | C33: 大井町 | D33: 357 | E33: 121 | F33: 112 | G33: 236 | H33: 119 | I33: 117 | J33: - | K33: 315 | L33: 88.2
A34: 14 | B34: 363 | C34: 松田町 | D34: 168 | E34: 13 | F34: 11 | G34: 155 | H34: 61 | I34: 95 | J34: - | K34: 123 | L34: 73.2
A35: 14 | B35: 364 | C35: 山北町 | D35: 412 | E35: 38 | F35: 34 | G35: 374 | H35: 107 | I35: 201 | J35: 67 | K35: 324 | L35: 78.6
A36: 14 | B36: 366 | C36: 開成町 | D36: 216 | E36: 185 | F36: 173 | G36: 31 | H36: 20 | I36: 10 | J36: - | K36: 221 | L36: 102.3
A37: 14 | B37: 382 | C37: 箱根町 | D37: 10 | E37: 2 | F37: 2 | G37: 8 | H37: 1 | I37: 7 | J37: - | K37: 9 | L37: 90
A38: 14 | B38: 383 | C38: 真鶴町 | D38: 54 | E38: - | F38: - | G38: 54 | H38: 7 | I38: 47 | J38: - | K38: 49 | L38: 90.7
A39: 14 | B39: 384 | C39: 湯河原町 | D39: 280 | E39: - | F39: - | G39: 280 | H39: 13 | I39: 266 | J39: - | K39: 267 | L39: 95.4
A40: 14 | B40: 401 | C40: 愛川町 | D40: 356 | E40: 78 | F40: 75 | G40: 278 | H40: 248 | I40: 30 | J40: 0 | K40: 252 | L40: 70.8
A41: 14 | B41: 402 | C41: 清川村 | D41: 50 | E41: 9 | F41: 8 | G41: 41 | H41: 13 | I41: 28 | J41: - | K41: 39 | L41: 78
A42: 14 | B42: 421 | C42: 城山町 | D42: 149 | E42: 19 | F42: 18 | G42: 130 | H42: 99 | I42: 31 | J42: - | K42: 127 | L42: 85.2
A43: 14 | B43: 422 | C43: 津久井町 | D43: 379 | E43: 14 | F43: 13 | G43: 365 | H43: 310 | I43: 53 | J43: 2 | K43: 208 | L43: 54.9
A44: 14 | B44: 423 | C44: 相模湖町 | D44: 119 | E44: 7 | F44: 6 | G44: 112 | H44: 91 | I44: 21 | J44: - | K44: 71 | L44: 59.7
A45: 14 | B45: 424 | C45: 藤野町 | D45: 161 | E45: 3 | F45: 3 | G45: 158 | H45: 116 | I45: 40 | J45: 2 | K45: 93 | L45: 57.8
A47: 利用上の注意
A48: この市町村別データは、「耕地面積調査」の県計値を当該市町村における調査結果、関係機関・団体からの情報等により加工したものである。

Sheet 17
A1: 農林水産関係市町村別データ
A2: 平成17年
A3: 耕地面積
A4: 神奈川県
A5: 都道 | B5: 市町 | D5: 耕地面積 | E5: 田耕地面積 | F5: 田本地面積 | G5: 畑耕地面積 | H5: 普通畑 | I5: 樹園地 | J5: 牧草地 | K5: 田畑計の作 | L5: 田畑計の耕
A6: 府県 | B6: 村 | C6: 市町村名 | K6: 付延べ面積 | L6: 地利用率
A7: ｺｰﾄﾞ | B7: ｺｰﾄﾞ
D8: ha | E8: ha | F8: ha | G8: ha | H8: ha | I8: ha | J8: ha | K8: ha | L8: 0.0%
A9: 14 | B9: 100 | C9: 横浜市 | D9: 3120 | E9: 208 | F9: 198 | G9: 2910 | H9: 2560 | I9: 352 | J9: - | K9: 3360 | L9: 107.7
A10: 14 | B10: 130 | C10: 川崎市 | D10: 644 | E10: 30 | F10: 28 | G10: 614 | H10: 459 | I10: 155 | J10: - | K10: 683 | L10: 106.1
A11: 14 | B11: 201 | C11: 横須賀市 | D11: 535 | E11: 19 | F11: 18 | G11: 516 | H11: 473 | I11: 43 | J11: - | K11: 739 | L11: 138.1
A12: 14 | B12: 203 | C12: 平塚市 | D12: 1570 | E12: 777 | F12: 755 | G12: 788 | H12: 715 | I12: 73 | J12: - | K12: 1400 | L12: 89.2
A13: 14 | B13: 204 | C13: 鎌倉市 | D13: 122 | E13: 1 | F13: 1 | G13: 121 | H13: 112 | I13: 9 | J13: - | K13: 98 | L13: 80.3
A14: 14 | B14: 205 | C14: 藤沢市 | D14: 984 | E14: 148 | F14: 139 | G14: 836 | H14: 706 | I14: 130 | J14: - | K14: 1100 | L14: 111.8
A15: 14 | B15: 206 | C15: 小田原市 | D15: 1950 | E15: 569 | F15: 545 | G15: 1380 | H15: 341 | I15: 1040 | J15: - | K15: 1880 | L15: 96.4
A16: 14 | B16: 207 | C16: 茅ヶ崎市 | D16: 394 | E16: 61 | F16: 57 | G16: 333 | H16: 292 | I16: 41 | J16: - | K16: 521 | L16: 132.2
A17: 14 | B17: 208 | C17: 逗子市 | D17: 9 | E17: - | F17: - | G17: 9 | H17: 9 | I17: 0 | J17: - | K17: 7 | L17: 77.8
A18: 14 | B18: 209 | C18: 相模原市 | D18: 1430 | E18: 119 | F18: 114 | G18: 1310 | H18: 1150 | I18: 161 | J18: 2 | K18: 909 | L18: 63.6
A19: 14 | B19: 210 | C19: 三浦市 | D19: 1200 | E19: 10 | F19: 9 | G19: 1190 | H19: 1180 | I19: 11 | J19: - | K19: 2250 | L19: 187.5
A20: 14 | B20: 211 | C20: 秦野市 | D20: 1280 | E20: 143 | F20: 124 | G20: 1140 | H20: 882 | I20: 254 | J20: - | K20: 945 | L20: 73.8
A21: 14 | B21: 212 | C21: 厚木市 | D21: 1250 | E21: 550 | F21: 533 | G21: 697 | H21: 578 | I21: 119 | J21: 0 | K21: 1060 | L21: 84.8
A22: 14 | B22: 213 | C22: 大和市 | D22: 250 | E22: 17 | F22: 16 | G22: 233 | H22: 186 | I22: 47 | J22: - | K22: 254 | L22: 101.6
A23: 14 | B23: 214 | C23: 伊勢原市 | D23: 1180 | E23: 431 | F23: 411 | G23: 746 | H23: 540 | I23: 206 | J23: - | K23: 1020 | L23: 86.4
A24: 14 | B24: 215 | C24: 海老名市 | D24: 596 | E24: 281 | F24: 272 | G24: 315 | H24: 287 | I24: 27 | J24: 1 | K24: 548 | L24: 91.9
A25: 14 | B25: 216 | C25: 座間市 | D25: 232 | E25: 92 | F25: 89 | G25: 140 | H25: 123 | I25: 17 | J25: - | K25: 204 | L25: 87.9
A26: 14 | B26: 217 | C26: 南足柄市 | D26: 702 | E26: 199 | F26: 187 | G26: 503 | H26: 144 | I26: 359 | J26: - | K26: 594 | L26: 84.6
A27: 14 | B27: 218 | C27: 綾瀬市 | D27: 283 | E27: 19 | F27: 18 | G27: 264 | H27: 234 | I27: 30 | J27: - | K27: 258 | L27: 91.2
A28: 14 | B28: 301 | C28: 葉山町 | D28: 41 | E28: 4 | F28: 4 | G28: 37 | H28: 32 | I28: 5 | J28: - | K28: 37 | L28: 90.2
A29: 14 | B29: 321 | C29: 寒川町 | D29: 263 | E29: 81 | F29: 77 | G29: 182 | H29: 162 | I29: 20 | J29: - | K29: 226 | L29: 85.9
A30: 14 | B30: 341 | C30: 大磯町 | D30: 284 | E30: 27 | F30: 24 | G30: 257 | H30: 161 | I30: 96 | J30: - | K30: 266 | L30: 93.7
A31: 14 | B31: 342 | C31: 二宮町 | D31: 134 | E31: 1 | F31: 1 | G31: 133 | H31: 74 | I31: 59 | J31: - | K31: 101 | L31: 75.4
A32: 14 | B32: 361 | C32: 中井町 | D32: 503 | E32: 31 | F32: 27 | G32: 472 | H32: 319 | I32: 153 | J32: - | K32: 409 | L32: 81.3
A33: 14 | B33: 362 | C33: 大井町 | D33: 355 | E33: 119 | F33: 110 | G33: 236 | H33: 119 | I33: 117 | J33: - | K33: 307 | L33: 86.5
A34: 14 | B34: 363 | C34: 松田町 | D34: 168 | E34: 13 | F34: 11 | G34: 155 | H34: 60 | I34: 95 | J34: - | K34: 121 | L34: 72
A35: 14 | B35: 364 | C35: 山北町 | D35: 412 | E35: 38 | F35: 34 | G35: 374 | H35: 106 | I35: 201 | J35: 67 | K35: 320 | L35: 77.7
A36: 14 | B36: 366 | C36: 開成町 | D36: 211 | E36: 180 | F36: 168 | G36: 31 | H36: 20 | I36: 11 | J36: - | K36: 210 | L36: 99.5
A37: 14 | B37: 382 | C37: 箱根町 | D37: 10 | E37: 2 | F37: 2 | G37: 8 | H37: 1 | I37: 7 | J37: - | K37: 8 | L37: 80
A38: 14 | B38: 383 | C38: 真鶴町 | D38: 53 | E38: - | F38: - | G38: 53 | H38: 7 | I38: 46 | J38: - | K38: 48 | L38: 90.6
A39: 14 | B39: 384 | C39: 湯河原町 | D39: 276 | E39: - | F39: - | G39: 276 | H39: 12 | I39: 264 | J39: - | K39: 264 | L39: 95.7
A40: 14 | B40: 401 | C40: 愛川町 | D40: 356 | E40: 78 | F40: 75 | G40: 278 | H40: 246 | I40: 32 | J40: 0 | K40: 251 | L40: 70.5
A41: 14 | B41: 402 | C41: 清川村 | D41: 50 | E41: 9 | F41: 8 | G41: 41 | H41: 13 | I41: 28 | J41: - | K41: 38 | L41: 76
A42: 14 | B42: 421 | C42: 城山町 | D42: 149 | E42: 19 | F42: 18 | G42: 130 | H42: 99 | I42: 31 | J42: - | K42: 122 | L42: 81.9
A43: 14 | B43: 424 | C43: 藤野町 | D43: 161 | E43: 3 | F43: 3 | G43: 158 | H43: 116 | I43: 40 | J43: 2 | K43: 92 | L43: 57.1
A45: 利用上の注意
A46: この市町村別データは、「耕地面積調査」の県計値を当該市町村における調査結果、関係機関・団体からの情報等により加工したものである。

Sheet 18
A1: 農林水産関係市町村別データ
A2: 平成18年
A3: 耕地面積
A4: 神奈川県
A5: 都道 | B5: 市町 | D5: 耕地面積 | E5: 田耕地面積 | F5: 田本地面積 | G5: 畑耕地面積 | H5: 普通畑 | I5: 樹園地 | J5: 牧草地 | K5: 田畑計の作 | L5: 田畑計の耕
A6: 府県 | B6: 村 | C6: 市町村名 | K6: 付延べ面積 | L6: 地利用率
A7: ｺｰﾄﾞ | B7: ｺｰﾄﾞ
D8: ha | E8: ha | F8: ha | G8: ha | H8: ha | I8: ha | J8: ha | K8: ha | L8: 0.0%
A9: 14 | B9: 100 | C9: 横浜市 | D9: 3090 | E9: 198 | F9: 188 | G9: 2890 | H9: 2550 | I9: 346 | J9: - | K9: 3290 | L9: 106.5
A10: 14 | B10: 130 | C10: 川崎市 | D10: 637 | E10: 28 | F10: 27 | G10: 609 | H10: 459 | I10: 150 | J10: - | K10: 668 | L10: 104.9
A11: 14 | B11: 201 | C11: 横須賀市 | D11: 559 | E11: 18 | F11: 17 | G11: 541 | H11: 498 | I11: 43 | J11: - | K11: 732 | L11: 130.9
A12: 14 | B12: 203 | C12: 平塚市 | D12: 1560 | E12: 777 | F12: 755 | G12: 780 | H12: 707 | I12: 73 | J12: - | K12: 1390 | L12: 89.1
A13: 14 | B13: 204 | C13: 鎌倉市 | D13: 120 | E13: 1 | F13: 1 | G13: 119 | H13: 109 | I13: 10 | J13: - | K13: 97 | L13: 80.8
A14: 14 | B14: 205 | C14: 藤沢市 | D14: 982 | E14: 148 | F14: 139 | G14: 834 | H14: 701 | I14: 133 | J14: - | K14: 1090 | L14: 111
A15: 14 | B15: 206 | C15: 小田原市 | D15: 1940 | E15: 562 | F15: 539 | G15: 1370 | H15: 350 | I15: 1020 | J15: - | K15: 1850 | L15: 95.7
A16: 14 | B16: 207 | C16: 茅ヶ崎市 | D16: 391 | E16: 61 | F16: 57 | G16: 330 | H16: 288 | I16: 42 | J16: - | K16: 514 | L16: 131.8
A17: 14 | B17: 208 | C17: 逗子市 | D17: 9 | E17: 0 | F17: 0 | G17: 9 | H17: 9 | I17: 0 | J17: - | K17: 7 | L17: 77.8
A18: 14 | B18: 209 | C18: 相模原市 | D18: 1730 | E18: 141 | F18: 135 | G18: 1590 | H18: 1360 | I18: 230 | J18: 4 | K18: 1110 | L18: 73.7
A19: 14 | B19: 210 | C19: 三浦市 | D19: 1210 | E19: 10 | F19: 9 | G19: 1200 | H19: 1190 | I19: 11 | J19: - | K19: 2250 | L19: 186
A20: 14 | B20: 211 | C20: 秦野市 | D20: 1270 | E20: 137 | F20: 118 | G20: 1130 | H20: 875 | I20: 253 | J20: - | K20: 934 | L20: 73.5
A21: 14 | B21: 212 | C21: 厚木市 | D21: 1240 | E21: 549 | F21: 532 | G21: 694 | H21: 577 | I21: 117 | J21: 0 | K21: 1020 | L21: 82.3
A22: 14 | B22: 213 | C22: 大和市 | D22: 249 | E22: 17 | F22: 16 | G22: 232 | H22: 186 | I22: 46 | J22: - | K22: 247 | L22: 99.2
A23: 14 | B23: 214 | C23: 伊勢原市 | D23: 1170 | E23: 431 | F23: 411 | G23: 742 | H23: 538 | I23: 204 | J23: - | K23: 1010 | L23: 86.2
A24: 14 | B24: 215 | C24: 海老名市 | D24: 593 | E24: 279 | F24: 270 | G24: 314 | H24: 286 | I24: 27 | J24: 1 | K24: 539 | L24: 90.9
A25: 14 | B25: 216 | C25: 座間市 | D25: 232 | E25: 92 | F25: 89 | G25: 140 | H25: 123 | I25: 17 | J25: - | K25: 203 | L25: 87.5
A26: 14 | B26: 217 | C26: 南足柄市 | D26: 696 | E26: 193 | F26: 181 | G26: 503 | H26: 143 | I26: 360 | J26: - | K26: 588 | L26: 84.5
A27: 14 | B27: 218 | C27: 綾瀬市 | D27: 282 | E27: 19 | F27: 18 | G27: 263 | H27: 234 | I27: 29 | J27: - | K27: 251 | L27: 89
A28: 14 | B28: 301 | C28: 葉山町 | D28: 41 | E28: 4 | F28: 4 | G28: 37 | H28: 32 | I28: 5 | J28: - | K28: 36 | L28: 87.8
A29: 14 | B29: 321 | C29: 寒川町 | D29: 260 | E29: 81 | F29: 77 | G29: 179 | H29: 159 | I29: 20 | J29: - | K29: 225 | L29: 86.5
A30: 14 | B30: 341 | C30: 大磯町 | D30: 281 | E30: 26 | F30: 23 | G30: 255 | H30: 160 | I30: 95 | J30: - | K30: 265 | L30: 94.6
A31: 14 | B31: 342 | C31: 二宮町 | D31: 133 | E31: 1 | F31: 1 | G31: 132 | H31: 73 | I31: 59 | J31: - | K31: 104 | L31: 78.2
A32: 14 | B32: 361 | C32: 中井町 | D32: 488 | E32: 31 | F32: 27 | G32: 457 | H32: 306 | I32: 151 | J32: - | K32: 404 | L32: 82.8
A33: 14 | B33: 362 | C33: 大井町 | D33: 354 | E33: 118 | F33: 109 | G33: 236 | H33: 120 | I33: 116 | J33: - | K33: 298 | L33: 84.2
A34: 14 | B34: 363 | C34: 松田町 | D34: 167 | E34: 12 | F34: 10 | G34: 155 | H34: 61 | I34: 94 | J34: - | K34: 123 | L34: 73.7
A35: 14 | B35: 364 | C35: 山北町 | D35: 410 | E35: 37 | F35: 33 | G35: 373 | H35: 107 | I35: 199 | J35: 67 | K35: 315 | L35: 76.8
A36: 14 | B36: 366 | C36: 開成町 | D36: 207 | E36: 177 | F36: 165 | G36: 30 | H36: 19 | I36: 11 | J36: - | K36: 214 | L36: 103.4
A37: 14 | B37: 382 | C37: 箱根町 | D37: 10 | E37: 2 | F37: 2 | G37: 8 | H37: 1 | I37: 7 | J37: - | K37: 9 | L37: 90
A38: 14 | B38: 383 | C38: 真鶴町 | D38: 52 | E38: - | F38: - | G38: 52 | H38: 7 | I38: 45 | J38: - | K38: 48 | L38: 92.3
A39: 14 | B39: 384 | C39: 湯河原町 | D39: 262 | E39: - | F39: - | G39: 262 | H39: 12 | I39: 250 | J39: - | K39: 251 | L39: 95.8
A40: 14 | B40: 401 | C40: 愛川町 | D40: 356 | E40: 78 | F40: 75 | G40: 278 | H40: 246 | I40: 32 | J40: 0 | K40: 248 | L40: 69.7
A41: 14 | B41: 402 | C41: 清川村 | D41: 50 | E41: 9 | F41: 8 | G41: 41 | H41: 13 | I41: 28 | J41: - | K41: 41 | L41: 82
A43: 利用上の注意
A44: この市町村別データは、「耕地面積調査」の県計値を当該市町村における調査結果、関係機関からの情報等
A45: により加工したものである。

Sheet 19
A1: 農林水産関係市町村別データ
A2: 平成19年
A3: 耕地面積
A4: 神奈川県
A5: 都道 | B5: 市町 | D5: 耕地面積 | E5: 田耕地面積 | F5: 田本地面積 | G5: 畑耕地面積
A6: 府県 | B6: 村 | C6: 市町村名
A7: ｺｰﾄﾞ | B7: ｺｰﾄﾞ
D8: ha | E8: ha | F8: ha | G8: ha
A9: 14 | B9: 100 | C9: 横浜市 | D9: 3060 | E9: 190 | F9: 181 | G9: 2870
A10: 14 | B10: 130 | C10: 川崎市 | D10: 626 | E10: 28 | F10: 26 | G10: 598
A11: 14 | B11: 201 | C11: 横須賀市 | D11: 555 | E11: 17 | F11: 16 | G11: 538
A12: 14 | B12: 203 | C12: 平塚市 | D12: 1560 | E12: 777 | F12: 755 | G12: 778
A13: 14 | B13: 204 | C13: 鎌倉市 | D13: 118 | E13: 1 | F13: 1 | G13: 117
A14: 14 | B14: 205 | C14: 藤沢市 | D14: 982 | E14: 148 | F14: 139 | G14: 834
A15: 14 | B15: 206 | C15: 小田原市 | D15: 1930 | E15: 556 | F15: 534 | G15: 1370
A16: 14 | B16: 207 | C16: 茅ヶ崎市 | D16: 391 | E16: 58 | F16: 54 | G16: 333
A17: 14 | B17: 208 | C17: 逗子市 | D17: 9 | E17: 0 | F17: 0 | G17: 9
A18: 14 | B18: 209 | C18: 相模原市 | D18: 1720 | E18: 138 | F18: 132 | G18: 1590
A19: 14 | B19: 210 | C19: 三浦市 | D19: 1210 | E19: 10 | F19: 9 | G19: 1200
A20: 14 | B20: 211 | C20: 秦野市 | D20: 1260 | E20: 135 | F20: 117 | G20: 1120
... A37: 14 | B37: 382 | C37: 箱根町 | D37: 10 | E37: 2 | F37: 2 | G37: 8
A38: 14 | B38: 383 | C38: 真鶴町 | D38: 52 | E38: - | F38: - | G38: 52
A39: 14 | B39: 384 | C39: 湯河原町 | D39: 257 | E39: - | F39: - | G39: 257
A40: 14 | B40: 401 | C40: 愛川町 | D40: 353 | E40: 77 | F40: 74 | G40: 276
A41: 14 | B41: 402 | C41: 清川村 | D41: 50 | E41: 9 | F41: 8 | G41: 41
A43: 利用上の注意
A44: １ この市町村別データは、「作物統計調査」を実施する上で把握した地域における標本調査及び現地見積りの結果、
A45: 関係機関からの情報等をもとに都道府県計値の内訳として市町村別に作成した加工統計であり、作成するうえで
A46: 精度を設定しているものではない。
A47: なお、「作物統計調査」は都道府県計値を求めるために設計されている。
A48: ２ 市町村間の出作・入作を考慮していない（属地統計）。
A49: ３ 数値については、四捨五入しており、都道府県計値と市町村別の内訳の計が一致しないことがある。

Sheet 20
A1: 農林水産関係市町村別データ
A2: 平成20年
A3: 耕地面積
A4: 神奈川県
A5: 都道 | B5: 市町 | D5: 耕地面積 | E5: 田耕地面積 | G5: 畑耕地面積
A6: 府県 | B6: 村 | C6: 市町村名 | F6: 田本地面積
A7: ｺｰﾄﾞ | B7: ｺｰﾄﾞ
D8: ha | E8: ha | F8: ha | G8: ha
A9: 14 | B9: 100 | C9: 横浜市 | D9: 3010 | E9: 180 | F9: 171 | G9: 2830
A10: 14 | B10: 130 | C10: 川崎市 | D10: 620 | E10: 27 | F10: 25 | G10: 593
A11: 14 | B11: 201 | C11: 横須賀市 | D11: 553 | E11: 16 | F11: 15 | G11: 537
A12: 14 | B12: 203 | C12: 平塚市 | D12: 1550 | E12: 777 | F12: 755 | G12: 775
A13: 14 | B13: 204 | C13: 鎌倉市 | D13: 115 | E13: 1 | F13: 1 | G13: 114
A14: 14 | B14: 205 | C14: 藤沢市 | D14: 976 | E14: 146 | F14: 137 | G14: 830
A15: 14 | B15: 206 | C15: 小田原市 | D15: 1920 | E15: 550 | F15: 528 | G15: 1370
A16: 14 | B16: 207 | C16: 茅ヶ崎市 | D16: 387 | E16: 54 | F16: 50 | G16: 333
A17: 14 | B17: 208 | C17: 逗子市 | D17: 9 | E17: 0 | F17: 0 | G17: 9
A18: 14 | B18: 209 | C18: 相模原市 | D18: 1710 | E18: 137 | F18: 131 | G18: 1570
A19: 14 | B19: 210 | C19: 三浦市 | D19: 1210 | E19: 10 | F19: 9 | G19: 1200
A20: 14 | B20: 211 | C20: 秦野市 | D20: 1250 | E20: 134 | F20: 116 | G20: 1120
... A37: 14 | B37: 382 | C37: 箱根町 | D37: 10 | E37: 2 | F37: 2 | G37: 8
A38: 14 | B38: 383 | C38: 真鶴町 | D38: 52 | E38: - | F38: - | G38: 52
A39: 14 | B39: 384 | C39: 湯河原町 | D39: 256 | E39: - | F39: - | G39: 256
A40: 14 | B40: 401 | C40: 愛川町 | D40: 349 | E40: 74 | F40: 71 | G40: 275
A41: 14 | B41: 402 | C41: 清川村 | D41: 48 | E41: 8 | F41: 7 | G41: 40
A43: 利用上の注意
A44: １ この市町村別データは、「作物統計調査」を実施する上で把握した地域における標本調査及び現地見積りの結果、
A45: 関係機関からの情報等をもとに都道府県計値の内訳として市町村別に作成した加工統計であり、作成するうえで
A46: 精度を設定しているものではない。
A47: なお、「作物統計調査」は都道府県計値を求めるために設計されている。
A48: ２ 市町村間の出作・入作を考慮していない（属地統計）。
A49: ３ 数値については、四捨五入しており、都道府県計値と市町村別の内訳の計が一致しないことがある。

Sheet 21
A1: 農林水産関係市町村別データ
A2: 平成21年
A3: 耕地面積
A4: 神奈川県
A5: 都道 | B5: 市町 | D5: 耕地面積 | E5: 田耕地面積 | G5: 畑耕地面積
A6: 府県 | B6: 村 | C6: 市町村名 | F6: 田本地面積
A7: ｺｰﾄﾞ | B7: ｺｰﾄﾞ
D8: ha | E8: ha | F8: ha | G8: ha
A9: 14 | B9: 100 | C9: 横浜市 | D9: 2990 | E9: 178 | F9: 169 | G9: 2810
A10: 14 | B10: 130 | C10: 川崎市 | D10: 613 | E10: 27 | F10: 25 | G10: 586
A11: 14 | B11: 201 | C11: 横須賀市 | D11: 553 | E11: 16 | F11: 15 | G11: 537
A12: 14 | B12: 203 | C12: 平塚市 | D12: 1550 | E12: 774 | F12: 752 | G12: 775
A13: 14 | B13: 204 | C13: 鎌倉市 | D13: 114 | E13: 1 | F13: 1 | G13: 113
A14: 14 | B14: 205 | C14: 藤沢市 | D14: 963 | E14: 143 | F14: 134 | G14: 820
A15: 14 | B15: 206 | C15: 小田原市 | D15: 1910 | E15: 546 | F15: 524 | G15: 1360
A16: 14 | B16: 207 | C16: 茅ヶ崎市 | D16: 381 | E16: 52 | F16: 48 | G16: 329
A17: 14 | B17: 208 | C17: 逗子市 | D17: 9 | E17: 0 | F17: 0 | G17: 9
A18: 14 | B18: 209 | C18: 相模原市 | D18: 1680 | E18: 137 | F18: 131 | G18: 1550
A19: 14 | B19: 210 | C19: 三浦市 | D19: 1210 | E19: 9 | F19: 8 | G19: 1200
A20: 14 | B20: 211 | C20: 秦野市 | D20: 1220 | E20: 119 | F20: 103 | G20: 1100
... A37: 14 | B37: 382 | C37: 箱根町 | D37: 10 | E37: 2 | F37: 2 | G37: 8
A38: 14 | B38: 383 | C38: 真鶴町 | D38: 52 | E38: - | F38: - | G38: 52
A39: 14 | B39: 384 | C39: 湯河原町 | D39: 255 | E39: - | F39: - | G39: 255
A40: 14 | B40: 401 | C40: 愛川町 | D40: 346 | E40: 74 | F40: 71 | G40: 272
A41: 14 | B41: 402 | C41: 清川村 | D41: 48 | E41: 8 | F41: 7 | G41: 40
A43: 利用上の注意
A44: １ この市町村別データは、「作物統計調査」を実施する上で把握した地域における標本調査及び現地見積りの結果、
A45: 関係機関からの情報等をもとに都道府県計値の内訳として市町村別に作成した加工統計であり、作成するうえで
A46: 精度を設定しているものではない。
A47: なお、「作物統計調査」は都道府県計値を求めるために設計されている。
A48: ２ 市町村間の出作・入作を考慮していない（属地統計）。
A49: ３ 数値については、四捨五入しており、都道府県計値と市町村別の内訳の計が一致しないことがある。

Sheet 22
A1: 農林水産関係市町村別統計
A2: 平成22年
A3: 耕地面積
A4: 神奈川県
A5: 都道 | B5: 市町 | D5: 耕地面積 | E5: 田耕地面積 | G5: 畑耕地面積
A6: 府県 | B6: 村 | C6: 市町村名 | F6: 田本地面積
A7: ｺｰﾄﾞ | B7: ｺｰﾄﾞ
D8: ha | E8: ha | F8: ha | G8: ha
A9: 14 | B9: 100 | C9: 横浜市 | D9: 2970 | E9: 176 | F9: 169 | G9: 2800
A10: 14 | B10: 130 | C10: 川崎市 | D10: 608 | E10: 24 | F10: 23 | G10: 584
A11: 14 | B11: 150 | C11: 相模原市 | D11: 1660 | E11: 130 | F11: 125 | G11: 1530
A12: 14 | B12: 201 | C12: 横須賀市 | D12: 543 | E12: 12 | F12: 12 | G12: 531
A13: 14 | B13: 203 | C13: 平塚市 | D13: 1540 | E13: 772 | F13: 750 | G13: 766
A14: 14 | B14: 204 | C14: 鎌倉市 | D14: 110 | E14: 1 | F14: 1 | G14: 109
A15: 14 | B15: 205 | C15: 藤沢市 | D15: 949 | E15: 142 | F15: 133 | G15: 807
A16: 14 | B16: 206 | C16: 小田原市 | D16: 1900 | E16: 545 | F16: 523 | G16: 1360
A17: 14 | B17: 207 | C17: 茅ヶ崎市 | D17: 374 | E17: 51 | F17: 47 | G17: 323
A18: 14 | B18: 208 | C18: 逗子市 | D18: 9 | E18: 0 | F18: 0 | G18: 9
A19: 14 | B19: 210 | C19: 三浦市 | D19: 1200 | E19: 6 | F19: 6 | G19: 1190
A20: 14 | B20: 211 | C20: 秦野市 | D20: 1210 | E20: 119 | F20: 103 | G20: 1090
... A37: 14 | B37: 382 | C37: 箱根町 | D37: 10 | E37: 2 | F37: 2 | G37: 8
A38: 14 | B38: 383 | C38: 真鶴町 | D38: 52 | E38: - | F38: - | G38: 52
A39: 14 | B39: 384 | C39: 湯河原町 | D39: 253 | E39: - | F39: - | G39: 253
A40: 14 | B40: 401 | C40: 愛川町 | D40: 345 | E40: 74 | F40: 71 | G40: 271
A41: 14 | B41: 402 | C41: 清川村 | D41: 46 | E41: 7 | F41: 7 | G41: 39
A43: 利用上の注意
A44: １ この市町村別統計は、「作物統計調査」を実施する上で把握した地域における標本調査及び現地見積りの結果、
A45: 関係機関からの情報等を踏まえ、都道府県計値の内訳として市町村別に作成した加工統計であり、作成するうえで
A46: 精度を設定しているものではない。
A47: なお、「作物統計調査」は都道府県計値を求めるために設計されている。
A48: ２ 耕作者の市町村間の出作・入作を考慮していない（属地統計）。
A49: ３ 数値は四捨五入しており、市町村値の計が都道府県値と一致しないことがある。

Sheet 23
A1: 農林水産関係市町村別統計
A2: 平成23年
A3: 耕地面積
A4: 神奈川県
A5: 都道 | B5: 市町 | D5: 耕地面積 | E5: 田耕地面積 | G5: 畑耕地面積
A6: 府県 | B6: 村 | C6: 市町村名 | F6: 田本地面積
A7: ｺｰﾄﾞ | B7: ｺｰﾄﾞ
D8: ha | E8: ha | F8: ha | G8: ha
A9: 14 | B9: 100 | C9: 横浜市 | D9: 2960 | E9: 172 | F9: 165 | G9: 2790
A10: 14 | B10: 130 | C10: 川崎市 | D10: 605 | E10: 24 | F10: 23 | G10: 581
A11: 14 | B11: 150 | C11: 相模原市 | D11: 1640 | E11: 126 | F11: 121 | G11: 1520
A12: 14 | B12: 201 | C12: 横須賀市 | D12: 541 | E12: 11 | F12: 11 | G12: 530
A13: 14 | B13: 203 | C13: 平塚市 | D13: 1540 | E13: 772 | F13: 750 | G13: 766
A14: 14 | B14: 204 | C14: 鎌倉市 | D14: 109 | E14: 1 | F14: 1 | G14: 108
A15: 14 | B15: 205 | C15: 藤沢市 | D15: 939 | E15: 140 | F15: 131 | G15: 799
A16: 14 | B16: 206 | C16: 小田原市 | D16: 1890 | E16: 537 | F16: 516 | G16: 1360
A17: 14 | B17: 207 | C17: 茅ヶ崎市 | D17: 372 | E17: 49 | F17: 45 | G17: 323
A18: 14 | B18: 208 | C18: 逗子市 | D18: 9 | E18: 0 | F18: 0 | G18: 9
A19: 14 | B19: 210 | C19: 三浦市 | D19: 1200 | E19: 6 | F19: 6 | G19: 1190
A20: 14 | B20: 211 | C20: 秦野市 | D20: 1200 | E20: 118 | F20: 102 | G20: 1080
... A37: 14 | B37: 382 | C37: 箱根町 | D37: 10 | E37: 2 | F37: 2 | G37: 8
A38: 14 | B38: 383 | C38: 真鶴町 | D38: 52 | E38: - | F38: - | G38: 52
A39: 14 | B39: 384 | C39: 湯河原町 | D39: 252 | E39: - | F39: - | G39: 252
A40: 14 | B40: 401 | C40: 愛川町 | D40: 345 | E40: 74 | F40: 71 | G40: 271
A41: 14 | B41: 402 | C41: 清川村 | D41: 46 | E41: 7 | F41: 7 | G41: 39
C43: 計 | D43: 20300 | E43: 3990 | F43: 3800 | G43: 16300
A45: 利用上の注意
A46: １ この市町村別統計は、「作物統計調査」を実施する上で把握した地域における標本調査及び現地見積りの結果、
A47: 関係機関からの情報等を踏まえ、都道府県計値の内訳として市町村別に作成した加工統計であり、作成するうえで
A48: 精度を設定しているものではない。
A49: なお、「作物統計調査」は都道府県計値を求めるために設計されている。
A50: ２ 耕作者の市町村間の出作・入作を考慮していない（属地統計）。
A51: ３ 数値は四捨五入しており、市町村値の計が都道府県値と一致しないことがある。

Sheet 24
A1: 農林水産関係市町村別統計
A2: 平成24年
A3: 耕地面積
A4: 神奈川県
A5: 都道 | B5: 市町 | D5: 耕地面積 | E5: 田耕地面積 | G5: 畑耕地面積
A6: 府県 | B6: 村 | C6: 市町村名 | F6: 田本地面積
A7: ｺｰﾄﾞ | B7: ｺｰﾄﾞ
D8: ha | E8: ha | F8: ha | G8: ha
A9: 14 | B9: 100 | C9: 横浜市 | D9: 2950 | E9: 168 | F9: 162 | G9: 2790
A10: 14 | B10: 130 | C10: 川崎市 | D10: 603 | E10: 23 | F10: 22 | G10: 580
A11: 14 | B11: 150 | C11: 相模原市 | D11: 1640 | E11: 125 | F11: 120 | G11: 1510
A12: 14 | B12: 201 | C12: 横須賀市 | D12: 539 | E12: 10 | F12: 10 | G12: 529
A13: 14 | B13: 203 | C13: 平塚市 | D13: 1540 | E13: 771 | F13: 749 | G13: 764
A14: 14 | B14: 204 | C14: 鎌倉市 | D14: 109 | E14: 1 | F14: 1 | G14: 108
A15: 14 | B15: 205 | C15: 藤沢市 | D15: 929 | E15: 138 | F15: 129 | G15: 791
A16: 14 | B16: 206 | C16: 小田原市 | D16: 1870 | E16: 536 | F16: 515 | G16: 1340
A17: 14 | B17: 207 | C17: 茅ヶ崎市 | D17: 369 | E17: 49 | F17: 45 | G17: 320
A18: 14 | B18: 208 | C18: 逗子市 | D18: 9 | E18: 0 | F18: 0 | G18: 9
A19: 14 | B19: 210 | C19: 三浦市 | D19: 1200 | E19: 6 | F19: 6 | G19: 1190
A20: 14 | B20: 211 | C20: 秦野市 | D20: 1170 | E20: 117 | F20: 101 | G20: 1050
... A37: 14 | B37: 382 | C37: 箱根町 | D37: 10 | E37: 2 | F37: 2 | G37: 8
A38: 14 | B38: 383 | C38: 真鶴町 | D38: 50 | E38: - | F38: - | G38: 50
A39: 14 | B39: 384 | C39: 湯河原町 | D39: 248 | E39: - | F39: - | G39: 248
A40: 14 | B40: 401 | C40: 愛川町 | D40: 345 | E40: 74 | F40: 71 | G40: 271
A41: 14 | B41: 402 | C41: 清川村 | D41: 46 | E41: 7 | F41: 7 | G41: 39
C43: 計 | D43: 20100 | E43: 3970 | F43: 3780 | G43: 16200
A45: 利用上の注意
A46: １ この市町村別統計は、「作物統計調査」を実施する上で把握した地域における標本調査及び現地見積りの結果、
A47: 関係機関からの情報等を踏まえ、都道府県計値の内訳として市町村別に作成した加工統計であり、作成する上で
A48: 精度を設定しているものではない。
A49: なお、「作物統計調査」は都道府県計値を求めるために設計されている。
A50: ２ 耕作者の市町村間の出作・入作を考慮していない（属地統計）。
A51: ３ 数値は四捨五入しており、市町村値の計が都道府県値と一致しないことがある。

Sheet 25
A1: 農林水産関係市町村別統計
A2: 平成25年
A3: 耕地面積
A4: 神奈川県
A5: 都道 | B5: 市町 | D5: 耕地面積 | E5: 田耕地面積 | G5: 畑耕地面積
A6: 府県 | B6: 村 | C6: 市町村名 | F6: 田本地面積
A7: ｺｰﾄﾞ | B7: ｺｰﾄﾞ
D8: ha | E8: ha | F8: ha | G8: ha
A9: 14 | B9: 100 | C9: 横浜市 | D9: 2930 | E9: 163 | F9: 157 | G9: 2770
A10: 14 | B10: 130 | C10: 川崎市 | D10: 598 | E10: 22 | F10: 21 | G10: 576
A11: 14 | B11: 150 | C11: 相模原市 | D11: 1620 | E11: 123 | F11: 118 | G11: 1490
A12: 14 | B12: 201 | C12: 横須賀市 | D12: 539 | E12: 10 | F12: 10 | G12: 529
A13: 14 | B13: 203 | C13: 平塚市 | D13: 1530 | E13: 766 | F13: 744 | G13: 761
A14: 14 | B14: 204 | C14: 鎌倉市 | D14: 107 | E14: 1 | F14: 1 | G14: 106
A15: 14 | B15: 205 | C15: 藤沢市 | D15: 921 | E15: 137 | F15: 128 | G15: 784
A16: 14 | B16: 206 | C16: 小田原市 | D16: 1860 | E16: 534 | F16: 513 | G16: 1330
A17: 14 | B17: 207 | C17: 茅ヶ崎市 | D17: 362 | E17: 47 | F17: 43 | G17: 315
A18: 14 | B18: 208 | C18: 逗子市 | D18: 9 | E18: 0 | F18: 0 | G18: 9
A19: 14 | B19: 210 | C19: 三浦市 | D19: 1200 | E19: 6 | F19: 6 | G19: 1190
A20: 14 | B20: 211 | C20: 秦野市 | D20: 1150 | E20: 114 | F20: 99 | G20: 1030
... A37: 14 | B37: 382 | C37: 箱根町 | D37: 10 | E37: 2 | F37: 2 | G37: 8
A38: 14 | B38: 383 | C38: 真鶴町 | D38: 50 | E38: - | F38: - | G38: 50
A39: 14 | B39: 384 | C39: 湯河原町 | D39: 244 | E39: - | F39: - | G39: 244
A40: 14 | B40: 401 | C40: 愛川町 | D40: 334 | E40: 73 | F40: 70 | G40: 261
A41: 14 | B41: 402 | C41: 清川村 | D41: 46 | E41: 7 | F41: 7 | G41: 39
C43: 計 | D43: 20000 | E43: 3920 | F43: 3740 | G43: 16000
A45: 利用上の注意
A46: １ この市町村別統計は、「作物統計調査」を実施する上で把握した地域における標本調査及び現地見積りの結果、
A47: 関係機関からの情報等を踏まえ、都道府県計値の内訳として市町村別に作成した加工統計であり、作成するうえで
A48: 精度を設定しているものではない。
A49: なお、「作物統計調査」は都道府県計値を求めるために設計されている。
A50: ２ 耕作者の市町村間の出作・入作を考慮していない（属地統計）。
A51: ３ 数値は四捨五入しており、市町村値の計が都道府県値と一致しないことがある。

Sheet 26
A1: 農林水産関係市町村別統計
A2: 平成26年
A3: 耕地面積
A4: 神奈川県
A5: 都道 | B5: 市町 | D5: 耕地面積 | E5: 田耕地面積 | G5: 畑耕地面積
A6: 府県 | B6: 村 | C6: 市町村名 | F6: 田本地面積
A7: ｺｰﾄﾞ | B7: ｺｰﾄﾞ
D8: ha | E8: ha | F8: ha | G8: ha
A9: 14 | B9: 100 | C9: 横浜市 | D9: 2870 | E9: 160 | F9: 154 | G9: 2710
A10: 14 | B10: 130 | C10: 川崎市 | D10: 573 | E10: 22 | F10: 21 | G10: 551
A11: 14 | B11: 150 | C11: 相模原市 | D11: 1620 | E11: 122 | F11: 117 | G11: 1500
A12: 14 | B12: 201 | C12: 横須賀市 | D12: 537 | E12: 10 | F12: 10 | G12: 527
A13: 14 | B13: 203 | C13: 平塚市 | D13: 1520 | E13: 765 | F13: 743 | G13: 752
A14: 14 | B14: 204 | C14: 鎌倉市 | D14: 105 | E14: 1 | F14: 1 | G14: 104
A15: 14 | B15: 205 | C15: 藤沢市 | D15: 902 | E15: 137 | F15: 128 | G15: 765
A16: 14 | B16: 206 | C16: 小田原市 | D16: 1850 | E16: 527 | F16: 506 | G16: 1320
A17: 14 | B17: 207 | C17: 茅ヶ崎市 | D17: 352 | E17: 46 | F17: 42 | G17: 306
A18: 14 | B18: 208 | C18: 逗子市 | D18: 7 | E18: 0 | F18: 0 | G18: 7
A19: 14 | B19: 210 | C19: 三浦市 | D19: 1200 | E19: 6 | F19: 6 | G19: 1190
A20: 14 | B20: 211 | C20: 秦野市 | D20: 1150 | E20: 113 | F20: 98 | G20: 1030
... A37: 14 | B37: 382 | C37: 箱根町 | D37: 10 | E37: 2 | F37: 2 | G37: 8
A38: 14 | B38: 383 | C38: 真鶴町 | D38: 49 | E38: - | F38: - | G38: 49
A39: 14 | B39: 384 | C39: 湯河原町 | D39: 243 | E39: - | F39: - | G39: 243
A40: 14 | B40: 401 | C40: 愛川町 | D40: 327 | E40: 73 | F40: 70 | G40: 254
A41: 14 | B41: 402 | C41: 清川村 | D41: 46 | E41: 7 | F41: 7 | G41: 39
C43: 計 | D43: 19700 | E43: 3890 | F43: 3710 | G43: 15800
A45: 利用上の注意
A46: １ この市町村別統計は、「作物統計調査」を実施する上で把握した地域における標本調査及び現地見積りの結果、
A47: 関係機関からの情報等を踏まえ、都道府県計値の内訳として市町村別に作成した加工統計であり、作成する上で
A48: 精度を設定しているものではない。
A49: なお、「作物統計調査」は都道府県計値を求めるために設計されている。
A50: ２ 耕作者の市町村間の出作・入作を考慮していない（属地統計）。
A51: ３ 数値は四捨五入しており、市町村値の計が都道府県値と一致しないことがある。

Sheet 27
A1: 農林水産関係市町村別統計
A2: 平成27年
A3: 耕地面積
A4: 神奈川県
A5: 都道 | B5: 市町 | D5: 耕地面積 | E5: 田耕地面積 | G5: 畑耕地面積
A6: 府県 | B6: 村 | C6: 市町村名 | F6: 田本地面積
A7: ｺｰﾄﾞ | B7: ｺｰﾄﾞ
D8: ha | E8: ha | F8: ha | G8: ha
A9: 14 | B9: 100 | C9: 横浜市 | D9: 2850 | E9: 155 | F9: 149 | G9: 2690
A10: 14 | B10: 130 | C10: 川崎市 | D10: 571 | E10: 21 | F10: 20 | G10: 550
A11: 14 | B11: 150 | C11: 相模原市 | D11: 1610 | E11: 122 | F11: 117 | G11: 1490
A12: 14 | B12: 201 | C12: 横須賀市 | D12: 533 | E12: 9 | F12: 9 | G12: 524
A13: 14 | B13: 203 | C13: 平塚市 | D13: 1510 | E13: 761 | F13: 739 | G13: 749
A14: 14 | B14: 204 | C14: 鎌倉市 | D14: 105 | E14: 1 | F14: 1 | G14: 104
A15: 14 | B15: 205 | C15: 藤沢市 | D15: 901 | E15: 136 | F15: 127 | G15: 765
A16: 14 | B16: 206 | C16: 小田原市 | D16: 1840 | E16: 521 | F16: 500 | G16: 1320
A17: 14 | B17: 207 | C17: 茅ヶ崎市 | D17: 349 | E17: 43 | F17: 40 | G17: 306
A18: 14 | B18: 208 | C18: 逗子市 | D18: 7 | E18: 0 | F18: 0 | G18: 7
A19: 14 | B19: 210 | C19: 三浦市 | D19: 1190 | E19: 5 | F19: 5 | G19: 1190
A20: 14 | B20: 211 | C20: 秦野市 | D20: 1130 | E20: 112 | F20: 97 | G20: 1020
... A37: 14 | B37: 382 | C37: 箱根町 | D37: 9 | E37: 2 | F37: 2 | G37: 7
A38: 14 | B38: 383 | C38: 真鶴町 | D38: 49 | E38: - | F38: - | G38: 49
A39: 14 | B39: 384 | C39: 湯河原町 | D39: 242 | E39: - | F39: - | G39: 242
A40: 14 | B40: 401 | C40: 愛川町 | D40: 313 | E40: 70 | F40: 67 | G40: 243
A41: 14 | B41: 402 | C41: 清川村 | D41: 46 | E41: 7 | F41: 7 | G41: 39
C43: 計 | D43: 19600 | E43: 3850 | F43: 3660 | G43: 15700
A45: 利用上の注意
A46: １ この市町村別統計は、「作物統計調査」を実施する上で把握した地域における標本調査及び現地見積りの結果、
A47: 関係機関からの情報等を踏まえ、都道府県計値の内訳として市町村別に作成した加工統計であり、作成するうえで
A48: 精度を設定しているものではない。
A49: なお、「作物統計調査」は都道府県計値を求めるために設計されている。
A50: ２ 耕作者の市町村間の出作・入作を考慮していない（属地統計）。
A51: ３ 数値は四捨五入しており、市町村値の計が都道府県値と一致しないことがある。

Sheet 28
A1: 農林水産関係市町村別統計
A2: 平成28年
A3: 耕地面積
A4: 神奈川県
A5: 都道 | B5: 市町 | D5: 耕地面積 | E5: 田耕地面積 | G5: 畑耕地面積
A6: 府県 | B6: 村 | C6: 市町村名 | F6: 田本地面積
A7: ｺｰﾄﾞ | B7: ｺｰﾄﾞ
D8: ha | E8: ha | F8: ha | G8: ha
A9: 14 | B9: 100 | C9: 横浜市 | D9: 2820 | E9: 149 | F9: 143 | G9: 2680
A10: 14 | B10: 130 | C10: 川崎市 | D10: 570 | E10: 21 | F10: 20 | G10: 549
A11: 14 | B11: 150 | C11: 相模原市 | D11: 1580 | E11: 111 | F11: 107 | G11: 1470
A12: 14 | B12: 201 | C12: 横須賀市 | D12: 533 | E12: 9 | F12: 9 | G12: 524
A13: 14 | B13: 203 | C13: 平塚市 | D13: 1480 | E13: 739 | F13: 718 | G13: 740
A14: 14 | B14: 204 | C14: 鎌倉市 | D14: 104 | E14: 1 | F14: 1 | G14: 103
A15: 14 | B15: 205 | C15: 藤沢市 | D15: 900 | E15: 135 | F15: 126 | G15: 765
A16: 14 | B16: 206 | C16: 小田原市 | D16: 1830 | E16: 521 | F16: 500 | G16: 1310
A17: 14 | B17: 207 | C17: 茅ヶ崎市 | D17: 349 | E17: 43 | F17: 39 | G17: 306
A18: 14 | B18: 208 | C18: 逗子市 | D18: 7 | E18: 0 | F18: 0 | G18: 7
A19: 14 | B19: 210 | C19: 三浦市 | D19: 1190 | E19: 5 | F19: 5 | G19: 1190
A20: 14 | B20: 211 | C20: 秦野市 | D20: 1120 | E20: 109 | F20: 95 | G20: 1010
... A37: 14 | B37: 382 | C37: 箱根町 | D37: 8 | E37: 1 | F37: 1 | G37: 7
A38: 14 | B38: 383 | C38: 真鶴町 | D38: 48 | E38: - | F38: - | G38: 48
A39: 14 | B39: 384 | C39: 湯河原町 | D39: 241 | E39: - | F39: - | G39: 241
A40: 14 | B40: 401 | C40: 愛川町 | D40: 310 | E40: 68 | F40: 65 | G40: 242
A41: 14 | B41: 402 | C41: 清川村 | D41: 46 | E41: 7 | F41: 7 | G41: 39
C43: 計 | D43: 19400 | E43: 3790 | F43: 3610 | G43: 15700
A45: 利用上の注意
A46: １ この市町村別統計は、「作物統計調査」を実施する上で把握した地域における標本調査及び現地見積りの結果、
A47: 関係機関からの情報等を踏まえ、都道府県計値の内訳として市町村別に作成した加工統計であり、作成するうえで
A48: 精度を設定しているものではない。
A49: なお、「作物統計調査」は都道府県計値を求めるために設計されている。
A50: ２ 耕作者の市町村間の出作・入作を考慮していない（属地統計）。
A51: ３ 数値は四捨五入しており、市町村値の計が都道府県値と一致しないことがある。

Sheet 29
A1: 農林水産関係市町村別統計
A2: 平成29年
A3: 耕地面積
A4: 神奈川県
A5: 都道 | B5: 市町 | D5: 耕地面積 | E5: 田耕地面積 | G5: 畑耕地面積
A6: 府県 | B6: 村 | C6: 市町村名 | F6: 田本地面積
A7: ｺｰﾄﾞ | B7: ｺｰﾄﾞ
D8: ha | E8: ha | F8: ha | G8: ha
A9: 14 | B9: 100 | C9: 横浜市 | D9: 2800 | E9: 146 | F9: 141 | G9: 2660
A10: 14 | B10: 130 | C10: 川崎市 | D10: 570 | E10: 21 | F10: 20 | G10: 549
A11: 14 | B11: 150 | C11: 相模原市 | D11: 1560 | E11: 109 | F11: 105 | G11: 1450
A12: 14 | B12: 201 | C12: 横須賀市 | D12: 531 | E12: 8 | F12: 8 | G12: 523
A13: 14 | B13: 203 | C13: 平塚市 | D13: 1480 | E13: 737 | F13: 716 | G13: 738
A14: 14 | B14: 204 | C14: 鎌倉市 | D14: 103 | E14: 1 | F14: 1 | G14: 102
A15: 14 | B15: 205 | C15: 藤沢市 | D15: 897 | E15: 134 | F15: 126 | G15: 763
A16: 14 | B16: 206 | C16: 小田原市 | D16: 1820 | E16: 514 | F16: 494 | G16: 1310
A17: 14 | B17: 207 | C17: 茅ヶ崎市 | D17: 348 | E17: 43 | F17: 39 | G17: 305
A18: 14 | B18: 208 | C18: 逗子市 | D18: 7 | E18: 0 | F18: 0 | G18: 7
A19: 14 | B19: 210 | C19: 三浦市 | D19: 1190 | E19: 5 | F19: 5 | G19: 1190
A20: 14 | B20: 211 | C20: 秦野市 | D20: 1110 | E20: 108 | F20: 95 | G20: 999
... A37: 14 | B37: 382 | C37: 箱根町 | D37: 8 | E37: 1 | F37: 1 | G37: 7
A38: 14 | B38: 383 | C38: 真鶴町 | D38: 46 | E38: - | F38: - | G38: 46
A39: 14 | B39: 384 | C39: 湯河原町 | D39: 238 | E39: - | F39: - | G39: 238
A40: 14 | B40: 401 | C40: 愛川町 | D40: 306 | E40: 67 | F40: 65 | G40: 239
A41: 14 | B41: 402 | C41: 清川村 | D41: 46 | E41: 7 | F41: 7 | G41: 39
C43: 計 | D43: 19200 | E43: 3760 | F43: 3590 | G43: 15500
A45: 利用上の注意
A46: １ この市町村別統計は、「作物統計調査」を実施する上で把握した地域における標本調査及び現地見積りの結果、
A47: 関係機関からの情報等を踏まえ、都道府県計値の内訳として市町村別に作成した加工統計であり、作成するうえで
A48: 精度を設定しているものではない。
A49: なお、「作物統計調査」は都道府県計値を求めるために設計されている。
A50: ２ 耕作者の市町村間の出作・入作を考慮していない（属地統計）。
A51: ３ 数値は四捨五入しており、市町村値の計が都道府県値と一致しないことがある。

Sheet 30
A1: 農林水産関係市町村別統計
A2: 平成30年
A3: 耕地面積
A4: 神奈川県
A5: 都道 | B5: 市町 | D5: 耕地面積 | E5: 田耕地面積 | G5: 畑耕地面積
A6: 府県 | B6: 村 | C6: 市町村名 | F6: 田本地面積
A7: ｺｰﾄﾞ | B7: ｺｰﾄﾞ
D8: ha | E8: ha | F8: ha | G8: ha
A9: 14 | B9: 100 | C9: 横浜市 | D9: 2780 | E9: 142 | F9: 137 | G9: 2630
A10: 14 | B10: 130 | C10: 川崎市 | D10: 568 | E10: 21 | F10: 20 | G10: 547
A11: 14 | B11: 150 | C11: 相模原市 | D11: 1540 | E11: 108 | F11: 104 | G11: 1430
A12: 14 | B12: 201 | C12: 横須賀市 | D12: 528 | E12: 7 | F12: 7 | G12: 521
A13: 14 | B13: 203 | C13: 平塚市 | D13: 1470 | E13: 735 | F13: 716 | G13: 732
A14: 14 | B14: 204 | C14: 鎌倉市 | D14: 102 | E14: 1 | F14: 1 | G14: 101
A15: 14 | B15: 205 | C15: 藤沢市 | D15: 894 | E15: 133 | F15: 125 | G15: 761
A16: 14 | B16: 206 | C16: 小田原市 | D16: 1810 | E16: 508 | F16: 490 | G16: 1300
A17: 14 | B17: 207 | C17: 茅ヶ崎市 | D17: 346 | E17: 43 | F17: 40 | G17: 303
A18: 14 | B18: 208 | C18: 逗子市 | D18: 7 | E18: 0 | F18: 0 | G18: 7
A19: 14 | B19: 210 | C19: 三浦市 | D19: 1190 | E19: 5 | F19: 5 | G19: 1190
A20: 14 | B20: 211 | C20: 秦野市 | D20: 1100 | E20: 107 | F20: 95 | G20: 990
... A37: 14 | B37: 382 | C37: 箱根町 | D37: 8 | E37: 1 | F37: 1 | G37: 7
A38: 14 | B38: 383 | C38: 真鶴町 | D38: 45 | E38: - | F38: - | G38: 45
A39: 14 | B39: 384 | C39: 湯河原町 | D39: 232 | E39: - | F39: - | G39: 232
A40: 14 | B40: 401 | C40: 愛川町 | D40: 303 | E40: 66 | F40: 64 | G40: 237
A41: 14 | B41: 402 | C41: 清川村 | D41: 46 | E41: 7 | F41: 7 | G41: 39
C43: 計 | D43: 19100 | E43: 3730 | F43: 3570 | G43: 15400
A45: 利用上の注意
A46: １ この市町村別統計は、「作物統計調査」を実施する上で把握した地域における標本調査及び現地見積りの結果、
A47: 関係機関からの情報等を踏まえ、都道府県計値の内訳として市町村別に作成した加工統計であり、作成するうえで
A48: 精度を設定しているものではない。
A49: なお、「作物統計調査」は都道府県計値を求めるために設計されている。
A50: ２ 耕作者の市町村間の出作・入作を考慮していない（属地統計）。
A51: ３ 数値は四捨五入しており、市町村値の計が都道府県値と一致しないことがある。

Sheet R1
A1: 農林水産関係市町村別統計
A2: 令和元年
A3: 耕地面積
A4: 神奈川県
A5: 都道 | B5: 市町 | D5: 耕地面積 | E5: 田耕地面積 | G5: 畑耕地面積
A6: 府県 | B6: 村 | C6: 市町村名 | F6: 田本地面積
A7: ｺｰﾄﾞ | B7: ｺｰﾄﾞ
D8: ha | E8: ha | F8: ha | G8: ha
A9: 14 | B9: 100 | C9: 横浜市 | D9: 2710 | E9: 139 | F9: 134 | G9: 2570
A10: 14 | B10: 130 | C10: 川崎市 | D10: 547 | E10: 20 | F10: 19 | G10: 527
A11: 14 | B11: 150 | C11: 相模原市 | D11: 1510 | E11: 107 | F11: 103 | G11: 1400
A12: 14 | B12: 201 | C12: 横須賀市 | D12: 522 | E12: 7 | F12: 7 | G12: 515
A13: 14 | B13: 203 | C13: 平塚市 | D13: 1460 | E13: 732 | F13: 713 | G13: 727
A14: 14 | B14: 204 | C14: 鎌倉市 | D14: 100 | E14: 1 | F14: 1 | G14: 99
A15: 14 | B15: 205 | C15: 藤沢市 | D15: 880 | E15: 132 | F15: 124 | G15: 748
A16: 14 | B16: 206 | C16: 小田原市 | D16: 1790 | E16: 492 | F16: 475 | G16: 1300
A17: 14 | B17: 207 | C17: 茅ヶ崎市 | D17: 338 | E17: 43 | F17: 40 | G17: 295
A18: 14 | B18: 208 | C18: 逗子市 | D18: 6 | E18: 0 | F18: 0 | G18: 6
A19: 14 | B19: 210 | C19: 三浦市 | D19: 1190 | E19: 5 | F19: 5 | G19: 1190
A20: 14 | B20: 211 | C20: 秦野市 | D20: 1090 | E20: 107 | F20: 95 | G20: 979
... A37: 14 | B37: 382 | C37: 箱根町 | D37: 8 | E37: 1 | F37: 1 | G37: 7
A38: 14 | B38: 383 | C38: 真鶴町 | D38: 44 | E38: - | F38: - | G38: 44
A39: 14 | B39: 384 | C39: 湯河原町 | D39: 217 | E39: - | F39: - | G39: 217
A40: 14 | B40: 401 | C40: 愛川町 | D40: 293 | E40: 65 | F40: 63 | G40: 228
A41: 14 | B41: 402 | C41: 清川村 | D41: 45 | E41: 6 | F41: 6 | G41: 39
C43: 計 | D43: 18800 | E43: 3670 | F43: 3520 | G43: 15100
A45: 利用上の注意
A46: １ この市町村別統計は、「作物統計調査」を実施する上で把握した地域における標本調査及び現地見積りの結果、
A47: 関係機関からの情報等を踏まえ、都道府県計値の内訳として市町村別に作成した加工統計であり、作成するうえで
A48: 精度を設定しているものではない。
A49: なお、「作物統計調査」は都道府県計値を求めるために設計されている。
A50: ２ 耕作者の市町村間の出作・入作を考慮していない（属地統計）。
A51: ３ 数値は四捨五入しており、市町村値の計が都道府県値と一致しないことがある。

Sheet R2
A1: 農林水産関係市町村別統計
A2: 令和2年
A3: 耕地面積
A4: 神奈川県
A5: 都道 | B5: 市町 | D5: 耕地面積 | E5: 田耕地面積 | G5: 畑耕地面積
A6: 府県 | B6: 村 | C6: 市町村名 | F6: 田本地面積
A7: ｺｰﾄﾞ | B7: ｺｰﾄﾞ
D8: ha | E8: ha | F8: ha | G8: ha
A9: 14 | B9: 100 | C9: 横浜市 | D9: 2650 | E9: 134 | F9: 129 | G9: 2520
A10: 14 | B10: 130 | C10: 川崎市 | D10: 526 | E10: 19 | F10: 18 | G10: 507
A11: 14 | B11: 150 | C11: 相模原市 | D11: 1460 | E11: 103 | F11: 99 | G11: 1360
A12: 14 | B12: 201 | C12: 横須賀市 | D12: 514 | E12: 7 | F12: 7 | G12: 507
A13: 14 | B13: 203 | C13: 平塚市 | D13: 1440 | E13: 722 | F13: 704 | G13: 718
A14: 14 | B14: 204 | C14: 鎌倉市 | D14: 99 | E14: 1 | F14: 1 | G14: 98
A15: 14 | B15: 205 | C15: 藤沢市 | D15: 866 | E15: 130 | F15: 122 | G15: 736
A16: 14 | B16: 206 | C16: 小田原市 | D16: 1780 | E16: 486 | F16: 469 | G16: 1290
A17: 14 | B17: 207 | C17: 茅ヶ崎市 | D17: 328 | E17: 43 | F17: 40 | G17: 285
A18: 14 | B18: 208 | C18: 逗子市 | D18: 6 | E18: 0 | F18: 0 | G18: 6
A19: 14 | B19: 210 | C19: 三浦市 | D19: 1190 | E19: 5 | F19: 5 | G19: 1180
A20: 14 | B20: 211 | C20: 秦野市 | D20: 1070 | E20: 105 | F20: 93 | G20: 962
... A37: 14 | B37: 382 | C37: 箱根町 | D37: 6 | E37: 0 | F37: 0 | G37: 6
A38: 14 | B38: 383 | C38: 真鶴町 | D38: 41 | E38: - | F38: - | G38: 41
A39: 14 | B39: 384 | C39: 湯河原町 | D39: 215 | E39: - | F39: - | G39: 215
A40: 14 | B40: 401 | C40: 愛川町 | D40: 283 | E40: 64 | F40: 62 | G40: 219
A41: 14 | B41: 402 | C41: 清川村 | D41: 40 | E41: 6 | F41: 6 | G41: 34
C43: 計 | D43: 18400 | E43: 3610 | F43: 3460 | G43: 14800
A45: 利用上の注意
A46: １ この市町村別統計は、「作物統計調査」を実施する上で把握した地域における標本調査及び現地見積りの結果、
A47: 関係機関からの情報等を踏まえ、都道府県計値の内訳として市町村別に作成した加工統計であり、作成するうえで
A48: 精度を設定しているものではない。
A49: なお、「作物統計調査」は都道府県計値を求めるために設計されている。
A50: ２ 耕作者の市町村間の出作・入作を考慮していない（属地統計）。
A51: ３ 数値は四捨五入しており、市町村値の計が都道府県値と一致しないことがある。

Sheet R3
A1: 農林水産関係市町村別統計
A2: 令和3年
A3: 耕地面積
A4: 神奈川県
A5: 都道 | B5: 市町 | C5: 市町村名 | D5: 耕地面積 | E5: 田耕地面積 | G5: 畑耕地面積
A6: 府県 | B6: 村 | F6: 田本地面積
A7: ｺｰﾄﾞ | B7: ｺｰﾄﾞ
D8: ha | E8: ha | F8: ha | G8: ha
A9: 14 | B9: 100 | C9: 横浜市 | D9: 2620 | E9: 131 | F9: 126 | G9: 2490
A10: 14 | B10: 130 | C10: 川崎市 | D10: 511 | E10: 19 | F10: 18 | G10: 492
A11: 14 | B11: 150 | C11: 相模原市 | D11: 1440 | E11: 102 | F11: 99 | G11: 1340
A12: 14 | B12: 201 | C12: 横須賀市 | D12: 510 | E12: 6 | F12: 6 | G12: 504
A13: 14 | B13: 203 | C13: 平塚市 | D13: 1430 | E13: 712 | F13: 694 | G13: 714
A14: 14 | B14: 204 | C14: 鎌倉市 | D14: 97 | E14: 1 | F14: 1 | G14: 96
A15: 14 | B15: 205 | C15: 藤沢市 | D15: 859 | E15: 130 | F15: 122 | G15: 729
A16: 14 | B16: 206 | C16: 小田原市 | D16: 1750 | E16: 473 | F16: 456 | G16: 1280
A17: 14 | B17: 207 | C17: 茅ヶ崎市 | D17: 315 | E17: 42 | F17: 39 | G17: 273
A18: 14 | B18: 208 | C18: 逗子市 | D18: 6 | E18: 0 | F18: 0 | G18: 6
A19: 14 | B19: 210 | C19: 三浦市 | D19: 1190 | E19: 4 | F19: 4 | G19: 1180
A20: 14 | B20: 211 | C20: 秦野市 | D20: 1050 | E20: 101 | F20: 89 | G20: 950
... A37: 14 | B37: 382 | C37: 箱根町 | D37: 6 | E37: 0 | F37: 0 | G37: 6
A38: 14 | B38: 383 | C38: 真鶴町 | D38: 35 | E38: - | F38: - | G38: 35
A39: 14 | B39: 384 | C39: 湯河原町 | D39: 209 | E39: - | F39: - | G39: 209
A40: 14 | B40: 401 | C40: 愛川町 | D40: 278 | E40: 63 | F40: 61 | G40: 215
A41: 14 | B41: 402 | C41: 清川村 | D41: 37 | E41: 5 | F41: 5 | G41: 32
C43: 計 | D43: 18200 | E43: 3530 | F43: 3380 | G43: 14600
A45: 利用上の注意
A46: １ この市町村別統計は、「作物統計調査」を実施する上で把握した地域における標本調査、現地見積りの結果、関係機関
A47: からの情報等を踏まえ、都道府県計値の内訳として市町村別に配分することにより作成した加工統計であり、市町村別の
A48: 値を目的として設計された調査に基づいて直接得られたものではない。
A49: なお、「作物統計調査」は、都道府県計値を求めるために目標精度を設定し、調査の設計がされている。
A50: ２ 面積は、耕地の存在する市町村に計上しており（属地統計）、耕作者の市町村間の出作・入作を考慮していない。
A51: ３ 数値は四捨五入しており、市町村値の計が都道府県値と一致しないことがある。

Sheet R4
A1: 農林水産関係市町村別統計
A2: 令和4年
A3: 耕地面積
A4: 神奈川県
A5: 都道 | B5: 市町 | C5: 市町村名 | D5: 耕地面積 | E5: 田耕地面積 | G5: 畑耕地面積
A6: 府県 | B6: 村 | F6: 田本地面積
A7: ｺｰﾄﾞ | B7: ｺｰﾄﾞ
D8: ha | E8: ha | F8: ha | G8: ha
A9: 14 | B9: 100 | C9: 横浜市 | D9: 2590 | E9: 131 | F9: 126 | G9: 2460
A10: 14 | B10: 130 | C10: 川崎市 | D10: 496 | E10: 19 | F10: 18 | G10: 477
A11: 14 | B11: 150 | C11: 相模原市 | D11: 1430 | E11: 102 | F11: 99 | G11: 1330
A12: 14 | B12: 201 | C12: 横須賀市 | D12: 508 | E12: 6 | F12: 6 | G12: 502
A13: 14 | B13: 203 | C13: 平塚市 | D13: 1420 | E13: 711 | F13: 693 | G13: 710
A14: 14 | B14: 204 | C14: 鎌倉市 | D14: 96 | E14: 1 | F14: 1 | G14: 95
A15: 14 | B15: 205 | C15: 藤沢市 | D15: 856 | E15: 129 | F15: 121 | G15: 727
A16: 14 | B16: 206 | C16: 小田原市 | D16: 1740 | E16: 466 | F16: 449 | G16: 1280
A17: 14 | B17: 207 | C17: 茅ヶ崎市 | D17: 314 | E17: 42 | F17: 39 | G17: 272
A18: 14 | B18: 208 | C18: 逗子市 | D18: 6 | E18: 0 | F18: 0 | G18: 6
A19: 14 | B19: 210 | C19: 三浦市 | D19: 1190 | E19: 4 | F19: 4 | G19: 1180
A20: 14 | B20: 211 | C20: 秦野市 | D20: 1030 | E20: 99 | F20: 87 | G20: 932
... A37: 14 | B37: 382 | C37: 箱根町 | D37: 6 | E37: 0 | F37: 0 | G37: 6
A38: 14 | B38: 383 | C38: 真鶴町 | D38: 34 | E38: - | F38: - | G38: 34
A39: 14 | B39: 384 | C39: 湯河原町 | D39: 206 | E39: - | F39: - | G39: 206
A40: 14 | B40: 401 | C40: 愛川町 | D40: 274 | E40: 61 | F40: 59 | G40: 213
A41: 14 | B41: 402 | C41: 清川村 | D41: 37 | E41: 5 | F41: 5 | G41: 32
C43: 計 | D43: 18000 | E43: 3490 | F43: 3340 | G43: 14500
A45: 利用上の注意
A46: １ この市町村別統計は、「作物統計調査」を実施する上で把握した地域における標本調査、現地見積りの結果、関係機関
A47: からの情報等を踏まえ、都道府県計値の内訳として市町村別に配分することにより作成した加工統計であり、市町村別の
A48: 値を目的として設計された調査に基づいて直接得られたものではない。
A49: なお、「作物統計調査」は、都道府県計値を求めるために目標精度を設定し、調査の設計がされている。
A50: ２ 面積は、耕地の存在する市町村に計上しており（属地統計）、耕作者の市町村間の出作・入作を考慮していない。
A51: ３ 数値は四捨五入しており、市町村値の計が都道府県値と一致しないことがある。

Sheet R5
A1: 農林水産関係市町村別統計
A2: 令和5年
A3: 耕地面積
A4: 神奈川県
A5: 都道府県ｺｰﾄﾞ | B5: 市町村 ｺｰﾄﾞ | C5: 市町村名 | D5: 耕地面積 | E5: 田耕地面積 | G5: 畑耕地面積
F6: 田本地面積
D8: ha | E8: ha | F8: ha | G8: ha
A9: 14 | B9: 100 | C9: 横浜市 | D9: 2580 | E9: 131 | F9: 126 | G9: 2450
A10: 14 | B10: 130 | C10: 川崎市 | D10: 483 | E10: 18 | F10: 17 | G10: 465
A11: 14 | B11: 150 | C11: 相模原市 | D11: 1420 | E11: 102 | F11: 99 | G11: 1320
A12: 14 | B12: 201 | C12: 横須賀市 | D12: 507 | E12: 6 | F12: 6 | G12: 501
A13: 14 | B13: 203 | C13: 平塚市 | D13: 1420 | E13: 711 | F13: 693 | G13: 705
A14: 14 | B14: 204 | C14: 鎌倉市 | D14: 93 | E14: 1 | F14: 1 | G14: 92
A15: 14 | B15: 205 | C15: 藤沢市 | D15: 847 | E15: 129 | F15: 121 | G15: 718
A16: 14 | B16: 206 | C16: 小田原市 | D16: 1730 | E16: 462 | F16: 445 | G16: 1270
A17: 14 | B17: 207 | C17: 茅ヶ崎市 | D17: 309 | E17: 42 | F17: 39 | G17: 267
A18: 14 | B18: 208 | C18: 逗子市 | D18: 6 | E18: 0 | F18: 0 | G18: 6
A19: 14 | B19: 210 | C19: 三浦市 | D19: 1180 | E19: 4 | F19: 4 | G19: 1180
A20: 14 | B20: 211 | C20: 秦野市 | D20: 1020 | E20: 99 | F20: 87 | G20: 916
... A37: 14 | B37: 382 | C37: 箱根町 | D37: 6 | E37: 0 | F37: 0 | G37: 6
A38: 14 | B38: 383 | C38: 真鶴町 | D38: 33 | E38: - | F38: - | G38: 33
A39: 14 | B39: 384 | C39: 湯河原町 | D39: 202 | E39: - | F39: - | G39: 202
A40: 14 | B40: 401 | C40: 愛川町 | D40: 272 | E40: 61 | F40: 59 | G40: 211
A41: 14 | B41: 402 | C41: 清川村 | D41: 37 | E41: 5 | F41: 5 | G41: 32
C43: 計 | D43: 17800 | E43: 3470 | F43: 3320 | G43: 14400
A45: 利用上の注意
A46: １ この市町村別統計は、「作物統計調査」を実施する上で把握した地域における標本調査及び現地見積りの結果、関係機関
A47: からの情報等を踏まえ、都道府県計値の内訳として市町村別に配分することにより作成した加工統計であり、市町村別の値
A48: を目的として設計された調査に基づいて直接得られたものではない。
A49: なお、「作物統計調査」は、都道府県計値を求めるために目標精度を設定し、調査の設計がされている。
A50: ２ 面積は、耕地の存在する市町村に計上しており（属地統計）、耕作者の市町村間の出作・入作を考慮していない。
A51: ３ 数値は四捨五入しており、市町村値の計が都道府県値と一致しないことがある。

Sheet R6
A1: 農林水産関係市町村別統計
A2: 令和6年
A3: 耕地面積
A4: 神奈川県
A5: 都道府県ｺｰﾄﾞ | B5: 市町村 ｺｰﾄﾞ | C5: 市町村名 | D5: 耕地面積 | E5: 田耕地面積 | G5: 畑耕地面積
F6: 田本地面積
D8: ha | E8: ha | F8: ha | G8: ha
A9: 14 | B9: 100 | C9: 横浜市 | D9: 2570 | E9: 131 | F9: 126 | G9: 2440
A10: 14 | B10: 130 | C10: 川崎市 | D10: 479 | E10: 18 | F10: 17 | G10: 461
A11: 14 | B11: 150 | C11: 相模原市 | D11: 1410 | E11: 102 | F11: 99 | G11: 1310
A12: 14 | B12: 201 | C12: 横須賀市 | D12: 497 | E12: 6 | F12: 6 | G12: 491
A13: 14 | B13: 203 | C13: 平塚市 | D13: 1410 | E13: 711 | F13: 693 | G13: 699
A14: 14 | B14: 204 | C14: 鎌倉市 | D14: 92 | E14: 1 | F14: 1 | G14: 91
A15: 14 | B15: 205 | C15: 藤沢市 | D15: 841 | E15: 128 | F15: 120 | G15: 713
A16: 14 | B16: 206 | C16: 小田原市 | D16: 1720 | E16: 461 | F16: 444 | G16: 1260
A17: 14 | B17: 207 | C17: 茅ヶ崎市 | D17: 303 | E17: 42 | F17: 39 | G17: 261
A18: 14 | B18: 208 | C18: 逗子市 | D18: 6 | E18: 0 | F18: 0 | G18: 6
A19: 14 | B19: 210 | C19: 三浦市 | D19: 1180 | E19: 4 | F19: 4 | G19: 1180
A20: 14 | B20: 211 | C20: 秦野市 | D20: 1010 | E20: 99 | F20: 87 | G20: 910
... A37: 14 | B37: 382 | C37: 箱根町 | D37: 6 | E37: 0 | F37: 0 | G37: 6
A38: 14 | B38: 383 | C38: 真鶴町 | D38: 33 | E38: - | F38: - | G38: 33
A39: 14 | B39: 384 | C39: 湯河原町 | D39: 202 | E39: - | F39: - | G39: 202
A40: 14 | B40: 401 | C40: 愛川町 | D40: 271 | E40: 62 | F40: 60 | G40: 209
A41: 14 | B41: 402 | C41: 清川村 | D41: 37 | E41: 5 | F41: 5 | G41: 32
C43: 計 | D43: 17800 | E43: 3460 | F43: 3320 | G43: 14300
A45: 利用上の注意
A46: １ この市町村別統計は、「作物統計調査」を実施する上で把握した地域における標本調査結果及び現地見積りの結果、関係機関
A47: からの情報等を踏まえ、都道府県計値の内訳として市町村別に配分することにより作成した加工統計であり、市町村別の値
A48: を目的として設計された調査に基づいて直接得られたものではない。
A49: なお、「作物統計調査」は、都道府県計値を求めるために目標精度を設定し、調査の設計がされている。
A50: ２ 面積は、耕地の存在する市町村に計上しており（属地統計）、耕作者の市町村間の出作・入作を考慮していない。
A51: ３ 数値は四捨五入しており、市町村値の計が都道府県値と一致しないことがある。

Sheet R7
A1: 農林水産関係市町村別統計
A2: 令和7年
A3: 耕地面積
A4: 神奈川県
A5: 都道府県ｺｰﾄﾞ | B5: 市町村 ｺｰﾄﾞ | C5: 市町村名 | D5: 耕地面積 | E5: 田耕地面積 | G5: 畑耕地面積
F6: 田本地面積
D8: ha | E8: ha | F8: ha | G8: ha
A9: 14 | B9: 100 | C9: 横浜市 | D9: 2480 | E9: 129 | F9: 125 | G9: 2350
A10: 14 | B10: 130 | C10: 川崎市 | D10: 465 | E10: 17 | F10: 16 | G10: 448
A11: 14 | B11: 150 | C11: 相模原市 | D11: 1410 | E11: 102 | F11: 99 | G11: 1310
A12: 14 | B12: 201 | C12: 横須賀市 | D12: 497 | E12: 6 | F12: 6 | G12: 491
A13: 14 | B13: 203 | C13: 平塚市 | D13: 1410 | E13: 711 | F13: 693 | G13: 699
A14: 14 | B14: 204 | C14: 鎌倉市 | D14: 92 | E14: 1 | F14: 1 | G14: 91
A15: 14 | B15: 205 | C15: 藤沢市 | D15: 841 | E15: 128 | F15: 120 | G15: 713
A16: 14 | B16: 206 | C16: 小田原市 | D16: 1710 | E16: 449 | F16: 433 | G16: 1260
A17: 14 | B17: 207 | C17: 茅ヶ崎市 | D17: 302 | E17: 41 | F17: 38 | G17: 261
A18: 14 | B18: 208 | C18: 逗子市 | D18: 6 | E18: 0 | F18: 0 | G18: 6
A19: 14 | B19: 210 | C19: 三浦市 | D19: 1180 | E19: 4 | F19: 4 | G19: 1180
A20: 14 | B20: 211 | C20: 秦野市 | D20: 1010 | E20: 99 | F20: 87 | G20: 910
... A37: 14 | B37: 382 | C37: 箱根町 | D37: 4 | E37: 0 | F37: 0 | G37: 4
A38: 14 | B38: 383 | C38: 真鶴町 | D38: 33 | E38: - | F38: - | G38: 33
A39: 14 | B39: 384 | C39: 湯河原町 | D39: 199 | E39: - | F39: - | G39: 199
A40: 14 | B40: 401 | C40: 愛川町 | D40: 271 | E40: 62 | F40: 60 | G40: 209
A41: 14 | B41: 402 | C41: 清川村 | D41: 37 | E41: 5 | F41: 5 | G41: 32
C43: 計 | D43: 17600 | E43: 3430 | F43: 3280 | G43: 14200
A45: 利用上の注意
A46: １ この市町村別統計は、「作物統計調査」を実施する上で把握した地域における標本調査結果及び現地見積りの結果、関係機関
A47: からの情報等を踏まえ、都道府県計値の内訳として市町村別に配分することにより作成した加工統計であり、市町村別の値
A48: を目的として設計された調査に基づいて直接得られたものではない。
A49: なお、「作物統計調査」は、都道府県計値を求めるために目標精度を設定し、調査の設計がされている。
A50: ２ 面積は、耕地の存在する市町村に計上しており（属地統計）、耕作者の市町村間の出作・入作を考慮していない。
A51: ３ 数値は四捨五入しており、市町村値の計が都道府県値と一致しないことがある。

Sheet 合併
C1: 2004 | D1: 2005 | E1: 2006 | F1: 2007 | G1: 2008 | H1: 2009 | I1: 2010 | J1: 2011 | K1: 2012 | L1: 2013 | M1: 2014 | N1: 2015 | O1: 2016 | P1: 2017 | Q1: 2018 | R1: 2019 | S1: 2020 | T1: 2021 | U1: 2022 | V1: 2023 | W1: 2024
C2: H16 | D2: H17 | E2: H18 | F2: H19 | G2: H20 | H2: H21 | I2: H22 | J2: H23 | K2: H24 | L2: H25 | M2: H26 | N2: H27 | O2: H28 | P2: H29 | Q2: H30 | R2: R1 | S2: R2 | T2: R3 | U2: R4 | V2: R5 | W2: R6
A4: 100 | B4: 横浜市
A5: 130 | B5: 川崎市
A6: 150 | B6: 相模原市 | C6: 5 | D6: 3 | Y6: H21まで209
A7: 201 | B7: 横須賀市
A8: 203 | B8: 平塚市
A9: 204 | B9: 鎌倉市
A10: 205 | B10: 藤沢市
A11: 206 | B11: 小田原市
A12: 207 | B12: 茅ヶ崎市
A13: 208 | B13: 逗子市
A14: 210 | B14: 三浦市
A15: 211 | B15: 秦野市
A16: 212 | B16: 厚木市
A17: 213 | B17: 大和市
A18: 214 | B18: 伊勢原市
... A36: 402 | B36: 清川村
A45: 209 | B45: 相模原市 | C45: 1 | D45: 1 | Y45: H21まで209
A46: 421 | B46: 城山町 | C46: 1
A47: 422 | B47: 津久井町 | C47: 1
A48: 423 | B48: 相模湖町 | C48: 1 | D48: 1
A49: 424 | B49: 藤野町 | C49: 1 | D49: 1

Sheet データ耕地
D1: 2004 | E1: 2005 | F1: 2006 | G1: 2007 | H1: 2008 | I1: 2009 | J1: 2010 | K1: 2011 | L1: 2012 | M1: 2013 | N1: 2014 | O1: 2015 | P1: 2016 | Q1: 2017 | R1: 2018 | S1: 2019 | T1: 2020 | U1: 2021 | V1: 2022 | W1: 2023 | X1: 2024
D3: =SUM(D4:D87) -> 0 | E3: =SUM(E4:E87) -> 0 | F3: =SUM(F4:F87) -> 0 | G3: =SUM(G4:G87) -> 0 | H3: =SUM(H4:H87) -> 0 | I3: =SUM(I4:I87) -> 0 | J3: =SUM(J4:J87) -> 0 | K3: =SUM(K4:K87) -> 0 | ... X3: =SUM(X4:X87) -> 0
B4: 100 | C4: 横浜市
B5: 130 | C5: 川崎市
B6: 150 | C6: 相模原市
B7: 201 | C7: 横須賀市
B8: 203 | C8: 平塚市
B9: 204 | C9: 鎌倉市
B10: 205 | C10: 藤沢市
B11: 206 | C11: 小田原市
B12: 207 | C12: 茅ヶ崎市
B13: 208 | C13: 逗子市
B14: 210 | C14: 三浦市
B15: 211 | C15: 秦野市
... B49: 424 | C49: 藤野町

Sheet グラフ耕地
D1: =データ耕地!J1 -> 2010 | E1: =データ耕地!K1 -> 2011 | F1: =データ耕地!L1 -> 2012 | G1: =データ耕地!M1 -> 2013 | H1: =データ耕地!N1 -> 2014 | I1: =データ耕地!O1 -> 2015 | J1: =データ耕地!P1 -> 2016 | K1: =データ耕地!Q1 -> 2017 | ... R1: =データ耕地!X1 -> 2024
A2: 1000 | B2: 100 | C2: 静岡市 | D2: =データ耕地!J4 -> 0 | E2: =データ耕地!K4 -> 0 | F2: =データ耕地!L4 -> 0 | G2: =データ耕地!M4 -> 0 | H2: =データ耕地!N4 -> 0 | I2: =データ耕地!O4 -> 0 | J2: =データ耕地!P4 -> 0 | K2: =データ耕地!Q4 -> 0 | ... R2: =データ耕地!X4 -> 0
A3: 2000 | B3: 130 | C3: 浜松市 | D3: =データ耕地!J8 -> 0 | E3: =データ耕地!K8 -> 0 | F3: =データ耕地!L8 -> 0 | G3: =データ耕地!M8 -> 0 | H3: =データ耕地!N8 -> 0 | I3: =データ耕地!O8 -> 0 | J3: =データ耕地!P8 -> 0 | K3: =データ耕地!Q8 -> 0 | ... R3: =データ耕地!X8 -> 0
A4: 3000 | B4: 203 | C4: 沼津市 | D4: =データ耕地!J21 -> 0 | E4: =データ耕地!K21 -> 0 | F4: =データ耕地!L21 -> 0 | G4: =データ耕地!M21 -> 0 | H4: =データ耕地!N21 -> 0 | I4: =データ耕地!O21 -> 0 | J4: =データ耕地!P21 -> 0 | K4: =データ耕地!Q21 -> 0 | ... R4: =データ耕地!X21 -> 0
A5: 4000 | B5: 205 | C5: 熱海市 | D5: =データ耕地!J24 -> 0 | E5: =データ耕地!K24 -> 0 | F5: =データ耕地!L24 -> 0 | G5: =データ耕地!M24 -> 0 | H5: =データ耕地!N24 -> 0 | I5: =データ耕地!O24 -> 0 | J5: =データ耕地!P24 -> 0 | K5: =データ耕地!Q24 -> 0 | ... R5: =データ耕地!X24 -> 0
A6: 5000 | B6: 206 | C6: 三島市 | D6: =データ耕地!J25 -> 0 | E6: =データ耕地!K25 -> 0 | F6: =データ耕地!L25 -> 0 | G6: =データ耕地!M25 -> 0 | H6: =データ耕地!N25 -> 0 | I6: =データ耕地!O25 -> 0 | J6: =データ耕地!P25 -> 0 | K6: =データ耕地!Q25 -> 0 | ... R6: =データ耕地!X25 -> 0
A7: 6000 | B7: 207 | C7: 富士宮市 | D7: =データ耕地!J26 -> 0 | E7: =データ耕地!K26 -> 0 | F7: =データ耕地!L26 -> 0 | G7: =データ耕地!M26 -> 0 | H7: =データ耕地!N26 -> 0 | I7: =データ耕地!O26 -> 0 | J7: =データ耕地!P26 -> 0 | K7: =データ耕地!Q26 -> 0 | ... R7: =データ耕地!X26 -> 0
A8: 7000 | B8: 208 | C8: 伊東市 | D8: =データ耕地!J29 -> 0 | E8: =データ耕地!K29 -> 0 | F8: =データ耕地!L29 -> 0 | G8: =データ耕地!M29 -> 0 | H8: =データ耕地!N29 -> 0 | I8: =データ耕地!O29 -> 0 | J8: =データ耕地!P29 -> 0 | K8: =データ耕地!Q29 -> 0 | ... R8: =データ耕地!X29 -> 0
A9: 8000 | B9: 209 | C9: 島田市 | D9: =データ耕地!J30 -> 0 | E9: =データ耕地!K30 -> 0 | F9: =データ耕地!L30 -> 0 | G9: =データ耕地!M30 -> 0 | H9: =データ耕地!N30 -> 0 | I9: =データ耕地!O30 -> 0 | J9: =データ耕地!P30 -> 0 | K9: =データ耕地!Q30 -> 0 | ... R9: =データ耕地!X30 -> 0
A10: 9000 | B10: 210 | C10: 富士市 | D10: =データ耕地!J34 -> 0 | E10: =データ耕地!K34 -> 0 | F10: =データ耕地!L34 -> 0 | G10: =データ耕地!M34 -> 0 | H10: =データ耕地!N34 -> 0 | I10: =データ耕地!O34 -> 0 | J10: =データ耕地!P34 -> 0 | K10: =データ耕地!Q34 -> 0 | ... R10: =データ耕地!X34 -> 0
A11: 10000 | B11: 211 | C11: 磐田市 | D11: =データ耕地!J37 -> 0 | E11: =データ耕地!K37 -> 0 | F11: =データ耕地!L37 -> 0 | G11: =データ耕地!M37 -> 0 | H11: =データ耕地!N37 -> 0 | I11: =データ耕地!O37 -> 0 | J11: =データ耕地!P37 -> 0 | K11: =データ耕地!Q37 -> 0 | ... R11: =データ耕地!X37 -> 0
A12: 11000 | B12: 212 | C12: 焼津市 | D12: =データ耕地!J43 -> 0 | E12: =データ耕地!K43 -> 0 | F12: =データ耕地!L43 -> 0 | G12: =データ耕地!M43 -> 0 | H12: =データ耕地!N43 -> 0 | I12: =データ耕地!O43 -> 0 | J12: =データ耕地!P43 -> 0 | K12: =データ耕地!Q43 -> 0 | ... R12: =データ耕地!X43 -> 0
A13: 12000 | B13: 213 | C13: 掛川市 | D13: =データ耕地!J46 -> 0 | E13: =データ耕地!K46 -> 0 | F13: =データ耕地!L46 -> 0 | G13: =データ耕地!M46 -> 0 | H13: =データ耕地!N46 -> 0 | I13: =データ耕地!O46 -> 0 | J13: =データ耕地!P46 -> 0 | K13: =データ耕地!Q46 -> 0 | ... R13: =データ耕地!X46 -> 0
A14: 13000 | B14: 214 | C14: 藤枝市 | D14: =データ耕地!J50 -> 0 | E14: =データ耕地!K50 -> 0 | F14: =データ耕地!L50 -> 0 | G14: =データ耕地!M50 -> 0 | H14: =データ耕地!N50 -> 0 | I14: =データ耕地!O50 -> 0 | J14: =データ耕地!P50 -> 0 | K14: =データ耕地!Q50 -> 0 | ... R14: =データ耕地!X50 -> 0
A15: 14000 | B15: 215 | C15: 御殿場市 | D15: =データ耕地!J53 -> 0 | E15: =データ耕地!K53 -> 0 | F15: =データ耕地!L53 -> 0 | G15: =データ耕地!M53 -> 0 | H15: =データ耕地!N53 -> 0 | I15: =データ耕地!O53 -> 0 | J15: =データ耕地!P53 -> 0 | K15: =データ耕地!Q53 -> 0 | ... R15: =データ耕地!X53 -> 0
A16: 15000 | B16: 216 | C16: 袋井市 | D16: =データ耕地!J54 -> 0 | E16: =データ耕地!K54 -> 0 | F16: =データ耕地!L54 -> 0 | G16: =データ耕地!M54 -> 0 | H16: =データ耕地!N54 -> 0 | I16: =データ耕地!O54 -> 0 | J16: =データ耕地!P54 -> 0 | K16: =データ耕地!Q54 -> 0 | ... R16: =データ耕地!X54 -> 0
A17: 16000 | B17: 219 | C17: 下田市 | D17: =データ耕地!J57 -> 0 | E17: =データ耕地!K57 -> 0 | F17: =データ耕地!L57 -> 0 | G17: =データ耕地!M57 -> 0 | H17: =データ耕地!N57 -> 0 | I17: =データ耕地!O57 -> 0 | J17: =データ耕地!P57 -> 0 | K17: =データ耕地!Q57 -> 0 | ... R17: =データ耕地!X57 -> 0
A18: 17000 | B18: 220 | C18: 裾野市 | D18: =データ耕地!J58 -> 0 | E18: =データ耕地!K58 -> 0 | F18: =データ耕地!L58 -> 0 | G18: =データ耕地!M58 -> 0 | H18: =データ耕地!N58 -> 0 | I18: =データ耕地!O58 -> 0 | J18: =データ耕地!P58 -> 0 | K18: =データ耕地!Q58 -> 0 | ... R18: =データ耕地!X58 -> 0
A19: 18000 | B19: 221 | C19: 湖西市 | D19: =データ耕地!J59 -> 0 | E19: =データ耕地!K59 -> 0 | F19: =データ耕地!L59 -> 0 | G19: =データ耕地!M59 -> 0 | H19: =データ耕地!N59 -> 0 | I19: =データ耕地!O59 -> 0 | J19: =データ耕地!P59 -> 0 | K19: =データ耕地!Q59 -> 0 | ... R19: =データ耕地!X59 -> 0
A20: 19000 | B20: 222 | C20: 伊豆市 | D20: =データ耕地!J62 -> 0 | E20: =データ耕地!K62 -> 0 | F20: =データ耕地!L62 -> 0 | G20: =データ耕地!M62 -> 0 | H20: =データ耕地!N62 -> 0 | I20: =データ耕地!O62 -> 0 | J20: =データ耕地!P62 -> 0 | K20: =データ耕地!Q62 -> 0 | ... R20: =データ耕地!X62 -> 0
A21: 20000 | B21: 223 | C21: 御前崎市 | D21: =データ耕地!J63 -> 0 | E21: =データ耕地!K63 -> 0 | F21: =データ耕地!L63 -> 0 | G21: =データ耕地!M63 -> 0 | H21: =データ耕地!N63 -> 0 | I21: =データ耕地!O63 -> 0 | J21: =データ耕地!P63 -> 0 | K21: =データ耕地!Q63 -> 0 | ... R21: =データ耕地!X63 -> 0
A22: 21000 | B22: 224 | C22: 菊川市 | D22: =データ耕地!J64 -> 0 | E22: =データ耕地!K64 -> 0 | F22: =データ耕地!L64 -> 0 | G22: =データ耕地!M64 -> 0 | H22: =データ耕地!N64 -> 0 | I22: =データ耕地!O64 -> 0 | J22: =データ耕地!P64 -> 0 | K22: =データ耕地!Q64 -> 0 | ... R22: =データ耕地!X64 -> 0
A23: 22000 | B23: 225 | C23: 伊豆の国市 | D23: =データ耕地!J65 -> 0 | E23: =データ耕地!K65 -> 0 | F23: =データ耕地!L65 -> 0 | G23: =データ耕地!M65 -> 0 | H23: =データ耕地!N65 -> 0 | I23: =データ耕地!O65 -> 0 | J23: =データ耕地!P65 -> 0 | K23: =データ耕地!Q65 -> 0 | ... R23: =データ耕地!X65 -> 0
A24: 23000 | B24: 226 | C24: 牧之原市 | D24: =データ耕地!J69 -> 0 | E24: =データ耕地!K69 -> 0 | F24: =データ耕地!L69 -> 0 | G24: =データ耕地!M69 -> 0 | H24: =データ耕地!N69 -> 0 | I24: =データ耕地!O69 -> 0 | J24: =データ耕地!P69 -> 0 | K24: =データ耕地!Q69 -> 0 | ... R24: =データ耕地!X69 -> 0
A25: 24000 | B25: 301 | C25: 東伊豆町 | D25: =データ耕地!J72 -> 0 | E25: =データ耕地!K72 -> 0 | F25: =データ耕地!L72 -> 0 | G25: =データ耕地!M72 -> 0 | H25: =データ耕地!N72 -> 0 | I25: =データ耕地!O72 -> 0 | J25: =データ耕地!P72 -> 0 | K25: =データ耕地!Q72 -> 0 | ... R25: =データ耕地!X72 -> 0
A26: 25000 | B26: 302 | C26: 河津町 | D26: =データ耕地!J73 -> 0 | E26: =データ耕地!K73 -> 0 | F26: =データ耕地!L73 -> 0 | G26: =データ耕地!M73 -> 0 | H26: =データ耕地!N73 -> 0 | I26: =データ耕地!O73 -> 0 | J26: =データ耕地!P73 -> 0 | K26: =データ耕地!Q73 -> 0 | ... R26: =データ耕地!X73 -> 0
A27: 26000 | B27: 304 | C27: 南伊豆町 | D27: =データ耕地!J74 -> 0 | E27: =データ耕地!K74 -> 0 | F27: =データ耕地!L74 -> 0 | G27: =データ耕地!M74 -> 0 | H27: =データ耕地!N74 -> 0 | I27: =データ耕地!O74 -> 0 | J27: =データ耕地!P74 -> 0 | K27: =データ耕地!Q74 -> 0 | ... R27: =データ耕地!X74 -> 0
A28: 27000 | B28: 305 | C28: 松崎町 | D28: =データ耕地!J75 -> 0 | E28: =データ耕地!K75 -> 0 | F28: =データ耕地!L75 -> 0 | G28: =データ耕地!M75 -> 0 | H28: =データ耕地!N75 -> 0 | I28: =データ耕地!O75 -> 0 | J28: =データ耕地!P75 -> 0 | K28: =データ耕地!Q75 -> 0 | ... R28: =データ耕地!X75 -> 0
A29: 28000 | B29: 306 | C29: 西伊豆町 | D29: =データ耕地!J76 -> 0 | E29: =データ耕地!K76 -> 0 | F29: =データ耕地!L76 -> 0 | G29: =データ耕地!M76 -> 0 | H29: =データ耕地!N76 -> 0 | I29: =データ耕地!O76 -> 0 | J29: =データ耕地!P76 -> 0 | K29: =データ耕地!Q76 -> 0 | ... R29: =データ耕地!X76 -> 0
A30: 29000 | B30: 325 | C30: 函南町 | D30: =データ耕地!J79 -> 0 | E30: =データ耕地!K79 -> 0 | F30: =データ耕地!L79 -> 0 | G30: =データ耕地!M79 -> 0 | H30: =データ耕地!N79 -> 0 | I30: =データ耕地!O79 -> 0 | J30: =データ耕地!P79 -> 0 | K30: =データ耕地!Q79 -> 0 | ... R30: =データ耕地!X79 -> 0
A31: 30000 | B31: 341 | C31: 清水町 | D31: =データ耕地!J80 -> 0 | E31: =データ耕地!K80 -> 0 | F31: =データ耕地!L80 -> 0 | G31: =データ耕地!M80 -> 0 | H31: =データ耕地!N80 -> 0 | I31: =データ耕地!O80 -> 0 | J31: =データ耕地!P80 -> 0 | K31: =データ耕地!Q80 -> 0 | ... R31: =データ耕地!X80 -> 0
A32: 31000 | B32: 342 | C32: 長泉町 | D32: =データ耕地!J81 -> 0 | E32: =データ耕地!K81 -> 0 | F32: =データ耕地!L81 -> 0 | G32: =データ耕地!M81 -> 0 | H32: =データ耕地!N81 -> 0 | I32: =データ耕地!O81 -> 0 | J32: =データ耕地!P81 -> 0 | K32: =データ耕地!Q81 -> 0 | ... R32: =データ耕地!X81 -> 0
A33: 32000 | B33: 344 | C33: 小山町 | D33: =データ耕地!J82 -> 0 | E33: =データ耕地!K82 -> 0 | F33: =データ耕地!L82 -> 0 | G33: =データ耕地!M82 -> 0 | H33: =データ耕地!N82 -> 0 | I33: =データ耕地!O82 -> 0 | J33: =データ耕地!P82 -> 0 | K33: =データ耕地!Q82 -> 0 | ... R33: =データ耕地!X82 -> 0
A34: 33000 | B34: 424 | C34: 吉田町 | D34: =データ耕地!J83 -> 0 | E34: =データ耕地!K83 -> 0 | F34: =データ耕地!L83 -> 0 | G34: =データ耕地!M83 -> 0 | H34: =データ耕地!N83 -> 0 | I34: =データ耕地!O83 -> 0 | J34: =データ耕地!P83 -> 0 | K34: =データ耕地!Q83 -> 0 | ... R34: =データ耕地!X83 -> 0
A35: 34000 | B35: 429 | C35: 川根本町 | D35: =データ耕地!J84 -> 0 | E35: =データ耕地!K84 -> 0 | F35: =データ耕地!L84 -> 0 | G35: =データ耕地!M84 -> 0 | H35: =データ耕地!N84 -> 0 | I35: =データ耕地!O84 -> 0 | J35: =データ耕地!P84 -> 0 | K35: =データ耕地!Q84 -> 0 | ... R35: =データ耕地!X84 -> 0
A36: 35000 | B36: 461 | C36: 森町 | D36: =データ耕地!J87 -> 0 | E36: =データ耕地!K87 -> 0 | F36: =データ耕地!L87 -> 0 | G36: =データ耕地!M87 -> 0 | H36: =データ耕地!N87 -> 0 | I36: =データ耕地!O87 -> 0 | J36: =データ耕地!P87 -> 0 | K36: =データ耕地!Q87 -> 0 | ... R36: =データ耕地!X87 -> 0
D38: =D1 -> 2010 | E38: =E1 -> 2011 | F38: =F1 -> 2012 | G38: =G1 -> 2013 | H38: =H1 -> 2014 | I38: =I1 -> 2015 | J38: =J1 -> 2016 | K38: =K1 -> 2017 | ... R38: =R1 -> 2024
C39: 掛川市 | D39: =_xlfn.XLOOKUP($C$39,$C2:$C36,D$2:D$36) -> 0 | E39: =_xlfn.XLOOKUP($C$39,$C2:$C36,E$2:E$36) -> 0 | F39: =_xlfn.XLOOKUP($C$39,$C2:$C36,F$2:F$36) -> 0 | G39: =_xlfn.XLOOKUP($C$39,$C2:$C36,G$2:G$36) -> 0 | H39: =_xlfn.XLOOKUP($C$39,$C2:$C36,H$2:H$36) -> 0 | I39: =_xlfn.XLOOKUP($C$39,$C2:$C36,I$2:I$36) -> 0 | J39: =_xlfn.XLOOKUP($C$39,$C2:$C36,J$2:J$36) -> 0 | K39: =_xlfn.XLOOKUP($C$39,$C2:$C36,K$2:K$36) -> 0 | ... R39: =_xlfn.XLOOKUP($C$39,$C2:$C36,R$2:R$36) -> 0

Sheet データ田
D1: 16 | E1: 17 | F1: 18 | G1: 19 | H1: 20 | I1: 21 | J1: 22 | K1: 23 | L1: 24 | M1: 25 | N1: 26 | O1: 27 | P1: 28 | Q1: 29 | R1: 30 | S1: 1 | T1: 2 | U1: 3 | V1: 4 | W1: 5 | X1: 6 | Y1: 7
D2: 2004 | E2: 2005 | F2: 2006 | G2: 2007 | H2: 2008 | I2: 2009 | J2: 2010 | K2: 2011 | L2: 2012 | M2: 2013 | N2: 2014 | O2: 2015 | P2: 2016 | Q2: 2017 | R2: 2018 | S2: 2019 | T2: 2020 | U2: 2021 | V2: 2022 | W2: 2023 | X2: 2024 | Y2: 2025
C3: 神奈川県 | J3: 4030 | K3: 3990 | L3: 3970 | M3: 3920 | N3: 3890 | O3: 3850 | P3: 3790 | Q3: 3760 | R3: 3730 | S3: 3670 | T3: 3610 | U3: 3530 | V3: 3490 | W3: 3470 | X3: 3460 | Y3: 3430
D4: =SUM(D5:D37) -> 4309 | E4: =SUM(E5:E37) -> 4545 | F4: =SUM(F5:F37) -> 4237 | G4: =SUM(G5:G37) -> 4171 | H4: =SUM(H5:H37) -> 4098 | I4: =SUM(I5:I37) -> 4056 | J4: =SUM(J5:J37) -> 4029 | K4: =SUM(K5:K37) -> 3994 | ... Y4: =SUM(Y5:Y37) -> 3425
B5: 100 | C5: 横浜市 | D5: 209 | E5: 208 | F5: 198 | G5: 190 | H5: 180 | I5: 178 | J5: 176 | K5: 172 | L5: 168 | M5: 163 | N5: 160 | O5: 155 | P5: 149 | Q5: 146 | R5: 142 | S5: 139 | T5: 134 | U5: 131 | V5: 131 | W5: 131 | X5: 131 | Y5: 129
B6: 130 | C6: 川崎市 | D6: 31 | E6: 30 | F6: 28 | G6: 28 | H6: 27 | I6: 27 | J6: 24 | K6: 24 | L6: 23 | M6: 22 | N6: 22 | O6: 21 | P6: 21 | Q6: 21 | R6: 21 | S6: 20 | T6: 19 | U6: 19 | V6: 19 | W6: 18 | X6: 18 | Y6: 17
B7: 150 | C7: 相模原市 | D7: =SUM(D41:D45) -> 142 | E7: =SUM(E41:E45) -> 407 | F7: 141 | G7: 138 | H7: 137 | I7: 137 | J7: 130 | K7: 126 | L7: 125 | M7: 123 | N7: 122 | O7: 122 | P7: 111 | Q7: 109 | R7: 108 | S7: 107 | T7: 103 | U7: 102 | V7: 102 | W7: 102 | X7: 102 | Y7: 102
B8: 201 | C8: 横須賀市 | D8: 19 | E8: 19 | F8: 18 | G8: 17 | H8: 16 | I8: 16 | J8: 12 | K8: 11 | L8: 10 | M8: 10 | N8: 10 | O8: 9 | P8: 9 | Q8: 8 | R8: 7 | S8: 7 | T8: 7 | U8: 6 | V8: 6 | W8: 6 | X8: 6 | Y8: 6
B9: 203 | C9: 平塚市 | D9: 777 | E9: 777 | F9: 777 | G9: 777 | H9: 777 | I9: 774 | J9: 772 | K9: 772 | L9: 771 | M9: 766 | N9: 765 | O9: 761 | P9: 739 | Q9: 737 | R9: 735 | S9: 732 | T9: 722 | U9: 712 | V9: 711 | W9: 711 | X9: 711 | Y9: 711
B10: 204 | C10: 鎌倉市 | D10: 1 | E10: 1 | F10: 1 | G10: 1 | H10: 1 | I10: 1 | J10: 1 | K10: 1 | L10: 1 | M10: 1 | N10: 1 | O10: 1 | P10: 1 | Q10: 1 | R10: 1 | S10: 1 | T10: 1 | U10: 1 | V10: 1 | W10: 1 | X10: 1 | Y10: 1
B11: 205 | C11: 藤沢市 | D11: 148 | E11: 148 | F11: 148 | G11: 148 | H11: 146 | I11: 143 | J11: 142 | K11: 140 | L11: 138 | M11: 137 | N11: 137 | O11: 136 | P11: 135 | Q11: 134 | R11: 133 | S11: 132 | T11: 130 | U11: 130 | V11: 129 | W11: 129 | X11: 128 | Y11: 128
B12: 206 | C12: 小田原市 | D12: 577 | E12: 569 | F12: 562 | G12: 556 | H12: 550 | I12: 546 | J12: 545 | K12: 537 | L12: 536 | M12: 534 | N12: 527 | O12: 521 | P12: 521 | Q12: 514 | R12: 508 | S12: 492 | T12: 486 | U12: 473 | V12: 466 | W12: 462 | X12: 461 | Y12: 449
B13: 207 | C13: 茅ヶ崎市 | D13: 61 | E13: 61 | F13: 61 | G13: 58 | H13: 54 | I13: 52 | J13: 51 | K13: 49 | L13: 49 | M13: 47 | N13: 46 | O13: 43 | P13: 43 | Q13: 43 | R13: 43 | S13: 43 | T13: 43 | U13: 42 | V13: 42 | W13: 42 | X13: 42 | Y13: 41
B14: 208 | C14: 逗子市 | D14: - | E14: - | F14: 0 | G14: 0 | H14: 0 | I14: 0 | J14: 0 | K14: 0 | L14: 0 | M14: 0 | N14: 0 | O14: 0 | P14: 0 | Q14: 0 | R14: 0 | S14: 0 | T14: 0 | U14: 0 | V14: 0 | W14: 0 | X14: 0 | Y14: 0
B15: 210 | C15: 三浦市 | D15: 10 | E15: 10 | F15: 10 | G15: 10 | H15: 10 | I15: 9 | J15: 6 | K15: 6 | L15: 6 | M15: 6 | N15: 6 | O15: 5 | P15: 5 | Q15: 5 | R15: 5 | S15: 5 | T15: 5 | U15: 4 | V15: 4 | W15: 4 | X15: 4 | Y15: 4
B16: 211 | C16: 秦野市 | D16: 146 | E16: 143 | F16: 137 | G16: 135 | H16: 134 | I16: 119 | J16: 119 | K16: 118 | L16: 117 | M16: 114 | N16: 113 | O16: 112 | P16: 109 | Q16: 108 | R16: 107 | S16: 107 | T16: 105 | U16: 101 | V16: 99 | W16: 99 | X16: 99 | Y16: 99
B17: 212 | C17: 厚木市 | D17: 550 | E17: 550 | F17: 549 | G17: 534 | H17: 522 | I17: 519 | J17: 520 | K17: 515 | L17: 509 | M17: 504 | N17: 497 | O17: 493 | P17: 493 | Q17: 489 | R17: 485 | S17: 478 | T17: 472 | U17: 458 | V17: 441 | W17: 436 | X17: 432 | Y17: 432
B18: 213 | C18: 大和市 | D18: 17 | E18: 17 | F18: 17 | G18: 16 | H18: 12 | I18: 12 | J18: 11 | K18: 11 | L18: 11 | M18: 11 | N18: 11 | O18: 11 | P18: 11 | Q18: 11 | R18: 11 | S18: 11 | T18: 11 | U18: 10 | V18: 10 | W18: 8 | X18: 8 | Y18: 8
B19: 214 | C19: 伊勢原市 | D19: 433 | E19: 431 | F19: 431 | G19: 430 | H19: 421 | I19: 419 | J19: 417 | K19: 414 | L19: 412 | M19: 410 | N19: 405 | O19: 404 | P19: 402 | Q19: 401 | R19: 400 | S19: 394 | T19: 391 | U19: 387 | V19: 384 | W19: 383 | X19: 385 | Y19: 383
B20: 215 | C20: 海老名市 | D20: 281 | E20: 281 | F20: 279 | G20: 266 | H20: 258 | I20: 258 | J20: 260 | K20: 260 | L20: 259 | M20: 258 | N20: 257 | O20: 252 | P20: 248 | Q20: 247 | R20: 245 | S20: 243 | T20: 239 | U20: 231 | V20: 229 | W20: 227 | X20: 225 | Y20: 222
B21: 216 | C21: 座間市 | D21: 92 | E21: 92 | F21: 92 | G21: 91 | H21: 91 | I21: 91 | J21: 90 | K21: 90 | L21: 90 | M21: 89 | N21: 89 | O21: 89 | P21: 89 | Q21: 88 | R21: 88 | S21: 86 | T21: 85 | U21: 85 | V21: 85 | W21: 84 | X21: 84 | Y21: 84
B22: 217 | C22: 南足柄市 | D22: 201 | E22: 199 | F22: 193 | G22: 187 | H22: 184 | I22: 182 | J22: 182 | K22: 180 | L22: 180 | M22: 177 | N22: 175 | O22: 170 | P22: 170 | Q22: 169 | R22: 168 | S22: 168 | T22: 167 | U22: 163 | V22: 163 | W22: 163 | X22: 162 | Y22: 162
B23: 218 | C23: 綾瀬市 | D23: 19 | E23: 19 | F23: 19 | G23: 18 | H23: 17 | I23: 17 | J23: 17 | K23: 17 | L23: 17 | M23: 17 | N23: 15 | O23: 15 | P23: 15 | Q23: 13 | R23: 12 | S23: 12 | T23: 12 | U23: 12 | V23: 12 | W23: 12 | X23: 12 | Y23: 12
B24: 301 | C24: 葉山町 | D24: 4 | E24: 4 | F24: 4 | G24: 4 | H24: 4 | I24: 4 | J24: 4 | K24: 4 | L24: 4 | M24: 4 | N24: 3 | O24: 3 | P24: 3 | Q24: 3 | R24: 3 | S24: 3 | T24: 3 | U24: 3 | V24: 3 | W24: 3 | X24: 3 | Y24: 3
B25: 321 | C25: 寒川町 | D25: 83 | E25: 81 | F25: 81 | G25: 78 | H25: 76 | I25: 76 | J25: 76 | K25: 75 | L25: 75 | M25: 71 | N25: 71 | O25: 71 | P25: 71 | Q25: 70 | R25: 69 | S25: 68 | T25: 67 | U25: 66 | V25: 66 | W25: 66 | X25: 66 | Y25: 66
B26: 341 | C26: 大磯町 | D26: 27 | E26: 27 | F26: 26 | G26: 26 | H26: 25 | I26: 25 | J26: 25 | K26: 24 | L26: 24 | M26: 23 | N26: 23 | O26: 23 | P26: 22 | Q26: 22 | R26: 22 | S26: 21 | T26: 20 | U26: 19 | V26: 19 | W26: 19 | X26: 19 | Y26: 18
... B33: 382 | C33: 箱根町 | D33: 2 | E33: 2 | F33: 2 | G33: 2 | H33: 2 | I33: 2 | J33: 2 | K33: 2 | L33: 2 | M33: 2 | N33: 2 | O33: 2 | P33: 1 | Q33: 1 | R33: 1 | S33: 1 | T33: 0 | U33: 0 | V33: 0 | W33: 0 | X33: 0 | Y33: 0
B34: 383 | C34: 真鶴町 | D34: - | E34: - | F34: - | G34: - | H34: - | I34: - | J34: - | K34: - | L34: - | M34: - | N34: - | O34: - | P34: - | Q34: - | R34: - | S34: - | T34: - | U34: - | V34: - | W34: - | X34: - | Y34: -
B35: 384 | C35: 湯河原町 | D35: - | E35: - | F35: - | G35: - | H35: - | I35: - | J35: - | K35: - | L35: - | M35: - | N35: - | O35: - | P35: - | Q35: - | R35: - | S35: - | T35: - | U35: - | V35: - | W35: - | X35: - | Y35: -
B36: 401 | C36: 愛川町 | D36: 78 | E36: 78 | F36: 78 | G36: 77 | H36: 74 | I36: 74 | J36: 74 | K36: 74 | L36: 74 | M36: 73 | N36: 73 | O36: 70 | P36: 68 | Q36: 67 | R36: 66 | S36: 65 | T36: 64 | U36: 63 | V36: 61 | W36: 61 | X36: 62 | Y36: 62
B37: 402 | C37: 清川村 | D37: 9 | E37: 9 | F37: 9 | G37: 9 | H37: 8 | I37: 8 | J37: 7 | K37: 7 | L37: 7 | M37: 7 | N37: 7 | O37: 7 | P37: 7 | Q37: 7 | R37: 7 | S37: 6 | T37: 6 | U37: 5 | V37: 5 | W37: 5 | X37: 5 | Y37: 5
B41: 209 | C41: 相模原市 | D41: 99 | E41: 119
B42: 421 | C42: 城山町 | D42: 19 | E42: 130
B43: 422 | C43: 津久井町 | D43: 14
B44: 423 | C44: 相模湖町 | D44: 7
B45: 424 | C45: 藤野町 | D45: 3 | E45: 158

Sheet グラフ田 
D1: =データ田!J2 -> 2010 | E1: =データ田!K2 -> 2011 | F1: =データ田!L2 -> 2012 | G1: =データ田!M2 -> 2013 | H1: =データ田!N2 -> 2014 | I1: =データ田!O2 -> 2015 | J1: =データ田!P2 -> 2016 | K1: =データ田!Q2 -> 2017 | ... S1: =データ田!Y2 -> 2025
B2: 100 | C2: 横浜市 | D2: =データ田!J5 -> 176 | E2: =データ田!K5 -> 172 | F2: =データ田!L5 -> 168 | G2: =データ田!M5 -> 163 | H2: =データ田!N5 -> 160 | I2: =データ田!O5 -> 155 | J2: =データ田!P5 -> 149 | K2: =データ田!Q5 -> 146 | ... S2: =データ田!Y5 -> 129
B3: 130 | C3: 川崎市 | D3: =データ田!J6 -> 24 | E3: =データ田!K6 -> 24 | F3: =データ田!L6 -> 23 | G3: =データ田!M6 -> 22 | H3: =データ田!N6 -> 22 | I3: =データ田!O6 -> 21 | J3: =データ田!P6 -> 21 | K3: =データ田!Q6 -> 21 | ... S3: =データ田!Y6 -> 17
B4: 150 | C4: 相模原市 | D4: =データ田!J7 -> 130 | E4: =データ田!K7 -> 126 | F4: =データ田!L7 -> 125 | G4: =データ田!M7 -> 123 | H4: =データ田!N7 -> 122 | I4: =データ田!O7 -> 122 | J4: =データ田!P7 -> 111 | K4: =データ田!Q7 -> 109 | ... S4: =データ田!Y7 -> 102
B5: 201 | C5: 横須賀市 | D5: =データ田!J8 -> 12 | E5: =データ田!K8 -> 11 | F5: =データ田!L8 -> 10 | G5: =データ田!M8 -> 10 | H5: =データ田!N8 -> 10 | I5: =データ田!O8 -> 9 | J5: =データ田!P8 -> 9 | K5: =データ田!Q8 -> 8 | ... S5: =データ田!Y8 -> 6
B6: 203 | C6: 平塚市 | D6: =データ田!J9 -> 772 | E6: =データ田!K9 -> 772 | F6: =データ田!L9 -> 771 | G6: =データ田!M9 -> 766 | H6: =データ田!N9 -> 765 | I6: =データ田!O9 -> 761 | J6: =データ田!P9 -> 739 | K6: =データ田!Q9 -> 737 | ... S6: =データ田!Y9 -> 711
B7: 204 | C7: 鎌倉市 | D7: =データ田!J10 -> 1 | E7: =データ田!K10 -> 1 | F7: =データ田!L10 -> 1 | G7: =データ田!M10 -> 1 | H7: =データ田!N10 -> 1 | I7: =データ田!O10 -> 1 | J7: =データ田!P10 -> 1 | K7: =データ田!Q10 -> 1 | ... S7: =データ田!Y10 -> 1
B8: 205 | C8: 藤沢市 | D8: =データ田!J11 -> 142 | E8: =データ田!K11 -> 140 | F8: =データ田!L11 -> 138 | G8: =データ田!M11 -> 137 | H8: =データ田!N11 -> 137 | I8: =データ田!O11 -> 136 | J8: =データ田!P11 -> 135 | K8: =データ田!Q11 -> 134 | ... S8: =データ田!Y11 -> 128
B9: 206 | C9: 小田原市 | D9: =データ田!J12 -> 545 | E9: =データ田!K12 -> 537 | F9: =データ田!L12 -> 536 | G9: =データ田!M12 -> 534 | H9: =データ田!N12 -> 527 | I9: =データ田!O12 -> 521 | J9: =データ田!P12 -> 521 | K9: =データ田!Q12 -> 514 | ... S9: =データ田!Y12 -> 449
B10: 207 | C10: 茅ヶ崎市 | D10: =データ田!J13 -> 51 | E10: =データ田!K13 -> 49 | F10: =データ田!L13 -> 49 | G10: =データ田!M13 -> 47 | H10: =データ田!N13 -> 46 | I10: =データ田!O13 -> 43 | J10: =データ田!P13 -> 43 | K10: =データ田!Q13 -> 43 | ... S10: =データ田!Y13 -> 41
B11: 208 | C11: 逗子市 | D11: =データ田!J14 -> 0 | E11: =データ田!K14 -> 0 | F11: =データ田!L14 -> 0 | G11: =データ田!M14 -> 0 | H11: =データ田!N14 -> 0 | I11: =データ田!O14 -> 0 | J11: =データ田!P14 -> 0 | K11: =データ田!Q14 -> 0 | ... S11: =データ田!Y14 -> 0
B12: 210 | C12: 三浦市 | D12: =データ田!J15 -> 6 | E12: =データ田!K15 -> 6 | F12: =データ田!L15 -> 6 | G12: =データ田!M15 -> 6 | H12: =データ田!N15 -> 6 | I12: =データ田!O15 -> 5 | J12: =データ田!P15 -> 5 | K12: =データ田!Q15 -> 5 | ... S12: =データ田!Y15 -> 4
B13: 211 | C13: 秦野市 | D13: =データ田!J16 -> 119 | E13: =データ田!K16 -> 118 | F13: =データ田!L16 -> 117 | G13: =データ田!M16 -> 114 | H13: =データ田!N16 -> 113 | I13: =データ田!O16 -> 112 | J13: =データ田!P16 -> 109 | K13: =データ田!Q16 -> 108 | ... S13: =データ田!Y16 -> 99
... B34: 402 | C34: 清川村 | D34: =データ田!J37 -> 7 | E34: =データ田!K37 -> 7 | F34: =データ田!L37 -> 7 | G34: =データ田!M37 -> 7 | H34: =データ田!N37 -> 7 | I34: =データ田!O37 -> 7 | J34: =データ田!P37 -> 7 | K34: =データ田!Q37 -> 7 | ... S34: =データ田!Y37 -> 5
C35: 神奈川県 | D35: =データ田!J3 -> 4030 | E35: =データ田!K3 -> 3990 | F35: =データ田!L3 -> 3970 | G35: =データ田!M3 -> 3920 | H35: =データ田!N3 -> 3890 | I35: =データ田!O3 -> 3850 | J35: =データ田!P3 -> 3790 | K35: =データ田!Q3 -> 3760 | ... S35: =データ田!Y3 -> 3430
D36: =D1 -> 2010 | E36: =E1 -> 2011 | F36: =F1 -> 2012 | G36: =G1 -> 2013 | H36: =H1 -> 2014 | I36: =I1 -> 2015 | J36: =J1 -> 2016 | K36: =K1 -> 2017 | ... S36: =S1 -> 2025
C37: 神奈川県 | D37: =_xlfn.XLOOKUP($C$37,$C2:$C35,D$2:D$35) -> 4030 | E37: =_xlfn.XLOOKUP($C$37,$C2:$C35,E$2:E$35) -> 3990 | F37: =_xlfn.XLOOKUP($C$37,$C2:$C35,F$2:F$35) -> 3970 | G37: =_xlfn.XLOOKUP($C$37,$C2:$C35,G$2:G$35) -> 3920 | H37: =_xlfn.XLOOKUP($C$37,$C2:$C35,H$2:H$35) -> 3890 | I37: =_xlfn.XLOOKUP($C$37,$C2:$C35,I$2:I$35) -> 3850 | J37: =_xlfn.XLOOKUP($C$37,$C2:$C35,J$2:J$35) -> 3790 | K37: =_xlfn.XLOOKUP($C$37,$C2:$C35,K$2:K$35) -> 3760 | ... S37: =_xlfn.XLOOKUP($C$37,$C2:$C35,S$2:S$35) -> 3430

Sheet データ畑
D1: 16 | E1: 17 | F1: 18 | G1: 19 | H1: 20 | I1: 21 | J1: 22 | K1: 23 | L1: 24 | M1: 25 | N1: 26 | O1: 27 | P1: 28 | Q1: 29 | R1: 30 | S1: 1 | T1: 2 | U1: 3 | V1: 4 | W1: 5 | X1: 6 | Y1: 7
D2: 2004 | E2: 2005 | F2: 2006 | G2: 2007 | H2: 2008 | I2: 2009 | J2: 2010 | K2: 2011 | L2: 2012 | M2: 2013 | N2: 2014 | O2: 2015 | P2: 2016 | Q2: 2017 | R2: 2018 | S2: 2019 | T2: 2020 | U2: 2021 | V2: 2022 | W2: 2023 | X2: 2024 | Y2: 2025
C3: 神奈川県 | J3: 16400 | K3: 16300 | L3: 16200 | M3: 16000 | N3: 15800 | O3: 15700 | P3: 15700 | Q3: 15500 | R3: 15400 | S3: 15100 | T3: 14800 | U3: 14600 | V3: 14500 | W3: 14400 | X3: 14300 | Y3: 14200
D4: =SUM(D5:D83) -> 18508 | E4: =SUM(E5:E83) -> 18464 | F4: =SUM(F5:F83) -> 16785 | G4: =SUM(G5:G83) -> 16699 | H4: =SUM(H5:H83) -> 16594 | I4: =SUM(I5:I83) -> 16461 | J4: =SUM(J5:J83) -> 16352 | K4: =SUM(K5:K83) -> 16284 | ... Y4: =SUM(Y5:Y83) -> 14163
B5: 100 | C5: 横浜市 | D5: 2910 | E5: 2910 | F5: 2890 | G5: 2870 | H5: 2830 | I5: 2810 | J5: 2800 | K5: 2790 | L5: 2790 | M5: 2770 | N5: 2710 | O5: 2690 | P5: 2680 | Q5: 2660 | R5: 2630 | S5: 2570 | T5: 2520 | U5: 2490 | V5: 2460 | W5: 2450 | X5: 2440 | Y5: 2350
B6: 130 | C6: 川崎市 | D6: 615 | E6: 614 | F6: 609 | G6: 598 | H6: 593 | I6: 586 | J6: 584 | K6: 581 | L6: 580 | M6: 576 | N6: 551 | O6: 550 | P6: 549 | Q6: 549 | R6: 547 | S6: 527 | T6: 507 | U6: 492 | V6: 477 | W6: 465 | X6: 461 | Y6: 448
B7: 150 | C7: 相模原市 | D7: =SUM(D41:D45) -> 1599 | E7: =SUM(E41:E45) -> 1598 | F7: 1590 | G7: 1590 | H7: 1570 | I7: 1550 | J7: 1530 | K7: 1520 | L7: 1510 | M7: 1490 | N7: 1500 | O7: 1490 | P7: 1470 | Q7: 1450 | R7: 1430 | S7: 1400 | T7: 1360 | U7: 1340 | V7: 1330 | W7: 1320 | X7: 1310 | Y7: 1310
B8: 201 | C8: 横須賀市 | D8: 489 | E8: 516 | F8: 541 | G8: 538 | H8: 537 | I8: 537 | J8: 531 | K8: 530 | L8: 529 | M8: 529 | N8: 527 | O8: 524 | P8: 524 | Q8: 523 | R8: 521 | S8: 515 | T8: 507 | U8: 504 | V8: 502 | W8: 501 | X8: 491 | Y8: 491
B9: 203 | C9: 平塚市 | D9: 798 | E9: 788 | F9: 780 | G9: 778 | H9: 775 | I9: 775 | J9: 766 | K9: 766 | L9: 764 | M9: 761 | N9: 752 | O9: 749 | P9: 740 | Q9: 738 | R9: 732 | S9: 727 | T9: 718 | U9: 714 | V9: 710 | W9: 705 | X9: 699 | Y9: 699
B10: 204 | C10: 鎌倉市 | D10: 121 | E10: 121 | F10: 119 | G10: 117 | H10: 114 | I10: 113 | J10: 109 | K10: 108 | L10: 108 | M10: 106 | N10: 104 | O10: 104 | P10: 103 | Q10: 102 | R10: 101 | S10: 99 | T10: 98 | U10: 96 | V10: 95 | W10: 92 | X10: 91 | Y10: 91
B11: 205 | C11: 藤沢市 | D11: 840 | E11: 836 | F11: 834 | G11: 834 | H11: 830 | I11: 820 | J11: 807 | K11: 799 | L11: 791 | M11: 784 | N11: 765 | O11: 765 | P11: 765 | Q11: 763 | R11: 761 | S11: 748 | T11: 736 | U11: 729 | V11: 727 | W11: 718 | X11: 713 | Y11: 713
B12: 206 | C12: 小田原市 | D12: 1400 | E12: 1380 | F12: 1370 | G12: 1370 | H12: 1370 | I12: 1360 | J12: 1360 | K12: 1360 | L12: 1340 | M12: 1330 | N12: 1320 | O12: 1320 | P12: 1310 | Q12: 1310 | R12: 1300 | S12: 1300 | T12: 1290 | U12: 1280 | V12: 1280 | W12: 1270 | X12: 1260 | Y12: 1260
B13: 207 | C13: 茅ヶ崎市 | D13: 338 | E13: 333 | F13: 330 | G13: 333 | H13: 333 | I13: 329 | J13: 323 | K13: 323 | L13: 320 | M13: 315 | N13: 306 | O13: 306 | P13: 306 | Q13: 305 | R13: 303 | S13: 295 | T13: 285 | U13: 273 | V13: 272 | W13: 267 | X13: 261 | Y13: 261
B14: 208 | C14: 逗子市 | D14: 9 | E14: 9 | F14: 9 | G14: 9 | H14: 9 | I14: 9 | J14: 9 | K14: 9 | L14: 9 | M14: 9 | N14: 7 | O14: 7 | P14: 7 | Q14: 7 | R14: 7 | S14: 6 | T14: 6 | U14: 6 | V14: 6 | W14: 6 | X14: 6 | Y14: 6
B15: 210 | C15: 三浦市 | D15: 1180 | E15: 1190 | F15: 1200 | G15: 1200 | H15: 1200 | I15: 1200 | J15: 1190 | K15: 1190 | L15: 1190 | M15: 1190 | N15: 1190 | O15: 1190 | P15: 1190 | Q15: 1190 | R15: 1190 | S15: 1190 | T15: 1180 | U15: 1180 | V15: 1180 | W15: 1180 | X15: 1180 | Y15: 1180
B16: 211 | C16: 秦野市 | D16: 1150 | E16: 1140 | F16: 1130 | G16: 1120 | H16: 1120 | I16: 1100 | J16: 1090 | K16: 1080 | L16: 1050 | M16: 1030 | N16: 1030 | O16: 1020 | P16: 1010 | Q16: 999 | R16: 990 | S16: 979 | T16: 962 | U16: 950 | V16: 932 | W16: 916 | X16: 910 | Y16: 910
B17: 212 | C17: 厚木市 | D17: 700 | E17: 697 | F17: 694 | G17: 693 | H17: 691 | I17: 686 | J17: 683 | K17: 678 | L17: 669 | M17: 654 | N17: 652 | O17: 648 | P17: 645 | Q17: 637 | R17: 632 | S17: 622 | T17: 602 | U17: 592 | V17: 591 | W17: 589 | X17: 585 | Y17: 585
B18: 213 | C18: 大和市 | D18: 233 | E18: 233 | F18: 232 | G18: 231 | H18: 229 | I18: 214 | J18: 213 | K18: 212 | L18: 211 | M18: 210 | N18: 204 | O18: 202 | P18: 200 | Q18: 198 | R18: 196 | S18: 189 | T18: 185 | U18: 184 | V18: 180 | W18: 169 | X18: 168 | Y18: 166
B19: 214 | C19: 伊勢原市 | D19: 754 | E19: 746 | F19: 742 | G19: 739 | H19: 733 | I19: 728 | J19: 725 | K19: 722 | L19: 718 | M19: 712 | N19: 704 | O19: 701 | P19: 696 | Q19: 692 | R19: 689 | S19: 687 | T19: 681 | U19: 678 | V19: 671 | W19: 664 | X19: 662 | Y19: 654
... B37: 402 | C37: 清川村 | D37: 41 | E37: 41 | F37: 41 | G37: 41 | H37: 40 | I37: 40 | J37: 39 | K37: 39 | L37: 39 | M37: 39 | N37: 39 | O37: 39 | P37: 39 | Q37: 39 | R37: 39 | S37: 39 | T37: 34 | U37: 32 | V37: 32 | W37: 32 | X37: 32 | Y37: 32
B41: 209 | C41: 相模原市 | D41: 834 | E41: 1310
B42: 421 | C42: 城山町 | D42: 130 | E42: 130
B43: 422 | C43: 津久井町 | D43: 365
B44: 423 | C44: 相模湖町 | D44: 112
B45: 424 | C45: 藤野町 | D45: 158 | E45: 158
X46: ='R6'!G21 -> 585
X49: ='R6'!G22 -> 168
X50: ='R6'!G23 -> 662
X53: ='R6'!G24 -> 250
X54: ='R6'!G25 -> 112
X55: ='R6'!G26 -> 485
X58: ='R6'!G27 -> 214
X59: ='R6'!G28 -> 29
X60: ='R6'!G29 -> 152
X61: ='R6'!G30 -> 235
X65: ='R6'!G31 -> 106
X68: ='R6'!G32 -> 376
X69: ='R6'!G33 -> 217
X70: ='R6'!G34 -> 127
X71: ='R6'!G35 -> 248
X72: ='R6'!G36 -> 29
X75: ='R6'!G37 -> 6
X76: ='R6'!G38 -> 33
X77: ='R6'!G39 -> 202
X78: ='R6'!G40 -> 209
X79: ='R6'!G41 -> 32
X80: ='R6'!G42 -> 0
X83: ='R6'!G43 -> 14300

Sheet グラフ畑
D1: =データ畑!J2 -> 2010 | E1: =データ畑!K2 -> 2011 | F1: =データ畑!L2 -> 2012 | G1: =データ畑!M2 -> 2013 | H1: =データ畑!N2 -> 2014 | I1: =データ畑!O2 -> 2015 | J1: =データ畑!P2 -> 2016 | K1: =データ畑!Q2 -> 2017 | ... S1: =データ畑!Y2 -> 2025
B2: 100 | C2: 横浜市 | D2: =データ畑!J5 -> 2800 | E2: =データ畑!K5 -> 2790 | F2: =データ畑!L5 -> 2790 | G2: =データ畑!M5 -> 2770 | H2: =データ畑!N5 -> 2710 | I2: =データ畑!O5 -> 2690 | J2: =データ畑!P5 -> 2680 | K2: =データ畑!Q5 -> 2660 | ... S2: =データ畑!Y5 -> 2350
B3: 130 | C3: 川崎市 | D3: =データ畑!J6 -> 584 | E3: =データ畑!K6 -> 581 | F3: =データ畑!L6 -> 580 | G3: =データ畑!M6 -> 576 | H3: =データ畑!N6 -> 551 | I3: =データ畑!O6 -> 550 | J3: =データ畑!P6 -> 549 | K3: =データ畑!Q6 -> 549 | ... S3: =データ畑!Y6 -> 448
B4: 150 | C4: 相模原市 | D4: =データ畑!J7 -> 1530 | E4: =データ畑!K7 -> 1520 | F4: =データ畑!L7 -> 1510 | G4: =データ畑!M7 -> 1490 | H4: =データ畑!N7 -> 1500 | I4: =データ畑!O7 -> 1490 | J4: =データ畑!P7 -> 1470 | K4: =データ畑!Q7 -> 1450 | ... S4: =データ畑!Y7 -> 1310
B5: 201 | C5: 横須賀市 | D5: =データ畑!J8 -> 531 | E5: =データ畑!K8 -> 530 | F5: =データ畑!L8 -> 529 | G5: =データ畑!M8 -> 529 | H5: =データ畑!N8 -> 527 | I5: =データ畑!O8 -> 524 | J5: =データ畑!P8 -> 524 | K5: =データ畑!Q8 -> 523 | ... S5: =データ畑!Y8 -> 491
B6: 203 | C6: 平塚市 | D6: =データ畑!J9 -> 766 | E6: =データ畑!K9 -> 766 | F6: =データ畑!L9 -> 764 | G6: =データ畑!M9 -> 761 | H6: =データ畑!N9 -> 752 | I6: =データ畑!O9 -> 749 | J6: =データ畑!P9 -> 740 | K6: =データ畑!Q9 -> 738 | ... S6: =データ畑!Y9 -> 699
B7: 204 | C7: 鎌倉市 | D7: =データ畑!J10 -> 109 | E7: =データ畑!K10 -> 108 | F7: =データ畑!L10 -> 108 | G7: =データ畑!M10 -> 106 | H7: =データ畑!N10 -> 104 | I7: =データ畑!O10 -> 104 | J7: =データ畑!P10 -> 103 | K7: =データ畑!Q10 -> 102 | ... S7: =データ畑!Y10 -> 91
B8: 205 | C8: 藤沢市 | D8: =データ畑!J11 -> 807 | E8: =データ畑!K11 -> 799 | F8: =データ畑!L11 -> 791 | G8: =データ畑!M11 -> 784 | H8: =データ畑!N11 -> 765 | I8: =データ畑!O11 -> 765 | J8: =データ畑!P11 -> 765 | K8: =データ畑!Q11 -> 763 | ... S8: =データ畑!Y11 -> 713
B9: 206 | C9: 小田原市 | D9: =データ畑!J12 -> 1360 | E9: =データ畑!K12 -> 1360 | F9: =データ畑!L12 -> 1340 | G9: =データ畑!M12 -> 1330 | H9: =データ畑!N12 -> 1320 | I9: =データ畑!O12 -> 1320 | J9: =データ畑!P12 -> 1310 | K9: =データ畑!Q12 -> 1310 | ... S9: =データ畑!Y12 -> 1260
B10: 207 | C10: 茅ヶ崎市 | D10: =データ畑!J13 -> 323 | E10: =データ畑!K13 -> 323 | F10: =データ畑!L13 -> 320 | G10: =データ畑!M13 -> 315 | H10: =データ畑!N13 -> 306 | I10: =データ畑!O13 -> 306 | J10: =データ畑!P13 -> 306 | K10: =データ畑!Q13 -> 305 | ... S10: =データ畑!Y13 -> 261
B11: 208 | C11: 逗子市 | D11: =データ畑!J14 -> 9 | E11: =データ畑!K14 -> 9 | F11: =データ畑!L14 -> 9 | G11: =データ畑!M14 -> 9 | H11: =データ畑!N14 -> 7 | I11: =データ畑!O14 -> 7 | J11: =データ畑!P14 -> 7 | K11: =データ畑!Q14 -> 7 | ... S11: =データ畑!Y14 -> 6
B12: 210 | C12: 三浦市 | D12: =データ畑!J15 -> 1190 | E12: =データ畑!K15 -> 1190 | F12: =データ畑!L15 -> 1190 | G12: =データ畑!M15 -> 1190 | H12: =データ畑!N15 -> 1190 | I12: =データ畑!O15 -> 1190 | J12: =データ畑!P15 -> 1190 | K12: =データ畑!Q15 -> 1190 | ... S12: =データ畑!Y15 -> 1180
B13: 211 | C13: 秦野市 | D13: =データ畑!J16 -> 1090 | E13: =データ畑!K16 -> 1080 | F13: =データ畑!L16 -> 1050 | G13: =データ畑!M16 -> 1030 | H13: =データ畑!N16 -> 1030 | I13: =データ畑!O16 -> 1020 | J13: =データ畑!P16 -> 1010 | K13: =データ畑!Q16 -> 999 | ... S13: =データ畑!Y16 -> 910
... B34: 402 | C34: 清川村 | D34: =データ畑!J37 -> 39 | E34: =データ畑!K37 -> 39 | F34: =データ畑!L37 -> 39 | G34: =データ畑!M37 -> 39 | H34: =データ畑!N37 -> 39 | I34: =データ畑!O37 -> 39 | J34: =データ畑!P37 -> 39 | K34: =データ畑!Q37 -> 39 | ... S34: =データ畑!Y37 -> 32
C35: 神奈川県 | D35: =データ畑!J3 -> 16400 | E35: =データ畑!K3 -> 16300 | F35: =データ畑!L3 -> 16200 | G35: =データ畑!M3 -> 16000 | H35: =データ畑!N3 -> 15800 | I35: =データ畑!O3 -> 15700 | J35: =データ畑!P3 -> 15700 | K35: =データ畑!Q3 -> 15500 | ... S35: =データ畑!Y3 -> 14200
D36: =D1 -> 2010 | E36: =E1 -> 2011 | F36: =F1 -> 2012 | G36: =G1 -> 2013 | H36: =H1 -> 2014 | I36: =I1 -> 2015 | J36: =J1 -> 2016 | K36: =K1 -> 2017 | ... S36: =S1 -> 2025
C37: 神奈川県 | D37: =_xlfn.XLOOKUP($C$37,$C2:$C35,D$2:D$35) -> 16400 | E37: =_xlfn.XLOOKUP($C$37,$C2:$C35,E$2:E$35) -> 16300 | F37: =_xlfn.XLOOKUP($C$37,$C2:$C35,F$2:F$35) -> 16200 | G37: =_xlfn.XLOOKUP($C$37,$C2:$C35,G$2:G$35) -> 16000 | H37: =_xlfn.XLOOKUP($C$37,$C2:$C35,H$2:H$35) -> 15800 | I37: =_xlfn.XLOOKUP($C$37,$C2:$C35,I$2:I$35) -> 15700 | J37: =_xlfn.XLOOKUP($C$37,$C2:$C35,J$2:J$35) -> 15700 | K37: =_xlfn.XLOOKUP($C$37,$C2:$C35,K$2:K$35) -> 15500 | ... S37: =_xlfn.XLOOKUP($C$37,$C2:$C35,S$2:S$35) -> 14200

Sheet グラフ
D1: ↓こちらのタブからご覧になりたい市町を選択してください。
D2: 神奈川県
B3: (ha）
R26: (ha)
C28: 年 | D28: ='グラフ田 '!D1 -> 2010 | E28: ='グラフ田 '!E1 -> 2011 | F28: ='グラフ田 '!F1 -> 2012 | G28: ='グラフ田 '!G1 -> 2013 | H28: ='グラフ田 '!H1 -> 2014 | I28: ='グラフ田 '!I1 -> 2015 | J28: ='グラフ田 '!J1 -> 2016 | K28: ='グラフ田 '!K1 -> 2017 | ... S28: ='グラフ田 '!S1 -> 2025
B29: =D2 -> 神奈川県 | C29: 田 | D29: =_xlfn.XLOOKUP($D$2,'グラフ田 '!$C2:$C35,'グラフ田 '!D$2:D$35) -> 4030 | E29: =_xlfn.XLOOKUP($D$2,'グラフ田 '!$C2:$C35,'グラフ田 '!E$2:E$35) -> 3990 | F29: =_xlfn.XLOOKUP($D$2,'グラフ田 '!$C2:$C35,'グラフ田 '!F$2:F$35) -> 3970 | G29: =_xlfn.XLOOKUP($D$2,'グラフ田 '!$C2:$C35,'グラフ田 '!G$2:G$35) -> 3920 | H29: =_xlfn.XLOOKUP($D$2,'グラフ田 '!$C2:$C35,'グラフ田 '!H$2:H$35) -> 3890 | I29: =_xlfn.XLOOKUP($D$2,'グラフ田 '!$C2:$C35,'グラフ田 '!I$2:I$35) -> 3850 | J29: =_xlfn.XLOOKUP($D$2,'グラフ田 '!$C2:$C35,'グラフ田 '!J$2:J$35) -> 3790 | K29: =_xlfn.XLOOKUP($D$2,'グラフ田 '!$C2:$C35,'グラフ田 '!K$2:K$35) -> 3760 | ... S29: =_xlfn.XLOOKUP($D$2,'グラフ田 '!$C2:$C35,'グラフ田 '!S$2:S$35) -> 3430
C30: 畑 | D30: =_xlfn.XLOOKUP($D$2,グラフ畑!$C2:$C35,グラフ畑!D$2:D$35) -> 16400 | E30: =_xlfn.XLOOKUP($D$2,グラフ畑!$C2:$C35,グラフ畑!E$2:E$35) -> 16300 | F30: =_xlfn.XLOOKUP($D$2,グラフ畑!$C2:$C35,グラフ畑!F$2:F$35) -> 16200 | G30: =_xlfn.XLOOKUP($D$2,グラフ畑!$C2:$C35,グラフ畑!G$2:G$35) -> 16000 | H30: =_xlfn.XLOOKUP($D$2,グラフ畑!$C2:$C35,グラフ畑!H$2:H$35) -> 15800 | I30: =_xlfn.XLOOKUP($D$2,グラフ畑!$C2:$C35,グラフ畑!I$2:I$35) -> 15700 | J30: =_xlfn.XLOOKUP($D$2,グラフ畑!$C2:$C35,グラフ畑!J$2:J$35) -> 15700 | K30: =_xlfn.XLOOKUP($D$2,グラフ畑!$C2:$C35,グラフ畑!K$2:K$35) -> 15500 | ... S30: =_xlfn.XLOOKUP($D$2,グラフ畑!$C2:$C35,グラフ畑!S$2:S$35) -> 14200
C31: 調査の概要、利用上の注意 | H31: 10年前の2015年から田は、 | K31: =I29-S29 -> 420 | L31: 減少 | M31: 5年前2020年から | O31: 田は、 | P31: =N29-S29 -> 180 | Q31: 減少
B32: 出典： | C32: 面積調査：農林水産省 | H32: 10年前の2015年から畑は、 | K32: =I30-S30 -> 1500 | L32: 減少 | M32: 5年前2019年から | O32: 畑は、 | P32: =N30-S30 -> 600 | Q32: 減少
