Workbook

Sheet H16
A1: 農林水産関係市町村別データ
A2: 平成16年産
A3: 水陸稲
A4: 神奈川県 | D4: 1.水稲 | G4: 2.陸稲
A5: 都道 | B5: 市町 | D5: 作付面積 | E5: 10a当たり | F5: 収穫量 | G5: 作付面積 | H5: 10a当たり | I5: 収穫量
A6: 府県 | B6: 村 | C6: 市町村名 | E6: 収量 | H6: 収量
A7: ｺｰﾄﾞ | B7: ｺｰﾄﾞ
D8: ha | E8: kg | F8: t | G8: ha | H8: kg | I8: t
A9: 14 | B9: 100 | C9: 横浜市 | D9: 175 | E9: 473 | F9: 827 | G9: 1 | H9: 87 | I9: 1
A10: 14 | B10: 130 | C10: 川崎市 | D10: 20 | E10: 455 | F10: 91 | G10: 0 | H10: 80 | I10: 0
A11: 14 | B11: 201 | C11: 横須賀市 | D11: 10 | E11: 473 | F11: 47 | G11: - | H11: - | I11: -
A12: 14 | B12: 203 | C12: 平塚市 | D12: 561 | E12: 526 | F12: 2950 | G12: 1 | H12: 160 | I12: 1
A13: 14 | B13: 204 | C13: 鎌倉市 | D13: 1 | E13: 440 | F13: 4 | G13: - | H13: - | I13: -
A14: 14 | B14: 205 | C14: 藤沢市 | D14: 113 | E14: 504 | F14: 570 | G14: 0 | H14: 150 | I14: 0
A15: 14 | B15: 206 | C15: 小田原市 | D15: 471 | E15: 501 | F15: 2360 | G15: - | H15: - | I15: -
A16: 14 | B16: 207 | C16: 茅ヶ崎市 | D16: 49 | E16: 496 | F16: 243 | G16: 0 | H16: 154 | I16: 0
A17: 14 | B17: 208 | C17: 逗子市 | D17: - | E17: - | F17: - | G17: - | H17: - | I17: -
A18: 14 | B18: 209 | C18: 相模原市 | D18: 80 | E18: 477 | F18: 382 | G18: 2 | H18: 211 | I18: 4
A19: 14 | B19: 210 | C19: 三浦市 | D19: 5 | E19: 477 | F19: 24 | G19: - | H19: - | I19: -
A20: 14 | B20: 211 | C20: 秦野市 | D20: 104 | E20: 504 | F20: 524 | G20: 17 | H20: 173 | I20: 30
A21: 14 | B21: 212 | C21: 厚木市 | D21: 445 | E21: 507 | F21: 2260 | G21: 2 | H21: 212 | I21: 4
A22: 14 | B22: 213 | C22: 大和市 | D22: 13 | E22: 481 | F22: 63 | G22: 0 | H22: 200 | I22: 0
A23: 14 | B23: 214 | C23: 伊勢原市 | D23: 330 | E23: 506 | F23: 1670 | G23: 1 | H23: 160 | I23: 1
A24: 14 | B24: 215 | C24: 海老名市 | D24: 224 | E24: 504 | F24: 1130 | G24: 0 | H24: 210 | I24: 1
A25: 14 | B25: 216 | C25: 座間市 | D25: 79 | E25: 480 | F25: 379 | G25: 0 | H25: 200 | I25: 0
A26: 14 | B26: 217 | C26: 南足柄市 | D26: 140 | E26: 509 | F26: 713 | G26: - | H26: - | I26: -
A27: 14 | B27: 218 | C27: 綾瀬市 | D27: 14 | E27: 483 | F27: 68 | G27: 0 | H27: 207 | I27: 0
A28: 14 | B28: 301 | C28: 葉山町 | D28: 4 | E28: 452 | F28: 18 | G28: - | H28: - | I28: -
A29: 14 | B29: 321 | C29: 寒川町 | D29: 66 | E29: 489 | F29: 323 | G29: 0 | H29: 160 | I29: 0
A30: 14 | B30: 341 | C30: 大磯町 | D30: 21 | E30: 482 | F30: 101 | G30: 0 | H30: 151 | I30: 0
A31: 14 | B31: 342 | C31: 二宮町 | D31: 0 | E31: 451 | F31: 1 | G31: 0 | H31: 151 | I31: 0
A32: 14 | B32: 361 | C32: 中井町 | D32: 23 | E32: 478 | F32: 110 | G32: 1 | H32: 220 | I32: 1
A33: 14 | B33: 362 | C33: 大井町 | D33: 88 | E33: 506 | F33: 445 | G33: 0 | H33: 200 | I33: 0
A34: 14 | B34: 363 | C34: 松田町 | D34: 8 | E34: 471 | F34: 38 | G34: 0 | H34: 140 | I34: 0
A35: 14 | B35: 364 | C35: 山北町 | D35: 31 | E35: 485 | F35: 150 | G35: - | H35: - | I35: -
A36: 14 | B36: 366 | C36: 開成町 | D36: 134 | E36: 519 | F36: 695 | G36: - | H36: - | I36: -
A37: 14 | B37: 382 | C37: 箱根町 | D37: 1 | E37: 455 | F37: 5 | G37: - | H37: - | I37: -
A38: 14 | B38: 383 | C38: 真鶴町 | D38: - | E38: - | F38: - | G38: - | H38: - | I38: -
A39: 14 | B39: 384 | C39: 湯河原町 | D39: - | E39: - | F39: - | G39: - | H39: - | I39: -
A40: 14 | B40: 401 | C40: 愛川町 | D40: 64 | E40: 485 | F40: 310 | G40: 0 | H40: 211 | I40: 0
A41: 14 | B41: 402 | C41: 清川村 | D41: 3 | E41: 432 | F41: 13 | G41: 0 | H41: 190 | I41: 0
A42: 14 | B42: 421 | C42: 城山町 | D42: 12 | E42: 468 | F42: 56 | G42: 0 | H42: 210 | I42: 0
A43: 14 | B43: 422 | C43: 津久井町 | D43: 6 | E43: 461 | F43: 28 | G43: 2 | H43: 230 | I43: 4
A44: 14 | B44: 423 | C44: 相模湖町 | D44: 4 | E44: 455 | F44: 18 | G44: 0 | H44: 225 | I44: 0
A45: 14 | B45: 424 | C45: 藤野町 | D45: 1 | E45: 419 | F45: 4 | G45: 0 | H45: 190 | I45: 0
A47: 利用上の注意
A48: この市町村別データは、「水陸稲収穫量調査」の県計値を当該市町村における調査結果、関係機関・団体からの情報等により加工したものである。

Sheet H17
A1: 農林水産関係市町村別データ
A2: 平成17年産
A3: 水陸稲
A4: 神奈川県 | D4: 1.水稲 | G4: 2.陸稲
A5: 都道 | B5: 市町 | D5: 作付面積 | E5: 10a当たり | F5: 収穫量 | G5: 作付面積 | H5: 10a当たり | I5: 収穫量
A6: 府県 | B6: 村 | C6: 市町村名 | E6: 収量 | H6: 収量
A7: ｺｰﾄﾞ | B7: ｺｰﾄﾞ
D8: ha | E8: kg | F8: t | G8: ha | H8: kg | I8: t
A9: 14 | B9: 100 | C9: 横浜市 | D9: 175 | E9: 473 | F9: 828 | G9: 1 | H9: 180 | I9: 2
A10: 14 | B10: 130 | C10: 川崎市 | D10: 21 | E10: 444 | F10: 93 | G10: 0 | H10: 154 | I10: 0
A11: 14 | B11: 201 | C11: 横須賀市 | D11: 10 | E11: 465 | F11: 47 | G11: - | H11: - | I11: -
A12: 14 | B12: 203 | C12: 平塚市 | D12: 561 | E12: 514 | F12: 2880 | G12: 1 | H12: 164 | I12: 1
A13: 14 | B13: 204 | C13: 鎌倉市 | D13: 1 | E13: 435 | F13: 4 | G13: - | H13: - | I13: -
A14: 14 | B14: 205 | C14: 藤沢市 | D14: 113 | E14: 495 | F14: 559 | G14: 0 | H14: 160 | I14: 0
A15: 14 | B15: 206 | C15: 小田原市 | D15: 471 | E15: 492 | F15: 2320 | G15: - | H15: - | I15: -
A16: 14 | B16: 207 | C16: 茅ヶ崎市 | D16: 49 | E16: 485 | F16: 238 | G16: 0 | H16: 160 | I16: 0
A17: 14 | B17: 208 | C17: 逗子市 | D17: - | E17: - | F17: - | G17: - | H17: - | I17: -
A18: 14 | B18: 209 | C18: 相模原市 | D18: 90 | E18: 474 | F18: 427 | G18: 4 | H18: 220 | I18: 8
A19: 14 | B19: 421 | C19: 城山町 | D19: 12 | E19: 465 | F19: 56 | G19: 0 | H19: 210 | I19: 0
A20: 14 | B20: 424 | C20: 藤野町 | D20: 1 | E20: 410 | F20: 4 | G20: 0 | H20: 190 | I20: 0
A21: 14 | B21: 210 | C21: 三浦市 | D21: 5 | E21: 469 | F21: 23 | G21: - | H21: - | I21: -
A22: 14 | B22: 211 | C22: 秦野市 | D22: 104 | E22: 495 | F22: 515 | G22: 16 | H22: 195 | I22: 31
A23: 14 | B23: 212 | C23: 厚木市 | D23: 446 | E23: 500 | F23: 2230 | G23: 2 | H23: 210 | I23: 3
A24: 14 | B24: 213 | C24: 大和市 | D24: 13 | E24: 480 | F24: 62 | G24: 0 | H24: 200 | I24: 0
A25: 14 | B25: 214 | C25: 伊勢原市 | D25: 330 | E25: 498 | F25: 1640 | G25: 0 | H25: 195 | I25: 0
A26: 14 | B26: 215 | C26: 海老名市 | D26: 225 | E26: 498 | F26: 1120 | G26: 0 | H26: 210 | I26: 1
A27: 14 | B27: 216 | C27: 座間市 | D27: 79 | E27: 480 | F27: 379 | G27: 0 | H27: 200 | I27: 0
A28: 14 | B28: 217 | C28: 南足柄市 | D28: 139 | E28: 499 | F28: 694 | G28: - | H28: - | I28: -
A29: 14 | B29: 218 | C29: 綾瀬市 | D29: 14 | E29: 480 | F29: 67 | G29: 0 | H29: 210 | I29: 0
A30: 14 | B30: 301 | C30: 葉山町 | D30: 4 | E30: 450 | F30: 18 | G30: - | H30: - | I30: -
A31: 14 | B31: 321 | C31: 寒川町 | D31: 66 | E31: 485 | F31: 320 | G31: 0 | H31: 170 | I31: 0
A32: 14 | B32: 341 | C32: 大磯町 | D32: 21 | E32: 475 | F32: 100 | G32: 0 | H32: 160 | I32: 0
A33: 14 | B33: 342 | C33: 二宮町 | D33: 0 | E33: 445 | F33: 1 | G33: 0 | H33: 160 | I33: 0
A34: 14 | B34: 361 | C34: 中井町 | D34: 23 | E34: 475 | F34: 109 | G34: 1 | H34: 200 | I34: 1
A35: 14 | B35: 362 | C35: 大井町 | D35: 88 | E35: 494 | F35: 435 | G35: 0 | H35: 190 | I35: 0
A36: 14 | B36: 363 | C36: 松田町 | D36: 8 | E36: 470 | F36: 38 | G36: 0 | H36: 170 | I36: 0
A37: 14 | B37: 364 | C37: 山北町 | D37: 31 | E37: 470 | F37: 146 | G37: - | H37: - | I37: -
A38: 14 | B38: 366 | C38: 開成町 | D38: 132 | E38: 514 | F38: 678 | G38: - | H38: - | I38: -
A39: 14 | B39: 382 | C39: 箱根町 | D39: 1 | E39: 450 | F39: 5 | G39: - | H39: - | I39: -
A40: 14 | B40: 383 | C40: 真鶴町 | D40: - | E40: - | F40: - | G40: - | H40: - | I40: -
A41: 14 | B41: 384 | C41: 湯河原町 | D41: - | E41: - | F41: - | G41: - | H41: - | I41: -
A42: 14 | B42: 401 | C42: 愛川町 | D42: 64 | E42: 484 | F42: 310 | G42: 0 | H42: 200 | I42: 0
A43: 14 | B43: 402 | C43: 清川村 | D43: 3 | E43: 430 | F43: 13 | G43: 0 | H43: 190 | I43: 0
A45: 利用上の注意
A46: この市町村別データは、「水陸稲収穫量調査」の県計値を当該市町村における調査結果、関係機関・団体からの情報等により加工したものである。

Sheet H18
A1: 農林水産関係市町村別データ
A2: 平成18年産
A3: 水陸稲
A4: 神奈川県 | D4: 1.水稲 | G4: 2.陸稲
A5: 都道 | B5: 市町 | D5: 作付面積 | E5: 10a当たり | F5: 収穫量 | G5: 作付面積 | H5: 10a当たり | I5: 収穫量
A6: 府県 | B6: 村 | C6: 市町村名 | E6: 収量 | H6: 収量
A7: ｺｰﾄﾞ | B7: ｺｰﾄﾞ
D8: ha | E8: kg | F8: t | G8: ha | H8: kg | I8: t
A9: 14 | B9: 100 | C9: 横浜市 | D9: 166 | E9: 455 | F9: 756 | G9: 1 | H9: 201 | I9: 3
A10: 14 | B10: 130 | C10: 川崎市 | D10: 20 | E10: 435 | F10: 87 | G10: 0 | H10: 175 | I10: 0
A11: 14 | B11: 201 | C11: 横須賀市 | D11: 10 | E11: 412 | F11: 41 | G11: - | H11: - | I11: -
A12: 14 | B12: 203 | C12: 平塚市 | D12: 562 | E12: 486 | F12: 2730 | G12: 1 | H12: 161 | I12: 1
A13: 14 | B13: 204 | C13: 鎌倉市 | D13: 1 | E13: 400 | F13: 4 | G13: - | H13: - | I13: -
A14: 14 | B14: 205 | C14: 藤沢市 | D14: 113 | E14: 463 | F14: 523 | G14: 0 | H14: 160 | I14: 0
A15: 14 | B15: 206 | C15: 小田原市 | D15: 467 | E15: 459 | F15: 2140 | G15: - | H15: - | I15: -
A16: 14 | B16: 207 | C16: 茅ヶ崎市 | D16: 49 | E16: 459 | F16: 225 | G16: 0 | H16: 160 | I16: 0
A17: 14 | B17: 208 | C17: 逗子市 | D17: 0 | E17: 200 | F17: 0 | G17: - | H17: - | I17: -
A18: 14 | B18: 209 | C18: 相模原市 | D18: 103 | E18: 438 | F18: 451 | G18: 2 | H18: 200 | I18: 4
A19: 14 | B19: 210 | C19: 三浦市 | D19: 4 | E19: 412 | F19: 16 | G19: - | H19: - | I19: -
A20: 14 | B20: 211 | C20: 秦野市 | D20: 104 | E20: 453 | F20: 471 | G20: 16 | H20: 182 | I20: 29
A21: 14 | B21: 212 | C21: 厚木市 | D21: 445 | E21: 466 | F21: 2070 | G21: 0 | H21: 200 | I21: 1
A22: 14 | B22: 213 | C22: 大和市 | D22: 13 | E22: 430 | F22: 56 | G22: 0 | H22: 190 | I22: 0
A23: 14 | B23: 214 | C23: 伊勢原市 | D23: 330 | E23: 472 | F23: 1560 | G23: 0 | H23: 182 | I23: 0
A24: 14 | B24: 215 | C24: 海老名市 | D24: 223 | E24: 465 | F24: 1040 | G24: 0 | H24: 200 | I24: 0
A25: 14 | B25: 216 | C25: 座間市 | D25: 79 | E25: 455 | F25: 360 | G25: 0 | H25: 190 | I25: 0
A26: 14 | B26: 217 | C26: 南足柄市 | D26: 137 | E26: 467 | F26: 640 | G26: - | H26: - | I26: -
A27: 14 | B27: 218 | C27: 綾瀬市 | D27: 14 | E27: 455 | F27: 64 | G27: 0 | H27: 200 | I27: 0
A28: 14 | B28: 301 | C28: 葉山町 | D28: 4 | E28: 400 | F28: 16 | G28: - | H28: - | I28: -
A29: 14 | B29: 321 | C29: 寒川町 | D29: 66 | E29: 455 | F29: 300 | G29: 0 | H29: 169 | I29: 0
A30: 14 | B30: 341 | C30: 大磯町 | D30: 21 | E30: 449 | F30: 94 | G30: 0 | H30: 160 | I30: 0
A31: 14 | B31: 342 | C31: 二宮町 | D31: 0 | E31: 418 | F31: 1 | G31: 0 | H31: 159 | I31: 0
A32: 14 | B32: 361 | C32: 中井町 | D32: 23 | E32: 444 | F32: 102 | G32: 1 | H32: 204 | I32: 1
A33: 14 | B33: 362 | C33: 大井町 | D33: 88 | E33: 454 | F33: 400 | G33: 0 | H33: 197 | I33: 0
A34: 14 | B34: 363 | C34: 松田町 | D34: 8 | E34: 425 | F34: 34 | G34: 0 | H34: 136 | I34: 0
A35: 14 | B35: 364 | C35: 山北町 | D35: 30 | E35: 440 | F35: 132 | G35: - | H35: - | I35: -
A36: 14 | B36: 366 | C36: 開成町 | D36: 132 | E36: 478 | F36: 631 | G36: - | H36: - | I36: -
A37: 14 | B37: 382 | C37: 箱根町 | D37: 1 | E37: 414 | F37: 4 | G37: - | H37: - | I37: -
A38: 14 | B38: 383 | C38: 真鶴町 | D38: - | E38: - | F38: - | G38: - | H38: - | I38: -
A39: 14 | B39: 384 | C39: 湯河原町 | D39: - | E39: - | F39: - | G39: - | H39: - | I39: -
A40: 14 | B40: 401 | C40: 愛川町 | D40: 64 | E40: 445 | F40: 285 | G40: 0 | H40: 190 | I40: 0
A41: 14 | B41: 402 | C41: 清川村 | D41: 3 | E41: 405 | F41: 12 | G41: 0 | H41: 180 | I41: 0
A43: 利用上の注意
A44: この市町村別データは、「作付面積調査」及び「稲調査」の県計値を当該市町村における調査結果、関係機関
A45: からの情報等により加工したものである。

Sheet H19
A1: 農林水産関係市町村別データ
A2: 平成19年産
A3: 水稲
A4: 神奈川県 | D4: 水稲
A5: 都道 | B5: 市町 | D5: 作付面積 | E5: 10a当たり | F5: 収穫量
A6: 府県 | B6: 村 | C6: 市町村名 | E6: 収量
A7: ｺｰﾄﾞ | B7: ｺｰﾄﾞ
D8: ha | E8: kg | F8: t
A9: 14 | B9: 100 | C9: 横浜市 | D9: 166 | E9: 469 | F9: 779
A10: 14 | B10: 130 | C10: 川崎市 | D10: 20 | E10: 439 | F10: 88
A11: 14 | B11: 201 | C11: 横須賀市 | D11: 9 | E11: 462 | F11: 42
A12: 14 | B12: 203 | C12: 平塚市 | D12: 563 | E12: 507 | F12: 2850
A13: 14 | B13: 204 | C13: 鎌倉市 | D13: 1 | E13: 435 | F13: 4
A14: 14 | B14: 205 | C14: 藤沢市 | D14: 113 | E14: 491 | F14: 555
A15: 14 | B15: 206 | C15: 小田原市 | D15: 467 | E15: 491 | F15: 2290
A16: 14 | B16: 207 | C16: 茅ヶ崎市 | D16: 49 | E16: 486 | F16: 238
A17: 14 | B17: 208 | C17: 逗子市 | D17: 0 | E17: 200 | F17: 0
A18: 14 | B18: 209 | C18: 相模原市 | D18: 103 | E18: 451 | F18: 465
A19: 14 | B19: 210 | C19: 三浦市 | D19: 4 | E19: 462 | F19: 18
A20: 14 | B20: 211 | C20: 秦野市 | D20: 104 | E20: 489 | F20: 509
... A37: 14 | B37: 382 | C37: 箱根町 | D37: 1 | E37: 439 | F37: 4
A38: 14 | B38: 383 | C38: 真鶴町 | D38: - | E38: - | F38: -
A39: 14 | B39: 384 | C39: 湯河原町 | D39: - | E39: - | F39: -
A40: 14 | B40: 401 | C40: 愛川町 | D40: 64 | E40: 458 | F40: 293
A41: 14 | B41: 402 | C41: 清川村 | D41: 3 | E41: 417 | F41: 13
A43: 利用上の注意
A44: １ この市町村別データは、「作物統計調査」を実施する上で把握した地域における標本調査及び現地見積りの結果、
A45: 関係機関からの情報等をもとに都道府県計値の内訳として市町村別に作成した加工統計であり、作成するうえで
A46: 精度を設定しているものではない。
A47: なお、「作物統計調査」は都道府県計値を求めるために設計されている。
A48: ２ 市町村間の出作・入作を考慮していない（属地統計）。
A49: ３ 数値については、四捨五入しており、都道府県計値と市町村別の内訳の計が一致しないことがある。

Sheet H20
A1: 農林水産関係市町村別データ
A2: 平成20年産
A3: 水稲
A4: 神奈川県 | D4: 水稲
A5: 都道 | B5: 市町 | D5: 作付面積 | E5: 10a当たり | F5: 収穫量
A6: 府県 | B6: 村 | C6: 市町村名 | E6: 収量
A7: ｺｰﾄﾞ | B7: ｺｰﾄﾞ
D8: ha | E8: kg | F8: t
A9: 14 | B9: 100 | C9: 横浜市 | D9: 157 | E9: 493 | F9: 774
A10: 14 | B10: 130 | C10: 川崎市 | D10: 18 | E10: 463 | F10: 83
A11: 14 | B11: 201 | C11: 横須賀市 | D11: 9 | E11: 483 | F11: 43
A12: 14 | B12: 203 | C12: 平塚市 | D12: 566 | E12: 519 | F12: 2940
A13: 14 | B13: 204 | C13: 鎌倉市 | D13: 1 | E13: 459 | F13: 5
A14: 14 | B14: 205 | C14: 藤沢市 | D14: 111 | E14: 505 | F14: 561
A15: 14 | B15: 206 | C15: 小田原市 | D15: 462 | E15: 508 | F15: 2350
A16: 14 | B16: 207 | C16: 茅ヶ崎市 | D16: 43 | E16: 496 | F16: 213
A17: 14 | B17: 208 | C17: 逗子市 | D17: 0 | E17: 214 | F17: 0
A18: 14 | B18: 209 | C18: 相模原市 | D18: 101 | E18: 475 | F18: 480
A19: 14 | B19: 210 | C19: 三浦市 | D19: 4 | E19: 486 | F19: 19
A20: 14 | B20: 211 | C20: 秦野市 | D20: 101 | E20: 505 | F20: 510
... A37: 14 | B37: 382 | C37: 箱根町 | D37: 1 | E37: 455 | F37: 5
A38: 14 | B38: 383 | C38: 真鶴町 | D38: - | E38: - | F38: -
A39: 14 | B39: 384 | C39: 湯河原町 | D39: - | E39: - | F39: -
A40: 14 | B40: 401 | C40: 愛川町 | D40: 64 | E40: 483 | F40: 309
A41: 14 | B41: 402 | C41: 清川村 | D41: 2 | E41: 439 | F41: 9
A43: 利用上の注意
A44: １ この市町村別データは、「作物統計調査」を実施する上で把握した地域における標本調査及び現地見積りの結果、
A45: 関係機関からの情報等をもとに都道府県計値の内訳として市町村別に作成した加工統計であり、作成するうえで
A46: 精度を設定しているものではない。
A47: なお、「作物統計調査」は都道府県計値を求めるために設計されている。
A48: ２ 市町村間の出作・入作を考慮していない（属地統計）。
A49: ３ 数値については、四捨五入しており、都道府県計値と市町村別の内訳の計が一致しないことがある。

Sheet H21
A1: 農林水産関係市町村別データ
A2: 平成21年産
A3: 水稲
A4: 神奈川県
A5: 都道 | B5: 市町 | D5: 作付面積 | E5: 10a当たり | F5: 収穫量
A6: 府県 | B6: 村 | C6: 市町村名 | E6: 収量
A7: ｺｰﾄﾞ | B7: ｺｰﾄﾞ
D8: ha | E8: kg | F8: t
A9: 14 | B9: 100 | C9: 横浜市 | D9: 155 | E9: 466 | F9: 722
A10: 14 | B10: 130 | C10: 川崎市 | D10: 18 | E10: 441 | F10: 79
A11: 14 | B11: 201 | C11: 横須賀市 | D11: 8 | E11: 459 | F11: 37
A12: 14 | B12: 203 | C12: 平塚市 | D12: 566 | E12: 525 | F12: 2970
A13: 14 | B13: 204 | C13: 鎌倉市 | D13: 1 | E13: 432 | F13: 4
A14: 14 | B14: 205 | C14: 藤沢市 | D14: 110 | E14: 504 | F14: 554
A15: 14 | B15: 206 | C15: 小田原市 | D15: 458 | E15: 500 | F15: 2290
A16: 14 | B16: 207 | C16: 茅ヶ崎市 | D16: 43 | E16: 498 | F16: 214
A17: 14 | B17: 208 | C17: 逗子市 | D17: 0 | E17: 205 | F17: 0
A18: 14 | B18: 209 | C18: 相模原市 | D18: 101 | E18: 454 | F18: 459
A19: 14 | B19: 210 | C19: 三浦市 | D19: 4 | E19: 462 | F19: 18
A20: 14 | B20: 211 | C20: 秦野市 | D20: 99 | E20: 502 | F20: 497
... A37: 14 | B37: 382 | C37: 箱根町 | D37: 1 | E37: 453 | F37: 5
A38: 14 | B38: 383 | C38: 真鶴町 | D38: - | E38: - | F38: -
A39: 14 | B39: 384 | C39: 湯河原町 | D39: - | E39: - | F39: -
A40: 14 | B40: 401 | C40: 愛川町 | D40: 64 | E40: 462 | F40: 296
A41: 14 | B41: 402 | C41: 清川村 | D41: 2 | E41: 418 | F41: 8
A43: 利用上の注意
A44: １ この市町村別データは、「作物統計調査」を実施する上で把握した地域における標本調査及び現地見積りの結果、
A45: 関係機関からの情報等をもとに都道府県計値の内訳として市町村別に作成した加工統計であり、作成するうえで
A46: 精度を設定しているものではない。
A47: なお、「作物統計調査」は都道府県計値を求めるために設計されている。
A48: ２ 市町村間の出作・入作を考慮していない（属地統計）。
A49: ３ 数値については、四捨五入しており、都道府県計値と市町村別の内訳の計が一致しないことがある。

Sheet H22
A1: 農林水産関係市町村別統計
A2: 平成22年産
A3: 水稲
A4: 神奈川県
A5: 都道 | B5: 市町 | D5: 作付面積 | E5: 10a当たり | F5: 収穫量
A6: 府県 | B6: 村 | C6: 市町村名 | E6: 収量
A7: ｺｰﾄﾞ | B7: ｺｰﾄﾞ
D8: ha | E8: kg | F8: t
A9: 14 | B9: 100 | C9: 横浜市 | D9: 154 | E9: 457 | F9: 704
A10: 14 | B10: 130 | C10: 川崎市 | D10: 18 | E10: 433 | F10: 78
A11: 14 | B11: 150 | C11: 相模原市 | D11: 101 | E11: 448 | F11: 452
A12: 14 | B12: 201 | C12: 横須賀市 | D12: 8 | E12: 451 | F12: 36
A13: 14 | B13: 203 | C13: 平塚市 | D13: 565 | E13: 494 | F13: 2790
A14: 14 | B14: 204 | C14: 鎌倉市 | D14: 1 | E14: 420 | F14: 4
A15: 14 | B15: 205 | C15: 藤沢市 | D15: 110 | E15: 475 | F15: 523
A16: 14 | B16: 206 | C16: 小田原市 | D16: 458 | E16: 488 | F16: 2240
A17: 14 | B17: 207 | C17: 茅ヶ崎市 | D17: 43 | E17: 468 | F17: 201
A18: 14 | B18: 208 | C18: 逗子市 | D18: 0 | E18: 201 | F18: 0
A19: 14 | B19: 210 | C19: 三浦市 | D19: 4 | E19: 454 | F19: 18
A20: 14 | B20: 211 | C20: 秦野市 | D20: 98 | E20: 473 | F20: 464
... A37: 14 | B37: 382 | C37: 箱根町 | D37: 1 | E37: 427 | F37: 4
A38: 14 | B38: 383 | C38: 真鶴町 | D38: - | E38: - | F38: -
A39: 14 | B39: 384 | C39: 湯河原町 | D39: - | E39: - | F39: -
A40: 14 | B40: 401 | C40: 愛川町 | D40: 64 | E40: 456 | F40: 292
A41: 14 | B41: 402 | C41: 清川村 | D41: 2 | E41: 411 | F41: 8
A43: 利用上の注意
A44: １ この市町村別統計は、「作物統計調査」を実施する上で把握した地域における標本調査及び現地見積りの結果、
A45: 関係機関からの情報等を踏まえ、都道府県計値の内訳として市町村別に作成した加工統計であり、作成するうえで
A46: 精度を設定しているものではない。
A47: なお、「作物統計調査」は都道府県計値を求めるために設計されている。
A48: ２ 耕作者の市町村間の出作・入作を考慮していない（属地統計）。
A49: ３ 数値は四捨五入しており、市町村値の計が都道府県値と一致しないことがある。

Sheet H23
A1: 農林水産関係市町村別統計
A2: 平成23年産
A3: 水稲
A4: 神奈川県
A5: 都道 | B5: 市町 | D5: 作付面積 | E5: 10a当たり | F5: 収穫量
A6: 府県 | B6: 村 | C6: 市町村名 | E6: 収量
A7: ｺｰﾄﾞ | B7: ｺｰﾄﾞ
D8: ha | E8: kg | F8: t
A9: 14 | B9: 100 | C9: 横浜市 | D9: 152 | E9: 487 | F9: 740
A10: 14 | B10: 130 | C10: 川崎市 | D10: 18 | E10: 479 | F10: 86
A11: 14 | B11: 150 | C11: 相模原市 | D11: 101 | E11: 498 | F11: 503
A12: 14 | B12: 201 | C12: 横須賀市 | D12: 8 | E12: 501 | F12: 40
A13: 14 | B13: 203 | C13: 平塚市 | D13: 565 | E13: 526 | F13: 2970
A14: 14 | B14: 204 | C14: 鎌倉市 | D14: 1 | E14: 467 | F14: 5
A15: 14 | B15: 205 | C15: 藤沢市 | D15: 110 | E15: 495 | F15: 545
A16: 14 | B16: 206 | C16: 小田原市 | D16: 458 | E16: 504 | F16: 2310
A17: 14 | B17: 207 | C17: 茅ヶ崎市 | D17: 43 | E17: 498 | F17: 214
A18: 14 | B18: 208 | C18: 逗子市 | D18: 0 | E18: 219 | F18: 0
A19: 14 | B19: 210 | C19: 三浦市 | D19: 4 | E19: 504 | F19: 20
A20: 14 | B20: 211 | C20: 秦野市 | D20: 98 | E20: 493 | F20: 483
... A37: 14 | B37: 382 | C37: 箱根町 | D37: 1 | E37: 456 | F37: 5
A38: 14 | B38: 383 | C38: 真鶴町 | D38: - | E38: - | F38: -
A39: 14 | B39: 384 | C39: 湯河原町 | D39: - | E39: - | F39: -
A40: 14 | B40: 401 | C40: 愛川町 | D40: 64 | E40: 507 | F40: 324
A41: 14 | B41: 402 | C41: 清川村 | D41: 2 | E41: 457 | F41: 9
C43: 計 | D43: 3220 | E43: 511 | F43: 16500
A45: 利用上の注意
A46: １ この市町村別統計は、「作物統計調査」を実施する上で把握した地域における標本調査及び現地見積りの結果、
A47: 関係機関からの情報等を踏まえ、都道府県計値の内訳として市町村別に作成した加工統計であり、作成するうえで
A48: 精度を設定しているものではない。
A49: なお、「作物統計調査」は都道府県計値を求めるために設計されている。
A50: ２ 耕作者の市町村間の出作・入作を考慮していない（属地統計）。
A51: ３ 数値は四捨五入しており、市町村値の計が都道府県値と一致しないことがある。

Sheet H24
A1: 農林水産関係市町村別統計
A2: 平成24年産
A3: 水稲
A4: 神奈川県
A5: 都道 | B5: 市町 | D5: 作付面積 | E5: 10a当たり | F5: 収穫量
A6: 府県 | B6: 村 | C6: 市町村名 | E6: 収量
A7: ｺｰﾄﾞ | B7: ｺｰﾄﾞ
D8: ha | E8: kg | F8: t
A9: 14 | B9: 100 | C9: 横浜市 | D9: 151 | E9: 492 | F9: 743
A10: 14 | B10: 130 | C10: 川崎市 | D10: 18 | E10: 449 | F10: 81
A11: 14 | B11: 150 | C11: 相模原市 | D11: 101 | E11: 483 | F11: 488
A12: 14 | B12: 201 | C12: 横須賀市 | D12: 8 | E12: 469 | F12: 38
A13: 14 | B13: 203 | C13: 平塚市 | D13: 563 | E13: 492 | F13: 2770
A14: 14 | B14: 204 | C14: 鎌倉市 | D14: 1 | E14: 441 | F14: 4
A15: 14 | B15: 205 | C15: 藤沢市 | D15: 110 | E15: 497 | F15: 547
A16: 14 | B16: 206 | C16: 小田原市 | D16: 458 | E16: 480 | F16: 2200
A17: 14 | B17: 207 | C17: 茅ヶ崎市 | D17: 43 | E17: 492 | F17: 212
A18: 14 | B18: 208 | C18: 逗子市 | D18: 0 | E18: 209 | F18: 0
A19: 14 | B19: 210 | C19: 三浦市 | D19: 4 | E19: 484 | F19: 19
A20: 14 | B20: 211 | C20: 秦野市 | D20: 97 | E20: 495 | F20: 480
... A37: 14 | B37: 382 | C37: 箱根町 | D37: 1 | E37: 450 | F37: 5
A38: 14 | B38: 383 | C38: 真鶴町 | D38: - | E38: - | F38: -
A39: 14 | B39: 384 | C39: 湯河原町 | D39: - | E39: - | F39: -
A40: 14 | B40: 401 | C40: 愛川町 | D40: 64 | E40: 474 | F40: 303
A41: 14 | B41: 402 | C41: 清川村 | D41: 2 | E41: 427 | F41: 9
C43: 計 | D43: 3210 | E43: 493 | F43: 15800
A45: 利用上の注意
A46: １ この市町村別統計は、「作物統計調査」を実施する上で把握した地域における標本調査及び現地見積りの結果、
A47: 関係機関からの情報等を踏まえ、都道府県計値の内訳として市町村別に作成した加工統計であり、作成する上で
A48: 精度を設定しているものではない。
A49: なお、「作物統計調査」は都道府県計値を求めるために設計されている。
A50: ２ 耕作者の市町村間の出作・入作を考慮していない（属地統計）。
A51: ３ 数値は四捨五入しており、市町村値の計が都道府県値と一致しないことがある。

Sheet H25
A1: 農林水産関係市町村別統計
A2: 平成25年産
A3: 水稲
A4: 神奈川県
A5: 都道 | B5: 市町 | D5: 作付面積 | E5: 10a当たり | F5: 収穫量
A6: 府県 | B6: 村 | C6: 市町村名 | E6: 収量
A7: ｺｰﾄﾞ | B7: ｺｰﾄﾞ
D8: ha | E8: kg | F8: t
A9: 14 | B9: 100 | C9: 横浜市 | D9: 139 | E9: 501 | F9: 696
A10: 14 | B10: 130 | C10: 川崎市 | D10: 17 | E10: 467 | F10: 79
A11: 14 | B11: 150 | C11: 相模原市 | D11: 91 | E11: 475 | F11: 432
A12: 14 | B12: 201 | C12: 横須賀市 | D12: 7 | E12: 464 | F12: 32
A13: 14 | B13: 203 | C13: 平塚市 | D13: 557 | E13: 506 | F13: 2820
A14: 14 | B14: 204 | C14: 鎌倉市 | D14: 1 | E14: 437 | F14: 4
A15: 14 | B15: 205 | C15: 藤沢市 | D15: 108 | E15: 491 | F15: 530
A16: 14 | B16: 206 | C16: 小田原市 | D16: 458 | E16: 483 | F16: 2210
A17: 14 | B17: 207 | C17: 茅ヶ崎市 | D17: 39 | E17: 487 | F17: 190
A18: 14 | B18: 208 | C18: 逗子市 | D18: 0 | E18: 209 | F18: 0
A19: 14 | B19: 210 | C19: 三浦市 | D19: 4 | E19: 469 | F19: 19
A20: 14 | B20: 211 | C20: 秦野市 | D20: 91 | E20: 489 | F20: 445
... A37: 14 | B37: 382 | C37: 箱根町 | D37: 1 | E37: 445 | F37: 4
A38: 14 | B38: 383 | C38: 真鶴町 | D38: - | E38: - | F38: -
A39: 14 | B39: 384 | C39: 湯河原町 | D39: - | E39: - | F39: -
A40: 14 | B40: 401 | C40: 愛川町 | D40: 56 | E40: 478 | F40: 268
A41: 14 | B41: 402 | C41: 清川村 | D41: 2 | E41: 422 | F41: 8
C43: 計 | D43: 3150 | E43: 495 | F43: 15600
A45: 利用上の注意
A46: １ この市町村別統計は、「作物統計調査」を実施する上で把握した地域における標本調査及び現地見積りの結果、
A47: 関係機関からの情報等を踏まえ、都道府県計値の内訳として市町村別に作成した加工統計であり、作成するうえで
A48: 精度を設定しているものではない。
A49: なお、「作物統計調査」は都道府県計値を求めるために設計されている。
A50: ２ 耕作者の市町村間の出作・入作を考慮していない（属地統計）。
A51: ３ 数値は四捨五入しており、市町村値の計が都道府県値と一致しないことがある。

Sheet H26
A1: 農林水産関係市町村別統計
A2: 平成26年産
A3: 水稲
A4: 神奈川県
A5: 都道 | B5: 市町 | D5: 作付面積 | E5: 10a当たり | F5: 収穫量
A6: 府県 | B6: 村 | C6: 市町村名 | E6: 収量
A7: ｺｰﾄﾞ | B7: ｺｰﾄﾞ
D8: ha | E8: kg | F8: t
A9: 14 | B9: 100 | C9: 横浜市 | D9: 138 | E9: 502 | F9: 693
A10: 14 | B10: 130 | C10: 川崎市 | D10: 16 | E10: 476 | F10: 76
A11: 14 | B11: 150 | C11: 相模原市 | D11: 90 | E11: 481 | F11: 433
A12: 14 | B12: 201 | C12: 横須賀市 | D12: 7 | E12: 466 | F12: 33
A13: 14 | B13: 203 | C13: 平塚市 | D13: 560 | E13: 509 | F13: 2850
A14: 14 | B14: 204 | C14: 鎌倉市 | D14: 1 | E14: 436 | F14: 4
A15: 14 | B15: 205 | C15: 藤沢市 | D15: 108 | E15: 493 | F15: 532
A16: 14 | B16: 206 | C16: 小田原市 | D16: 455 | E16: 498 | F16: 2270
A17: 14 | B17: 207 | C17: 茅ヶ崎市 | D17: 39 | E17: 491 | F17: 191
A18: 14 | B18: 208 | C18: 逗子市 | D18: 0 | E18: 298 | F18: 0
A19: 14 | B19: 210 | C19: 三浦市 | D19: 4 | E19: 472 | F19: 19
A20: 14 | B20: 211 | C20: 秦野市 | D20: 91 | E20: 496 | F20: 451
... A37: 14 | B37: 382 | C37: 箱根町 | D37: 1 | E37: 447 | F37: 4
A38: 14 | B38: 383 | C38: 真鶴町 | D38: - | E38: - | F38: -
A39: 14 | B39: 384 | C39: 湯河原町 | D39: - | E39: - | F39: -
A40: 14 | B40: 401 | C40: 愛川町 | D40: 56 | E40: 470 | F40: 263
A41: 14 | B41: 402 | C41: 清川村 | D41: 2 | E41: 425 | F41: 9
C43: 計 | D43: 3140 | E43: 500 | F43: 15700
A45: 利用上の注意
A46: １ この市町村別統計は、「作物統計調査」を実施する上で把握した地域における標本調査及び現地見積りの結果、
A47: 関係機関からの情報等を踏まえ、都道府県計値の内訳として市町村別に作成した加工統計であり、作成する上で
A48: 精度を設定しているものではない。
A49: なお、「作物統計調査」は都道府県計値を求めるために設計されている。
A50: ２ 耕作者の市町村間の出作・入作を考慮していない（属地統計）。
A51: ３ 数値は四捨五入しており、市町村値の計が都道府県値と一致しないことがある。

Sheet H27
A1: 農林水産関係市町村別統計
A2: 平成27年産
A3: 水稲
A4: 神奈川県
A5: 都道 | B5: 市町 | D5: 作付面積 | E5: 10a当たり | F5: 収穫量
A6: 府県 | B6: 村 | C6: 市町村名 | E6: 収量
A7: ｺｰﾄﾞ | B7: ｺｰﾄﾞ
D8: ha | E8: kg | F8: t
A9: 14 | B9: 100 | C9: 横浜市 | D9: 137 | E9: 482 | F9: 660
A10: 14 | B10: 130 | C10: 川崎市 | D10: 16 | E10: 464 | F10: 74
A11: 14 | B11: 150 | C11: 相模原市 | D11: 89 | E11: 467 | F11: 416
A12: 14 | B12: 201 | C12: 横須賀市 | D12: 7 | E12: 450 | F12: 32
A13: 14 | B13: 203 | C13: 平塚市 | D13: 563 | E13: 493 | F13: 2780
A14: 14 | B14: 204 | C14: 鎌倉市 | D14: 1 | E14: 421 | F14: 4
A15: 14 | B15: 205 | C15: 藤沢市 | D15: 108 | E15: 481 | F15: 519
A16: 14 | B16: 206 | C16: 小田原市 | D16: 450 | E16: 482 | F16: 2170
A17: 14 | B17: 207 | C17: 茅ヶ崎市 | D17: 38 | E17: 473 | F17: 180
A18: 14 | B18: 208 | C18: 逗子市 | D18: 0 | E18: 203 | F18: 0
A19: 14 | B19: 210 | C19: 三浦市 | D19: 4 | E19: 457 | F19: 18
A20: 14 | B20: 211 | C20: 秦野市 | D20: 90 | E20: 485 | F20: 437
... A37: 14 | B37: 382 | C37: 箱根町 | D37: 1 | E37: 432 | F37: 4
A38: 14 | B38: 383 | C38: 真鶴町 | D38: - | E38: - | F38: -
A39: 14 | B39: 384 | C39: 湯河原町 | D39: - | E39: - | F39: -
A40: 14 | B40: 401 | C40: 愛川町 | D40: 56 | E40: 455 | F40: 255
A41: 14 | B41: 402 | C41: 清川村 | D41: 2 | E41: 409 | F41: 8
C43: 計 | D43: 3130 | E43: 485 | F43: 15200
A45: 利用上の注意
A46: １ この市町村別統計は、「作物統計調査」を実施する上で把握した地域における標本調査及び現地見積りの結果、
A47: 関係機関からの情報等を踏まえ、都道府県計値の内訳として市町村別に作成した加工統計であり、作成するうえで
A48: 精度を設定しているものではない。
A49: なお、「作物統計調査」は都道府県計値を求めるために設計されている。
A50: ２ 耕作者の市町村間の出作・入作を考慮していない（属地統計）。
A51: ３ 数値は四捨五入しており、市町村値の計が都道府県値と一致しないことがある。

Sheet H28
A1: 農林水産関係市町村別統計
A2: 平成28年産
A3: 水稲
A4: 神奈川県
A5: 都道 | B5: 市町 | D5: 作付面積 | E5: 10a当たり | F5: 収穫量
A6: 府県 | B6: 村 | C6: 市町村名 | E6: 収量
A7: ｺｰﾄﾞ | B7: ｺｰﾄﾞ
D8: ha | E8: kg | F8: t
A9: 14 | B9: 100 | C9: 横浜市 | D9: 136 | E9: 492 | F9: 669
A10: 14 | B10: 130 | C10: 川崎市 | D10: 16 | E10: 473 | F10: 76
A11: 14 | B11: 150 | C11: 相模原市 | D11: 87 | E11: 476 | F11: 414
A12: 14 | B12: 201 | C12: 横須賀市 | D12: 7 | E12: 462 | F12: 32
A13: 14 | B13: 203 | C13: 平塚市 | D13: 559 | E13: 505 | F13: 2820
A14: 14 | B14: 204 | C14: 鎌倉市 | D14: 1 | E14: 438 | F14: 4
A15: 14 | B15: 205 | C15: 藤沢市 | D15: 108 | E15: 491 | F15: 530
A16: 14 | B16: 206 | C16: 小田原市 | D16: 449 | E16: 489 | F16: 2200
A17: 14 | B17: 207 | C17: 茅ヶ崎市 | D17: 38 | E17: 488 | F17: 185
A18: 14 | B18: 208 | C18: 逗子市 | D18: 0 | E18: 209 | F18: 0
A19: 14 | B19: 210 | C19: 三浦市 | D19: 4 | E19: 469 | F19: 19
A20: 14 | B20: 211 | C20: 秦野市 | D20: 89 | E20: 492 | F20: 438
... A36: 14 | B36: 366 | C36: 開成町 | D36: 126 | E36: 507 | F36: 639
A37: 14 | B37: 382 | C37: 箱根町 | D37: - | E37: - | F37: -
A38: 14 | B38: 383 | C38: 真鶴町 | D38: - | E38: - | F38: -
A39: 14 | B39: 384 | C39: 湯河原町 | D39: - | E39: - | F39: -
A40: 14 | B40: 401 | C40: 愛川町 | D40: 54 | E40: 468 | F40: 253
A41: 14 | B41: 402 | C41: 清川村 | D41: 2 | E41: 421 | F41: 8
C43: 計 | D43: 3120 | E43: 495 | F43: 15400
A45: 利用上の注意
A46: １ この市町村別統計は、「作物統計調査」を実施する上で把握した地域における標本調査及び現地見積りの結果、
A47: 関係機関からの情報等を踏まえ、都道府県計値の内訳として市町村別に作成した加工統計であり、作成するうえで
A48: 精度を設定しているものではない。
A49: なお、「作物統計調査」は都道府県計値を求めるために設計されている。
A50: ２ 耕作者の市町村間の出作・入作を考慮していない（属地統計）。
A51: ３ 数値は四捨五入しており、市町村値の計が都道府県値と一致しないことがある。

Sheet H29
A1: 農林水産関係市町村別統計
A2: 平成29年産
A3: 水稲
A4: 神奈川県
A5: 都道 | B5: 市町 | D5: 作付面積 | E5: 10a当たり | F5: 収穫量
A6: 府県 | B6: 村 | C6: 市町村名 | E6: 収量
A7: ｺｰﾄﾞ | B7: ｺｰﾄﾞ
D8: ha | E8: kg | F8: t
A9: 14 | B9: 100 | C9: 横浜市 | D9: 134 | E9: 505 | F9: 677
A10: 14 | B10: 130 | C10: 川崎市 | D10: 16 | E10: 479 | F10: 77
A11: 14 | B11: 150 | C11: 相模原市 | D11: 86 | E11: 489 | F11: 421
A12: 14 | B12: 201 | C12: 横須賀市 | D12: 7 | E12: 475 | F12: 33
A13: 14 | B13: 203 | C13: 平塚市 | D13: 553 | E13: 527 | F13: 2910
A14: 14 | B14: 204 | C14: 鎌倉市 | D14: 1 | E14: 447 | F14: 4
A15: 14 | B15: 205 | C15: 藤沢市 | D15: 108 | E15: 504 | F15: 544
A16: 14 | B16: 206 | C16: 小田原市 | D16: 445 | E16: 497 | F16: 2210
A17: 14 | B17: 207 | C17: 茅ヶ崎市 | D17: 38 | E17: 500 | F17: 190
A18: 14 | B18: 208 | C18: 逗子市 | D18: x | E18: x | F18: x
A19: 14 | B19: 210 | C19: 三浦市 | D19: 4 | E19: 483 | F19: 19
A20: 14 | B20: 211 | C20: 秦野市 | D20: 88 | E20: 505 | F20: 444
A21: 14 | B21: 212 | C21: 厚木市 | D21: 439 | E21: 517 | F21: 2270
A22: 14 | B22: 213 | C22: 大和市 | D22: 9 | E22: 499 | F22: 45
A23: 14 | B23: 214 | C23: 伊勢原市 | D23: 346 | E23: 504 | F23: 1740
A24: 14 | B24: 215 | C24: 海老名市 | D24: 218 | E24: 515 | F24: 1120
A25: 14 | B25: 216 | C25: 座間市 | D25: 82 | E25: 492 | F25: 403
A26: 14 | B26: 217 | C26: 南足柄市 | D26: 119 | E26: 516 | F26: 614
A27: 14 | B27: 218 | C27: 綾瀬市 | D27: 12 | E27: 500 | F27: 60
A28: 14 | B28: 301 | C28: 葉山町 | D28: 3 | E28: 454 | F28: 14
A29: 14 | B29: 321 | C29: 寒川町 | D29: 58 | E29: 498 | F29: 289
A30: 14 | B30: 341 | C30: 大磯町 | D30: 14 | E30: 484 | F30: 68
A31: 14 | B31: 342 | C31: 二宮町 | D31: x | E31: x | F31: x
A32: 14 | B32: 361 | C32: 中井町 | D32: 18 | E32: 491 | F32: 88
A33: 14 | B33: 362 | C33: 大井町 | D33: 83 | E33: 505 | F33: 419
A34: 14 | B34: 363 | C34: 松田町 | D34: 7 | E34: 473 | F34: 33
A35: 14 | B35: 364 | C35: 山北町 | D35: 24 | E35: 491 | F35: 118
A36: 14 | B36: 366 | C36: 開成町 | D36: 124 | E36: 519 | F36: 644
A37: 14 | B37: 382 | C37: 箱根町 | D37: - | E37: - | F37: -
A38: 14 | B38: 383 | C38: 真鶴町 | D38: - | E38: - | F38: -
A39: 14 | B39: 384 | C39: 湯河原町 | D39: - | E39: - | F39: -
A40: 14 | B40: 401 | C40: 愛川町 | D40: 54 | E40: 488 | F40: 264
A41: 14 | B41: 402 | C41: 清川村 | D41: 2 | E41: 433 | F41: 9
C43: 計 | D43: 3090 | E43: 509 | F43: 15700
A45: 利用上の注意
A46: １ この市町村別統計は、「作物統計調査」を実施する上で把握した地域における標本調査及び現地見積りの結果、
A47: 関係機関からの情報等を踏まえ、都道府県計値の内訳として市町村別に作成した加工統計であり、作成するうえで
A48: 精度を設定しているものではない。
A49: なお、「作物統計調査」は都道府県計値を求めるために設計されている。
A50: ２ 耕作者の市町村間の出作・入作を考慮していない（属地統計）。
A51: ３ 数値は四捨五入しており、市町村値の計が都道府県値と一致しないことがある。

Sheet H30
A1: 農林水産関係市町村別統計
A2: 平成30年産
A3: 水稲
A4: 神奈川県
A5: 都道 | B5: 市町 | D5: 作付面積 | E5: 10a当たり | F5: 収穫量
A6: 府県 | B6: 村 | C6: 市町村名 | E6: 収量
A7: ｺｰﾄﾞ | B7: ｺｰﾄﾞ
D8: ha | E8: kg | F8: t
A9: 14 | B9: 100 | C9: 横浜市 | D9: 130 | E9: 489 | F9: 636
A10: 14 | B10: 130 | C10: 川崎市 | D10: 16 | E10: 466 | F10: 75
A11: 14 | B11: 150 | C11: 相模原市 | D11: 85 | E11: 475 | F11: 404
A12: 14 | B12: 201 | C12: 横須賀市 | D12: 7 | E12: 461 | F12: 32
A13: 14 | B13: 203 | C13: 平塚市 | D13: 557 | E13: 502 | F13: 2800
A14: 14 | B14: 204 | C14: 鎌倉市 | D14: 1 | E14: 434 | F14: 4
A15: 14 | B15: 205 | C15: 藤沢市 | D15: 107 | E15: 487 | F15: 521
A16: 14 | B16: 206 | C16: 小田原市 | D16: 441 | E16: 484 | F16: 2130
A17: 14 | B17: 207 | C17: 茅ヶ崎市 | D17: 38 | E17: 485 | F17: 184
A18: 14 | B18: 208 | C18: 逗子市 | D18: x | E18: x | F18: x
A19: 14 | B19: 210 | C19: 三浦市 | D19: 4 | E19: 469 | F19: 19
A20: 14 | B20: 211 | C20: 秦野市 | D20: 88 | E20: 487 | F20: 429
A21: 14 | B21: 212 | C21: 厚木市 | D21: 438 | E21: 501 | F21: 2190
A22: 14 | B22: 213 | C22: 大和市 | D22: 9 | E22: 484 | F22: 44
A23: 14 | B23: 214 | C23: 伊勢原市 | D23: 346 | E23: 489 | F23: 1690
A24: 14 | B24: 215 | C24: 海老名市 | D24: 217 | E24: 502 | F24: 1090
A25: 14 | B25: 216 | C25: 座間市 | D25: 82 | E25: 478 | F25: 392
A26: 14 | B26: 217 | C26: 南足柄市 | D26: 119 | E26: 500 | F26: 595
A27: 14 | B27: 218 | C27: 綾瀬市 | D27: 11 | E27: 486 | F27: 53
A28: 14 | B28: 301 | C28: 葉山町 | D28: 3 | E28: 441 | F28: 13
A29: 14 | B29: 321 | C29: 寒川町 | D29: 57 | E29: 483 | F29: 275
A30: 14 | B30: 341 | C30: 大磯町 | D30: 14 | E30: 470 | F30: 66
A31: 14 | B31: 342 | C31: 二宮町 | D31: x | E31: x | F31: x
A32: 14 | B32: 361 | C32: 中井町 | D32: 18 | E32: 474 | F32: 85
A33: 14 | B33: 362 | C33: 大井町 | D33: 83 | E33: 490 | F33: 407
A34: 14 | B34: 363 | C34: 松田町 | D34: 7 | E34: 459 | F34: 32
A35: 14 | B35: 364 | C35: 山北町 | D35: 24 | E35: 476 | F35: 114
A36: 14 | B36: 366 | C36: 開成町 | D36: 124 | E36: 504 | F36: 625
A37: 14 | B37: 382 | C37: 箱根町 | D37: - | E37: - | F37: -
A38: 14 | B38: 383 | C38: 真鶴町 | D38: - | E38: - | F38: -
A39: 14 | B39: 384 | C39: 湯河原町 | D39: - | E39: - | F39: -
A40: 14 | B40: 401 | C40: 愛川町 | D40: 53 | E40: 470 | F40: 249
A41: 14 | B41: 402 | C41: 清川村 | D41: 2 | E41: 420 | F41: 8
C43: 計 | D43: 3080 | E43: 492 | F43: 15200
A45: 利用上の注意
A46: １ この市町村別統計は、「作物統計調査」を実施する上で把握した地域における標本調査及び現地見積りの結果、
A47: 関係機関からの情報等を踏まえ、都道府県計値の内訳として市町村別に作成した加工統計であり、作成するうえで
A48: 精度を設定しているものではない。
A49: なお、「作物統計調査」は都道府県計値を求めるために設計されている。
A50: ２ 耕作者の市町村間の出作・入作を考慮していない（属地統計）。
A51: ３ 数値は四捨五入しており、市町村値の計が都道府県値と一致しないことがある。

Sheet R1
A1: 農林水産関係市町村別統計
A2: 令和元年産
A3: 水稲
A4: 神奈川県
A5: 都道 | B5: 市町 | D5: 作付面積 | E5: 10a当たり | F5: 収穫量
A6: 府県 | B6: 村 | C6: 市町村名 | E6: 収量
A7: ｺｰﾄﾞ | B7: ｺｰﾄﾞ
D8: ha | E8: kg | F8: t
A9: 14 | B9: 100 | C9: 横浜市 | D9: 127 | E9: 470 | F9: 597
A10: 14 | B10: 130 | C10: 川崎市 | D10: 15 | E10: 445 | F10: 67
A11: 14 | B11: 150 | C11: 相模原市 | D11: 84 | E11: 454 | F11: 381
A12: 14 | B12: 201 | C12: 横須賀市 | D12: 7 | E12: 440 | F12: 31
A13: 14 | B13: 203 | C13: 平塚市 | D13: 557 | E13: 477 | F13: 2660
A14: 14 | B14: 204 | C14: 鎌倉市 | D14: 1 | E14: 415 | F14: 4
A15: 14 | B15: 205 | C15: 藤沢市 | D15: 106 | E15: 467 | F15: 495
A16: 14 | B16: 206 | C16: 小田原市 | D16: 428 | E16: 462 | F16: 1980
A17: 14 | B17: 207 | C17: 茅ヶ崎市 | D17: 38 | E17: 464 | F17: 176
A18: 14 | B18: 208 | C18: 逗子市 | D18: x | E18: x | F18: x
A19: 14 | B19: 210 | C19: 三浦市 | D19: 4 | E19: 448 | F19: 18
A20: 14 | B20: 211 | C20: 秦野市 | D20: 88 | E20: 467 | F20: 411
A21: 14 | B21: 212 | C21: 厚木市 | D21: 432 | E21: 478 | F21: 2070
A22: 14 | B22: 213 | C22: 大和市 | D22: 9 | E22: 462 | F22: 42
A23: 14 | B23: 214 | C23: 伊勢原市 | D23: 342 | E23: 467 | F23: 1600
A24: 14 | B24: 215 | C24: 海老名市 | D24: 215 | E24: 479 | F24: 1030
A25: 14 | B25: 216 | C25: 座間市 | D25: 80 | E25: 456 | F25: 365
A26: 14 | B26: 217 | C26: 南足柄市 | D26: 119 | E26: 478 | F26: 569
A27: 14 | B27: 218 | C27: 綾瀬市 | D27: 11 | E27: 465 | F27: 51
A28: 14 | B28: 301 | C28: 葉山町 | D28: 3 | E28: 421 | F28: 13
A29: 14 | B29: 321 | C29: 寒川町 | D29: 57 | E29: 462 | F29: 263
A30: 14 | B30: 341 | C30: 大磯町 | D30: 13 | E30: 450 | F30: 59
A31: 14 | B31: 342 | C31: 二宮町 | D31: x | E31: x | F31: x
A32: 14 | B32: 361 | C32: 中井町 | D32: 17 | E32: 455 | F32: 77
A33: 14 | B33: 362 | C33: 大井町 | D33: 81 | E33: 468 | F33: 379
A34: 14 | B34: 363 | C34: 松田町 | D34: 6 | E34: 438 | F34: 26
A35: 14 | B35: 364 | C35: 山北町 | D35: 23 | E35: 456 | F35: 105
A36: 14 | B36: 366 | C36: 開成町 | D36: 122 | E36: 481 | F36: 587
A37: 14 | B37: 382 | C37: 箱根町 | D37: - | E37: - | F37: -
A38: 14 | B38: 383 | C38: 真鶴町 | D38: - | E38: - | F38: -
A39: 14 | B39: 384 | C39: 湯河原町 | D39: - | E39: - | F39: -
A40: 14 | B40: 401 | C40: 愛川町 | D40: 52 | E40: 448 | F40: 233
A41: 14 | B41: 402 | C41: 清川村 | D41: 2 | E41: 401 | F41: 8
C43: 計 | D43: 3040 | E43: 470 | F43: 14300
A45: 利用上の注意
A46: １ この市町村別統計は、「作物統計調査」を実施する上で把握した地域における標本調査及び現地見積りの結果、
A47: 関係機関からの情報等を踏まえ、都道府県計値の内訳として市町村別に作成した加工統計であり、作成するうえで
A48: 精度を設定しているものではない。
A49: なお、「作物統計調査」は都道府県計値を求めるために設計されている。
A50: ２ 耕作者の市町村間の出作・入作を考慮していない（属地統計）。
A51: ３ 数値は四捨五入しており、市町村値の計が都道府県値と一致しないことがある。

Sheet R2
A1: 農林水産関係市町村別統計
A2: 令和2年産
A3: 水稲
A4: 神奈川県
A5: 都道 | B5: 市町 | D5: 作付面積 | E5: 10a当たり | F5: 収穫量
A6: 府県 | B6: 村 | C6: 市町村名 | E6: 収量
A7: ｺｰﾄﾞ | B7: ｺｰﾄﾞ
D8: ha | E8: kg | F8: t
A9: 14 | B9: 100 | C9: 横浜市 | D9: 122 | E9: 473 | F9: 577
A10: 14 | B10: 130 | C10: 川崎市 | D10: 14 | E10: 450 | F10: 63
A11: 14 | B11: 150 | C11: 相模原市 | D11: 80 | E11: 456 | F11: 365
A12: 14 | B12: 201 | C12: 横須賀市 | D12: 6 | E12: 443 | F12: 27
A13: 14 | B13: 203 | C13: 平塚市 | D13: 550 | E13: 483 | F13: 2660
A14: 14 | B14: 204 | C14: 鎌倉市 | D14: 1 | E14: 416 | F14: 4
A15: 14 | B15: 205 | C15: 藤沢市 | D15: 104 | E15: 469 | F15: 488
A16: 14 | B16: 206 | C16: 小田原市 | D16: 422 | E16: 468 | F16: 1980
A17: 14 | B17: 207 | C17: 茅ヶ崎市 | D17: 38 | E17: 466 | F17: 177
A18: 14 | B18: 208 | C18: 逗子市 | D18: x | E18: x | F18: x
A19: 14 | B19: 210 | C19: 三浦市 | D19: 4 | E19: 448 | F19: 18
A20: 14 | B20: 211 | C20: 秦野市 | D20: 86 | E20: 470 | F20: 404
A21: 14 | B21: 212 | C21: 厚木市 | D21: 426 | E21: 480 | F21: 2050
A22: 14 | B22: 213 | C22: 大和市 | D22: 9 | E22: 464 | F22: 42
A23: 14 | B23: 214 | C23: 伊勢原市 | D23: 339 | E23: 471 | F23: 1600
A24: 14 | B24: 215 | C24: 海老名市 | D24: 211 | E24: 483 | F24: 1020
A25: 14 | B25: 216 | C25: 座間市 | D25: 79 | E25: 460 | F25: 363
A26: 14 | B26: 217 | C26: 南足柄市 | D26: 118 | E26: 481 | F26: 568
A27: 14 | B27: 218 | C27: 綾瀬市 | D27: 11 | E27: 465 | F27: 51
A28: 14 | B28: 301 | C28: 葉山町 | D28: 3 | E28: 422 | F28: 13
A29: 14 | B29: 321 | C29: 寒川町 | D29: 56 | E29: 464 | F29: 260
A30: 14 | B30: 341 | C30: 大磯町 | D30: 13 | E30: 451 | F30: 59
A31: 14 | B31: 342 | C31: 二宮町 | D31: x | E31: x | F31: x
A32: 14 | B32: 361 | C32: 中井町 | D32: 16 | E32: 460 | F32: 74
A33: 14 | B33: 362 | C33: 大井町 | D33: 79 | E33: 470 | F33: 371
A34: 14 | B34: 363 | C34: 松田町 | D34: 5 | E34: 441 | F34: 22
A35: 14 | B35: 364 | C35: 山北町 | D35: 21 | E35: 458 | F35: 96
A36: 14 | B36: 366 | C36: 開成町 | D36: 120 | E36: 483 | F36: 580
A37: 14 | B37: 382 | C37: 箱根町 | D37: - | E37: - | F37: -
A38: 14 | B38: 383 | C38: 真鶴町 | D38: - | E38: - | F38: -
A39: 14 | B39: 384 | C39: 湯河原町 | D39: - | E39: - | F39: -
A40: 14 | B40: 401 | C40: 愛川町 | D40: 51 | E40: 449 | F40: 229
A41: 14 | B41: 402 | C41: 清川村 | D41: 2 | E41: 402 | F41: 8
C43: 計 | D43: 2990 | E43: 474 | F43: 14200
A45: 利用上の注意
A46: １ この市町村別統計は、「作物統計調査」を実施する上で把握した地域における標本調査及び現地見積りの結果、
A47: 関係機関からの情報等を踏まえ、都道府県計値の内訳として市町村別に作成した加工統計であり、作成するうえで
A48: 精度を設定しているものではない。
A49: なお、「作物統計調査」は都道府県計値を求めるために設計されている。
A50: ２ 耕作者の市町村間の出作・入作を考慮していない（属地統計）。
A51: ３ 数値は四捨五入しており、市町村値の計が都道府県値と一致しないことがある。

Sheet R3
A1: 農林水産関係市町村別統計
A2: 令和3年産
A3: 水稲
A4: 神奈川県
A5: 都道 | B5: 市町 | C5: 市町村名 | D5: 作付面積 | E5: 10a当たり | F5: 収穫量
A6: 府県 | B6: 村 | E6: 収量
A7: ｺｰﾄﾞ | B7: ｺｰﾄﾞ
D8: ha | E8: kg | F8: t
A9: 14 | B9: 100 | C9: 横浜市 | D9: 119 | E9: 491 | F9: 584
A10: 14 | B10: 130 | C10: 川崎市 | D10: 14 | E10: 469 | F10: 66
A11: 14 | B11: 150 | C11: 相模原市 | D11: 80 | E11: 474 | F11: 379
A12: 14 | B12: 201 | C12: 横須賀市 | D12: 5 | E12: 459 | F12: 23
A13: 14 | B13: 203 | C13: 平塚市 | D13: 542 | E13: 501 | F13: 2720
A14: 14 | B14: 204 | C14: 鎌倉市 | D14: 1 | E14: 431 | F14: 4
A15: 14 | B15: 205 | C15: 藤沢市 | D15: 104 | E15: 487 | F15: 506
A16: 14 | B16: 206 | C16: 小田原市 | D16: 411 | E16: 487 | F16: 2000
A17: 14 | B17: 207 | C17: 茅ヶ崎市 | D17: 37 | E17: 484 | F17: 179
A18: 14 | B18: 208 | C18: 逗子市 | D18: x | E18: x | F18: x
A19: 14 | B19: 210 | C19: 三浦市 | D19: 3 | E19: 466 | F19: 14
A20: 14 | B20: 211 | C20: 秦野市 | D20: 82 | E20: 489 | F20: 401
A21: 14 | B21: 212 | C21: 厚木市 | D21: 414 | E21: 499 | F21: 2070
A22: 14 | B22: 213 | C22: 大和市 | D22: 8 | E22: 483 | F22: 39
A23: 14 | B23: 214 | C23: 伊勢原市 | D23: 335 | E23: 491 | F23: 1650
A24: 14 | B24: 215 | C24: 海老名市 | D24: 204 | E24: 499 | F24: 1020
A25: 14 | B25: 216 | C25: 座間市 | D25: 79 | E25: 477 | F25: 377
A26: 14 | B26: 217 | C26: 南足柄市 | D26: 116 | E26: 500 | F26: 580
A27: 14 | B27: 218 | C27: 綾瀬市 | D27: 11 | E27: 483 | F27: 53
A28: 14 | B28: 301 | C28: 葉山町 | D28: 3 | E28: 438 | F28: 13
A29: 14 | B29: 321 | C29: 寒川町 | D29: 55 | E29: 482 | F29: 265
A30: 14 | B30: 341 | C30: 大磯町 | D30: 12 | E30: 468 | F30: 56
A31: 14 | B31: 342 | C31: 二宮町 | D31: x | E31: x | F31: x
A32: 14 | B32: 361 | C32: 中井町 | D32: 15 | E32: 477 | F32: 72
A33: 14 | B33: 362 | C33: 大井町 | D33: 73 | E33: 488 | F33: 356
A34: 14 | B34: 363 | C34: 松田町 | D34: 4 | E34: 458 | F34: 18
A35: 14 | B35: 364 | C35: 山北町 | D35: 19 | E35: 475 | F35: 90
A36: 14 | B36: 366 | C36: 開成町 | D36: 118 | E36: 502 | F36: 592
A37: 14 | B37: 382 | C37: 箱根町 | D37: - | E37: - | F37: -
A38: 14 | B38: 383 | C38: 真鶴町 | D38: - | E38: - | F38: -
A39: 14 | B39: 384 | C39: 湯河原町 | D39: - | E39: - | F39: -
A40: 14 | B40: 401 | C40: 愛川町 | D40: 50 | E40: 465 | F40: 233
A41: 14 | B41: 402 | C41: 清川村 | D41: 2 | E41: 417 | F41: 8
C43: 計 | D43: 2920 | E43: 492 | F43: 14400
A45: 利用上の注意
A46: １ この市町村別統計は、「作物統計調査」を実施する上で把握した地域における標本調査、現地見積りの結果、関係機関
A47: からの情報等を踏まえ、都道府県計値の内訳として市町村別に配分することにより作成した加工統計であり、市町村別の
A48: 値を目的として設計された調査に基づいて直接得られたものではない。
A49: なお、「作物統計調査」は、都道府県計値を求めるために目標精度を設定し、調査の設計がされている。
A50: ２ 面積、収穫量ともに耕地の存在する市町村に計上しており（属地統計）、耕作者の市町村間の出作・入作を考慮していない。
A51: ３ 数値は四捨五入しており、市町村値の計が都道府県値と一致しないことがある。

Sheet R4
A1: 農林水産関係市町村別統計
A2: 令和4年産
A3: 水稲
A4: 神奈川県
A5: 都道 | B5: 市町 | C5: 市町村名 | D5: 作付面積 | E5: 10a当たり | F5: 収穫量
A6: 府県 | B6: 村 | E6: 収量
A7: ｺｰﾄﾞ | B7: ｺｰﾄﾞ
D8: ha | E8: kg | F8: t
A9: 14 | B9: 100 | C9: 横浜市 | D9: 119 | E9: 498 | F9: 593
A10: 14 | B10: 130 | C10: 川崎市 | D10: 14 | E10: 477 | F10: 67
A11: 14 | B11: 150 | C11: 相模原市 | D11: 80 | E11: 483 | F11: 386
A12: 14 | B12: 201 | C12: 横須賀市 | D12: 3 | E12: 468 | F12: 14
A13: 14 | B13: 203 | C13: 平塚市 | D13: 541 | E13: 510 | F13: 2760
A14: 14 | B14: 204 | C14: 鎌倉市 | D14: 1 | E14: 439 | F14: 4
A15: 14 | B15: 205 | C15: 藤沢市 | D15: 103 | E15: 496 | F15: 511
A16: 14 | B16: 206 | C16: 小田原市 | D16: 405 | E16: 495 | F16: 2010
A17: 14 | B17: 207 | C17: 茅ヶ崎市 | D17: 37 | E17: 492 | F17: 182
A18: 14 | B18: 208 | C18: 逗子市 | D18: x | E18: x | F18: x
A19: 14 | B19: 210 | C19: 三浦市 | D19: 3 | E19: 475 | F19: 14
A20: 14 | B20: 211 | C20: 秦野市 | D20: 80 | E20: 498 | F20: 398
A21: 14 | B21: 212 | C21: 厚木市 | D21: 398 | E21: 509 | F21: 2030
A22: 14 | B22: 213 | C22: 大和市 | D22: 6 | E22: 491 | F22: 29
A23: 14 | B23: 214 | C23: 伊勢原市 | D23: 331 | E23: 500 | F23: 1660
A24: 14 | B24: 215 | C24: 海老名市 | D24: 202 | E24: 506 | F24: 1020
A25: 14 | B25: 216 | C25: 座間市 | D25: 79 | E25: 485 | F25: 383
A26: 14 | B26: 217 | C26: 南足柄市 | D26: 116 | E26: 508 | F26: 589
A27: 14 | B27: 218 | C27: 綾瀬市 | D27: 11 | E27: 491 | F27: 54
A28: 14 | B28: 301 | C28: 葉山町 | D28: 3 | E28: 445 | F28: 13
A29: 14 | B29: 321 | C29: 寒川町 | D29: 55 | E29: 490 | F29: 270
A30: 14 | B30: 341 | C30: 大磯町 | D30: 12 | E30: 477 | F30: 57
A31: 14 | B31: 342 | C31: 二宮町 | D31: x | E31: x | F31: x
A32: 14 | B32: 361 | C32: 中井町 | D32: 15 | E32: 486 | F32: 73
A33: 14 | B33: 362 | C33: 大井町 | D33: 72 | E33: 497 | F33: 358
A34: 14 | B34: 363 | C34: 松田町 | D34: 4 | E34: 467 | F34: 19
A35: 14 | B35: 364 | C35: 山北町 | D35: 19 | E35: 483 | F35: 92
A36: 14 | B36: 366 | C36: 開成町 | D36: 116 | E36: 511 | F36: 593
A37: 14 | B37: 382 | C37: 箱根町 | D37: - | E37: - | F37: -
A38: 14 | B38: 383 | C38: 真鶴町 | D38: - | E38: - | F38: -
A39: 14 | B39: 384 | C39: 湯河原町 | D39: - | E39: - | F39: -
A40: 14 | B40: 401 | C40: 愛川町 | D40: 48 | E40: 474 | F40: 228
A41: 14 | B41: 402 | C41: 清川村 | D41: 2 | E41: 425 | F41: 9
C43: 計 | D43: 2880 | E43: 501 | F43: 14400
A45: 利用上の注意
A46: １ この市町村別統計は、「作物統計調査」を実施する上で把握した地域における標本調査、現地見積りの結果、関係機関
A47: からの情報等を踏まえ、都道府県計値の内訳として市町村別に配分することにより作成した加工統計であり、市町村別の
A48: 値を目的として設計された調査に基づいて直接得られたものではない。
A49: なお、「作物統計調査」は、都道府県計値を求めるために目標精度を設定し、調査の設計がされている。
A50: ２ 面積、収穫量ともに耕地の存在する市町村に計上しており（属地統計）、耕作者の市町村間の出作・入作を考慮していない。
A51: ３ 数値は四捨五入しており、市町村値の計が都道府県値と一致しないことがある。

Sheet R5
A1: 農林水産関係市町村別統計
A2: 令和5年産
A3: 水稲
A4: 神奈川県
A5: 都道府県ｺｰﾄﾞ | B5: 市町村 ｺｰﾄﾞ | C5: 市町村名 | D5: 作付面積 | E5: 10a当たり 収量 | F5: 収穫量
D8: ha | E8: kg | F8: t
A9: 14 | B9: 100 | C9: 横浜市 | D9: 119 | E9: 497 | F9: 591
A10: 14 | B10: 130 | C10: 川崎市 | D10: 13 | E10: 475 | F10: 62
A11: 14 | B11: 150 | C11: 相模原市 | D11: 80 | E11: 481 | F11: 385
A12: 14 | B12: 201 | C12: 横須賀市 | D12: 3 | E12: 467 | F12: 14
A13: 14 | B13: 203 | C13: 平塚市 | D13: 539 | E13: 508 | F13: 2740
A14: 14 | B14: 204 | C14: 鎌倉市 | D14: 1 | E14: 439 | F14: 4
A15: 14 | B15: 205 | C15: 藤沢市 | D15: 103 | E15: 494 | F15: 509
A16: 14 | B16: 206 | C16: 小田原市 | D16: 401 | E16: 493 | F16: 1980
A17: 14 | B17: 207 | C17: 茅ヶ崎市 | D17: 37 | E17: 491 | F17: 182
A18: 14 | B18: 208 | C18: 逗子市 | D18: x | E18: x | F18: x
A19: 14 | B19: 210 | C19: 三浦市 | D19: 3 | E19: 473 | F19: 14
A20: 14 | B20: 211 | C20: 秦野市 | D20: 80 | E20: 495 | F20: 396
A21: 14 | B21: 212 | C21: 厚木市 | D21: 394 | E21: 507 | F21: 2000
A22: 14 | B22: 213 | C22: 大和市 | D22: 5 | E22: 489 | F22: 24
A23: 14 | B23: 214 | C23: 伊勢原市 | D23: 328 | E23: 497 | F23: 1630
A24: 14 | B24: 215 | C24: 海老名市 | D24: 200 | E24: 506 | F24: 1010
A25: 14 | B25: 216 | C25: 座間市 | D25: 78 | E25: 483 | F25: 377
A26: 14 | B26: 217 | C26: 南足柄市 | D26: 116 | E26: 506 | F26: 587
A27: 14 | B27: 218 | C27: 綾瀬市 | D27: 10 | E27: 490 | F27: 49
A28: 14 | B28: 301 | C28: 葉山町 | D28: 3 | E28: 444 | F28: 13
A29: 14 | B29: 321 | C29: 寒川町 | D29: 55 | E29: 489 | F29: 269
A30: 14 | B30: 341 | C30: 大磯町 | D30: 12 | E30: 476 | F30: 57
A31: 14 | B31: 342 | C31: 二宮町 | D31: x | E31: x | F31: x
A32: 14 | B32: 361 | C32: 中井町 | D32: 15 | E32: 483 | F32: 72
A33: 14 | B33: 362 | C33: 大井町 | D33: 71 | E33: 496 | F33: 352
A34: 14 | B34: 363 | C34: 松田町 | D34: 4 | E34: 465 | F34: 19
A35: 14 | B35: 364 | C35: 山北町 | D35: 19 | E35: 482 | F35: 92
A36: 14 | B36: 366 | C36: 開成町 | D36: 114 | E36: 509 | F36: 580
A37: 14 | B37: 382 | C37: 箱根町 | D37: - | E37: - | F37: -
A38: 14 | B38: 383 | C38: 真鶴町 | D38: - | E38: - | F38: -
A39: 14 | B39: 384 | C39: 湯河原町 | D39: - | E39: - | F39: -
A40: 14 | B40: 401 | C40: 愛川町 | D40: 48 | E40: 473 | F40: 227
A41: 14 | B41: 402 | C41: 清川村 | D41: 2 | E41: 423 | F41: 8
C43: 計 | D43: 2850 | E43: 499 | F43: 14200
A45: 利用上の注意
A46: １ この市町村別統計は、「作物統計調査」を実施する上で把握した地域における標本調査及び現地見積りの結果、関係機関
A47: からの情報等を踏まえ、都道府県計値の内訳として市町村別に配分することにより作成した加工統計であり、市町村別の値
A48: を目的として設計された調査に基づいて直接得られたものではない。
A49: なお、「作物統計調査」は、都道府県計値を求めるために目標精度を設定し、調査の設計がされている。
A50: ２ 面積、収穫量ともに耕地の存在する市町村に計上しており（属地統計）、耕作者の市町村間の出作・入作を考慮していない。
A51: ３ 数値は四捨五入しており、市町村値の計が都道府県値と一致しないことがある。

Sheet R6
A1: 農林水産関係市町村別統計
A2: 令和6年産
A3: 水稲
A4: 神奈川県
A5: 都道府県ｺｰﾄﾞ | B5: 市町村 ｺｰﾄﾞ | C5: 市町村名 | D5: 作付面積 | E5: 10a当たり 収量 | F5: 収穫量
D8: ha | E8: kg | F8: t
A9: 14 | B9: 100 | C9: 横浜市 | D9: 119 | E9: 479 | F9: 570
A10: 14 | B10: 130 | C10: 川崎市 | D10: 13 | E10: 457 | F10: 59
A11: 14 | B11: 150 | C11: 相模原市 | D11: 80 | E11: 464 | F11: 371
A12: 14 | B12: 201 | C12: 横須賀市 | D12: 3 | E12: 450 | F12: 14
A13: 14 | B13: 203 | C13: 平塚市 | D13: 542 | E13: 490 | F13: 2660
A14: 14 | B14: 204 | C14: 鎌倉市 | D14: 1 | E14: 423 | F14: 4
A15: 14 | B15: 205 | C15: 藤沢市 | D15: 102 | E15: 476 | F15: 486
A16: 14 | B16: 206 | C16: 小田原市 | D16: 399 | E16: 474 | F16: 1890
A17: 14 | B17: 207 | C17: 茅ヶ崎市 | D17: 37 | E17: 473 | F17: 175
A18: 14 | B18: 208 | C18: 逗子市 | D18: x | E18: x | F18: x
A19: 14 | B19: 210 | C19: 三浦市 | D19: 3 | E19: 456 | F19: 14
A20: 14 | B20: 211 | C20: 秦野市 | D20: 80 | E20: 477 | F20: 382
A21: 14 | B21: 212 | C21: 厚木市 | D21: 388 | E21: 488 | F21: 1890
A22: 14 | B22: 213 | C22: 大和市 | D22: 5 | E22: 471 | F22: 24
A23: 14 | B23: 214 | C23: 伊勢原市 | D23: 328 | E23: 479 | F23: 1570
A24: 14 | B24: 215 | C24: 海老名市 | D24: 197 | E24: 488 | F24: 961
A25: 14 | B25: 216 | C25: 座間市 | D25: 78 | E25: 467 | F25: 364
A26: 14 | B26: 217 | C26: 南足柄市 | D26: 115 | E26: 488 | F26: 561
A27: 14 | B27: 218 | C27: 綾瀬市 | D27: 10 | E27: 472 | F27: 47
A28: 14 | B28: 301 | C28: 葉山町 | D28: 3 | E28: 429 | F28: 13
A29: 14 | B29: 321 | C29: 寒川町 | D29: 55 | E29: 471 | F29: 259
A30: 14 | B30: 341 | C30: 大磯町 | D30: 12 | E30: 458 | F30: 55
A31: 14 | B31: 342 | C31: 二宮町 | D31: x | E31: x | F31: x
A32: 14 | B32: 361 | C32: 中井町 | D32: 14 | E32: 466 | F32: 65
A33: 14 | B33: 362 | C33: 大井町 | D33: 71 | E33: 477 | F33: 339
A34: 14 | B34: 363 | C34: 松田町 | D34: 4 | E34: 448 | F34: 18
A35: 14 | B35: 364 | C35: 山北町 | D35: 18 | E35: 465 | F35: 84
A36: 14 | B36: 366 | C36: 開成町 | D36: 113 | E36: 491 | F36: 555
A37: 14 | B37: 382 | C37: 箱根町 | D37: - | E37: - | F37: -
A38: 14 | B38: 383 | C38: 真鶴町 | D38: - | E38: - | F38: -
A39: 14 | B39: 384 | C39: 湯河原町 | D39: - | E39: - | F39: -
A40: 14 | B40: 401 | C40: 愛川町 | D40: 47 | E40: 456 | F40: 214
A41: 14 | B41: 402 | C41: 清川村 | D41: 2 | E41: 408 | F41: 8
C43: 計 | D43: 2840 | E43: 481 | F43: 13700
A45: 利用上の注意
A46: １ この市町村別統計は、「作物統計調査」を実施する上で把握した地域における標本調査結果及び現地見積りの結果、関係機関
A47: からの情報等を踏まえ、都道府県計値の内訳として市町村別に配分することにより作成した加工統計であり、市町村別の値
A48: を目的として設計された調査に基づいて直接得られたものではない。
A49: なお、「作物統計調査」は、都道府県計値を求めるために目標精度を設定し、調査の設計がされている。
A50: ２ 面積、収穫量ともに耕地の存在する市町村に計上しており（属地統計）、耕作者の市町村間の出作・入作を考慮していない。
A51: ３ 数値は四捨五入しており、市町村値の計が都道府県値と一致しないことがある。

Sheet データ10a神
A1: 農林水産関係市町村別データ
A2: 平成16年産
A3: 水陸稲
A4: 神奈川県 | D4: 2004 | E4: =D4+1 -> 2005 | F4: =E4+1 -> 2006 | G4: =F4+1 -> 2007 | H4: =G4+1 -> 2008 | I4: =H4+1 -> 2009 | J4: =I4+1 -> 2010 | K4: =J4+1 -> 2011 | L4: =K4+1 -> 2012 | ... X4: =W4+1 -> 2024
A5: 都道 | B5: 市町 | D5: 10a当たり
A6: 府県 | B6: 村 | C6: 市町村名 | D6: 収量
A7: ｺｰﾄﾞ | B7: ｺｰﾄﾞ
D8: kg
A9: 14 | B9: 100 | C9: 横浜市 | D9: 473 | E9: 473 | F9: 455 | G9: 469 | H9: 493 | I9: 466 | J9: 457 | K9: 487 | L9: 492 | M9: 501 | N9: 502 | O9: 482 | P9: 492 | Q9: 505 | R9: 489 | S9: 470 | T9: 473 | U9: 491 | V9: 498 | W9: 497 | X9: 479
A10: 14 | B10: 130 | C10: 川崎市 | D10: 455 | E10: 444 | F10: 435 | G10: 439 | H10: 463 | I10: 441 | J10: 433 | K10: 479 | L10: 449 | M10: 467 | N10: 476 | O10: 464 | P10: 473 | Q10: 479 | R10: 466 | S10: 445 | T10: 450 | U10: 469 | V10: 477 | W10: 475 | X10: 457
A11: 14 | B11: 150 | C11: 相模原市 | D11: 477 | E11: 474 | F11: 438 | G11: 451 | H11: 475 | I11: 454 | J11: 448 | K11: 498 | L11: 483 | M11: 475 | N11: 481 | O11: 467 | P11: 476 | Q11: 489 | R11: 475 | S11: 454 | T11: 456 | U11: 474 | V11: 483 | W11: 481 | X11: 464
A12: 14 | B12: 421 | C12: 城山町 | D12: 468 | E12: 465
A13: 14 | B13: 422 | C13: 津久井町 | D13: 461
A14: 14 | B14: 423 | C14: 相模湖町 | D14: 455
A15: 14 | B15: 424 | C15: 藤野町 | D15: 419 | E15: 410
A16: 14 | B16: 201 | C16: 横須賀市 | D16: 473 | E16: 465 | F16: 412 | G16: 462 | H16: 483 | I16: 459 | J16: 451 | K16: 501 | L16: 469 | M16: 464 | N16: 466 | O16: 450 | P16: 462 | Q16: 475 | R16: 461 | S16: 440 | T16: 443 | U16: 459 | V16: 468 | W16: 467 | X16: 450
A17: 14 | B17: 203 | C17: 平塚市 | D17: 526 | E17: 514 | F17: 486 | G17: 507 | H17: 519 | I17: 525 | J17: 494 | K17: 526 | L17: 492 | M17: 506 | N17: 509 | O17: 493 | P17: 505 | Q17: 527 | R17: 502 | S17: 477 | T17: 483 | U17: 501 | V17: 510 | W17: 508 | X17: 490
A18: 14 | B18: 204 | C18: 鎌倉市 | D18: 440 | E18: 435 | F18: 400 | G18: 435 | H18: 459 | I18: 432 | J18: 420 | K18: 467 | L18: 441 | M18: 437 | N18: 436 | O18: 421 | P18: 438 | Q18: 447 | R18: 434 | S18: 415 | T18: 416 | U18: 431 | V18: 439 | W18: 439 | X18: 423
A19: 14 | B19: 205 | C19: 藤沢市 | D19: 504 | E19: 495 | F19: 463 | G19: 491 | H19: 505 | I19: 504 | J19: 475 | K19: 495 | L19: 497 | M19: 491 | N19: 493 | O19: 481 | P19: 491 | Q19: 504 | R19: 487 | S19: 467 | T19: 469 | U19: 487 | V19: 496 | W19: 494 | X19: 476
A20: 14 | B20: 206 | C20: 小田原市 | D20: 501 | E20: 492 | F20: 459 | G20: 491 | H20: 508 | I20: 500 | J20: 488 | K20: 504 | L20: 480 | M20: 483 | N20: 498 | O20: 482 | P20: 489 | Q20: 497 | R20: 484 | S20: 462 | T20: 468 | U20: 487 | V20: 495 | W20: 493 | X20: 474
A21: 14 | B21: 207 | C21: 茅ヶ崎市 | D21: 496 | E21: 485 | F21: 459 | G21: 486 | H21: 496 | I21: 498 | J21: 468 | K21: 498 | L21: 492 | M21: 487 | N21: 491 | O21: 473 | P21: 488 | Q21: 500 | R21: 485 | S21: 464 | T21: 466 | U21: 484 | V21: 492 | W21: 491 | X21: 473
A22: 14 | B22: 208 | C22: 逗子市 | D22: - | E22: - | F22: 200 | G22: 200 | H22: 214 | I22: 205 | J22: 201 | K22: 219 | L22: 209 | M22: 209 | N22: 298 | O22: 203 | P22: 209 | Q22: x | R22: x | S22: x | T22: x | U22: x | V22: x | W22: x | X22: x
A23: 14 | B23: 210 | C23: 三浦市 | D23: 477 | E23: 469 | F23: 412 | G23: 462 | H23: 486 | I23: 462 | J23: 454 | K23: 504 | L23: 484 | M23: 469 | N23: 472 | O23: 457 | P23: 469 | Q23: 483 | R23: 469 | S23: 448 | T23: 448 | U23: 466 | V23: 475 | W23: 473 | X23: 456
A24: 14 | B24: 211 | C24: 秦野市 | D24: 504 | E24: 495 | F24: 453 | G24: 489 | H24: 505 | I24: 502 | J24: 473 | K24: 493 | L24: 495 | M24: 489 | N24: 496 | O24: 485 | P24: 492 | Q24: 505 | R24: 487 | S24: 467 | T24: 470 | U24: 489 | V24: 498 | W24: 495 | X24: 477
A25: 14 | B25: 212 | C25: 厚木市 | D25: 507 | E25: 500 | F25: 466 | G25: 488 | H25: 512 | I25: 488 | J25: 479 | K25: 531 | L25: 513 | M25: 503 | N25: 500 | O25: 494 | P25: 504 | Q25: 517 | R25: 501 | S25: 478 | T25: 480 | U25: 499 | V25: 509 | W25: 507 | X25: 488
A26: 14 | B26: 213 | C26: 大和市 | D26: 481 | E26: 480 | F26: 430 | G26: 447 | H26: 471 | I26: 452 | J26: 446 | K26: 497 | L26: 497 | M26: 479 | N26: 493 | O26: 474 | P26: 483 | Q26: 499 | R26: 484 | S26: 462 | T26: 464 | U26: 483 | V26: 491 | W26: 489 | X26: 471
A27: 14 | B27: 214 | C27: 伊勢原市 | D27: 506 | E27: 498 | F27: 472 | G27: 504 | H27: 511 | I27: 512 | J27: 489 | K27: 507 | L27: 488 | M27: 486 | N27: 499 | O27: 488 | P27: 494 | Q27: 504 | R27: 489 | S27: 467 | T27: 471 | U27: 491 | V27: 500 | W27: 497 | X27: 479
A28: 14 | B28: 215 | C28: 海老名市 | D28: 504 | E28: 498 | F28: 465 | G28: 483 | H28: 509 | I28: 483 | J28: 476 | K28: 518 | L28: 495 | M28: 515 | N28: 516 | O28: 483 | P28: 498 | Q28: 515 | R28: 502 | S28: 479 | T28: 483 | U28: 499 | V28: 506 | W28: 506 | X28: 488
A29: 14 | B29: 216 | C29: 座間市 | D29: 480 | E29: 480 | F29: 455 | G29: 468 | H29: 490 | I29: 467 | J29: 460 | K29: 516 | L29: 478 | M29: 485 | N29: 486 | O29: 467 | P29: 477 | Q29: 492 | R29: 478 | S29: 456 | T29: 460 | U29: 477 | V29: 485 | W29: 483 | X29: 467
A30: 14 | B30: 217 | C30: 南足柄市 | D30: 509 | E30: 499 | F30: 467 | G30: 498 | H30: 510 | I30: 508 | J30: 480 | K30: 511 | L30: 504 | M30: 502 | N30: 510 | O30: 492 | P30: 503 | Q30: 516 | R30: 500 | S30: 478 | T30: 481 | U30: 500 | V30: 508 | W30: 506 | X30: 488
A31: 14 | B31: 218 | C31: 綾瀬市 | D31: 483 | E31: 480 | F31: 455 | G31: 472 | H31: 496 | I31: 470 | J31: 462 | K31: 513 | L31: 496 | M31: 489 | N31: 493 | O31: 470 | P31: 484 | Q31: 500 | R31: 486 | S31: 465 | T31: 465 | U31: 483 | V31: 491 | W31: 490 | X31: 472
A32: 14 | B32: 301 | C32: 葉山町 | D32: 452 | E32: 450 | F32: 400 | G32: 440 | H32: 461 | I32: 438 | J32: 431 | K32: 478 | L32: 449 | M32: 444 | N32: 445 | O32: 430 | P32: 441 | Q32: 454 | R32: 441 | S32: 421 | T32: 422 | U32: 438 | V32: 445 | W32: 444 | X32: 429
A33: 14 | B33: 321 | C33: 寒川町 | D33: 489 | E33: 485 | F33: 455 | G33: 485 | H33: 495 | I33: 494 | J33: 466 | K33: 496 | L33: 490 | M33: 485 | N33: 489 | O33: 472 | P33: 486 | Q33: 498 | R33: 483 | S33: 462 | T33: 464 | U33: 482 | V33: 490 | W33: 489 | X33: 471
A34: 14 | B34: 341 | C34: 大磯町 | D34: 482 | E34: 475 | F34: 449 | G34: 471 | H34: 478 | I34: 484 | J34: 456 | K34: 483 | L34: 478 | M34: 472 | N34: 475 | O34: 458 | P34: 473 | Q34: 484 | R34: 470 | S34: 450 | T34: 451 | U34: 468 | V34: 477 | W34: 476 | X34: 458
A35: 14 | B35: 342 | C35: 二宮町 | D35: 451 | E35: 445 | F35: 418 | G35: 442 | H35: 455 | I35: 454 | J35: 427 | K35: 455 | L35: 450 | M35: 446 | N35: 448 | O35: 433 | P35: 446 | Q35: x | R35: x | S35: x | T35: x | U35: x | V35: x | W35: x | X35: x
A36: 14 | B36: 361 | C36: 中井町 | D36: 478 | E36: 475 | F36: 444 | G36: 465 | H36: 480 | I36: 480 | J36: 453 | K36: 481 | L36: 476 | M36: 481 | N36: 484 | O36: 475 | P36: 479 | Q36: 491 | R36: 474 | S36: 455 | T36: 460 | U36: 477 | V36: 486 | W36: 483 | X36: 466
A37: 14 | B37: 362 | C37: 大井町 | D37: 506 | E37: 494 | F37: 454 | G37: 491 | H37: 501 | I37: 501 | J37: 473 | K37: 504 | L37: 497 | M37: 492 | N37: 495 | O37: 478 | P37: 493 | Q37: 505 | R37: 490 | S37: 468 | T37: 470 | U37: 488 | V37: 497 | W37: 496 | X37: 477
A38: 14 | B38: 363 | C38: 松田町 | D38: 471 | E38: 470 | F38: 425 | G38: 456 | H38: 471 | I38: 469 | J38: 443 | K38: 473 | L38: 467 | M38: 460 | N38: 464 | O38: 448 | P38: 462 | Q38: 473 | R38: 459 | S38: 438 | T38: 441 | U38: 458 | V38: 467 | W38: 465 | X38: 448
A39: 14 | B39: 364 | C39: 山北町 | D39: 485 | E39: 470 | F39: 440 | G39: 464 | H39: 485 | I39: 479 | J39: 453 | K39: 481 | L39: 486 | M39: 481 | N39: 484 | O39: 465 | P39: 478 | Q39: 491 | R39: 476 | S39: 456 | T39: 458 | U39: 475 | V39: 483 | W39: 482 | X39: 465
A40: 14 | B40: 366 | C40: 開成町 | D40: 519 | E40: 514 | F40: 478 | G40: 503 | H40: 515 | I40: 518 | J40: 492 | K40: 520 | L40: 512 | M40: 507 | N40: 507 | O40: 492 | P40: 507 | Q40: 519 | R40: 504 | S40: 481 | T40: 483 | U40: 502 | V40: 511 | W40: 509 | X40: 491
A41: 14 | B41: 382 | C41: 箱根町 | D41: 455 | E41: 450 | F41: 414 | G41: 439 | H41: 455 | I41: 453 | J41: 427 | K41: 456 | L41: 450 | M41: 445 | N41: 447 | O41: 432 | P41: - | Q41: - | R41: - | S41: - | T41: - | U41: - | V41: - | W41: - | X41: -
A42: 14 | B42: 383 | C42: 真鶴町 | D42: - | E42: - | F42: - | G42: - | H42: - | I42: - | J42: - | K42: - | L42: - | M42: - | N42: - | O42: - | P42: - | Q42: - | R42: - | S42: - | T42: - | U42: - | V42: - | W42: - | X42: -
A43: 14 | B43: 384 | C43: 湯河原町 | D43: - | E43: - | F43: - | G43: - | H43: - | I43: - | J43: - | K43: - | L43: - | M43: - | N43: - | O43: - | P43: - | Q43: - | R43: - | S43: - | T43: - | U43: - | V43: - | W43: - | X43: -
A44: 14 | B44: 401 | C44: 愛川町 | D44: 485 | E44: 484 | F44: 445 | G44: 458 | H44: 483 | I44: 462 | J44: 456 | K44: 507 | L44: 474 | M44: 478 | N44: 470 | O44: 455 | P44: 468 | Q44: 488 | R44: 470 | S44: 448 | T44: 449 | U44: 465 | V44: 474 | W44: 473 | X44: 456
A45: 14 | B45: 402 | C45: 清川村 | D45: 432 | E45: 430 | F45: 405 | G45: 417 | H45: 439 | I45: 418 | J45: 411 | K45: 457 | L45: 427 | M45: 422 | N45: 425 | O45: 409 | P45: 421 | Q45: 433 | R45: 420 | S45: 401 | T45: 402 | U45: 417 | V45: 425 | W45: 423 | X45: 408
A47: 利用上の注意
A48: この市町村別データは、「水陸稲収穫量調査」の県計値を当該市町村における調査結果、関係機関・団体からの情報等により加工したものである。

Sheet データ面積神
A1: 農林水産関係市町村別データ
A2: 平成16年産
A3: 水陸稲
A4: 神奈川県 | D4: 2004 | E4: =D4+1 -> 2005 | F4: =E4+1 -> 2006 | G4: =F4+1 -> 2007 | H4: =G4+1 -> 2008 | I4: =H4+1 -> 2009 | J4: =I4+1 -> 2010 | K4: =J4+1 -> 2011 | L4: =K4+1 -> 2012 | ... X4: =W4+1 -> 2024
A5: 都道 | B5: 市町 | D5: 作付面積
A6: 府県 | B6: 村 | C6: 市町村名
A7: ｺｰﾄﾞ | B7: ｺｰﾄﾞ
D8: ha
A9: 14 | B9: 100 | C9: 横浜市 | D9: 175 | E9: 175 | F9: 166 | G9: 166 | H9: 157 | I9: 155 | J9: 154 | K9: 152 | L9: 151 | M9: 139 | N9: 138 | O9: 137 | P9: 136 | Q9: 134 | R9: 130 | S9: 127 | T9: 122 | U9: 119 | V9: 119 | W9: 119 | X9: 119
A10: 14 | B10: 130 | C10: 川崎市 | D10: 20 | E10: 21 | F10: 20 | G10: 20 | H10: 18 | I10: 18 | J10: 18 | K10: 18 | L10: 18 | M10: 17 | N10: 16 | O10: 16 | P10: 16 | Q10: 16 | R10: 16 | S10: 15 | T10: 14 | U10: 14 | V10: 14 | W10: 13 | X10: 13
A11: 14 | B11: 150 | C11: 相模原市 | D11: 80 | E11: 90 | F11: 103 | G11: 103 | H11: 101 | I11: 101 | J11: 101 | K11: 101 | L11: 101 | M11: 91 | N11: 90 | O11: 89 | P11: 87 | Q11: 86 | R11: 85 | S11: 84 | T11: 80 | U11: 80 | V11: 80 | W11: 80 | X11: 80
A12: 14 | B12: 421 | C12: 城山町 | D12: 12 | E12: 12
A13: 14 | B13: 422 | C13: 津久井町 | D13: 6
A14: 14 | B14: 423 | C14: 相模湖町 | D14: 4
A15: 14 | B15: 424 | C15: 藤野町 | D15: 1 | E15: 1
A16: 14 | B16: 201 | C16: 横須賀市 | D16: 10 | E16: 10 | F16: 10 | G16: 9 | H16: 9 | I16: 8 | J16: 8 | K16: 8 | L16: 8 | M16: 7 | N16: 7 | O16: 7 | P16: 7 | Q16: 7 | R16: 7 | S16: 7 | T16: 6 | U16: 5 | V16: 3 | W16: 3 | X16: 3
A17: 14 | B17: 203 | C17: 平塚市 | D17: 561 | E17: 561 | F17: 562 | G17: 563 | H17: 566 | I17: 566 | J17: 565 | K17: 565 | L17: 563 | M17: 557 | N17: 560 | O17: 563 | P17: 559 | Q17: 553 | R17: 557 | S17: 557 | T17: 550 | U17: 542 | V17: 541 | W17: 539 | X17: 542
A18: 14 | B18: 204 | C18: 鎌倉市 | D18: 1 | E18: 1 | F18: 1 | G18: 1 | H18: 1 | I18: 1 | J18: 1 | K18: 1 | L18: 1 | M18: 1 | N18: 1 | O18: 1 | P18: 1 | Q18: 1 | R18: 1 | S18: 1 | T18: 1 | U18: 1 | V18: 1 | W18: 1 | X18: 1
A19: 14 | B19: 205 | C19: 藤沢市 | D19: 113 | E19: 113 | F19: 113 | G19: 113 | H19: 111 | I19: 110 | J19: 110 | K19: 110 | L19: 110 | M19: 108 | N19: 108 | O19: 108 | P19: 108 | Q19: 108 | R19: 107 | S19: 106 | T19: 104 | U19: 104 | V19: 103 | W19: 103 | X19: 102
A20: 14 | B20: 206 | C20: 小田原市 | D20: 471 | E20: 471 | F20: 467 | G20: 467 | H20: 462 | I20: 458 | J20: 458 | K20: 458 | L20: 458 | M20: 458 | N20: 455 | O20: 450 | P20: 449 | Q20: 445 | R20: 441 | S20: 428 | T20: 422 | U20: 411 | V20: 405 | W20: 401 | X20: 399
A21: 14 | B21: 207 | C21: 茅ヶ崎市 | D21: 49 | E21: 49 | F21: 49 | G21: 49 | H21: 43 | I21: 43 | J21: 43 | K21: 43 | L21: 43 | M21: 39 | N21: 39 | O21: 38 | P21: 38 | Q21: 38 | R21: 38 | S21: 38 | T21: 38 | U21: 37 | V21: 37 | W21: 37 | X21: 37
A22: 14 | B22: 208 | C22: 逗子市 | D22: - | E22: - | F22: 0 | G22: 0 | H22: 0 | I22: 0 | J22: 0 | K22: 0 | L22: 0 | M22: 0 | N22: 0 | O22: 0 | P22: 0 | Q22: x | R22: x | S22: x | T22: x | U22: x | V22: x | W22: x | X22: x
A23: 14 | B23: 210 | C23: 三浦市 | D23: 5 | E23: 5 | F23: 4 | G23: 4 | H23: 4 | I23: 4 | J23: 4 | K23: 4 | L23: 4 | M23: 4 | N23: 4 | O23: 4 | P23: 4 | Q23: 4 | R23: 4 | S23: 4 | T23: 4 | U23: 3 | V23: 3 | W23: 3 | X23: 3
A24: 14 | B24: 211 | C24: 秦野市 | D24: 104 | E24: 104 | F24: 104 | G24: 104 | H24: 101 | I24: 99 | J24: 98 | K24: 98 | L24: 97 | M24: 91 | N24: 91 | O24: 90 | P24: 89 | Q24: 88 | R24: 88 | S24: 88 | T24: 86 | U24: 82 | V24: 80 | W24: 80 | X24: 80
A25: 14 | B25: 212 | C25: 厚木市 | D25: 445 | E25: 446 | F25: 445 | G25: 445 | H25: 445 | I25: 445 | J25: 442 | K25: 442 | L25: 442 | M25: 440 | N25: 437 | O25: 441 | P25: 441 | Q25: 439 | R25: 438 | S25: 432 | T25: 426 | U25: 414 | V25: 398 | W25: 394 | X25: 388
A26: 14 | B26: 213 | C26: 大和市 | D26: 13 | E26: 13 | F26: 13 | G26: 13 | H26: 10 | I26: 10 | J26: 10 | K26: 10 | L26: 10 | M26: 9 | N26: 9 | O26: 9 | P26: 9 | Q26: 9 | R26: 9 | S26: 9 | T26: 9 | U26: 8 | V26: 6 | W26: 5 | X26: 5
A27: 14 | B27: 214 | C27: 伊勢原市 | D27: 330 | E27: 330 | F27: 330 | G27: 330 | H27: 325 | I27: 328 | J27: 337 | K27: 337 | L27: 337 | M27: 346 | N27: 348 | O27: 348 | P27: 347 | Q27: 346 | R27: 346 | S27: 342 | T27: 339 | U27: 335 | V27: 331 | W27: 328 | X27: 328
A28: 14 | B28: 215 | C28: 海老名市 | D28: 224 | E28: 225 | F28: 223 | G28: 224 | H28: 224 | I28: 224 | J28: 224 | K28: 224 | L28: 222 | M28: 222 | N28: 222 | O28: 221 | P28: 219 | Q28: 218 | R28: 217 | S28: 215 | T28: 211 | U28: 204 | V28: 202 | W28: 200 | X28: 197
A29: 14 | B29: 216 | C29: 座間市 | D29: 79 | E29: 79 | F29: 79 | G29: 78 | H29: 78 | I29: 79 | J29: 78 | K29: 78 | L29: 78 | M29: 82 | N29: 82 | O29: 83 | P29: 83 | Q29: 82 | R29: 82 | S29: 80 | T29: 79 | U29: 79 | V29: 79 | W29: 78 | X29: 78
A30: 14 | B30: 217 | C30: 南足柄市 | D30: 140 | E30: 139 | F30: 137 | G30: 137 | H30: 131 | I30: 129 | J30: 128 | K30: 128 | L30: 127 | M30: 120 | N30: 118 | O30: 118 | P30: 119 | Q30: 119 | R30: 119 | S30: 119 | T30: 118 | U30: 116 | V30: 116 | W30: 116 | X30: 115
A31: 14 | B31: 218 | C31: 綾瀬市 | D31: 14 | E31: 14 | F31: 14 | G31: 14 | H31: 13 | I31: 12 | J31: 12 | K31: 12 | L31: 12 | M31: 13 | N31: 13 | O31: 13 | P31: 13 | Q31: 12 | R31: 11 | S31: 11 | T31: 11 | U31: 11 | V31: 11 | W31: 10 | X31: 10
A32: 14 | B32: 301 | C32: 葉山町 | D32: 4 | E32: 4 | F32: 4 | G32: 4 | H32: 4 | I32: 4 | J32: 4 | K32: 4 | L32: 4 | M32: 3 | N32: 3 | O32: 3 | P32: 3 | Q32: 3 | R32: 3 | S32: 3 | T32: 3 | U32: 3 | V32: 3 | W32: 3 | X32: 3
A33: 14 | B33: 321 | C33: 寒川町 | D33: 66 | E33: 66 | F33: 66 | G33: 66 | H33: 65 | I33: 65 | J33: 65 | K33: 65 | L33: 65 | M33: 60 | N33: 59 | O33: 59 | P33: 59 | Q33: 58 | R33: 57 | S33: 57 | T33: 56 | U33: 55 | V33: 55 | W33: 55 | X33: 55
A34: 14 | B34: 341 | C34: 大磯町 | D34: 21 | E34: 21 | F34: 21 | G34: 21 | H34: 15 | I34: 15 | J34: 15 | K34: 15 | L34: 14 | M34: 14 | N34: 14 | O34: 14 | P34: 14 | Q34: 14 | R34: 14 | S34: 13 | T34: 13 | U34: 12 | V34: 12 | W34: 12 | X34: 12
A35: 14 | B35: 342 | C35: 二宮町 | D35: 0 | E35: 0 | F35: 0 | G35: 0 | H35: 0 | I35: 0 | J35: 0 | K35: 0 | L35: 0 | M35: 0 | N35: 0 | O35: 0 | P35: 0 | Q35: x | R35: x | S35: x | T35: x | U35: x | V35: x | W35: x | X35: x
A36: 14 | B36: 361 | C36: 中井町 | D36: 23 | E36: 23 | F36: 23 | G36: 23 | H36: 22 | I36: 20 | J36: 20 | K36: 20 | L36: 20 | M36: 19 | N36: 18 | O36: 18 | P36: 18 | Q36: 18 | R36: 18 | S36: 17 | T36: 16 | U36: 15 | V36: 15 | W36: 15 | X36: 14
A37: 14 | B37: 362 | C37: 大井町 | D37: 88 | E37: 88 | F37: 88 | G37: 88 | H37: 87 | I37: 86 | J37: 86 | K37: 86 | L37: 86 | M37: 85 | N37: 84 | O37: 83 | P37: 83 | Q37: 83 | R37: 83 | S37: 81 | T37: 79 | U37: 73 | V37: 72 | W37: 71 | X37: 71
A38: 14 | B38: 363 | C38: 松田町 | D38: 8 | E38: 8 | F38: 8 | G38: 8 | H38: 8 | I38: 8 | J38: 8 | K38: 8 | L38: 8 | M38: 7 | N38: 7 | O38: 7 | P38: 7 | Q38: 7 | R38: 7 | S38: 6 | T38: 5 | U38: 4 | V38: 4 | W38: 4 | X38: 4
A39: 14 | B39: 364 | C39: 山北町 | D39: 31 | E39: 31 | F39: 30 | G39: 30 | H39: 29 | I39: 27 | J39: 27 | K39: 27 | L39: 27 | M39: 26 | N39: 25 | O39: 24 | P39: 24 | Q39: 24 | R39: 24 | S39: 23 | T39: 21 | U39: 19 | V39: 19 | W39: 19 | X39: 18
A40: 14 | B40: 366 | C40: 開成町 | D40: 134 | E40: 132 | F40: 132 | G40: 132 | H40: 137 | I40: 135 | J40: 135 | K40: 135 | L40: 135 | M40: 129 | N40: 128 | O40: 127 | P40: 126 | Q40: 124 | R40: 124 | S40: 122 | T40: 120 | U40: 118 | V40: 116 | W40: 114 | X40: 113
A41: 14 | B41: 382 | C41: 箱根町 | D41: 1 | E41: 1 | F41: 1 | G41: 1 | H41: 1 | I41: 1 | J41: 1 | K41: 1 | L41: 1 | M41: 1 | N41: 1 | O41: 1 | P41: - | Q41: - | R41: - | S41: - | T41: - | U41: - | V41: - | W41: - | X41: -
A42: 14 | B42: 383 | C42: 真鶴町 | D42: - | E42: - | F42: - | G42: - | H42: - | I42: - | J42: - | K42: - | L42: - | M42: - | N42: - | O42: - | P42: - | Q42: - | R42: - | S42: - | T42: - | U42: - | V42: - | W42: - | X42: -
A43: 14 | B43: 384 | C43: 湯河原町 | D43: - | E43: - | F43: - | G43: - | H43: - | I43: - | J43: - | K43: - | L43: - | M43: - | N43: - | O43: - | P43: - | Q43: - | R43: - | S43: - | T43: - | U43: - | V43: - | W43: - | X43: -
A44: 14 | B44: 401 | C44: 愛川町 | D44: 64 | E44: 64 | F44: 64 | G44: 64 | H44: 64 | I44: 64 | J44: 64 | K44: 64 | L44: 64 | M44: 56 | N44: 56 | O44: 56 | P44: 54 | Q44: 54 | R44: 53 | S44: 52 | T44: 51 | U44: 50 | V44: 48 | W44: 48 | X44: 47
A45: 14 | B45: 402 | C45: 清川村 | D45: 3 | E45: 3 | F45: 3 | G45: 3 | H45: 2 | I45: 2 | J45: 2 | K45: 2 | L45: 2 | M45: 2 | N45: 2 | O45: 2 | P45: 2 | Q45: 2 | R45: 2 | S45: 2 | T45: 2 | U45: 2 | V45: 2 | W45: 2 | X45: 2
A47: 利用上の注意
A48: この市町村別データは、「水陸稲収穫量調査」の県計値を当該市町村における調査結果、関係機関・団体からの情報等により加工したものである。

Sheet 集約
D1: 2010 | E1: 2011 | F1: 2012 | G1: 2013 | H1: 2014 | I1: 2015 | J1: 2016 | K1: 2017 | L1: 2018 | M1: 2019 | N1: 2020 | O1: 2021 | P1: 2022 | Q1: 2023 | R1: 2024 | S1: 2025
A2: 1000 | B2: 100 | C2: 横浜市 | D2: 154 | E2: 152 | F2: 151 | G2: 139 | H2: 138 | I2: 137 | J2: 136 | K2: 134 | L2: 130 | M2: 127 | N2: 122 | O2: 119 | P2: 119 | Q2: 119 | R2: 119 | S2: 117
A3: 2000 | B3: 130 | C3: 川崎市 | D3: 18 | E3: 18 | F3: 18 | G3: 17 | H3: 16 | I3: 16 | J3: 16 | K3: 16 | L3: 16 | M3: 15 | N3: 14 | O3: 14 | P3: 14 | Q3: 13 | R3: 13 | S3: 13
A4: 3000 | B4: 150 | C4: 相模原市 | D4: 101 | E4: 101 | F4: 101 | G4: 91 | H4: 90 | I4: 89 | J4: 87 | K4: 86 | L4: 85 | M4: 84 | N4: 80 | O4: 80 | P4: 80 | Q4: 80 | R4: 80 | S4: 80
A5: 4000 | B5: 201 | C5: 横須賀市 | D5: 8 | E5: 8 | F5: 8 | G5: 7 | H5: 7 | I5: 7 | J5: 7 | K5: 7 | L5: 7 | M5: 7 | N5: 6 | O5: 5 | P5: 3 | Q5: 3 | R5: 3 | S5: 3
A6: 5000 | B6: 203 | C6: 平塚市 | D6: 565 | E6: 565 | F6: 563 | G6: 557 | H6: 560 | I6: 563 | J6: 559 | K6: 553 | L6: 557 | M6: 557 | N6: 550 | O6: 542 | P6: 541 | Q6: 539 | R6: 542 | S6: 546
A7: 6000 | B7: 204 | C7: 鎌倉市 | D7: 1 | E7: 1 | F7: 1 | G7: 1 | H7: 1 | I7: 1 | J7: 1 | K7: 1 | L7: 1 | M7: 1 | N7: 1 | O7: 1 | P7: 1 | Q7: 1 | R7: 1 | S7: 1
A8: 7000 | B8: 205 | C8: 藤沢市 | D8: 110 | E8: 110 | F8: 110 | G8: 108 | H8: 108 | I8: 108 | J8: 108 | K8: 108 | L8: 107 | M8: 106 | N8: 104 | O8: 104 | P8: 103 | Q8: 103 | R8: 102 | S8: 102
A9: 8000 | B9: 206 | C9: 小田原市 | D9: 458 | E9: 458 | F9: 458 | G9: 458 | H9: 455 | I9: 450 | J9: 449 | K9: 445 | L9: 441 | M9: 428 | N9: 422 | O9: 411 | P9: 405 | Q9: 401 | R9: 399 | S9: 399
A10: 9000 | B10: 207 | C10: 茅ヶ崎市 | D10: 43 | E10: 43 | F10: 43 | G10: 39 | H10: 39 | I10: 38 | J10: 38 | K10: 38 | L10: 38 | M10: 38 | N10: 38 | O10: 37 | P10: 37 | Q10: 37 | R10: 37 | S10: 37
A11: 10000 | B11: 208 | C11: 逗子市 | D11: 0 | E11: 0 | F11: 0 | G11: 0 | H11: 0 | I11: 0 | J11: 0 | K11: x | L11: x | M11: x | N11: x | O11: x | P11: x | Q11: x | R11: x | S11: x
A12: 11000 | B12: 210 | C12: 三浦市 | D12: 4 | E12: 4 | F12: 4 | G12: 4 | H12: 4 | I12: 4 | J12: 4 | K12: 4 | L12: 4 | M12: 4 | N12: 4 | O12: 3 | P12: 3 | Q12: 3 | R12: 3 | S12: 3
A13: 12000 | B13: 211 | C13: 秦野市 | D13: 98 | E13: 98 | F13: 97 | G13: 91 | H13: 91 | I13: 90 | J13: 89 | K13: 88 | L13: 88 | M13: 88 | N13: 86 | O13: 82 | P13: 80 | Q13: 80 | R13: 80 | S13: 80
A14: 13000 | B14: 212 | C14: 厚木市 | D14: 442 | E14: 442 | F14: 442 | G14: 440 | H14: 437 | I14: 441 | J14: 441 | K14: 439 | L14: 438 | M14: 432 | N14: 426 | O14: 414 | P14: 398 | Q14: 394 | R14: 388 | S14: 389
A15: 14000 | B15: 213 | C15: 大和市 | D15: 10 | E15: 10 | F15: 10 | G15: 9 | H15: 9 | I15: 9 | J15: 9 | K15: 9 | L15: 9 | M15: 9 | N15: 9 | O15: 8 | P15: 6 | Q15: 5 | R15: 5 | S15: 5
A16: 15000 | B16: 214 | C16: 伊勢原市 | D16: 337 | E16: 337 | F16: 337 | G16: 346 | H16: 348 | I16: 348 | J16: 347 | K16: 346 | L16: 346 | M16: 342 | N16: 339 | O16: 335 | P16: 331 | Q16: 328 | R16: 328 | S16: 328
A17: 16000 | B17: 215 | C17: 海老名市 | D17: 224 | E17: 224 | F17: 222 | G17: 222 | H17: 222 | I17: 221 | J17: 219 | K17: 218 | L17: 217 | M17: 215 | N17: 211 | O17: 204 | P17: 202 | Q17: 200 | R17: 197 | S17: 197
A18: 17000 | B18: 216 | C18: 座間市 | D18: 78 | E18: 78 | F18: 78 | G18: 82 | H18: 82 | I18: 83 | J18: 83 | K18: 82 | L18: 82 | M18: 80 | N18: 79 | O18: 79 | P18: 79 | Q18: 78 | R18: 78 | S18: 78
A19: 18000 | B19: 217 | C19: 南足柄市 | D19: 128 | E19: 128 | F19: 127 | G19: 120 | H19: 118 | I19: 118 | J19: 119 | K19: 119 | L19: 119 | M19: 119 | N19: 118 | O19: 116 | P19: 116 | Q19: 116 | R19: 115 | S19: 115
A20: 19000 | B20: 218 | C20: 綾瀬市 | D20: 12 | E20: 12 | F20: 12 | G20: 13 | H20: 13 | I20: 13 | J20: 13 | K20: 12 | L20: 11 | M20: 11 | N20: 11 | O20: 11 | P20: 11 | Q20: 10 | R20: 10 | S20: 10
A21: 20000 | B21: 301 | C21: 葉山町 | D21: 4 | E21: 4 | F21: 4 | G21: 3 | H21: 3 | I21: 3 | J21: 3 | K21: 3 | L21: 3 | M21: 3 | N21: 3 | O21: 3 | P21: 3 | Q21: 3 | R21: 3 | S21: 3
A22: 21000 | B22: 321 | C22: 寒川町 | D22: 65 | E22: 65 | F22: 65 | G22: 60 | H22: 59 | I22: 59 | J22: 59 | K22: 58 | L22: 57 | M22: 57 | N22: 56 | O22: 55 | P22: 55 | Q22: 55 | R22: 55 | S22: 55
A23: 22000 | B23: 341 | C23: 大磯町 | D23: 15 | E23: 15 | F23: 14 | G23: 14 | H23: 14 | I23: 14 | J23: 14 | K23: 14 | L23: 14 | M23: 13 | N23: 13 | O23: 12 | P23: 12 | Q23: 12 | R23: 12 | S23: 12
A24: 23000 | B24: 342 | C24: 二宮町 | D24: 0 | E24: 0 | F24: 0 | G24: 0 | H24: 0 | I24: 0 | J24: 0 | K24: x | L24: x | M24: x | N24: x | O24: x | P24: x | Q24: x | R24: x | S24: x
A25: 24000 | B25: 361 | C25: 中井町 | D25: 20 | E25: 20 | F25: 20 | G25: 19 | H25: 18 | I25: 18 | J25: 18 | K25: 18 | L25: 18 | M25: 17 | N25: 16 | O25: 15 | P25: 15 | Q25: 15 | R25: 14 | S25: 14
A26: 25000 | B26: 362 | C26: 大井町 | D26: 86 | E26: 86 | F26: 86 | G26: 85 | H26: 84 | I26: 83 | J26: 83 | K26: 83 | L26: 83 | M26: 81 | N26: 79 | O26: 73 | P26: 72 | Q26: 71 | R26: 71 | S26: 71
A27: 26000 | B27: 363 | C27: 松田町 | D27: 8 | E27: 8 | F27: 8 | G27: 7 | H27: 7 | I27: 7 | J27: 7 | K27: 7 | L27: 7 | M27: 6 | N27: 5 | O27: 4 | P27: 4 | Q27: 4 | R27: 4 | S27: 4
A28: 27000 | B28: 364 | C28: 山北町 | D28: 27 | E28: 27 | F28: 27 | G28: 26 | H28: 25 | I28: 24 | J28: 24 | K28: 24 | L28: 24 | M28: 23 | N28: 21 | O28: 19 | P28: 19 | Q28: 19 | R28: 18 | S28: 18
A29: 28000 | B29: 366 | C29: 開成町 | D29: 135 | E29: 135 | F29: 135 | G29: 129 | H29: 128 | I29: 127 | J29: 126 | K29: 124 | L29: 124 | M29: 122 | N29: 120 | O29: 118 | P29: 116 | Q29: 114 | R29: 113 | S29: 113
A30: 29000 | B30: 382 | C30: 箱根町 | D30: 1 | E30: 1 | F30: 1 | G30: 1 | H30: 1 | I30: 1 | J30: - | K30: - | L30: - | M30: - | N30: - | O30: - | P30: - | Q30: - | R30: - | S30: -
A31: 30000 | B31: 383 | C31: 真鶴町 | D31: - | E31: - | F31: - | G31: - | H31: - | I31: - | J31: - | K31: - | L31: - | M31: - | N31: - | O31: - | P31: - | Q31: - | R31: - | S31: -
A32: 31000 | B32: 384 | C32: 湯河原町 | D32: - | E32: - | F32: - | G32: - | H32: - | I32: - | J32: - | K32: - | L32: - | M32: - | N32: - | O32: - | P32: - | Q32: - | R32: - | S32: -
A33: 32000 | B33: 401 | C33: 愛川町 | D33: 64 | E33: 64 | F33: 64 | G33: 56 | H33: 56 | I33: 56 | J33: 54 | K33: 54 | L33: 53 | M33: 52 | N33: 51 | O33: 50 | P33: 48 | Q33: 48 | R33: 47 | S33: 47
A34: 33000 | B34: 402 | C34: 清川村 | D34: 2 | E34: 2 | F34: 2 | G34: 2 | H34: 2 | I34: 2 | J34: 2 | K34: 2 | L34: 2 | M34: 2 | N34: 2 | O34: 2 | P34: 2 | Q34: 2 | R34: 2 | S34: 2
D38: =D1 -> 2010 | E38: =E1 -> 2011 | F38: =F1 -> 2012 | G38: =G1 -> 2013 | H38: =H1 -> 2014 | I38: =I1 -> 2015 | J38: =J1 -> 2016 | K38: =K1 -> 2017 | ... R38: =R1 -> 2024 | S38: 2025
C39: 神奈川県 | D39: 3220 | E39: 3220 | F39: 3210 | G39: 3150 | H39: 3140 | I39: 3130 | J39: 3120 | K39: 3090 | L39: 3080 | M39: 3040 | N39: 2990 | O39: 2920 | P39: 2880 | Q39: 2850 | R39: 2840 | S39: 2840

Sheet 集約10a
D1: 2010 | E1: 2011 | F1: 2012 | G1: 2013 | H1: 2014 | I1: 2015 | J1: 2016 | K1: 2017 | L1: 2018 | M1: 2019 | N1: 2020 | O1: 2021 | P1: 2022 | Q1: 2023 | R1: 2024 | S1: 2025
A2: 1000 | B2: 100 | C2: 横浜市 | D2: 457 | E2: 487 | F2: 492 | G2: 501 | H2: 502 | I2: 482 | J2: 492 | K2: 505 | L2: 489 | M2: 470 | N2: 473 | O2: 491 | P2: 498 | Q2: 497 | R2: 479 | S2: 499
A3: 2000 | B3: 130 | C3: 川崎市 | D3: 433 | E3: 479 | F3: 449 | G3: 467 | H3: 476 | I3: 464 | J3: 473 | K3: 479 | L3: 466 | M3: 445 | N3: 450 | O3: 469 | P3: 477 | Q3: 475 | R3: 457 | S3: 475
A4: 3000 | B4: 150 | C4: 相模原市 | D4: 448 | E4: 498 | F4: 483 | G4: 475 | H4: 481 | I4: 467 | J4: 476 | K4: 489 | L4: 475 | M4: 454 | N4: 456 | O4: 474 | P4: 483 | Q4: 481 | R4: 464 | S4: 483
A5: 4000 | B5: 201 | C5: 横須賀市 | D5: 451 | E5: 501 | F5: 469 | G5: 464 | H5: 466 | I5: 450 | J5: 462 | K5: 475 | L5: 461 | M5: 440 | N5: 443 | O5: 459 | P5: 468 | Q5: 467 | R5: 450 | S5: 468
A6: 5000 | B6: 203 | C6: 平塚市 | D6: 494 | E6: 526 | F6: 492 | G6: 506 | H6: 509 | I6: 493 | J6: 505 | K6: 527 | L6: 502 | M6: 477 | N6: 483 | O6: 501 | P6: 510 | Q6: 508 | R6: 490 | S6: 510
A7: 6000 | B7: 204 | C7: 鎌倉市 | D7: 420 | E7: 467 | F7: 441 | G7: 437 | H7: 436 | I7: 421 | J7: 438 | K7: 447 | L7: 434 | M7: 415 | N7: 416 | O7: 431 | P7: 439 | Q7: 439 | R7: 423 | S7: 440
A8: 7000 | B8: 205 | C8: 藤沢市 | D8: 475 | E8: 495 | F8: 497 | G8: 491 | H8: 493 | I8: 481 | J8: 491 | K8: 504 | L8: 487 | M8: 467 | N8: 469 | O8: 487 | P8: 496 | Q8: 494 | R8: 476 | S8: 496
A9: 8000 | B9: 206 | C9: 小田原市 | D9: 488 | E9: 504 | F9: 480 | G9: 483 | H9: 498 | I9: 482 | J9: 489 | K9: 497 | L9: 484 | M9: 462 | N9: 468 | O9: 487 | P9: 495 | Q9: 493 | R9: 474 | S9: 494
A10: 9000 | B10: 207 | C10: 茅ヶ崎市 | D10: 468 | E10: 498 | F10: 492 | G10: 487 | H10: 491 | I10: 473 | J10: 488 | K10: 500 | L10: 485 | M10: 464 | N10: 466 | O10: 484 | P10: 492 | Q10: 491 | R10: 473 | S10: 493
A11: 10000 | B11: 208 | C11: 逗子市 | D11: 201 | E11: 219 | F11: 209 | G11: 209 | H11: 298 | I11: 203 | J11: 209 | K11: x | L11: x | M11: x | N11: x | O11: x | P11: x | Q11: x | R11: x | S11: x
A12: 11000 | B12: 210 | C12: 三浦市 | D12: 454 | E12: 504 | F12: 484 | G12: 469 | H12: 472 | I12: 457 | J12: 469 | K12: 483 | L12: 469 | M12: 448 | N12: 448 | O12: 466 | P12: 475 | Q12: 473 | R12: 456 | S12: 474
A13: 12000 | B13: 211 | C13: 秦野市 | D13: 473 | E13: 493 | F13: 495 | G13: 489 | H13: 496 | I13: 485 | J13: 492 | K13: 505 | L13: 487 | M13: 467 | N13: 470 | O13: 489 | P13: 498 | Q13: 495 | R13: 477 | S13: 497
A14: 13000 | B14: 212 | C14: 厚木市 | D14: 479 | E14: 531 | F14: 513 | G14: 503 | H14: 500 | I14: 494 | J14: 504 | K14: 517 | L14: 501 | M14: 478 | N14: 480 | O14: 499 | P14: 509 | Q14: 507 | R14: 488 | S14: 508
A15: 14000 | B15: 213 | C15: 大和市 | D15: 446 | E15: 497 | F15: 497 | G15: 479 | H15: 493 | I15: 474 | J15: 483 | K15: 499 | L15: 484 | M15: 462 | N15: 464 | O15: 483 | P15: 491 | Q15: 489 | R15: 471 | S15: 491
A16: 15000 | B16: 214 | C16: 伊勢原市 | D16: 489 | E16: 507 | F16: 488 | G16: 486 | H16: 499 | I16: 488 | J16: 494 | K16: 504 | L16: 489 | M16: 467 | N16: 471 | O16: 491 | P16: 500 | Q16: 497 | R16: 479 | S16: 498
A17: 16000 | B17: 215 | C17: 海老名市 | D17: 476 | E17: 518 | F17: 495 | G17: 515 | H17: 516 | I17: 483 | J17: 498 | K17: 515 | L17: 502 | M17: 479 | N17: 483 | O17: 499 | P17: 506 | Q17: 506 | R17: 488 | S17: 509
A18: 17000 | B18: 216 | C18: 座間市 | D18: 460 | E18: 516 | F18: 478 | G18: 485 | H18: 486 | I18: 467 | J18: 477 | K18: 492 | L18: 478 | M18: 456 | N18: 460 | O18: 477 | P18: 485 | Q18: 483 | R18: 467 | S18: 486
A19: 18000 | B19: 217 | C19: 南足柄市 | D19: 480 | E19: 511 | F19: 504 | G19: 502 | H19: 510 | I19: 492 | J19: 503 | K19: 516 | L19: 500 | M19: 478 | N19: 481 | O19: 500 | P19: 508 | Q19: 506 | R19: 488 | S19: 508
A20: 19000 | B20: 218 | C20: 綾瀬市 | D20: 462 | E20: 513 | F20: 496 | G20: 489 | H20: 493 | I20: 470 | J20: 484 | K20: 500 | L20: 486 | M20: 465 | N20: 465 | O20: 483 | P20: 491 | Q20: 490 | R20: 472 | S20: 492
A21: 20000 | B21: 301 | C21: 葉山町 | D21: 431 | E21: 478 | F21: 449 | G21: 444 | H21: 445 | I21: 430 | J21: 441 | K21: 454 | L21: 441 | M21: 421 | N21: 422 | O21: 438 | P21: 445 | Q21: 444 | R21: 429 | S21: 447
A22: 21000 | B22: 321 | C22: 寒川町 | D22: 466 | E22: 496 | F22: 490 | G22: 485 | H22: 489 | I22: 472 | J22: 486 | K22: 498 | L22: 483 | M22: 462 | N22: 464 | O22: 482 | P22: 490 | Q22: 489 | R22: 471 | S22: 491
A23: 22000 | B23: 341 | C23: 大磯町 | D23: 456 | E23: 483 | F23: 478 | G23: 472 | H23: 475 | I23: 458 | J23: 473 | K23: 484 | L23: 470 | M23: 450 | N23: 451 | O23: 468 | P23: 477 | Q23: 476 | R23: 458 | S23: 477
A24: 23000 | B24: 342 | C24: 二宮町 | D24: 427 | E24: 455 | F24: 450 | G24: 446 | H24: 448 | I24: 433 | J24: 446 | K24: x | L24: x | M24: x | N24: x | O24: x | P24: x | Q24: x | R24: x | S24: x
A25: 24000 | B25: 361 | C25: 中井町 | D25: 453 | E25: 481 | F25: 476 | G25: 481 | H25: 484 | I25: 475 | J25: 479 | K25: 491 | L25: 474 | M25: 455 | N25: 460 | O25: 477 | P25: 486 | Q25: 483 | R25: 466 | S25: 485
A26: 25000 | B26: 362 | C26: 大井町 | D26: 473 | E26: 504 | F26: 497 | G26: 492 | H26: 495 | I26: 478 | J26: 493 | K26: 505 | L26: 490 | M26: 468 | N26: 470 | O26: 488 | P26: 497 | Q26: 496 | R26: 477 | S26: 497
A27: 26000 | B27: 363 | C27: 松田町 | D27: 443 | E27: 473 | F27: 467 | G27: 460 | H27: 464 | I27: 448 | J27: 462 | K27: 473 | L27: 459 | M27: 438 | N27: 441 | O27: 458 | P27: 467 | Q27: 465 | R27: 448 | S27: 466
A28: 27000 | B28: 364 | C28: 山北町 | D28: 453 | E28: 481 | F28: 486 | G28: 481 | H28: 484 | I28: 465 | J28: 478 | K28: 491 | L28: 476 | M28: 456 | N28: 458 | O28: 475 | P28: 483 | Q28: 482 | R28: 465 | S28: 484
A29: 28000 | B29: 366 | C29: 開成町 | D29: 492 | E29: 520 | F29: 512 | G29: 507 | H29: 507 | I29: 492 | J29: 507 | K29: 519 | L29: 504 | M29: 481 | N29: 483 | O29: 502 | P29: 511 | Q29: 509 | R29: 491 | S29: 511
A30: 29000 | B30: 382 | C30: 箱根町 | D30: 427 | E30: 456 | F30: 450 | G30: 445 | H30: 447 | I30: 432 | J30: - | K30: - | L30: - | M30: - | N30: - | O30: - | P30: - | Q30: - | R30: - | S30: -
A31: 30000 | B31: 383 | C31: 真鶴町 | D31: - | E31: - | F31: - | G31: - | H31: - | I31: - | J31: - | K31: - | L31: - | M31: - | N31: - | O31: - | P31: - | Q31: - | R31: - | S31: -
A32: 31000 | B32: 384 | C32: 湯河原町 | D32: - | E32: - | F32: - | G32: - | H32: - | I32: - | J32: - | K32: - | L32: - | M32: - | N32: - | O32: - | P32: - | Q32: - | R32: - | S32: -
A33: 32000 | B33: 401 | C33: 愛川町 | D33: 456 | E33: 507 | F33: 474 | G33: 478 | H33: 470 | I33: 455 | J33: 468 | K33: 488 | L33: 470 | M33: 448 | N33: 449 | O33: 465 | P33: 474 | Q33: 473 | R33: 456 | S33: 475
A34: 33000 | B34: 402 | C34: 清川村 | D34: 411 | E34: 457 | F34: 427 | G34: 422 | H34: 425 | I34: 409 | J34: 421 | K34: 433 | L34: 420 | M34: 401 | N34: 402 | O34: 417 | P34: 425 | Q34: 423 | R34: 408 | S34: 425
C35: 神奈川県 | D35: 479 | E35: 511 | F35: 493 | G35: 495 | H35: 500 | I35: 485 | J35: 495 | K35: 509 | L35: 492 | M35: 470 | N35: 474 | O35: 492 | P35: 501 | Q35: 499 | R35: 481 | S35: 501
D38: =D1 -> 2010 | E38: =E1 -> 2011 | F38: =F1 -> 2012 | G38: =G1 -> 2013 | H38: =H1 -> 2014 | I38: =I1 -> 2015 | J38: =J1 -> 2016 | K38: =K1 -> 2017 | ... R38: =R1 -> 2024 | S38: 2025
C39: 神奈川県 | D39: 479 | E39: 511 | F39: 493 | G39: 495 | H39: 500 | I39: 485 | J39: 495 | K39: 509 | L39: 492 | M39: 470 | N39: 474 | O39: 492 | P39: 501 | Q39: 499 | R39: 481 | S39: 501

Sheet グラフ面積 
D1: 横浜市
B2: (ha） | R2: 県計(ha)
N22: 出典：農林水産省「作況調査（稲）」
R23: =B2 -> (ha）
C24: 年産 | D24: 2011 | E24: 2012 | F24: 2013 | G24: 2014 | H24: 2015 | I24: 2016 | J24: 2017 | K24: 2018 | L24: 2019 | M24: 2020 | N24: 2021 | O24: 2022 | P24: 2023 | Q24: 2024 | R24: 2025
C25: =D1 -> 横浜市 | D25: =_xlfn.XLOOKUP($D$1,集約!$C2:$C36,集約!E$2:E$36) -> 152 | E25: =_xlfn.XLOOKUP($D$1,集約!$C2:$C36,集約!F$2:F$36) -> 151 | F25: =_xlfn.XLOOKUP($D$1,集約!$C2:$C36,集約!G$2:G$36) -> 139 | G25: =_xlfn.XLOOKUP($D$1,集約!$C2:$C36,集約!H$2:H$36) -> 138 | H25: =_xlfn.XLOOKUP($D$1,集約!$C2:$C36,集約!I$2:I$36) -> 137 | I25: =_xlfn.XLOOKUP($D$1,集約!$C2:$C36,集約!J$2:J$36) -> 136 | J25: =_xlfn.XLOOKUP($D$1,集約!$C2:$C36,集約!K$2:K$36) -> 134 | K25: =_xlfn.XLOOKUP($D$1,集約!$C2:$C36,集約!L$2:L$36) -> 130 | ... R25: =_xlfn.XLOOKUP($D$1,集約!$C2:$C36,集約!S$2:S$36) -> 117
C26: 県計 | D26: =集約!E39 -> 3220 | E26: =集約!F39 -> 3210 | F26: =集約!G39 -> 3150 | G26: =集約!H39 -> 3140 | H26: =集約!I39 -> 3130 | I26: =集約!J39 -> 3120 | J26: =集約!K39 -> 3090 | K26: =集約!L39 -> 3080 | ... R26: =集約!S39 -> 2840

Sheet グラフ10a
D1: 神奈川県
C2: (kg） | R2: 作況指数
P4: 作況指数
N22: 出典：農林水産省「作況調査（稲）」
R23: =C2 -> (kg）
C24: 年産 | D24: 2011 | E24: 2012 | F24: 2013 | G24: 2014 | H24: 2015 | I24: 2016 | J24: 2017 | K24: 2018 | L24: 2019 | M24: 2020 | N24: 2021 | O24: 2022 | P24: 2023 | Q24: 2024 | R24: 2025
C25: =D1 -> 神奈川県 | D25: =_xlfn.XLOOKUP($D$1,集約10a!$C2:$C36,集約10a!E$2:E$36) -> 511 | E25: =_xlfn.XLOOKUP($D$1,集約10a!$C2:$C36,集約10a!F$2:F$36) -> 493 | F25: =_xlfn.XLOOKUP($D$1,集約10a!$C2:$C36,集約10a!G$2:G$36) -> 495 | G25: =_xlfn.XLOOKUP($D$1,集約10a!$C2:$C36,集約10a!H$2:H$36) -> 500 | H25: =_xlfn.XLOOKUP($D$1,集約10a!$C2:$C36,集約10a!I$2:I$36) -> 485 | I25: =_xlfn.XLOOKUP($D$1,集約10a!$C2:$C36,集約10a!J$2:J$36) -> 495 | J25: =_xlfn.XLOOKUP($D$1,集約10a!$C2:$C36,集約10a!K$2:K$36) -> 509 | K25: =_xlfn.XLOOKUP($D$1,集約10a!$C2:$C36,集約10a!L$2:L$36) -> 492 | ... R25: =_xlfn.XLOOKUP($D$1,集約10a!$C2:$C36,集約10a!S$2:S$36) -> 501
C26: 県計 | D26: =集約10a!E39 -> 511 | E26: =集約10a!F39 -> 493 | F26: =集約10a!G39 -> 495 | G26: =集約10a!H39 -> 500 | H26: =集約10a!I39 -> 485 | I26: =集約10a!J39 -> 495 | J26: =集約10a!K39 -> 509 | K26: =集約10a!L39 -> 492 | ... R26: =集約10a!S39 -> 501
C27: （参考） | D27: 作況指数（2025年からは作況単収指数）
C28: 神奈川県 | D28: 104 | E28: 100 | F28: 100 | G28: 101 | H28: 96 | I28: 101 | J28: 102 | K28: 98 | L28: 95 | M28: 97 | N28: 99 | O28: 101 | P28: 102 | Q28: 97 | R28: 102
C29: 全国 | D29: 101 | E29: 102 | F29: 102 | G29: 101 | H29: 100 | I29: 103 | J29: 100 | K29: 98 | L29: 99 | M29: 99 | N29: 101 | O29: 100 | P29: 101 | Q29: 101 | R29: 102

Sheet グラフ作況指数
B22: 作況指数の推移（1958年から2025年） 上段：神奈川県 下段：全国
B23: 年産 | C23: 1958 | D23: 1959 | E23: 1960 | F23: 1961 | G23: 1962 | H23: 1963 | I23: 1964 | J23: 1965 | K23: 1966 | L23: 1967 | M23: 1968 | N23: 1969 | O23: 1970 | P23: 1971 | Q23: 1972 | R23: 1973 | S23: 1974 | T23: 1975 | U23: 1976 | V23: 1977 | W23: 1978 | X23: 1979
B24: 作況指数 | C24: =D45 -> 82 | D24: =E45 -> 90 | E24: =F45 -> 113 | F24: =G45 -> 101 | G24: =H45 -> 112 | H24: =I45 -> 102 | I24: =J45 -> 95 | J24: =K45 -> 82 | ... X24: =Y45 -> 102
B25: 全国 | C25: =D46 -> 108 | D25: =E46 -> 109 | E25: =F46 -> 108 | F25: =G46 -> 102 | G25: =H46 -> 105 | H25: =I46 -> 101 | I25: =J46 -> 99 | J25: =K46 -> 97 | ... X25: =Y46 -> 103
B27: 年産 | C27: 1980 | D27: 1981 | E27: 1982 | F27: 1983 | G27: 1984 | H27: 1985 | I27: 1986 | J27: 1987 | K27: 1988 | L27: 1989 | M27: 1990 | N27: 1991 | O27: 1992 | P27: 1993 | Q27: 1994 | R27: 1995 | S27: 1996 | T27: 1997 | U27: 1998 | V27: 1999 | W27: 2000 | X27: 2001
B28: 作況指数 | C28: =Z45 -> 95 | D28: =AA45 -> 106 | E28: =AB45 -> 85 | F28: =AC45 -> 96 | G28: =AD45 -> 107 | H28: =AE45 -> 107 | I28: =AF45 -> 101 | J28: =AG45 -> 106 | ... X28: =AU45 -> 101
B29: 全国 | C29: =Z46 -> 87 | D29: =AA46 -> 96 | E29: =AB46 -> 96 | F29: =AC46 -> 96 | G29: =AD46 -> 108 | H29: =AE46 -> 104 | I29: =AF46 -> 105 | J29: =AG46 -> 102 | ... X29: =AU46 -> 103
B31: 年産 | C31: 2002 | D31: 2003 | E31: 2004 | F31: 2005 | G31: 2006 | H31: 2007 | I31: 2008 | J31: 2009 | K31: 2010 | L31: 2011 | M31: 2012 | N31: 2013 | O31: 2014 | P31: 2015 | Q31: 2016 | R31: 2017 | S31: 2018 | T31: 2019 | U31: 2020 | V31: 2021 | W31: 2022 | X31: 2023
B32: 作況指数 | C32: =AV45 -> 100 | D32: =AW45 -> 96 | E32: =AX45 -> 106 | F32: =AY45 -> 104 | G32: =AZ45 -> 97 | H32: =BA45 -> 101 | I32: =BB45 -> 104 | J32: =BC45 -> 102 | ... X32: =BQ45 -> 102
B33: 全国 | C33: =AV46 -> 101 | D33: =AW46 -> 90 | E33: =AX46 -> 98 | F33: =AY46 -> 101 | G33: =AZ46 -> 96 | H33: =BA46 -> 99 | I33: =BB46 -> 102 | J33: =BC46 -> 98 | ... X33: =BQ46 -> 101
B35: 年産 | C35: 2024 | D35: 2025
B36: 作況指数 | C36: =BR45 -> 97 | D36: 102 | P36: 赤字：94以下（作柄：不良）
B37: 全国 | C37: =BR46 -> 101 | D37: 102 | P37: 緑字：106以上（作柄：良） | T37: 出典：農林水産省「作況調査（稲）」
C44: 年産 | D44: 1958 | E44: =D44+1 -> 1959 | F44: =E44+1 -> 1960 | G44: =F44+1 -> 1961 | H44: =G44+1 -> 1962 | I44: =H44+1 -> 1963 | J44: =I44+1 -> 1964 | K44: =J44+1 -> 1965 | L44: =K44+1 -> 1966 | ... BD44: =BC44+1 -> 2010 | BE44: 2011 | BF44: 2012 | BG44: 2013 | BH44: 2014 | BI44: 2015 | BJ44: 2016 | BK44: 2017 | BL44: 2018 | BM44: 2019 | BN44: 2020 | BO44: 2021 | BP44: 2022 | BQ44: 2023 | BR44: 2024 | BS44: 2025
C45: 神奈川県 | D45: 82 | E45: 90 | F45: 113 | G45: 101 | H45: 112 | I45: 102 | J45: 95 | K45: 82 | L45: 85 | M45: 100 | N45: 99 | O45: 109 | P45: 105 | Q45: 103 | R45: 107 | S45: 111 | T45: 95 | U45: 108 | V45: 102 | W45: 106 | X45: 112 | Y45: 102 | Z45: 95 | AA45: 106 | AB45: 85 | AC45: 96 | AD45: 107 | AE45: 107 | AF45: 101 | AG45: 106 | AH45: 94 | AI45: 106 | AJ45: 103 | AK45: 95 | AL45: 103 | AM45: 98 | AN45: 110 | AO45: 105 | AP45: 109 | AQ45: 106 | AR45: 98 | AS45: 103 | AT45: 101 | AU45: 101 | AV45: 100 | AW45: 96 | AX45: 106 | AY45: 104 | AZ45: 97 | BA45: 101 | BB45: 104 | BC45: 102 | BD45: 98 | BE45: 104 | BF45: 100 | BG45: 100 | BH45: 101 | BI45: 96 | BJ45: 101 | BK45: 102 | BL45: 98 | BM45: 95 | BN45: 97 | BO45: 99 | BP45: 101 | BQ45: 102 | BR45: 97 | BS45: 102
C46: 全国 | D46: 108 | E46: 109 | F46: 108 | G46: 102 | H46: 105 | I46: 101 | J46: 99 | K46: 97 | L46: 99 | M46: 112 | N46: 109 | O46: 102 | P46: 103 | Q46: 93 | R46: 103 | S46: 106 | T46: 102 | U46: 107 | V46: 94 | W46: 105 | X46: 108 | Y46: 103 | Z46: 87 | AA46: 96 | AB46: 96 | AC46: 96 | AD46: 108 | AE46: 104 | AF46: 105 | AG46: 102 | AH46: 97 | AI46: 101 | AJ46: 103 | AK46: 95 | AL46: 101 | AM46: 74 | AN46: 109 | AO46: 102 | AP46: 105 | AQ46: 102 | AR46: 98 | AS46: 101 | AT46: 104 | AU46: 103 | AV46: 101 | AW46: 90 | AX46: 98 | AY46: 101 | AZ46: 96 | BA46: 99 | BB46: 102 | BC46: 98 | BD46: 98 | BE46: 101 | BF46: 102 | BG46: 102 | BH46: 101 | BI46: 100 | BJ46: 103 | BK46: 100 | BL46: 98 | BM46: 99 | BN46: 99 | BO46: 101 | BP46: 100 | BQ46: 101 | BR46: 101 | BS46: 102

Sheet 参考
A2: 農林水産省HP
B4: 作況調査（水陸稲、麦類、大豆、そば、かんしょ、飼料作物、工芸農作物）：農林水産省
C5: 水稲をはじめ調査結果の公表や調査の概要など
C6: 水稲収穫量調査のしくみ
C7: 水稲収穫量調査と生産現場の実感について
B9: 水稲の作柄に関する検討会：農林水産省
C10: 都道府県別の作況指数、一等比率の累年など
A12: 本ファイルについて
B13: 平成16年産（2004年）から令和6年産の市町村別統計を掲載
