Workbook
Name 旭村: コード!$I$2:$I$11
Name 岡崎村2_1: コード!$J$2:$J$7
Name 金田村: コード!$K$2:$K$5
Name 金目村: コード!$L$2:$L$11
Name 城島村: コード!$M$2:$M$5
Name 神田村: コード!$N$2:$N$14
Name 大根村2_1: コード!$O$2
Name 大野町: コード!$P$2:$P$23
Name 土沢村: コード!$Q$2:$Q$15
Name 平塚市: コード!$R$2:$R$9
Name 豊田村: コード!$S$2:$S$8

Sheet 重複確認
A3: 個数 / 農業集落 | B3: 列ラベル
A4: 行ラベル | B4: (空白) | C4: 平塚市 | D4: 総計
A5: 横宿 | C5: 1 | D5: 1
A6: 下宿 | C6: 1 | D6: 1
A7: 下島 | C7: 1 | D7: 1
A8: 河内 | C8: 1 | D8: 1
A9: 宮下 | C9: 2 | D9: 2
A10: 今里 | C10: 1 | D10: 1
A11: 坂戸 | C11: 1 | D11: 1
A12: 上町 | C12: 1 | D12: 1
A13: 諏訪町 | C13: 1 | D13: 1
A14: 西町 | C14: 2 | D14: 2
A15: 大久保 | C15: 1 | D15: 1
A16: 大島 | C16: 1 | D16: 1
... A25: 本宿 | C25: 1 | D25: 1
A26: (空白)
A27: 下郷 | C27: 1 | D27: 1
A28: 台 | C28: 1 | D28: 1
A29: 通町 | C29: 1 | D29: 1
A30: 飯島 | C30: 1 | D30: 1
A31: 上宿 | C31: 1 | D31: 1
A32: 上平塚 | C32: 1 | D32: 1
A33: 柳町 | C33: 1 | D33: 1
A34: 西仲町 | C34: 1 | D34: 1
A35: 平塚新宿 | C35: 1 | D35: 1
A36: 馬入 | C36: 1 | D36: 1
A37: 須賀北 | C37: 1 | D37: 1
A38: 須賀西 | C38: 1 | D38: 1
... A103: 総計 | C103: 99 | D103: 99

Sheet 2020年
A2: =_xlfn.CONCAT(A7) -> 1420300000 | F2: 2020年農業センサス 農業集落別データ（経営体数、耕地面積、農業従事者数、農業後継者等） | V2: 22 | W2: 23 | X2: 24 | Y2: 25 | Z2: 26 | AA2: 27 | AB2: 28 | AC2: 29 | AD2: 30 | AE2: 31 | AF2: 32 | AG2: 33 | AH2: 34 | AI2: 35 | AJ2: 36 | AK2: 37 | AL2: 38 | AM2: 39 | AN2: 40 | AO2: 41 | AP2: 42 | AQ2: 43 | AR2: 44 | AS2: 45 | AT2: 46 | AU2: 47 | AV2: 48 | AW2: 49 | AX2: 50 | AY2: 51 | AZ2: 52
A3: 1 | B3: 2 | C3: 3 | D3: 4 | E3: 5 | F3: 6 | G3: 7 | H3: 8 | I3: 9 | J3: 10 | K3: 11 | L3: 12 | M3: 13 | N3: 14 | O3: 15 | P3: 16 | Q3: 17 | R3: 18 | S3: 19 | T3: 20 | U3: 21 | V3: 22 | W3: 23 | X3: 24 | Y3: 25 | Z3: 26 | AA3: 27 | AB3: 28 | AC3: 29 | AD3: 30 | AE3: 31 | AF3: 32 | AG3: 33 | AH3: 34
A4: 指 標 | F4: 農業経営体数 | M4: 経営耕地のある経営体数 | N4: 経営耕地面積 （ha） | R4: １経営体当たりの経営耕地面積 （ha） | S4: 基幹的農業従事者数 （個人経営体） | V4: 基幹的農業従事者の平均年齢 | W4: ５年以内に農業を引き継ぐ後継者の確保状況 | Z4: 行っている地域活動 （地域調査） | AN4: 40 | AO4: 41 | AP4: 42 | AQ4: 43
A5: コード | B5: 県 | C5: 市町村 | D5: 旧市町村 | E5: 農業集落 | G5: 個人経営体 | H5: 法人 | I5: 法人のうち、農事組合法人 | J5: 法人のうち、会社 | K5: その他の法人 | L5: その他の経営体 | N5: 計 | O5: 田 | P5: 畑 | Q5: 樹園地 | S5: 計 | T5: 65歳未満 | U5: 65歳以上 | W5: 確保している | X5: ５年以内に引き継がない | Y5: 確保していない | Z5: いずれかの活動を行っている | AA5: 環境美化・自然環境の保全 | AB5: 農業集落行事（祭り・イベントなど）の実施 | AC5: 農業集落内の福祉・厚生 | AD5: 定住を推進する取組 | AE5: グリーン・ツーリズムの取組 | AF5: ６次産業化への取組 | AG5: 再生可能エネルギーへの取組 | AH5: いずれの活動も行っていない | AI5: 集落営農数 | AJ5: 総農家 | AK5: 販売農家 | AL5: 自給的農家 | AM5: 土地持ち非農家 | AN5: 有機農業に取り組んでいる_計_作付（栽培）実経営体数 | AO5: 有機農業に取り組んでいる_計_作付（栽培）面積 | AP5: 青色申告を行っている_小計 | AQ5: データを活用した農業を行っている_小計 | AR5: 農業従事者_男女計の平均年齢 | AS5: 農業従事者_男の平均年齢 | AT5: 農業従事者_女の平均年齢 | AU5: 基幹的農業従事者_男女計の平均年齢 | AV5: 基幹的農業従事者_男の平均年齢 | AW5: 基幹的農業従事者_女の平均年齢 | AX5: 自営農業従事日数が150日以上の人_男女計の平均年齢 | AY5: 自営農業従事日数が150日以上の人_男の平均年齢 | AZ5: 自営農業従事日数が150日以上の人_女の平均年齢
A6: 1400000000 | B6: 神奈川県 | F6: 11402 | G6: 11091 | H6: 294 | I6: 17 | J6: 246 | K6: 31 | L6: 17 | M6: 11234 | N6: 9782 | O6: 2358 | P6: 5664 | Q6: 1760 | R6: 0.9 | S6: 16455 | T6: 5769 | U6: 10686 | V6: 66.96 | W6: 3443 | X6: 622 | Y6: 7337 | Z6: 1012 | AA6: 746 | AB6: 947 | AC6: 465 | AD6: 12 | AE6: 21 | AF6: 13 | AG6: 18 | AH6: 263 | AI6: 5 | AJ6: 21290 | AK6: 10479 | AL6: 10811 | AM6: … | AN6: 1091 | AO6: 66915 | AP6: 6996 | AQ6: 2371 | AR6: 62.39 | AS6: 61.35 | AT6: 63.69 | AU6: 66.96 | AV6: 66 | AW6: 68.51 | AX6: 65.65 | AY6: 64.8 | AZ6: 67.08
A7: 1420300000 | B7: 神奈川県 | C7: 平塚市 | F7: 845 | G7: 819 | H7: 24 | I7: 1 | J7: 21 | K7: 2 | L7: 2 | M7: 832 | N7: 880 | O7: 566 | P7: 299 | Q7: 15 | R7: 1.1 | S7: 1076 | T7: 298 | U7: 778 | V7: 69.11 | W7: 246 | X7: 100 | Y7: 499 | Z7: 63 | AA7: 56 | AB7: 62 | AC7: 38 | AD7: 2 | AE7: 1 | AF7: 0 | AG7: 1 | AH7: 4 | AI7: 1 | AJ7: 1321 | AK7: 816 | AL7: 505 | AM7: … | AN7: 82 | AO7: 4169 | AP7: 515 | AQ7: 151 | AR7: 64.69 | AS7: 63.88 | AT7: 65.73 | AU7: 69.11 | AV7: 68.66 | AW7: 69.84 | AX7: 68.07 | AY7: 67.73 | AZ7: 68.59
A8: 1420301000 | B8: 神奈川県 | C8: 平塚市 | D8: 平塚市 | F8: 5 | G8: 4 | H8: 1 | I8: - | J8: 1 | K8: - | L8: - | M8: 5 | N8: 3 | O8: 1 | P8: 2 | Q8: - | R8: 0.6 | S8: 6 | T8: 3 | U8: 3 | V8: 62.83 | W8: 1 | X8: 2 | Y8: 2 | Z8: … | AA8: … | AB8: … | AC8: … | AD8: … | AE8: … | AF8: … | AG8: … | AH8: … | AI8: 0 | AJ8: 13 | AK8: 4 | AL8: 9 | AM8: … | AN8: 2 | AO8: 50 | AP8: 1 | AQ8: 1 | AR8: 66.88 | AS8: 63 | AT8: 73.33 | AU8: 62.83 | AV8: 63 | AW8: 62 | AX8: 62.83 | AY8: 63 | AZ8: 62
A9: 1420301001 | B9: 神奈川県 | C9: 平塚市 | D9: 平塚市 | E9: 上平塚 | F9: - | G9: - | H9: - | I9: - | J9: - | K9: - | L9: - | M9: - | N9: - | O9: - | P9: - | Q9: - | R9: - | S9: - | T9: - | U9: - | V9: - | W9: - | X9: - | Y9: - | Z9: … | AA9: … | AB9: … | AC9: … | AD9: … | AE9: … | AF9: … | AG9: … | AH9: … | AI9: 0 | AJ9: 4 | AK9: - | AL9: 4 | AM9: … | AN9: - | AO9: - | AP9: - | AQ9: - | AR9: - | AS9: - | AT9: - | AU9: - | AV9: - | AW9: - | AX9: - | AY9: - | AZ9: -
A10: 1420301002 | B10: 神奈川県 | C10: 平塚市 | D10: 平塚市 | E10: 諏訪町 | F10: - | G10: - | H10: - | I10: - | J10: - | K10: - | L10: - | M10: - | N10: - | O10: - | P10: - | Q10: - | R10: - | S10: - | T10: - | U10: - | V10: - | W10: - | X10: - | Y10: - | Z10: … | AA10: … | AB10: … | AC10: … | AD10: … | AE10: … | AF10: … | AG10: … | AH10: … | AI10: 0 | AJ10: - | AK10: - | AL10: - | AM10: … | AN10: - | AO10: - | AP10: - | AQ10: - | AR10: - | AS10: - | AT10: - | AU10: - | AV10: - | AW10: - | AX10: - | AY10: - | AZ10: -
A11: 1420301003 | B11: 神奈川県 | C11: 平塚市 | D11: 平塚市 | E11: 柳町 | F11: 3 | G11: 2 | H11: 1 | I11: - | J11: 1 | K11: - | L11: - | M11: 3 | N11: 2 | O11: 1 | P11: 1 | Q11: - | R11: 0.7 | S11: 4 | T11: 2 | U11: 2 | V11: 60.25 | W11: 1 | X11: 1 | Y11: 1 | Z11: … | AA11: … | AB11: … | AC11: … | AD11: … | AE11: … | AF11: … | AG11: … | AH11: … | AI11: 0 | AJ11: 5 | AK11: 2 | AL11: 3 | AM11: … | AN11: 1 | AO11: 20 | AP11: 1 | AQ11: - | AR11: 63.4 | AS11: 59.67 | AT11: 69 | AU11: 60.25 | AV11: 59.67 | AW11: 62 | AX11: 60.25 | AY11: 59.67 | AZ11: 62
A12: 1420301004 | B12: 神奈川県 | C12: 平塚市 | D12: 平塚市 | E12: 西仲町 | F12: 1 | G12: x | H12: x | I12: x | J12: x | K12: x | L12: x | M12: x | N12: x | O12: x | P12: x | Q12: x | R12: x | S12: x | T12: x | U12: x | V12: x | W12: x | X12: x | Y12: x | Z12: … | AA12: … | AB12: … | AC12: … | AD12: … | AE12: … | AF12: … | AG12: … | AH12: … | AI12: 0 | AJ12: 3 | AK12: 1 | AL12: 2 | AM12: … | AN12: x | AO12: x | AP12: x | AQ12: x | AR12: x | AS12: x | AT12: x | AU12: x | AV12: x | AW12: x | AX12: x | AY12: x | AZ12: x
A13: 1420301005 | B13: 神奈川県 | C13: 平塚市 | D13: 平塚市 | E13: 平塚新宿 | F13: 1 | G13: x | H13: x | I13: x | J13: x | K13: x | L13: x | M13: x | N13: x | O13: x | P13: x | Q13: x | R13: x | S13: x | T13: x | U13: x | V13: x | W13: x | X13: x | Y13: x | Z13: … | AA13: … | AB13: … | AC13: … | AD13: … | AE13: … | AF13: … | AG13: … | AH13: … | AI13: 0 | AJ13: 1 | AK13: 1 | AL13: - | AM13: … | AN13: x | AO13: x | AP13: x | AQ13: x | AR13: x | AS13: x | AT13: x | AU13: x | AV13: x | AW13: x | AX13: x | AY13: x | AZ13: x
A14: 1420301006 | B14: 神奈川県 | C14: 平塚市 | D14: 平塚市 | E14: 馬入 | F14: - | G14: - | H14: - | I14: - | J14: - | K14: - | L14: - | M14: - | N14: - | O14: - | P14: - | Q14: - | R14: - | S14: - | T14: - | U14: - | V14: - | W14: - | X14: - | Y14: - | Z14: … | AA14: … | AB14: … | AC14: … | AD14: … | AE14: … | AF14: … | AG14: … | AH14: … | AI14: 0 | AJ14: - | AK14: - | AL14: - | AM14: … | AN14: - | AO14: - | AP14: - | AQ14: - | AR14: - | AS14: - | AT14: - | AU14: - | AV14: - | AW14: - | AX14: - | AY14: - | AZ14: -
A15: 1420301007 | B15: 神奈川県 | C15: 平塚市 | D15: 平塚市 | E15: 須賀北 | F15: - | G15: - | H15: - | I15: - | J15: - | K15: - | L15: - | M15: - | N15: - | O15: - | P15: - | Q15: - | R15: - | S15: - | T15: - | U15: - | V15: - | W15: - | X15: - | Y15: - | Z15: … | AA15: … | AB15: … | AC15: … | AD15: … | AE15: … | AF15: … | AG15: … | AH15: … | AI15: 0 | AJ15: - | AK15: - | AL15: - | AM15: … | AN15: - | AO15: - | AP15: - | AQ15: - | AR15: - | AS15: - | AT15: - | AU15: - | AV15: - | AW15: - | AX15: - | AY15: - | AZ15: -
A16: 1420301008 | B16: 神奈川県 | C16: 平塚市 | D16: 平塚市 | E16: 須賀西 | F16: - | G16: - | H16: - | I16: - | J16: - | K16: - | L16: - | M16: - | N16: - | O16: - | P16: - | Q16: - | R16: - | S16: - | T16: - | U16: - | V16: - | W16: - | X16: - | Y16: - | Z16: … | AA16: … | AB16: … | AC16: … | AD16: … | AE16: … | AF16: … | AG16: … | AH16: … | AI16: 0 | AJ16: - | AK16: - | AL16: - | AM16: … | AN16: - | AO16: - | AP16: - | AQ16: - | AR16: - | AS16: - | AT16: - | AU16: - | AV16: - | AW16: - | AX16: - | AY16: - | AZ16: -
A17: 1420302000 | B17: 神奈川県 | C17: 平塚市 | D17: 旭村 | F17: 78 | G17: 76 | H17: 2 | I17: 1 | J17: 1 | K17: - | L17: - | M17: 76 | N17: 54 | O17: 28 | P17: 24 | Q17: 2 | R17: 0.7 | S17: 106 | T17: 42 | U17: 64 | V17: 66.43 | W17: 23 | X17: 8 | Y17: 47 | Z17: 4 | AA17: 2 | AB17: 4 | AC17: 3 | AD17: 0 | AE17: 0 | AF17: 0 | AG17: 0 | AH17: 3 | AI17: 0 | AJ17: 129 | AK17: 72 | AL17: 57 | AM17: … | AN17: 7 | AO17: 181 | AP17: 56 | AQ17: 13 | AR17: 65.67 | AS17: 64.95 | AT17: 66.64 | AU17: 66.43 | AV17: 67.26 | AW17: 65.27 | AX17: 65.86 | AY17: 66.2 | AZ17: 65.44
A18: 1420302001 | B18: 神奈川県 | C18: 平塚市 | D18: 旭村 | E18: 公所 | F18: 6 | G18: 6 | H18: - | I18: - | J18: - | K18: - | L18: - | M18: 6 | N18: 8 | O18: 4 | P18: 4 | Q18: - | R18: 1.3 | S18: 12 | T18: 6 | U18: 6 | V18: 63.75 | W18: 5 | X18: - | Y18: 1 | Z18: 1 | AA18: 0 | AB18: 1 | AC18: 1 | AD18: 0 | AE18: 0 | AF18: 0 | AG18: 0 | AH18: 0 | AI18: 0 | AJ18: 14 | AK18: 6 | AL18: 8 | AM18: … | AN18: - | AO18: - | AP18: 6 | AQ18: 2 | AR18: 65.94 | AS18: 64.25 | AT18: 69.33 | AU18: 63.75 | AV18: 62.57 | AW18: 65.4 | AX18: 63.75 | AY18: 62.57 | AZ18: 65.4
A19: 1420302002 | B19: 神奈川県 | C19: 平塚市 | D19: 旭村 | E19: 根坂間 | F19: 26 | G19: 25 | H19: 1 | I19: 1 | J19: - | K19: - | L19: - | M19: 25 | N19: 21 | O19: 10 | P19: 10 | Q19: 1 | R19: 0.8 | S19: 30 | T19: 10 | U19: 20 | V19: 65.93 | W19: 6 | X19: 4 | Y19: 16 | Z19: 1 | AA19: 1 | AB19: 1 | AC19: 1 | AD19: 0 | AE19: 0 | AF19: 0 | AG19: 0 | AH19: 0 | AI19: 0 | AJ19: 35 | AK19: 24 | AL19: 11 | AM19: … | AN19: 4 | AO19: 98 | AP19: 16 | AQ19: 5 | AR19: 64.19 | AS19: 64.48 | AT19: 63.77 | AU19: 65.93 | AV19: 68.47 | AW19: 61.55 | AX19: 67.42 | AY19: 69.56 | AZ19: 64
A20: 1420302003 | B20: 神奈川県 | C20: 平塚市 | D20: 旭村 | E20: 出繩 | F20: 9 | G20: 9 | H20: - | I20: - | J20: - | K20: - | L20: - | M20: 9 | N20: 4 | O20: 1 | P20: 2 | Q20: - | R20: 0.4 | S20: 11 | T20: 3 | U20: 8 | V20: 75.09 | W20: 3 | X20: - | Y20: 6 | Z20: 0 | AA20: 0 | AB20: 0 | AC20: 0 | AD20: 0 | AE20: 0 | AF20: 0 | AG20: 0 | AH20: 1 | AI20: 0 | AJ20: 17 | AK20: 7 | AL20: 10 | AM20: … | AN20: - | AO20: - | AP20: 5 | AQ20: - | AR20: 69 | AS20: 64.13 | AT20: 73.33 | AU20: 75.09 | AV20: 75.67 | AW20: 74.88 | AX20: 75.09 | AY20: 75.67 | AZ20: 74.88
A21: 1420302004 | B21: 神奈川県 | C21: 平塚市 | D21: 旭村 | E21: 上万田 | F21: 13 | G21: 13 | H21: - | I21: - | J21: - | K21: - | L21: - | M21: 13 | N21: 7 | O21: 2 | P21: 4 | Q21: 0 | R21: 0.5 | S21: 19 | T21: 10 | U21: 9 | V21: 62.89 | W21: 2 | X21: 2 | Y21: 9 | Z21: 0 | AA21: 0 | AB21: 0 | AC21: 0 | AD21: 0 | AE21: 0 | AF21: 0 | AG21: 0 | AH21: 1 | AI21: 0 | AJ21: 15 | AK21: 12 | AL21: 3 | AM21: … | AN21: 1 | AO21: 13 | AP21: 9 | AQ21: 1 | AR21: 63.32 | AS21: 62.37 | AT21: 64.53 | AU21: 62.89 | AV21: 65.18 | AW21: 59.75 | AX21: 61.28 | AY21: 61.56 | AZ21: 61
A22: 1420302005 | B22: 神奈川県 | C22: 平塚市 | D22: 旭村 | E22: 下万田 | F22: 4 | G22: 4 | H22: - | I22: - | J22: - | K22: - | L22: - | M22: 4 | N22: 1 | O22: 1 | P22: 0 | Q22: - | R22: 0.3 | S22: 7 | T22: 4 | U22: 3 | V22: 62.43 | W22: 2 | X22: 1 | Y22: 1 | Z22: … | AA22: … | AB22: … | AC22: … | AD22: … | AE22: … | AF22: … | AG22: … | AH22: … | AI22: 0 | AJ22: 4 | AK22: 4 | AL22: - | AM22: … | AN22: - | AO22: - | AP22: 4 | AQ22: 1 | AR22: 62.75 | AS22: 60.6 | AT22: 66.33 | AU22: 62.43 | AV22: 60.6 | AW22: 67 | AX22: 62.43 | AY22: 60.6 | AZ22: 67
A23: 1420302006 | B23: 神奈川県 | C23: 平塚市 | D23: 旭村 | E23: 高根 | F23: 3 | G23: 3 | H23: - | I23: - | J23: - | K23: - | L23: - | M23: 3 | N23: 1 | O23: 1 | P23: 0 | Q23: 0 | R23: 0.3 | S23: 4 | T23: - | U23: 4 | V23: 78.25 | W23: - | X23: - | Y23: 3 | Z23: 1 | AA23: 1 | AB23: 1 | AC23: 1 | AD23: 0 | AE23: 0 | AF23: 0 | AG23: 0 | AH23: 0 | AI23: 0 | AJ23: 6 | AK23: 2 | AL23: 4 | AM23: … | AN23: - | AO23: - | AP23: 2 | AQ23: - | AR23: 73.17 | AS23: 73.33 | AT23: 73 | AU23: 78.25 | AV23: 73.5 | AW23: 83 | AX23: - | AY23: - | AZ23: -
A24: 1420302007 | B24: 神奈川県 | C24: 平塚市 | D24: 旭村 | E24: 山下 | F24: 6 | G24: 6 | H24: - | I24: - | J24: - | K24: - | L24: - | M24: 6 | N24: 3 | O24: 2 | P24: 1 | Q24: - | R24: 0.5 | S24: 5 | T24: - | U24: 5 | V24: 72.8 | W24: - | X24: 1 | Y24: 5 | Z24: … | AA24: … | AB24: … | AC24: … | AD24: … | AE24: … | AF24: … | AG24: … | AH24: … | AI24: 0 | AJ24: 15 | AK24: 6 | AL24: 9 | AM24: … | AN24: - | AO24: - | AP24: 5 | AQ24: 2 | AR24: 65.27 | AS24: 66.29 | AT24: 63.5 | AU24: 72.8 | AV24: 74.75 | AW24: 65 | AX24: 75 | AY24: 80 | AZ24: 65
A25: 1420302008 | B25: 神奈川県 | C25: 平塚市 | D25: 旭村 | E25: 河内 | F25: - | G25: - | H25: - | I25: - | J25: - | K25: - | L25: - | M25: - | N25: - | O25: - | P25: - | Q25: - | R25: - | S25: - | T25: - | U25: - | V25: - | W25: - | X25: - | Y25: - | Z25: 0 | AA25: 0 | AB25: 0 | AC25: 0 | AD25: 0 | AE25: 0 | AF25: 0 | AG25: 0 | AH25: 1 | AI25: 0 | AJ25: 3 | AK25: - | AL25: 3 | AM25: … | AN25: - | AO25: - | AP25: - | AQ25: - | AR25: - | AS25: - | AT25: - | AU25: - | AV25: - | AW25: - | AX25: - | AY25: - | AZ25: -
A26: 1420302009 | B26: 神奈川県 | C26: 平塚市 | D26: 旭村 | E26: 徳延 | F26: 6 | G26: 5 | H26: 1 | I26: - | J26: 1 | K26: - | L26: - | M26: 5 | N26: 2 | O26: 1 | P26: 1 | Q26: 0 | R26: 0.4 | S26: 9 | T26: 3 | U26: 6 | V26: 71.33 | W26: 3 | X26: - | Y26: 3 | Z26: … | AA26: … | AB26: … | AC26: … | AD26: … | AE26: … | AF26: … | AG26: … | AH26: … | AI26: 0 | AJ26: 10 | AK26: 6 | AL26: 4 | AM26: … | AN26: - | AO26: - | AP26: 5 | AQ26: 2 | AR26: 73.67 | AS26: 72.43 | AT26: 75.4 | AU26: 71.33 | AV26: 70.6 | AW26: 72.25 | AX26: 69.5 | AY26: 66.75 | AZ26: 72.25
A27: 1420302010 | B27: 神奈川県 | C27: 平塚市 | D27: 旭村 | E27: 纒 | F27: 5 | G27: 5 | H27: - | I27: - | J27: - | K27: - | L27: - | M27: 5 | N27: 6 | O27: 5 | P27: 1 | Q27: - | R27: 1.2 | S27: 9 | T27: 6 | U27: 3 | V27: 58 | W27: 2 | X27: - | Y27: 3 | Z27: 1 | AA27: 0 | AB27: 1 | AC27: 0 | AD27: 0 | AE27: 0 | AF27: 0 | AG27: 0 | AH27: 0 | AI27: 0 | AJ27: 10 | AK27: 5 | AL27: 5 | AM27: … | AN27: 2 | AO27: 70 | AP27: 4 | AQ27: - | AR27: 64.38 | AS27: 66.86 | AT27: 61.5 | AU27: 58 | AV27: 64.17 | AW27: 45.67 | AX27: 56.29 | AY27: 62.8 | AZ27: 40
A28: 1420303000 | B28: 神奈川県 | C28: 平塚市 | D28: 大野町 | F28: 111 | G28: 108 | H28: 2 | I28: - | J28: 2 | K28: - | L28: 1 | M28: 111 | N28: 106 | O28: 71 | P28: 33 | Q28: 2 | R28: 1 | S28: 133 | T28: 40 | U28: 93 | V28: 69.58 | W28: 44 | X28: 12 | Y28: 55 | Z28: 4 | AA28: 2 | AB28: 3 | AC28: 2 | AD28: 0 | AE28: 0 | AF28: 0 | AG28: 0 | AH28: 0 | AI28: 0 | AJ28: 176 | AK28: 107 | AL28: 69 | AM28: … | AN28: 13 | AO28: 936 | AP28: 79 | AQ28: 21 | AR28: 64.25 | AS28: 63.12 | AT28: 65.73 | AU28: 69.58 | AV28: 69.58 | AW28: 69.58 | AX28: 68.41 | AY28: 67.93 | AZ28: 69.29
A29: 1420303001 | B29: 神奈川県 | C29: 平塚市 | D29: 大野町 | E29: 大真土 | F29: 16 | G29: 16 | H29: - | I29: - | J29: - | K29: - | L29: - | M29: 16 | N29: 24 | O29: 19 | P29: 4 | Q29: 2 | R29: 1.5 | S29: 22 | T29: 7 | U29: 15 | V29: 71.32 | W29: 4 | X29: 5 | Y29: 7 | Z29: … | AA29: … | AB29: … | AC29: … | AD29: … | AE29: … | AF29: … | AG29: … | AH29: … | AI29: 0 | AJ29: 23 | AK29: 16 | AL29: 7 | AM29: … | AN29: 2 | AO29: 100 | AP29: 11 | AQ29: 2 | AR29: 62.78 | AS29: 59.89 | AT29: 66.89 | AU29: 71.32 | AV29: 70.57 | AW29: 72.63 | AX29: 66.72 | AY29: 64 | AZ29: 71.25
A30: 1420303002 | B30: 神奈川県 | C30: 平塚市 | D30: 大野町 | E30: 古真土 | F30: 5 | G30: 4 | H30: 1 | I30: - | J30: 1 | K30: - | L30: - | M30: 5 | N30: 3 | O30: 1 | P30: 2 | Q30: - | R30: 0.6 | S30: 4 | T30: - | U30: 4 | V30: 76 | W30: 4 | X30: - | Y30: 1 | Z30: 1 | AA30: 1 | AB30: 1 | AC30: 1 | AD30: 0 | AE30: 0 | AF30: 0 | AG30: 0 | AH30: 0 | AI30: 0 | AJ30: 13 | AK30: 5 | AL30: 8 | AM30: … | AN30: 1 | AO30: 30 | AP30: 4 | AQ30: 2 | AR30: 72.71 | AS30: 68 | AT30: 79 | AU30: 76 | AV30: 72 | AW30: 80 | AX30: 76 | AY30: 72 | AZ30: 80
A31: 1420303003 | B31: 神奈川県 | C31: 平塚市 | D31: 大野町 | E31: 今里 | F31: 24 | G31: 22 | H31: 1 | I31: - | J31: 1 | K31: - | L31: 1 | M31: 24 | N31: 32 | O31: 18 | P31: 13 | Q31: 0 | R31: 1.3 | S31: 32 | T31: 11 | U31: 21 | V31: 68.72 | W31: 10 | X31: 1 | Y31: 13 | Z31: 1 | AA31: 1 | AB31: 1 | AC31: 0 | AD31: 0 | AE31: 0 | AF31: 0 | AG31: 0 | AH31: 0 | AI31: 0 | AJ31: 30 | AK31: 21 | AL31: 9 | AM31: … | AN31: 5 | AO31: 542 | AP31: 18 | AQ31: 5 | AR31: 64.15 | AS31: 64.94 | AT31: 63.22 | AU31: 68.72 | AV31: 70.39 | AW31: 66.57 | AX31: 67.38 | AY31: 69.91 | AZ31: 64.12
A32: 1420303004 | B32: 神奈川県 | C32: 平塚市 | D32: 大野町 | E32: 西町 | F32: 4 | G32: 4 | H32: - | I32: - | J32: - | K32: - | L32: - | M32: 4 | N32: 2 | O32: 1 | P32: 1 | Q32: - | R32: 0.5 | S32: 4 | T32: 1 | U32: 3 | V32: 73.75 | W32: 1 | X32: 1 | Y32: 2 | Z32: … | AA32: … | AB32: … | AC32: … | AD32: … | AE32: … | AF32: … | AG32: … | AH32: … | AI32: 0 | AJ32: 9 | AK32: 4 | AL32: 5 | AM32: … | AN32: - | AO32: - | AP32: 3 | AQ32: 1 | AR32: 66.27 | AS32: 59.14 | AT32: 78.75 | AU32: 73.75 | AV32: 72.67 | AW32: 77 | AX32: 78.2 | AY32: 74.33 | AZ32: 84
A33: 1420303005 | B33: 神奈川県 | C33: 平塚市 | D33: 大野町 | E33: 通町 | F33: 11 | G33: 11 | H33: - | I33: - | J33: - | K33: - | L33: - | M33: 11 | N33: 9 | O33: 7 | P33: 2 | Q33: - | R33: 0.8 | S33: 12 | T33: 4 | U33: 8 | V33: 69.58 | W33: 3 | X33: 2 | Y33: 6 | Z33: 1 | AA33: 0 | AB33: 1 | AC33: 0 | AD33: 0 | AE33: 0 | AF33: 0 | AG33: 0 | AH33: 0 | AI33: 0 | AJ33: 17 | AK33: 11 | AL33: 6 | AM33: … | AN33: 1 | AO33: 50 | AP33: 7 | AQ33: 1 | AR33: 61.75 | AS33: 59.07 | AT33: 64.85 | AU33: 69.58 | AV33: 65.43 | AW33: 75.4 | AX33: 71.54 | AY33: 67.86 | AZ33: 75.83
A34: 1420303006 | B34: 神奈川県 | C34: 平塚市 | D34: 大野町 | E34: 中庭 | F34: 4 | G34: 4 | H34: - | I34: - | J34: - | K34: - | L34: - | M34: 4 | N34: 2 | O34: 1 | P34: 1 | Q34: - | R34: 0.5 | S34: 4 | T34: 3 | U34: 1 | V34: 49.75 | W34: 2 | X34: - | Y34: 2 | Z34: … | AA34: … | AB34: … | AC34: … | AD34: … | AE34: … | AF34: … | AG34: … | AH34: … | AI34: 0 | AJ34: 9 | AK34: 4 | AL34: 5 | AM34: … | AN34: - | AO34: - | AP34: 3 | AQ34: 1 | AR34: 57.73 | AS34: 53.29 | AT34: 65.5 | AU34: 49.75 | AV34: 45.33 | AW34: 63 | AX34: 49.75 | AY34: 45.33 | AZ34: 63
A35: 1420303007 | B35: 神奈川県 | C35: 平塚市 | D35: 大野町 | E35: 東町 | F35: 9 | G35: 9 | H35: - | I35: - | J35: - | K35: - | L35: - | M35: 9 | N35: 8 | O35: 6 | P35: 2 | Q35: 0 | R35: 0.9 | S35: 14 | T35: 4 | U35: 10 | V35: 66.29 | W35: 5 | X35: - | Y35: 4 | Z35: 1 | AA35: 0 | AB35: 0 | AC35: 1 | AD35: 0 | AE35: 0 | AF35: 0 | AG35: 0 | AH35: 0 | AI35: 0 | AJ35: 11 | AK35: 9 | AL35: 2 | AM35: … | AN35: 1 | AO35: 27 | AP35: 6 | AQ35: 2 | AR35: 62.3 | AS35: 62.47 | AT35: 62.08 | AU35: 66.29 | AV35: 65.44 | AW35: 67.8 | AX35: 65.71 | AY35: 64.18 | AZ35: 68.5
A36: 1420303008 | B36: 神奈川県 | C36: 平塚市 | D36: 大野町 | E36: 観音町 | F36: - | G36: - | H36: - | I36: - | J36: - | K36: - | L36: - | M36: - | N36: - | O36: - | P36: - | Q36: - | R36: - | S36: - | T36: - | U36: - | V36: - | W36: - | X36: - | Y36: - | Z36: … | AA36: … | AB36: … | AC36: … | AD36: … | AE36: … | AF36: … | AG36: … | AH36: … | AI36: 0 | AJ36: 2 | AK36: - | AL36: 2 | AM36: … | AN36: - | AO36: - | AP36: - | AQ36: - | AR36: - | AS36: - | AT36: - | AU36: - | AV36: - | AW36: - | AX36: - | AY36: - | AZ36: -
A37: 1420303009 | B37: 神奈川県 | C37: 平塚市 | D37: 大野町 | E37: 下郷 | F37: 1 | G37: x | H37: x | I37: x | J37: x | K37: x | L37: x | M37: x | N37: x | O37: x | P37: x | Q37: x | R37: x | S37: x | T37: x | U37: x | V37: x | W37: x | X37: x | Y37: x | Z37: … | AA37: … | AB37: … | AC37: … | AD37: … | AE37: … | AF37: … | AG37: … | AH37: … | AI37: 0 | AJ37: 1 | AK37: 1 | AL37: - | AM37: … | AN37: x | AO37: x | AP37: x | AQ37: x | AR37: x | AS37: x | AT37: x | AU37: x | AV37: x | AW37: x | AX37: x | AY37: x | AZ37: x
A38: 1420303010 | B38: 神奈川県 | C38: 平塚市 | D38: 大野町 | E38: 上町 | F38: 5 | G38: 5 | H38: - | I38: - | J38: - | K38: - | L38: - | M38: 5 | N38: 3 | O38: 2 | P38: 2 | Q38: - | R38: 0.6 | S38: 3 | T38: - | U38: 3 | V38: 78 | W38: 2 | X38: 1 | Y38: 2 | Z38: … | AA38: … | AB38: … | AC38: … | AD38: … | AE38: … | AF38: … | AG38: … | AH38: … | AI38: 0 | AJ38: 8 | AK38: 5 | AL38: 3 | AM38: … | AN38: - | AO38: - | AP38: 4 | AQ38: 1 | AR38: 58.73 | AS38: 64 | AT38: 52.4 | AU38: 78 | AV38: 78 | AW38: - | AX38: 74.75 | AY38: 78 | AZ38: 65
A39: 1420303011 | B39: 神奈川県 | C39: 平塚市 | D39: 大野町 | E39: 田端 | F39: 2 | G39: x | H39: x | I39: x | J39: x | K39: x | L39: x | M39: x | N39: x | O39: x | P39: x | Q39: x | R39: x | S39: x | T39: x | U39: x | V39: x | W39: x | X39: x | Y39: x | Z39: … | AA39: … | AB39: … | AC39: … | AD39: … | AE39: … | AF39: … | AG39: … | AH39: … | AI39: 0 | AJ39: 2 | AK39: 2 | AL39: - | AM39: … | AN39: x | AO39: x | AP39: x | AQ39: x | AR39: x | AS39: x | AT39: x | AU39: x | AV39: x | AW39: x | AX39: x | AY39: x | AZ39: x
A40: 1420303012 | B40: 神奈川県 | C40: 平塚市 | D40: 大野町 | E40: 坂戸 | F40: 7 | G40: 7 | H40: - | I40: - | J40: - | K40: - | L40: - | M40: 7 | N40: 4 | O40: 2 | P40: 2 | Q40: - | R40: 0.6 | S40: 7 | T40: 2 | U40: 5 | V40: 77 | W40: 4 | X40: - | Y40: 3 | Z40: … | AA40: … | AB40: … | AC40: … | AD40: … | AE40: … | AF40: … | AG40: … | AH40: … | AI40: 0 | AJ40: 9 | AK40: 6 | AL40: 3 | AM40: … | AN40: 1 | AO40: 2 | AP40: 4 | AQ40: 3 | AR40: 71.43 | AS40: 70.5 | AT40: 73.75 | AU40: 77 | AV40: 77 | AW40: - | AX40: 77.5 | AY40: 77.5 | AZ40: -
A41: 1420303013 | B41: 神奈川県 | C41: 平塚市 | D41: 大野町 | E41: 尼沼 | F41: 1 | G41: x | H41: x | I41: x | J41: x | K41: x | L41: x | M41: x | N41: x | O41: x | P41: x | Q41: x | R41: x | S41: x | T41: x | U41: x | V41: x | W41: x | X41: x | Y41: x | Z41: … | AA41: … | AB41: … | AC41: … | AD41: … | AE41: … | AF41: … | AG41: … | AH41: … | AI41: 0 | AJ41: 4 | AK41: 1 | AL41: 3 | AM41: … | AN41: x | AO41: x | AP41: x | AQ41: x | AR41: x | AS41: x | AT41: x | AU41: x | AV41: x | AW41: x | AX41: x | AY41: x | AZ41: x
...

Sheet 分析シート
E2: 【参考資料】 | O2: 旧市町村 | P2: =E9 -> 豊田村 | R2: 農業集落 | S2: =E10 -> 本宿
O3: 地域類型 | P3: =VLOOKUP(C9,'（参考）地域類型区分'!$F$8:$L$400,5) -> 都市的地域 | Q3: =VLOOKUP(C9,'（参考）地域類型区分'!$F$8:$L$400,7) -> 水田型
F4: 6 | G4: 7 | H4: 8 | I4: 14 | J4: 15 | K4: 16 | L4: 17 | M4: 18 | N4: 19 | O4: 20 | P4: 21 | Q4: 22 | R4: 23 | S4: 24 | T4: 25
A5: 黄色セルに対象集落のコード番号を入力！ | C5: コード | D5: 区分 | F5: 農業 経営体数 | I5: 経営耕地面積 | M5: １経営体当たりの経営耕地面積 | N5: 基幹的農業従事者数 （個人経営体） | Q5: 基幹的農業従事者の平均年齢 | R5: ５年以内に農業を引き継ぐ 後継者の確保状況
G6: 個人経営体 | H6: 法人 | I6: 計 | J6: 田 | K6: 畑 | L6: 樹園地 | N6: 計 | O6: 65歳未満 | P6: 65歳以上 | R6: 確保して いる | S6: ５年以内に引き継が ない (※注) | T6: 確保して いない
A7: 県（固定） | B7: 2 | C7: 1400000000 | D7: 県名 | E7: 神奈川県 | F7: =IF($C7="","",VLOOKUP($C7,'2020年'!$A$6:$Y$437,F$4,FALSE)) -> 11402 | G7: =IF($C7="","",VLOOKUP($C7,'2020年'!$A$6:$Y$437,G$4,FALSE)) -> 11091 | H7: =IF($C7="","",VLOOKUP($C7,'2020年'!$A$6:$Y$437,H$4,FALSE)) -> 294 | I7: =IF($C7="","",VLOOKUP($C7,'2020年'!$A$6:$Y$437,I$4,FALSE)) -> 9782 | J7: =IF($C7="","",VLOOKUP($C7,'2020年'!$A$6:$Y$437,J$4,FALSE)) -> 2358 | K7: =IF($C7="","",VLOOKUP($C7,'2020年'!$A$6:$Y$437,K$4,FALSE)) -> 5664 | L7: =IF($C7="","",VLOOKUP($C7,'2020年'!$A$6:$Y$437,L$4,FALSE)) -> 1760 | M7: =IF($C7="","",VLOOKUP($C7,'2020年'!$A$6:$Y$437,M$4,FALSE)) -> 0.9 | ... T7: =IF($C7="","",VLOOKUP($C7,'2020年'!$A$6:$Y$437,T$4,FALSE)) -> 7337
A8: 市町 | B8: 3 | C8: 1420300000 | D8: 市町名 | E8: 平塚市 | F8: =IF($C8="","",VLOOKUP($C8,'2020年'!$A$6:$Y$437,F$4,FALSE)) -> 845 | G8: =IF($C8="","",VLOOKUP($C8,'2020年'!$A$6:$Y$437,G$4,FALSE)) -> 819 | H8: =IF($C8="","",VLOOKUP($C8,'2020年'!$A$6:$Y$437,H$4,FALSE)) -> 24 | I8: =IF($C8="","",VLOOKUP($C8,'2020年'!$A$6:$Y$437,I$4,FALSE)) -> 880 | J8: =IF($C8="","",VLOOKUP($C8,'2020年'!$A$6:$Y$437,J$4,FALSE)) -> 566 | K8: =IF($C8="","",VLOOKUP($C8,'2020年'!$A$6:$Y$437,K$4,FALSE)) -> 299 | L8: =IF($C8="","",VLOOKUP($C8,'2020年'!$A$6:$Y$437,L$4,FALSE)) -> 15 | M8: =IF($C8="","",VLOOKUP($C8,'2020年'!$A$6:$Y$437,M$4,FALSE)) -> 1.1 | ... T8: =IF($C8="","",VLOOKUP($C8,'2020年'!$A$6:$Y$437,T$4,FALSE)) -> 499
A9: 旧市町村 | B9: 4 | C9: =_xlfn.XLOOKUP(E9,コード!D3:D226,コード!B3:B226) -> 1420305000 | D9: 旧市町村名 S25 | E9: 豊田村 | F9: =IF($C9="","",VLOOKUP($C9,'2020年'!$A$6:$Y$437,F$4,FALSE)) -> 58 | G9: =IF($C9="","",VLOOKUP($C9,'2020年'!$A$6:$Y$437,G$4,FALSE)) -> 57 | H9: =IF($C9="","",VLOOKUP($C9,'2020年'!$A$6:$Y$437,H$4,FALSE)) -> 1 | I9: =IF($C9="","",VLOOKUP($C9,'2020年'!$A$6:$Y$437,I$4,FALSE)) -> 66 | J9: =IF($C9="","",VLOOKUP($C9,'2020年'!$A$6:$Y$437,J$4,FALSE)) -> 49 | K9: =IF($C9="","",VLOOKUP($C9,'2020年'!$A$6:$Y$437,K$4,FALSE)) -> 17 | L9: =IF($C9="","",VLOOKUP($C9,'2020年'!$A$6:$Y$437,L$4,FALSE)) -> - | M9: =IF($C9="","",VLOOKUP($C9,'2020年'!$A$6:$Y$437,M$4,FALSE)) -> 1.2 | ... T9: =IF($C9="","",VLOOKUP($C9,'2020年'!$A$6:$Y$437,T$4,FALSE)) -> 30
A10: 農業集落 | B10: 5 | C10: =_xlfn.XLOOKUP(E10,'2020年'!E6:E420,'2020年'!A6:A420) -> 1420305004 | D10: 農業集落名 | E10: 本宿 | F10: =IF($C10="","",VLOOKUP($C10,'2020年'!$A$6:$Y$437,F$4,FALSE)) -> 8 | G10: =IF($C10="","",VLOOKUP($C10,'2020年'!$A$6:$Y$437,G$4,FALSE)) -> 8 | H10: =IF($C10="","",VLOOKUP($C10,'2020年'!$A$6:$Y$437,H$4,FALSE)) -> - | I10: =IF($C10="","",VLOOKUP($C10,'2020年'!$A$6:$Y$437,I$4,FALSE)) -> 8 | J10: =IF($C10="","",VLOOKUP($C10,'2020年'!$A$6:$Y$437,J$4,FALSE)) -> 5 | K10: =IF($C10="","",VLOOKUP($C10,'2020年'!$A$6:$Y$437,K$4,FALSE)) -> 3 | L10: =IF($C10="","",VLOOKUP($C10,'2020年'!$A$6:$Y$437,L$4,FALSE)) -> - | M10: =IF($C10="","",VLOOKUP($C10,'2020年'!$A$6:$Y$437,M$4,FALSE)) -> 1 | ... T10: =IF($C10="","",VLOOKUP($C10,'2020年'!$A$6:$Y$437,T$4,FALSE)) -> 4
B11: ① | I11: =IF(V11="","",V11*0.01) | J11: =IF(サブシート!R13="","",サブシート!R13*0.01) | K11: =IF(サブシート!S13="","",サブシート!S13*0.01) | L11: =IF(サブシート!T13="","",サブシート!T13*0.01)
B12: ② | I12: =IF(V12="","",V12*0.01) | J12: =IF(サブシート!R14="","",サブシート!R14*0.01) | K12: =IF(サブシート!S14="","",サブシート!S14*0.01) | L12: =IF(サブシート!T14="","",サブシート!T14*0.01)
B13: ③ | I13: =IF(V13="","",V13*0.01) | J13: =IF(サブシート!R15="","",サブシート!R15*0.01) | K13: =IF(サブシート!S15="","",サブシート!S15*0.01) | L13: =IF(サブシート!T15="","",サブシート!T15*0.01)
B14: ④ | I14: =IF(V14="","",V14*0.01) | J14: =IF(サブシート!R16="","",サブシート!R16*0.01) | K14: =IF(サブシート!S16="","",サブシート!S16*0.01) | L14: =IF(サブシート!T16="","",サブシート!T16*0.01)
B15: ⑤ | I15: =IF(V15="","",V15*0.01) | J15: =IF(サブシート!R17="","",サブシート!R17*0.01) | K15: =IF(サブシート!S17="","",サブシート!S17*0.01) | L15: =IF(サブシート!T17="","",サブシート!T17*0.01)
A16: 複数 | B16: 計 | I16: =IF(V16="","",V16*0.01) | J16: =IF(サブシート!R18="","",サブシート!R18*0.01) | K16: =IF(サブシート!S18="","",サブシート!S18*0.01) | L16: =IF(サブシート!T18="","",サブシート!T18*0.01)
D17: =IF(F9="x","この旧市町村は、農業集落の一部が秘匿のため表・グラフが表示されません。",) -> 0 | K17: =IF(F10="x","この農業集落は、2経営体以下のため秘匿です。表、グラフとも表示されません",IF(F10="-","この農業集落に農業経営体はありません。表、グラフとも表示されません",)) -> 0
AA21: =IF(サブシート!V11="@","旧市町村境界変更のため不明",) -> 0
AA22: =IF(サブシート!V12="@","農業集落境界変更のため不明",) -> 0
M33: 〔基幹的農業従事者：農業就業人口のうち、ふだん仕事として自営農業に従事した人〕

Sheet サブシート
C1: ↓グラフ②挿入（カメラ機能使用）
C3: =分析シート!E9 -> 豊田村 | E3: =分析シート!E9 -> 豊田村
C4: 65歳未満 | E4: 65歳以上
C5: =サブシート!AL11 -> 0.39130435 | E5: =サブシート!AM11 -> 0.60869565 | Z5: 【グラフデータ】 | AG5: 【グラフデータ】 | AI5: 基幹的農業従事者の割合 | AO5: 【グラフデータ】
G6: ↓グラフ②挿入（カメラ機能使用） | R6: 44 | S6: 50 | T6: 17
G7: 平均年齢 | V7: 農業経営体数の推移 | AJ7: 2020
C8: =CONCATENATE(分析シート!$E$10," 集落") -> 本宿 集落 | G8: =分析シート!$E$10 -> 本宿 | H8: =分析シート!Q10 -> 68.86 | V8: 2005 | W8: 2010 | X8: 2015 | Y8: 2020 | AA8: 2005 | AB8: 2010 | AC8: 2015 | AD8: 2020 | AJ8: 65歳未満 | AK8: 65歳以上 | AO8: 確保している | AP8: ５年以内に引き継がない | AQ8: 確保していない | AR8: 確保している | AS8: ５年以内に引き継がない | AT8: 確保していない
B9: 2005年比 | D9: =(サブシート!AD12*-1)*0.01 -> 0.38461538 | E9: 減少 | G9: =分析シート!$E9 -> 豊田村 | H9: =分析シート!Q9 -> 64.88 | R9: =IF(分析シート!$C7="","",VLOOKUP(分析シート!$C7,'2020年'!$A$6:$AZ$437,R$6,FALSE)) -> 62.39 | S9: =IF(分析シート!$C7="","",VLOOKUP(分析シート!$C7,'2020年'!$A$6:$AZ$437,S$6,FALSE)) -> 65.65 | U9: =分析シート!$E7 -> 神奈川県 | V9: =IF(分析シート!$C7="","",VLOOKUP(分析シート!$C7,過年次データ!$A$6:$N$4190,6,FALSE)) -> 17121 | W9: =IF(分析シート!$C7="","",VLOOKUP(分析シート!$C7,過年次データ!$A$6:$N$4190,9,FALSE)) -> 15612 | X9: =IF(分析シート!$C7="","",VLOOKUP(分析シート!$C7,過年次データ!$A$6:$N$4190,12,FALSE)) -> 13809 | Y9: =IF(分析シート!F7="","",分析シート!F7) -> 11402 | Z9: =分析シート!E7 -> 神奈川県 | AA9: =V9/$V9*100-100 -> 0 | AB9: =W9/$V9*100-100 -> -8.8137375 | AC9: =X9/$V9*100-100 -> -19.344664 | AD9: =Y9/$V9*100-100 -> -33.403423 | AF9: =分析シート!$E7 -> 神奈川県 | AI9: =分析シート!$E7 -> 神奈川県 | AJ9: =分析シート!O7 -> 5769 | AK9: =分析シート!P7 -> 10686 | AN9: =分析シート!$E7 -> 神奈川県 | AO9: =分析シート!R7 -> 3443 | AP9: =分析シート!S7 -> 622 | AQ9: =分析シート!T7 -> 7337 | AR9: =AO9/SUM(AO9:AQ9)*100 -> 30.196457 | AS9: =AP9/SUM(AO9:AQ9)*100 -> 5.4551833 | AT9: =AQ9/SUM(AO9:AQ9)*100 -> 64.34836
R10: =IF(分析シート!$C8="","",VLOOKUP(分析シート!$C8,'2020年'!$A$6:$AZ$437,R$6,FALSE)) -> 64.69 | S10: =IF(分析シート!$C8="","",VLOOKUP(分析シート!$C8,'2020年'!$A$6:$AZ$437,S$6,FALSE)) -> 68.07 | U10: =分析シート!$E8 -> 平塚市 | V10: =IF(分析シート!$C8="","",VLOOKUP(分析シート!$C8,過年次データ!$A$6:$N$4190,6,FALSE)) -> 1324 | W10: =IF(分析シート!$C8="","",VLOOKUP(分析シート!$C8,過年次データ!$A$6:$N$4190,9,FALSE)) -> 1230 | X10: =IF(分析シート!$C8="","",VLOOKUP(分析シート!$C8,過年次データ!$A$6:$N$4190,12,FALSE)) -> 1115 | Y10: =IF(分析シート!F8="","",分析シート!F8) -> 845 | Z10: =分析シート!E8 -> 平塚市 | AA10: =V10/$V10*100-100 -> 0 | AB10: =W10/$V10*100-100 -> -7.0996979 | AC10: =X10/$V10*100-100 -> -15.785498 | AD10: =Y10/$V10*100-100 -> -36.178248 | AF10: =分析シート!$E8 -> 平塚市 | AI10: =分析シート!$E8 -> 平塚市 | AJ10: =分析シート!O8 -> 298 | AK10: =分析シート!P8 -> 778 | AN10: =分析シート!$E8 -> 平塚市 | AO10: =分析シート!R8 -> 246 | AP10: =分析シート!S8 -> 100 | AQ10: =分析シート!T8 -> 499 | AR10: =AO10/SUM(AO10:AQ10)*100 -> 29.112426 | AS10: =AP10/SUM(AO10:AQ10)*100 -> 11.83432 | AT10: =AQ10/SUM(AO10:AQ10)*100 -> 59.053254
G11: 農業従事者 | R11: =IF(分析シート!$C9="","",VLOOKUP(分析シート!$C9,'2020年'!$A$6:$AZ$437,R$6,FALSE)) -> 64.47 | S11: =IF(分析シート!$C9="","",VLOOKUP(分析シート!$C9,'2020年'!$A$6:$AZ$437,S$6,FALSE)) -> 62.92 | U11: =分析シート!$E9 -> 豊田村 | V11: =IF(分析シート!$C9="","",VLOOKUP(分析シート!$C9,過年次データ!$A$6:$N$4190,6,FALSE)) -> 95 | W11: =IF(分析シート!$C9="","",VLOOKUP(分析シート!$C9,過年次データ!$A$6:$N$4190,9,FALSE)) -> 90 | X11: =IF(分析シート!$C9="","",VLOOKUP(分析シート!$C9,過年次データ!$A$6:$N$4190,12,FALSE)) -> 75 | Y11: =IF(分析シート!F9="","",分析シート!F9) -> 58 | Z11: =分析シート!E9 -> 豊田村 | AA11: =V11/$V11*100-100 -> 0 | AB11: =W11/$V11*100-100 -> -5.2631579 | AC11: =X11/$V11*100-100 -> -21.052632 | AD11: =Y11/$V11*100-100 -> -38.947368 | AF11: =分析シート!$E9 -> 豊田村 | AI11: =分析シート!$E9 -> 豊田村 | AJ11: =分析シート!O9 -> 27 | AK11: =分析シート!P9 -> 42 | AL11: =AJ11/分析シート!$N9 -> 0.39130435 | AM11: =AK11/分析シート!$N9 -> 0.60869565 | AN11: =分析シート!$E9 -> 豊田村 | AO11: =分析シート!R9 -> 21 | AP11: =分析シート!S9 -> 7 | AQ11: =分析シート!T9 -> 30 | AR11: =AO11/SUM(AO11:AQ11)*100 -> 36.206897 | AS11: =AP11/SUM(AO11:AQ11)*100 -> 12.068966 | AT11: =AQ11/SUM(AO11:AQ11)*100 -> 51.724138
G12: 平均年齢 | R12: =IF(分析シート!$C10="","",VLOOKUP(分析シート!$C10,'2020年'!$A$6:$AZ$437,R$6,FALSE)) -> 68.81 | S12: =IF(分析シート!$C10="","",VLOOKUP(分析シート!$C10,'2020年'!$A$6:$AZ$437,S$6,FALSE)) -> 67.63 | U12: =分析シート!$E10 -> 本宿 | V12: =IF(分析シート!$C10="","",VLOOKUP(分析シート!$C10,過年次データ!$A$6:$N$4190,6,FALSE)) -> 13 | W12: =IF(分析シート!$C10="","",VLOOKUP(分析シート!$C10,過年次データ!$A$6:$N$4190,9,FALSE)) -> 11 | X12: =IF(分析シート!$C10="","",VLOOKUP(分析シート!$C10,過年次データ!$A$6:$N$4190,12,FALSE)) -> 9 | Y12: =IF(分析シート!F10="","",分析シート!F10) -> 8 | Z12: =分析シート!E10 -> 本宿 | AA12: =V12/$V12*100-100 -> 0 | AB12: =W12/$V12*100-100 -> -15.384615 | AC12: =X12/$V12*100-100 -> -30.769231 | AD12: =Y12/$V12*100-100 -> -38.461538 | AF12: =分析シート!$E10 -> 本宿 | AI12: =分析シート!$E10 -> 本宿 | AJ12: =分析シート!O10 -> 2 | AK12: =分析シート!P10 -> 5 | AN12: =分析シート!$E10 -> 本宿 | AO12: =分析シート!R10 -> 2 | AP12: =分析シート!S10 -> 2 | AQ12: =分析シート!T10 -> 4 | AR12: =AO12/SUM(AO12:AQ12)*100 -> 25 | AS12: =AP12/SUM(AO12:AQ12)*100 -> 25 | AT12: =AQ12/SUM(AO12:AQ12)*100 -> 50
G13: =分析シート!E10 -> 本宿 | H13: =サブシート!R12 -> 68.81
C14: =分析シート!E9 -> 豊田村 | E14: =分析シート!E9 -> 豊田村 | G14: =分析シート!E9 -> 豊田村 | H14: =サブシート!R11 -> 64.47
C15: 65歳未満 | E15: 65歳以上
C16: =分析シート!AQ20 -> 0 | E16: =分析シート!AR20 -> 0 | G16: 自営農業従事日数が150日以上
C17: ↑グラフ①挿入（カメラ機能使用） | G17: 平均年齢
G18: =G13 -> 本宿 | H18: =サブシート!S12 -> 67.63 | J18: ■ 農業経営体の組織区 分別経営体数（2020年）
G19: =G14 -> 豊田村 | H19: =サブシート!S11 -> 62.92
H20: 地域の農業構造（カメラ機能使用）→ | J20: 集落名 | M20: =分析シート!$E$10 -> 本宿
J21: 農業経営体数 | N21: =IF(分析シート!C10="","",VLOOKUP(分析シート!C10,'2020年'!$A$6:$Y$437,6,FALSE)) -> 8
K22: 個人経営体 | N22: =IF(分析シート!C10="","",VLOOKUP(分析シート!C10,'2020年'!$A$6:$Y$437,7,FALSE)) -> 8
K23: 法人 | L23: 農事組合法人 | N23: =IF(分析シート!C10="","",VLOOKUP(分析シート!C10,'2020年'!$A$6:$Y$437,9,FALSE)) -> -
L24: 会 社 | N24: =IF(分析シート!C10="","",VLOOKUP(分析シート!C10,'2020年'!$A$6:$Y$437,10,FALSE)) -> -
L25: その他の法人 | N25: =IF(分析シート!C10="","",VLOOKUP(分析シート!C10,'2020年'!$A$6:$Y$437,11,FALSE)) -> -
K26: その他の経営体 | N26: =IF(分析シート!C10="","",VLOOKUP(分析シート!C10,'2020年'!$A$6:$Y$437,12,FALSE)) -> -
J28: 総農家 | M28: 販売農家 | N28: 自給的農家
J29: =IF($AB61="","",VLOOKUP($AB61,'2020年'!$A$6:$AP$437,36,FALSE)) -> 12 | M29: =IF($AB61="","",VLOOKUP($AB61,'2020年'!$A$6:$AP$437,37,FALSE)) -> 8 | N29: =IF($AB61="","",VLOOKUP($AB61,'2020年'!$A$6:$AP$437,38,FALSE)) -> 4
L34: （カメラ機能使用）→ | Q34: ■ 地域活動の取組状況（2020年）
M35: 自動計算 | N35: =IF(分析シート!C$10="","",VLOOKUP(分析シート!C$10,'2020年'!$A$6:$AH$437,26,FALSE)) -> … | P35: =IF(N35=1,TRUE,FALSE) -> FALSE | R35: 次のいずれかの活動を行っている
N36: =IF(分析シート!C$10="","",VLOOKUP(分析シート!C$10,'2020年'!$A$6:$AH$437,27,FALSE)) -> … | P36: =IF(N36=1,TRUE,FALSE) -> FALSE | R36: 環境美化・自然環境の保全
N37: =IF(分析シート!C$10="","",VLOOKUP(分析シート!C$10,'2020年'!$A$6:$AH$437,28,FALSE)) -> … | P37: =IF(N37=1,TRUE,FALSE) -> FALSE | R37: 農業集落行事（祭り・イベントなど）
N38: =IF(分析シート!C$10="","",VLOOKUP(分析シート!C$10,'2020年'!$A$6:$AH$437,29,FALSE)) -> … | P38: =IF(N38=1,TRUE,FALSE) -> FALSE | R38: 農業集落内の福祉・厚生
N39: =IF(分析シート!C$10="","",VLOOKUP(分析シート!C$10,'2020年'!$A$6:$AH$437,30,FALSE)) -> … | P39: =IF(N39=1,TRUE,FALSE) -> FALSE | R39: 定住を推進する取組
N40: =IF(分析シート!C$10="","",VLOOKUP(分析シート!C$10,'2020年'!$A$6:$AH$437,31,FALSE)) -> … | P40: =IF(N40=1,TRUE,FALSE) -> FALSE | R40: グリーン・ツーリズムの取組
N41: =IF(分析シート!C$10="","",VLOOKUP(分析シート!C$10,'2020年'!$A$6:$AH$437,32,FALSE)) -> … | P41: =IF(N41=1,TRUE,FALSE) -> FALSE | R41: ６次産業化への取組
N42: =IF(分析シート!C$10="","",VLOOKUP(分析シート!C$10,'2020年'!$A$6:$AH$437,33,FALSE)) -> … | P42: =IF(N42=1,TRUE,FALSE) -> FALSE | R42: 再生可能エネルギーへの取組
N43: =IF(分析シート!C$10="","",VLOOKUP(分析シート!C$10,'2020年'!$A$6:$AH$437,34,FALSE)) -> … | P43: =IF(N43=1,TRUE,FALSE) -> FALSE | R43: いずれの活動も行っていない
R46: （カメラ機能使用）→ | U46: ■ 棚田の認定・活動状況等
T47: FALSE | V47: 国の指定棚田地域がある
V48: 指定地域 | W48: 棚田の名称
...

Sheet 過年次データ
E2: 農業センサス過年次データ（経営体数） | K2: 農業集落境界の変更等により、2020年の農業集落に接続できない場合は、当該結果を「@」としています
A3: 指 標 | F3: ２００５年 | I3: ２０１０年 | L3: ２０１５年
F4: 農業経営体数 | I4: 農業経営体数 | L4: 農業経営体数
A5: コード | B5: 県 | C5: 市区町村 | D5: 旧市区町村 | E5: 農業集落 | G5: うち、 個人経営体 | H5: うち、法人 ※農事組合法人や会社等 | J5: うち、 個人経営体 | K5: うち、法人 ※農事組合法人や会社等 | M5: うち、 個人経営体 | N5: うち、法人 ※農事組合法人や会社等
A6: 1400000000 | B6: 神奈川県 | F6: 17121 | G6: 16764 | H6: 324 | I6: 15612 | J6: 15370 | K6: 233 | L6: 13809 | M6: 13520 | N6: 268
A7: 1410100000 | B7: 神奈川県 | C7: 鶴見区 | F7: 32 | G7: 32 | H7: - | I7: 25 | J7: 24 | K7: 1 | L7: 22 | M7: 21 | N7: 1
A8: 1410100001 | B8: 神奈川県 | C8: 鶴見区 | D8: 鶴見区 | E8: 東寺尾 | F8: 3 | G8: 3 | H8: - | I8: 3 | J8: x | K8: x | L8: 3 | M8: 3 | N8: -
A9: 1410100002 | B9: 神奈川県 | C9: 鶴見区 | D9: 鶴見区 | E9: 山手 | F9: 1 | G9: x | H9: x | I9: - | J9: - | K9: - | L9: 1 | M9: x | N9: x
A10: 1410100003 | B10: 神奈川県 | C10: 鶴見区 | D10: 鶴見区 | E10: 馬場 | F10: - | G10: - | H10: - | I10: - | J10: - | K10: - | L10: - | M10: - | N10: -
A11: 1410100004 | B11: 神奈川県 | C11: 鶴見区 | D11: 鶴見区 | E11: 北寺尾 | F11: 6 | G11: 6 | H11: - | I11: 6 | J11: 6 | K11: - | L11: 6 | M11: 6 | N11: -
A12: 1410100005 | B12: 神奈川県 | C12: 鶴見区 | D12: 鶴見区 | E12: 獅子ケ谷 | F12: 5 | G12: 5 | H12: - | I12: 4 | J12: 3 | K12: 1 | L12: 3 | M12: 2 | N12: 1
A13: 1410100006 | B13: 神奈川県 | C13: 鶴見区 | D13: 鶴見区 | E13: 駒岡 | F13: 12 | G13: 12 | H13: - | I13: 10 | J13: 10 | K13: - | L13: 8 | M13: 8 | N13: -
A14: 1410100007 | B14: 神奈川県 | C14: 鶴見区 | D14: 鶴見区 | E14: 上末吉 | F14: 3 | G14: 3 | H14: - | I14: 2 | J14: x | K14: x | L14: 1 | M14: x | N14: x
A15: 1410100008 | B15: 神奈川県 | C15: 鶴見区 | D15: 鶴見区 | E15: 江ケ崎 | F15: 2 | G15: x | H15: x | I15: - | J15: - | K15: - | L15: - | M15: - | N15: -
A16: 1410100009 | B16: 神奈川県 | C16: 鶴見区 | D16: 鶴見区 | E16: 矢向，尻手 | F16: - | G16: - | H16: - | I16: - | J16: - | K16: - | L16: - | M16: - | N16: -
A17: 1410200000 | B17: 神奈川県 | C17: 神奈川区 | F17: 159 | G17: 154 | H17: 4 | I17: 152 | J17: 148 | K17: 4 | L17: 130 | M17: 125 | N17: 5
A18: 1410200001 | B18: 神奈川県 | C18: 神奈川区 | D18: 神奈川区 | E18: 菅田東部 | F18: 28 | G18: 27 | H18: 1 | I18: 27 | J18: 26 | K18: 1 | L18: 22 | M18: 21 | N18: 1
A19: 1410200002 | B19: 神奈川県 | C19: 神奈川区 | D19: 神奈川区 | E19: 菅田南部 | F19: 22 | G19: 21 | H19: - | I19: 23 | J19: 22 | K19: 1 | L19: 19 | M19: 18 | N19: 1
A20: 1410200003 | B20: 神奈川県 | C20: 神奈川区 | D20: 神奈川区 | E20: 羽沢北部 | F20: 38 | G20: 36 | H20: 2 | I20: 37 | J20: 36 | K20: 1 | L20: 30 | M20: 28 | N20: 2
A21: 1410200004 | B21: 神奈川県 | C21: 神奈川区 | D21: 神奈川区 | E21: 羽沢侑生 | F21: 1 | G21: x | H21: x | I21: 1 | J21: x | K21: x | L21: 1 | M21: x | N21: x
A22: 1410200005 | B22: 神奈川県 | C22: 神奈川区 | D22: 神奈川区 | E22: 羽沢南部 | F22: 26 | G22: 25 | H22: 1 | I22: 24 | J22: 23 | K22: 1 | L22: 25 | M22: 24 | N22: 1
A23: 1410200006 | B23: 神奈川県 | C23: 神奈川区 | D23: 神奈川区 | E23: 三枚 | F23: 10 | G23: 10 | H23: - | I23: 9 | J23: 9 | K23: - | L23: 7 | M23: 7 | N23: -
A24: 1410200007 | B24: 神奈川県 | C24: 神奈川区 | D24: 神奈川区 | E24: 片倉 | F24: 13 | G24: 13 | H24: - | I24: 10 | J24: 10 | K24: - | L24: 9 | M24: 9 | N24: -
A25: 1410200008 | B25: 神奈川県 | C25: 神奈川区 | D25: 神奈川区 | E25: 神大寺 | F25: 16 | G25: 16 | H25: - | I25: 16 | J25: 16 | K25: - | L25: 13 | M25: 13 | N25: -
A26: 1410200009 | B26: 神奈川県 | C26: 神奈川区 | D26: 神奈川区 | E26: 西寺尾 | F26: - | G26: - | H26: - | I26: - | J26: - | K26: - | L26: - | M26: - | N26: -
A27: 1410200010 | B27: 神奈川県 | C27: 神奈川区 | D27: 神奈川区 | E27: 西寺尾東部 | F27: 1 | G27: x | H27: x | I27: 1 | J27: x | K27: x | L27: 1 | M27: x | N27: x
A28: 1410200011 | B28: 神奈川県 | C28: 神奈川区 | D28: 神奈川区 | E28: 三ツ沢 | F28: - | G28: - | H28: - | I28: - | J28: - | K28: - | L28: - | M28: - | N28: -
A29: 1410200012 | B29: 神奈川県 | C29: 神奈川区 | D29: 神奈川区 | E29: 三ッ沢東部，栗田谷 | F29: 1 | G29: x | H29: x | I29: 1 | J29: x | K29: x | L29: - | M29: - | N29: -
A30: 1410200013 | B30: 神奈川県 | C30: 神奈川区 | D30: 神奈川区 | E30: 六角橋 | F30: 3 | G30: 3 | H30: - | I30: 3 | J30: 3 | K30: - | L30: 2 | M30: x | N30: x
A31: 1410200014 | B31: 神奈川県 | C31: 神奈川区 | D31: 神奈川区 | E31: 白幡 | F31: - | G31: - | H31: - | I31: - | J31: - | K31: - | L31: - | M31: - | N31: -
A32: 1410200015 | B32: 神奈川県 | C32: 神奈川区 | D32: 神奈川区 | E32: 大口子安 | F32: - | G32: - | H32: - | I32: - | J32: - | K32: - | L32: 1 | M32: x | N32: x
A33: 1410299000 | B33: 神奈川県 | C33: 神奈川区 | D33: 神奈川区 | F33: @ | G33: @ | H33: @ | I33: @ | J33: @ | K33: @ | L33: - | M33: - | N33: -
A34: 1410299999 | B34: 神奈川県 | C34: 神奈川区 | D34: 神奈川区 | F34: @ | G34: @ | H34: @ | I34: - | J34: - | K34: - | L34: - | M34: - | N34: -
A35: 1410300000 | B35: 神奈川県 | C35: 西区 | F35: - | G35: - | H35: - | I35: - | J35: - | K35: - | L35: - | M35: - | N35: -
A36: 1410300001 | B36: 神奈川県 | C36: 西区 | D36: 西区 | E36: 西区全域 | F36: - | G36: - | H36: - | I36: - | J36: - | K36: - | L36: - | M36: - | N36: -
A37: 1410400000 | B37: 神奈川県 | C37: 中区 | F37: 4 | G37: 1 | H37: 1 | I37: 1 | J37: x | K37: x | L37: 1 | M37: x | N37: x
A38: 1410400001 | B38: 神奈川県 | C38: 中区 | D38: 中区 | E38: 本牧１・２丁目 | F38: 4 | G38: 1 | H38: 1 | I38: 1 | J38: x | K38: x | L38: 1 | M38: x | N38: x
A39: 1410400002 | B39: 神奈川県 | C39: 中区 | D39: 中区 | E39: 根岸その他 | F39: - | G39: - | H39: - | I39: - | J39: - | K39: - | L39: - | M39: - | N39: -
A40: 1410499000 | B40: 神奈川県 | C40: 中区 | D40: 中区 | F40: @ | G40: @ | H40: @ | I40: @ | J40: @ | K40: @ | L40: - | M40: - | N40: -
A41: 1410499999 | B41: 神奈川県 | C41: 中区 | D41: 中区 | F41: @ | G41: @ | H41: @ | I41: - | J41: - | K41: - | L41: - | M41: - | N41: -
...

Sheet （参考）地域類型区分
A1: 農業地域類型 （佐賀県・旧市町村別）
I2: 第１次分類 | K2: 第２次分類
I3: 1 | J3: 都市的地域 | K3: 1 | L3: 水田型
I4: 2 | J4: 平地農業地域 | K4: 2 | L4: 田畑型
I5: 3 | J5: 中間農業地域 | K5: 3 | L5: 畑地型
I6: 4 | J6: 山間農業地域
A8: 都道府県 | B8: 市区町村 | C8: 旧市区町村 | D8: 市区町村区分 | E8: 旧市区町村区分 | G8: 市区町村名 | H8: 旧市区町村名 | I8: コード | J8: 分類名 | K8: コード | L8: 分類名
A9: 14 | B9: 100 | C9: 00 | D9: 1 | E9: 0 | F9: 1410000100 | G9: 横浜市 | H9: 横浜市 | I9: 1 | J9: =VLOOKUP(I9,$I$3:$J$6,2) -> 都市的地域 | K9: 3 | L9: =VLOOKUP(K9,$K$3:$L$5,2) -> 畑地型
A10: 14 | B10: 101 | C10: 00 | D10: 0 | E10: 0 | F10: 1410100000 | G10: 鶴見区 | H10: 鶴見区 | I10: 1 | J10: =VLOOKUP(I10,$I$3:$J$6,2) -> 都市的地域 | K10: 3 | L10: =VLOOKUP(K10,$K$3:$L$5,2) -> 畑地型
A11: 14 | B11: 102 | C11: 00 | D11: 0 | E11: 0 | F11: 1410200000 | G11: 神奈川区 | H11: 神奈川区 | I11: 1 | J11: =VLOOKUP(I11,$I$3:$J$6,2) -> 都市的地域 | K11: 3 | L11: =VLOOKUP(K11,$K$3:$L$5,2) -> 畑地型
A12: 14 | B12: 103 | C12: 00 | D12: 0 | E12: 0 | F12: 1410300000 | G12: 西区 | H12: 西区 | I12: 1 | J12: =VLOOKUP(I12,$I$3:$J$6,2) -> 都市的地域 | K12: 3 | L12: =VLOOKUP(K12,$K$3:$L$5,2) -> 畑地型
A13: 14 | B13: 104 | C13: 00 | D13: 0 | E13: 0 | F13: 1410400000 | G13: 中区 | H13: 中区 | I13: 1 | J13: =VLOOKUP(I13,$I$3:$J$6,2) -> 都市的地域 | K13: 3 | L13: =VLOOKUP(K13,$K$3:$L$5,2) -> 畑地型
A14: 14 | B14: 105 | C14: 00 | D14: 0 | E14: 0 | F14: 1410500000 | G14: 南区（南区２－１） | H14: 南区（南区２－１） | I14: 1 | J14: =VLOOKUP(I14,$I$3:$J$6,2) -> 都市的地域 | K14: 3 | L14: =VLOOKUP(K14,$K$3:$L$5,2) -> 畑地型
A15: 14 | B15: 106 | C15: 00 | D15: 0 | E15: 0 | F15: 1410600000 | G15: 保土ケ谷区 | H15: 保土ケ谷区 | I15: 1 | J15: =VLOOKUP(I15,$I$3:$J$6,2) -> 都市的地域 | K15: 3 | L15: =VLOOKUP(K15,$K$3:$L$5,2) -> 畑地型
A16: 14 | B16: 106 | C16: 01 | D16: 0 | E16: 1 | F16: 1410601000 | G16: 保土ケ谷区 | H16: 保土ケ谷区２－１ | I16: 1 | J16: =VLOOKUP(I16,$I$3:$J$6,2) -> 都市的地域 | K16: 3 | L16: =VLOOKUP(K16,$K$3:$L$5,2) -> 畑地型
A17: 14 | B17: 106 | C17: 02 | D17: 0 | E17: 1 | F17: 1410602000 | G17: 保土ケ谷区 | H17: 二俣川村２－１ | I17: 1 | J17: =VLOOKUP(I17,$I$3:$J$6,2) -> 都市的地域 | K17: 3 | L17: =VLOOKUP(K17,$K$3:$L$5,2) -> 畑地型
A18: 14 | B18: 106 | C18: 03 | D18: 0 | E18: 1 | F18: 1410603000 | G18: 保土ケ谷区 | H18: 新治村２－１ | I18: 1 | J18: =VLOOKUP(I18,$I$3:$J$6,2) -> 都市的地域 | K18: 3 | L18: =VLOOKUP(K18,$K$3:$L$5,2) -> 畑地型
A19: 14 | B19: 107 | C19: 00 | D19: 0 | E19: 0 | F19: 1410700000 | G19: 磯子区 | H19: 磯子区 | I19: 1 | J19: =VLOOKUP(I19,$I$3:$J$6,2) -> 都市的地域 | K19: 3 | L19: =VLOOKUP(K19,$K$3:$L$5,2) -> 畑地型
A20: 14 | B20: 108 | C20: 00 | D20: 0 | E20: 0 | F20: 1410800000 | G20: 金沢区 | H20: 金沢区 | I20: 1 | J20: =VLOOKUP(I20,$I$3:$J$6,2) -> 都市的地域 | K20: 3 | L20: =VLOOKUP(K20,$K$3:$L$5,2) -> 畑地型
... A257: 14 | B257: 402 | C257: 02 | D257: 0 | E257: 0 | F257: 1440202000 | G257: 清川村 | H257: 宮ヶ瀬村 | I257: 4 | J257: =VLOOKUP(I257,$I$3:$J$6,2) -> 山間農業地域 | K257: 3 | L257: =VLOOKUP(K257,$K$3:$L$5,2) -> 畑地型

Sheet コード
A1: 番 | B1: 旧市コード | C1: 市 | D1: 旧市 | E1: 第１ | F1: 第２ | I1: 旭村 | J1: 岡崎村2_1 | K1: 金田村 | L1: 金目村 | M1: 城島村 | N1: 神田村 | O1: 大根村2_1 | P1: 大野町 | Q1: 土沢村 | R1: 平塚市 | S1: 豊田村
A2: 1 | B2: 1410000100 | C2: 横浜市 | D2: 横浜市 | E2: 都市的地域 | F2: 畑地型 | I2: 下万田 | J2: 丸島 | K2: 寺田繩 | L2: 広川 | M2: 下島 | N2: 横内第一 | O2: 真田 | P2: 横宿 | Q2: 遠藤原 | R2: 上平塚 | S2: 宮下
A3: 2 | B3: 1410100000 | C3: 鶴見区 | D3: 鶴見区 | E3: 都市的地域 | F3: 畑地型 | I3: 河内 | J3: 西海地 | K3: 長持 | L3: 青柳 | M3: 小鍋島 | N3: 横内第三 | P3: 下郷 | Q3: 下吉沢 | R3: 諏訪町 | S3: 小嶺
A4: 3 | B4: 1410200000 | C4: 神奈川区 | D4: 神奈川区 | E4: 都市的地域 | F4: 畑地型 | I4: 公所 | J4: 大畑 | K4: 入野 | L4: 千須谷 | M4: 城所 | N4: 横内第四 | P4: 下宿 | Q4: 宮下 | R4: 須賀西 | S4: 西町
A5: 4 | B5: 1410300000 | C5: 西区 | D5: 西区 | E5: 都市的地域 | F5: 畑地型 | I5: 高根 | J5: 入山瀬 | K5: 飯島 | L5: 川前 | M5: 大島 | N5: 横内第二 | P5: 観音町 | Q5: 山田屋敷・飛谷津 | R5: 須賀北 | S5: 打間木
A6: 5 | B6: 1410400000 | C6: 中区 | D6: 中区 | E6: 都市的地域 | F6: 畑地型 | I6: 根坂間 | J6: 別北 | L6: 大久保 | N6: 吉際 | P6: 古真土 | Q6: 山入・四十畑 | R6: 西仲町 | S6: 平等寺
A7: 6 | B7: 1410500000 | C7: 南区（南区２－１） | D7: 南区2_1 | E7: 都市的地域 | F7: 畑地型 | I7: 山下 | J7: 矢崎 | L7: 中久保 | N7: 大神第一 | P7: 御殿西 | Q7: 山之神 | R7: 馬入 | S7: 豊中
A8: 7 | B8: 1410600000 | C8: 保土ケ谷区 | D8: 保土ケ谷区 | E8: 都市的地域 | F8: 畑地型 | I8: 出繩 | L8: 坪之内 | N8: 大神第三 | P8: 御殿東 | Q8: 寺分 | R8: 平塚新宿 | S8: 本宿
A9: 8 | B9: 1410601000 | C9: 保土ケ谷区 | D9: 保土ケ谷区2_1 | E9: 都市的地域 | F9: 畑地型 | I9: 上万田 | L9: 片岡 | N9: 大神第四 | P9: 今里 | Q9: 庶子分 | R9: 柳町
A10: 9 | B10: 1410602000 | C10: 保土ケ谷区 | D10: 二俣川村2_1 | E10: 都市的地域 | F10: 畑地型 | I10: 徳延 | L10: 北久保 | N10: 大神第二 | P10: 坂戸 | Q10: 小熊
A11: 10 | B11: 1410603000 | C11: 保土ケ谷区 | D11: 新治村2_1 | E11: 都市的地域 | F11: 畑地型 | I11: 纒 | L11: 堀之内 | N11: 田村第一 | P11: 上宿 | Q11: 上惣領
A12: 11 | B12: 1410700000 | C12: 磯子区 | D12: 磯子区 | E12: 都市的地域 | F12: 畑地型 | N12: 田村第三 | P12: 上町 | Q12: 新宿・神戸
A13: 12 | B13: 1410800000 | C13: 金沢区 | D13: 金沢区 | E13: 都市的地域 | F13: 畑地型 | N13: 田村第四 | P13: 西町 | Q13: 惣領分
A14: 13 | B14: 1410900000 | C14: 港北区 | D14: 港北区 | E14: 都市的地域 | F14: 畑地型 | N14: 田村第二 | P14: 大真土 | Q14: 早田・人増
A15: 14 | B15: 1410901000 | C15: 港北区 | D15: 港北 | E15: 都市的地域 | F15: 畑地型 | P15: 中宿 | Q15: 台
A16: 15 | B16: 1410902000 | C16: 港北区 | D16: 新田村2_1 | E16: 都市的地域 | F16: 畑地型 | P16: 中庭
A17: 16 | B17: 1411000000 | C17: 戸塚区 | D17: 戸塚区 | E17: 都市的地域 | F17: 畑地型 | P17: 通町
A18: 17 | B18: 1411001000 | C18: 戸塚区 | D18: 戸塚町 | E18: 都市的地域 | F18: 畑地型 | P18: 田端
A19: 18 | B19: 1411002000 | C19: 戸塚区 | D19: 豊田村2_1 | E19: 都市的地域 | F19: 畑地型 | P19: 東町
A20: 19 | B20: 1411003000 | C20: 戸塚区 | D20: 川上村 | E20: 都市的地域 | F20: 畑地型 | P20: 南原上町
A21: 20 | B21: 1411004000 | C21: 戸塚区 | D21: 大正村2_1 | E21: 都市的地域 | F21: 畑地型 | P21: 南原東町
A22: 21 | B22: 1411005000 | C22: 戸塚区 | D22: 中川村3_1 | E22: 都市的地域 | F22: 畑地型 | P22: 尼沼
A23: 22 | B23: 1411100000 | C23: 港南区（南区２－２） | D23: 港南区_南区2_2 | E23: 都市的地域 | F23: 畑地型 | P23: 裏宿
A24: 23 | B24: 1411200000 | C24: 旭区 | D24: 旭区 | E24: 都市的地域 | F24: 畑地型
A25: 24 | B25: 1411201000 | C25: 旭区 | D25: 保土ケ谷区2_2 | E25: 都市的地域 | F25: 畑地型
A26: 25 | B26: 1411202000 | C26: 旭区 | D26: 二俣川村2_2 | E26: 都市的地域 | F26: 畑地型
A27: 26 | B27: 1411203000 | C27: 旭区 | D27: 都岡村 | E27: 都市的地域 | F27: 畑地型
A28: 27 | B28: 1411300000 | C28: 緑区 | D28: 緑区 | E28: 都市的地域 | F28: 畑地型
A29: 28 | B29: 1411301000 | C29: 緑区 | D29: 中里村2_1 | E29: 都市的地域 | F29: 畑地型
A30: 29 | B30: 1411302000 | C30: 緑区 | D30: 田奈村2_1 | E30: 都市的地域 | F30: 畑地型
A31: 30 | B31: 1411303000 | C31: 緑区 | D31: 新治村2_2 | E31: 都市的地域 | F31: 畑地型
A32: 31 | B32: 1411400000 | C32: 瀬谷区 | D32: 瀬谷区 | E32: 都市的地域 | F32: 畑地型
A33: 32 | B33: 1411401000 | C33: 瀬谷区 | D33: 中川村3_2 | E33: 都市的地域 | F33: 畑地型
A34: 33 | B34: 1411402000 | C34: 瀬谷区 | D34: 瀬谷村 | E34: 都市的地域 | F34: 畑地型
A35: 34 | B35: 1411500000 | C35: 栄区 | D35: 栄区 | E35: 都市的地域 | F35: 畑地型
... A52: 51 | B52: 1411804000 | C52: 都筑区 | D52: 山内村2_2 | E52: 都市的地域 | F52: 畑地型
B53: 1413000100 | C53: 川崎市 | D53: 川崎市 | E53: 都市的地域 | F53: 畑地型
B54: 1413100000 | C54: 川崎区 | D54: 川崎区 | E54: 都市的地域 | F54: 畑地型
B55: 1413200000 | C55: 幸区 | D55: 幸区 | E55: 都市的地域 | F55: 畑地型
B56: 1413300000 | C56: 中原区 | D56: 中原区 | E56: 都市的地域 | F56: 畑地型
...
