Workbook
Name 旭村: コード!$I$2:$I$11
Name 岡崎村2_1: コード!$J$2:$J$7
Name 金田村: コード!$K$2:$K$5
Name 金目村: コード!$L$2:$L$11
Name 城島村: コード!$M$2:$M$5
Name 神田村: コード!$N$2:$N$14
Name 大根村2_1: コード!$O$2
Name 大野町: コード!$P$2:$P$23
Name 土沢村: コード!$Q$2:$Q$15
Name 平塚市: コード!$R$2:$R$9
Name 豊田村: コード!$S$2:$S$8

Sheet 重複確認
A3: 個数 / 農業集落 | B3: 列ラベル
A4: 行ラベル | B4: (空白) | C4: 平塚市 | D4: 総計
A5: 横宿 | C5: 1 | D5: 1
A6: 下宿 | C6: 1 | D6: 1
A7: 下島 | C7: 1 | D7: 1
A8: 河内 | C8: 1 | D8: 1
A9: 宮下 | C9: 2 | D9: 2
A10: 今里 | C10: 1 | D10: 1
A11: 坂戸 | C11: 1 | D11: 1
A12: 上町 | C12: 1 | D12: 1
A13: 諏訪町 | C13: 1 | D13: 1
A14: 西町 | C14: 2 | D14: 2
A15: 大久保 | C15: 1 | D15: 1
A16: 大島 | C16: 1 | D16: 1
... A25: 本宿 | C25: 1 | D25: 1
A26: (空白)
A27: 下郷 | C27: 1 | D27: 1
A28: 台 | C28: 1 | D28: 1
A29: 通町 | C29: 1 | D29: 1
A30: 飯島 | C30: 1 | D30: 1
A31: 上宿 | C31: 1 | D31: 1
A32: 上平塚 | C32: 1 | D32: 1
A33: 柳町 | C33: 1 | D33: 1
A34: 西仲町 | C34: 1 | D34: 1
A35: 平塚新宿 | C35: 1 | D35: 1
A36: 馬入 | C36: 1 | D36: 1
A37: 須賀北 | C37: 1 | D37: 1
A38: 須賀西 | C38: 1 | D38: 1
... A103: 総計 | C103: 99 | D103: 99

Sheet 2020年
A2: =_xlfn.CONCAT(A7) -> 1420300000 | F2: 2020年農業センサス 農業集落別データ（経営体数、耕地面積、農業従事者数、農業後継者等） | V2: 22 | W2: 23 | X2: 24 | Y2: 25 | Z2: 26 | AA2: 27 | AB2: 28 | AC2: 29 | AD2: 30 | AE2: 31 | AF2: 32 | AG2: 33 | AH2: 34 | AI2: 35 | AJ2: 36 | AK2: 37 | AL2: 38 | AM2: 39 | AN2: 40 | AO2: 41 | AP2: 42 | AQ2: 43 | AR2: 44 | AS2: 45 | AT2: 46 | AU2: 47 | AV2: 48 | AW2: 49 | AX2: 50 | AY2: 51 | AZ2: 52
A3: 1 | B3: 2 | C3: 3 | D3: 4 | E3: 5 | F3: 6 | G3: 7 | H3: 8 | I3: 9 | J3: 10 | K3: 11 | L3: 12 | M3: 13 | N3: 14 | O3: 15 | P3: 16 | Q3: 17 | R3: 18 | S3: 19 | T3: 20 | U3: 21 | V3: 22 | W3: 23 | X3: 24 | Y3: 25 | Z3: 26 | AA3: 27 | AB3: 28 | AC3: 29 | AD3: 30 | AE3: 31 | AF3: 32 | AG3: 33 | AH3: 34
A4: 指 標 | F4: 農業経営体数 | M4: 経営耕地のある経営体数 | N4: 経営耕地面積 （ha） | R4: １経営体当たりの経営耕地面積 （ha） | S4: 基幹的農業従事者数 （個人経営体） | V4: 基幹的農業従事者の平均年齢 | W4: ５年以内に農業を引き継ぐ後継者の確保状況 | Z4: 行っている地域活動 （地域調査） | AN4: 40 | AO4: 41 | AP4: 42 | AQ4: 43
A5: コード | B5: 県 | C5: 市町村 | D5: 旧市町村 | E5: 農業集落 | G5: 個人経営体 | H5: 法人 | I5: 法人のうち、農事組合法人 | J5: 法人のうち、会社 | K5: その他の法人 | L5: その他の経営体 | N5: 計 | O5: 田 | P5: 畑 | Q5: 樹園地 | S5: 計 | T5: 65歳未満 | U5: 65歳以上 | W5: 確保している | X5: ５年以内に引き継がない | Y5: 確保していない | Z5: いずれかの活動を行っている | AA5: 環境美化・自然環境の保全 | AB5: 農業集落行事（祭り・イベントなど）の実施 | AC5: 農業集落内の福祉・厚生 | AD5: 定住を推進する取組 | AE5: グリーン・ツーリズムの取組 | AF5: ６次産業化への取組 | AG5: 再生可能エネルギーへの取組 | AH5: いずれの活動も行っていない | AI5: 集落営農数 | AJ5: 総農家 | AK5: 販売農家 | AL5: 自給的農家 | AM5: 土地持ち非農家 | AN5: 有機農業に取り組んでいる_計_作付（栽培）実経営体数 | AO5: 有機農業に取り組んでいる_計_作付（栽培）面積 | AP5: 青色申告を行っている_小計 | AQ5: データを活用した農業を行っている_小計 | AR5: 農業従事者_男女計の平均年齢 | AS5: 農業従事者_男の平均年齢 | AT5: 農業従事者_女の平均年齢 | AU5: 基幹的農業従事者_男女計の平均年齢 | AV5: 基幹的農業従事者_男の平均年齢 | AW5: 基幹的農業従事者_女の平均年齢 | AX5: 自営農業従事日数が150日以上の人_男女計の平均年齢 | AY5: 自営農業従事日数が150日以上の人_男の平均年齢 | AZ5: 自営農業従事日数が150日以上の人_女の平均年齢
A6: 1400000000 | B6: 神奈川県 | F6: 11402 | G6: 11091 | H6: 294 | I6: 17 | J6: 246 | K6: 31 | L6: 17 | M6: 11234 | N6: 9782 | O6: 2358 | P6: 5664 | Q6: 1760 | R6: 0.9 | S6: 16455 | T6: 5769 | U6: 10686 | V6: 66.96 | W6: 3443 | X6: 622 | Y6: 7337 | Z6: 1012 | AA6: 746 | AB6: 947 | AC6: 465 | AD6: 12 | AE6: 21 | AF6: 13 | AG6: 18 | AH6: 263 | AI6: 5 | AJ6: 21290 | AK6: 10479 | AL6: 10811 | AM6: … | AN6: 1091 | AO6: 66915 | AP6: 6996 | AQ6: 2371 | AR6: 62.39 | AS6: 61.35 | AT6: 63.69 | AU6: 66.96 | AV6: 66 | AW6: 68.51 | AX6: 65.65 | AY6: 64.8 | AZ6: 67.08
A7: 1420300000 | B7: 神奈川県 | C7: 平塚市 | F7: 845 | G7: 819 | H7: 24 | I7: 1 | J7: 21 | K7: 2 | L7: 2 | M7: 832 | N7: 880 | O7: 566 | P7: 299 | Q7: 15 | R7: 1.1 | S7: 1076 | T7: 298 | U7: 778 | V7: 69.11 | W7: 246 | X7: 100 | Y7: 499 | Z7: 63 | AA7: 56 | AB7: 62 | AC7: 38 | AD7: 2 | AE7: 1 | AF7: 0 | AG7: 1 | AH7: 4 | AI7: 1 | AJ7: 1321 | AK7: 816 | AL7: 505 | AM7: … | AN7: 82 | AO7: 4169 | AP7: 515 | AQ7: 151 | AR7: 64.69 | AS7: 63.88 | AT7: 65.73 | AU7: 69.11 | AV7: 68.66 | AW7: 69.84 | AX7: 68.07 | AY7: 67.73 | AZ7: 68.59
A8: 1420301000 | B8: 神奈川県 | C8: 平塚市 | D8: 平塚市 | F8: 5 | G8: 4 | H8: 1 | I8: - | J8: 1 | K8: - | L8: - | M8: 5 | N8: 3 | O8: 1 | P8: 2 | Q8: - | R8: 0.6 | S8: 6 | T8: 3 | U8: 3 | V8: 62.83 | W8: 1 | X8: 2 | Y8: 2 | Z8: … | AA8: … | AB8: … | AC8: … | AD8: … | AE8: … | AF8: … | AG8: … | AH8: … | AI8: 0 | AJ8: 13 | AK8: 4 | AL8: 9 | AM8: … | AN8: 2 | AO8: 50 | AP8: 1 | AQ8: 1 | AR8: 66.88 | AS8: 63 | AT8: 73.33 | AU8: 62.83 | AV8: 63 | AW8: 62 | AX8: 62.83 | AY8: 63 | AZ8: 62
A9: 1420301001 | B9: 神奈川県 | C9: 平塚市 | D9: 平塚市 | E9: 上平塚 | F9: - | G9: - | H9: - | I9: - | J9: - | K9: - | L9: - | M9: - | N9: - | O9: - | P9: - | Q9: - | R9: - | S9: - | T9: - | U9: - | V9: - | W9: - | X9: - | Y9: - | Z9: … | AA9: … | AB9: … | AC9: … | AD9: … | AE9: … | AF9: … | AG9: … | AH9: … | AI9: 0 | AJ9: 4 | AK9: - | AL9: 4 | AM9: … | AN9: - | AO9: - | AP9: - | AQ9: - | AR9: - | AS9: - | AT9: - | AU9: - | AV9: - | AW9: - | AX9: - | AY9: - | AZ9: -
A10: 1420301002 | B10: 神奈川県 | C10: 平塚市 | D10: 平塚市 | E10: 諏訪町 | F10: - | G10: - | H10: - | I10: - | J10: - | K10: - | L10: - | M10: - | N10: - | O10: - | P10: - | Q10: - | R10: - | S10: - | T10: - | U10: - | V10: - | W10: - | X10: - | Y10: - | Z10: … | AA10: … | AB10: … | AC10: … | AD10: … | AE10: … | AF10: … | AG10: … | AH10: … | AI10: 0 | AJ10: - | AK10: - | AL10: - | AM10: … | AN10: - | AO10: - | AP10: - | AQ10: - | AR10: - | AS10: - | AT10: - | AU10: - | AV10: - | AW10: - | AX10: - | AY10: - | AZ10: -
A11: 1420301003 | B11: 神奈川県 | C11: 平塚市 | D11: 平塚市 | E11: 柳町 | F11: 3 | G11: 2 | H11: 1 | I11: - | J11: 1 | K11: - | L11: - | M11: 3 | N11: 2 | O11: 1 | P11: 1 | Q11: - | R11: 0.7 | S11: 4 | T11: 2 | U11: 2 | V11: 60.25 | W11: 1 | X11: 1 | Y11: 1 | Z11: … | AA11: … | AB11: … | AC11: … | AD11: … | AE11: … | AF11: … | AG11: … | AH11: … | AI11: 0 | AJ11: 5 | AK11: 2 | AL11: 3 | AM11: … | AN11: 1 | AO11: 20 | AP11: 1 | AQ11: - | AR11: 63.4 | AS11: 59.67 | AT11: 69 | AU11: 60.25 | AV11: 59.67 | AW11: 62 | AX11: 60.25 | AY11: 59.67 | AZ11: 62
A12: 1420301004 | B12: 神奈川県 | C12: 平塚市 | D12: 平塚市 | E12: 西仲町 | F12: 1 | G12: x | H12: x | I12: x | J12: x | K12: x | L12: x | M12: x | N12: x | O12: x | P12: x | Q12: x | R12: x | S12: x | T12: x | U12: x | V12: x | W12: x | X12: x | Y12: x | Z12: … | AA12: … | AB12: … | AC12: … | AD12: … | AE12: … | AF12: … | AG12: … | AH12: … | AI12: 0 | AJ12: 3 | AK12: 1 | AL12: 2 | AM12: … | AN12: x | AO12: x | AP12: x | AQ12: x | AR12: x | AS12: x | AT12: x | AU12: x | AV12: x | AW12: x | AX12: x | AY12: x | AZ12: x
A13: 1420301005 | B13: 神奈川県 | C13: 平塚市 | D13: 平塚市 | E13: 平塚新宿 | F13: 1 | G13: x | H13: x | I13: x | J13: x | K13: x | L13: x | M13: x | N13: x | O13: x | P13: x | Q13: x | R13: x | S13: x | T13: x | U13: x | V13: x | W13: x | X13: x | Y13: x | Z13: … | AA13: … | AB13: … | AC13: … | AD13: … | AE13: … | AF13: … | AG13: … | AH13: … | AI13: 0 | AJ13: 1 | AK13: 1 | AL13: - | AM13: … | AN13: x | AO13: x | AP13: x | AQ13: x | AR13: x | AS13: x | AT13: x | AU13: x | AV13: x | AW13: x | AX13: x | AY13: x | AZ13: x
A14: 1420301006 | B14: 神奈川県 | C14: 平塚市 | D14: 平塚市 | E14: 馬入 | F14: - | G14: - | H14: - | I14: - | J14: - | K14: - | L14: - | M14: - | N14: - | O14: - | P14: - | Q14: - | R14: - | S14: - | T14: - | U14: - | V14: - | W14: - | X14: - | Y14: - | Z14: … | AA14: … | AB14: … | AC14: … | AD14: … | AE14: … | AF14: … | AG14: … | AH14: … | AI14: 0 | AJ14: - | AK14: - | AL14: - | AM14: … | AN14: - | AO14: - | AP14: - | AQ14: - | AR14: - | AS14: - | AT14: - | AU14: - | AV14: - | AW14: - | AX14: - | AY14: - | AZ14: -
A15: 1420301007 | B15: 神奈川県 | C15: 平塚市 | D15: 平塚市 | E15: 須賀北 | F15: - | G15: - | H15: - | I15: - | J15: - | K15: - | L15: - | M15: - | N15: - | O15: - | P15: - | Q15: - | R15: - | S15: - | T15: - | U15: - | V15: - | W15: - | X15: - | Y15: - | Z15: … | AA15: … | AB15: … | AC15: … | AD15: … | AE15: … | AF15: … | AG15: … | AH15: … | AI15: 0 | AJ15: - | AK15: - | AL15: - | AM15: … | AN15: - | AO15: - | AP15: - | AQ15: - | AR15: - | AS15: - | AT15: - | AU15: - | AV15: - | AW15: - | AX15: - | AY15: - | AZ15: -
A16: 1420301008 | B16: 神奈川県 | C16: 平塚市 | D16: 平塚市 | E16: 須賀西 | F16: - | G16: - | H16: - | I16: - | J16: - | K16: - | L16: - | M16: - | N16: - | O16: - | P16: - | Q16: - | R16: - | S16: - | T16: - | U16: - | V16: - | W16: - | X16: - | Y16: - | Z16: … | AA16: … | AB16: … | AC16: … | AD16: … | AE16: … | AF16: … | AG16: … | AH16: … | AI16: 0 | AJ16: - | AK16: - | AL16: - | AM16: … | AN16: - | AO16: - | AP16: - | AQ16: - | AR16: - | AS16: - | AT16: - | AU16: - | AV16: - | AW16: - | AX16: - | AY16: - | AZ16: -
A17: 1420302000 | B17: 神奈川県 | C17: 平塚市 | D17: 旭村 | F17: 78 | G17: 76 | H17: 2 | I17: 1 | J17: 1 | K17: - | L17: - | M17: 76 | N17: 54 | O17: 28 | P17: 24 | Q17: 2 | R17: 0.7 | S17: 106 | T17: 42 | U17: 64 | V17: 66.43 | W17: 23 | X17: 8 | Y17: 47 | Z17: 4 | AA17: 2 | AB17: 4 | AC17: 3 | AD17: 0 | AE17: 0 | AF17: 0 | AG17: 0 | AH17: 3 | AI17: 0 | AJ17: 129 | AK17: 72 | AL17: 57 | AM17: … | AN17: 7 | AO17: 181 | AP17: 56 | AQ17: 13 | AR17: 65.67 | AS17: 64.95 | AT17: 66.64 | AU17: 66.43 | AV17: 67.26 | AW17: 65.27 | AX17: 65.86 | AY17: 66.2 | AZ17: 65.44
A18: 1420302001 | B18: 神奈川県 | C18: 平塚市 | D18: 旭村 | E18: 公所 | F18: 6 | G18: 6 | H18: - | I18: - | J18: - | K18: - | L18: - | M18: 6 | N18: 8 | O18: 4 | P18: 4 | Q18: - | R18: 1.3 | S18: 12 | T18: 6 | U18: 6 | V18: 63.75 | W18: 5 | X18: - | Y18: 1 | Z18: 1 | AA18: 0 | AB18: 1 | AC18: 1 | AD18: 0 | AE18: 0 | AF18: 0 | AG18: 0 | AH18: 0 | AI18: 0 | AJ18: 14 | AK18: 6 | AL18: 8 | AM18: … | AN18: - | AO18: - | AP18: 6 | AQ18: 2 | AR18: 65.94 | AS18: 64.25 | AT18: 69.33 | AU18: 63.75 | AV18: 62.57 | AW18: 65.4 | AX18: 63.75 | AY18: 62.57 | AZ18: 65.4
A19: 1420302002 | B19: 神奈川県 | C19: 平塚市 | D19: 旭村 | E19: 根坂間 | F19: 26 | G19: 25 | H19: 1 | I19: 1 | J19: - | K19: - | L19: - | M19: 25 | N19: 21 | O19: 10 | P19: 10 | Q19: 1 | R19: 0.8 | S19: 30 | T19: 10 | U19: 20 | V19: 65.93 | W19: 6 | X19: 4 | Y19: 16 | Z19: 1 | AA19: 1 | AB19: 1 | AC19: 1 | AD19: 0 | AE19: 0 | AF19: 0 | AG19: 0 | AH19: 0 | AI19: 0 | AJ19: 35 | AK19: 24 | AL19: 11 | AM19: … | AN19: 4 | AO19: 98 | AP19: 16 | AQ19: 5 | AR19: 64.19 | AS19: 64.48 | AT19: 63.77 | AU19: 65.93 | AV19: 68.47 | AW19: 61.55 | AX19: 67.42 | AY19: 69.56 | AZ19: 64
A20: 1420302003 | B20: 神奈川県 | C20: 平塚市 | D20: 旭村 | E20: 出繩 | F20: 9 | G20: 9 | H20: - | I20: - | J20: - | K20: - | L20: - | M20: 9 | N20: 4 | O20: 1 | P20: 2 | Q20: - | R20: 0.4 | S20: 11 | T20: 3 | U20: 8 | V20: 75.09 | W20: 3 | X20: - | Y20: 6 | Z20: 0 | AA20: 0 | AB20: 0 | AC20: 0 | AD20: 0 | AE20: 0 | AF20: 0 | AG20: 0 | AH20: 1 | AI20: 0 | AJ20: 17 | AK20: 7 | AL20: 10 | AM20: … | AN20: - | AO20: - | AP20: 5 | AQ20: - | AR20: 69 | AS20: 64.13 | AT20: 73.33 | AU20: 75.09 | AV20: 75.67 | AW20: 74.88 | AX20: 75.09 | AY20: 75.67 | AZ20: 74.88
A21: 1420302004 | B21: 神奈川県 | C21: 平塚市 | D21: 旭村 | E21: 上万田 | F21: 13 | G21: 13 | H21: - | I21: - | J21: - | K21: - | L21: - | M21: 13 | N21: 7 | O21: 2 | P21: 4 | Q21: 0 | R21: 0.5 | S21: 19 | T21: 10 | U21: 9 | V21: 62.89 | W21: 2 | X21: 2 | Y21: 9 | Z21: 0 | AA21: 0 | AB21: 0 | AC21: 0 | AD21: 0 | AE21: 0 | AF21: 0 | AG21: 0 | AH21: 1 | AI21: 0 | AJ21: 15 | AK21: 12 | AL21: 3 | AM21: … | AN21: 1 | AO21: 13 | AP21: 9 | AQ21: 1 | AR21: 63.32 | AS21: 62.37 | AT21: 64.53 | AU21: 62.89 | AV21: 65.18 | AW21: 59.75 | AX21: 61.28 | AY21: 61.56 | AZ21: 61
A22: 1420302005 | B22: 神奈川県 | C22: 平塚市 | D22: 旭村 | E22: 下万田 | F22: 4 | G22: 4 | H22: - | I22: - | J22: - | K22: - | L22: - | M22: 4 | N22: 1 | O22: 1 | P22: 0 | Q22: - | R22: 0.3 | S22: 7 | T22: 4 | U22: 3 | V22: 62.43 | W22: 2 | X22: 1 | Y22: 1 | Z22: … | AA22: … | AB22: … | AC22: … | AD22: … | AE22: … | AF22: … | AG22: … | AH22: … | AI22: 0 | AJ22: 4 | AK22: 4 | AL22: - | AM22: … | AN22: - | AO22: - | AP22: 4 | AQ22: 1 | AR22: 62.75 | AS22: 60.6 | AT22: 66.33 | AU22: 62.43 | AV22: 60.6 | AW22: 67 | AX22: 62.43 | AY22: 60.6 | AZ22: 67
A23: 1420302006 | B23: 神奈川県 | C23: 平塚市 | D23: 旭村 | E23: 高根 | F23: 3 | G23: 3 | H23: - | I23: - | J23: - | K23: - | L23: - | M23: 3 | N23: 1 | O23: 1 | P23: 0 | Q23: 0 | R23: 0.3 | S23: 4 | T23: - | U23: 4 | V23: 78.25 | W23: - | X23: - | Y23: 3 | Z23: 1 | AA23: 1 | AB23: 1 | AC23: 1 | AD23: 0 | AE23: 0 | AF23: 0 | AG23: 0 | AH23: 0 | AI23: 0 | AJ23: 6 | AK23: 2 | AL23: 4 | AM23: … | AN23: - | AO23: - | AP23: 2 | AQ23: - | AR23: 73.17 | AS23: 73.33 | AT23: 73 | AU23: 78.25 | AV23: 73.5 | AW23: 83 | AX23: - | AY23: - | AZ23: -
A24: 1420302007 | B24: 神奈川県 | C24: 平塚市 | D24: 旭村 | E24: 山下 | F24: 6 | G24: 6 | H24: - | I24: - | J24: - | K24: - | L24: - | M24: 6 | N24: 3 | O24: 2 | P24: 1 | Q24: - | R24: 0.5 | S24: 5 | T24: - | U24: 5 | V24: 72.8 | W24: - | X24: 1 | Y24: 5 | Z24: … | AA24: … | AB24: … | AC24: … | AD24: … | AE24: … | AF24: … | AG24: … | AH24: … | AI24: 0 | AJ24: 15 | AK24: 6 | AL24: 9 | AM24: … | AN24: - | AO24: - | AP24: 5 | AQ24: 2 | AR24: 65.27 | AS24: 66.29 | AT24: 63.5 | AU24: 72.8 | AV24: 74.75 | AW24: 65 | AX24: 75 | AY24: 80 | AZ24: 65
A25: 1420302008 | B25: 神奈川県 | C25: 平塚市 | D25: 旭村 | E25: 河内 | F25: - | G25: - | H25: - | I25: - | J25: - | K25: - | L25: - | M25: - | N25: - | O25: - | P25: - | Q25: - | R25: - | S25: - | T25: - | U25: - | V25: - | W25: - | X25: - | Y25: - | Z25: 0 | AA25: 0 | AB25: 0 | AC25: 0 | AD25: 0 | AE25: 0 | AF25: 0 | AG25: 0 | AH25: 1 | AI25: 0 | AJ25: 3 | AK25: - | AL25: 3 | AM25: … | AN25: - | AO25: - | AP25: - | AQ25: - | AR25: - | AS25: - | AT25: - | AU25: - | AV25: - | AW25: - | AX25: - | AY25: - | AZ25: -
A26: 1420302009 | B26: 神奈川県 | C26: 平塚市 | D26: 旭村 | E26: 徳延 | F26: 6 | G26: 5 | H26: 1 | I26: - | J26: 1 | K26: - | L26: - | M26: 5 | N26: 2 | O26: 1 | P26: 1 | Q26: 0 | R26: 0.4 | S26: 9 | T26: 3 | U26: 6 | V26: 71.33 | W26: 3 | X26: - | Y26: 3 | Z26: … | AA26: … | AB26: … | AC26: … | AD26: … | AE26: … | AF26: … | AG26: … | AH26: … | AI26: 0 | AJ26: 10 | AK26: 6 | AL26: 4 | AM26: … | AN26: - | AO26: - | AP26: 5 | AQ26: 2 | AR26: 73.67 | AS26: 72.43 | AT26: 75.4 | AU26: 71.33 | AV26: 70.6 | AW26: 72.25 | AX26: 69.5 | AY26: 66.75 | AZ26: 72.25
A27: 1420302010 | B27: 神奈川県 | C27: 平塚市 | D27: 旭村 | E27: 纒 | F27: 5 | G27: 5 | H27: - | I27: - | J27: - | K27: - | L27: - | M27: 5 | N27: 6 | O27: 5 | P27: 1 | Q27: - | R27: 1.2 | S27: 9 | T27: 6 | U27: 3 | V27: 58 | W27: 2 | X27: - | Y27: 3 | Z27: 1 | AA27: 0 | AB27: 1 | AC27: 0 | AD27: 0 | AE27: 0 | AF27: 0 | AG27: 0 | AH27: 0 | AI27: 0 | AJ27: 10 | AK27: 5 | AL27: 5 | AM27: … | AN27: 2 | AO27: 70 | AP27: 4 | AQ27: - | AR27: 64.38 | AS27: 66.86 | AT27: 61.5 | AU27: 58 | AV27: 64.17 | AW27: 45.67 | AX27: 56.29 | AY27: 62.8 | AZ27: 40
A28: 1420303000 | B28: 神奈川県 | C28: 平塚市 | D28: 大野町 | F28: 111 | G28: 108 | H28: 2 | I28: - | J28: 2 | K28: - | L28: 1 | M28: 111 | N28: 106 | O28: 71 | P28: 33 | Q28: 2 | R28: 1 | S28: 133 | T28: 40 | U28: 93 | V28: 69.58 | W28: 44 | X28: 12 | Y28: 55 | Z28: 4 | AA28: 2 | AB28: 3 | AC28: 2 | AD28: 0 | AE28: 0 | AF28: 0 | AG28: 0 | AH28: 0 | AI28: 0 | AJ28: 176 | AK28: 107 | AL28: 69 | AM28: … | AN28: 13 | AO28: 936 | AP28: 79 | AQ28: 21 | AR28: 64.25 | AS28: 63.12 | AT28: 65.73 | AU28: 69.58 | AV28: 69.58 | AW28: 69.58 | AX28: 68.41 | AY28: 67.93 | AZ28: 69.29
A29: 1420303001 | B29: 神奈川県 | C29: 平塚市 | D29: 大野町 | E29: 大真土 | F29: 16 | G29: 16 | H29: - | I29: - | J29: - | K29: - | L29: - | M29: 16 | N29: 24 | O29: 19 | P29: 4 | Q29: 2 | R29: 1.5 | S29: 22 | T29: 7 | U29: 15 | V29: 71.32 | W29: 4 | X29: 5 | Y29: 7 | Z29: … | AA29: … | AB29: … | AC29: … | AD29: … | AE29: … | AF29: … | AG29: … | AH29: … | AI29: 0 | AJ29: 23 | AK29: 16 | AL29: 7 | AM29: … | AN29: 2 | AO29: 100 | AP29: 11 | AQ29: 2 | AR29: 62.78 | AS29: 59.89 | AT29: 66.89 | AU29: 71.32 | AV29: 70.57 | AW29: 72.63 | AX29: 66.72 | AY29: 64 | AZ29: 71.25
A30: 1420303002 | B30: 神奈川県 | C30: 平塚市 | D30: 大野町 | E30: 古真土 | F30: 5 | G30: 4 | H30: 1 | I30: - | J30: 1 | K30: - | L30: - | M30: 5 | N30: 3 | O30: 1 | P30: 2 | Q30: - | R30: 0.6 | S30: 4 | T30: - | U30: 4 | V30: 76 | W30: 4 | X30: - | Y30: 1 | Z30: 1 | AA30: 1 | AB30: 1 | AC30: 1 | AD30: 0 | AE30: 0 | AF30: 0 | AG30: 0 | AH30: 0 | AI30: 0 | AJ30: 13 | AK30: 5 | AL30: 8 | AM30: … | AN30: 1 | AO30: 30 | AP30: 4 | AQ30: 2 | AR30: 72.71 | AS30: 68 | AT30: 79 | AU30: 76 | AV30: 72 | AW30: 80 | AX30: 76 | AY30: 72 | AZ30: 80
A31: 1420303003 | B31: 神奈川県 | C31: 平塚市 | D31: 大野町 | E31: 今里 | F31: 24 | G31: 22 | H31: 1 | I31: - | J31: 1 | K31: - | L31: 1 | M31: 24 | N31: 32 | O31: 18 | P31: 13 | Q31: 0 | R31: 1.3 | S31: 32 | T31: 11 | U31: 21 | V31: 68.72 | W31: 10 | X31: 1 | Y31: 13 | Z31: 1 | AA31: 1 | AB31: 1 | AC31: 0 | AD31: 0 | AE31: 0 | AF31: 0 | AG31: 0 | AH31: 0 | AI31: 0 | AJ31: 30 | AK31: 21 | AL31: 9 | AM31: … | AN31: 5 | AO31: 542 | AP31: 18 | AQ31: 5 | AR31: 64.15 | AS31: 64.94 | AT31: 63.22 | AU31: 68.72 | AV31: 70.39 | AW31: 66.57 | AX31: 67.38 | AY31: 69.91 | AZ31: 64.12
A32: 1420303004 | B32: 神奈川県 | C32: 平塚市 | D32: 大野町 | E32: 西町 | F32: 4 | G32: 4 | H32: - | I32: - | J32: - | K32: - | L32: - | M32: 4 | N32: 2 | O32: 1 | P32: 1 | Q32: - | R32: 0.5 | S32: 4 | T32: 1 | U32: 3 | V32: 73.75 | W32: 1 | X32: 1 | Y32: 2 | Z32: … | AA32: … | AB32: … | AC32: … | AD32: … | AE32: … | AF32: … | AG32: … | AH32: … | AI32: 0 | AJ32: 9 | AK32: 4 | AL32: 5 | AM32: … | AN32: - | AO32: - | AP32: 3 | AQ32: 1 | AR32: 66.27 | AS32: 59.14 | AT32: 78.75 | AU32: 73.75 | AV32: 72.67 | AW32: 77 | AX32: 78.2 | AY32: 74.33 | AZ32: 84
A33: 1420303005 | B33: 神奈川県 | C33: 平塚市 | D33: 大野町 | E33: 通町 | F33: 11 | G33: 11 | H33: - | I33: - | J33: - | K33: - | L33: - | M33: 11 | N33: 9 | O33: 7 | P33: 2 | Q33: - | R33: 0.8 | S33: 12 | T33: 4 | U33: 8 | V33: 69.58 | W33: 3 | X33: 2 | Y33: 6 | Z33: 1 | AA33: 0 | AB33: 1 | AC33: 0 | AD33: 0 | AE33: 0 | AF33: 0 | AG33: 0 | AH33: 0 | AI33: 0 | AJ33: 17 | AK33: 11 | AL33: 6 | AM33: … | AN33: 1 | AO33: 50 | AP33: 7 | AQ33: 1 | AR33: 61.75 | AS33: 59.07 | AT33: 64.85 | AU33: 69.58 | AV33: 65.43 | AW33: 75.4 | AX33: 71.54 | AY33: 67.86 | AZ33: 75.83
A34: 1420303006 | B34: 神奈川県 | C34: 平塚市 | D34: 大野町 | E34: 中庭 | F34: 4 | G34: 4 | H34: - | I34: - | J34: - | K34: - | L34: - | M34: 4 | N34: 2 | O34: 1 | P34: 1 | Q34: - | R34: 0.5 | S34: 4 | T34: 3 | U34: 1 | V34: 49.75 | W34: 2 | X34: - | Y34: 2 | Z34: … | AA34: … | AB34: … | AC34: … | AD34: … | AE34: … | AF34: … | AG34: … | AH34: … | AI34: 0 | AJ34: 9 | AK34: 4 | AL34: 5 | AM34: … | AN34: - | AO34: - | AP34: 3 | AQ34: 1 | AR34: 57.73 | AS34: 53.29 | AT34: 65.5 | AU34: 49.75 | AV34: 45.33 | AW34: 63 | AX34: 49.75 | AY34: 45.33 | AZ34: 63
A35: 1420303007 | B35: 神奈川県 | C35: 平塚市 | D35: 大野町 | E35: 東町 | F35: 9 | G35: 9 | H35: - | I35: - | J35: - | K35: - | L35: - | M35: 9 | N35: 8 | O35: 6 | P35: 2 | Q35: 0 | R35: 0.9 | S35: 14 | T35: 4 | U35: 10 | V35: 66.29 | W35: 5 | X35: - | Y35: 4 | Z35: 1 | AA35: 0 | AB35: 0 | AC35: 1 | AD35: 0 | AE35: 0 | AF35: 0 | AG35: 0 | AH35: 0 | AI35: 0 | AJ35: 11 | AK35: 9 | AL35: 2 | AM35: … | AN35: 1 | AO35: 27 | AP35: 6 | AQ35: 2 | AR35: 62.3 | AS35: 62.47 | AT35: 62.08 | AU35: 66.29 | AV35: 65.44 | AW35: 67.8 | AX35: 65.71 | AY35: 64.18 | AZ35: 68.5
A36: 1420303008 | B36: 神奈川県 | C36: 平塚市 | D36: 大野町 | E36: 観音町 | F36: - | G36: - | H36: - | I36: - | J36: - | K36: - | L36: - | M36: - | N36: - | O36: - | P36: - | Q36: - | R36: - | S36: - | T36: - | U36: - | V36: - | W36: - | X36: - | Y36: - | Z36: … | AA36: … | AB36: … | AC36: … | AD36: … | AE36: … | AF36: … | AG36: … | AH36: … | AI36: 0 | AJ36: 2 | AK36: - | AL36: 2 | AM36: … | AN36: - | AO36: - | AP36: - | AQ36: - | AR36: - | AS36: - | AT36: - | AU36: - | AV36: - | AW36: - | AX36: - | AY36: - | AZ36: -
A37: 1420303009 | B37: 神奈川県 | C37: 平塚市 | D37: 大野町 | E37: 下郷 | F37: 1 | G37: x | H37: x | I37: x | J37: x | K37: x | L37: x | M37: x | N37: x | O37: x | P37: x | Q37: x | R37: x | S37: x | T37: x | U37: x | V37: x | W37: x | X37: x | Y37: x | Z37: … | AA37: … | AB37: … | AC37: … | AD37: … | AE37: … | AF37: … | AG37: … | AH37: … | AI37: 0 | AJ37: 1 | AK37: 1 | AL37: - | AM37: … | AN37: x | AO37: x | AP37: x | AQ37: x | AR37: x | AS37: x | AT37: x | AU37: x | AV37: x | AW37: x | AX37: x | AY37: x | AZ37: x
A38: 1420303010 | B38: 神奈川県 | C38: 平塚市 | D38: 大野町 | E38: 上町 | F38: 5 | G38: 5 | H38: - | I38: - | J38: - | K38: - | L38: - | M38: 5 | N38: 3 | O38: 2 | P38: 2 | Q38: - | R38: 0.6 | S38: 3 | T38: - | U38: 3 | V38: 78 | W38: 2 | X38: 1 | Y38: 2 | Z38: … | AA38: … | AB38: … | AC38: … | AD38: … | AE38: … | AF38: … | AG38: … | AH38: … | AI38: 0 | AJ38: 8 | AK38: 5 | AL38: 3 | AM38: … | AN38: - | AO38: - | AP38: 4 | AQ38: 1 | AR38: 58.73 | AS38: 64 | AT38: 52.4 | AU38: 78 | AV38: 78 | AW38: - | AX38: 74.75 | AY38: 78 | AZ38: 65
A39: 1420303011 | B39: 神奈川県 | C39: 平塚市 | D39: 大野町 | E39: 田端 | F39: 2 | G39: x | H39: x | I39: x | J39: x | K39: x | L39: x | M39: x | N39: x | O39: x | P39: x | Q39: x | R39: x | S39: x | T39: x | U39: x | V39: x | W39: x | X39: x | Y39: x | Z39: … | AA39: … | AB39: … | AC39: … | AD39: … | AE39: … | AF39: … | AG39: … | AH39: … | AI39: 0 | AJ39: 2 | AK39: 2 | AL39: - | AM39: … | AN39: x | AO39: x | AP39: x | AQ39: x | AR39: x | AS39: x | AT39: x | AU39: x | AV39: x | AW39: x | AX39: x | AY39: x | AZ39: x
A40: 1420303012 | B40: 神奈川県 | C40: 平塚市 | D40: 大野町 | E40: 坂戸 | F40: 7 | G40: 7 | H40: - | I40: - | J40: - | K40: - | L40: - | M40: 7 | N40: 4 | O40: 2 | P40: 2 | Q40: - | R40: 0.6 | S40: 7 | T40: 2 | U40: 5 | V40: 77 | W40: 4 | X40: - | Y40: 3 | Z40: … | AA40: … | AB40: … | AC40: … | AD40: … | AE40: … | AF40: … | AG40: … | AH40: … | AI40: 0 | AJ40: 9 | AK40: 6 | AL40: 3 | AM40: … | AN40: 1 | AO40: 2 | AP40: 4 | AQ40: 3 | AR40: 71.43 | AS40: 70.5 | AT40: 73.75 | AU40: 77 | AV40: 77 | AW40: - | AX40: 77.5 | AY40: 77.5 | AZ40: -
A41: 1420303013 | B41: 神奈川県 | C41: 平塚市 | D41: 大野町 | E41: 尼沼 | F41: 1 | G41: x | H41: x | I41: x | J41: x | K41: x | L41: x | M41: x | N41: x | O41: x | P41: x | Q41: x | R41: x | S41: x | T41: x | U41: x | V41: x | W41: x | X41: x | Y41: x | Z41: … | AA41: … | AB41: … | AC41: … | AD41: … | AE41: … | AF41: … | AG41: … | AH41: … | AI41: 0 | AJ41: 4 | AK41: 1 | AL41: 3 | AM41: … | AN41: x | AO41: x | AP41: x | AQ41: x | AR41: x | AS41: x | AT41: x | AU41: x | AV41: x | AW41: x | AX41: x | AY41: x | AZ41: x
A42: 1420303014 | B42: 神奈川県 | C42: 平塚市 | D42: 大野町 | E42: 上宿 | F42: 2 | G42: x | H42: x | I42: x | J42: x | K42: x | L42: x | M42: x | N42: x | O42: x | P42: x | Q42: x | R42: x | S42: x | T42: x | U42: x | V42: x | W42: x | X42: x | Y42: x | Z42: … | AA42: … | AB42: … | AC42: … | AD42: … | AE42: … | AF42: … | AG42: … | AH42: … | AI42: 0 | AJ42: 2 | AK42: 2 | AL42: - | AM42: … | AN42: x | AO42: x | AP42: x | AQ42: x | AR42: x | AS42: x | AT42: x | AU42: x | AV42: x | AW42: x | AX42: x | AY42: x | AZ42: x
A43: 1420303015 | B43: 神奈川県 | C43: 平塚市 | D43: 大野町 | E43: 中宿 | F43: - | G43: - | H43: - | I43: - | J43: - | K43: - | L43: - | M43: - | N43: - | O43: - | P43: - | Q43: - | R43: - | S43: - | T43: - | U43: - | V43: - | W43: - | X43: - | Y43: - | Z43: … | AA43: … | AB43: … | AC43: … | AD43: … | AE43: … | AF43: … | AG43: … | AH43: … | AI43: 0 | AJ43: 2 | AK43: - | AL43: 2 | AM43: … | AN43: - | AO43: - | AP43: - | AQ43: - | AR43: - | AS43: - | AT43: - | AU43: - | AV43: - | AW43: - | AX43: - | AY43: - | AZ43: -
A44: 1420303016 | B44: 神奈川県 | C44: 平塚市 | D44: 大野町 | E44: 御殿東 | F44: 3 | G44: 3 | H44: - | I44: - | J44: - | K44: - | L44: - | M44: 3 | N44: 2 | O44: 2 | P44: 1 | Q44: - | R44: 0.7 | S44: 3 | T44: - | U44: 3 | V44: 76 | W44: 2 | X44: - | Y44: 1 | Z44: … | AA44: … | AB44: … | AC44: … | AD44: … | AE44: … | AF44: … | AG44: … | AH44: … | AI44: 0 | AJ44: 5 | AK44: 3 | AL44: 2 | AM44: … | AN44: 1 | AO44: 70 | AP44: 3 | AQ44: 1 | AR44: 66.78 | AS44: 65.2 | AT44: 68.75 | AU44: 76 | AV44: 76 | AW44: - | AX44: 76 | AY44: 76 | AZ44: -
A45: 1420303017 | B45: 神奈川県 | C45: 平塚市 | D45: 大野町 | E45: 御殿西 | F45: 1 | G45: x | H45: x | I45: x | J45: x | K45: x | L45: x | M45: x | N45: x | O45: x | P45: x | Q45: x | R45: x | S45: x | T45: x | U45: x | V45: x | W45: x | X45: x | Y45: x | Z45: … | AA45: … | AB45: … | AC45: … | AD45: … | AE45: … | AF45: … | AG45: … | AH45: … | AI45: 0 | AJ45: 4 | AK45: 1 | AL45: 3 | AM45: … | AN45: x | AO45: x | AP45: x | AQ45: x | AR45: x | AS45: x | AT45: x | AU45: x | AV45: x | AW45: x | AX45: x | AY45: x | AZ45: x
A46: 1420303018 | B46: 神奈川県 | C46: 平塚市 | D46: 大野町 | E46: 下宿 | F46: - | G46: - | H46: - | I46: - | J46: - | K46: - | L46: - | M46: - | N46: - | O46: - | P46: - | Q46: - | R46: - | S46: - | T46: - | U46: - | V46: - | W46: - | X46: - | Y46: - | Z46: … | AA46: … | AB46: … | AC46: … | AD46: … | AE46: … | AF46: … | AG46: … | AH46: … | AI46: 0 | AJ46: 3 | AK46: - | AL46: 3 | AM46: … | AN46: - | AO46: - | AP46: - | AQ46: - | AR46: - | AS46: - | AT46: - | AU46: - | AV46: - | AW46: - | AX46: - | AY46: - | AZ46: -
A47: 1420303019 | B47: 神奈川県 | C47: 平塚市 | D47: 大野町 | E47: 裏宿 | F47: 4 | G47: 4 | H47: - | I47: - | J47: - | K47: - | L47: - | M47: 4 | N47: 2 | O47: 2 | P47: 1 | Q47: - | R47: 0.5 | S47: 3 | T47: - | U47: 3 | V47: 71.67 | W47: - | X47: 1 | Y47: 3 | Z47: … | AA47: … | AB47: … | AC47: … | AD47: … | AE47: … | AF47: … | AG47: … | AH47: … | AI47: 0 | AJ47: 5 | AK47: 4 | AL47: 1 | AM47: … | AN47: - | AO47: - | AP47: 3 | AQ47: - | AR47: 68.9 | AS47: 69.83 | AT47: 67.5 | AU47: 71.67 | AV47: 71.67 | AW47: - | AX47: 64.5 | AY47: 64.4 | AZ47: 65
A48: 1420303020 | B48: 神奈川県 | C48: 平塚市 | D48: 大野町 | E48: 横宿 | F48: 5 | G48: 5 | H48: - | I48: - | J48: - | K48: - | L48: - | M48: 5 | N48: 4 | O48: 3 | P48: 1 | Q48: - | R48: 0.8 | S48: 6 | T48: 2 | U48: 4 | V48: 63.83 | W48: 2 | X48: 1 | Y48: 2 | Z48: … | AA48: … | AB48: … | AC48: … | AD48: … | AE48: … | AF48: … | AG48: … | AH48: … | AI48: 0 | AJ48: 5 | AK48: 5 | AL48: - | AM48: … | AN48: 1 | AO48: 115 | AP48: 2 | AQ48: 1 | AR48: 59.5 | AS48: 63.83 | AT48: 55.17 | AU48: 63.83 | AV48: 69 | AW48: 53.5 | AX48: 63.83 | AY48: 69 | AZ48: 53.5
A49: 1420303021 | B49: 神奈川県 | C49: 平塚市 | D49: 大野町 | E49: 南原東町 | F49: 3 | G49: 3 | H49: - | I49: - | J49: - | K49: - | L49: - | M49: 3 | N49: 2 | O49: 1 | P49: 0 | Q49: - | R49: 0.7 | S49: 3 | T49: 1 | U49: 2 | V49: 65.33 | W49: 1 | X49: - | Y49: 2 | Z49: … | AA49: … | AB49: … | AC49: … | AD49: … | AE49: … | AF49: … | AG49: … | AH49: … | AI49: 0 | AJ49: 5 | AK49: 3 | AL49: 2 | AM49: … | AN49: - | AO49: - | AP49: 3 | AQ49: 1 | AR49: 69.33 | AS49: 69 | AT49: 69.5 | AU49: 65.33 | AV49: 69 | AW49: 58 | AX49: 70.25 | AY49: 69 | AZ49: 71.5
A50: 1420303022 | B50: 神奈川県 | C50: 平塚市 | D50: 大野町 | E50: 南原上町 | F50: 4 | G50: 4 | H50: - | I50: - | J50: - | K50: - | L50: - | M50: 4 | N50: 3 | O50: 2 | P50: 1 | Q50: - | R50: 0.8 | S50: 7 | T50: 2 | U50: 5 | V50: 64.57 | W50: 2 | X50: - | Y50: 2 | Z50: … | AA50: … | AB50: … | AC50: … | AD50: … | AE50: … | AF50: … | AG50: … | AH50: … | AI50: 0 | AJ50: 7 | AK50: 4 | AL50: 3 | AM50: … | AN50: - | AO50: - | AP50: 3 | AQ50: - | AR50: 66.56 | AS50: 63.67 | AT50: 72.33 | AU50: 64.57 | AV50: 63.67 | AW50: 70 | AX50: 64.57 | AY50: 63.67 | AZ50: 70
A51: 1420304000 | B51: 神奈川県 | C51: 平塚市 | D51: 土沢村 | F51: 151 | G51: 146 | H51: 5 | I51: - | J51: 5 | K51: - | L51: - | M51: 147 | N51: 146 | O51: 46 | P51: 93 | Q51: 7 | R51: 1 | S51: 208 | T51: 38 | U51: 170 | V51: 70.83 | W51: 18 | X51: 4 | Y51: 129 | Z51: 14 | AA51: 14 | AB51: 14 | AC51: 11 | AD51: 1 | AE51: 0 | AF51: 0 | AG51: 0 | AH51: 0 | AI51: 0 | AJ51: 249 | AK51: 145 | AL51: 104 | AM51: … | AN51: 17 | AO51: 909 | AP51: 83 | AQ51: 21 | AR51: 67.04 | AS51: 66.79 | AT51: 67.37 | AU51: 70.83 | AV51: 70.86 | AW51: 70.77 | AX51: 70.13 | AY51: 70.23 | AZ51: 69.99
A52: 1420304001 | B52: 神奈川県 | C52: 平塚市 | D52: 土沢村 | E52: 上惣領 | F52: 11 | G52: 11 | H52: - | I52: - | J52: - | K52: - | L52: - | M52: 11 | N52: 8 | O52: 3 | P52: 4 | Q52: 1 | R52: 0.7 | S52: 11 | T52: - | U52: 11 | V52: 71.09 | W52: 2 | X52: - | Y52: 9 | Z52: 1 | AA52: 1 | AB52: 1 | AC52: 1 | AD52: 0 | AE52: 0 | AF52: 0 | AG52: 0 | AH52: 0 | AI52: 0 | AJ52: 19 | AK52: 11 | AL52: 8 | AM52: … | AN52: 1 | AO52: 45 | AP52: 4 | AQ52: 2 | AR52: 64.91 | AS52: 63.81 | AT52: 67.43 | AU52: 71.09 | AV52: 71 | AW52: 72 | AX52: 69.14 | AY52: 68.67 | AZ52: 72
A53: 1420304002 | B53: 神奈川県 | C53: 平塚市 | D53: 土沢村 | E53: 惣領分 | F53: 22 | G53: 22 | H53: - | I53: - | J53: - | K53: - | L53: - | M53: 22 | N53: 23 | O53: 7 | P53: 14 | Q53: 2 | R53: 1 | S53: 35 | T53: 5 | U53: 30 | V53: 70.51 | W53: - | X53: 1 | Y53: 21 | Z53: 1 | AA53: 1 | AB53: 1 | AC53: 0 | AD53: 0 | AE53: 0 | AF53: 0 | AG53: 0 | AH53: 0 | AI53: 0 | AJ53: 34 | AK53: 21 | AL53: 13 | AM53: … | AN53: 1 | AO53: 16 | AP53: 11 | AQ53: 5 | AR53: 64.56 | AS53: 64.45 | AT53: 64.71 | AU53: 70.51 | AV53: 70.19 | AW53: 71 | AX53: 69.6 | AY53: 71.05 | AZ53: 67.09
A54: 1420304003 | B54: 神奈川県 | C54: 平塚市 | D54: 土沢村 | E54: 庶子分 | F54: 10 | G54: 10 | H54: - | I54: - | J54: - | K54: - | L54: - | M54: 10 | N54: 6 | O54: 1 | P54: 5 | Q54: - | R54: 0.6 | S54: 13 | T54: 2 | U54: 11 | V54: 72.77 | W54: 2 | X54: - | Y54: 8 | Z54: 1 | AA54: 1 | AB54: 1 | AC54: 1 | AD54: 0 | AE54: 0 | AF54: 0 | AG54: 0 | AH54: 0 | AI54: 0 | AJ54: 20 | AK54: 10 | AL54: 10 | AM54: … | AN54: 2 | AO54: 32 | AP54: 3 | AQ54: - | AR54: 69.74 | AS54: 72.1 | AT54: 67.92 | AU54: 72.77 | AV54: 76.5 | AW54: 69.57 | AX54: 74.56 | AY54: 74.4 | AZ54: 74.75
A55: 1420304004 | B55: 神奈川県 | C55: 平塚市 | D55: 土沢村 | E55: 寺分 | F55: 14 | G55: 14 | H55: - | I55: - | J55: - | K55: - | L55: - | M55: 14 | N55: 11 | O55: 5 | P55: 5 | Q55: 1 | R55: 0.8 | S55: 24 | T55: 2 | U55: 22 | V55: 74.92 | W55: - | X55: - | Y55: 14 | Z55: 1 | AA55: 1 | AB55: 1 | AC55: 1 | AD55: 0 | AE55: 0 | AF55: 0 | AG55: 0 | AH55: 0 | AI55: 0 | AJ55: 28 | AK55: 14 | AL55: 14 | AM55: … | AN55: 2 | AO55: 52 | AP55: 11 | AQ55: 1 | AR55: 69.07 | AS55: 67.56 | AT55: 71.33 | AU55: 74.92 | AV55: 75.36 | AW55: 74.3 | AX55: 74.83 | AY55: 75.23 | AZ55: 74.3
A56: 1420304005 | B56: 神奈川県 | C56: 平塚市 | D56: 土沢村 | E56: 遠藤原 | F56: 8 | G56: 7 | H56: 1 | I56: - | J56: 1 | K56: - | L56: - | M56: 8 | N56: 6 | O56: 1 | P56: 6 | Q56: - | R56: 0.8 | S56: 13 | T56: 1 | U56: 12 | V56: 73.38 | W56: 1 | X56: - | Y56: 7 | Z56: 1 | AA56: 1 | AB56: 1 | AC56: 1 | AD56: 0 | AE56: 0 | AF56: 0 | AG56: 0 | AH56: 0 | AI56: 0 | AJ56: 8 | AK56: 7 | AL56: 1 | AM56: … | AN56: - | AO56: - | AP56: 6 | AQ56: 1 | AR56: 72.81 | AS56: 72.57 | AT56: 73 | AU56: 73.38 | AV56: 74 | AW56: 72.86 | AX56: 74.5 | AY56: 74 | AZ56: 75
A57: 1420304006 | B57: 神奈川県 | C57: 平塚市 | D57: 土沢村 | E57: 小熊 | F57: 4 | G57: 4 | H57: - | I57: - | J57: - | K57: - | L57: - | M57: 4 | N57: 2 | O57: 1 | P57: 2 | Q57: - | R57: 0.5 | S57: 5 | T57: - | U57: 5 | V57: 73.2 | W57: - | X57: - | Y57: 4 | Z57: 1 | AA57: 1 | AB57: 1 | AC57: 1 | AD57: 1 | AE57: 0 | AF57: 0 | AG57: 0 | AH57: 0 | AI57: 0 | AJ57: 5 | AK57: 4 | AL57: 1 | AM57: … | AN57: - | AO57: - | AP57: 2 | AQ57: - | AR57: 68.57 | AS57: 70.5 | AT57: 66 | AU57: 73.2 | AV57: 74.67 | AW57: 71 | AX57: 68 | AY57: 70.5 | AZ57: 63
A58: 1420304007 | B58: 神奈川県 | C58: 平塚市 | D58: 土沢村 | E58: 早田・人増 | F58: 9 | G58: 9 | H58: - | I58: - | J58: - | K58: - | L58: - | M58: 9 | N58: 11 | O58: 2 | P58: 9 | Q58: 0 | R58: 1.2 | S58: 14 | T58: 6 | U58: 8 | V58: 68.64 | W58: - | X58: - | Y58: 9 | Z58: 1 | AA58: 1 | AB58: 1 | AC58: 1 | AD58: 0 | AE58: 0 | AF58: 0 | AG58: 0 | AH58: 0 | AI58: 0 | AJ58: 18 | AK58: 9 | AL58: 9 | AM58: … | AN58: 2 | AO58: 46 | AP58: 5 | AQ58: 2 | AR58: 63.13 | AS58: 62.7 | AT58: 63.46 | AU58: 68.64 | AV58: 66.86 | AW58: 70.43 | AX58: 68.23 | AY58: 66.86 | AZ58: 69.83
A59: 1420304008 | B59: 神奈川県 | C59: 平塚市 | D59: 土沢村 | E59: 山田屋敷・飛谷津 | F59: 10 | G59: 10 | H59: - | I59: - | J59: - | K59: - | L59: - | M59: 10 | N59: 13 | O59: 2 | P59: 9 | Q59: 2 | R59: 1.3 | S59: 17 | T59: 4 | U59: 13 | V59: 67.94 | W59: 2 | X59: - | Y59: 8 | Z59: 1 | AA59: 1 | AB59: 1 | AC59: 1 | AD59: 0 | AE59: 0 | AF59: 0 | AG59: 0 | AH59: 0 | AI59: 0 | AJ59: 17 | AK59: 10 | AL59: 7 | AM59: … | AN59: 1 | AO59: 100 | AP59: 6 | AQ59: 2 | AR59: 66.13 | AS59: 66.62 | AT59: 65.5 | AU59: 67.94 | AV59: 66.55 | AW59: 70.5 | AX59: 68.44 | AY59: 66.55 | AZ59: 71.43
A60: 1420304009 | B60: 神奈川県 | C60: 平塚市 | D60: 土沢村 | E60: 山入・四十畑 | F60: 8 | G60: 8 | H60: - | I60: - | J60: - | K60: - | L60: - | M60: 8 | N60: 12 | O60: 7 | P60: 6 | Q60: - | R60: 1.5 | S60: 10 | T60: 1 | U60: 9 | V60: 69.7 | W60: - | X60: 1 | Y60: 7 | Z60: 1 | AA60: 1 | AB60: 1 | AC60: 0 | AD60: 0 | AE60: 0 | AF60: 0 | AG60: 0 | AH60: 0 | AI60: 0 | AJ60: 18 | AK60: 8 | AL60: 10 | AM60: … | AN60: 1 | AO60: 45 | AP60: 3 | AQ60: - | AR60: 69.57 | AS60: 68.22 | AT60: 72 | AU60: 69.7 | AV60: 71.14 | AW60: 66.33 | AX60: 69.7 | AY60: 71.14 | AZ60: 66.33
A61: 1420304010 | B61: 神奈川県 | C61: 平塚市 | D61: 土沢村 | E61: 山之神 | F61: 5 | G61: 5 | H61: - | I61: - | J61: - | K61: - | L61: - | M61: 5 | N61: 5 | O61: 0 | P61: 4 | Q61: 0 | R61: 1 | S61: 5 | T61: 1 | U61: 4 | V61: 75.6 | W61: 1 | X61: - | Y61: 4 | Z61: 1 | AA61: 1 | AB61: 1 | AC61: 1 | AD61: 0 | AE61: 0 | AF61: 0 | AG61: 0 | AH61: 0 | AI61: 0 | AJ61: 8 | AK61: 5 | AL61: 3 | AM61: … | AN61: - | AO61: - | AP61: 1 | AQ61: - | AR61: 65.22 | AS61: 64.29 | AT61: 68.5 | AU61: 75.6 | AV61: 76 | AW61: 74 | AX61: 78.75 | AY61: 80.33 | AZ61: 74
A62: 1420304011 | B62: 神奈川県 | C62: 平塚市 | D62: 土沢村 | E62: 台 | F62: 6 | G62: 6 | H62: - | I62: - | J62: - | K62: - | L62: - | M62: 6 | N62: 6 | O62: 2 | P62: 4 | Q62: 0 | R62: 1 | S62: 7 | T62: - | U62: 7 | V62: 75.14 | W62: 2 | X62: 1 | Y62: 3 | Z62: 1 | AA62: 1 | AB62: 1 | AC62: 0 | AD62: 0 | AE62: 0 | AF62: 0 | AG62: 0 | AH62: 0 | AI62: 0 | AJ62: 16 | AK62: 5 | AL62: 11 | AM62: … | AN62: 1 | AO62: 100 | AP62: 1 | AQ62: 1 | AR62: 68.21 | AS62: 66.13 | AT62: 71 | AU62: 75.14 | AV62: 78.5 | AW62: 70.67 | AX62: 72.17 | AY62: 73.67 | AZ62: 70.67
A63: 1420304012 | B63: 神奈川県 | C63: 平塚市 | D63: 土沢村 | E63: 新宿・神戸 | F63: 12 | G63: 11 | H63: 1 | I63: - | J63: 1 | K63: - | L63: - | M63: 12 | N63: 14 | O63: 5 | P63: 8 | Q63: 0 | R63: 1.2 | S63: 20 | T63: 6 | U63: 14 | V63: 65.75 | W63: 3 | X63: 1 | Y63: 8 | Z63: 1 | AA63: 1 | AB63: 1 | AC63: 1 | AD63: 0 | AE63: 0 | AF63: 0 | AG63: 0 | AH63: 0 | AI63: 0 | AJ63: 15 | AK63: 12 | AL63: 3 | AM63: … | AN63: 3 | AO63: 235 | AP63: 9 | AQ63: 3 | AR63: 65.38 | AS63: 65.57 | AT63: 65.17 | AU63: 65.75 | AV63: 65.5 | AW63: 66.13 | AX63: 65.05 | AY63: 64.67 | AZ63: 65.71
A64: 1420304013 | B64: 神奈川県 | C64: 平塚市 | D64: 土沢村 | E64: 下吉沢 | F64: 27 | G64: 25 | H64: 2 | I64: - | J64: 2 | K64: - | L64: - | M64: 24 | N64: 25 | O64: 9 | P64: 15 | Q64: 1 | R64: 1 | S64: 29 | T64: 9 | U64: 20 | V64: 70.07 | W64: 5 | X64: - | Y64: 22 | Z64: 1 | AA64: 1 | AB64: 1 | AC64: 1 | AD64: 0 | AE64: 0 | AF64: 0 | AG64: 0 | AH64: 0 | AI64: 0 | AJ64: 37 | AK64: 25 | AL64: 12 | AM64: … | AN64: 2 | AO64: 138 | AP64: 16 | AQ64: 3 | AR64: 67.78 | AS64: 68 | AT64: 67.44 | AU64: 70.07 | AV64: 68.59 | AW64: 72.17 | AX64: 68.26 | AY64: 67.72 | AZ64: 69
A65: 1420304014 | B65: 神奈川県 | C65: 平塚市 | D65: 土沢村 | E65: 宮下 | F65: 5 | G65: 4 | H65: 1 | I65: - | J65: 1 | K65: - | L65: - | M65: 4 | N65: 3 | O65: 1 | P65: 2 | Q65: - | R65: 0.8 | S65: 5 | T65: 1 | U65: 4 | V65: 70.8 | W65: - | X65: - | Y65: 5 | Z65: 1 | AA65: 1 | AB65: 1 | AC65: 1 | AD65: 0 | AE65: 0 | AF65: 0 | AG65: 0 | AH65: 0 | AI65: 0 | AJ65: 6 | AK65: 4 | AL65: 2 | AM65: … | AN65: 1 | AO65: 100 | AP65: 5 | AQ65: 1 | AR65: 72.63 | AS65: 75.5 | AT65: 69.75 | AU65: 70.8 | AV65: 74.67 | AW65: 65 | AX65: 70.8 | AY65: 74.67 | AZ65: 65
A66: 1420305000 | B66: 神奈川県 | C66: 平塚市 | D66: 豊田村 | F66: 58 | G66: 57 | H66: 1 | I66: - | J66: 1 | K66: - | L66: - | M66: 57 | N66: 66 | O66: 49 | P66: 17 | Q66: - | R66: 1.2 | S66: 69 | T66: 27 | U66: 42 | V66: 64.88 | W66: 21 | X66: 7 | Y66: 30 | Z66: 5 | AA66: 5 | AB66: 5 | AC66: 1 | AD66: 0 | AE66: 0 | AF66: 0 | AG66: 0 | AH66: 0 | AI66: 0 | AJ66: 96 | AK66: 58 | AL66: 38 | AM66: … | AN66: 6 | AO66: 700 | AP66: 39 | AQ66: 11 | AR66: 64.47 | AS66: 64.18 | AT66: 64.88 | AU66: 64.88 | AV66: 63.11 | AW66: 68.43 | AX66: 62.92 | AY66: 61.83 | AZ66: 64.71
A67: 1420305001 | B67: 神奈川県 | C67: 平塚市 | D67: 豊田村 | E67: 平等寺 | F67: 4 | G67: 4 | H67: - | I67: - | J67: - | K67: - | L67: - | M67: 4 | N67: 4 | O67: 3 | P67: 0 | Q67: - | R67: 1 | S67: 11 | T67: 5 | U67: 6 | V67: 60.45 | W67: 3 | X67: - | Y67: 1 | Z67: 1 | AA67: 1 | AB67: 1 | AC67: 0 | AD67: 0 | AE67: 0 | AF67: 0 | AG67: 0 | AH67: 0 | AI67: 0 | AJ67: 6 | AK67: 4 | AL67: 2 | AM67: … | AN67: - | AO67: - | AP67: 3 | AQ67: 1 | AR67: 63.29 | AS67: 59.75 | AT67: 68 | AU67: 60.45 | AV67: 57 | AW67: 64.6 | AX67: 55.44 | AY67: 51.2 | AZ67: 60.75
A68: 1420305002 | B68: 神奈川県 | C68: 平塚市 | D68: 豊田村 | E68: 豊中 | F68: 3 | G68: 3 | H68: - | I68: - | J68: - | K68: - | L68: - | M68: 3 | N68: 3 | O68: 2 | P68: 1 | Q68: - | R68: 1 | S68: 3 | T68: 1 | U68: 2 | V68: 70 | W68: - | X68: - | Y68: 3 | Z68: … | AA68: … | AB68: … | AC68: … | AD68: … | AE68: … | AF68: … | AG68: … | AH68: … | AI68: 0 | AJ68: 5 | AK68: 3 | AL68: 2 | AM68: … | AN68: 1 | AO68: 180 | AP68: 1 | AQ68: 1 | AR68: 73.17 | AS68: 70.25 | AT68: 79 | AU68: 70 | AV68: 63 | AW68: 84 | AX68: 70 | AY68: 63 | AZ68: 84
A69: 1420305003 | B69: 神奈川県 | C69: 平塚市 | D69: 豊田村 | E69: 西町 | F69: 9 | G69: 9 | H69: - | I69: - | J69: - | K69: - | L69: - | M69: 9 | N69: 10 | O69: 8 | P69: 3 | Q69: - | R69: 1.1 | S69: 12 | T69: 6 | U69: 6 | V69: 61.25 | W69: 5 | X69: 1 | Y69: 3 | Z69: 1 | AA69: 1 | AB69: 1 | AC69: 0 | AD69: 0 | AE69: 0 | AF69: 0 | AG69: 0 | AH69: 0 | AI69: 0 | AJ69: 16 | AK69: 9 | AL69: 7 | AM69: … | AN69: 1 | AO69: 114 | AP69: 6 | AQ69: 3 | AR69: 59.57 | AS69: 64.42 | AT69: 53.11 | AU69: 61.25 | AV69: 59.57 | AW69: 63.6 | AX69: 56.44 | AY69: 61.5 | AZ69: 51.38
A70: 1420305004 | B70: 神奈川県 | C70: 平塚市 | D70: 豊田村 | E70: 本宿 | F70: 8 | G70: 8 | H70: - | I70: - | J70: - | K70: - | L70: - | M70: 8 | N70: 8 | O70: 5 | P70: 3 | Q70: - | R70: 1 | S70: 7 | T70: 2 | U70: 5 | V70: 68.86 | W70: 2 | X70: 2 | Y70: 4 | Z70: … | AA70: … | AB70: … | AC70: … | AD70: … | AE70: … | AF70: … | AG70: … | AH70: … | AI70: 0 | AJ70: 12 | AK70: 8 | AL70: 4 | AM70: … | AN70: - | AO70: - | AP70: 5 | AQ70: - | AR70: 68.81 | AS70: 65.1 | AT70: 75 | AU70: 68.86 | AV70: 66.2 | AW70: 75.5 | AX70: 67.63 | AY70: 65 | AZ70: 75.5
A71: 1420305005 | B71: 神奈川県 | C71: 平塚市 | D71: 豊田村 | E71: 宮下 | F71: 15 | G71: 15 | H71: - | I71: - | J71: - | K71: - | L71: - | M71: 15 | N71: 20 | O71: 18 | P71: 3 | Q71: - | R71: 1.3 | S71: 11 | T71: 1 | U71: 10 | V71: 69.73 | W71: 5 | X71: 2 | Y71: 8 | Z71: 1 | AA71: 1 | AB71: 1 | AC71: 0 | AD71: 0 | AE71: 0 | AF71: 0 | AG71: 0 | AH71: 0 | AI71: 0 | AJ71: 21 | AK71: 15 | AL71: 6 | AM71: … | AN71: 1 | AO71: 172 | AP71: 11 | AQ71: 3 | AR71: 64.73 | AS71: 66.15 | AT71: 62.54 | AU71: 69.73 | AV71: 69.9 | AW71: 68 | AX71: 67.18 | AY71: 66 | AZ71: 70.33
A72: 1420305006 | B72: 神奈川県 | C72: 平塚市 | D72: 豊田村 | E72: 小嶺 | F72: 11 | G72: 10 | H72: 1 | I72: - | J72: 1 | K72: - | L72: - | M72: 10 | N72: 7 | O72: 4 | P72: 3 | Q72: - | R72: 0.7 | S72: 11 | T72: 3 | U72: 8 | V72: 67.27 | W72: 4 | X72: 1 | Y72: 6 | Z72: 1 | AA72: 1 | AB72: 1 | AC72: 1 | AD72: 0 | AE72: 0 | AF72: 0 | AG72: 0 | AH72: 0 | AI72: 0 | AJ72: 19 | AK72: 11 | AL72: 8 | AM72: … | AN72: 1 | AO72: 57 | AP72: 5 | AQ72: 1 | AR72: 69.52 | AS72: 68.38 | AT72: 71 | AU72: 67.27 | AV72: 65.71 | AW72: 70 | AX72: 67 | AY72: 65.5 | AZ72: 70
A73: 1420305007 | B73: 神奈川県 | C73: 平塚市 | D73: 豊田村 | E73: 打間木 | F73: 8 | G73: 8 | H73: - | I73: - | J73: - | K73: - | L73: - | M73: 8 | N73: 15 | O73: 10 | P73: 5 | Q73: - | R73: 1.9 | S73: 14 | T73: 9 | U73: 5 | V73: 62.71 | W73: 2 | X73: 1 | Y73: 5 | Z73: 1 | AA73: 1 | AB73: 1 | AC73: 0 | AD73: 0 | AE73: 0 | AF73: 0 | AG73: 0 | AH73: 0 | AI73: 0 | AJ73: 17 | AK73: 8 | AL73: 9 | AM73: … | AN73: 2 | AO73: 177 | AP73: 8 | AQ73: 2 | AR73: 58.68 | AS73: 56.25 | AT73: 61.6 | AU73: 62.71 | AV73: 58.67 | AW73: 70 | AX73: 64 | AY73: 58.67 | AZ73: 72
A74: 1420306000 | B74: 神奈川県 | C74: 平塚市 | D74: 金田村 | F74: 54 | G74: 53 | H74: 1 | I74: - | J74: 1 | K74: - | L74: - | M74: 54 | N74: 59 | O74: 47 | P74: 12 | Q74: 0 | R74: 1.1 | S74: 80 | T74: 29 | U74: 51 | V74: 66.51 | W74: 19 | X74: 14 | Y74: 21 | Z74: 4 | AA74: 4 | AB74: 4 | AC74: 0 | AD74: 0 | AE74: 0 | AF74: 0 | AG74: 0 | AH74: 0 | AI74: 0 | AJ74: 78 | AK74: 54 | AL74: 24 | AM74: … | AN74: 6 | AO74: 135 | AP74: 46 | AQ74: 13 | AR74: 61.16 | AS74: 61.23 | AT74: 61.07 | AU74: 66.51 | AV74: 65.69 | AW74: 67.97 | AX74: 65.59 | AY74: 64.77 | AZ74: 66.85
A75: 1420306001 | B75: 神奈川県 | C75: 平塚市 | D75: 金田村 | E75: 飯島 | F75: 10 | G75: 9 | H75: 1 | I75: - | J75: 1 | K75: - | L75: - | M75: 10 | N75: 9 | O75: 7 | P75: 2 | Q75: - | R75: 0.9 | S75: 9 | T75: 4 | U75: 5 | V75: 66.78 | W75: 2 | X75: 4 | Y75: 4 | Z75: 1 | AA75: 1 | AB75: 1 | AC75: 0 | AD75: 0 | AE75: 0 | AF75: 0 | AG75: 0 | AH75: 0 | AI75: 0 | AJ75: 12 | AK75: 10 | AL75: 2 | AM75: … | AN75: 1 | AO75: 25 | AP75: 9 | AQ75: 2 | AR75: 55.17 | AS75: 55.77 | AT75: 54.4 | AU75: 66.78 | AV75: 67.8 | AW75: 65.5 | AX75: 63.36 | AY75: 62.14 | AZ75: 65.5
A76: 1420306002 | B76: 神奈川県 | C76: 平塚市 | D76: 金田村 | E76: 寺田繩 | F76: 15 | G76: 15 | H76: - | I76: - | J76: - | K76: - | L76: - | M76: 15 | N76: 17 | O76: 15 | P76: 3 | Q76: - | R76: 1.1 | S76: 25 | T76: 10 | U76: 15 | V76: 68.76 | W76: 3 | X76: 6 | Y76: 6 | Z76: 1 | AA76: 1 | AB76: 1 | AC76: 0 | AD76: 0 | AE76: 0 | AF76: 0 | AG76: 0 | AH76: 0 | AI76: 0 | AJ76: 26 | AK76: 15 | AL76: 11 | AM76: … | AN76: 2 | AO76: 18 | AP76: 12 | AQ76: 5 | AR76: 63.83 | AS76: 63.89 | AT76: 63.75 | AU76: 68.76 | AV76: 65.47 | AW76: 75.75 | AX76: 68.57 | AY76: 65.47 | AZ76: 73.36
A77: 1420306003 | B77: 神奈川県 | C77: 平塚市 | D77: 金田村 | E77: 入野 | F77: 20 | G77: 20 | H77: - | I77: - | J77: - | K77: - | L77: - | M77: 20 | N77: 26 | O77: 22 | P77: 5 | Q77: 0 | R77: 1.3 | S77: 33 | T77: 11 | U77: 22 | V77: 63.58 | W77: 10 | X77: 3 | Y77: 7 | Z77: 1 | AA77: 1 | AB77: 1 | AC77: 0 | AD77: 0 | AE77: 0 | AF77: 0 | AG77: 0 | AH77: 0 | AI77: 0 | AJ77: 27 | AK77: 20 | AL77: 7 | AM77: … | AN77: 3 | AO77: 92 | AP77: 17 | AQ77: 5 | AR77: 59.49 | AS77: 59.3 | AT77: 59.75 | AU77: 63.58 | AV77: 63.15 | AW77: 64.23 | AX77: 63.09 | AY77: 62.5 | AZ77: 63.93
A78: 1420306004 | B78: 神奈川県 | C78: 平塚市 | D78: 金田村 | E78: 長持 | F78: 9 | G78: 9 | H78: - | I78: - | J78: - | K78: - | L78: - | M78: 9 | N78: 7 | O78: 4 | P78: 3 | Q78: - | R78: 0.8 | S78: 13 | T78: 4 | U78: 9 | V78: 69.46 | W78: 4 | X78: 1 | Y78: 4 | Z78: 1 | AA78: 1 | AB78: 1 | AC78: 0 | AD78: 0 | AE78: 0 | AF78: 0 | AG78: 0 | AH78: 0 | AI78: 0 | AJ78: 13 | AK78: 9 | AL78: 4 | AM78: … | AN78: - | AO78: - | AP78: 8 | AQ78: 1 | AR78: 69.35 | AS78: 70.56 | AT78: 68 | AU78: 69.46 | AV78: 70.56 | AW78: 67 | AX78: 67.43 | AY78: 70.56 | AZ78: 61.8
A79: 1420307000 | B79: 神奈川県 | C79: 平塚市 | D79: 金目村 | F79: 115 | G79: 111 | H79: 4 | I79: - | J79: 4 | K79: - | L79: - | M79: 113 | N79: 107 | O79: 68 | P79: 36 | Q79: 2 | R79: 0.9 | S79: 133 | T79: 28 | U79: 105 | V79: 70.53 | W79: 36 | X79: 12 | Y79: 67 | Z79: 10 | AA79: 8 | AB79: 10 | AC79: 4 | AD79: 0 | AE79: 0 | AF79: 0 | AG79: 0 | AH79: 0 | AI79: 0 | AJ79: 179 | AK79: 111 | AL79: 68 | AM79: … | AN79: 9 | AO79: 291 | AP79: 54 | AQ79: 26 | AR79: 65.18 | AS79: 63.67 | AT79: 67.13 | AU79: 70.53 | AV79: 69.04 | AW79: 72.79 | AX79: 68.96 | AY79: 67.4 | AZ79: 71.63
A80: 1420307001 | B80: 神奈川県 | C80: 平塚市 | D80: 金目村 | E80: 北久保 | F80: 10 | G80: 10 | H80: - | I80: - | J80: - | K80: - | L80: - | M80: 10 | N80: 13 | O80: 10 | P80: 3 | Q80: - | R80: 1.3 | S80: 13 | T80: 3 | U80: 10 | V80: 70.31 | W80: 4 | X80: 1 | Y80: 5 | Z80: 1 | AA80: 0 | AB80: 1 | AC80: 0 | AD80: 0 | AE80: 0 | AF80: 0 | AG80: 0 | AH80: 0 | AI80: 0 | AJ80: 16 | AK80: 10 | AL80: 6 | AM80: … | AN80: 3 | AO80: 32 | AP80: 5 | AQ80: 2 | AR80: 66.76 | AS80: 61.58 | AT80: 73.67 | AU80: 70.31 | AV80: 67 | AW80: 74.17 | AX80: 69.73 | AY80: 66.67 | AZ80: 73.4
A81: 1420307002 | B81: 神奈川県 | C81: 平塚市 | D81: 金目村 | E81: 中久保 | F81: 8 | G81: x | H81: x | I81: x | J81: x | K81: x | L81: x | M81: x | N81: x | O81: x | P81: x | Q81: x | R81: x | S81: x | T81: x | U81: x | V81: x | W81: x | X81: x | Y81: x | Z81: 1 | AA81: 1 | AB81: 1 | AC81: 0 | AD81: 0 | AE81: 0 | AF81: 0 | AG81: 0 | AH81: 0 | AI81: 0 | AJ81: 10 | AK81: 8 | AL81: 2 | AM81: … | AN81: x | AO81: x | AP81: x | AQ81: x | AR81: x | AS81: x | AT81: x | AU81: x | AV81: x | AW81: x | AX81: x | AY81: x | AZ81: x
A82: 1420307003 | B82: 神奈川県 | C82: 平塚市 | D82: 金目村 | E82: 大久保 | F82: 8 | G82: 7 | H82: 1 | I82: - | J82: 1 | K82: - | L82: - | M82: 8 | N82: 6 | O82: 5 | P82: 1 | Q82: 0 | R82: 0.8 | S82: 11 | T82: 3 | U82: 8 | V82: 71.09 | W82: 1 | X82: 1 | Y82: 6 | Z82: 1 | AA82: 0 | AB82: 1 | AC82: 0 | AD82: 0 | AE82: 0 | AF82: 0 | AG82: 0 | AH82: 0 | AI82: 0 | AJ82: 14 | AK82: 7 | AL82: 7 | AM82: … | AN82: 3 | AO82: 133 | AP82: 5 | AQ82: 2 | AR82: 66.76 | AS82: 61.33 | AT82: 72.88 | AU82: 71.09 | AV82: 65.86 | AW82: 80.25 | AX82: 69 | AY82: 65.17 | AZ82: 76.67
A83: 1420307004 | B83: 神奈川県 | C83: 平塚市 | D83: 金目村 | E83: 青柳 | F83: 18 | G83: 16 | H83: 2 | I83: - | J83: 2 | K83: - | L83: - | M83: 17 | N83: 18 | O83: 11 | P83: 6 | Q83: 1 | R83: 1.1 | S83: 13 | T83: 3 | U83: 10 | V83: 69.77 | W83: 8 | X83: - | Y83: 10 | Z83: 1 | AA83: 1 | AB83: 1 | AC83: 0 | AD83: 0 | AE83: 0 | AF83: 0 | AG83: 0 | AH83: 0 | AI83: 0 | AJ83: 22 | AK83: 15 | AL83: 7 | AM83: … | AN83: - | AO83: - | AP83: 7 | AQ83: 4 | AR83: 64.69 | AS83: 64.5 | AT83: 64.93 | AU83: 69.77 | AV83: 69.14 | AW83: 70.5 | AX83: 68.75 | AY83: 67.44 | AZ83: 70.43
A84: 1420307005 | B84: 神奈川県 | C84: 平塚市 | D84: 金目村 | E84: 坪之内 | F84: 10 | G84: 10 | H84: - | I84: - | J84: - | K84: - | L84: - | M84: 10 | N84: 9 | O84: 6 | P84: 3 | Q84: - | R84: 0.9 | S84: 18 | T84: 7 | U84: 11 | V84: 66.94 | W84: 3 | X84: 3 | Y84: 4 | Z84: 1 | AA84: 1 | AB84: 1 | AC84: 1 | AD84: 0 | AE84: 0 | AF84: 0 | AG84: 0 | AH84: 0 | AI84: 0 | AJ84: 17 | AK84: 10 | AL84: 7 | AM84: … | AN84: 2 | AO84: 123 | AP84: 5 | AQ84: 2 | AR84: 67.27 | AS84: 64.31 | AT84: 71.56 | AU84: 66.94 | AV84: 64.3 | AW84: 70.25 | AX84: 63.43 | AY84: 61 | AZ84: 66.67
A85: 1420307006 | B85: 神奈川県 | C85: 平塚市 | D85: 金目村 | E85: 堀之内 | F85: 2 | G85: x | H85: x | I85: x | J85: x | K85: x | L85: x | M85: x | N85: x | O85: x | P85: x | Q85: x | R85: x | S85: x | T85: x | U85: x | V85: x | W85: x | X85: x | Y85: x | Z85: 1 | AA85: 1 | AB85: 1 | AC85: 0 | AD85: 0 | AE85: 0 | AF85: 0 | AG85: 0 | AH85: 0 | AI85: 0 | AJ85: 6 | AK85: 2 | AL85: 4 | AM85: … | AN85: x | AO85: x | AP85: x | AQ85: x | AR85: x | AS85: x | AT85: x | AU85: x | AV85: x | AW85: x | AX85: x | AY85: x | AZ85: x
A86: 1420307007 | B86: 神奈川県 | C86: 平塚市 | D86: 金目村 | E86: 川前 | F86: 19 | G86: 19 | H86: - | I86: - | J86: - | K86: - | L86: - | M86: 19 | N86: 18 | O86: 10 | P86: 8 | Q86: 0 | R86: 0.9 | S86: 18 | T86: 3 | U86: 15 | V86: 71.78 | W86: 4 | X86: 3 | Y86: 12 | Z86: 1 | AA86: 1 | AB86: 1 | AC86: 1 | AD86: 0 | AE86: 0 | AF86: 0 | AG86: 0 | AH86: 0 | AI86: 0 | AJ86: 29 | AK86: 19 | AL86: 10 | AM86: … | AN86: 1 | AO86: 3 | AP86: 7 | AQ86: 3 | AR86: 64.6 | AS86: 62.52 | AT86: 67.11 | AU86: 71.78 | AV86: 71.08 | AW86: 73.6 | AX86: 72.75 | AY86: 73.18 | AZ86: 71.8
A87: 1420307008 | B87: 神奈川県 | C87: 平塚市 | D87: 金目村 | E87: 片岡 | F87: 17 | G87: 17 | H87: - | I87: - | J87: - | K87: - | L87: - | M87: 17 | N87: 17 | O87: 11 | P87: 6 | Q87: 0 | R87: 1 | S87: 23 | T87: 7 | U87: 16 | V87: 66.22 | W87: 4 | X87: 2 | Y87: 11 | Z87: 1 | AA87: 1 | AB87: 1 | AC87: 1 | AD87: 0 | AE87: 0 | AF87: 0 | AG87: 0 | AH87: 0 | AI87: 0 | AJ87: 22 | AK87: 17 | AL87: 5 | AM87: … | AN87: - | AO87: - | AP87: 13 | AQ87: 4 | AR87: 62.38 | AS87: 63 | AT87: 61.67 | AU87: 66.22 | AV87: 66.13 | AW87: 66.38 | AX87: 66 | AY87: 64.46 | AZ87: 70
A88: 1420307009 | B88: 神奈川県 | C88: 平塚市 | D88: 金目村 | E88: 広川 | F88: 12 | G88: 11 | H88: 1 | I88: - | J88: 1 | K88: - | L88: - | M88: 11 | N88: 8 | O88: 6 | P88: 2 | Q88: - | R88: 0.7 | S88: 13 | T88: 1 | U88: 12 | V88: 77.54 | W88: 6 | X88: 1 | Y88: 5 | Z88: 1 | AA88: 1 | AB88: 1 | AC88: 1 | AD88: 0 | AE88: 0 | AF88: 0 | AG88: 0 | AH88: 0 | AI88: 0 | AJ88: 20 | AK88: 12 | AL88: 8 | AM88: … | AN88: - | AO88: - | AP88: 7 | AQ88: 3 | AR88: 65.5 | AS88: 65.6 | AT88: 65.38 | AU88: 77.54 | AV88: 77 | AW88: 78.4 | AX88: 71.86 | AY88: 70 | AZ88: 76.5
A89: 1420307010 | B89: 神奈川県 | C89: 平塚市 | D89: 金目村 | E89: 千須谷 | F89: 11 | G89: 11 | H89: - | I89: - | J89: - | K89: - | L89: - | M89: 11 | N89: 10 | O89: 5 | P89: 5 | Q89: 0 | R89: 0.9 | S89: 10 | T89: - | U89: 10 | V89: 75.1 | W89: 2 | X89: 1 | Y89: 8 | Z89: 1 | AA89: 1 | AB89: 1 | AC89: 0 | AD89: 0 | AE89: 0 | AF89: 0 | AG89: 0 | AH89: 0 | AI89: 0 | AJ89: 23 | AK89: 11 | AL89: 12 | AM89: … | AN89: - | AO89: - | AP89: 2 | AQ89: 3 | AR89: 68.89 | AS89: 66.5 | AT89: 73 | AU89: 75.1 | AV89: 73.67 | AW89: 77.25 | AX89: 74.29 | AY89: 72.75 | AZ89: 76.33
A90: 1420308000 | B90: 神奈川県 | C90: 平塚市 | D90: 神田村 | F90: 57 | G90: 56 | H90: 1 | I90: - | J90: 1 | K90: - | L90: - | M90: 57 | N90: 52 | O90: 39 | P90: 13 | Q90: 0 | R90: 0.9 | S90: 80 | T90: 22 | U90: 58 | V90: 70.88 | W90: 28 | X90: 10 | Y90: 19 | Z90: 12 | AA90: 11 | AB90: 12 | AC90: 11 | AD90: 1 | AE90: 1 | AF90: 0 | AG90: 1 | AH90: 0 | AI90: 0 | AJ90: 119 | AK90: 56 | AL90: 63 | AM90: … | AN90: - | AO90: - | AP90: 36 | AQ90: 6 | AR90: 63.46 | AS90: 63 | AT90: 63.96 | AU90: 70.88 | AV90: 71.57 | AW90: 69.94 | AX90: 69.58 | AY90: 71.49 | AZ90: 66.96
A91: 1420308001 | B91: 神奈川県 | C91: 平塚市 | D91: 神田村 | E91: 吉際 | F91: 3 | G91: 3 | H91: - | I91: - | J91: - | K91: - | L91: - | M91: 3 | N91: 2 | O91: 2 | P91: 0 | Q91: - | R91: 0.7 | S91: 2 | T91: 1 | U91: 1 | V91: 55.5 | W91: 2 | X91: - | Y91: 1 | Z91: 1 | AA91: 1 | AB91: 1 | AC91: 0 | AD91: 0 | AE91: 0 | AF91: 0 | AG91: 0 | AH91: 0 | AI91: 0 | AJ91: 4 | AK91: 3 | AL91: 1 | AM91: … | AN91: - | AO91: - | AP91: - | AQ91: 1 | AR91: 56.8 | AS91: 47.8 | AT91: 65.8 | AU91: 55.5 | AV91: 55.5 | AW91: - | AX91: 73 | AY91: 73 | AZ91: -
A92: 1420308002 | B92: 神奈川県 | C92: 平塚市 | D92: 神田村 | E92: 大神第一 | F92: - | G92: - | H92: - | I92: - | J92: - | K92: - | L92: - | M92: - | N92: - | O92: - | P92: - | Q92: - | R92: - | S92: - | T92: - | U92: - | V92: - | W92: - | X92: - | Y92: - | Z92: 1 | AA92: 1 | AB92: 1 | AC92: 1 | AD92: 1 | AE92: 1 | AF92: 0 | AG92: 1 | AH92: 0 | AI92: 0 | AJ92: 4 | AK92: - | AL92: 4 | AM92: … | AN92: - | AO92: - | AP92: - | AQ92: - | AR92: - | AS92: - | AT92: - | AU92: - | AV92: - | AW92: - | AX92: - | AY92: - | AZ92: -
A93: 1420308003 | B93: 神奈川県 | C93: 平塚市 | D93: 神田村 | E93: 大神第二 | F93: 1 | G93: x | H93: x | I93: x | J93: x | K93: x | L93: x | M93: x | N93: x | O93: x | P93: x | Q93: x | R93: x | S93: x | T93: x | U93: x | V93: x | W93: x | X93: x | Y93: x | Z93: … | AA93: … | AB93: … | AC93: … | AD93: … | AE93: … | AF93: … | AG93: … | AH93: … | AI93: 0 | AJ93: 6 | AK93: 1 | AL93: 5 | AM93: … | AN93: x | AO93: x | AP93: x | AQ93: x | AR93: x | AS93: x | AT93: x | AU93: x | AV93: x | AW93: x | AX93: x | AY93: x | AZ93: x
A94: 1420308004 | B94: 神奈川県 | C94: 平塚市 | D94: 神田村 | E94: 大神第三 | F94: 9 | G94: 9 | H94: - | I94: - | J94: - | K94: - | L94: - | M94: 9 | N94: 11 | O94: 10 | P94: 1 | Q94: 0 | R94: 1.2 | S94: 14 | T94: 4 | U94: 10 | V94: 67.93 | W94: 3 | X94: 3 | Y94: 3 | Z94: 1 | AA94: 0 | AB94: 1 | AC94: 1 | AD94: 0 | AE94: 0 | AF94: 0 | AG94: 0 | AH94: 0 | AI94: 0 | AJ94: 11 | AK94: 9 | AL94: 2 | AM94: … | AN94: - | AO94: - | AP94: 6 | AQ94: 1 | AR94: 58.17 | AS94: 58.06 | AT94: 58.29 | AU94: 67.93 | AV94: 70.89 | AW94: 62.6 | AX94: 70.5 | AY94: 71.25 | AZ94: 69
A95: 1420308005 | B95: 神奈川県 | C95: 平塚市 | D95: 神田村 | E95: 大神第四 | F95: 2 | G95: x | H95: x | I95: x | J95: x | K95: x | L95: x | M95: x | N95: x | O95: x | P95: x | Q95: x | R95: x | S95: x | T95: x | U95: x | V95: x | W95: x | X95: x | Y95: x | Z95: 1 | AA95: 1 | AB95: 1 | AC95: 1 | AD95: 0 | AE95: 0 | AF95: 0 | AG95: 0 | AH95: 0 | AI95: 0 | AJ95: 6 | AK95: 2 | AL95: 4 | AM95: … | AN95: x | AO95: x | AP95: x | AQ95: x | AR95: x | AS95: x | AT95: x | AU95: x | AV95: x | AW95: x | AX95: x | AY95: x | AZ95: x
A96: 1420308006 | B96: 神奈川県 | C96: 平塚市 | D96: 神田村 | E96: 田村第一 | F96: 2 | G96: x | H96: x | I96: x | J96: x | K96: x | L96: x | M96: x | N96: x | O96: x | P96: x | Q96: x | R96: x | S96: x | T96: x | U96: x | V96: x | W96: x | X96: x | Y96: x | Z96: 1 | AA96: 1 | AB96: 1 | AC96: 1 | AD96: 0 | AE96: 0 | AF96: 0 | AG96: 0 | AH96: 0 | AI96: 0 | AJ96: 5 | AK96: 2 | AL96: 3 | AM96: … | AN96: x | AO96: x | AP96: x | AQ96: x | AR96: x | AS96: x | AT96: x | AU96: x | AV96: x | AW96: x | AX96: x | AY96: x | AZ96: x
A97: 1420308007 | B97: 神奈川県 | C97: 平塚市 | D97: 神田村 | E97: 田村第二 | F97: 5 | G97: 5 | H97: - | I97: - | J97: - | K97: - | L97: - | M97: 5 | N97: 4 | O97: 2 | P97: 1 | Q97: - | R97: 0.8 | S97: 8 | T97: 2 | U97: 6 | V97: 68.38 | W97: 2 | X97: - | Y97: 3 | Z97: 1 | AA97: 1 | AB97: 1 | AC97: 1 | AD97: 0 | AE97: 0 | AF97: 0 | AG97: 0 | AH97: 0 | AI97: 0 | AJ97: 10 | AK97: 5 | AL97: 5 | AM97: … | AN97: - | AO97: - | AP97: 4 | AQ97: - | AR97: 67.45 | AS97: 69.4 | AT97: 65.83 | AU97: 68.38 | AV97: 76.25 | AW97: 60.5 | AX97: 64.6 | AY97: 81.5 | AZ97: 53.33
A98: 1420308008 | B98: 神奈川県 | C98: 平塚市 | D98: 神田村 | E98: 田村第三 | F98: 1 | G98: x | H98: x | I98: x | J98: x | K98: x | L98: x | M98: x | N98: x | O98: x | P98: x | Q98: x | R98: x | S98: x | T98: x | U98: x | V98: x | W98: x | X98: x | Y98: x | Z98: 1 | AA98: 1 | AB98: 1 | AC98: 1 | AD98: 0 | AE98: 0 | AF98: 0 | AG98: 0 | AH98: 0 | AI98: 0 | AJ98: 6 | AK98: 1 | AL98: 5 | AM98: … | AN98: x | AO98: x | AP98: x | AQ98: x | AR98: x | AS98: x | AT98: x | AU98: x | AV98: x | AW98: x | AX98: x | AY98: x | AZ98: x
A99: 1420308009 | B99: 神奈川県 | C99: 平塚市 | D99: 神田村 | E99: 田村第四 | F99: 3 | G99: 3 | H99: - | I99: - | J99: - | K99: - | L99: - | M99: 3 | N99: 5 | O99: 4 | P99: 0 | Q99: - | R99: 1.7 | S99: 5 | T99: 1 | U99: 4 | V99: 70.8 | W99: 1 | X99: - | Y99: 2 | Z99: 1 | AA99: 1 | AB99: 1 | AC99: 1 | AD99: 0 | AE99: 0 | AF99: 0 | AG99: 0 | AH99: 0 | AI99: 0 | AJ99: 9 | AK99: 3 | AL99: 6 | AM99: … | AN99: - | AO99: - | AP99: 1 | AQ99: - | AR99: 68.17 | AS99: 67.5 | AT99: 69.5 | AU99: 70.8 | AV99: 71.67 | AW99: 69.5 | AX99: 65.5 | AY99: 62 | AZ99: 69
A100: 1420308010 | B100: 神奈川県 | C100: 平塚市 | D100: 神田村 | E100: 横内第一 | F100: 10 | G100: 10 | H100: - | I100: - | J100: - | K100: - | L100: - | M100: 10 | N100: 8 | O100: 6 | P100: 2 | Q100: - | R100: 0.8 | S100: 16 | T100: 4 | U100: 12 | V100: 73.81 | W100: 3 | X100: 2 | Y100: 5 | Z100: 1 | AA100: 1 | AB100: 1 | AC100: 1 | AD100: 0 | AE100: 0 | AF100: 0 | AG100: 0 | AH100: 0 | AI100: 0 | AJ100: 21 | AK100: 10 | AL100: 11 | AM100: … | AN100: - | AO100: - | AP100: 6 | AQ100: 2 | AR100: 70.19 | AS100: 68.62 | AT100: 72.75 | AU100: 73.81 | AV100: 72.8 | AW100: 75.5 | AX100: 71 | AY100: 72 | AZ100: 68
A101: 1420308011 | B101: 神奈川県 | C101: 平塚市 | D101: 神田村 | E101: 横内第二 | F101: 5 | G101: 5 | H101: - | I101: - | J101: - | K101: - | L101: - | M101: 5 | N101: 4 | O101: 1 | P101: 2 | Q101: - | R101: 0.8 | S101: 8 | T101: 1 | U101: 7 | V101: 76.38 | W101: 2 | X101: - | Y101: 3 | Z101: 1 | AA101: 1 | AB101: 1 | AC101: 1 | AD101: 0 | AE101: 0 | AF101: 0 | AG101: 0 | AH101: 0 | AI101: 0 | AJ101: 8 | AK101: 5 | AL101: 3 | AM101: … | AN101: - | AO101: - | AP101: 4 | AQ101: 1 | AR101: 69.5 | AS101: 74.75 | AT101: 66.88 | AU101: 76.38 | AV101: 79 | AW101: 74.8 | AX101: 75.67 | AY101: 79 | AZ101: 74
...

Sheet 分析シート
E2: 【参考資料】 | O2: 旧市町村 | P2: =E9 -> 豊田村 | R2: 農業集落 | S2: =E10 -> 本宿
O3: 地域類型 | P3: =VLOOKUP(C9,'（参考）地域類型区分'!$F$8:$L$400,5) -> 都市的地域 | Q3: =VLOOKUP(C9,'（参考）地域類型区分'!$F$8:$L$400,7) -> 水田型
F4: 6 | G4: 7 | H4: 8 | I4: 14 | J4: 15 | K4: 16 | L4: 17 | M4: 18 | N4: 19 | O4: 20 | P4: 21 | Q4: 22 | R4: 23 | S4: 24 | T4: 25
A5: 黄色セルに対象集落のコード番号を入力！ | C5: コード | D5: 区分 | F5: 農業 経営体数 | I5: 経営耕地面積 | M5: １経営体当たりの経営耕地面積 | N5: 基幹的農業従事者数 （個人経営体） | Q5: 基幹的農業従事者の平均年齢 | R5: ５年以内に農業を引き継ぐ 後継者の確保状況
G6: 個人経営体 | H6: 法人 | I6: 計 | J6: 田 | K6: 畑 | L6: 樹園地 | N6: 計 | O6: 65歳未満 | P6: 65歳以上 | R6: 確保して いる | S6: ５年以内に引き継が ない (※注) | T6: 確保して いない
A7: 県（固定） | B7: 2 | C7: 1400000000 | D7: 県名 | E7: 神奈川県 | F7: =IF($C7="","",VLOOKUP($C7,'2020年'!$A$6:$Y$437,F$4,FALSE)) -> 11402 | G7: =IF($C7="","",VLOOKUP($C7,'2020年'!$A$6:$Y$437,G$4,FALSE)) -> 11091 | H7: =IF($C7="","",VLOOKUP($C7,'2020年'!$A$6:$Y$437,H$4,FALSE)) -> 294 | I7: =IF($C7="","",VLOOKUP($C7,'2020年'!$A$6:$Y$437,I$4,FALSE)) -> 9782 | J7: =IF($C7="","",VLOOKUP($C7,'2020年'!$A$6:$Y$437,J$4,FALSE)) -> 2358 | K7: =IF($C7="","",VLOOKUP($C7,'2020年'!$A$6:$Y$437,K$4,FALSE)) -> 5664 | L7: =IF($C7="","",VLOOKUP($C7,'2020年'!$A$6:$Y$437,L$4,FALSE)) -> 1760 | M7: =IF($C7="","",VLOOKUP($C7,'2020年'!$A$6:$Y$437,M$4,FALSE)) -> 0.9 | ... T7: =IF($C7="","",VLOOKUP($C7,'2020年'!$A$6:$Y$437,T$4,FALSE)) -> 7337
A8: 市町 | B8: 3 | C8: 1420300000 | D8: 市町名 | E8: 平塚市 | F8: =IF($C8="","",VLOOKUP($C8,'2020年'!$A$6:$Y$437,F$4,FALSE)) -> 845 | G8: =IF($C8="","",VLOOKUP($C8,'2020年'!$A$6:$Y$437,G$4,FALSE)) -> 819 | H8: =IF($C8="","",VLOOKUP($C8,'2020年'!$A$6:$Y$437,H$4,FALSE)) -> 24 | I8: =IF($C8="","",VLOOKUP($C8,'2020年'!$A$6:$Y$437,I$4,FALSE)) -> 880 | J8: =IF($C8="","",VLOOKUP($C8,'2020年'!$A$6:$Y$437,J$4,FALSE)) -> 566 | K8: =IF($C8="","",VLOOKUP($C8,'2020年'!$A$6:$Y$437,K$4,FALSE)) -> 299 | L8: =IF($C8="","",VLOOKUP($C8,'2020年'!$A$6:$Y$437,L$4,FALSE)) -> 15 | M8: =IF($C8="","",VLOOKUP($C8,'2020年'!$A$6:$Y$437,M$4,FALSE)) -> 1.1 | ... T8: =IF($C8="","",VLOOKUP($C8,'2020年'!$A$6:$Y$437,T$4,FALSE)) -> 499
A9: 旧市町村 | B9: 4 | C9: =_xlfn.XLOOKUP(E9,コード!D3:D226,コード!B3:B226) -> 1420305000 | D9: 旧市町村名 S25 | E9: 豊田村 | F9: =IF($C9="","",VLOOKUP($C9,'2020年'!$A$6:$Y$437,F$4,FALSE)) -> 58 | G9: =IF($C9="","",VLOOKUP($C9,'2020年'!$A$6:$Y$437,G$4,FALSE)) -> 57 | H9: =IF($C9="","",VLOOKUP($C9,'2020年'!$A$6:$Y$437,H$4,FALSE)) -> 1 | I9: =IF($C9="","",VLOOKUP($C9,'2020年'!$A$6:$Y$437,I$4,FALSE)) -> 66 | J9: =IF($C9="","",VLOOKUP($C9,'2020年'!$A$6:$Y$437,J$4,FALSE)) -> 49 | K9: =IF($C9="","",VLOOKUP($C9,'2020年'!$A$6:$Y$437,K$4,FALSE)) -> 17 | L9: =IF($C9="","",VLOOKUP($C9,'2020年'!$A$6:$Y$437,L$4,FALSE)) -> - | M9: =IF($C9="","",VLOOKUP($C9,'2020年'!$A$6:$Y$437,M$4,FALSE)) -> 1.2 | ... T9: =IF($C9="","",VLOOKUP($C9,'2020年'!$A$6:$Y$437,T$4,FALSE)) -> 30
A10: 農業集落 | B10: 5 | C10: =_xlfn.XLOOKUP(E10,'2020年'!E6:E420,'2020年'!A6:A420) -> 1420305004 | D10: 農業集落名 | E10: 本宿 | F10: =IF($C10="","",VLOOKUP($C10,'2020年'!$A$6:$Y$437,F$4,FALSE)) -> 8 | G10: =IF($C10="","",VLOOKUP($C10,'2020年'!$A$6:$Y$437,G$4,FALSE)) -> 8 | H10: =IF($C10="","",VLOOKUP($C10,'2020年'!$A$6:$Y$437,H$4,FALSE)) -> - | I10: =IF($C10="","",VLOOKUP($C10,'2020年'!$A$6:$Y$437,I$4,FALSE)) -> 8 | J10: =IF($C10="","",VLOOKUP($C10,'2020年'!$A$6:$Y$437,J$4,FALSE)) -> 5 | K10: =IF($C10="","",VLOOKUP($C10,'2020年'!$A$6:$Y$437,K$4,FALSE)) -> 3 | L10: =IF($C10="","",VLOOKUP($C10,'2020年'!$A$6:$Y$437,L$4,FALSE)) -> - | M10: =IF($C10="","",VLOOKUP($C10,'2020年'!$A$6:$Y$437,M$4,FALSE)) -> 1 | ... T10: =IF($C10="","",VLOOKUP($C10,'2020年'!$A$6:$Y$437,T$4,FALSE)) -> 4
B11: ① | I11: =IF(V11="","",V11*0.01) | J11: =IF(サブシート!R13="","",サブシート!R13*0.01) | K11: =IF(サブシート!S13="","",サブシート!S13*0.01) | L11: =IF(サブシート!T13="","",サブシート!T13*0.01)
B12: ② | I12: =IF(V12="","",V12*0.01) | J12: =IF(サブシート!R14="","",サブシート!R14*0.01) | K12: =IF(サブシート!S14="","",サブシート!S14*0.01) | L12: =IF(サブシート!T14="","",サブシート!T14*0.01)
B13: ③ | I13: =IF(V13="","",V13*0.01) | J13: =IF(サブシート!R15="","",サブシート!R15*0.01) | K13: =IF(サブシート!S15="","",サブシート!S15*0.01) | L13: =IF(サブシート!T15="","",サブシート!T15*0.01)
B14: ④ | I14: =IF(V14="","",V14*0.01) | J14: =IF(サブシート!R16="","",サブシート!R16*0.01) | K14: =IF(サブシート!S16="","",サブシート!S16*0.01) | L14: =IF(サブシート!T16="","",サブシート!T16*0.01)
B15: ⑤ | I15: =IF(V15="","",V15*0.01) | J15: =IF(サブシート!R17="","",サブシート!R17*0.01) | K15: =IF(サブシート!S17="","",サブシート!S17*0.01) | L15: =IF(サブシート!T17="","",サブシート!T17*0.01)
A16: 複数 | B16: 計 | I16: =IF(V16="","",V16*0.01) | J16: =IF(サブシート!R18="","",サブシート!R18*0.01) | K16: =IF(サブシート!S18="","",サブシート!S18*0.01) | L16: =IF(サブシート!T18="","",サブシート!T18*0.01)
D17: =IF(F9="x","この旧市町村は、農業集落の一部が秘匿のため表・グラフが表示されません。",) -> 0 | K17: =IF(F10="x","この農業集落は、2経営体以下のため秘匿です。表、グラフとも表示されません",IF(F10="-","この農業集落に農業経営体はありません。表、グラフとも表示されません",)) -> 0
AA21: =IF(サブシート!V11="@","旧市町村境界変更のため不明",) -> 0
AA22: =IF(サブシート!V12="@","農業集落境界変更のため不明",) -> 0
M33: 〔基幹的農業従事者：農業就業人口のうち、ふだん仕事として自営農業に従事した人〕

Sheet サブシート
C1: ↓グラフ②挿入（カメラ機能使用）
C3: =分析シート!E9 -> 豊田村 | E3: =分析シート!E9 -> 豊田村
C4: 65歳未満 | E4: 65歳以上
C5: =サブシート!AL11 -> 0.39130435 | E5: =サブシート!AM11 -> 0.60869565 | Z5: 【グラフデータ】 | AG5: 【グラフデータ】 | AI5: 基幹的農業従事者の割合 | AO5: 【グラフデータ】
G6: ↓グラフ②挿入（カメラ機能使用） | R6: 44 | S6: 50 | T6: 17
G7: 平均年齢 | V7: 農業経営体数の推移 | AJ7: 2020
C8: =CONCATENATE(分析シート!$E$10," 集落") -> 本宿 集落 | G8: =分析シート!$E$10 -> 本宿 | H8: =分析シート!Q10 -> 68.86 | V8: 2005 | W8: 2010 | X8: 2015 | Y8: 2020 | AA8: 2005 | AB8: 2010 | AC8: 2015 | AD8: 2020 | AJ8: 65歳未満 | AK8: 65歳以上 | AO8: 確保している | AP8: ５年以内に引き継がない | AQ8: 確保していない | AR8: 確保している | AS8: ５年以内に引き継がない | AT8: 確保していない
B9: 2005年比 | D9: =(サブシート!AD12*-1)*0.01 -> 0.38461538 | E9: 減少 | G9: =分析シート!$E9 -> 豊田村 | H9: =分析シート!Q9 -> 64.88 | R9: =IF(分析シート!$C7="","",VLOOKUP(分析シート!$C7,'2020年'!$A$6:$AZ$437,R$6,FALSE)) -> 62.39 | S9: =IF(分析シート!$C7="","",VLOOKUP(分析シート!$C7,'2020年'!$A$6:$AZ$437,S$6,FALSE)) -> 65.65 | U9: =分析シート!$E7 -> 神奈川県 | V9: =IF(分析シート!$C7="","",VLOOKUP(分析シート!$C7,過年次データ!$A$6:$N$4190,6,FALSE)) -> 17121 | W9: =IF(分析シート!$C7="","",VLOOKUP(分析シート!$C7,過年次データ!$A$6:$N$4190,9,FALSE)) -> 15612 | X9: =IF(分析シート!$C7="","",VLOOKUP(分析シート!$C7,過年次データ!$A$6:$N$4190,12,FALSE)) -> 13809 | Y9: =IF(分析シート!F7="","",分析シート!F7) -> 11402 | Z9: =分析シート!E7 -> 神奈川県 | AA9: =V9/$V9*100-100 -> 0 | AB9: =W9/$V9*100-100 -> -8.8137375 | AC9: =X9/$V9*100-100 -> -19.344664 | AD9: =Y9/$V9*100-100 -> -33.403423 | AF9: =分析シート!$E7 -> 神奈川県 | AI9: =分析シート!$E7 -> 神奈川県 | AJ9: =分析シート!O7 -> 5769 | AK9: =分析シート!P7 -> 10686 | AN9: =分析シート!$E7 -> 神奈川県 | AO9: =分析シート!R7 -> 3443 | AP9: =分析シート!S7 -> 622 | AQ9: =分析シート!T7 -> 7337 | AR9: =AO9/SUM(AO9:AQ9)*100 -> 30.196457 | AS9: =AP9/SUM(AO9:AQ9)*100 -> 5.4551833 | AT9: =AQ9/SUM(AO9:AQ9)*100 -> 64.34836
R10: =IF(分析シート!$C8="","",VLOOKUP(分析シート!$C8,'2020年'!$A$6:$AZ$437,R$6,FALSE)) -> 64.69 | S10: =IF(分析シート!$C8="","",VLOOKUP(分析シート!$C8,'2020年'!$A$6:$AZ$437,S$6,FALSE)) -> 68.07 | U10: =分析シート!$E8 -> 平塚市 | V10: =IF(分析シート!$C8="","",VLOOKUP(分析シート!$C8,過年次データ!$A$6:$N$4190,6,FALSE)) -> 1324 | W10: =IF(分析シート!$C8="","",VLOOKUP(分析シート!$C8,過年次データ!$A$6:$N$4190,9,FALSE)) -> 1230 | X10: =IF(分析シート!$C8="","",VLOOKUP(分析シート!$C8,過年次データ!$A$6:$N$4190,12,FALSE)) -> 1115 | Y10: =IF(分析シート!F8="","",分析シート!F8) -> 845 | Z10: =分析シート!E8 -> 平塚市 | AA10: =V10/$V10*100-100 -> 0 | AB10: =W10/$V10*100-100 -> -7.0996979 | AC10: =X10/$V10*100-100 -> -15.785498 | AD10: =Y10/$V10*100-100 -> -36.178248 | AF10: =分析シート!$E8 -> 平塚市 | AI10: =分析シート!$E8 -> 平塚市 | AJ10: =分析シート!O8 -> 298 | AK10: =分析シート!P8 -> 778 | AN10: =分析シート!$E8 -> 平塚市 | AO10: =分析シート!R8 -> 246 | AP10: =分析シート!S8 -> 100 | AQ10: =分析シート!T8 -> 499 | AR10: =AO10/SUM(AO10:AQ10)*100 -> 29.112426 | AS10: =AP10/SUM(AO10:AQ10)*100 -> 11.83432 | AT10: =AQ10/SUM(AO10:AQ10)*100 -> 59.053254
G11: 農業従事者 | R11: =IF(分析シート!$C9="","",VLOOKUP(分析シート!$C9,'2020年'!$A$6:$AZ$437,R$6,FALSE)) -> 64.47 | S11: =IF(分析シート!$C9="","",VLOOKUP(分析シート!$C9,'2020年'!$A$6:$AZ$437,S$6,FALSE)) -> 62.92 | U11: =分析シート!$E9 -> 豊田村 | V11: =IF(分析シート!$C9="","",VLOOKUP(分析シート!$C9,過年次データ!$A$6:$N$4190,6,FALSE)) -> 95 | W11: =IF(分析シート!$C9="","",VLOOKUP(分析シート!$C9,過年次データ!$A$6:$N$4190,9,FALSE)) -> 90 | X11: =IF(分析シート!$C9="","",VLOOKUP(分析シート!$C9,過年次データ!$A$6:$N$4190,12,FALSE)) -> 75 | Y11: =IF(分析シート!F9="","",分析シート!F9) -> 58 | Z11: =分析シート!E9 -> 豊田村 | AA11: =V11/$V11*100-100 -> 0 | AB11: =W11/$V11*100-100 -> -5.2631579 | AC11: =X11/$V11*100-100 -> -21.052632 | AD11: =Y11/$V11*100-100 -> -38.947368 | AF11: =分析シート!$E9 -> 豊田村 | AI11: =分析シート!$E9 -> 豊田村 | AJ11: =分析シート!O9 -> 27 | AK11: =分析シート!P9 -> 42 | AL11: =AJ11/分析シート!$N9 -> 0.39130435 | AM11: =AK11/分析シート!$N9 -> 0.60869565 | AN11: =分析シート!$E9 -> 豊田村 | AO11: =分析シート!R9 -> 21 | AP11: =分析シート!S9 -> 7 | AQ11: =分析シート!T9 -> 30 | AR11: =AO11/SUM(AO11:AQ11)*100 -> 36.206897 | AS11: =AP11/SUM(AO11:AQ11)*100 -> 12.068966 | AT11: =AQ11/SUM(AO11:AQ11)*100 -> 51.724138
G12: 平均年齢 | R12: =IF(分析シート!$C10="","",VLOOKUP(分析シート!$C10,'2020年'!$A$6:$AZ$437,R$6,FALSE)) -> 68.81 | S12: =IF(分析シート!$C10="","",VLOOKUP(分析シート!$C10,'2020年'!$A$6:$AZ$437,S$6,FALSE)) -> 67.63 | U12: =分析シート!$E10 -> 本宿 | V12: =IF(分析シート!$C10="","",VLOOKUP(分析シート!$C10,過年次データ!$A$6:$N$4190,6,FALSE)) -> 13 | W12: =IF(分析シート!$C10="","",VLOOKUP(分析シート!$C10,過年次データ!$A$6:$N$4190,9,FALSE)) -> 11 | X12: =IF(分析シート!$C10="","",VLOOKUP(分析シート!$C10,過年次データ!$A$6:$N$4190,12,FALSE)) -> 9 | Y12: =IF(分析シート!F10="","",分析シート!F10) -> 8 | Z12: =分析シート!E10 -> 本宿 | AA12: =V12/$V12*100-100 -> 0 | AB12: =W12/$V12*100-100 -> -15.384615 | AC12: =X12/$V12*100-100 -> -30.769231 | AD12: =Y12/$V12*100-100 -> -38.461538 | AF12: =分析シート!$E10 -> 本宿 | AI12: =分析シート!$E10 -> 本宿 | AJ12: =分析シート!O10 -> 2 | AK12: =分析シート!P10 -> 5 | AN12: =分析シート!$E10 -> 本宿 | AO12: =分析シート!R10 -> 2 | AP12: =分析シート!S10 -> 2 | AQ12: =分析シート!T10 -> 4 | AR12: =AO12/SUM(AO12:AQ12)*100 -> 25 | AS12: =AP12/SUM(AO12:AQ12)*100 -> 25 | AT12: =AQ12/SUM(AO12:AQ12)*100 -> 50
G13: =分析シート!E10 -> 本宿 | H13: =サブシート!R12 -> 68.81
C14: =分析シート!E9 -> 豊田村 | E14: =分析シート!E9 -> 豊田村 | G14: =分析シート!E9 -> 豊田村 | H14: =サブシート!R11 -> 64.47
C15: 65歳未満 | E15: 65歳以上
C16: =分析シート!AQ20 -> 0 | E16: =分析シート!AR20 -> 0 | G16: 自営農業従事日数が150日以上
C17: ↑グラフ①挿入（カメラ機能使用） | G17: 平均年齢
G18: =G13 -> 本宿 | H18: =サブシート!S12 -> 67.63 | J18: ■ 農業経営体の組織区 分別経営体数（2020年）
G19: =G14 -> 豊田村 | H19: =サブシート!S11 -> 62.92
H20: 地域の農業構造（カメラ機能使用）→ | J20: 集落名 | M20: =分析シート!$E$10 -> 本宿
J21: 農業経営体数 | N21: =IF(分析シート!C10="","",VLOOKUP(分析シート!C10,'2020年'!$A$6:$Y$437,6,FALSE)) -> 8
K22: 個人経営体 | N22: =IF(分析シート!C10="","",VLOOKUP(分析シート!C10,'2020年'!$A$6:$Y$437,7,FALSE)) -> 8
K23: 法人 | L23: 農事組合法人 | N23: =IF(分析シート!C10="","",VLOOKUP(分析シート!C10,'2020年'!$A$6:$Y$437,9,FALSE)) -> -
L24: 会 社 | N24: =IF(分析シート!C10="","",VLOOKUP(分析シート!C10,'2020年'!$A$6:$Y$437,10,FALSE)) -> -
L25: その他の法人 | N25: =IF(分析シート!C10="","",VLOOKUP(分析シート!C10,'2020年'!$A$6:$Y$437,11,FALSE)) -> -
K26: その他の経営体 | N26: =IF(分析シート!C10="","",VLOOKUP(分析シート!C10,'2020年'!$A$6:$Y$437,12,FALSE)) -> -
J28: 総農家 | M28: 販売農家 | N28: 自給的農家
J29: =IF($AB61="","",VLOOKUP($AB61,'2020年'!$A$6:$AP$437,36,FALSE)) -> 12 | M29: =IF($AB61="","",VLOOKUP($AB61,'2020年'!$A$6:$AP$437,37,FALSE)) -> 8 | N29: =IF($AB61="","",VLOOKUP($AB61,'2020年'!$A$6:$AP$437,38,FALSE)) -> 4
L34: （カメラ機能使用）→ | Q34: ■ 地域活動の取組状況（2020年）
M35: 自動計算 | N35: =IF(分析シート!C$10="","",VLOOKUP(分析シート!C$10,'2020年'!$A$6:$AH$437,26,FALSE)) -> … | P35: =IF(N35=1,TRUE,FALSE) -> FALSE | R35: 次のいずれかの活動を行っている
N36: =IF(分析シート!C$10="","",VLOOKUP(分析シート!C$10,'2020年'!$A$6:$AH$437,27,FALSE)) -> … | P36: =IF(N36=1,TRUE,FALSE) -> FALSE | R36: 環境美化・自然環境の保全
N37: =IF(分析シート!C$10="","",VLOOKUP(分析シート!C$10,'2020年'!$A$6:$AH$437,28,FALSE)) -> … | P37: =IF(N37=1,TRUE,FALSE) -> FALSE | R37: 農業集落行事（祭り・イベントなど）
N38: =IF(分析シート!C$10="","",VLOOKUP(分析シート!C$10,'2020年'!$A$6:$AH$437,29,FALSE)) -> … | P38: =IF(N38=1,TRUE,FALSE) -> FALSE | R38: 農業集落内の福祉・厚生
N39: =IF(分析シート!C$10="","",VLOOKUP(分析シート!C$10,'2020年'!$A$6:$AH$437,30,FALSE)) -> … | P39: =IF(N39=1,TRUE,FALSE) -> FALSE | R39: 定住を推進する取組
N40: =IF(分析シート!C$10="","",VLOOKUP(分析シート!C$10,'2020年'!$A$6:$AH$437,31,FALSE)) -> … | P40: =IF(N40=1,TRUE,FALSE) -> FALSE | R40: グリーン・ツーリズムの取組
N41: =IF(分析シート!C$10="","",VLOOKUP(分析シート!C$10,'2020年'!$A$6:$AH$437,32,FALSE)) -> … | P41: =IF(N41=1,TRUE,FALSE) -> FALSE | R41: ６次産業化への取組
N42: =IF(分析シート!C$10="","",VLOOKUP(分析シート!C$10,'2020年'!$A$6:$AH$437,33,FALSE)) -> … | P42: =IF(N42=1,TRUE,FALSE) -> FALSE | R42: 再生可能エネルギーへの取組
N43: =IF(分析シート!C$10="","",VLOOKUP(分析シート!C$10,'2020年'!$A$6:$AH$437,34,FALSE)) -> … | P43: =IF(N43=1,TRUE,FALSE) -> FALSE | R43: いずれの活動も行っていない
R46: （カメラ機能使用）→ | U46: ■ 棚田の認定・活動状況等
T47: FALSE | V47: 国の指定棚田地域がある
V48: 指定地域 | W48: 棚田の名称
S49: ★手入力セル →
T50: FALSE | V50: 棚田地域振興活動計画の認定
V51: 認定月 | W51: 協議会の名称
S52: ★手入力セル →
T54: FALSE | V54: 佐賀県の棚田保全活動等
V55: 組織 | W55: 棚田の名称
S56: ★手入力セル →
AB60: 5
AB61: =分析シート!C10 -> 1420305004
AB63: =IF($AB61="","",VLOOKUP($AB61,'2020年'!$A$6:$Y$437,AB$60,FALSE)) -> 本宿
AA66: =IF(AC67="-","集落営農組織がない","集落営農組織がある") -> 集落営農組織がある
AA67: 組織数 | AC67: =IF(分析シート!C10="","",VLOOKUP(分析シート!C10,'2020年'!$A$6:$AI$437,35,FALSE)) -> 0
AA68: 2020年農林業センサスの新規項目
AA69: 青色申告を行っている経営体数 | AC69: データを活用した農業を行っている経営体数
AA70: =IF($AB61="","",VLOOKUP($AB61,'2020年'!$A$6:$AQ$437,42,FALSE)) -> 5 | AC70: =IF($AB61="","",VLOOKUP($AB61,'2020年'!$A$6:$AQ$437,43,FALSE)) -> -
AA73: 有機農業に取り組んでいる
AA74: 経営体数 | AC74: 作付（栽培）面積
AA75: =IF($AB61="","",VLOOKUP($AB61,'2020年'!$A$6:$AQ$437,40,FALSE)) -> - | AC75: =IF($AB61="","",VLOOKUP($AB61,'2020年'!$A$6:$AQ$437,41,FALSE)) -> -

Sheet 過年次データ
E2: 農業センサス過年次データ（経営体数） | K2: 農業集落境界の変更等により、2020年の農業集落に接続できない場合は、当該結果を「@」としています
A3: 指 標 | F3: ２００５年 | I3: ２０１０年 | L3: ２０１５年
F4: 農業経営体数 | I4: 農業経営体数 | L4: 農業経営体数
A5: コード | B5: 県 | C5: 市区町村 | D5: 旧市区町村 | E5: 農業集落 | G5: うち、 個人経営体 | H5: うち、法人 ※農事組合法人や会社等 | J5: うち、 個人経営体 | K5: うち、法人 ※農事組合法人や会社等 | M5: うち、 個人経営体 | N5: うち、法人 ※農事組合法人や会社等
A6: 1400000000 | B6: 神奈川県 | F6: 17121 | G6: 16764 | H6: 324 | I6: 15612 | J6: 15370 | K6: 233 | L6: 13809 | M6: 13520 | N6: 268
A7: 1410100000 | B7: 神奈川県 | C7: 鶴見区 | F7: 32 | G7: 32 | H7: - | I7: 25 | J7: 24 | K7: 1 | L7: 22 | M7: 21 | N7: 1
A8: 1410100001 | B8: 神奈川県 | C8: 鶴見区 | D8: 鶴見区 | E8: 東寺尾 | F8: 3 | G8: 3 | H8: - | I8: 3 | J8: x | K8: x | L8: 3 | M8: 3 | N8: -
A9: 1410100002 | B9: 神奈川県 | C9: 鶴見区 | D9: 鶴見区 | E9: 山手 | F9: 1 | G9: x | H9: x | I9: - | J9: - | K9: - | L9: 1 | M9: x | N9: x
A10: 1410100003 | B10: 神奈川県 | C10: 鶴見区 | D10: 鶴見区 | E10: 馬場 | F10: - | G10: - | H10: - | I10: - | J10: - | K10: - | L10: - | M10: - | N10: -
A11: 1410100004 | B11: 神奈川県 | C11: 鶴見区 | D11: 鶴見区 | E11: 北寺尾 | F11: 6 | G11: 6 | H11: - | I11: 6 | J11: 6 | K11: - | L11: 6 | M11: 6 | N11: -
A12: 1410100005 | B12: 神奈川県 | C12: 鶴見区 | D12: 鶴見区 | E12: 獅子ケ谷 | F12: 5 | G12: 5 | H12: - | I12: 4 | J12: 3 | K12: 1 | L12: 3 | M12: 2 | N12: 1
A13: 1410100006 | B13: 神奈川県 | C13: 鶴見区 | D13: 鶴見区 | E13: 駒岡 | F13: 12 | G13: 12 | H13: - | I13: 10 | J13: 10 | K13: - | L13: 8 | M13: 8 | N13: -
A14: 1410100007 | B14: 神奈川県 | C14: 鶴見区 | D14: 鶴見区 | E14: 上末吉 | F14: 3 | G14: 3 | H14: - | I14: 2 | J14: x | K14: x | L14: 1 | M14: x | N14: x
A15: 1410100008 | B15: 神奈川県 | C15: 鶴見区 | D15: 鶴見区 | E15: 江ケ崎 | F15: 2 | G15: x | H15: x | I15: - | J15: - | K15: - | L15: - | M15: - | N15: -
A16: 1410100009 | B16: 神奈川県 | C16: 鶴見区 | D16: 鶴見区 | E16: 矢向，尻手 | F16: - | G16: - | H16: - | I16: - | J16: - | K16: - | L16: - | M16: - | N16: -
A17: 1410200000 | B17: 神奈川県 | C17: 神奈川区 | F17: 159 | G17: 154 | H17: 4 | I17: 152 | J17: 148 | K17: 4 | L17: 130 | M17: 125 | N17: 5
A18: 1410200001 | B18: 神奈川県 | C18: 神奈川区 | D18: 神奈川区 | E18: 菅田東部 | F18: 28 | G18: 27 | H18: 1 | I18: 27 | J18: 26 | K18: 1 | L18: 22 | M18: 21 | N18: 1
A19: 1410200002 | B19: 神奈川県 | C19: 神奈川区 | D19: 神奈川区 | E19: 菅田南部 | F19: 22 | G19: 21 | H19: - | I19: 23 | J19: 22 | K19: 1 | L19: 19 | M19: 18 | N19: 1
A20: 1410200003 | B20: 神奈川県 | C20: 神奈川区 | D20: 神奈川区 | E20: 羽沢北部 | F20: 38 | G20: 36 | H20: 2 | I20: 37 | J20: 36 | K20: 1 | L20: 30 | M20: 28 | N20: 2
A21: 1410200004 | B21: 神奈川県 | C21: 神奈川区 | D21: 神奈川区 | E21: 羽沢侑生 | F21: 1 | G21: x | H21: x | I21: 1 | J21: x | K21: x | L21: 1 | M21: x | N21: x
A22: 1410200005 | B22: 神奈川県 | C22: 神奈川区 | D22: 神奈川区 | E22: 羽沢南部 | F22: 26 | G22: 25 | H22: 1 | I22: 24 | J22: 23 | K22: 1 | L22: 25 | M22: 24 | N22: 1
A23: 1410200006 | B23: 神奈川県 | C23: 神奈川区 | D23: 神奈川区 | E23: 三枚 | F23: 10 | G23: 10 | H23: - | I23: 9 | J23: 9 | K23: - | L23: 7 | M23: 7 | N23: -
A24: 1410200007 | B24: 神奈川県 | C24: 神奈川区 | D24: 神奈川区 | E24: 片倉 | F24: 13 | G24: 13 | H24: - | I24: 10 | J24: 10 | K24: - | L24: 9 | M24: 9 | N24: -
A25: 1410200008 | B25: 神奈川県 | C25: 神奈川区 | D25: 神奈川区 | E25: 神大寺 | F25: 16 | G25: 16 | H25: - | I25: 16 | J25: 16 | K25: - | L25: 13 | M25: 13 | N25: -
A26: 1410200009 | B26: 神奈川県 | C26: 神奈川区 | D26: 神奈川区 | E26: 西寺尾 | F26: - | G26: - | H26: - | I26: - | J26: - | K26: - | L26: - | M26: - | N26: -
A27: 1410200010 | B27: 神奈川県 | C27: 神奈川区 | D27: 神奈川区 | E27: 西寺尾東部 | F27: 1 | G27: x | H27: x | I27: 1 | J27: x | K27: x | L27: 1 | M27: x | N27: x
A28: 1410200011 | B28: 神奈川県 | C28: 神奈川区 | D28: 神奈川区 | E28: 三ツ沢 | F28: - | G28: - | H28: - | I28: - | J28: - | K28: - | L28: - | M28: - | N28: -
A29: 1410200012 | B29: 神奈川県 | C29: 神奈川区 | D29: 神奈川区 | E29: 三ッ沢東部，栗田谷 | F29: 1 | G29: x | H29: x | I29: 1 | J29: x | K29: x | L29: - | M29: - | N29: -
A30: 1410200013 | B30: 神奈川県 | C30: 神奈川区 | D30: 神奈川区 | E30: 六角橋 | F30: 3 | G30: 3 | H30: - | I30: 3 | J30: 3 | K30: - | L30: 2 | M30: x | N30: x
A31: 1410200014 | B31: 神奈川県 | C31: 神奈川区 | D31: 神奈川区 | E31: 白幡 | F31: - | G31: - | H31: - | I31: - | J31: - | K31: - | L31: - | M31: - | N31: -
A32: 1410200015 | B32: 神奈川県 | C32: 神奈川区 | D32: 神奈川区 | E32: 大口子安 | F32: - | G32: - | H32: - | I32: - | J32: - | K32: - | L32: 1 | M32: x | N32: x
A33: 1410299000 | B33: 神奈川県 | C33: 神奈川区 | D33: 神奈川区 | F33: @ | G33: @ | H33: @ | I33: @ | J33: @ | K33: @ | L33: - | M33: - | N33: -
A34: 1410299999 | B34: 神奈川県 | C34: 神奈川区 | D34: 神奈川区 | F34: @ | G34: @ | H34: @ | I34: - | J34: - | K34: - | L34: - | M34: - | N34: -
A35: 1410300000 | B35: 神奈川県 | C35: 西区 | F35: - | G35: - | H35: - | I35: - | J35: - | K35: - | L35: - | M35: - | N35: -
A36: 1410300001 | B36: 神奈川県 | C36: 西区 | D36: 西区 | E36: 西区全域 | F36: - | G36: - | H36: - | I36: - | J36: - | K36: - | L36: - | M36: - | N36: -
A37: 1410400000 | B37: 神奈川県 | C37: 中区 | F37: 4 | G37: 1 | H37: 1 | I37: 1 | J37: x | K37: x | L37: 1 | M37: x | N37: x
A38: 1410400001 | B38: 神奈川県 | C38: 中区 | D38: 中区 | E38: 本牧１・２丁目 | F38: 4 | G38: 1 | H38: 1 | I38: 1 | J38: x | K38: x | L38: 1 | M38: x | N38: x
A39: 1410400002 | B39: 神奈川県 | C39: 中区 | D39: 中区 | E39: 根岸その他 | F39: - | G39: - | H39: - | I39: - | J39: - | K39: - | L39: - | M39: - | N39: -
A40: 1410499000 | B40: 神奈川県 | C40: 中区 | D40: 中区 | F40: @ | G40: @ | H40: @ | I40: @ | J40: @ | K40: @ | L40: - | M40: - | N40: -
A41: 1410499999 | B41: 神奈川県 | C41: 中区 | D41: 中区 | F41: @ | G41: @ | H41: @ | I41: - | J41: - | K41: - | L41: - | M41: - | N41: -
A42: 1410500000 | B42: 神奈川県 | C42: 南区（南区２－１） | F42: 3 | G42: 3 | H42: - | I42: 3 | J42: x | K42: x | L42: 4 | M42: x | N42: x
A43: 1410500001 | B43: 神奈川県 | C43: 南区（南区２－１） | D43: 南区（南区２－１） | E43: 大岡 | F43: - | G43: - | H43: - | I43: - | J43: - | K43: - | L43: - | M43: - | N43: -
A44: 1410500002 | B44: 神奈川県 | C44: 南区（南区２－１） | D44: 南区（南区２－１） | E44: 別所 | F44: 2 | G44: x | H44: x | I44: 2 | J44: x | K44: x | L44: 3 | M44: 3 | N44: -
A45: 1410500003 | B45: 神奈川県 | C45: 南区（南区２－１） | D45: 南区（南区２－１） | E45: 中里 | F45: - | G45: - | H45: - | I45: - | J45: - | K45: - | L45: - | M45: - | N45: -
A46: 1410500004 | B46: 神奈川県 | C46: 南区（南区２－１） | D46: 南区（南区２－１） | E46: 六ツ川 | F46: - | G46: - | H46: - | I46: - | J46: - | K46: - | L46: 1 | M46: x | N46: x
A47: 1410500005 | B47: 神奈川県 | C47: 南区（南区２－１） | D47: 南区（南区２－１） | E47: 永田南 | F47: - | G47: - | H47: - | I47: - | J47: - | K47: - | L47: - | M47: - | N47: -
A48: 1410500006 | B48: 神奈川県 | C48: 南区（南区２－１） | D48: 南区（南区２－１） | E48: 永田北 | F48: - | G48: - | H48: - | I48: - | J48: - | K48: - | L48: - | M48: - | N48: -
A49: 1410500007 | B49: 神奈川県 | C49: 南区（南区２－１） | D49: 南区（南区２－１） | E49: 南太田外 | F49: - | G49: - | H49: - | I49: - | J49: - | K49: - | L49: - | M49: - | N49: -
A50: 1410500008 | B50: 神奈川県 | C50: 南区（南区２－１） | D50: 南区（南区２－１） | E50: 中村町外 | F50: 1 | G50: x | H50: x | I50: 1 | J50: x | K50: x | L50: - | M50: - | N50: -
A51: 1410600000 | B51: 神奈川県 | C51: 保土ケ谷区 | F51: 103 | G51: 102 | H51: 1 | I51: 100 | J51: 99 | K51: 1 | L51: 91 | M51: 89 | N51: 2
A52: 1410601000 | B52: 神奈川県 | C52: 保土ケ谷区 | D52: 保土ケ谷区２－１ | F52: 82 | G52: 82 | H52: - | I52: 80 | J52: 80 | K52: - | L52: 71 | M52: 70 | N52: 1
A53: 1410601001 | B53: 神奈川県 | C53: 保土ケ谷区 | D53: 保土ケ谷区２－１ | E53: 上星川 | F53: 3 | G53: 3 | H53: - | I53: 3 | J53: 3 | K53: - | L53: 2 | M53: x | N53: x
A54: 1410601002 | B54: 神奈川県 | C54: 保土ケ谷区 | D54: 保土ケ谷区２－１ | E54: 西谷 | F54: 14 | G54: 14 | H54: - | I54: 14 | J54: 14 | K54: - | L54: 12 | M54: 12 | N54: -
A55: 1410601003 | B55: 神奈川県 | C55: 保土ケ谷区 | D55: 保土ケ谷区２－１ | E55: 川島 | F55: 15 | G55: 15 | H55: - | I55: 16 | J55: 16 | K55: - | L55: 15 | M55: 15 | N55: -
A56: 1410601004 | B56: 神奈川県 | C56: 保土ケ谷区 | D56: 保土ケ谷区２－１ | E56: 仏向 | F56: 25 | G56: 25 | H56: - | I56: 26 | J56: 26 | K56: - | L56: 22 | M56: 22 | N56: -
A57: 1410601005 | B57: 神奈川県 | C57: 保土ケ谷区 | D57: 保土ケ谷区２－１ | E57: 峯沢 | F57: 7 | G57: 7 | H57: - | I57: 7 | J57: 7 | K57: - | L57: 7 | M57: 7 | N57: -
A58: 1410601006 | B58: 神奈川県 | C58: 保土ケ谷区 | D58: 保土ケ谷区２－１ | E58: 岡沢 | F58: 3 | G58: 3 | H58: - | I58: 3 | J58: 3 | K58: - | L58: 3 | M58: 3 | N58: -
A59: 1410601007 | B59: 神奈川県 | C59: 保土ケ谷区 | D59: 保土ケ谷区２－１ | E59: 鎌谷，宮田，天王 | F59: - | G59: - | H59: - | I59: - | J59: - | K59: - | L59: - | M59: - | N59: -
A60: 1410601008 | B60: 神奈川県 | C60: 保土ケ谷区 | D60: 保土ケ谷区２－１ | E60: 峰岡 | F60: - | G60: - | H60: - | I60: - | J60: - | K60: - | L60: - | M60: - | N60: -
A61: 1410601009 | B61: 神奈川県 | C61: 保土ケ谷区 | D61: 保土ケ谷区２－１ | E61: 常盤台・釜台 | F61: 3 | G61: 3 | H61: - | I61: 3 | J61: 3 | K61: - | L61: 3 | M61: 3 | N61: -
A62: 1410601010 | B62: 神奈川県 | C62: 保土ケ谷区 | D62: 保土ケ谷区２－１ | E62: 和田 | F62: - | G62: - | H62: - | I62: - | J62: - | K62: - | L62: - | M62: - | N62: -
A63: 1410601011 | B63: 神奈川県 | C63: 保土ケ谷区 | D63: 保土ケ谷区２－１ | E63: 星川 | F63: - | G63: - | H63: - | I63: - | J63: - | K63: - | L63: - | M63: - | N63: -
A64: 1410601012 | B64: 神奈川県 | C64: 保土ケ谷区 | D64: 保土ケ谷区２－１ | E64: 保土ケ谷 | F64: 9 | G64: 9 | H64: - | I64: 5 | J64: 5 | K64: - | L64: 6 | M64: 6 | N64: -
A65: 1410601013 | B65: 神奈川県 | C65: 保土ケ谷区 | D65: 保土ケ谷区２－１ | E65: 仏向・藤塚 | F65: 3 | G65: 3 | H65: - | I65: 3 | J65: 3 | K65: - | L65: - | M65: - | N65: -
A66: 1410601014 | B66: 神奈川県 | C66: 保土ケ谷区 | D66: 保土ケ谷区２－１ | E66: 霞台、神戸、月見台、桜ケ丘 | F66: - | G66: - | H66: - | I66: - | J66: - | K66: - | L66: 1 | M66: x | N66: x
A67: 1410601015 | B67: 神奈川県 | C67: 保土ケ谷区 | D67: 保土ケ谷区２－１ | E67: 岩井外 | F67: - | G67: - | H67: - | I67: - | J67: - | K67: - | L67: - | M67: - | N67: -
A68: 1410602000 | B68: 神奈川県 | C68: 保土ケ谷区 | D68: 二俣川村２－１ | F68: 2 | G68: x | H68: x | I68: 1 | J68: x | K68: x | L68: 2 | M68: x | N68: x
A69: 1410602001 | B69: 神奈川県 | C69: 保土ケ谷区 | D69: 二俣川村２－１ | E69: 今井 | F69: 2 | G69: x | H69: x | I69: 1 | J69: x | K69: x | L69: 2 | M69: x | N69: x
A70: 1410603000 | B70: 神奈川県 | C70: 保土ケ谷区 | D70: 新治村２－１ | F70: 19 | G70: x | H70: x | I70: 19 | J70: x | K70: x | L70: 18 | M70: x | N70: x
A71: 1410603001 | B71: 神奈川県 | C71: 保土ケ谷区 | D71: 新治村２－１ | E71: 上菅田 | F71: 17 | G71: 16 | H71: 1 | I71: 17 | J71: 16 | K71: 1 | L71: 16 | M71: 15 | N71: 1
A72: 1410603002 | B72: 神奈川県 | C72: 保土ケ谷区 | D72: 新治村２－１ | E72: 新井 | F72: 2 | G72: x | H72: x | I72: 2 | J72: x | K72: x | L72: 2 | M72: x | N72: x
A73: 1410700000 | B73: 神奈川県 | C73: 磯子区 | F73: 29 | G73: 29 | H73: - | I73: 25 | J73: 24 | K73: 1 | L73: 17 | M73: 16 | N73: 1
A74: 1410700001 | B74: 神奈川県 | C74: 磯子区 | D74: 磯子区 | E74: 岡村 | F74: - | G74: - | H74: - | I74: - | J74: - | K74: - | L74: - | M74: - | N74: -
A75: 1410700002 | B75: 神奈川県 | C75: 磯子区 | D75: 磯子区 | E75: 磯子 | F75: - | G75: - | H75: - | I75: - | J75: - | K75: - | L75: - | M75: - | N75: -
A76: 1410700003 | B76: 神奈川県 | C76: 磯子区 | D76: 磯子区 | E76: 中原 | F76: - | G76: - | H76: - | I76: - | J76: - | K76: - | L76: - | M76: - | N76: -
A77: 1410700004 | B77: 神奈川県 | C77: 磯子区 | D77: 磯子区 | E77: 杉田 | F77: 1 | G77: x | H77: x | I77: - | J77: - | K77: - | L77: - | M77: - | N77: -
A78: 1410700005 | B78: 神奈川県 | C78: 磯子区 | D78: 磯子区 | E78: 上中里 | F78: 2 | G78: x | H78: x | I78: 2 | J78: x | K78: x | L78: 1 | M78: x | N78: x
A79: 1410700006 | B79: 神奈川県 | C79: 磯子区 | D79: 磯子区 | E79: 氷取沢 | F79: 18 | G79: 18 | H79: - | I79: 18 | J79: 18 | K79: - | L79: 12 | M79: 12 | N79: -
A80: 1410700007 | B80: 神奈川県 | C80: 磯子区 | D80: 磯子区 | E80: 峰 | F80: 3 | G80: 3 | H80: - | I80: 3 | J80: 3 | K80: - | L80: 3 | M80: 3 | N80: -
A81: 1410700008 | B81: 神奈川県 | C81: 磯子区 | D81: 磯子区 | E81: 栗木 | F81: - | G81: - | H81: - | I81: - | J81: - | K81: - | L81: - | M81: - | N81: -
A82: 1410700009 | B82: 神奈川県 | C82: 磯子区 | D82: 磯子区 | E82: 田中 | F82: 2 | G82: x | H82: x | I82: - | J82: - | K82: - | L82: - | M82: - | N82: -
A83: 1410700010 | B83: 神奈川県 | C83: 磯子区 | D83: 磯子区 | E83: 矢部野 | F83: 2 | G83: x | H83: x | I83: 1 | J83: x | K83: x | L83: 1 | M83: x | N83: x
A84: 1410700011 | B84: 神奈川県 | C84: 磯子区 | D84: 磯子区 | E84: 森 | F84: - | G84: - | H84: - | I84: - | J84: - | K84: - | L84: - | M84: - | N84: -
A85: 1410700012 | B85: 神奈川県 | C85: 磯子区 | D85: 磯子区 | E85: 根岸・滝頭その他 | F85: 1 | G85: x | H85: x | I85: 1 | J85: x | K85: x | L85: - | M85: - | N85: -
A86: 1410799000 | B86: 神奈川県 | C86: 磯子区 | D86: 磯子区 | F86: @ | G86: @ | H86: @ | I86: @ | J86: @ | K86: @ | L86: - | M86: - | N86: -
A87: 1410799999 | B87: 神奈川県 | C87: 磯子区 | D87: 磯子区 | F87: @ | G87: @ | H87: @ | I87: - | J87: - | K87: - | L87: - | M87: - | N87: -
A88: 1410800000 | B88: 神奈川県 | C88: 金沢区 | F88: 28 | G88: 28 | H88: - | I88: 31 | J88: 31 | K88: - | L88: 26 | M88: 26 | N88: -
A89: 1410800001 | B89: 神奈川県 | C89: 金沢区 | D89: 金沢区 | E89: 富岡 | F89: 1 | G89: x | H89: x | I89: 1 | J89: x | K89: x | L89: 1 | M89: x | N89: x
A90: 1410800002 | B90: 神奈川県 | C90: 金沢区 | D90: 金沢区 | E90: 柴 | F90: 6 | G90: 6 | H90: - | I90: 13 | J90: 13 | K90: - | L90: 11 | M90: 11 | N90: -
A91: 1410800003 | B91: 神奈川県 | C91: 金沢区 | D91: 金沢区 | E91: 谷津 | F91: - | G91: - | H91: - | I91: - | J91: - | K91: - | L91: 1 | M91: x | N91: x
A92: 1410800004 | B92: 神奈川県 | C92: 金沢区 | D92: 金沢区 | E92: 六浦 | F92: - | G92: - | H92: - | I92: - | J92: - | K92: - | L92: - | M92: - | N92: -
A93: 1410800005 | B93: 神奈川県 | C93: 金沢区 | D93: 金沢区 | E93: 朝比奈 | F93: 5 | G93: 5 | H93: - | I93: 5 | J93: 5 | K93: - | L93: 4 | M93: 4 | N93: -
A94: 1410800006 | B94: 神奈川県 | C94: 金沢区 | D94: 金沢区 | E94: 釜利谷南 | F94: 6 | G94: 6 | H94: - | I94: 5 | J94: 5 | K94: - | L94: 4 | M94: 4 | N94: -
A95: 1410800007 | B95: 神奈川県 | C95: 金沢区 | D95: 金沢区 | E95: 北谷 | F95: 3 | G95: x | H95: x | I95: 3 | J95: 3 | K95: - | L95: 2 | M95: x | N95: x
A96: 1410800008 | B96: 神奈川県 | C96: 金沢区 | D96: 金沢区 | E96: 宮谷 | F96: 3 | G96: 3 | H96: - | I96: 2 | J96: x | K96: x | L96: 1 | M96: x | N96: x
A97: 1410800009 | B97: 神奈川県 | C97: 金沢区 | D97: 金沢区 | E97: 釜利谷東 | F97: 4 | G97: 4 | H97: - | I97: 2 | J97: x | K97: x | L97: 2 | M97: x | N97: x
A98: 1410800010 | B98: 神奈川県 | C98: 金沢区 | D98: 金沢区 | E98: 福浦 | F98: - | G98: - | H98: - | I98: - | J98: - | K98: - | L98: - | M98: - | N98: -
A99: 1410900000 | B99: 神奈川県 | C99: 港北区 | F99: 286 | G99: 286 | H99: - | I99: 264 | J99: 263 | K99: 1 | L99: 233 | M99: 231 | N99: 2
A100: 1410901000 | B100: 神奈川県 | C100: 港北区 | D100: 港北 | F100: 124 | G100: 124 | H100: - | I100: 111 | J100: 111 | K100: - | L100: 91 | M100: 90 | N100: 1
A101: 1410901001 | B101: 神奈川県 | C101: 港北区 | D101: 港北 | E101: 下田 | F101: 4 | G101: 4 | H101: - | I101: 3 | J101: 3 | K101: - | L101: 3 | M101: 3 | N101: -
...

Sheet （参考）地域類型区分
A1: 農業地域類型 （佐賀県・旧市町村別）
I2: 第１次分類 | K2: 第２次分類
I3: 1 | J3: 都市的地域 | K3: 1 | L3: 水田型
I4: 2 | J4: 平地農業地域 | K4: 2 | L4: 田畑型
I5: 3 | J5: 中間農業地域 | K5: 3 | L5: 畑地型
I6: 4 | J6: 山間農業地域
A8: 都道府県 | B8: 市区町村 | C8: 旧市区町村 | D8: 市区町村区分 | E8: 旧市区町村区分 | G8: 市区町村名 | H8: 旧市区町村名 | I8: コード | J8: 分類名 | K8: コード | L8: 分類名
A9: 14 | B9: 100 | C9: 00 | D9: 1 | E9: 0 | F9: 1410000100 | G9: 横浜市 | H9: 横浜市 | I9: 1 | J9: =VLOOKUP(I9,$I$3:$J$6,2) -> 都市的地域 | K9: 3 | L9: =VLOOKUP(K9,$K$3:$L$5,2) -> 畑地型
A10: 14 | B10: 101 | C10: 00 | D10: 0 | E10: 0 | F10: 1410100000 | G10: 鶴見区 | H10: 鶴見区 | I10: 1 | J10: =VLOOKUP(I10,$I$3:$J$6,2) -> 都市的地域 | K10: 3 | L10: =VLOOKUP(K10,$K$3:$L$5,2) -> 畑地型
A11: 14 | B11: 102 | C11: 00 | D11: 0 | E11: 0 | F11: 1410200000 | G11: 神奈川区 | H11: 神奈川区 | I11: 1 | J11: =VLOOKUP(I11,$I$3:$J$6,2) -> 都市的地域 | K11: 3 | L11: =VLOOKUP(K11,$K$3:$L$5,2) -> 畑地型
A12: 14 | B12: 103 | C12: 00 | D12: 0 | E12: 0 | F12: 1410300000 | G12: 西区 | H12: 西区 | I12: 1 | J12: =VLOOKUP(I12,$I$3:$J$6,2) -> 都市的地域 | K12: 3 | L12: =VLOOKUP(K12,$K$3:$L$5,2) -> 畑地型
A13: 14 | B13: 104 | C13: 00 | D13: 0 | E13: 0 | F13: 1410400000 | G13: 中区 | H13: 中区 | I13: 1 | J13: =VLOOKUP(I13,$I$3:$J$6,2) -> 都市的地域 | K13: 3 | L13: =VLOOKUP(K13,$K$3:$L$5,2) -> 畑地型
A14: 14 | B14: 105 | C14: 00 | D14: 0 | E14: 0 | F14: 1410500000 | G14: 南区（南区２－１） | H14: 南区（南区２－１） | I14: 1 | J14: =VLOOKUP(I14,$I$3:$J$6,2) -> 都市的地域 | K14: 3 | L14: =VLOOKUP(K14,$K$3:$L$5,2) -> 畑地型
A15: 14 | B15: 106 | C15: 00 | D15: 0 | E15: 0 | F15: 1410600000 | G15: 保土ケ谷区 | H15: 保土ケ谷区 | I15: 1 | J15: =VLOOKUP(I15,$I$3:$J$6,2) -> 都市的地域 | K15: 3 | L15: =VLOOKUP(K15,$K$3:$L$5,2) -> 畑地型
A16: 14 | B16: 106 | C16: 01 | D16: 0 | E16: 1 | F16: 1410601000 | G16: 保土ケ谷区 | H16: 保土ケ谷区２－１ | I16: 1 | J16: =VLOOKUP(I16,$I$3:$J$6,2) -> 都市的地域 | K16: 3 | L16: =VLOOKUP(K16,$K$3:$L$5,2) -> 畑地型
A17: 14 | B17: 106 | C17: 02 | D17: 0 | E17: 1 | F17: 1410602000 | G17: 保土ケ谷区 | H17: 二俣川村２－１ | I17: 1 | J17: =VLOOKUP(I17,$I$3:$J$6,2) -> 都市的地域 | K17: 3 | L17: =VLOOKUP(K17,$K$3:$L$5,2) -> 畑地型
A18: 14 | B18: 106 | C18: 03 | D18: 0 | E18: 1 | F18: 1410603000 | G18: 保土ケ谷区 | H18: 新治村２－１ | I18: 1 | J18: =VLOOKUP(I18,$I$3:$J$6,2) -> 都市的地域 | K18: 3 | L18: =VLOOKUP(K18,$K$3:$L$5,2) -> 畑地型
A19: 14 | B19: 107 | C19: 00 | D19: 0 | E19: 0 | F19: 1410700000 | G19: 磯子区 | H19: 磯子区 | I19: 1 | J19: =VLOOKUP(I19,$I$3:$J$6,2) -> 都市的地域 | K19: 3 | L19: =VLOOKUP(K19,$K$3:$L$5,2) -> 畑地型
A20: 14 | B20: 108 | C20: 00 | D20: 0 | E20: 0 | F20: 1410800000 | G20: 金沢区 | H20: 金沢区 | I20: 1 | J20: =VLOOKUP(I20,$I$3:$J$6,2) -> 都市的地域 | K20: 3 | L20: =VLOOKUP(K20,$K$3:$L$5,2) -> 畑地型
... A257: 14 | B257: 402 | C257: 02 | D257: 0 | E257: 0 | F257: 1440202000 | G257: 清川村 | H257: 宮ヶ瀬村 | I257: 4 | J257: =VLOOKUP(I257,$I$3:$J$6,2) -> 山間農業地域 | K257: 3 | L257: =VLOOKUP(K257,$K$3:$L$5,2) -> 畑地型

Sheet コード
A1: 番 | B1: 旧市コード | C1: 市 | D1: 旧市 | E1: 第１ | F1: 第２ | I1: 旭村 | J1: 岡崎村2_1 | K1: 金田村 | L1: 金目村 | M1: 城島村 | N1: 神田村 | O1: 大根村2_1 | P1: 大野町 | Q1: 土沢村 | R1: 平塚市 | S1: 豊田村
A2: 1 | B2: 1410000100 | C2: 横浜市 | D2: 横浜市 | E2: 都市的地域 | F2: 畑地型 | I2: 下万田 | J2: 丸島 | K2: 寺田繩 | L2: 広川 | M2: 下島 | N2: 横内第一 | O2: 真田 | P2: 横宿 | Q2: 遠藤原 | R2: 上平塚 | S2: 宮下
A3: 2 | B3: 1410100000 | C3: 鶴見区 | D3: 鶴見区 | E3: 都市的地域 | F3: 畑地型 | I3: 河内 | J3: 西海地 | K3: 長持 | L3: 青柳 | M3: 小鍋島 | N3: 横内第三 | P3: 下郷 | Q3: 下吉沢 | R3: 諏訪町 | S3: 小嶺
A4: 3 | B4: 1410200000 | C4: 神奈川区 | D4: 神奈川区 | E4: 都市的地域 | F4: 畑地型 | I4: 公所 | J4: 大畑 | K4: 入野 | L4: 千須谷 | M4: 城所 | N4: 横内第四 | P4: 下宿 | Q4: 宮下 | R4: 須賀西 | S4: 西町
A5: 4 | B5: 1410300000 | C5: 西区 | D5: 西区 | E5: 都市的地域 | F5: 畑地型 | I5: 高根 | J5: 入山瀬 | K5: 飯島 | L5: 川前 | M5: 大島 | N5: 横内第二 | P5: 観音町 | Q5: 山田屋敷・飛谷津 | R5: 須賀北 | S5: 打間木
A6: 5 | B6: 1410400000 | C6: 中区 | D6: 中区 | E6: 都市的地域 | F6: 畑地型 | I6: 根坂間 | J6: 別北 | L6: 大久保 | N6: 吉際 | P6: 古真土 | Q6: 山入・四十畑 | R6: 西仲町 | S6: 平等寺
A7: 6 | B7: 1410500000 | C7: 南区（南区２－１） | D7: 南区2_1 | E7: 都市的地域 | F7: 畑地型 | I7: 山下 | J7: 矢崎 | L7: 中久保 | N7: 大神第一 | P7: 御殿西 | Q7: 山之神 | R7: 馬入 | S7: 豊中
A8: 7 | B8: 1410600000 | C8: 保土ケ谷区 | D8: 保土ケ谷区 | E8: 都市的地域 | F8: 畑地型 | I8: 出繩 | L8: 坪之内 | N8: 大神第三 | P8: 御殿東 | Q8: 寺分 | R8: 平塚新宿 | S8: 本宿
A9: 8 | B9: 1410601000 | C9: 保土ケ谷区 | D9: 保土ケ谷区2_1 | E9: 都市的地域 | F9: 畑地型 | I9: 上万田 | L9: 片岡 | N9: 大神第四 | P9: 今里 | Q9: 庶子分 | R9: 柳町
A10: 9 | B10: 1410602000 | C10: 保土ケ谷区 | D10: 二俣川村2_1 | E10: 都市的地域 | F10: 畑地型 | I10: 徳延 | L10: 北久保 | N10: 大神第二 | P10: 坂戸 | Q10: 小熊
A11: 10 | B11: 1410603000 | C11: 保土ケ谷区 | D11: 新治村2_1 | E11: 都市的地域 | F11: 畑地型 | I11: 纒 | L11: 堀之内 | N11: 田村第一 | P11: 上宿 | Q11: 上惣領
A12: 11 | B12: 1410700000 | C12: 磯子区 | D12: 磯子区 | E12: 都市的地域 | F12: 畑地型 | N12: 田村第三 | P12: 上町 | Q12: 新宿・神戸
A13: 12 | B13: 1410800000 | C13: 金沢区 | D13: 金沢区 | E13: 都市的地域 | F13: 畑地型 | N13: 田村第四 | P13: 西町 | Q13: 惣領分
A14: 13 | B14: 1410900000 | C14: 港北区 | D14: 港北区 | E14: 都市的地域 | F14: 畑地型 | N14: 田村第二 | P14: 大真土 | Q14: 早田・人増
A15: 14 | B15: 1410901000 | C15: 港北区 | D15: 港北 | E15: 都市的地域 | F15: 畑地型 | P15: 中宿 | Q15: 台
A16: 15 | B16: 1410902000 | C16: 港北区 | D16: 新田村2_1 | E16: 都市的地域 | F16: 畑地型 | P16: 中庭
A17: 16 | B17: 1411000000 | C17: 戸塚区 | D17: 戸塚区 | E17: 都市的地域 | F17: 畑地型 | P17: 通町
A18: 17 | B18: 1411001000 | C18: 戸塚区 | D18: 戸塚町 | E18: 都市的地域 | F18: 畑地型 | P18: 田端
A19: 18 | B19: 1411002000 | C19: 戸塚区 | D19: 豊田村2_1 | E19: 都市的地域 | F19: 畑地型 | P19: 東町
A20: 19 | B20: 1411003000 | C20: 戸塚区 | D20: 川上村 | E20: 都市的地域 | F20: 畑地型 | P20: 南原上町
A21: 20 | B21: 1411004000 | C21: 戸塚区 | D21: 大正村2_1 | E21: 都市的地域 | F21: 畑地型 | P21: 南原東町
A22: 21 | B22: 1411005000 | C22: 戸塚区 | D22: 中川村3_1 | E22: 都市的地域 | F22: 畑地型 | P22: 尼沼
A23: 22 | B23: 1411100000 | C23: 港南区（南区２－２） | D23: 港南区_南区2_2 | E23: 都市的地域 | F23: 畑地型 | P23: 裏宿
A24: 23 | B24: 1411200000 | C24: 旭区 | D24: 旭区 | E24: 都市的地域 | F24: 畑地型
A25: 24 | B25: 1411201000 | C25: 旭区 | D25: 保土ケ谷区2_2 | E25: 都市的地域 | F25: 畑地型
A26: 25 | B26: 1411202000 | C26: 旭区 | D26: 二俣川村2_2 | E26: 都市的地域 | F26: 畑地型
A27: 26 | B27: 1411203000 | C27: 旭区 | D27: 都岡村 | E27: 都市的地域 | F27: 畑地型
A28: 27 | B28: 1411300000 | C28: 緑区 | D28: 緑区 | E28: 都市的地域 | F28: 畑地型
A29: 28 | B29: 1411301000 | C29: 緑区 | D29: 中里村2_1 | E29: 都市的地域 | F29: 畑地型
A30: 29 | B30: 1411302000 | C30: 緑区 | D30: 田奈村2_1 | E30: 都市的地域 | F30: 畑地型
A31: 30 | B31: 1411303000 | C31: 緑区 | D31: 新治村2_2 | E31: 都市的地域 | F31: 畑地型
A32: 31 | B32: 1411400000 | C32: 瀬谷区 | D32: 瀬谷区 | E32: 都市的地域 | F32: 畑地型
A33: 32 | B33: 1411401000 | C33: 瀬谷区 | D33: 中川村3_2 | E33: 都市的地域 | F33: 畑地型
A34: 33 | B34: 1411402000 | C34: 瀬谷区 | D34: 瀬谷村 | E34: 都市的地域 | F34: 畑地型
A35: 34 | B35: 1411500000 | C35: 栄区 | D35: 栄区 | E35: 都市的地域 | F35: 畑地型
... A52: 51 | B52: 1411804000 | C52: 都筑区 | D52: 山内村2_2 | E52: 都市的地域 | F52: 畑地型
B53: 1413000100 | C53: 川崎市 | D53: 川崎市 | E53: 都市的地域 | F53: 畑地型
B54: 1413100000 | C54: 川崎区 | D54: 川崎区 | E54: 都市的地域 | F54: 畑地型
B55: 1413200000 | C55: 幸区 | D55: 幸区 | E55: 都市的地域 | F55: 畑地型
B56: 1413300000 | C56: 中原区 | D56: 中原区 | E56: 都市的地域 | F56: 畑地型
B57: 1413400000 | C57: 高津区 | D57: 高津区 | E57: 都市的地域 | F57: 畑地型
B58: 1413401000 | C58: 高津区 | D58: 高津町 | E58: 都市的地域 | F58: 畑地型
B59: 1413402000 | C59: 高津区 | D59: 宮前村2_1 | E59: 都市的地域 | F59: 畑地型
B60: 1413403000 | C60: 高津区 | D60: 橘村 | E60: 都市的地域 | F60: 畑地型
B61: 1413404000 | C61: 高津区 | D61: 向ヶ丘村3_1 | E61: 都市的地域 | F61: 畑地型
B62: 1413500000 | C62: 多摩区 | D62: 多摩区 | E62: 都市的地域 | F62: 畑地型
B63: 1413501000 | C63: 多摩区 | D63: 稲田町 | E63: 都市的地域 | F63: 畑地型
B64: 1413502000 | C64: 多摩区 | D64: 生田村2_1 | E64: 都市的地域 | F64: 畑地型
... B226: 1440202000 | C226: 清川村 | D226: 宮ヶ瀬村 | E226: 山間農業地域 | F226: 畑地型
