{"text_format":"3","workbook":"xlsx","n_sheets":27,"sheets":["16","17","18","19","20","21","22","23","24","25","26","27","28","29","30","R1","R2","R3","R4","R5","R6","合併","データ田","グラフ田 ","データ畑","グラフ畑","グラフ"],"not_rendered":{"charts":4,"defined_names":43},"read":"whole","date_system":"1900"}

{"sheet":"16","index":0,"n_rows":48,"n_cols":12,"rows_kept":48,"hidden":true}
["農林水産関係市町村別データ"]
["平成16年"]
["耕地面積"]
["神奈川県"]
["都道","市町",null,"耕地面積","田耕地面積","田本地面積","畑耕地面積","普通畑","樹園地","牧草地","田畑計の作","田畑計の耕"]
["府県","村　","市町村名",null,"　　　　　","　　　　　","　　　　　",{"$nulls":3},"付延べ面積","地利用率"]
["ｺｰﾄﾞ","ｺｰﾄﾞ"]
[{"$nulls":3},"ha","ha","ha","ha","ha","ha","ha","ha","0.0%"]
[14,100,"横浜市",{"v":3120,"d":"3,120"},209,199,{"v":2910,"d":"2,910"},{"v":2560,"d":"2,560"},356,"-",{"v":3420,"d":"3,420"},109.6]
[14,130,"川崎市",646,31,29,615,458,157,"-",695,107.6]
[14,201,"横須賀市",508,19,18,489,446,43,"-",739,145.5]
[14,203,"平塚市",{"v":1580,"d":"1,580"},777,755,798,725,73,"-",{"v":1420,"d":"1,420"},{"v":90,"d":"90.0"}]
[14,204,"鎌倉市",122,1,1,121,112,9,"-",97,79.5]
[14,205,"藤沢市",988,148,139,840,711,129,"-",{"v":1120,"d":"1,120"},113.6]
[14,206,"小田原市",{"v":1980,"d":"1,980"},577,552,{"v":1400,"d":"1,400"},347,{"v":1050,"d":"1,050"},"-",{"v":1920,"d":"1,920"},{"v":97,"d":"97.0"}]
[14,207,"茅ヶ崎市",399,61,57,338,297,41,"-",536,134.3]
[14,208,"逗子市",9,"-","-",9,9,0,"-",7,77.8]
[14,209,"相模原市",933,99,96,834,747,87,0,646,69.2]
[14,210,"三浦市",{"v":1190,"d":"1,190"},10,9,{"v":1180,"d":"1,180"},{"v":1170,"d":"1,170"},11,"-",{"v":2260,"d":"2,260"},189.3]
[14,211,"秦野市",{"v":1300,"d":"1,300"},146,126,{"v":1150,"d":"1,150"},897,256,"-",941,72.4]
[14,212,"厚木市",{"v":1250,"d":"1,250"},550,533,700,581,119,0,{"v":1060,"d":"1,060"},85.1]
[14,213,"大和市",250,17,16,233,186,47,"-",255,{"v":102,"d":"102.0"}]
[14,214,"伊勢原市",{"v":1190,"d":"1,190"},433,413,754,549,205,"-",{"v":1040,"d":"1,040"},87.4]
[14,215,"海老名市",597,281,272,316,288,27,1,548,91.8]
[14,216,"座間市",233,92,89,141,124,17,"-",209,89.7]
[14,217,"南足柄市",706,201,188,505,147,357,"-",592,83.9]
[14,218,"綾瀬市",284,19,18,265,233,32,"-",262,92.3]
[14,301,"葉山町",41,4,4,37,32,5,"-",37,90.2]
[14,321,"寒川町",267,83,79,184,164,20,"-",231,86.5]
[14,341,"大磯町",285,27,24,258,162,96,"-",268,{"v":94,"d":"94.0"}]
[14,342,"二宮町",135,1,1,134,75,59,"-",103,76.3]
[14,361,"中井町",510,34,30,476,323,154,"-",418,{"v":82,"d":"82.0"}]
[14,362,"大井町",357,121,112,236,119,117,"-",315,88.2]
[14,363,"松田町",168,13,11,155,61,95,"-",123,73.2]
[14,364,"山北町",412,38,34,374,107,201,67,324,78.6]
[14,366,"開成町",216,185,173,31,20,10,"-",221,102.3]
[14,382,"箱根町",10,2,2,8,1,7,"-",9,{"v":90,"d":"90.0"}]
[14,383,"真鶴町",54,"-","-",54,7,47,"-",49,90.7]
[14,384,"湯河原町",280,"-","-",280,13,266,"-",267,95.4]
[14,401,"愛川町",356,78,75,278,248,30,0,252,70.8]
[14,402,"清川村",50,9,8,41,13,28,"-",39,{"v":78,"d":"78.0"}]
[14,421,"城山町",149,19,18,130,99,31,"-",127,85.2]
[14,422,"津久井町",379,14,13,365,310,53,2,208,54.9]
[14,423,"相模湖町",119,7,6,112,91,21,"-",71,59.7]
[14,424,"藤野町",161,3,3,158,116,40,2,93,57.8]
[]
["利用上の注意"]
["　この市町村別データは、「耕地面積調査」の県計値を当該市町村における調査結果、関係機関・団体からの情報等により加工したものである。"]

{"sheet":"17","index":1,"n_rows":46,"n_cols":12,"rows_kept":46,"hidden":true}
["農林水産関係市町村別データ"]
["平成17年"]
["耕地面積"]
["神奈川県"]
["都道","市町",null,"耕地面積","田耕地面積","田本地面積","畑耕地面積","普通畑","樹園地","牧草地","田畑計の作","田畑計の耕"]
["府県","村　","市町村名",null,"　　　　　","　　　　　","　　　　　",{"$nulls":3},"付延べ面積","地利用率"]
["ｺｰﾄﾞ","ｺｰﾄﾞ"]
[{"$nulls":3},"ha","ha","ha","ha","ha","ha","ha","ha","0.0%"]
[14,100,"横浜市",{"v":3120,"d":"3,120"},208,198,{"v":2910,"d":"2,910"},{"v":2560,"d":"2,560"},352,"-",{"v":3360,"d":"3,360"},107.7]
[14,130,"川崎市",644,30,28,614,459,155,"-",683,106.1]
[14,201,"横須賀市",535,19,18,516,473,43,"-",739,138.1]
[14,203,"平塚市",{"v":1570,"d":"1,570"},777,755,788,715,73,"-",{"v":1400,"d":"1,400"},89.2]
[14,204,"鎌倉市",122,1,1,121,112,9,"-",98,80.3]
[14,205,"藤沢市",984,148,139,836,706,130,"-",{"v":1100,"d":"1,100"},111.8]
[14,206,"小田原市",{"v":1950,"d":"1,950"},569,545,{"v":1380,"d":"1,380"},341,{"v":1040,"d":"1,040"},"-",{"v":1880,"d":"1,880"},96.4]
[14,207,"茅ヶ崎市",394,61,57,333,292,41,"-",521,132.2]
[14,208,"逗子市",9,"-","-",9,9,0,"-",7,77.8]
[14,209,"相模原市",{"v":1430,"d":"1,430"},119,114,{"v":1310,"d":"1,310"},{"v":1150,"d":"1,150"},161,2,909,63.6]
[14,210,"三浦市",{"v":1200,"d":"1,200"},10,9,{"v":1190,"d":"1,190"},{"v":1180,"d":"1,180"},11,"-",{"v":2250,"d":"2,250"},187.5]
[14,211,"秦野市",{"v":1280,"d":"1,280"},143,124,{"v":1140,"d":"1,140"},882,254,"-",945,73.8]
[14,212,"厚木市",{"v":1250,"d":"1,250"},550,533,697,578,119,0,{"v":1060,"d":"1,060"},84.8]
[14,213,"大和市",250,17,16,233,186,47,"-",254,101.6]
[14,214,"伊勢原市",{"v":1180,"d":"1,180"},431,411,746,540,206,"-",{"v":1020,"d":"1,020"},86.4]
[14,215,"海老名市",596,281,272,315,287,27,1,548,91.9]
[14,216,"座間市",232,92,89,140,123,17,"-",204,87.9]
[14,217,"南足柄市",702,199,187,503,144,359,"-",594,84.6]
[14,218,"綾瀬市",283,19,18,264,234,30,"-",258,91.2]
[14,301,"葉山町",41,4,4,37,32,5,"-",37,90.2]
[14,321,"寒川町",263,81,77,182,162,20,"-",226,85.9]
[14,341,"大磯町",284,27,24,257,161,96,"-",266,93.7]
[14,342,"二宮町",134,1,1,133,74,59,"-",101,75.4]
[14,361,"中井町",503,31,27,472,319,153,"-",409,81.3]
[14,362,"大井町",355,119,110,236,119,117,"-",307,86.5]
[14,363,"松田町",168,13,11,155,60,95,"-",121,{"v":72,"d":"72.0"}]
[14,364,"山北町",412,38,34,374,106,201,67,320,77.7]
[14,366,"開成町",211,180,168,31,20,11,"-",210,99.5]
[14,382,"箱根町",10,2,2,8,1,7,"-",8,{"v":80,"d":"80.0"}]
[14,383,"真鶴町",53,"-","-",53,7,46,"-",48,90.6]
[14,384,"湯河原町",276,"-","-",276,12,264,"-",264,95.7]
[14,401,"愛川町",356,78,75,278,246,32,0,251,70.5]
[14,402,"清川村",50,9,8,41,13,28,"-",38,{"v":76,"d":"76.0"}]
[14,421,"城山町",149,19,18,130,99,31,"-",122,81.9]
[14,424,"藤野町",161,3,3,158,116,40,2,92,57.1]
[]
["利用上の注意"]
["　この市町村別データは、「耕地面積調査」の県計値を当該市町村における調査結果、関係機関・団体からの情報等により加工したものである。"]

{"sheet":"18","index":2,"n_rows":45,"n_cols":12,"rows_kept":45,"hidden":true}
["農林水産関係市町村別データ"]
["平成18年"]
["耕地面積"]
["神奈川県"]
["都道","市町",null,"耕地面積","田耕地面積","田本地面積","畑耕地面積","普通畑","樹園地","牧草地","田畑計の作","田畑計の耕"]
["府県","村　","市町村名",null,"　　　　　","　　　　　","　　　　　",{"$nulls":3},"付延べ面積","地利用率"]
["ｺｰﾄﾞ","ｺｰﾄﾞ"]
[{"$nulls":3},"ha","ha","ha","ha","ha","ha","ha","ha","0.0%"]
[14,100,"横浜市",{"v":3090,"d":"3,090"},198,188,{"v":2890,"d":"2,890"},{"v":2550,"d":"2,550"},346,"-",{"v":3290,"d":"3,290"},106.5]
[14,130,"川崎市",637,28,27,609,459,150,"-",668,104.9]
[14,201,"横須賀市",559,18,17,541,498,43,"-",732,130.9]
[14,203,"平塚市",{"v":1560,"d":"1,560"},777,755,780,707,73,"-",{"v":1390,"d":"1,390"},89.1]
[14,204,"鎌倉市",120,1,1,119,109,10,"-",97,80.8]
[14,205,"藤沢市",982,148,139,834,701,133,"-",{"v":1090,"d":"1,090"},{"v":111,"d":"111.0"}]
[14,206,"小田原市",{"v":1940,"d":"1,940"},562,539,{"v":1370,"d":"1,370"},350,{"v":1020,"d":"1,020"},"-",{"v":1850,"d":"1,850"},95.7]
[14,207,"茅ヶ崎市",391,61,57,330,288,42,"-",514,131.8]
[14,208,"逗子市",9,0,0,9,9,0,"-",7,77.8]
[14,209,"相模原市",{"v":1730,"d":"1,730"},141,135,{"v":1590,"d":"1,590"},{"v":1360,"d":"1,360"},230,4,{"v":1110,"d":"1,110"},73.7]
[14,210,"三浦市",{"v":1210,"d":"1,210"},10,9,{"v":1200,"d":"1,200"},{"v":1190,"d":"1,190"},11,"-",{"v":2250,"d":"2,250"},{"v":186,"d":"186.0"}]
[14,211,"秦野市",{"v":1270,"d":"1,270"},137,118,{"v":1130,"d":"1,130"},875,253,"-",934,73.5]
[14,212,"厚木市",{"v":1240,"d":"1,240"},549,532,694,577,117,0,{"v":1020,"d":"1,020"},82.3]
[14,213,"大和市",249,17,16,232,186,46,"-",247,99.2]
[14,214,"伊勢原市",{"v":1170,"d":"1,170"},431,411,742,538,204,"-",{"v":1010,"d":"1,010"},86.2]
[14,215,"海老名市",593,279,270,314,286,27,1,539,90.9]
[14,216,"座間市",232,92,89,140,123,17,"-",203,87.5]
[14,217,"南足柄市",696,193,181,503,143,360,"-",588,84.5]
[14,218,"綾瀬市",282,19,18,263,234,29,"-",251,{"v":89,"d":"89.0"}]
[14,301,"葉山町",41,4,4,37,32,5,"-",36,87.8]
[14,321,"寒川町",260,81,77,179,159,20,"-",225,86.5]
[14,341,"大磯町",281,26,23,255,160,95,"-",265,94.6]
[14,342,"二宮町",133,1,1,132,73,59,"-",104,78.2]
[14,361,"中井町",488,31,27,457,306,151,"-",404,82.8]
[14,362,"大井町",354,118,109,236,120,116,"-",298,84.2]
[14,363,"松田町",167,12,10,155,61,94,"-",123,73.7]
[14,364,"山北町",410,37,33,373,107,199,67,315,76.8]
[14,366,"開成町",207,177,165,30,19,11,"-",214,103.4]
[14,382,"箱根町",10,2,2,8,1,7,"-",9,{"v":90,"d":"90.0"}]
[14,383,"真鶴町",52,"-","-",52,7,45,"-",48,92.3]
[14,384,"湯河原町",262,"-","-",262,12,250,"-",251,95.8]
[14,401,"愛川町",356,78,75,278,246,32,0,248,69.7]
[14,402,"清川村",50,9,8,41,13,28,"-",41,{"v":82,"d":"82.0"}]
[]
["利用上の注意"]
["　この市町村別データは、「耕地面積調査」の県計値を当該市町村における調査結果、関係機関からの情報等"]
["により加工したものである。"]

{"sheet":"19","index":3,"n_rows":49,"n_cols":7,"rows_kept":49,"hidden":true}
["農林水産関係市町村別データ"]
["平成19年"]
["耕地面積"]
["神奈川県"]
["都道","市町",null,"耕地面積","田耕地面積","田本地面積","畑耕地面積"]
["府県","村　","市町村名",null,"　　　　　","　　　　　","　　　　　"]
["ｺｰﾄﾞ","ｺｰﾄﾞ"]
[{"$nulls":3},"ha","ha","ha","ha"]
[14,100,"横浜市",{"v":3060,"d":"3,060"},190,181,{"v":2870,"d":"2,870"}]
[14,130,"川崎市",626,28,26,598]
[14,201,"横須賀市",555,17,16,538]
[14,203,"平塚市",{"v":1560,"d":"1,560"},777,755,778]
[14,204,"鎌倉市",118,1,1,117]
[14,205,"藤沢市",982,148,139,834]
[14,206,"小田原市",{"v":1930,"d":"1,930"},556,534,{"v":1370,"d":"1,370"}]
[14,207,"茅ヶ崎市",391,58,54,333]
[14,208,"逗子市",9,0,0,9]
[14,209,"相模原市",{"v":1720,"d":"1,720"},138,132,{"v":1590,"d":"1,590"}]
[14,210,"三浦市",{"v":1210,"d":"1,210"},10,9,{"v":1200,"d":"1,200"}]
[14,211,"秦野市",{"v":1260,"d":"1,260"},135,117,{"v":1120,"d":"1,120"}]
[14,212,"厚木市",{"v":1230,"d":"1,230"},534,518,693]
[14,213,"大和市",247,16,15,231]
[14,214,"伊勢原市",{"v":1170,"d":"1,170"},430,410,739]
[14,215,"海老名市",573,266,258,307]
[14,216,"座間市",229,91,88,138]
[14,217,"南足柄市",689,187,175,502]
[14,218,"綾瀬市",275,18,17,257]
[14,301,"葉山町",39,4,4,35]
[14,321,"寒川町",257,78,74,179]
[14,341,"大磯町",280,26,23,254]
[14,342,"二宮町",133,1,1,132]
[14,361,"中井町",481,31,27,450]
[14,362,"大井町",352,117,108,235]
[14,363,"松田町",166,12,10,154]
[14,364,"山北町",409,37,33,372]
[14,366,"開成町",207,177,165,30]
[14,382,"箱根町",10,2,2,8]
[14,383,"真鶴町",52,"-","-",52]
[14,384,"湯河原町",257,"-","-",257]
[14,401,"愛川町",353,77,74,276]
[14,402,"清川村",50,9,8,41]
[]
["利用上の注意"]
["　１　この市町村別データは、「作物統計調査」を実施する上で把握した地域における標本調査及び現地見積りの結果、"]
["　　関係機関からの情報等をもとに都道府県計値の内訳として市町村別に作成した加工統計であり、作成するうえで"]
["　　精度を設定しているものではない。"]
["　　　なお、「作物統計調査」は都道府県計値を求めるために設計されている。"]
["　２　市町村間の出作・入作を考慮していない（属地統計）。"]
["　３　数値については、四捨五入しており、都道府県計値と市町村別の内訳の計が一致しないことがある。"]

{"sheet":"20","index":4,"n_rows":49,"n_cols":7,"rows_kept":49,"hidden":true}
["農林水産関係市町村別データ"]
["平成20年"]
["耕地面積"]
["神奈川県"]
["都道","市町",null,"耕地面積","田耕地面積",null,"畑耕地面積"]
["府県","村　","市町村名",null,"　　　　　","田本地面積","　　　　　"]
["ｺｰﾄﾞ","ｺｰﾄﾞ"]
[{"$nulls":3},"ha","ha","ha","ha"]
[14,100,"横浜市",{"v":3010,"d":"3,010"},180,171,{"v":2830,"d":"2,830"}]
[14,130,"川崎市",620,27,25,593]
[14,201,"横須賀市",553,16,15,537]
[14,203,"平塚市",{"v":1550,"d":"1,550"},777,755,775]
[14,204,"鎌倉市",115,1,1,114]
[14,205,"藤沢市",976,146,137,830]
[14,206,"小田原市",{"v":1920,"d":"1,920"},550,528,{"v":1370,"d":"1,370"}]
[14,207,"茅ヶ崎市",387,54,50,333]
[14,208,"逗子市",9,0,0,9]
[14,209,"相模原市",{"v":1710,"d":"1,710"},137,131,{"v":1570,"d":"1,570"}]
[14,210,"三浦市",{"v":1210,"d":"1,210"},10,9,{"v":1200,"d":"1,200"}]
[14,211,"秦野市",{"v":1250,"d":"1,250"},134,116,{"v":1120,"d":"1,120"}]
[14,212,"厚木市",{"v":1210,"d":"1,210"},522,507,691]
[14,213,"大和市",241,12,11,229]
[14,214,"伊勢原市",{"v":1150,"d":"1,150"},421,402,733]
[14,215,"海老名市",564,258,250,306]
[14,216,"座間市",228,91,88,137]
[14,217,"南足柄市",683,184,172,499]
[14,218,"綾瀬市",272,17,16,255]
[14,301,"葉山町",39,4,4,35]
[14,321,"寒川町",255,76,72,179]
[14,341,"大磯町",277,25,22,252]
[14,342,"二宮町",132,1,1,131]
[14,361,"中井町",479,31,27,448]
[14,362,"大井町",351,116,107,235]
[14,363,"松田町",164,12,10,152]
[14,364,"山北町",406,36,32,370]
[14,366,"開成町",206,176,164,30]
[14,382,"箱根町",10,2,2,8]
[14,383,"真鶴町",52,"-","-",52]
[14,384,"湯河原町",256,"-","-",256]
[14,401,"愛川町",349,74,71,275]
[14,402,"清川村",48,8,7,40]
[]
["利用上の注意"]
["　１　この市町村別データは、「作物統計調査」を実施する上で把握した地域における標本調査及び現地見積りの結果、"]
["　　関係機関からの情報等をもとに都道府県計値の内訳として市町村別に作成した加工統計であり、作成するうえで"]
["　　精度を設定しているものではない。"]
["　　　なお、「作物統計調査」は都道府県計値を求めるために設計されている。"]
["　２　市町村間の出作・入作を考慮していない（属地統計）。"]
["　３　数値については、四捨五入しており、都道府県計値と市町村別の内訳の計が一致しないことがある。"]

{"sheet":"21","index":5,"n_rows":49,"n_cols":7,"rows_kept":49,"hidden":true}
["農林水産関係市町村別データ"]
["平成21年"]
["耕地面積"]
["神奈川県"]
["都道","市町",null,"耕地面積","田耕地面積",null,"畑耕地面積"]
["府県","村　","市町村名",null,"　　　　　","田本地面積","　　　　　"]
["ｺｰﾄﾞ","ｺｰﾄﾞ"]
[{"$nulls":3},"ha","ha","ha","ha"]
[14,100,"横浜市",{"v":2990,"d":"2,990"},178,169,{"v":2810,"d":"2,810"}]
[14,130,"川崎市",613,27,25,586]
[14,201,"横須賀市",553,16,15,537]
[14,203,"平塚市",{"v":1550,"d":"1,550"},774,752,775]
[14,204,"鎌倉市",114,1,1,113]
[14,205,"藤沢市",963,143,134,820]
[14,206,"小田原市",{"v":1910,"d":"1,910"},546,524,{"v":1360,"d":"1,360"}]
[14,207,"茅ヶ崎市",381,52,48,329]
[14,208,"逗子市",9,0,0,9]
[14,209,"相模原市",{"v":1680,"d":"1,680"},137,131,{"v":1550,"d":"1,550"}]
[14,210,"三浦市",{"v":1210,"d":"1,210"},9,8,{"v":1200,"d":"1,200"}]
[14,211,"秦野市",{"v":1220,"d":"1,220"},119,103,{"v":1100,"d":"1,100"}]
[14,212,"厚木市",{"v":1210,"d":"1,210"},519,504,686]
[14,213,"大和市",226,12,11,214]
[14,214,"伊勢原市",{"v":1150,"d":"1,150"},419,400,728]
[14,215,"海老名市",563,258,250,305]
[14,216,"座間市",228,91,88,137]
[14,217,"南足柄市",679,182,170,497]
[14,218,"綾瀬市",272,17,16,255]
[14,301,"葉山町",40,4,4,36]
[14,321,"寒川町",253,76,72,177]
[14,341,"大磯町",275,25,22,250]
[14,342,"二宮町",130,1,1,129]
[14,361,"中井町",478,31,27,447]
[14,362,"大井町",350,115,106,235]
[14,363,"松田町",162,11,9,151]
[14,364,"山北町",405,36,32,369]
[14,366,"開成町",202,173,161,29]
[14,382,"箱根町",10,2,2,8]
[14,383,"真鶴町",52,"-","-",52]
[14,384,"湯河原町",255,"-","-",255]
[14,401,"愛川町",346,74,71,272]
[14,402,"清川村",48,8,7,40]
[]
["利用上の注意"]
["　１　この市町村別データは、「作物統計調査」を実施する上で把握した地域における標本調査及び現地見積りの結果、"]
["　　関係機関からの情報等をもとに都道府県計値の内訳として市町村別に作成した加工統計であり、作成するうえで"]
["　　精度を設定しているものではない。"]
["　　　なお、「作物統計調査」は都道府県計値を求めるために設計されている。"]
["　２　市町村間の出作・入作を考慮していない（属地統計）。"]
["　３　数値については、四捨五入しており、都道府県計値と市町村別の内訳の計が一致しないことがある。"]

{"sheet":"22","index":6,"n_rows":49,"n_cols":7,"rows_kept":49,"hidden":true}
["農林水産関係市町村別統計"]
["平成22年"]
["耕地面積"]
["神奈川県"]
["都道","市町",null,"耕地面積","田耕地面積",null,"畑耕地面積"]
["府県","村　","市町村名",null,"　　　　　","田本地面積","　　　　　"]
["ｺｰﾄﾞ","ｺｰﾄﾞ"]
[{"$nulls":3},"ha","ha","ha","ha"]
[14,100,"横浜市",{"v":2970,"d":"2,970"},176,169,{"v":2800,"d":"2,800"}]
[14,130,"川崎市",608,24,23,584]
[14,150,"相模原市",{"v":1660,"d":"1,660"},130,125,{"v":1530,"d":"1,530"}]
[14,201,"横須賀市",543,12,12,531]
[14,203,"平塚市",{"v":1540,"d":"1,540"},772,750,766]
[14,204,"鎌倉市",110,1,1,109]
[14,205,"藤沢市",949,142,133,807]
[14,206,"小田原市",{"v":1900,"d":"1,900"},545,523,{"v":1360,"d":"1,360"}]
[14,207,"茅ヶ崎市",374,51,47,323]
[14,208,"逗子市",9,0,0,9]
[14,210,"三浦市",{"v":1200,"d":"1,200"},6,6,{"v":1190,"d":"1,190"}]
[14,211,"秦野市",{"v":1210,"d":"1,210"},119,103,{"v":1090,"d":"1,090"}]
[14,212,"厚木市",{"v":1200,"d":"1,200"},520,500,683]
[14,213,"大和市",224,11,11,213]
[14,214,"伊勢原市",{"v":1140,"d":"1,140"},417,398,725]
[14,215,"海老名市",565,260,250,305]
[14,216,"座間市",227,90,87,137]
[14,217,"南足柄市",678,182,170,496]
[14,218,"綾瀬市",272,17,16,255]
[14,301,"葉山町",39,4,4,35]
[14,321,"寒川町",250,76,72,174]
[14,341,"大磯町",273,25,22,248]
[14,342,"二宮町",129,1,1,128]
[14,361,"中井町",478,31,27,447]
[14,362,"大井町",349,114,105,235]
[14,363,"松田町",162,11,9,151]
[14,364,"山北町",405,36,32,369]
[14,366,"開成町",202,173,161,29]
[14,382,"箱根町",10,2,2,8]
[14,383,"真鶴町",52,"-","-",52]
[14,384,"湯河原町",253,"-","-",253]
[14,401,"愛川町",345,74,71,271]
[14,402,"清川村",46,7,7,39]
[]
["利用上の注意"]
["　１　この市町村別統計は、「作物統計調査」を実施する上で把握した地域における標本調査及び現地見積りの結果、"]
["　　関係機関からの情報等を踏まえ、都道府県計値の内訳として市町村別に作成した加工統計であり、作成するうえで"]
["　　精度を設定しているものではない。"]
["　　　なお、「作物統計調査」は都道府県計値を求めるために設計されている。"]
["　２　耕作者の市町村間の出作・入作を考慮していない（属地統計）。\n"]
["　３　数値は四捨五入しており、市町村値の計が都道府県値と一致しないことがある。\n"]

{"sheet":"23","index":7,"n_rows":51,"n_cols":7,"rows_kept":51,"hidden":true}
["農林水産関係市町村別統計"]
["平成23年"]
["耕地面積"]
["神奈川県"]
["都道","市町",null,"耕地面積","田耕地面積",null,"畑耕地面積"]
["府県","村　","市町村名",null,"　　　　　","田本地面積","　　　　　"]
["ｺｰﾄﾞ","ｺｰﾄﾞ"]
[{"$nulls":3},"ha","ha","ha","ha"]
[14,100,"横浜市",{"v":2960,"d":"2,960"},172,165,{"v":2790,"d":"2,790"}]
[14,130,"川崎市",605,24,23,581]
[14,150,"相模原市",{"v":1640,"d":"1,640"},126,121,{"v":1520,"d":"1,520"}]
[14,201,"横須賀市",541,11,11,530]
[14,203,"平塚市",{"v":1540,"d":"1,540"},772,750,766]
[14,204,"鎌倉市",109,1,1,108]
[14,205,"藤沢市",939,140,131,799]
[14,206,"小田原市",{"v":1890,"d":"1,890"},537,516,{"v":1360,"d":"1,360"}]
[14,207,"茅ヶ崎市",372,49,45,323]
[14,208,"逗子市",9,0,0,9]
[14,210,"三浦市",{"v":1200,"d":"1,200"},6,6,{"v":1190,"d":"1,190"}]
[14,211,"秦野市",{"v":1200,"d":"1,200"},118,102,{"v":1080,"d":"1,080"}]
[14,212,"厚木市",{"v":1190,"d":"1,190"},515,495,678]
[14,213,"大和市",223,11,11,212]
[14,214,"伊勢原市",{"v":1140,"d":"1,140"},414,396,722]
[14,215,"海老名市",564,260,250,304]
[14,216,"座間市",227,90,87,137]
[14,217,"南足柄市",676,180,168,496]
[14,218,"綾瀬市",271,17,16,254]
[14,301,"葉山町",39,4,4,35]
[14,321,"寒川町",246,75,71,171]
[14,341,"大磯町",272,24,21,248]
[14,342,"二宮町",129,1,1,128]
[14,361,"中井町",468,31,27,437]
[14,362,"大井町",349,114,105,235]
[14,363,"松田町",161,10,8,151]
[14,364,"山北町",405,36,32,369]
[14,366,"開成町",202,173,161,29]
[14,382,"箱根町",10,2,2,8]
[14,383,"真鶴町",52,"-","-",52]
[14,384,"湯河原町",252,"-","-",252]
[14,401,"愛川町",345,74,71,271]
[14,402,"清川村",46,7,7,39]
[]
[null,null,"計",{"v":20300,"d":"20,300"},{"v":3990,"d":"3,990"},{"v":3800,"d":"3,800"},{"v":16300,"d":"16,300"}]
[]
["利用上の注意"]
["　１　この市町村別統計は、「作物統計調査」を実施する上で把握した地域における標本調査及び現地見積りの結果、"]
["　　関係機関からの情報等を踏まえ、都道府県計値の内訳として市町村別に作成した加工統計であり、作成するうえで"]
["　　精度を設定しているものではない。"]
["　　　なお、「作物統計調査」は都道府県計値を求めるために設計されている。"]
["　２　耕作者の市町村間の出作・入作を考慮していない（属地統計）。\n"]
["　３　数値は四捨五入しており、市町村値の計が都道府県値と一致しないことがある。\n"]

{"sheet":"24","index":8,"n_rows":51,"n_cols":7,"rows_kept":51,"hidden":true}
["農林水産関係市町村別統計"]
["平成24年"]
["耕地面積"]
["神奈川県"]
["都道","市町",null,"耕地面積","田耕地面積",null,"畑耕地面積"]
["府県","村　","市町村名",null,"　　　　　","田本地面積","　　　　　"]
["ｺｰﾄﾞ","ｺｰﾄﾞ"]
[{"$nulls":3},"ha","ha","ha","ha"]
[14,100,"横浜市",{"v":2950,"d":"2,950"},168,162,{"v":2790,"d":"2,790"}]
[14,130,"川崎市",603,23,22,580]
[14,150,"相模原市",{"v":1640,"d":"1,640"},125,120,{"v":1510,"d":"1,510"}]
[14,201,"横須賀市",539,10,10,529]
[14,203,"平塚市",{"v":1540,"d":"1,540"},771,749,764]
[14,204,"鎌倉市",109,1,1,108]
[14,205,"藤沢市",929,138,129,791]
[14,206,"小田原市",{"v":1870,"d":"1,870"},536,515,{"v":1340,"d":"1,340"}]
[14,207,"茅ヶ崎市",369,49,45,320]
[14,208,"逗子市",9,0,0,9]
[14,210,"三浦市",{"v":1200,"d":"1,200"},6,6,{"v":1190,"d":"1,190"}]
[14,211,"秦野市",{"v":1170,"d":"1,170"},117,101,{"v":1050,"d":"1,050"}]
[14,212,"厚木市",{"v":1180,"d":"1,180"},509,489,669]
[14,213,"大和市",222,11,11,211]
[14,214,"伊勢原市",{"v":1130,"d":"1,130"},412,394,718]
[14,215,"海老名市",562,259,249,303]
[14,216,"座間市",227,90,87,137]
[14,217,"南足柄市",673,180,168,493]
[14,218,"綾瀬市",271,17,16,254]
[14,301,"葉山町",39,4,4,35]
[14,321,"寒川町",244,75,71,169]
[14,341,"大磯町",270,24,21,246]
[14,342,"二宮町",127,1,1,126]
[14,361,"中井町",464,31,27,433]
[14,362,"大井町",349,114,105,235]
[14,363,"松田町",160,10,8,150]
[14,364,"山北町",404,36,32,368]
[14,366,"開成町",201,172,160,29]
[14,382,"箱根町",10,2,2,8]
[14,383,"真鶴町",50,"-","-",50]
[14,384,"湯河原町",248,"-","-",248]
[14,401,"愛川町",345,74,71,271]
[14,402,"清川村",46,7,7,39]
[]
[null,null,"計",{"v":20100,"d":"20,100"},{"v":3970,"d":"3,970"},{"v":3780,"d":"3,780"},{"v":16200,"d":"16,200"}]
[]
["利用上の注意"]
["　１　この市町村別統計は、「作物統計調査」を実施する上で把握した地域における標本調査及び現地見積りの結果、"]
["　　関係機関からの情報等を踏まえ、都道府県計値の内訳として市町村別に作成した加工統計であり、作成する上で"]
["　　精度を設定しているものではない。"]
["　　　なお、「作物統計調査」は都道府県計値を求めるために設計されている。"]
["　２　耕作者の市町村間の出作・入作を考慮していない（属地統計）。\n"]
["　３　数値は四捨五入しており、市町村値の計が都道府県値と一致しないことがある。\n"]

{"sheet":"25","index":9,"n_rows":51,"n_cols":7,"rows_kept":51,"hidden":true}
["農林水産関係市町村別統計"]
["平成25年"]
["耕地面積"]
["神奈川県"]
["都道","市町",null,"耕地面積","田耕地面積",null,"畑耕地面積"]
["府県","村　","市町村名",null,"　　　　　","田本地面積","　　　　　"]
["ｺｰﾄﾞ","ｺｰﾄﾞ"]
[{"$nulls":3},"ha","ha","ha","ha"]
[14,100,"横浜市",{"v":2930,"d":"2,930"},163,157,{"v":2770,"d":"2,770"}]
[14,130,"川崎市",598,22,21,576]
[14,150,"相模原市",{"v":1620,"d":"1,620"},123,118,{"v":1490,"d":"1,490"}]
[14,201,"横須賀市",539,10,10,529]
[14,203,"平塚市",{"v":1530,"d":"1,530"},766,744,761]
[14,204,"鎌倉市",107,1,1,106]
[14,205,"藤沢市",921,137,128,784]
[14,206,"小田原市",{"v":1860,"d":"1,860"},534,513,{"v":1330,"d":"1,330"}]
[14,207,"茅ヶ崎市",362,47,43,315]
[14,208,"逗子市",9,0,0,9]
[14,210,"三浦市",{"v":1200,"d":"1,200"},6,6,{"v":1190,"d":"1,190"}]
[14,211,"秦野市",{"v":1150,"d":"1,150"},114,99,{"v":1030,"d":"1,030"}]
[14,212,"厚木市",{"v":1160,"d":"1,160"},504,485,654]
[14,213,"大和市",221,11,11,210]
[14,214,"伊勢原市",{"v":1120,"d":"1,120"},410,392,712]
[14,215,"海老名市",559,258,248,301]
[14,216,"座間市",225,89,86,136]
[14,217,"南足柄市",669,177,166,492]
[14,218,"綾瀬市",270,17,16,253]
[14,301,"葉山町",38,4,4,34]
[14,321,"寒川町",240,71,67,169]
[14,341,"大磯町",269,23,20,246]
[14,342,"二宮町",122,0,0,122]
[14,361,"中井町",461,30,26,431]
[14,362,"大井町",346,111,102,235]
[14,363,"松田町",160,10,8,150]
[14,364,"山北町",402,35,31,367]
[14,366,"開成町",200,169,157,31]
[14,382,"箱根町",10,2,2,8]
[14,383,"真鶴町",50,"- ","- ",50]
[14,384,"湯河原町",244,"- ","- ",244]
[14,401,"愛川町",334,73,70,261]
[14,402,"清川村",46,7,7,39]
[]
[null,null,"計",{"v":20000,"d":"20,000"},{"v":3920,"d":"3,920"},{"v":3740,"d":"3,740"},{"v":16000,"d":"16,000"}]
[]
["利用上の注意"]
["　１　この市町村別統計は、「作物統計調査」を実施する上で把握した地域における標本調査及び現地見積りの結果、"]
["　　関係機関からの情報等を踏まえ、都道府県計値の内訳として市町村別に作成した加工統計であり、作成するうえで"]
["　　精度を設定しているものではない。"]
["　　　なお、「作物統計調査」は都道府県計値を求めるために設計されている。"]
["　２　耕作者の市町村間の出作・入作を考慮していない（属地統計）。\n"]
["　３　数値は四捨五入しており、市町村値の計が都道府県値と一致しないことがある。\n"]

{"sheet":"26","index":10,"n_rows":51,"n_cols":7,"rows_kept":51,"hidden":true}
["農林水産関係市町村別統計"]
["平成26年"]
["耕地面積"]
["神奈川県"]
["都道","市町",null,"耕地面積","田耕地面積",null,"畑耕地面積"]
["府県","村　","市町村名",null,"　　　　　","田本地面積","　　　　　"]
["ｺｰﾄﾞ","ｺｰﾄﾞ"]
[{"$nulls":3},"ha","ha","ha","ha"]
[14,100,"横浜市",{"v":2870,"d":"2,870"},160,154,{"v":2710,"d":"2,710"}]
[14,130,"川崎市",573,22,21,551]
[14,150,"相模原市",{"v":1620,"d":"1,620"},122,117,{"v":1500,"d":"1,500"}]
[14,201,"横須賀市",537,10,10,527]
[14,203,"平塚市",{"v":1520,"d":"1,520"},765,743,752]
[14,204,"鎌倉市",105,1,1,104]
[14,205,"藤沢市",902,137,128,765]
[14,206,"小田原市",{"v":1850,"d":"1,850"},527,506,{"v":1320,"d":"1,320"}]
[14,207,"茅ヶ崎市",352,46,42,306]
[14,208,"逗子市",7,0,0,7]
[14,210,"三浦市",{"v":1200,"d":"1,200"},6,6,{"v":1190,"d":"1,190"}]
[14,211,"秦野市",{"v":1150,"d":"1,150"},113,98,{"v":1030,"d":"1,030"}]
[14,212,"厚木市",{"v":1150,"d":"1,150"},497,478,652]
[14,213,"大和市",215,11,11,204]
[14,214,"伊勢原市",{"v":1110,"d":"1,110"},405,388,704]
[14,215,"海老名市",552,257,247,295]
[14,216,"座間市",219,89,86,130]
[14,217,"南足柄市",669,175,165,494]
[14,218,"綾瀬市",260,15,14,245]
[14,301,"葉山町",36,3,3,33]
[14,321,"寒川町",237,71,67,166]
[14,341,"大磯町",267,23,20,244]
[14,342,"二宮町",118,0,0,118]
[14,361,"中井町",441,29,25,412]
[14,362,"大井町",343,111,102,232]
[14,363,"松田町",160,10,8,150]
[14,364,"山北町",400,34,30,366]
[14,366,"開成町",200,169,157,31]
[14,382,"箱根町",10,2,2,8]
[14,383,"真鶴町",49,"- ","- ",49]
[14,384,"湯河原町",243,"- ","- ",243]
[14,401,"愛川町",327,73,70,254]
[14,402,"清川村",46,7,7,39]
[]
[null,null,"計",{"v":19700,"d":"19,700"},{"v":3890,"d":"3,890"},{"v":3710,"d":"3,710"},{"v":15800,"d":"15,800"}]
[]
["利用上の注意"]
["　１　この市町村別統計は、「作物統計調査」を実施する上で把握した地域における標本調査及び現地見積りの結果、"]
["　　関係機関からの情報等を踏まえ、都道府県計値の内訳として市町村別に作成した加工統計であり、作成する上で"]
["　　精度を設定しているものではない。"]
["　　　なお、「作物統計調査」は都道府県計値を求めるために設計されている。"]
["　２　耕作者の市町村間の出作・入作を考慮していない（属地統計）。\n"]
["　３　数値は四捨五入しており、市町村値の計が都道府県値と一致しないことがある。\n"]

{"sheet":"27","index":11,"n_rows":51,"n_cols":7,"rows_kept":51,"hidden":true}
["農林水産関係市町村別統計"]
["平成27年"]
["耕地面積"]
["神奈川県"]
["都道","市町",null,"耕地面積","田耕地面積",null,"畑耕地面積"]
["府県","村　","市町村名",null,"　　　　　","田本地面積","　　　　　"]
["ｺｰﾄﾞ","ｺｰﾄﾞ"]
[{"$nulls":3},"ha","ha","ha","ha"]
[14,100,"横浜市",{"v":2850,"d":"2,850"},155,149,{"v":2690,"d":"2,690"}]
[14,130,"川崎市",571,21,20,550]
[14,150,"相模原市",{"v":1610,"d":"1,610"},122,117,{"v":1490,"d":"1,490"}]
[14,201,"横須賀市",533,9,9,524]
[14,203,"平塚市",{"v":1510,"d":"1,510"},761,739,749]
[14,204,"鎌倉市",105,1,1,104]
[14,205,"藤沢市",901,136,127,765]
[14,206,"小田原市",{"v":1840,"d":"1,840"},521,500,{"v":1320,"d":"1,320"}]
[14,207,"茅ヶ崎市",349,43,40,306]
[14,208,"逗子市",7,0,0,7]
[14,210,"三浦市",{"v":1190,"d":"1,190"},5,5,{"v":1190,"d":"1,190"}]
[14,211,"秦野市",{"v":1130,"d":"1,130"},112,97,{"v":1020,"d":"1,020"}]
[14,212,"厚木市",{"v":1140,"d":"1,140"},493,474,648]
[14,213,"大和市",213,11,11,202]
[14,214,"伊勢原市",{"v":1110,"d":"1,110"},404,387,701]
[14,215,"海老名市",545,252,243,293]
[14,216,"座間市",218,89,86,129]
[14,217,"南足柄市",660,170,160,490]
[14,218,"綾瀬市",259,15,14,244]
[14,301,"葉山町",36,3,3,33]
[14,321,"寒川町",236,71,67,165]
[14,341,"大磯町",267,23,20,244]
[14,342,"二宮町",118,0,0,118]
[14,361,"中井町",437,28,24,409]
[14,362,"大井町",341,111,102,230]
[14,363,"松田町",160,10,8,150]
[14,364,"山北町",397,33,29,364]
[14,366,"開成町",199,168,156,31]
[14,382,"箱根町",9,2,2,7]
[14,383,"真鶴町",49,"- ","- ",49]
[14,384,"湯河原町",242,"- ","- ",242]
[14,401,"愛川町",313,70,67,243]
[14,402,"清川村",46,7,7,39]
[]
[null,null,"計",{"v":19600,"d":"19,600"},{"v":3850,"d":"3,850"},{"v":3660,"d":"3,660"},{"v":15700,"d":"15,700"}]
[]
["利用上の注意"]
["　１　この市町村別統計は、「作物統計調査」を実施する上で把握した地域における標本調査及び現地見積りの結果、"]
["　　関係機関からの情報等を踏まえ、都道府県計値の内訳として市町村別に作成した加工統計であり、作成するうえで"]
["　　精度を設定しているものではない。"]
["　　　なお、「作物統計調査」は都道府県計値を求めるために設計されている。"]
["　２　耕作者の市町村間の出作・入作を考慮していない（属地統計）。\n"]
["　３　数値は四捨五入しており、市町村値の計が都道府県値と一致しないことがある。\n"]

{"sheet":"28","index":12,"n_rows":51,"n_cols":7,"rows_kept":51,"hidden":true}
["農林水産関係市町村別統計"]
["平成28年"]
["耕地面積"]
["神奈川県"]
["都道","市町",null,"耕地面積","田耕地面積",null,"畑耕地面積"]
["府県","村　","市町村名",null,"　　　　　","田本地面積","　　　　　"]
["ｺｰﾄﾞ","ｺｰﾄﾞ"]
[{"$nulls":3},"ha","ha","ha","ha"]
[14,100,"横浜市",{"v":2820,"d":"2,820"},149,143,{"v":2680,"d":"2,680"}]
[14,130,"川崎市",570,21,20,549]
[14,150,"相模原市",{"v":1580,"d":"1,580"},111,107,{"v":1470,"d":"1,470"}]
[14,201,"横須賀市",533,9,9,524]
[14,203,"平塚市",{"v":1480,"d":"1,480"},739,718,740]
[14,204,"鎌倉市",104,1,1,103]
[14,205,"藤沢市",900,135,126,765]
[14,206,"小田原市",{"v":1830,"d":"1,830"},521,500,{"v":1310,"d":"1,310"}]
[14,207,"茅ヶ崎市",349,43,39,306]
[14,208,"逗子市",7,0,0,7]
[14,210,"三浦市",{"v":1190,"d":"1,190"},5,5,{"v":1190,"d":"1,190"}]
[14,211,"秦野市",{"v":1120,"d":"1,120"},109,95,{"v":1010,"d":"1,010"}]
[14,212,"厚木市",{"v":1140,"d":"1,140"},493,474,645]
[14,213,"大和市",211,11,11,200]
[14,214,"伊勢原市",{"v":1100,"d":"1,100"},402,385,696]
[14,215,"海老名市",541,248,239,293]
[14,216,"座間市",217,89,86,128]
[14,217,"南足柄市",660,170,160,490]
[14,218,"綾瀬市",251,15,14,236]
[14,301,"葉山町",35,3,3,32]
[14,321,"寒川町",235,71,67,164]
[14,341,"大磯町",266,22,19,244]
[14,342,"二宮町",118,0,0,118]
[14,361,"中井町",436,28,24,408]
[14,362,"大井町",341,111,102,230]
[14,363,"松田町",160,10,8,150]
[14,364,"山北町",390,32,28,358]
[14,366,"開成町",198,167,155,31]
[14,382,"箱根町",8,1,1,7]
[14,383,"真鶴町",48,"- ","- ",48]
[14,384,"湯河原町",241,"- ","- ",241]
[14,401,"愛川町",310,68,65,242]
[14,402,"清川村",46,7,7,39]
[]
[null,null,"計",{"v":19400,"d":"19,400"},{"v":3790,"d":"3,790"},{"v":3610,"d":"3,610"},{"v":15700,"d":"15,700"}]
[]
["利用上の注意"]
["　１　この市町村別統計は、「作物統計調査」を実施する上で把握した地域における標本調査及び現地見積りの結果、"]
["　　関係機関からの情報等を踏まえ、都道府県計値の内訳として市町村別に作成した加工統計であり、作成するうえで"]
["　　精度を設定しているものではない。"]
["　　　なお、「作物統計調査」は都道府県計値を求めるために設計されている。"]
["　２　耕作者の市町村間の出作・入作を考慮していない（属地統計）。\n"]
["　３　数値は四捨五入しており、市町村値の計が都道府県値と一致しないことがある。\n"]

{"sheet":"29","index":13,"n_rows":51,"n_cols":7,"rows_kept":51,"hidden":true}
["農林水産関係市町村別統計"]
["平成29年"]
["耕地面積"]
["神奈川県"]
["都道","市町",null,"耕地面積","田耕地面積",null,"畑耕地面積"]
["府県","村　","市町村名",null,"　　　　　","田本地面積","　　　　　"]
["ｺｰﾄﾞ","ｺｰﾄﾞ"]
[{"$nulls":3},"ha","ha","ha","ha"]
[14,100,"横浜市",{"v":2800,"d":"2,800"},146,141,{"v":2660,"d":"2,660"}]
[14,130,"川崎市",570,21,20,549]
[14,150,"相模原市",{"v":1560,"d":"1,560"},109,105,{"v":1450,"d":"1,450"}]
[14,201,"横須賀市",531,8,8,523]
[14,203,"平塚市",{"v":1480,"d":"1,480"},737,716,738]
[14,204,"鎌倉市",103,1,1,102]
[14,205,"藤沢市",897,134,126,763]
[14,206,"小田原市",{"v":1820,"d":"1,820"},514,494,{"v":1310,"d":"1,310"}]
[14,207,"茅ヶ崎市",348,43,39,305]
[14,208,"逗子市",7,0,0,7]
[14,210,"三浦市",{"v":1190,"d":"1,190"},5,5,{"v":1190,"d":"1,190"}]
[14,211,"秦野市",{"v":1110,"d":"1,110"},108,95,999]
[14,212,"厚木市",{"v":1130,"d":"1,130"},489,472,637]
[14,213,"大和市",209,11,11,198]
[14,214,"伊勢原市",{"v":1090,"d":"1,090"},401,385,692]
[14,215,"海老名市",539,247,238,292]
[14,216,"座間市",214,88,85,126]
[14,217,"南足柄市",659,169,159,490]
[14,218,"綾瀬市",244,13,13,231]
[14,301,"葉山町",35,3,3,32]
[14,321,"寒川町",232,70,66,162]
[14,341,"大磯町",266,22,19,244]
[14,342,"二宮町",117,0,0,117]
[14,361,"中井町",430,27,23,403]
[14,362,"大井町",339,110,102,229]
[14,363,"松田町",157,9,8,148]
[14,364,"山北町",312,31,28,281]
[14,366,"開成町",196,165,153,31]
[14,382,"箱根町",8,1,1,7]
[14,383,"真鶴町",46,"- ","- ",46]
[14,384,"湯河原町",238,"- ","- ",238]
[14,401,"愛川町",306,67,65,239]
[14,402,"清川村",46,7,7,39]
[]
[null,null,"計",{"v":19200,"d":"19,200"},{"v":3760,"d":"3,760"},{"v":3590,"d":"3,590"},{"v":15500,"d":"15,500"}]
[]
["利用上の注意"]
["　１　この市町村別統計は、「作物統計調査」を実施する上で把握した地域における標本調査及び現地見積りの結果、"]
["　　関係機関からの情報等を踏まえ、都道府県計値の内訳として市町村別に作成した加工統計であり、作成するうえで"]
["　　精度を設定しているものではない。"]
["　　　なお、「作物統計調査」は都道府県計値を求めるために設計されている。"]
["　２　耕作者の市町村間の出作・入作を考慮していない（属地統計）。\n"]
["　３　数値は四捨五入しており、市町村値の計が都道府県値と一致しないことがある。\n"]

{"sheet":"30","index":14,"n_rows":51,"n_cols":7,"rows_kept":51,"hidden":true}
["農林水産関係市町村別統計"]
["平成30年"]
["耕地面積"]
["神奈川県"]
["都道","市町",null,"耕地面積","田耕地面積",null,"畑耕地面積"]
["府県","村　","市町村名",null,"　　　　　","田本地面積","　　　　　"]
["ｺｰﾄﾞ","ｺｰﾄﾞ"]
[{"$nulls":3},"ha","ha","ha","ha"]
[14,100,"横浜市",{"v":2780,"d":"2,780"},142,137,{"v":2630,"d":"2,630"}]
[14,130,"川崎市",568,21,20,547]
[14,150,"相模原市",{"v":1540,"d":"1,540"},108,104,{"v":1430,"d":"1,430"}]
[14,201,"横須賀市",528,7,7,521]
[14,203,"平塚市",{"v":1470,"d":"1,470"},735,716,732]
[14,204,"鎌倉市",102,1,1,101]
[14,205,"藤沢市",894,133,125,761]
[14,206,"小田原市",{"v":1810,"d":"1,810"},508,490,{"v":1300,"d":"1,300"}]
[14,207,"茅ヶ崎市",346,43,40,303]
[14,208,"逗子市",7,0,0,7]
[14,210,"三浦市",{"v":1190,"d":"1,190"},5,5,{"v":1190,"d":"1,190"}]
[14,211,"秦野市",{"v":1100,"d":"1,100"},107,95,990]
[14,212,"厚木市",{"v":1120,"d":"1,120"},485,469,632]
[14,213,"大和市",207,11,11,196]
[14,214,"伊勢原市",{"v":1090,"d":"1,090"},400,385,689]
[14,215,"海老名市",526,245,237,281]
[14,216,"座間市",212,88,85,124]
[14,217,"南足柄市",657,168,159,489]
[14,218,"綾瀬市",240,12,12,228]
[14,301,"葉山町",35,3,3,32]
[14,321,"寒川町",229,69,65,160]
[14,341,"大磯町",265,22,19,243]
[14,342,"二宮町",116,0,0,116]
[14,361,"中井町",427,26,23,401]
[14,362,"大井町",338,110,102,228]
[14,363,"松田町",151,9,8,142]
[14,364,"山北町",311,31,28,280]
[14,366,"開成町",195,164,154,31]
[14,382,"箱根町",8,1,1,7]
[14,383,"真鶴町",45,"- ","- ",45]
[14,384,"湯河原町",232,"- ","- ",232]
[14,401,"愛川町",303,66,64,237]
[14,402,"清川村",46,7,7,39]
[]
[null,null,"計",{"v":19100,"d":"19,100"},{"v":3730,"d":"3,730"},{"v":3570,"d":"3,570"},{"v":15400,"d":"15,400"}]
[]
["利用上の注意"]
["　１　この市町村別統計は、「作物統計調査」を実施する上で把握した地域における標本調査及び現地見積りの結果、"]
["　　関係機関からの情報等を踏まえ、都道府県計値の内訳として市町村別に作成した加工統計であり、作成するうえで"]
["　　精度を設定しているものではない。"]
["　　　なお、「作物統計調査」は都道府県計値を求めるために設計されている。"]
["　２　耕作者の市町村間の出作・入作を考慮していない（属地統計）。\n"]
["　３　数値は四捨五入しており、市町村値の計が都道府県値と一致しないことがある。\n"]

{"sheet":"R1","index":15,"n_rows":51,"n_cols":7,"rows_kept":51,"hidden":true}
["農林水産関係市町村別統計"]
["令和元年"]
["耕地面積"]
["神奈川県"]
["都道","市町",null,"耕地面積","田耕地面積",null,"畑耕地面積"]
["府県","村　","市町村名",null,"　　　　　","田本地面積","　　　　　"]
["ｺｰﾄﾞ","ｺｰﾄﾞ"]
[{"$nulls":3},"ha","ha","ha","ha"]
[14,100,"横浜市",{"v":2710,"d":"2,710"},139,134,{"v":2570,"d":"2,570"}]
[14,130,"川崎市",547,20,19,527]
[14,150,"相模原市",{"v":1510,"d":"1,510"},107,103,{"v":1400,"d":"1,400"}]
[14,201,"横須賀市",522,7,7,515]
[14,203,"平塚市",{"v":1460,"d":"1,460"},732,713,727]
[14,204,"鎌倉市",100,1,1,99]
[14,205,"藤沢市",880,132,124,748]
[14,206,"小田原市",{"v":1790,"d":"1,790"},492,475,{"v":1300,"d":"1,300"}]
[14,207,"茅ヶ崎市",338,43,40,295]
[14,208,"逗子市",6,0,0,6]
[14,210,"三浦市",{"v":1190,"d":"1,190"},5,5,{"v":1190,"d":"1,190"}]
[14,211,"秦野市",{"v":1090,"d":"1,090"},107,95,979]
[14,212,"厚木市",{"v":1100,"d":"1,100"},478,462,622]
[14,213,"大和市",200,11,11,189]
[14,214,"伊勢原市",{"v":1080,"d":"1,080"},394,379,687]
[14,215,"海老名市",519,243,235,276]
[14,216,"座間市",207,86,83,121]
[14,217,"南足柄市",656,168,159,488]
[14,218,"綾瀬市",239,12,12,227]
[14,301,"葉山町",33,3,3,30]
[14,321,"寒川町",225,68,65,157]
[14,341,"大磯町",261,21,18,240]
[14,342,"二宮町",115,0,0,115]
[14,361,"中井町",419,25,22,394]
[14,362,"大井町",333,106,99,227]
[14,363,"松田町",144,8,7,136]
[14,364,"山北町",309,30,27,279]
[14,366,"開成町",192,161,151,31]
[14,382,"箱根町",8,1,1,7]
[14,383,"真鶴町",44,"-","-",44]
[14,384,"湯河原町",217,"-","-",217]
[14,401,"愛川町",293,65,63,228]
[14,402,"清川村",45,6,6,39]
[]
[null,null,"計",{"v":18800,"d":"18,800"},{"v":3670,"d":"3,670"},{"v":3520,"d":"3,520"},{"v":15100,"d":"15,100"}]
[]
["利用上の注意"]
["　１　この市町村別統計は、「作物統計調査」を実施する上で把握した地域における標本調査及び現地見積りの結果、"]
["　　関係機関からの情報等を踏まえ、都道府県計値の内訳として市町村別に作成した加工統計であり、作成するうえで"]
["　　精度を設定しているものではない。"]
["　　　なお、「作物統計調査」は都道府県計値を求めるために設計されている。"]
["　２　耕作者の市町村間の出作・入作を考慮していない（属地統計）。\n"]
["　３　数値は四捨五入しており、市町村値の計が都道府県値と一致しないことがある。\n"]

{"sheet":"R2","index":16,"n_rows":51,"n_cols":7,"rows_kept":51,"hidden":true}
["農林水産関係市町村別統計"]
["令和2年"]
["耕地面積"]
["神奈川県"]
["都道","市町",null,"耕地面積","田耕地面積",null,"畑耕地面積"]
["府県","村　","市町村名",null,"　　　　　","田本地面積","　　　　　"]
["ｺｰﾄﾞ","ｺｰﾄﾞ"]
[{"$nulls":3},"ha","ha","ha","ha"]
[14,100,"横浜市",2650,134,129,2520]
[14,130,"川崎市",526,19,18,507]
[14,150,"相模原市",1460,103,99,1360]
[14,201,"横須賀市",514,7,7,507]
[14,203,"平塚市",1440,722,704,718]
[14,204,"鎌倉市",99,1,1,98]
[14,205,"藤沢市",866,130,122,736]
[14,206,"小田原市",1780,486,469,1290]
[14,207,"茅ヶ崎市",328,43,40,285]
[14,208,"逗子市",6,0,0,6]
[14,210,"三浦市",1190,5,5,1180]
[14,211,"秦野市",1070,105,93,962]
[14,212,"厚木市",1070,472,456,602]
[14,213,"大和市",196,11,11,185]
[14,214,"伊勢原市",1070,391,376,681]
[14,215,"海老名市",509,239,231,270]
[14,216,"座間市",203,85,82,118]
[14,217,"南足柄市",654,167,158,487]
[14,218,"綾瀬市",236,12,12,224]
[14,301,"葉山町",32,3,3,29]
[14,321,"寒川町",221,67,64,154]
[14,341,"大磯町",257,20,18,237]
[14,342,"二宮町",112,0,0,112]
[14,361,"中井町",413,24,21,389]
[14,362,"大井町",324,103,96,221]
[14,363,"松田町",138,7,6,131]
[14,364,"山北町",290,27,24,263]
[14,366,"開成町",189,159,149,30]
[14,382,"箱根町",6,0,0,6]
[14,383,"真鶴町",41,"-","-",41]
[14,384,"湯河原町",215,"-","-",215]
[14,401,"愛川町",283,64,62,219]
[14,402,"清川村",40,6,6,34]
[]
[null,null,"計",18400,3610,3460,14800]
[]
["利用上の注意"]
["　１　この市町村別統計は、「作物統計調査」を実施する上で把握した地域における標本調査及び現地見積りの結果、"]
["　　関係機関からの情報等を踏まえ、都道府県計値の内訳として市町村別に作成した加工統計であり、作成するうえで"]
["　　精度を設定しているものではない。"]
["　　　なお、「作物統計調査」は都道府県計値を求めるために設計されている。"]
["　２　耕作者の市町村間の出作・入作を考慮していない（属地統計）。\n"]
["　３　数値は四捨五入しており、市町村値の計が都道府県値と一致しないことがある。\n"]

{"sheet":"R3","index":17,"n_rows":51,"n_cols":7,"rows_kept":51,"hidden":true}
["農林水産関係市町村別統計"]
["令和3年"]
["耕地面積"]
["神奈川県"]
["都道","市町","市町村名","耕地面積","田耕地面積",null,"畑耕地面積"]
["府県","村　",null,null,"　　　　　","田本地面積","　　　　　"]
["ｺｰﾄﾞ","ｺｰﾄﾞ"]
[{"$nulls":3},"ha","ha","ha","ha"]
[14,100,"横浜市",2620,131,126,2490]
[14,130,"川崎市",511,19,18,492]
[14,150,"相模原市",1440,102,99,1340]
[14,201,"横須賀市",510,6,6,504]
[14,203,"平塚市",1430,712,694,714]
[14,204,"鎌倉市",97,1,1,96]
[14,205,"藤沢市",859,130,122,729]
[14,206,"小田原市",1750,473,456,1280]
[14,207,"茅ヶ崎市",315,42,39,273]
[14,208,"逗子市",6,0,0,6]
[14,210,"三浦市",1190,4,4,1180]
[14,211,"秦野市",1050,101,89,950]
[14,212,"厚木市",1050,458,443,592]
[14,213,"大和市",194,10,10,184]
[14,214,"伊勢原市",1070,387,372,678]
[14,215,"海老名市",499,231,223,268]
[14,216,"座間市",201,85,82,116]
[14,217,"南足柄市",649,163,155,486]
[14,218,"綾瀬市",233,12,12,221]
[14,301,"葉山町",32,3,3,29]
[14,321,"寒川町",218,66,63,152]
[14,341,"大磯町",256,19,17,237]
[14,342,"二宮町",110,0,0,110]
[14,361,"中井町",408,23,20,385]
[14,362,"大井町",314,95,88,219]
[14,363,"松田町",137,6,5,131]
[14,364,"山北町",284,24,22,260]
[14,366,"開成町",186,157,147,29]
[14,382,"箱根町",6,0,0,6]
[14,383,"真鶴町",35,"-","-",35]
[14,384,"湯河原町",209,"-","-",209]
[14,401,"愛川町",278,63,61,215]
[14,402,"清川村",37,5,5,32]
[]
[null,null,"計",18200,3530,3380,14600]
[]
["利用上の注意"]
["　１　この市町村別統計は、「作物統計調査」を実施する上で把握した地域における標本調査、現地見積りの結果、関係機関"]
["　　からの情報等を踏まえ、都道府県計値の内訳として市町村別に配分することにより作成した加工統計であり、市町村別の"]
["　　値を目的として設計された調査に基づいて直接得られたものではない。"]
["　　　なお、「作物統計調査」は、都道府県計値を求めるために目標精度を設定し、調査の設計がされている。"]
["　２　面積は、耕地の存在する市町村に計上しており（属地統計）、耕作者の市町村間の出作・入作を考慮していない。\n"]
["　３　数値は四捨五入しており、市町村値の計が都道府県値と一致しないことがある。\n"]

{"sheet":"R4","index":18,"n_rows":51,"n_cols":7,"rows_kept":51,"hidden":true}
["農林水産関係市町村別統計"]
["令和4年"]
["耕地面積"]
["神奈川県"]
["都道","市町","市町村名","耕地面積","田耕地面積",null,"畑耕地面積"]
["府県","村　",null,null,"　　　　　","田本地面積","　　　　　"]
["ｺｰﾄﾞ","ｺｰﾄﾞ"]
[{"$nulls":3},"ha","ha","ha","ha"]
[14,100,"横浜市",2590,131,126,2460]
[14,130,"川崎市",496,19,18,477]
[14,150,"相模原市",1430,102,99,1330]
[14,201,"横須賀市",508,6,6,502]
[14,203,"平塚市",1420,711,693,710]
[14,204,"鎌倉市",96,1,1,95]
[14,205,"藤沢市",856,129,121,727]
[14,206,"小田原市",1740,466,449,1280]
[14,207,"茅ヶ崎市",314,42,39,272]
[14,208,"逗子市",6,0,0,6]
[14,210,"三浦市",1190,4,4,1180]
[14,211,"秦野市",1030,99,87,932]
[14,212,"厚木市",1030,441,426,591]
[14,213,"大和市",190,10,10,180]
[14,214,"伊勢原市",1060,384,369,671]
[14,215,"海老名市",492,229,221,263]
[14,216,"座間市",199,85,82,114]
[14,217,"南足柄市",650,163,155,487]
[14,218,"綾瀬市",229,12,12,217]
[14,301,"葉山町",32,3,3,29]
[14,321,"寒川町",218,66,63,152]
[14,341,"大磯町",255,19,17,236]
[14,342,"二宮町",109,0,0,109]
[14,361,"中井町",404,23,20,381]
[14,362,"大井町",313,94,87,219]
[14,363,"松田町",135,5,5,130]
[14,364,"山北町",279,24,22,255]
[14,366,"開成町",183,154,144,29]
[14,382,"箱根町",6,0,0,6]
[14,383,"真鶴町",34,"-","-",34]
[14,384,"湯河原町",206,"-","-",206]
[14,401,"愛川町",274,61,59,213]
[14,402,"清川村",37,5,5,32]
[]
[null,null,"計",18000,3490,3340,14500]
[]
["利用上の注意"]
["　１　この市町村別統計は、「作物統計調査」を実施する上で把握した地域における標本調査、現地見積りの結果、関係機関"]
["　　からの情報等を踏まえ、都道府県計値の内訳として市町村別に配分することにより作成した加工統計であり、市町村別の"]
["　　値を目的として設計された調査に基づいて直接得られたものではない。"]
["　　　なお、「作物統計調査」は、都道府県計値を求めるために目標精度を設定し、調査の設計がされている。"]
["　２　面積は、耕地の存在する市町村に計上しており（属地統計）、耕作者の市町村間の出作・入作を考慮していない。\n"]
["　３　数値は四捨五入しており、市町村値の計が都道府県値と一致しないことがある。\n"]

{"sheet":"R5","index":19,"n_rows":51,"n_cols":7,"rows_kept":51,"hidden":true,"merged":[[4,0,6,0],[4,1,6,1]]}
["農林水産関係市町村別統計"]
["令和5年"]
["耕地面積"]
["神奈川県"]
["都道府県ｺｰﾄﾞ","市町村\nｺｰﾄﾞ","市町村名","耕地面積","田耕地面積",null,"畑耕地面積"]
[{"$nulls":4},"　　　　　","田本地面積","　　　　　"]
[]
[{"$nulls":3},"ha","ha","ha","ha"]
[14,100,"横浜市",2580,131,126,2450]
[14,130,"川崎市",483,18,17,465]
[14,150,"相模原市",1420,102,99,1320]
[14,201,"横須賀市",507,6,6,501]
[14,203,"平塚市",1420,711,693,705]
[14,204,"鎌倉市",93,1,1,92]
[14,205,"藤沢市",847,129,121,718]
[14,206,"小田原市",1730,462,445,1270]
[14,207,"茅ヶ崎市",309,42,39,267]
[14,208,"逗子市",6,0,0,6]
[14,210,"三浦市",1180,4,4,1180]
[14,211,"秦野市",1020,99,87,916]
[14,212,"厚木市",1030,436,422,589]
[14,213,"大和市",177,8,8,169]
[14,214,"伊勢原市",1050,383,368,664]
[14,215,"海老名市",478,227,219,251]
[14,216,"座間市",196,84,81,112]
[14,217,"南足柄市",649,163,155,486]
[14,218,"綾瀬市",228,12,12,216]
[14,301,"葉山町",32,3,3,29]
[14,321,"寒川町",217,66,63,151]
[14,341,"大磯町",254,19,17,235]
[14,342,"二宮町",107,0,0,107]
[14,361,"中井町",400,23,20,377]
[14,362,"大井町",311,93,86,218]
[14,363,"松田町",134,5,5,129]
[14,364,"山北町",275,24,22,251]
[14,366,"開成町",180,151,141,29]
[14,382,"箱根町",6,0,0,6]
[14,383,"真鶴町",33,"-","-",33]
[14,384,"湯河原町",202,"-","-",202]
[14,401,"愛川町",272,61,59,211]
[14,402,"清川村",37,5,5,32]
[]
[null,null,"計",17800,3470,3320,14400]
[]
["利用上の注意"]
["　１　 この市町村別統計は、「作物統計調査」を実施する上で把握した地域における標本調査及び現地見積りの結果、関係機関"]
["　　からの情報等を踏まえ、都道府県計値の内訳として市町村別に配分することにより作成した加工統計であり、市町村別の値"]
["　　を目的として設計された調査に基づいて直接得られたものではない。"]
["　　　なお、「作物統計調査」は、都道府県計値を求めるために目標精度を設定し、調査の設計がされている。"]
["　２　面積は、耕地の存在する市町村に計上しており（属地統計）、耕作者の市町村間の出作・入作を考慮していない。\n"]
["　３　数値は四捨五入しており、市町村値の計が都道府県値と一致しないことがある。\n"]

{"sheet":"R6","index":20,"n_rows":51,"n_cols":7,"rows_kept":51,"hidden":true,"merged":[[4,0,6,0],[4,1,6,1]]}
["農林水産関係市町村別統計"]
["令和6年"]
["耕地面積"]
["神奈川県"]
["都道府県ｺｰﾄﾞ","市町村\nｺｰﾄﾞ","市町村名","耕地面積","田耕地面積",null,"畑耕地面積"]
[{"$nulls":4},"　　　　　","田本地面積","　　　　　"]
[]
[{"$nulls":3},"ha","ha","ha","ha"]
[14,100,"横浜市",2570,131,126,2440]
[14,130,"川崎市",479,18,17,461]
[14,150,"相模原市",1410,102,99,1310]
[14,201,"横須賀市",497,6,6,491]
[14,203,"平塚市",1410,711,693,699]
[14,204,"鎌倉市",92,1,1,91]
[14,205,"藤沢市",841,128,120,713]
[14,206,"小田原市",1720,461,444,1260]
[14,207,"茅ヶ崎市",303,42,39,261]
[14,208,"逗子市",6,0,0,6]
[14,210,"三浦市",1180,4,4,1180]
[14,211,"秦野市",1010,99,87,910]
[14,212,"厚木市",1020,432,418,585]
[14,213,"大和市",176,8,8,168]
[14,214,"伊勢原市",1050,385,370,662]
[14,215,"海老名市",475,225,217,250]
[14,216,"座間市",196,84,81,112]
[14,217,"南足柄市",647,162,154,485]
[14,218,"綾瀬市",226,12,12,214]
[14,301,"葉山町",32,3,3,29]
[14,321,"寒川町",218,66,63,152]
[14,341,"大磯町",254,19,17,235]
[14,342,"二宮町",106,0,0,106]
[14,361,"中井町",398,22,19,376]
[14,362,"大井町",310,93,86,217]
[14,363,"松田町",132,5,5,127]
[14,364,"山北町",271,23,21,248]
[14,366,"開成町",179,150,140,29]
[14,382,"箱根町",6,0,0,6]
[14,383,"真鶴町",33,"-","-",33]
[14,384,"湯河原町",202,"-","-",202]
[14,401,"愛川町",271,62,60,209]
[14,402,"清川村",37,5,5,32]
[]
[null,null,"計",17800,3460,3320,14300]
[]
["利用上の注意"]
["　１　 この市町村別統計は、「作物統計調査」を実施する上で把握した地域における標本調査結果及び現地見積りの結果、関係機関"]
["　　からの情報等を踏まえ、都道府県計値の内訳として市町村別に配分することにより作成した加工統計であり、市町村別の値"]
["　　を目的として設計された調査に基づいて直接得られたものではない。"]
["　　　なお、「作物統計調査」は、都道府県計値を求めるために目標精度を設定し、調査の設計がされている。"]
["　２　面積は、耕地の存在する市町村に計上しており（属地統計）、耕作者の市町村間の出作・入作を考慮していない。\n"]
["　３　数値は四捨五入しており、市町村値の計が都道府県値と一致しないことがある。\n"]

{"sheet":"合併","index":21,"n_rows":49,"n_cols":25,"rows_kept":49,"hidden":true}
[null,null,2004,2005,2006,2007,2008,2009,2010,2011,2012,2013,2014,2015,2016,2017,2018,2019,2020,2021,2022,2023,2024]
[null,null,"H16","H17","H18","H19","H20","H21","H22","H23","H24","H25","H26","H27","H28","H29","H30","R1","R2","R3","R4","R5","R6"]
[]
[100,"横浜市"]
[130,"川崎市"]
[150,"相模原市",5,3,{"$nulls":20},"H21まで209"]
[201,"横須賀市"]
[203,"平塚市"]
[204,"鎌倉市"]
[205,"藤沢市"]
[206,"小田原市"]
[207,"茅ヶ崎市"]
[208,"逗子市"]
[210,"三浦市"]
[211,"秦野市"]
[212,"厚木市"]
[213,"大和市"]
[214,"伊勢原市"]
[215,"海老名市"]
[216,"座間市"]
[217,"南足柄市"]
[218,"綾瀬市"]
[301,"葉山町"]
[321,"寒川町"]
[341,"大磯町"]
[342,"二宮町"]
[361,"中井町"]
[362,"大井町"]
[363,"松田町"]
[364,"山北町"]
[366,"開成町"]
[382,"箱根町"]
[383,"真鶴町"]
[384,"湯河原町"]
[401,"愛川町"]
[402,"清川村"]
{"$rows_empty":8}
[209,"相模原市",1,1,{"$nulls":20},"H21まで209"]
[421,"城山町",1]
[422,"津久井町",1]
[423,"相模湖町",1,1]
[424,"藤野町",1,1]

{"sheet":"データ田","index":22,"n_rows":45,"n_cols":24,"rows_kept":45,"hidden":true}
[{"$nulls":3},16,17,18,19,20,21,22,23,24,25,26,27,28,29,30,1,2,3,4,5,6]
[{"$nulls":3},2004,2005,2006,2007,2008,2009,2010,2011,2012,2013,2014,2015,2016,2017,2018,2019,2020,2021,2022,2023,2024]
[null,null,"神奈川県",{"$nulls":6},{"v":4030,"d":" 4 030"},3990,3970,3920,3890,3850,3790,3760,3730,3670,3610,3530,3490,3470,3460]
[{"$nulls":3},{"$f":"SUM(D5:D37)","v":{"v":4309,"d":"4,309"}},{"$f":"SUM(E5:E37)","v":4545},4237,4171,4098,4056,4029,3994,3972,3924,3890,3846,3791,3756,3727,3671,3612,3528,3488,3468,3459]
[null,100,"横浜市",209,208,198,190,180,178,176,172,168,163,160,155,149,146,142,139,134,131,131,131,131]
[null,130,"川崎市",31,30,28,28,27,27,24,24,23,22,22,21,21,21,21,20,19,19,19,18,18]
[null,150,"相模原市",{"$f":"SUM(D41:D45)","v":142},{"$f":"SUM(E41:E45)","v":407},141,138,137,137,130,126,125,123,122,122,111,109,108,107,103,102,102,102,102]
[null,201,"横須賀市",19,19,18,17,16,16,12,11,10,10,10,9,9,8,7,7,7,6,6,6,6]
[null,203,"平塚市",777,777,777,777,777,774,772,772,771,766,765,761,739,737,735,732,722,712,711,711,711]
[null,204,"鎌倉市",1,1,1,1,1,1,1,1,1,1,1,1,1,1,1,1,1,1,1,1,1]
[null,205,"藤沢市",148,148,148,148,146,143,142,140,138,137,137,136,135,134,133,132,130,130,129,129,128]
[null,206,"小田原市",577,569,562,556,550,546,545,537,536,534,527,521,521,514,508,492,486,473,466,462,461]
[null,207,"茅ヶ崎市",61,61,61,58,54,52,51,49,49,47,46,43,43,43,43,43,43,42,42,42,42]
[null,208,"逗子市","-","-",0,0,0,0,0,0,0,0,0,0,0,0,0,0,0,0,0,0,0]
[null,210,"三浦市",10,10,10,10,10,9,6,6,6,6,6,5,5,5,5,5,5,4,4,4,4]
[null,211,"秦野市",146,143,137,135,134,119,119,118,117,114,113,112,109,108,107,107,105,101,99,99,99]
[null,212,"厚木市",550,550,549,534,522,519,520,515,509,504,497,493,493,489,485,478,472,458,441,436,432]
[null,213,"大和市",17,17,17,16,12,12,11,11,11,11,11,11,11,11,11,11,11,10,10,8,8]
[null,214,"伊勢原市",433,431,431,430,421,419,417,414,412,410,405,404,402,401,400,394,391,387,384,383,385]
[null,215,"海老名市",281,281,279,266,258,258,260,260,259,258,257,252,248,247,245,243,239,231,229,227,225]
[null,216,"座間市",92,92,92,91,91,91,90,90,90,89,89,89,89,88,88,86,85,85,85,84,84]
[null,217,"南足柄市",201,199,193,187,184,182,182,180,180,177,175,170,170,169,168,168,167,163,163,163,162]
[null,218,"綾瀬市",19,19,19,18,17,17,17,17,17,17,15,15,15,13,12,12,12,12,12,12,12]
[null,301,"葉山町",4,4,4,4,4,4,4,4,4,4,3,3,3,3,3,3,3,3,3,3,3]
[null,321,"寒川町",83,81,81,78,76,76,76,75,75,71,71,71,71,70,69,68,67,66,66,66,66]
[null,341,"大磯町",27,27,26,26,25,25,25,24,24,23,23,23,22,22,22,21,20,19,19,19,19]
[null,342,"二宮町",1,1,1,1,1,1,1,1,1,0,0,0,0,0,0,0,0,0,0,0,0]
[null,361,"中井町",34,31,31,31,31,31,31,31,31,30,29,28,28,27,26,25,24,23,23,23,22]
[null,362,"大井町",121,119,118,117,116,115,114,114,114,111,111,111,111,110,110,106,103,95,94,93,93]
[null,363,"松田町",13,13,12,12,12,11,11,10,10,10,10,10,10,9,9,8,7,6,5,5,5]
[null,364,"山北町",38,38,37,37,36,36,36,36,36,35,34,33,32,31,31,30,27,24,24,24,23]
[null,366,"開成町",185,180,177,177,176,173,173,173,172,169,169,168,167,165,164,161,159,157,154,151,150]
[null,382,"箱根町",2,2,2,2,2,2,2,2,2,2,2,2,1,1,1,1,0,0,0,0,0]
[null,383,"真鶴町","-","-","-","-","-","-","-","-","-","- ","- ","- ","- ","- ","- ","-","-","-","-","-","-"]
[null,384,"湯河原町","-","-","-","-","-","-","-","-","-","- ","- ","- ","- ","- ","- ","-","-","-","-","-","-"]
[null,401,"愛川町",78,78,78,77,74,74,74,74,74,73,73,70,68,67,66,65,64,63,61,61,62]
[null,402,"清川村",9,9,9,9,8,8,7,7,7,7,7,7,7,7,7,6,6,5,5,5,5]
[]
[]
[]
[null,209,"相模原市",99,119]
[null,421,"城山町",19,130]
[null,422,"津久井町",14]
[null,423,"相模湖町",7]
[null,424,"藤野町",3,158]

{"sheet":"グラフ田 ","index":23,"n_rows":37,"n_cols":18,"rows_kept":37,"hidden":true}
[{"$nulls":3},{"$f":"データ田!J2","v":2010},{"$f":"データ田!K2","v":2011},{"$f":"データ田!L2","v":2012},{"$f":"データ田!M2","v":2013},{"$f":"データ田!N2","v":2014},{"$f":"データ田!O2","v":2015},{"$f":"データ田!P2","v":2016},{"$f":"データ田!Q2","v":2017},{"$f":"データ田!R2","v":2018},{"$f":"データ田!S2","v":2019},{"$f":"データ田!T2","v":2020},{"$f":"データ田!U2","v":2021},{"$f":"データ田!V2","v":2022},{"$f":"データ田!W2","v":2023},{"$f":"データ田!X2","v":2024}]
[null,100,"横浜市",{"$f":"データ田!J5","v":176},{"$f":"データ田!K5","v":172},{"$f":"データ田!L5","v":168},{"$f":"データ田!M5","v":163},{"$f":"データ田!N5","v":160},{"$f":"データ田!O5","v":155},{"$f":"データ田!P5","v":149},{"$f":"データ田!Q5","v":146},{"$f":"データ田!R5","v":142},{"$f":"データ田!S5","v":139},{"$f":"データ田!T5","v":134},{"$f":"データ田!U5","v":131},{"$f":"データ田!V5","v":131},{"$f":"データ田!W5","v":131},{"$f":"データ田!X5","v":131}]
[null,130,"川崎市",{"$f":"データ田!J6","v":24},{"$f":"データ田!K6","v":24},{"$f":"データ田!L6","v":23},{"$f":"データ田!M6","v":22},{"$f":"データ田!N6","v":22},{"$f":"データ田!O6","v":21},{"$f":"データ田!P6","v":21},{"$f":"データ田!Q6","v":21},{"$f":"データ田!R6","v":21},{"$f":"データ田!S6","v":20},{"$f":"データ田!T6","v":19},{"$f":"データ田!U6","v":19},{"$f":"データ田!V6","v":19},{"$f":"データ田!W6","v":18},{"$f":"データ田!X6","v":18}]
[null,150,"相模原市",{"$f":"データ田!J7","v":130},{"$f":"データ田!K7","v":126},{"$f":"データ田!L7","v":125},{"$f":"データ田!M7","v":123},{"$f":"データ田!N7","v":122},{"$f":"データ田!O7","v":122},{"$f":"データ田!P7","v":111},{"$f":"データ田!Q7","v":109},{"$f":"データ田!R7","v":108},{"$f":"データ田!S7","v":107},{"$f":"データ田!T7","v":103},{"$f":"データ田!U7","v":102},{"$f":"データ田!V7","v":102},{"$f":"データ田!W7","v":102},{"$f":"データ田!X7","v":102}]
[null,201,"横須賀市",{"$f":"データ田!J8","v":12},{"$f":"データ田!K8","v":11},{"$f":"データ田!L8","v":10},{"$f":"データ田!M8","v":10},{"$f":"データ田!N8","v":10},{"$f":"データ田!O8","v":9},{"$f":"データ田!P8","v":9},{"$f":"データ田!Q8","v":8},{"$f":"データ田!R8","v":7},{"$f":"データ田!S8","v":7},{"$f":"データ田!T8","v":7},{"$f":"データ田!U8","v":6},{"$f":"データ田!V8","v":6},{"$f":"データ田!W8","v":6},{"$f":"データ田!X8","v":6}]
[null,203,"平塚市",{"$f":"データ田!J9","v":772},{"$f":"データ田!K9","v":772},{"$f":"データ田!L9","v":771},{"$f":"データ田!M9","v":766},{"$f":"データ田!N9","v":765},{"$f":"データ田!O9","v":761},{"$f":"データ田!P9","v":739},{"$f":"データ田!Q9","v":737},{"$f":"データ田!R9","v":735},{"$f":"データ田!S9","v":732},{"$f":"データ田!T9","v":722},{"$f":"データ田!U9","v":712},{"$f":"データ田!V9","v":711},{"$f":"データ田!W9","v":711},{"$f":"データ田!X9","v":711}]
[null,204,"鎌倉市",{"$f":"データ田!J10","v":1},{"$f":"データ田!K10","v":1},{"$f":"データ田!L10","v":1},{"$f":"データ田!M10","v":1},{"$f":"データ田!N10","v":1},{"$f":"データ田!O10","v":1},{"$f":"データ田!P10","v":1},{"$f":"データ田!Q10","v":1},{"$f":"データ田!R10","v":1},{"$f":"データ田!S10","v":1},{"$f":"データ田!T10","v":1},{"$f":"データ田!U10","v":1},{"$f":"データ田!V10","v":1},{"$f":"データ田!W10","v":1},{"$f":"データ田!X10","v":1}]
[null,205,"藤沢市",{"$f":"データ田!J11","v":142},{"$f":"データ田!K11","v":140},{"$f":"データ田!L11","v":138},{"$f":"データ田!M11","v":137},{"$f":"データ田!N11","v":137},{"$f":"データ田!O11","v":136},{"$f":"データ田!P11","v":135},{"$f":"データ田!Q11","v":134},{"$f":"データ田!R11","v":133},{"$f":"データ田!S11","v":132},{"$f":"データ田!T11","v":130},{"$f":"データ田!U11","v":130},{"$f":"データ田!V11","v":129},{"$f":"データ田!W11","v":129},{"$f":"データ田!X11","v":128}]
[null,206,"小田原市",{"$f":"データ田!J12","v":545},{"$f":"データ田!K12","v":537},{"$f":"データ田!L12","v":536},{"$f":"データ田!M12","v":534},{"$f":"データ田!N12","v":527},{"$f":"データ田!O12","v":521},{"$f":"データ田!P12","v":521},{"$f":"データ田!Q12","v":514},{"$f":"データ田!R12","v":508},{"$f":"データ田!S12","v":492},{"$f":"データ田!T12","v":486},{"$f":"データ田!U12","v":473},{"$f":"データ田!V12","v":466},{"$f":"データ田!W12","v":462},{"$f":"データ田!X12","v":461}]
[null,207,"茅ヶ崎市",{"$f":"データ田!J13","v":51},{"$f":"データ田!K13","v":49},{"$f":"データ田!L13","v":49},{"$f":"データ田!M13","v":47},{"$f":"データ田!N13","v":46},{"$f":"データ田!O13","v":43},{"$f":"データ田!P13","v":43},{"$f":"データ田!Q13","v":43},{"$f":"データ田!R13","v":43},{"$f":"データ田!S13","v":43},{"$f":"データ田!T13","v":43},{"$f":"データ田!U13","v":42},{"$f":"データ田!V13","v":42},{"$f":"データ田!W13","v":42},{"$f":"データ田!X13","v":42}]
[null,208,"逗子市",{"$f":"データ田!J14","v":0},{"$f":"データ田!K14","v":0},{"$f":"データ田!L14","v":0},{"$f":"データ田!M14","v":0},{"$f":"データ田!N14","v":0},{"$f":"データ田!O14","v":0},{"$f":"データ田!P14","v":0},{"$f":"データ田!Q14","v":0},{"$f":"データ田!R14","v":0},{"$f":"データ田!S14","v":0},{"$f":"データ田!T14","v":0},{"$f":"データ田!U14","v":0},{"$f":"データ田!V14","v":0},{"$f":"データ田!W14","v":0},{"$f":"データ田!X14","v":0}]
[null,210,"三浦市",{"$f":"データ田!J15","v":6},{"$f":"データ田!K15","v":6},{"$f":"データ田!L15","v":6},{"$f":"データ田!M15","v":6},{"$f":"データ田!N15","v":6},{"$f":"データ田!O15","v":5},{"$f":"データ田!P15","v":5},{"$f":"データ田!Q15","v":5},{"$f":"データ田!R15","v":5},{"$f":"データ田!S15","v":5},{"$f":"データ田!T15","v":5},{"$f":"データ田!U15","v":4},{"$f":"データ田!V15","v":4},{"$f":"データ田!W15","v":4},{"$f":"データ田!X15","v":4}]
[null,211,"秦野市",{"$f":"データ田!J16","v":119},{"$f":"データ田!K16","v":118},{"$f":"データ田!L16","v":117},{"$f":"データ田!M16","v":114},{"$f":"データ田!N16","v":113},{"$f":"データ田!O16","v":112},{"$f":"データ田!P16","v":109},{"$f":"データ田!Q16","v":108},{"$f":"データ田!R16","v":107},{"$f":"データ田!S16","v":107},{"$f":"データ田!T16","v":105},{"$f":"データ田!U16","v":101},{"$f":"データ田!V16","v":99},{"$f":"データ田!W16","v":99},{"$f":"データ田!X16","v":99}]
[null,212,"厚木市",{"$f":"データ田!J17","v":520},{"$f":"データ田!K17","v":515},{"$f":"データ田!L17","v":509},{"$f":"データ田!M17","v":504},{"$f":"データ田!N17","v":497},{"$f":"データ田!O17","v":493},{"$f":"データ田!P17","v":493},{"$f":"データ田!Q17","v":489},{"$f":"データ田!R17","v":485},{"$f":"データ田!S17","v":478},{"$f":"データ田!T17","v":472},{"$f":"データ田!U17","v":458},{"$f":"データ田!V17","v":441},{"$f":"データ田!W17","v":436},{"$f":"データ田!X17","v":432}]
[null,213,"大和市",{"$f":"データ田!J18","v":11},{"$f":"データ田!K18","v":11},{"$f":"データ田!L18","v":11},{"$f":"データ田!M18","v":11},{"$f":"データ田!N18","v":11},{"$f":"データ田!O18","v":11},{"$f":"データ田!P18","v":11},{"$f":"データ田!Q18","v":11},{"$f":"データ田!R18","v":11},{"$f":"データ田!S18","v":11},{"$f":"データ田!T18","v":11},{"$f":"データ田!U18","v":10},{"$f":"データ田!V18","v":10},{"$f":"データ田!W18","v":8},{"$f":"データ田!X18","v":8}]
[null,214,"伊勢原市",{"$f":"データ田!J19","v":417},{"$f":"データ田!K19","v":414},{"$f":"データ田!L19","v":412},{"$f":"データ田!M19","v":410},{"$f":"データ田!N19","v":405},{"$f":"データ田!O19","v":404},{"$f":"データ田!P19","v":402},{"$f":"データ田!Q19","v":401},{"$f":"データ田!R19","v":400},{"$f":"データ田!S19","v":394},{"$f":"データ田!T19","v":391},{"$f":"データ田!U19","v":387},{"$f":"データ田!V19","v":384},{"$f":"データ田!W19","v":383},{"$f":"データ田!X19","v":385}]
[null,215,"海老名市",{"$f":"データ田!J20","v":260},{"$f":"データ田!K20","v":260},{"$f":"データ田!L20","v":259},{"$f":"データ田!M20","v":258},{"$f":"データ田!N20","v":257},{"$f":"データ田!O20","v":252},{"$f":"データ田!P20","v":248},{"$f":"データ田!Q20","v":247},{"$f":"データ田!R20","v":245},{"$f":"データ田!S20","v":243},{"$f":"データ田!T20","v":239},{"$f":"データ田!U20","v":231},{"$f":"データ田!V20","v":229},{"$f":"データ田!W20","v":227},{"$f":"データ田!X20","v":225}]
[null,216,"座間市",{"$f":"データ田!J21","v":90},{"$f":"データ田!K21","v":90},{"$f":"データ田!L21","v":90},{"$f":"データ田!M21","v":89},{"$f":"データ田!N21","v":89},{"$f":"データ田!O21","v":89},{"$f":"データ田!P21","v":89},{"$f":"データ田!Q21","v":88},{"$f":"データ田!R21","v":88},{"$f":"データ田!S21","v":86},{"$f":"データ田!T21","v":85},{"$f":"データ田!U21","v":85},{"$f":"データ田!V21","v":85},{"$f":"データ田!W21","v":84},{"$f":"データ田!X21","v":84}]
[null,217,"南足柄市",{"$f":"データ田!J22","v":182},{"$f":"データ田!K22","v":180},{"$f":"データ田!L22","v":180},{"$f":"データ田!M22","v":177},{"$f":"データ田!N22","v":175},{"$f":"データ田!O22","v":170},{"$f":"データ田!P22","v":170},{"$f":"データ田!Q22","v":169},{"$f":"データ田!R22","v":168},{"$f":"データ田!S22","v":168},{"$f":"データ田!T22","v":167},{"$f":"データ田!U22","v":163},{"$f":"データ田!V22","v":163},{"$f":"データ田!W22","v":163},{"$f":"データ田!X22","v":162}]
[null,218,"綾瀬市",{"$f":"データ田!J23","v":17},{"$f":"データ田!K23","v":17},{"$f":"データ田!L23","v":17},{"$f":"データ田!M23","v":17},{"$f":"データ田!N23","v":15},{"$f":"データ田!O23","v":15},{"$f":"データ田!P23","v":15},{"$f":"データ田!Q23","v":13},{"$f":"データ田!R23","v":12},{"$f":"データ田!S23","v":12},{"$f":"データ田!T23","v":12},{"$f":"データ田!U23","v":12},{"$f":"データ田!V23","v":12},{"$f":"データ田!W23","v":12},{"$f":"データ田!X23","v":12}]
[null,301,"葉山町",{"$f":"データ田!J24","v":4},{"$f":"データ田!K24","v":4},{"$f":"データ田!L24","v":4},{"$f":"データ田!M24","v":4},{"$f":"データ田!N24","v":3},{"$f":"データ田!O24","v":3},{"$f":"データ田!P24","v":3},{"$f":"データ田!Q24","v":3},{"$f":"データ田!R24","v":3},{"$f":"データ田!S24","v":3},{"$f":"データ田!T24","v":3},{"$f":"データ田!U24","v":3},{"$f":"データ田!V24","v":3},{"$f":"データ田!W24","v":3},{"$f":"データ田!X24","v":3}]
[null,321,"寒川町",{"$f":"データ田!J25","v":76},{"$f":"データ田!K25","v":75},{"$f":"データ田!L25","v":75},{"$f":"データ田!M25","v":71},{"$f":"データ田!N25","v":71},{"$f":"データ田!O25","v":71},{"$f":"データ田!P25","v":71},{"$f":"データ田!Q25","v":70},{"$f":"データ田!R25","v":69},{"$f":"データ田!S25","v":68},{"$f":"データ田!T25","v":67},{"$f":"データ田!U25","v":66},{"$f":"データ田!V25","v":66},{"$f":"データ田!W25","v":66},{"$f":"データ田!X25","v":66}]
[null,341,"大磯町",{"$f":"データ田!J26","v":25},{"$f":"データ田!K26","v":24},{"$f":"データ田!L26","v":24},{"$f":"データ田!M26","v":23},{"$f":"データ田!N26","v":23},{"$f":"データ田!O26","v":23},{"$f":"データ田!P26","v":22},{"$f":"データ田!Q26","v":22},{"$f":"データ田!R26","v":22},{"$f":"データ田!S26","v":21},{"$f":"データ田!T26","v":20},{"$f":"データ田!U26","v":19},{"$f":"データ田!V26","v":19},{"$f":"データ田!W26","v":19},{"$f":"データ田!X26","v":19}]
[null,342,"二宮町",{"$f":"データ田!J27","v":1},{"$f":"データ田!K27","v":1},{"$f":"データ田!L27","v":1},{"$f":"データ田!M27","v":0},{"$f":"データ田!N27","v":0},{"$f":"データ田!O27","v":0},{"$f":"データ田!P27","v":0},{"$f":"データ田!Q27","v":0},{"$f":"データ田!R27","v":0},{"$f":"データ田!S27","v":0},{"$f":"データ田!T27","v":0},{"$f":"データ田!U27","v":0},{"$f":"データ田!V27","v":0},{"$f":"データ田!W27","v":0},{"$f":"データ田!X27","v":0}]
[null,361,"中井町",{"$f":"データ田!J28","v":31},{"$f":"データ田!K28","v":31},{"$f":"データ田!L28","v":31},{"$f":"データ田!M28","v":30},{"$f":"データ田!N28","v":29},{"$f":"データ田!O28","v":28},{"$f":"データ田!P28","v":28},{"$f":"データ田!Q28","v":27},{"$f":"データ田!R28","v":26},{"$f":"データ田!S28","v":25},{"$f":"データ田!T28","v":24},{"$f":"データ田!U28","v":23},{"$f":"データ田!V28","v":23},{"$f":"データ田!W28","v":23},{"$f":"データ田!X28","v":22}]
[null,362,"大井町",{"$f":"データ田!J29","v":114},{"$f":"データ田!K29","v":114},{"$f":"データ田!L29","v":114},{"$f":"データ田!M29","v":111},{"$f":"データ田!N29","v":111},{"$f":"データ田!O29","v":111},{"$f":"データ田!P29","v":111},{"$f":"データ田!Q29","v":110},{"$f":"データ田!R29","v":110},{"$f":"データ田!S29","v":106},{"$f":"データ田!T29","v":103},{"$f":"データ田!U29","v":95},{"$f":"データ田!V29","v":94},{"$f":"データ田!W29","v":93},{"$f":"データ田!X29","v":93}]
[null,363,"松田町",{"$f":"データ田!J30","v":11},{"$f":"データ田!K30","v":10},{"$f":"データ田!L30","v":10},{"$f":"データ田!M30","v":10},{"$f":"データ田!N30","v":10},{"$f":"データ田!O30","v":10},{"$f":"データ田!P30","v":10},{"$f":"データ田!Q30","v":9},{"$f":"データ田!R30","v":9},{"$f":"データ田!S30","v":8},{"$f":"データ田!T30","v":7},{"$f":"データ田!U30","v":6},{"$f":"データ田!V30","v":5},{"$f":"データ田!W30","v":5},{"$f":"データ田!X30","v":5}]
[null,364,"山北町",{"$f":"データ田!J31","v":36},{"$f":"データ田!K31","v":36},{"$f":"データ田!L31","v":36},{"$f":"データ田!M31","v":35},{"$f":"データ田!N31","v":34},{"$f":"データ田!O31","v":33},{"$f":"データ田!P31","v":32},{"$f":"データ田!Q31","v":31},{"$f":"データ田!R31","v":31},{"$f":"データ田!S31","v":30},{"$f":"データ田!T31","v":27},{"$f":"データ田!U31","v":24},{"$f":"データ田!V31","v":24},{"$f":"データ田!W31","v":24},{"$f":"データ田!X31","v":23}]
[null,366,"開成町",{"$f":"データ田!J32","v":173},{"$f":"データ田!K32","v":173},{"$f":"データ田!L32","v":172},{"$f":"データ田!M32","v":169},{"$f":"データ田!N32","v":169},{"$f":"データ田!O32","v":168},{"$f":"データ田!P32","v":167},{"$f":"データ田!Q32","v":165},{"$f":"データ田!R32","v":164},{"$f":"データ田!S32","v":161},{"$f":"データ田!T32","v":159},{"$f":"データ田!U32","v":157},{"$f":"データ田!V32","v":154},{"$f":"データ田!W32","v":151},{"$f":"データ田!X32","v":150}]
[null,382,"箱根町",{"$f":"データ田!J33","v":2},{"$f":"データ田!K33","v":2},{"$f":"データ田!L33","v":2},{"$f":"データ田!M33","v":2},{"$f":"データ田!N33","v":2},{"$f":"データ田!O33","v":2},{"$f":"データ田!P33","v":1},{"$f":"データ田!Q33","v":1},{"$f":"データ田!R33","v":1},{"$f":"データ田!S33","v":1},{"$f":"データ田!T33","v":0},{"$f":"データ田!U33","v":0},{"$f":"データ田!V33","v":0},{"$f":"データ田!W33","v":0},{"$f":"データ田!X33","v":0}]
[null,383,"真鶴町",{"$f":"データ田!J34","v":"-"},{"$f":"データ田!K34","v":"-"},{"$f":"データ田!L34","v":"-"},{"$f":"データ田!M34","v":"- "},{"$f":"データ田!N34","v":"- "},{"$f":"データ田!O34","v":"- "},{"$f":"データ田!P34","v":"- "},{"$f":"データ田!Q34","v":"- "},{"$f":"データ田!R34","v":"- "},{"$f":"データ田!S34","v":"-"},{"$f":"データ田!T34","v":"-"},{"$f":"データ田!U34","v":"-"},{"$f":"データ田!V34","v":"-"},{"$f":"データ田!W34","v":"-"},{"$f":"データ田!X34","v":"-"}]
[null,384,"湯河原町",{"$f":"データ田!J35","v":"-"},{"$f":"データ田!K35","v":"-"},{"$f":"データ田!L35","v":"-"},{"$f":"データ田!M35","v":"- "},{"$f":"データ田!N35","v":"- "},{"$f":"データ田!O35","v":"- "},{"$f":"データ田!P35","v":"- "},{"$f":"データ田!Q35","v":"- "},{"$f":"データ田!R35","v":"- "},{"$f":"データ田!S35","v":"-"},{"$f":"データ田!T35","v":"-"},{"$f":"データ田!U35","v":"-"},{"$f":"データ田!V35","v":"-"},{"$f":"データ田!W35","v":"-"},{"$f":"データ田!X35","v":"-"}]
[null,401,"愛川町",{"$f":"データ田!J36","v":74},{"$f":"データ田!K36","v":74},{"$f":"データ田!L36","v":74},{"$f":"データ田!M36","v":73},{"$f":"データ田!N36","v":73},{"$f":"データ田!O36","v":70},{"$f":"データ田!P36","v":68},{"$f":"データ田!Q36","v":67},{"$f":"データ田!R36","v":66},{"$f":"データ田!S36","v":65},{"$f":"データ田!T36","v":64},{"$f":"データ田!U36","v":63},{"$f":"データ田!V36","v":61},{"$f":"データ田!W36","v":61},{"$f":"データ田!X36","v":62}]
[null,402,"清川村",{"$f":"データ田!J37","v":7},{"$f":"データ田!K37","v":7},{"$f":"データ田!L37","v":7},{"$f":"データ田!M37","v":7},{"$f":"データ田!N37","v":7},{"$f":"データ田!O37","v":7},{"$f":"データ田!P37","v":7},{"$f":"データ田!Q37","v":7},{"$f":"データ田!R37","v":7},{"$f":"データ田!S37","v":6},{"$f":"データ田!T37","v":6},{"$f":"データ田!U37","v":5},{"$f":"データ田!V37","v":5},{"$f":"データ田!W37","v":5},{"$f":"データ田!X37","v":5}]
[null,null,"神奈川県",{"$f":"データ田!J3","v":4030},{"$f":"データ田!K3","v":3990},{"$f":"データ田!L3","v":3970},{"$f":"データ田!M3","v":3920},{"$f":"データ田!N3","v":3890},{"$f":"データ田!O3","v":3850},{"$f":"データ田!P3","v":3790},{"$f":"データ田!Q3","v":3760},{"$f":"データ田!R3","v":3730},{"$f":"データ田!S3","v":3670},{"$f":"データ田!T3","v":3610},{"$f":"データ田!U3","v":3530},{"$f":"データ田!V3","v":3490},{"$f":"データ田!W3","v":3470},{"$f":"データ田!X3","v":3460}]
[{"$nulls":3},{"$f":"D1","v":2010},2011,2012,2013,2014,2015,2016,2017,2018,2019,2020,2021,2022,2023,2024]
[null,null,"神奈川県",{"$f":"_xlfn.XLOOKUP($C$37,$C2:$C35,D$2:D$35)","v":4030},3990,3970,3920,3890,3850,3790,3760,3730,3670,3610,3530,3490,3470,3460]

{"sheet":"データ畑","index":24,"n_rows":83,"n_cols":24,"rows_kept":83,"hidden":true}
[{"$nulls":3},16,17,18,19,20,21,22,23,24,25,26,27,28,29,30,1,2,3,4,5,6]
[{"$nulls":3},2004,2005,2006,2007,2008,2009,2010,2011,2012,2013,2014,2015,2016,2017,2018,2019,2020,2021,2022,2023,2024]
[null,null,"神奈川県",{"$nulls":6},{"v":16400,"d":" 16 400"},16300,16200,16000,15800,15700,15700,15500,15400,15100,14800,14600,14500,14400,14300]
[{"$nulls":3},{"$f":"SUM(D5:D83)","v":18508},18464,16785,16699,16594,16461,16352,{"$f":"SUM(K5:K83)","v":16284},16173,16035,15831,15746,15654,15478,15344,15110,14817,14648,14525,14387,33076]
[null,100,"横浜市",{"v":2910,"d":"2,910"},{"v":2910,"d":"2,910"},{"v":2890,"d":"2,890"},{"v":2870,"d":"2,870"},{"v":2830,"d":"2,830"},{"v":2810,"d":"2,810"},{"v":2800,"d":"2,800"},{"v":2790,"d":"2,790"},{"v":2790,"d":"2,790"},{"v":2770,"d":"2,770"},{"v":2710,"d":"2,710"},{"v":2690,"d":"2,690"},{"v":2680,"d":"2,680"},{"v":2660,"d":"2,660"},{"v":2630,"d":"2,630"},{"v":2570,"d":"2,570"},2520,2490,2460,2450,2440]
[null,130,"川崎市",615,614,609,598,593,586,584,581,580,576,551,550,549,549,547,527,507,492,477,465,461]
[null,150,"相模原市",{"$f":"SUM(D41:D45)","v":{"v":1599,"d":"1,599"}},{"$f":"SUM(E41:E45)","v":{"v":1598,"d":"1,598"}},{"v":1590,"d":"1,590"},{"v":1590,"d":"1,590"},{"v":1570,"d":"1,570"},{"v":1550,"d":"1,550"},{"v":1530,"d":"1,530"},{"v":1520,"d":"1,520"},{"v":1510,"d":"1,510"},{"v":1490,"d":"1,490"},{"v":1500,"d":"1,500"},{"v":1490,"d":"1,490"},{"v":1470,"d":"1,470"},{"v":1450,"d":"1,450"},{"v":1430,"d":"1,430"},{"v":1400,"d":"1,400"},1360,1340,1330,1320,1310]
[null,201,"横須賀市",489,516,541,538,537,537,531,530,529,529,527,524,524,523,521,515,507,504,502,501,491]
[null,203,"平塚市",798,788,780,778,775,775,766,766,764,761,752,749,740,738,732,727,718,714,710,705,699]
[null,204,"鎌倉市",121,121,119,117,114,113,109,108,108,106,104,104,103,102,101,99,98,96,95,92,91]
[null,205,"藤沢市",840,836,834,834,830,820,807,799,791,784,765,765,765,763,761,748,736,729,727,718,713]
[null,206,"小田原市",{"v":1400,"d":"1,400"},{"v":1380,"d":"1,380"},{"v":1370,"d":"1,370"},{"v":1370,"d":"1,370"},{"v":1370,"d":"1,370"},{"v":1360,"d":"1,360"},{"v":1360,"d":"1,360"},{"v":1360,"d":"1,360"},{"v":1340,"d":"1,340"},{"v":1330,"d":"1,330"},{"v":1320,"d":"1,320"},{"v":1320,"d":"1,320"},{"v":1310,"d":"1,310"},{"v":1310,"d":"1,310"},{"v":1300,"d":"1,300"},{"v":1300,"d":"1,300"},1290,1280,1280,1270,1260]
[null,207,"茅ヶ崎市",338,333,330,333,333,329,323,323,320,315,306,306,306,305,303,295,285,273,272,267,261]
[null,208,"逗子市",9,9,9,9,9,9,9,9,9,9,7,7,7,7,7,6,6,6,6,6,6]
[null,210,"三浦市",{"v":1180,"d":"1,180"},{"v":1190,"d":"1,190"},{"v":1200,"d":"1,200"},{"v":1200,"d":"1,200"},{"v":1200,"d":"1,200"},{"v":1200,"d":"1,200"},{"v":1190,"d":"1,190"},{"v":1190,"d":"1,190"},{"v":1190,"d":"1,190"},{"v":1190,"d":"1,190"},{"v":1190,"d":"1,190"},{"v":1190,"d":"1,190"},{"v":1190,"d":"1,190"},{"v":1190,"d":"1,190"},{"v":1190,"d":"1,190"},{"v":1190,"d":"1,190"},1180,1180,1180,1180,1180]
[null,211,"秦野市",{"v":1150,"d":"1,150"},{"v":1140,"d":"1,140"},{"v":1130,"d":"1,130"},{"v":1120,"d":"1,120"},{"v":1120,"d":"1,120"},{"v":1100,"d":"1,100"},{"v":1090,"d":"1,090"},{"v":1080,"d":"1,080"},{"v":1050,"d":"1,050"},{"v":1030,"d":"1,030"},{"v":1030,"d":"1,030"},{"v":1020,"d":"1,020"},{"v":1010,"d":"1,010"},999,990,979,962,950,932,916,910]
[null,212,"厚木市",700,697,694,693,691,686,683,678,669,654,652,648,645,637,632,622,602,592,591,589,585]
[null,213,"大和市",233,233,232,231,229,214,213,212,211,210,204,202,200,198,196,189,185,184,180,169,168]
[null,214,"伊勢原市",754,746,742,739,733,728,725,722,718,712,704,701,696,692,689,687,681,678,671,664,662]
[null,215,"海老名市",316,315,314,307,306,305,305,304,303,301,295,293,293,292,281,276,270,268,263,251,250]
[null,216,"座間市",141,140,140,138,137,137,137,137,137,136,130,129,128,126,124,121,118,116,114,112,112]
[null,217,"南足柄市",505,503,503,502,499,497,496,496,493,492,494,490,490,490,489,488,487,486,487,486,485]
[null,218,"綾瀬市",265,264,263,257,255,255,255,254,254,253,245,244,236,231,228,227,224,221,217,216,214]
[null,301,"葉山町",37,37,37,35,35,36,35,35,35,34,33,33,32,32,32,30,29,29,29,29,29]
[null,321,"寒川町",184,182,179,179,179,177,174,171,169,169,166,165,164,162,160,157,154,152,152,151,152]
[null,341,"大磯町",258,257,255,254,252,250,248,248,246,246,244,244,244,244,243,240,237,237,236,235,235]
[null,342,"二宮町",134,133,132,132,131,129,128,128,126,122,118,118,118,117,116,115,112,110,109,107,106]
[null,361,"中井町",476,472,457,450,448,447,447,437,433,431,412,409,408,403,401,394,389,385,381,377,376]
[null,362,"大井町",236,236,236,235,235,235,235,235,235,235,232,230,230,229,228,227,221,219,219,218,217]
[null,363,"松田町",155,155,155,154,152,151,151,151,150,150,150,150,150,148,142,136,131,131,130,129,127]
[null,364,"山北町",374,374,373,372,370,369,369,369,368,367,366,364,358,281,280,279,263,260,255,251,248]
[null,366,"開成町",31,31,30,30,30,29,29,29,29,31,31,31,31,31,31,31,30,29,29,29,29]
[null,382,"箱根町",8,8,8,8,8,8,8,8,8,8,8,7,7,7,7,7,6,6,6,6,6]
[null,383,"真鶴町",54,53,52,52,52,52,52,52,50,50,49,49,48,46,45,44,41,35,34,33,33]
[null,384,"湯河原町",280,276,262,257,256,255,253,252,248,244,243,242,241,238,232,217,215,209,206,202,202]
[null,401,"愛川町",278,278,278,276,275,272,271,271,271,261,254,243,242,239,237,228,219,215,213,211,209]
[null,402,"清川村",41,41,41,41,40,40,39,39,39,39,39,39,39,39,39,39,34,32,32,32,32]
[]
[]
[]
[null,209,"相模原市",834,{"v":1310,"d":"1,310"}]
[null,421,"城山町",130,130]
[null,422,"津久井町",365]
[null,423,"相模湖町",112]
[null,424,"藤野町",158,158]
[{"$nulls":23},{"$f":"'R6'!G21","v":585}]
[]
[]
[{"$nulls":23},{"$f":"'R6'!G22","v":168}]
[{"$nulls":23},{"$f":"'R6'!G23","v":662}]
[]
[]
[{"$nulls":23},{"$f":"'R6'!G24","v":250}]
[{"$nulls":23},{"$f":"'R6'!G25","v":112}]
[{"$nulls":23},{"$f":"'R6'!G26","v":485}]
[]
[]
[{"$nulls":23},{"$f":"'R6'!G27","v":214}]
[{"$nulls":23},{"$f":"'R6'!G28","v":29}]
[{"$nulls":23},{"$f":"'R6'!G29","v":152}]
[{"$nulls":23},{"$f":"'R6'!G30","v":235}]
[]
[]
[]
[{"$nulls":23},{"$f":"'R6'!G31","v":106}]
[]
[]
[{"$nulls":23},{"$f":"'R6'!G32","v":376}]
[{"$nulls":23},{"$f":"'R6'!G33","v":217}]
[{"$nulls":23},{"$f":"'R6'!G34","v":127}]
[{"$nulls":23},{"$f":"'R6'!G35","v":248}]
[{"$nulls":23},{"$f":"'R6'!G36","v":29}]
[]
[]
[{"$nulls":23},{"$f":"'R6'!G37","v":6}]
[{"$nulls":23},{"$f":"'R6'!G38","v":33}]
[{"$nulls":23},{"$f":"'R6'!G39","v":202}]
[{"$nulls":23},{"$f":"'R6'!G40","v":209}]
[{"$nulls":23},{"$f":"'R6'!G41","v":32}]
[{"$nulls":23},{"$f":"'R6'!G42","v":0}]
[]
[]
[{"$nulls":23},{"$f":"'R6'!G43","v":14300}]

{"sheet":"グラフ畑","index":25,"n_rows":37,"n_cols":18,"rows_kept":37,"hidden":true}
[{"$nulls":3},{"$f":"データ畑!J2","v":2010},{"$f":"データ畑!K2","v":2011},{"$f":"データ畑!L2","v":2012},{"$f":"データ畑!M2","v":2013},{"$f":"データ畑!N2","v":2014},{"$f":"データ畑!O2","v":2015},{"$f":"データ畑!P2","v":2016},{"$f":"データ畑!Q2","v":2017},{"$f":"データ畑!R2","v":2018},{"$f":"データ畑!S2","v":2019},{"$f":"データ畑!T2","v":2020},{"$f":"データ畑!U2","v":2021},{"$f":"データ畑!V2","v":2022},{"$f":"データ畑!W2","v":2023},{"$f":"データ畑!X2","v":2024}]
[null,100,"横浜市",{"$f":"データ畑!J5","v":2800},{"$f":"データ畑!K5","v":2790},{"$f":"データ畑!L5","v":2790},{"$f":"データ畑!M5","v":2770},{"$f":"データ畑!N5","v":2710},{"$f":"データ畑!O5","v":2690},{"$f":"データ畑!P5","v":2680},{"$f":"データ畑!Q5","v":2660},{"$f":"データ畑!R5","v":2630},{"$f":"データ畑!S5","v":2570},{"$f":"データ畑!T5","v":2520},{"$f":"データ畑!U5","v":2490},{"$f":"データ畑!V5","v":2460},{"$f":"データ畑!W5","v":2450},{"$f":"データ畑!X5","v":2440}]
[null,130,"川崎市",{"$f":"データ畑!J6","v":584},{"$f":"データ畑!K6","v":581},{"$f":"データ畑!L6","v":580},{"$f":"データ畑!M6","v":576},{"$f":"データ畑!N6","v":551},{"$f":"データ畑!O6","v":550},{"$f":"データ畑!P6","v":549},{"$f":"データ畑!Q6","v":549},{"$f":"データ畑!R6","v":547},{"$f":"データ畑!S6","v":527},{"$f":"データ畑!T6","v":507},{"$f":"データ畑!U6","v":492},{"$f":"データ畑!V6","v":477},{"$f":"データ畑!W6","v":465},{"$f":"データ畑!X6","v":461}]
[null,150,"相模原市",{"$f":"データ畑!J7","v":1530},{"$f":"データ畑!K7","v":1520},{"$f":"データ畑!L7","v":1510},{"$f":"データ畑!M7","v":1490},{"$f":"データ畑!N7","v":1500},{"$f":"データ畑!O7","v":1490},{"$f":"データ畑!P7","v":1470},{"$f":"データ畑!Q7","v":1450},{"$f":"データ畑!R7","v":1430},{"$f":"データ畑!S7","v":1400},{"$f":"データ畑!T7","v":1360},{"$f":"データ畑!U7","v":1340},{"$f":"データ畑!V7","v":1330},{"$f":"データ畑!W7","v":1320},{"$f":"データ畑!X7","v":1310}]
[null,201,"横須賀市",{"$f":"データ畑!J8","v":531},{"$f":"データ畑!K8","v":530},{"$f":"データ畑!L8","v":529},{"$f":"データ畑!M8","v":529},{"$f":"データ畑!N8","v":527},{"$f":"データ畑!O8","v":524},{"$f":"データ畑!P8","v":524},{"$f":"データ畑!Q8","v":523},{"$f":"データ畑!R8","v":521},{"$f":"データ畑!S8","v":515},{"$f":"データ畑!T8","v":507},{"$f":"データ畑!U8","v":504},{"$f":"データ畑!V8","v":502},{"$f":"データ畑!W8","v":501},{"$f":"データ畑!X8","v":491}]
[null,203,"平塚市",{"$f":"データ畑!J9","v":766},{"$f":"データ畑!K9","v":766},{"$f":"データ畑!L9","v":764},{"$f":"データ畑!M9","v":761},{"$f":"データ畑!N9","v":752},{"$f":"データ畑!O9","v":749},{"$f":"データ畑!P9","v":740},{"$f":"データ畑!Q9","v":738},{"$f":"データ畑!R9","v":732},{"$f":"データ畑!S9","v":727},{"$f":"データ畑!T9","v":718},{"$f":"データ畑!U9","v":714},{"$f":"データ畑!V9","v":710},{"$f":"データ畑!W9","v":705},{"$f":"データ畑!X9","v":699}]
[null,204,"鎌倉市",{"$f":"データ畑!J10","v":109},{"$f":"データ畑!K10","v":108},{"$f":"データ畑!L10","v":108},{"$f":"データ畑!M10","v":106},{"$f":"データ畑!N10","v":104},{"$f":"データ畑!O10","v":104},{"$f":"データ畑!P10","v":103},{"$f":"データ畑!Q10","v":102},{"$f":"データ畑!R10","v":101},{"$f":"データ畑!S10","v":99},{"$f":"データ畑!T10","v":98},{"$f":"データ畑!U10","v":96},{"$f":"データ畑!V10","v":95},{"$f":"データ畑!W10","v":92},{"$f":"データ畑!X10","v":91}]
[null,205,"藤沢市",{"$f":"データ畑!J11","v":807},{"$f":"データ畑!K11","v":799},{"$f":"データ畑!L11","v":791},{"$f":"データ畑!M11","v":784},{"$f":"データ畑!N11","v":765},{"$f":"データ畑!O11","v":765},{"$f":"データ畑!P11","v":765},{"$f":"データ畑!Q11","v":763},{"$f":"データ畑!R11","v":761},{"$f":"データ畑!S11","v":748},{"$f":"データ畑!T11","v":736},{"$f":"データ畑!U11","v":729},{"$f":"データ畑!V11","v":727},{"$f":"データ畑!W11","v":718},{"$f":"データ畑!X11","v":713}]
[null,206,"小田原市",{"$f":"データ畑!J12","v":1360},{"$f":"データ畑!K12","v":1360},{"$f":"データ畑!L12","v":1340},{"$f":"データ畑!M12","v":1330},{"$f":"データ畑!N12","v":1320},{"$f":"データ畑!O12","v":1320},{"$f":"データ畑!P12","v":1310},{"$f":"データ畑!Q12","v":1310},{"$f":"データ畑!R12","v":1300},{"$f":"データ畑!S12","v":1300},{"$f":"データ畑!T12","v":1290},{"$f":"データ畑!U12","v":1280},{"$f":"データ畑!V12","v":1280},{"$f":"データ畑!W12","v":1270},{"$f":"データ畑!X12","v":1260}]
[null,207,"茅ヶ崎市",{"$f":"データ畑!J13","v":323},{"$f":"データ畑!K13","v":323},{"$f":"データ畑!L13","v":320},{"$f":"データ畑!M13","v":315},{"$f":"データ畑!N13","v":306},{"$f":"データ畑!O13","v":306},{"$f":"データ畑!P13","v":306},{"$f":"データ畑!Q13","v":305},{"$f":"データ畑!R13","v":303},{"$f":"データ畑!S13","v":295},{"$f":"データ畑!T13","v":285},{"$f":"データ畑!U13","v":273},{"$f":"データ畑!V13","v":272},{"$f":"データ畑!W13","v":267},{"$f":"データ畑!X13","v":261}]
[null,208,"逗子市",{"$f":"データ畑!J14","v":9},{"$f":"データ畑!K14","v":9},{"$f":"データ畑!L14","v":9},{"$f":"データ畑!M14","v":9},{"$f":"データ畑!N14","v":7},{"$f":"データ畑!O14","v":7},{"$f":"データ畑!P14","v":7},{"$f":"データ畑!Q14","v":7},{"$f":"データ畑!R14","v":7},{"$f":"データ畑!S14","v":6},{"$f":"データ畑!T14","v":6},{"$f":"データ畑!U14","v":6},{"$f":"データ畑!V14","v":6},{"$f":"データ畑!W14","v":6},{"$f":"データ畑!X14","v":6}]
[null,210,"三浦市",{"$f":"データ畑!J15","v":1190},{"$f":"データ畑!K15","v":1190},{"$f":"データ畑!L15","v":1190},{"$f":"データ畑!M15","v":1190},{"$f":"データ畑!N15","v":1190},{"$f":"データ畑!O15","v":1190},{"$f":"データ畑!P15","v":1190},{"$f":"データ畑!Q15","v":1190},{"$f":"データ畑!R15","v":1190},{"$f":"データ畑!S15","v":1190},{"$f":"データ畑!T15","v":1180},{"$f":"データ畑!U15","v":1180},{"$f":"データ畑!V15","v":1180},{"$f":"データ畑!W15","v":1180},{"$f":"データ畑!X15","v":1180}]
[null,211,"秦野市",{"$f":"データ畑!J16","v":1090},{"$f":"データ畑!K16","v":1080},{"$f":"データ畑!L16","v":1050},{"$f":"データ畑!M16","v":1030},{"$f":"データ畑!N16","v":1030},{"$f":"データ畑!O16","v":1020},{"$f":"データ畑!P16","v":1010},{"$f":"データ畑!Q16","v":999},{"$f":"データ畑!R16","v":990},{"$f":"データ畑!S16","v":979},{"$f":"データ畑!T16","v":962},{"$f":"データ畑!U16","v":950},{"$f":"データ畑!V16","v":932},{"$f":"データ畑!W16","v":916},{"$f":"データ畑!X16","v":910}]
[null,212,"厚木市",{"$f":"データ畑!J17","v":683},{"$f":"データ畑!K17","v":678},{"$f":"データ畑!L17","v":669},{"$f":"データ畑!M17","v":654},{"$f":"データ畑!N17","v":652},{"$f":"データ畑!O17","v":648},{"$f":"データ畑!P17","v":645},{"$f":"データ畑!Q17","v":637},{"$f":"データ畑!R17","v":632},{"$f":"データ畑!S17","v":622},{"$f":"データ畑!T17","v":602},{"$f":"データ畑!U17","v":592},{"$f":"データ畑!V17","v":591},{"$f":"データ畑!W17","v":589},{"$f":"データ畑!X17","v":585}]
[null,213,"大和市",{"$f":"データ畑!J18","v":213},{"$f":"データ畑!K18","v":212},{"$f":"データ畑!L18","v":211},{"$f":"データ畑!M18","v":210},{"$f":"データ畑!N18","v":204},{"$f":"データ畑!O18","v":202},{"$f":"データ畑!P18","v":200},{"$f":"データ畑!Q18","v":198},{"$f":"データ畑!R18","v":196},{"$f":"データ畑!S18","v":189},{"$f":"データ畑!T18","v":185},{"$f":"データ畑!U18","v":184},{"$f":"データ畑!V18","v":180},{"$f":"データ畑!W18","v":169},{"$f":"データ畑!X18","v":168}]
[null,214,"伊勢原市",{"$f":"データ畑!J19","v":725},{"$f":"データ畑!K19","v":722},{"$f":"データ畑!L19","v":718},{"$f":"データ畑!M19","v":712},{"$f":"データ畑!N19","v":704},{"$f":"データ畑!O19","v":701},{"$f":"データ畑!P19","v":696},{"$f":"データ畑!Q19","v":692},{"$f":"データ畑!R19","v":689},{"$f":"データ畑!S19","v":687},{"$f":"データ畑!T19","v":681},{"$f":"データ畑!U19","v":678},{"$f":"データ畑!V19","v":671},{"$f":"データ畑!W19","v":664},{"$f":"データ畑!X19","v":662}]
[null,215,"海老名市",{"$f":"データ畑!J20","v":305},{"$f":"データ畑!K20","v":304},{"$f":"データ畑!L20","v":303},{"$f":"データ畑!M20","v":301},{"$f":"データ畑!N20","v":295},{"$f":"データ畑!O20","v":293},{"$f":"データ畑!P20","v":293},{"$f":"データ畑!Q20","v":292},{"$f":"データ畑!R20","v":281},{"$f":"データ畑!S20","v":276},{"$f":"データ畑!T20","v":270},{"$f":"データ畑!U20","v":268},{"$f":"データ畑!V20","v":263},{"$f":"データ畑!W20","v":251},{"$f":"データ畑!X20","v":250}]
[null,216,"座間市",{"$f":"データ畑!J21","v":137},{"$f":"データ畑!K21","v":137},{"$f":"データ畑!L21","v":137},{"$f":"データ畑!M21","v":136},{"$f":"データ畑!N21","v":130},{"$f":"データ畑!O21","v":129},{"$f":"データ畑!P21","v":128},{"$f":"データ畑!Q21","v":126},{"$f":"データ畑!R21","v":124},{"$f":"データ畑!S21","v":121},{"$f":"データ畑!T21","v":118},{"$f":"データ畑!U21","v":116},{"$f":"データ畑!V21","v":114},{"$f":"データ畑!W21","v":112},{"$f":"データ畑!X21","v":112}]
[null,217,"南足柄市",{"$f":"データ畑!J22","v":496},{"$f":"データ畑!K22","v":496},{"$f":"データ畑!L22","v":493},{"$f":"データ畑!M22","v":492},{"$f":"データ畑!N22","v":494},{"$f":"データ畑!O22","v":490},{"$f":"データ畑!P22","v":490},{"$f":"データ畑!Q22","v":490},{"$f":"データ畑!R22","v":489},{"$f":"データ畑!S22","v":488},{"$f":"データ畑!T22","v":487},{"$f":"データ畑!U22","v":486},{"$f":"データ畑!V22","v":487},{"$f":"データ畑!W22","v":486},{"$f":"データ畑!X22","v":485}]
[null,218,"綾瀬市",{"$f":"データ畑!J23","v":255},{"$f":"データ畑!K23","v":254},{"$f":"データ畑!L23","v":254},{"$f":"データ畑!M23","v":253},{"$f":"データ畑!N23","v":245},{"$f":"データ畑!O23","v":244},{"$f":"データ畑!P23","v":236},{"$f":"データ畑!Q23","v":231},{"$f":"データ畑!R23","v":228},{"$f":"データ畑!S23","v":227},{"$f":"データ畑!T23","v":224},{"$f":"データ畑!U23","v":221},{"$f":"データ畑!V23","v":217},{"$f":"データ畑!W23","v":216},{"$f":"データ畑!X23","v":214}]
[null,301,"葉山町",{"$f":"データ畑!J24","v":35},{"$f":"データ畑!K24","v":35},{"$f":"データ畑!L24","v":35},{"$f":"データ畑!M24","v":34},{"$f":"データ畑!N24","v":33},{"$f":"データ畑!O24","v":33},{"$f":"データ畑!P24","v":32},{"$f":"データ畑!Q24","v":32},{"$f":"データ畑!R24","v":32},{"$f":"データ畑!S24","v":30},{"$f":"データ畑!T24","v":29},{"$f":"データ畑!U24","v":29},{"$f":"データ畑!V24","v":29},{"$f":"データ畑!W24","v":29},{"$f":"データ畑!X24","v":29}]
[null,321,"寒川町",{"$f":"データ畑!J25","v":174},{"$f":"データ畑!K25","v":171},{"$f":"データ畑!L25","v":169},{"$f":"データ畑!M25","v":169},{"$f":"データ畑!N25","v":166},{"$f":"データ畑!O25","v":165},{"$f":"データ畑!P25","v":164},{"$f":"データ畑!Q25","v":162},{"$f":"データ畑!R25","v":160},{"$f":"データ畑!S25","v":157},{"$f":"データ畑!T25","v":154},{"$f":"データ畑!U25","v":152},{"$f":"データ畑!V25","v":152},{"$f":"データ畑!W25","v":151},{"$f":"データ畑!X25","v":152}]
[null,341,"大磯町",{"$f":"データ畑!J26","v":248},{"$f":"データ畑!K26","v":248},{"$f":"データ畑!L26","v":246},{"$f":"データ畑!M26","v":246},{"$f":"データ畑!N26","v":244},{"$f":"データ畑!O26","v":244},{"$f":"データ畑!P26","v":244},{"$f":"データ畑!Q26","v":244},{"$f":"データ畑!R26","v":243},{"$f":"データ畑!S26","v":240},{"$f":"データ畑!T26","v":237},{"$f":"データ畑!U26","v":237},{"$f":"データ畑!V26","v":236},{"$f":"データ畑!W26","v":235},{"$f":"データ畑!X26","v":235}]
[null,342,"二宮町",{"$f":"データ畑!J27","v":128},{"$f":"データ畑!K27","v":128},{"$f":"データ畑!L27","v":126},{"$f":"データ畑!M27","v":122},{"$f":"データ畑!N27","v":118},{"$f":"データ畑!O27","v":118},{"$f":"データ畑!P27","v":118},{"$f":"データ畑!Q27","v":117},{"$f":"データ畑!R27","v":116},{"$f":"データ畑!S27","v":115},{"$f":"データ畑!T27","v":112},{"$f":"データ畑!U27","v":110},{"$f":"データ畑!V27","v":109},{"$f":"データ畑!W27","v":107},{"$f":"データ畑!X27","v":106}]
[null,361,"中井町",{"$f":"データ畑!J28","v":447},{"$f":"データ畑!K28","v":437},{"$f":"データ畑!L28","v":433},{"$f":"データ畑!M28","v":431},{"$f":"データ畑!N28","v":412},{"$f":"データ畑!O28","v":409},{"$f":"データ畑!P28","v":408},{"$f":"データ畑!Q28","v":403},{"$f":"データ畑!R28","v":401},{"$f":"データ畑!S28","v":394},{"$f":"データ畑!T28","v":389},{"$f":"データ畑!U28","v":385},{"$f":"データ畑!V28","v":381},{"$f":"データ畑!W28","v":377},{"$f":"データ畑!X28","v":376}]
[null,362,"大井町",{"$f":"データ畑!J29","v":235},{"$f":"データ畑!K29","v":235},{"$f":"データ畑!L29","v":235},{"$f":"データ畑!M29","v":235},{"$f":"データ畑!N29","v":232},{"$f":"データ畑!O29","v":230},{"$f":"データ畑!P29","v":230},{"$f":"データ畑!Q29","v":229},{"$f":"データ畑!R29","v":228},{"$f":"データ畑!S29","v":227},{"$f":"データ畑!T29","v":221},{"$f":"データ畑!U29","v":219},{"$f":"データ畑!V29","v":219},{"$f":"データ畑!W29","v":218},{"$f":"データ畑!X29","v":217}]
[null,363,"松田町",{"$f":"データ畑!J30","v":151},{"$f":"データ畑!K30","v":151},{"$f":"データ畑!L30","v":150},{"$f":"データ畑!M30","v":150},{"$f":"データ畑!N30","v":150},{"$f":"データ畑!O30","v":150},{"$f":"データ畑!P30","v":150},{"$f":"データ畑!Q30","v":148},{"$f":"データ畑!R30","v":142},{"$f":"データ畑!S30","v":136},{"$f":"データ畑!T30","v":131},{"$f":"データ畑!U30","v":131},{"$f":"データ畑!V30","v":130},{"$f":"データ畑!W30","v":129},{"$f":"データ畑!X30","v":127}]
[null,364,"山北町",{"$f":"データ畑!J31","v":369},{"$f":"データ畑!K31","v":369},{"$f":"データ畑!L31","v":368},{"$f":"データ畑!M31","v":367},{"$f":"データ畑!N31","v":366},{"$f":"データ畑!O31","v":364},{"$f":"データ畑!P31","v":358},{"$f":"データ畑!Q31","v":281},{"$f":"データ畑!R31","v":280},{"$f":"データ畑!S31","v":279},{"$f":"データ畑!T31","v":263},{"$f":"データ畑!U31","v":260},{"$f":"データ畑!V31","v":255},{"$f":"データ畑!W31","v":251},{"$f":"データ畑!X31","v":248}]
[null,366,"開成町",{"$f":"データ畑!J32","v":29},{"$f":"データ畑!K32","v":29},{"$f":"データ畑!L32","v":29},{"$f":"データ畑!M32","v":31},{"$f":"データ畑!N32","v":31},{"$f":"データ畑!O32","v":31},{"$f":"データ畑!P32","v":31},{"$f":"データ畑!Q32","v":31},{"$f":"データ畑!R32","v":31},{"$f":"データ畑!S32","v":31},{"$f":"データ畑!T32","v":30},{"$f":"データ畑!U32","v":29},{"$f":"データ畑!V32","v":29},{"$f":"データ畑!W32","v":29},{"$f":"データ畑!X32","v":29}]
[null,382,"箱根町",{"$f":"データ畑!J33","v":8},{"$f":"データ畑!K33","v":8},{"$f":"データ畑!L33","v":8},{"$f":"データ畑!M33","v":8},{"$f":"データ畑!N33","v":8},{"$f":"データ畑!O33","v":7},{"$f":"データ畑!P33","v":7},{"$f":"データ畑!Q33","v":7},{"$f":"データ畑!R33","v":7},{"$f":"データ畑!S33","v":7},{"$f":"データ畑!T33","v":6},{"$f":"データ畑!U33","v":6},{"$f":"データ畑!V33","v":6},{"$f":"データ畑!W33","v":6},{"$f":"データ畑!X33","v":6}]
[null,383,"真鶴町",{"$f":"データ畑!J34","v":52},{"$f":"データ畑!K34","v":52},{"$f":"データ畑!L34","v":50},{"$f":"データ畑!M34","v":50},{"$f":"データ畑!N34","v":49},{"$f":"データ畑!O34","v":49},{"$f":"データ畑!P34","v":48},{"$f":"データ畑!Q34","v":46},{"$f":"データ畑!R34","v":45},{"$f":"データ畑!S34","v":44},{"$f":"データ畑!T34","v":41},{"$f":"データ畑!U34","v":35},{"$f":"データ畑!V34","v":34},{"$f":"データ畑!W34","v":33},{"$f":"データ畑!X34","v":33}]
[null,384,"湯河原町",{"$f":"データ畑!J35","v":253},{"$f":"データ畑!K35","v":252},{"$f":"データ畑!L35","v":248},{"$f":"データ畑!M35","v":244},{"$f":"データ畑!N35","v":243},{"$f":"データ畑!O35","v":242},{"$f":"データ畑!P35","v":241},{"$f":"データ畑!Q35","v":238},{"$f":"データ畑!R35","v":232},{"$f":"データ畑!S35","v":217},{"$f":"データ畑!T35","v":215},{"$f":"データ畑!U35","v":209},{"$f":"データ畑!V35","v":206},{"$f":"データ畑!W35","v":202},{"$f":"データ畑!X35","v":202}]
[null,401,"愛川町",{"$f":"データ畑!J36","v":271},{"$f":"データ畑!K36","v":271},{"$f":"データ畑!L36","v":271},{"$f":"データ畑!M36","v":261},{"$f":"データ畑!N36","v":254},{"$f":"データ畑!O36","v":243},{"$f":"データ畑!P36","v":242},{"$f":"データ畑!Q36","v":239},{"$f":"データ畑!R36","v":237},{"$f":"データ畑!S36","v":228},{"$f":"データ畑!T36","v":219},{"$f":"データ畑!U36","v":215},{"$f":"データ畑!V36","v":213},{"$f":"データ畑!W36","v":211},{"$f":"データ畑!X36","v":209}]
[null,402,"清川村",{"$f":"データ畑!J37","v":39},{"$f":"データ畑!K37","v":39},{"$f":"データ畑!L37","v":39},{"$f":"データ畑!M37","v":39},{"$f":"データ畑!N37","v":39},{"$f":"データ畑!O37","v":39},{"$f":"データ畑!P37","v":39},{"$f":"データ畑!Q37","v":39},{"$f":"データ畑!R37","v":39},{"$f":"データ畑!S37","v":39},{"$f":"データ畑!T37","v":34},{"$f":"データ畑!U37","v":32},{"$f":"データ畑!V37","v":32},{"$f":"データ畑!W37","v":32},{"$f":"データ畑!X37","v":32}]
[null,null,"神奈川県",{"$f":"データ畑!J3","v":16400},{"$f":"データ畑!K3","v":16300},{"$f":"データ畑!L3","v":16200},{"$f":"データ畑!M3","v":16000},{"$f":"データ畑!N3","v":15800},{"$f":"データ畑!O3","v":15700},{"$f":"データ畑!P3","v":15700},{"$f":"データ畑!Q3","v":15500},{"$f":"データ畑!R3","v":15400},{"$f":"データ畑!S3","v":15100},{"$f":"データ畑!T3","v":14800},{"$f":"データ畑!U3","v":14600},{"$f":"データ畑!V3","v":14500},{"$f":"データ畑!W3","v":14400},{"$f":"データ畑!X3","v":14300}]
[{"$nulls":3},{"$f":"D1","v":2010},2011,2012,2013,2014,2015,2016,2017,2018,2019,2020,2021,2022,2023,2024]
[null,null,"神奈川県",{"$f":"_xlfn.XLOOKUP($C$37,$C2:$C35,D$2:D$35)","v":16400},16300,16200,16000,15800,15700,15700,15500,15400,15100,14800,14600,14500,14400,14300]

{"sheet":"グラフ","index":26,"n_rows":32,"n_cols":18,"rows_kept":32}
[{"$nulls":3},"↓こちらのタブからご覧になりたい（県）市町村を選択してください。"]
[{"$nulls":3},"神奈川県"]
[null,"(ha）"]
{"$rows_empty":22}
[{"$nulls":17},"(ha)"]
[]
[null,null,"年",{"$f":"'グラフ田 '!D1","v":2010},{"$f":"'グラフ田 '!E1","v":2011},{"$f":"'グラフ田 '!F1","v":2012},{"$f":"'グラフ田 '!G1","v":2013},{"$f":"'グラフ田 '!H1","v":2014},{"$f":"'グラフ田 '!I1","v":2015},{"$f":"'グラフ田 '!J1","v":2016},{"$f":"'グラフ田 '!K1","v":2017},{"$f":"'グラフ田 '!L1","v":2018},{"$f":"'グラフ田 '!M1","v":2019},{"$f":"'グラフ田 '!N1","v":2020},{"$f":"'グラフ田 '!O1","v":2021},{"$f":"'グラフ田 '!P1","v":2022},{"$f":"'グラフ田 '!Q1","v":2023},{"$f":"'グラフ田 '!R1","v":2024}]
[null,{"$f":"D2","v":"神奈川県"},"田",{"$f":"_xlfn.XLOOKUP($D$2,'グラフ田 '!$C2:$C35,'グラフ田 '!D$2:D$35)","v":{"v":4030,"d":"4,030 "}},{"$f":"_xlfn.XLOOKUP($D$2,'グラフ田 '!$C2:$C35,'グラフ田 '!E$2:E$35)","v":{"v":3990,"d":"3,990 "}},{"$f":"_xlfn.XLOOKUP($D$2,'グラフ田 '!$C2:$C35,'グラフ田 '!F$2:F$35)","v":{"v":3970,"d":"3,970 "}},{"$f":"_xlfn.XLOOKUP($D$2,'グラフ田 '!$C2:$C35,'グラフ田 '!G$2:G$35)","v":{"v":3920,"d":"3,920 "}},{"$f":"_xlfn.XLOOKUP($D$2,'グラフ田 '!$C2:$C35,'グラフ田 '!H$2:H$35)","v":{"v":3890,"d":"3,890 "}},{"$f":"_xlfn.XLOOKUP($D$2,'グラフ田 '!$C2:$C35,'グラフ田 '!I$2:I$35)","v":{"v":3850,"d":"3,850 "}},{"$f":"_xlfn.XLOOKUP($D$2,'グラフ田 '!$C2:$C35,'グラフ田 '!J$2:J$35)","v":{"v":3790,"d":"3,790 "}},{"$f":"_xlfn.XLOOKUP($D$2,'グラフ田 '!$C2:$C35,'グラフ田 '!K$2:K$35)","v":{"v":3760,"d":"3,760 "}},{"$f":"_xlfn.XLOOKUP($D$2,'グラフ田 '!$C2:$C35,'グラフ田 '!L$2:L$35)","v":{"v":3730,"d":"3,730 "}},{"$f":"_xlfn.XLOOKUP($D$2,'グラフ田 '!$C2:$C35,'グラフ田 '!M$2:M$35)","v":{"v":3670,"d":"3,670 "}},{"$f":"_xlfn.XLOOKUP($D$2,'グラフ田 '!$C2:$C35,'グラフ田 '!N$2:N$35)","v":{"v":3610,"d":"3,610 "}},{"$f":"_xlfn.XLOOKUP($D$2,'グラフ田 '!$C2:$C35,'グラフ田 '!O$2:O$35)","v":{"v":3530,"d":"3,530 "}},{"$f":"_xlfn.XLOOKUP($D$2,'グラフ田 '!$C2:$C35,'グラフ田 '!P$2:P$35)","v":{"v":3490,"d":"3,490 "}},{"$f":"_xlfn.XLOOKUP($D$2,'グラフ田 '!$C2:$C35,'グラフ田 '!Q$2:Q$35)","v":{"v":3470,"d":"3,470 "}},{"$f":"_xlfn.XLOOKUP($D$2,'グラフ田 '!$C2:$C35,'グラフ田 '!R$2:R$35)","v":{"v":3460,"d":"3,460 "}}]
[null,null,"畑",{"$f":"_xlfn.XLOOKUP($D$2,グラフ畑!$C2:$C35,グラフ畑!D$2:D$35)","v":{"v":16400,"d":"16,400 "}},{"$f":"_xlfn.XLOOKUP($D$2,グラフ畑!$C2:$C35,グラフ畑!E$2:E$35)","v":{"v":16300,"d":"16,300 "}},{"$f":"_xlfn.XLOOKUP($D$2,グラフ畑!$C2:$C35,グラフ畑!F$2:F$35)","v":{"v":16200,"d":"16,200 "}},{"$f":"_xlfn.XLOOKUP($D$2,グラフ畑!$C2:$C35,グラフ畑!G$2:G$35)","v":{"v":16000,"d":"16,000 "}},{"$f":"_xlfn.XLOOKUP($D$2,グラフ畑!$C2:$C35,グラフ畑!H$2:H$35)","v":{"v":15800,"d":"15,800 "}},{"$f":"_xlfn.XLOOKUP($D$2,グラフ畑!$C2:$C35,グラフ畑!I$2:I$35)","v":{"v":15700,"d":"15,700 "}},{"$f":"_xlfn.XLOOKUP($D$2,グラフ畑!$C2:$C35,グラフ畑!J$2:J$35)","v":{"v":15700,"d":"15,700 "}},{"$f":"_xlfn.XLOOKUP($D$2,グラフ畑!$C2:$C35,グラフ畑!K$2:K$35)","v":{"v":15500,"d":"15,500 "}},{"$f":"_xlfn.XLOOKUP($D$2,グラフ畑!$C2:$C35,グラフ畑!L$2:L$35)","v":{"v":15400,"d":"15,400 "}},{"$f":"_xlfn.XLOOKUP($D$2,グラフ畑!$C2:$C35,グラフ畑!M$2:M$35)","v":{"v":15100,"d":"15,100 "}},{"$f":"_xlfn.XLOOKUP($D$2,グラフ畑!$C2:$C35,グラフ畑!N$2:N$35)","v":{"v":14800,"d":"14,800 "}},{"$f":"_xlfn.XLOOKUP($D$2,グラフ畑!$C2:$C35,グラフ畑!O$2:O$35)","v":{"v":14600,"d":"14,600 "}},{"$f":"_xlfn.XLOOKUP($D$2,グラフ畑!$C2:$C35,グラフ畑!P$2:P$35)","v":{"v":14500,"d":"14,500 "}},{"$f":"_xlfn.XLOOKUP($D$2,グラフ畑!$C2:$C35,グラフ畑!Q$2:Q$35)","v":{"v":14400,"d":"14,400 "}},{"$f":"_xlfn.XLOOKUP($D$2,グラフ畑!$C2:$C35,グラフ畑!R$2:R$35)","v":{"v":14300,"d":"14,300 "}}]
[null,null,"調査の概要、利用上の注意",{"$nulls":4},"10年前の2014年から田は、",null,null,{"$f":"H29-R29","v":{"v":430,"d":"430ha"}},"減少","5年前2019年から",null,"田は、",{"$f":"M29-R29","v":{"v":210,"d":"210ha"}},"減少"]
[null,"出典：","面積調査：農林水産省",{"$nulls":4},"10年前の2014年から畑は、",null,null,{"$f":"H30-R30","v":{"v":1500,"d":"1500ha"}},"減少","5年前2019年から",null,"畑は、",{"$f":"M30-R30","v":{"v":800,"d":"800ha"}},"減少"]