Workbook
Name _Order1: 255

Sheet グラフ
G25: 農業産出額のピークは1985年で3,517億円
B27: 主な政策（農林水産省 農村振興局 「農村制裁を中心とした戦後農政の流れ」参照 | S27: 2007年品目横断的経営安定対策
B28: 1961年農業基本法 | Q28: 2000年食料・農業・農村基本計画 | W28: 2020年食料・農業・農村基本計画
D29: 1969年新規開田の抑制 | J29: 1980年農用地利用促進法 | R29: 2005年食料・農業・農村基本計画
G30: 1970年農地法改正 | L30: 1986年21世紀へ向けての農政の基本方向 | T30: 2010年食料・農業・農村基本計画・農業者戸別所得補償
V31: 2015年食料・農業・農村基本計画
W68: ：シェア最大
Y92: 単位：億円
B93: 年 | C93: 1960 | D93: 1961 | E93: 1962 | F93: 1963 | G93: 1964 | H93: 1965 | I93: 1966 | J93: 1967 | K93: 1968 | L93: 1969 | M93: 1970 | N93: 1971 | O93: 1972 | P93: 1973 | Q93: 1974 | R93: 1975 | S93: 1976 | T93: 1977 | U93: 1978 | V93: 1979 | W93: 1980 | X93: 1981 | Y93: 1982 | Z93: 1983
B94: 米 | C94: 248 | D94: 285 | E94: 309 | F94: 330 | G94: 368 | H94: 369 | I94: 444 | J94: 514 | K94: 545 | L94: 520 | M94: 489 | N94: 441 | O94: 474 | P94: 575 | Q94: 695 | R94: 941 | S94: 864 | T94: 1048 | U94: 939 | V94: 902 | W94: 772 | X94: 819 | Y94: 698 | Z94: 826
B95: 野菜 | C95: 38 | D95: 70 | E95: 79 | F95: 97 | G95: 116 | H95: 107 | I95: 146 | J95: 189 | K95: 194 | L95: 243 | M95: 290 | N95: 294 | O95: 346 | P95: 462 | Q95: 571 | R95: 677 | S95: 730 | T95: 659 | U95: 701 | V95: 671 | W95: 736 | X95: 735 | Y95: 839 | Z95: 835
B96: 果実 | C96: 77 | D96: 83 | E96: 99 | F96: 100 | G96: 141 | H96: 115 | I96: 144 | J96: 155 | K96: 142 | L96: 171 | M96: 188 | N96: 177 | O96: 200 | P96: 251 | Q96: 294 | R96: 399 | S96: 409 | T96: 479 | U96: 536 | V96: 574 | W96: 587 | X96: 640 | Y96: 560 | Z96: 563
B97: 花き | C97: 6 | D97: 6 | E97: 7 | F97: 7 | G97: 9 | H97: 11 | I97: 12 | J97: 14 | K97: 15 | L97: 18 | M97: 27 | N97: 29 | O97: 35 | P97: 43 | Q97: 58 | R97: 70 | S97: 72 | T97: 78 | U97: 99 | V97: 106 | W97: 117 | X97: 116 | Y97: 129 | Z97: 142
B98: 工芸 | C98: 14 | D98: 15 | E98: 18 | F98: 22 | G98: 26 | H98: 26 | I98: 30 | J98: 30 | K98: 30 | L98: 31 | M98: 30 | N98: 31 | O98: 33 | P98: 39 | Q98: 54 | R98: 62 | S98: 69 | T98: 72 | U98: 73 | V98: 72 | W98: 68 | X98: 61 | Y98: 66 | Z98: 73
B99: 加工 | C99: 3 | D99: 3 | E99: 2 | F99: 3 | G99: 3 | H99: 1 | I99: 2 | J99: 2 | K99: 2 | L99: 3 | M99: 3 | N99: 2 | O99: 5 | P99: 6 | Q99: 6 | R99: 8 | S99: 10 | T99: 9 | U99: 9 | V99: 11 | W99: 13 | X99: 13 | Y99: 7 | Z99: 10
B100: 畜産 | C100: 79 | D100: 102 | E100: 121 | F100: 134 | G100: 144 | H100: 163 | I100: 203 | J100: 217 | K100: 250 | L100: 280 | M100: 300 | N100: 337 | O100: 368 | P100: 412 | Q100: 500 | R100: 618 | S100: 660 | T100: 656 | U100: 652 | V100: 643 | W100: 660 | X100: 674 | Y100: 686 | Z100: 680
B101: その他 | C101: 154 | D101: 162 | E101: 165 | F101: 179 | G101: 146 | H101: 162 | I101: 198 | J101: 232 | K101: 201 | L101: 200 | M101: 217 | N101: 185 | O101: 188 | P101: 257 | Q101: 224 | R101: 228 | S101: 241 | T101: 233 | U101: 257 | V101: 256 | W101: 262 | X101: 234 | Y101: 231 | Z101: 206
B102: 計 | C102: 619 | D102: 726 | E102: 800 | F102: 872 | G102: 953 | H102: 954 | I102: 1179 | J102: 1353 | K102: 1379 | L102: 1466 | M102: 1544 | N102: 1496 | O102: 1649 | P102: 2045 | Q102: 2402 | R102: 3003 | S102: 3055 | T102: 3234 | U102: 3266 | V102: 3235 | W102: 3215 | X102: 3292 | Y102: 3216 | Z102: 3335
B104: 年 | C104: 1984 | D104: 1985 | E104: 1986 | F104: 1987 | G104: 1988 | H104: 1989 | I104: 1990 | J104: 1991 | K104: 1992 | L104: 1993 | M104: 1994 | N104: 1995 | O104: 1996 | P104: 1997 | Q104: 1998 | R104: 1999 | S104: 2000 | T104: 2001 | U104: 2002 | V104: 2003 | W104: 2004 | X104: 2005 | Y104: 2006 | Z104: 2007
B105: 米 | C105: 956 | D105: 938 | E105: 943 | F105: 881 | G105: 752 | H105: 802 | I105: 824 | J105: 823 | K105: 867 | L105: 741 | M105: 979 | N105: 815 | O105: 768 | P105: 668 | Q105: 605 | R105: 621 | S105: 596 | T105: 581 | U105: 566 | V105: 583 | W105: 545 | X105: 536 | Y105: 491 | Z105: 465
... B113: 計 | C113: 3347 | D113: 3517 | E113: 3289 | F113: 3245 | G113: 3186 | H113: 3264 | I113: 3404 | J113: 3521 | K113: 3219 | L113: 3199 | M113: 3290 | N113: 3047 | O113: 2870 | P113: 2773 | Q113: 2697 | R113: 2657 | S113: 2558 | T113: 2438 | U113: 2501 | V113: 2425 | W113: 2405 | X113: 2296 | Y113: 2322 | Z113: 2307
S114: シェア
B115: 年 | C115: 2008 | D115: 2009 | E115: 2010 | F115: 2011 | G115: 2012 | H115: 2013 | I115: 2014 | J115: 2015 | K115: 2016 | L115: 2017 | M115: 2018 | N115: 2019 | O115: 2020 | P115: 2021 | Q115: 2022 | R115: 2023 | S115: 1960 | T115: 1970 | U115: 1980 | V115: 1990 | W115: 2000 | X115: 2010 | Y115: 2020 | Z115: 2023
B116: 米 | C116: 490 | D116: 456 | E116: 428 | F116: 490 | G116: 513 | H116: 491 | I116: 402 | J116: 422 | K116: 454 | L116: 472 | M116: 473 | N116: 473 | O116: 413 | P116: 371 | Q116: 402 | R116: 426 | S116: =C94/619 -> 0.4006462 | T116: =M94/1544 -> 0.31670984 | U116: =W94/3215 -> 0.24012442 | V116: =I105/3404 -> 0.24206816 | W116: =S105/2558 -> 0.23299453 | X116: =E116/2243 -> 0.19081587 | Y116: =O116/2697 -> 0.15313311 | Z116: =R116/2890 -> 0.14740484
B117: 野菜 | C117: 687 | D117: 682 | E117: 785 | F117: 770 | G117: 682 | H117: 806 | I117: 837 | J117: 889 | K117: 897 | L117: 840 | M117: 905 | N117: 818 | O117: 891 | P117: 866 | Q117: 886 | R117: 957 | S117: =C95/619 -> 0.061389338 | T117: =M95/1544 -> 0.18782383 | U117: =W95/3215 -> 0.22892691 | V117: =I106/3404 -> 0.26380729 | W117: =S106/2558 -> 0.28029711 | X117: =E117/2243 -> 0.34997771 | Y117: =O117/2697 -> 0.33036707 | Z117: =R117/2890 -> 0.33114187
B118: 果実 | C118: 490 | D118: 449 | E118: 485 | F118: 482 | G118: 560 | H118: 515 | I118: 544 | J118: 558 | K118: 557 | L118: 625 | M118: 714 | N118: 743 | O118: 894 | P118: 870 | Q118: 904 | R118: 1000 | S118: =C96/619 -> 0.12439418 | T118: =M96/1544 -> 0.12176166 | U118: =W96/3215 -> 0.18258165 | V118: =I107/3404 -> 0.20916569 | W118: =S107/2558 -> 0.22634871 | X118: =E118/2243 -> 0.21622827 | Y118: =O118/2697 -> 0.33147942 | Z118: =R118/2890 -> 0.34602076
B119: 花き | C119: 159 | D119: 157 | E119: 161 | F119: 156 | G119: 153 | H119: 154 | I119: 144 | J119: 149 | K119: 150 | L119: 141 | M119: 138 | N119: 139 | O119: 132 | P119: 156 | Q119: 170 | R119: 163 | S119: =C97/619 -> 0.0096930533 | T119: =M97/1544 -> 0.017487047 | U119: =W97/3215 -> 0.036391913 | V119: =I108/3404 -> 0.066686251 | W119: =S108/2558 -> 0.078577013 | X119: =E119/2243 -> 0.071778868 | Y119: =O119/2697 -> 0.04894327 | Z119: =R119/2890 -> 0.056401384
B120: 工芸 | C120: 6 | D120: 5 | E120: 4 | F120: 4 | G120: 3 | H120: 3 | I120: 3 | J120: 3 | K120: 2 | L120: 2 | M120: 2 | N120: 1 | O120: 1 | P120: 1 | Q120: 1 | R120: 1 | S120: =C98/619 -> 0.022617124 | T120: =M98/1544 -> 0.019430052 | U120: =W98/3215 -> 0.021150855 | V120: =I109/3404 -> 0.0094007051 | W120: =S109/2558 -> 0.0050820954 | X120: =E120/2243 -> 0.0017833259 | Y120: =O120/2697 -> 0.00037078235 | Z120: =R120/2890 -> 0.00034602076
B121: 加工 | C121: 28 | D121: 27 | E121: 30 | F121: 31 | G121: 33 | H121: 29 | I121: 32 | J121: 32 | K121: 36 | L121: 30 | M121: 33 | N121: 34 | O121: 26 | P121: 29 | Q121: 18 | R121: 14 | S121: =C99/619 -> 0.0048465267 | T121: =M99/1544 -> 0.0019430052 | U121: =W99/3215 -> 0.0040435459 | V121: =I110/3404 -> 0.0032314924 | W121: =S110/2558 -> 0.010946052 | X121: =E121/2243 -> 0.013374944 | Y121: =O121/2697 -> 0.0096403411 | Z121: =R121/2890 -> 0.0048442907
B122: 畜産 | C122: 319 | D122: 290 | E122: 288 | F122: 277 | G122: 274 | H122: 286 | I122: 301 | J122: 308 | K122: 305 | L122: 300 | M122: 287 | N122: 279 | O122: 269 | P122: 262 | Q122: 262 | R122: 280 | S122: =C100/619 -> 0.1276252 | T122: =M100/1544 -> 0.19430052 | U122: =W100/3215 -> 0.20528771 | V122: =I111/3404 -> 0.16568743 | W122: =S111/2558 -> 0.13017983 | X122: =E122/2243 -> 0.12839947 | Y122: =O122/2697 -> 0.099740452 | Z122: =R122/2890 -> 0.096885813
B123: その他 | C123: 59 | D123: 64 | E123: 62 | F123: 58 | G123: 59 | H123: 63 | I123: 59 | J123: 59 | K123: 64 | L123: 65 | M123: 64 | N123: 69 | O123: 71 | P123: 69 | Q123: 65 | R123: 49 | S123: =C101/619 -> 0.24878837 | T123: =M101/1544 -> 0.14054404 | U123: =W101/3215 -> 0.081493002 | V123: =I112/3404 -> 0.039952996 | W123: =S112/2558 -> 0.035574668 | X123: =E123/2243 -> 0.027641551 | Y123: =O123/2697 -> 0.026325547 | Z123: =R123/2890 -> 0.016955017
B124: 計 | C124: 2238 | D124: 2130 | E124: 2243 | F124: 2268 | G124: 2277 | H124: 2347 | I124: 2322 | J124: 2420 | K124: 2465 | L124: 2475 | M124: 2616 | N124: 2556 | O124: 2697 | P124: 2624 | Q124: 2708 | R124: 2890
T125: 部門毎の１位年次を示す。
AC1048576: =AC1048568-AE1048568 -> 0

Sheet 長野県
A1: 生産農業所得統計
A2: 都道府県別生産農業所得統計累年統計
A4: 長野
A5: 年次 | B5: 農業産出額 | X5: 生産農業所得
B6: 計 | C6: 耕種 | N6: 畜産 | W6: 加工農産物
C7: 小計 | D7: 米 | E7: 麦類 | F7: 雑穀 | G7: 豆類 | H7: いも類 | I7: 野菜 | J7: 果実 | K7: 花き | L7: 工芸農作物 | M7: その他作物 | N7: 小計 | O7: 肉用牛 | P7: 乳用牛 | R7: 豚 | S7: 鶏 | U7: 養蚕 | V7: その他畜産物
Q8: 生乳 | T8: 鶏卵
B9: 億円 | C9: 億円 | D9: 億円 | E9: 億円 | F9: 億円 | G9: 億円 | H9: 億円 | I9: 億円 | J9: 億円 | K9: 億円 | L9: 億円 | M9: 億円 | N9: 億円 | O9: 億円 | P9: 億円 | Q9: 億円 | R9: 億円 | S9: 億円 | T9: 億円 | U9: 億円 | V9: 億円 | W9: 億円 | X9: 億円 | Z9: 年 | AA9: 米 | AB9: 野菜 | AC9: 果実 | AD9: 花き | AE9: 工芸 | AF9: 畜産 | AG9: その他 | AH9: 加工 | AI9: 計
A10: 昭.35(1960) | B10: 619 | C10: 447 | D10: 248 | E10: 61 | F10: … | G10: … | H10: … | I10: 38 | J10: 77 | K10: 6 | L10: 14 | M10: 4 | N10: 79 | O10: … | P10: … | Q10: … | R10: … | S10: … | T10: … | U10: 90 | V10: … | W10: 3 | X10: 385 | Z10: 1960 | AA10: =D10 -> 248 | AB10: =I10 -> 38 | AC10: =J10 -> 77 | AD10: =K10 -> 6 | AE10: =L10 -> 14 | AF10: =N10 -> 79 | AG10: =AI10-SUM(AA10:AF10) -> 157 | AH10: =W10 -> 3 | AI10: =B10 -> 619
A11: 昭.36(1961) | B11: 726 | C11: 527 | D11: 285 | E11: 34 | F11: … | G11: 30 | H11: … | I11: 70 | J11: 83 | K11: 6 | L11: 15 | M11: 4 | N11: 102 | O11: … | P11: … | Q11: … | R11: … | S11: … | T11: … | U11: 94 | V11: … | W11: 3 | X11: 447 | Z11: 1961 | AA11: =D11 -> 285 | AB11: =I11 -> 70 | AC11: =J11 -> 83 | AD11: =K11 -> 6 | AE11: =L11 -> 15 | AF11: =N11 -> 102 | AG11: =AI11-SUM(AA11:AF11) -> 165 | AH11: =W11 -> 3 | AI11: =B11 -> 726
A12: 昭.37(1962) | B12: 800 | C12: 575 | D12: 309 | E12: 26 | F12: … | G12: 18 | H12: 16 | I12: 79 | J12: 99 | K12: 7 | L12: 18 | M12: 4 | N12: 121 | O12: … | P12: … | Q12: … | R12: … | S12: … | T12: … | U12: 102 | V12: … | W12: 2 | X12: 475 | Z12: 1962 | AA12: =D12 -> 309 | AB12: =I12 -> 79 | AC12: =J12 -> 99 | AD12: =K12 -> 7 | AE12: =L12 -> 18 | AF12: =N12 -> 121 | AG12: =AI12-SUM(AA12:AF12) -> 167 | AH12: =W12 -> 2 | AI12: =B12 -> 800
A13: 昭.38(1963) | B13: 872 | C13: 615 | D13: 330 | E13: 16 | F13: … | G13: 17 | H13: 19 | I13: 97 | J13: 100 | K13: 7 | L13: 22 | M13: 7 | N13: 134 | O13: … | P13: … | Q13: … | R13: … | S13: … | T13: … | U13: 120 | V13: … | W13: 3 | X13: 492 | Z13: 1963 | AA13: =D13 -> 330 | AB13: =I13 -> 97 | AC13: =J13 -> 100 | AD13: =K13 -> 7 | AE13: =L13 -> 22 | AF13: =N13 -> 134 | AG13: =AI13-SUM(AA13:AF13) -> 182 | AH13: =W13 -> 3 | AI13: =B13 -> 872
A14: 昭.39(1964) | B14: 953 | C14: 713 | D14: 368 | E14: 18 | F14: … | G14: 17 | H14: 11 | I14: 116 | J14: 141 | K14: 9 | L14: 26 | M14: 7 | N14: 144 | O14: 11 | P14: 49 | Q14: … | R14: 35 | S14: 40 | T14: … | U14: 93 | V14: 8 | W14: 3 | X14: 540 | Z14: 1964 | AA14: =D14 -> 368 | AB14: =I14 -> 116 | AC14: =J14 -> 141 | AD14: =K14 -> 9 | AE14: =L14 -> 26 | AF14: =N14 -> 144 | AG14: =AI14-SUM(AA14:AF14) -> 149 | AH14: =W14 -> 3 | AI14: =B14 -> 953
A15: 昭.40(1965) | B15: 954 | C15: 681 | D15: 369 | E15: 16 | F15: … | G15: 16 | H15: 13 | I15: 107 | J15: 115 | K15: 11 | L15: 26 | M15: 8 | N15: 163 | O15: 13 | P15: 53 | Q15: … | R15: 46 | S15: 39 | T15: … | U15: 108 | V15: 12 | W15: 1 | X15: 525 | Z15: 1965 | AA15: =D15 -> 369 | AB15: =I15 -> 107 | AC15: =J15 -> 115 | AD15: =K15 -> 11 | AE15: =L15 -> 26 | AF15: =N15 -> 163 | AG15: =AI15-SUM(AA15:AF15) -> 163 | AH15: =W15 -> 1 | AI15: =B15 -> 954
A16: 昭.41(1966) | B16: 1179 | C16: 834 | D16: 444 | E16: 15 | F16: … | G16: 19 | H16: 17 | I16: 146 | J16: 144 | K16: 12 | L16: 30 | M16: 7 | N16: 203 | O16: 20 | P16: 59 | Q16: … | R16: 60 | S16: 53 | T16: … | U16: 141 | V16: 11 | W16: 2 | X16: 685 | Z16: 1966 | AA16: =D16 -> 444 | AB16: =I16 -> 146 | AC16: =J16 -> 144 | AD16: =K16 -> 12 | AE16: =L16 -> 30 | AF16: =N16 -> 203 | AG16: =AI16-SUM(AA16:AF16) -> 200 | AH16: =W16 -> 2 | AI16: =B16 -> 1179
A17: 昭.42(1967) | B17: 1353 | C17: 952 | D17: 514 | E17: 12 | F17: … | G17: 15 | H17: 17 | I17: 189 | J17: 155 | K17: 14 | L17: 30 | M17: 7 | N17: 217 | O17: 16 | P17: 67 | Q17: 52 | R17: 67 | S17: 56 | T17: 37 | U17: 182 | V17: 10 | W17: 2 | X17: 776 | Z17: 1967 | AA17: =D17 -> 514 | AB17: =I17 -> 189 | AC17: =J17 -> 155 | AD17: =K17 -> 14 | AE17: =L17 -> 30 | AF17: =N17 -> 217 | AG17: =AI17-SUM(AA17:AF17) -> 234 | AH17: =W17 -> 2 | AI17: =B17 -> 1353
A18: 昭.43(1968) | B18: 1379 | C18: 972 | D18: 545 | E18: 11 | F18: … | G18: 16 | H18: 13 | I18: 194 | J18: 142 | K18: 15 | L18: 30 | M18: 7 | N18: 250 | O18: 19 | P18: 84 | Q18: 64 | R18: 76 | S18: 61 | T18: 39 | U18: 155 | V18: 9 | W18: 2 | X18: 750 | Z18: 1968 | AA18: =D18 -> 545 | AB18: =I18 -> 194 | AC18: =J18 -> 142 | AD18: =K18 -> 15 | AE18: =L18 -> 30 | AF18: =N18 -> 250 | AG18: =AI18-SUM(AA18:AF18) -> 203 | AH18: =W18 -> 2 | AI18: =B18 -> 1379
A19: 昭.44(1969) | B19: 1466 | C19: 1044 | D19: 520 | E19: 9 | F19: … | G19: 14 | H19: 21 | I19: 243 | J19: 171 | K19: 18 | L19: 31 | M19: 17 | N19: 280 | O19: 23 | P19: 96 | Q19: 77 | R19: 87 | S19: 68 | T19: 48 | U19: 139 | V19: 7 | W19: 3 | X19: 766 | Z19: 1969 | AA19: =D19 -> 520 | AB19: =I19 -> 243 | AC19: =J19 -> 171 | AD19: =K19 -> 18 | AE19: =L19 -> 31 | AF19: =N19 -> 280 | AG19: =AI19-SUM(AA19:AF19) -> 203 | AH19: =W19 -> 3 | AI19: =B19 -> 1466
A20: 昭.45(1970) | B20: 1544 | C20: 1082 | D20: 489 | E20: 6 | F20: … | G20: 12 | H20: 22 | I20: 290 | J20: 188 | K20: 27 | L20: 30 | M20: 19 | N20: 300 | O20: 31 | P20: 97 | Q20: 79 | R20: 98 | S20: 68 | T20: 47 | U20: 160 | V20: 6 | W20: 3 | X20: 760 | Z20: 1970 | AA20: =D20 -> 489 | AB20: =I20 -> 290 | AC20: =J20 -> 188 | AD20: =K20 -> 27 | AE20: =L20 -> 30 | AF20: =N20 -> 300 | AG20: =AI20-SUM(AA20:AF20) -> 220 | AH20: =W20 -> 3 | AI20: =B20 -> 1544
A21: 昭.46(1971) | B21: 1496 | C21: 1030 | D21: 441 | E21: 4 | F21: … | G21: 13 | H21: 20 | I21: 294 | J21: 177 | K21: 29 | L21: 31 | M21: 21 | N21: 337 | O21: 42 | P21: 106 | Q21: 86 | R21: 116 | S21: 68 | T21: 45 | U21: 127 | V21: 6 | W21: 2 | X21: 709 | Z21: 1971 | AA21: =D21 -> 441 | AB21: =I21 -> 294 | AC21: =J21 -> 177 | AD21: =K21 -> 29 | AE21: =L21 -> 31 | AF21: =N21 -> 337 | AG21: =AI21-SUM(AA21:AF21) -> 187 | AH21: =W21 -> 2 | AI21: =B21 -> 1496
A22: 昭.47(1972) | B22: 1649 | C22: 1145 | D22: 474 | E22: 3 | F22: … | G22: 12 | H22: 19 | I22: 346 | J22: 200 | K22: 35 | L22: 33 | M22: 23 | N22: 368 | O22: 50 | P22: 113 | Q22: 91 | R22: 124 | S22: 74 | T22: 45 | U22: 129 | V22: 8 | W22: 5 | X22: 889 | Z22: 1972 | AA22: =D22 -> 474 | AB22: =I22 -> 346 | AC22: =J22 -> 200 | AD22: =K22 -> 35 | AE22: =L22 -> 33 | AF22: =N22 -> 368 | AG22: =AI22-SUM(AA22:AF22) -> 193 | AH22: =W22 -> 5 | AI22: =B22 -> 1649
A23: 昭.48(1973) | B23: 2045 | C23: 1440 | D23: 575 | E23: 2 | F23: … | G23: 12 | H23: 25 | I23: 462 | J23: 251 | K23: 43 | L23: 39 | M23: 31 | N23: 412 | O23: 57 | P23: 133 | Q23: 100 | R23: 128 | S23: 85 | T23: 48 | U23: 188 | V23: 8 | W23: 6 | X23: 1129 | Z23: 1973 | AA23: =D23 -> 575 | AB23: =I23 -> 462 | AC23: =J23 -> 251 | AD23: =K23 -> 43 | AE23: =L23 -> 39 | AF23: =N23 -> 412 | AG23: =AI23-SUM(AA23:AF23) -> 263 | AH23: =W23 -> 6 | AI23: =B23 -> 2045
A24: 昭.49(1974) | B24: 2402 | C24: 1758 | D24: 695 | E24: 2 | F24: … | G24: 15 | H24: 30 | I24: 571 | J24: 294 | K24: 58 | L24: 54 | M24: 39 | N24: 500 | O24: 58 | P24: 149 | Q24: 126 | R24: 177 | S24: 107 | T24: 63 | U24: 139 | V24: 8 | W24: 6 | X24: 1267 | Z24: 1974 | AA24: =D24 -> 695 | AB24: =I24 -> 571 | AC24: =J24 -> 294 | AD24: =K24 -> 58 | AE24: =L24 -> 54 | AF24: =N24 -> 500 | AG24: =AI24-SUM(AA24:AF24) -> 230 | AH24: =W24 -> 6 | AI24: =B24 -> 2402
A25: 昭.50(1975) | B25: 3003 | C25: 2234 | D25: 941 | E25: 3 | F25: … | G25: 14 | H25: 28 | I25: 677 | J25: 399 | K25: 70 | L25: 62 | M25: 41 | N25: 618 | O25: 88 | P25: 193 | Q25: 157 | R25: 215 | S25: 114 | T25: 60 | U25: 143 | V25: 8 | W25: 8 | X25: 1735 | Z25: 1975 | AA25: =D25 -> 941 | AB25: =I25 -> 677 | AC25: =J25 -> 399 | AD25: =K25 -> 70 | AE25: =L25 -> 62 | AF25: =N25 -> 618 | AG25: =AI25-SUM(AA25:AF25) -> 236 | AH25: =W25 -> 8 | AI25: =B25 -> 3003
A26: 昭.51(1976) | B26: 3055 | C26: 2234 | D26: 864 | E26: 4 | F26: … | G26: 14 | H26: 29 | I26: 730 | J26: 409 | K26: 72 | L26: 69 | M26: 43 | N26: 660 | O26: 74 | P26: 214 | Q26: 179 | R26: 238 | S26: 128 | T26: 61 | U26: 151 | V26: 6 | W26: 10 | X26: 1697 | Z26: 1976 | AA26: =D26 -> 864 | AB26: =I26 -> 730 | AC26: =J26 -> 409 | AD26: =K26 -> 72 | AE26: =L26 -> 69 | AF26: =N26 -> 660 | AG26: =AI26-SUM(AA26:AF26) -> 251 | AH26: =W26 -> 10 | AI26: =B26 -> 3055
A27: 昭.52(1977) | B27: 3234 | C27: 2426 | D27: 1048 | E27: 4 | F27: … | G27: 17 | H27: 29 | I27: 659 | J27: 479 | K27: 78 | L27: 72 | M27: 41 | N27: 656 | O27: 94 | P27: 219 | Q27: 188 | R27: 224 | S27: 113 | T27: 56 | U27: 143 | V27: 5 | W27: 9 | X27: 1672 | Z27: 1977 | AA27: =D27 -> 1048 | AB27: =I27 -> 659 | AC27: =J27 -> 479 | AD27: =K27 -> 78 | AE27: =L27 -> 72 | AF27: =N27 -> 656 | AG27: =AI27-SUM(AA27:AF27) -> 242 | AH27: =W27 -> 9 | AI27: =B27 -> 3234
A28: 昭.53(1978) | B28: 3266 | C28: 2445 | D28: 939 | E28: 7 | F28: … | G28: 24 | H28: 26 | I28: 701 | J28: 536 | K28: 99 | L28: 73 | M28: 41 | N28: 652 | O28: 99 | P28: 243 | Q28: 207 | R28: 206 | S28: 97 | T28: 47 | U28: 159 | V28: 6 | W28: 9 | X28: 1780 | Z28: 1978 | AA28: =D28 -> 939 | AB28: =I28 -> 701 | AC28: =J28 -> 536 | AD28: =K28 -> 99 | AE28: =L28 -> 73 | AF28: =N28 -> 652 | AG28: =AI28-SUM(AA28:AF28) -> 266 | AH28: =W28 -> 9 | AI28: =B28 -> 3266
... A50: 平.12(2000) | B50: 2558 | C50: 2196 | D50: 596 | E50: 9 | F50: … | G50: 21 | H50: 18 | I50: 717 | J50: 579 | K50: 201 | L50: 13 | M50: 41 | N50: 333 | O50: 66 | P50: 152 | Q50: 142 | R50: 57 | S50: 52 | T50: 26 | U50: 1 | V50: 6 | W50: 28 | X50: 962 | Z50: 2000 | AA50: =D50 -> 596 | AB50: =I50 -> 717 | AC50: =J50 -> 579 | AD50: =K50 -> 201 | AE50: =L50 -> 13 | AF50: =N50 -> 333 | AG50: =AI50-SUM(AA50:AF50) -> 119 | AH50: =W50 -> 28 | AI50: =B50 -> 2558
A51: 平.13(2001) | B51: 2438 | C51: 2089 | D51: 581 | E51: 7 | F51: 5 | G51: 15 | H51: 19 | I51: 681 | J51: 529 | K51: 199 | L51: 12 | M51: 40 | N51: 324 | O51: 60 | P51: 147 | Q51: 137 | R51: 60 | S51: 50 | T51: 23 | U51: 1 | V51: 6 | W51: 25 | X51: 919 | Z51: 2001 | AA51: =D51 -> 581 | AB51: =I51 -> 681 | AC51: =J51 -> 529 | AD51: =K51 -> 199 | AE51: =L51 -> 12 | AF51: =N51 -> 324 | AG51: =AI51-SUM(AA51:AF51) -> 112 | AH51: =W51 -> 25 | AI51: =B51 -> 2438
A52: 平.14(2002) | B52: 2501 | C52: 2145 | D52: 566 | E52: 12 | F52: 6 | G52: 14 | H52: 16 | I52: 745 | J52: 536 | K52: 200 | L52: 11 | M52: 39 | N52: 329 | O52: 70 | P52: 139 | Q52: 130 | R52: 60 | S52: 53 | T52: 24 | U52: … | V52: 6 | W52: 26 | X52: 949 | Z52: 2002 | AA52: =D52 -> 566 | AB52: =I52 -> 745 | AC52: =J52 -> 536 | AD52: =K52 -> 200 | AE52: =L52 -> 11 | AF52: =N52 -> 329 | AG52: =AI52-SUM(AA52:AF52) -> 114 | AH52: =W52 -> 26 | AI52: =B52 -> 2501
A53: 平.15(2003) | B53: 2425 | C53: 2083 | D53: 583 | E53: 11 | F53: 6 | G53: 14 | H53: 19 | I53: 696 | J53: 521 | K53: 187 | L53: 10 | M53: 36 | N53: 316 | O53: 65 | P53: 136 | Q53: 126 | R53: 60 | S53: 49 | T53: 21 | U53: … | V53: 7 | W53: 26 | X53: 990 | Z53: 2003 | AA53: =D53 -> 583 | AB53: =I53 -> 696 | AC53: =J53 -> 521 | AD53: =K53 -> 187 | AE53: =L53 -> 10 | AF53: =N53 -> 316 | AG53: =AI53-SUM(AA53:AF53) -> 112 | AH53: =W53 -> 26 | AI53: =B53 -> 2425
A54: 平.16(2004) | B54: 2405 | C54: 2051 | D54: 545 | E54: 9 | F54: 7 | G54: 18 | H54: 17 | I54: 724 | J54: 498 | K54: 190 | L54: 9 | M54: 34 | N54: 327 | O54: 70 | P54: 136 | Q54: 126 | R54: 65 | S54: 50 | T54: 23 | U54: … | V54: 6 | W54: 27 | X54: 904 | Z54: 2004 | AA54: =D54 -> 545 | AB54: =I54 -> 724 | AC54: =J54 -> 498 | AD54: =K54 -> 190 | AE54: =L54 -> 9 | AF54: =N54 -> 327 | AG54: =AI54-SUM(AA54:AF54) -> 112 | AH54: =W54 -> 27 | AI54: =B54 -> 2405
A55: 平.17(2005) | B55: 2296 | C55: 1944 | D55: 536 | E55: 9 | F55: 7 | G55: 15 | H55: 17 | I55: 609 | J55: 524 | K55: 185 | L55: 8 | M55: 34 | N55: 328 | O55: 74 | P55: 129 | Q55: 119 | R55: 65 | S55: 54 | T55: 26 | U55: … | V55: 6 | W55: 24 | X55: 835 | Z55: 2005 | AA55: =D55 -> 536 | AB55: =I55 -> 609 | AC55: =J55 -> 524 | AD55: =K55 -> 185 | AE55: =L55 -> 8 | AF55: =N55 -> 328 | AG55: =AI55-SUM(AA55:AF55) -> 106 | AH55: =W55 -> 24 | AI55: =B55 -> 2296
A56: 平.18(2006) | B56: 2322 | C56: 1983 | D56: 491 | E56: 12 | F56: 8 | G56: 14 | H56: 18 | I56: 671 | J56: 532 | K56: 198 | L56: 7 | M56: 33 | N56: 311 | O56: 71 | P56: 127 | Q56: 115 | R56: 56 | S56: 50 | T56: 24 | U56: … | V56: 6 | W56: 28 | X56: 831 | Z56: 2006 | AA56: =D56 -> 491 | AB56: =I56 -> 671 | AC56: =J56 -> 532 | AD56: =K56 -> 198 | AE56: =L56 -> 7 | AF56: =N56 -> 311 | AG56: =AI56-SUM(AA56:AF56) -> 112 | AH56: =W56 -> 28 | AI56: =B56 -> 2322
A57: 平.19(2007) | B57: 2307 | C57: 1966 | D57: 465 | E57: 5 | F57: 6 | G57: 10 | H57: 14 | I57: 726 | J57: 535 | K57: 174 | L57: 7 | M57: 24 | N57: 312 | O57: 71 | P57: 124 | Q57: 113 | R57: 56 | S57: 55 | T57: 22 | U57: … | V57: 6 | W57: 28 | X57: 898 | Z57: 2007 | AA57: =D57 -> 465 | AB57: =I57 -> 726 | AC57: =J57 -> 535 | AD57: =K57 -> 174 | AE57: =L57 -> 7 | AF57: =N57 -> 312 | AG57: =AI57-SUM(AA57:AF57) -> 88 | AH57: =W57 -> 28 | AI57: =B57 -> 2307
A58: 平.20(2008) | B58: 2238 | C58: 1891 | D58: 490 | E58: 6 | F58: 6 | G58: 8 | H58: 16 | I58: 687 | J58: 490 | K58: 159 | L58: 6 | M58: 23 | N58: 319 | O58: 75 | P58: 120 | Q58: 110 | R58: 56 | S58: 61 | T58: 24 | U58: … | V58: 6 | W58: 28 | X58: 657 | Z58: 2008 | AA58: =D58 -> 490 | AB58: =I58 -> 687 | AC58: =J58 -> 490 | AD58: =K58 -> 159 | AE58: =L58 -> 6 | AF58: =N58 -> 319 | AG58: =AI58-SUM(AA58:AF58) -> 87 | AH58: =W58 -> 28 | AI58: =B58 -> 2238
A59: 平.21(2009) | B59: 2130 | C59: 1812 | D59: 456 | E59: 6 | F59: 6 | G59: 6 | H59: 18 | I59: 682 | J59: 449 | K59: 157 | L59: 5 | M59: 27 | N59: 290 | O59: 73 | P59: 122 | Q59: 114 | R59: 47 | S59: 43 | T59: 20 | U59: … | V59: 6 | W59: 27 | X59: 626 | Z59: 2009 | AA59: =D59 -> 456 | AB59: =I59 -> 682 | AC59: =J59 -> 449 | AD59: =K59 -> 157 | AE59: =L59 -> 5 | AF59: =N59 -> 290 | AG59: =AI59-SUM(AA59:AF59) -> 91 | AH59: =W59 -> 27 | AI59: =B59 -> 2130
A60: 平.22(2010) | B60: 2243 | C60: 1925 | D60: 428 | E60: 5 | F60: 8 | G60: 6 | H60: 16 | I60: 785 | J60: 485 | K60: 161 | L60: 4 | M60: 27 | N60: 288 | O60: 72 | P60: 117 | Q60: 110 | R60: 48 | S60: 44 | T60: 20 | U60: … | V60: 6 | W60: 30 | X60: 658 | Z60: 2010 | AA60: =D60 -> 428 | AB60: =I60 -> 785 | AC60: =J60 -> 485 | AD60: =K60 -> 161 | AE60: =L60 -> 4 | AF60: =N60 -> 288 | AG60: =AI60-SUM(AA60:AF60) -> 92 | AH60: =W60 -> 30 | AI60: =B60 -> 2243
A61: 平.23(2011) | B61: 2268 | C61: 1959 | D61: 490 | E61: 3 | F61: 5 | G61: 6 | H61: 12 | I61: 770 | J61: 482 | K61: 156 | L61: 4 | M61: 31 | N61: 277 | O61: 67 | P61: 114 | Q61: 107 | R61: 49 | S61: 42 | T61: 20 | U61: … | V61: 5 | W61: 31 | X61: 667 | Z61: 2011 | AA61: =D61 -> 490 | AB61: =I61 -> 770 | AC61: =J61 -> 482 | AD61: =K61 -> 156 | AE61: =L61 -> 4 | AF61: =N61 -> 277 | AG61: =AI61-SUM(AA61:AF61) -> 89 | AH61: =W61 -> 31 | AI61: =B61 -> 2268
A62: 平.24(2012) | B62: 2277 | C62: 1971 | D62: 513 | E62: 4 | F62: 6 | G62: 6 | H62: 11 | I62: 682 | J62: 560 | K62: 153 | L62: 3 | M62: 33 | N62: 274 | O62: 70 | P62: 113 | Q62: 106 | R62: 46 | S62: 40 | T62: 18 | U62: … | V62: 6 | W62: 33 | X62: 733 | Z62: 2012 | AA62: =D62 -> 513 | AB62: =I62 -> 682 | AC62: =J62 -> 560 | AD62: =K62 -> 153 | AE62: =L62 -> 3 | AF62: =N62 -> 274 | AG62: =AI62-SUM(AA62:AF62) -> 92 | AH62: =W62 -> 33 | AI62: =B62 -> 2277
A63: 平.25(2013) | B63: 2347 | C63: 2032 | D63: 491 | E63: 3 | F63: 4 | G63: 8 | H63: 13 | I63: 806 | J63: 515 | K63: 154 | L63: 3 | M63: 33 | N63: 286 | O63: 72 | P63: 116 | Q63: 106 | R63: 51 | S63: 40 | T63: 19 | U63: … | V63: 7 | W63: 29 | X63: 773 | Z63: 2013 | AA63: =D63 -> 491 | AB63: =I63 -> 806 | AC63: =J63 -> 515 | AD63: =K63 -> 154 | AE63: =L63 -> 3 | AF63: =N63 -> 286 | AG63: =AI63-SUM(AA63:AF63) -> 92 | AH63: =W63 -> 29 | AI63: =B63 -> 2347
... A71: 令.３(2021) | B71: 2624 | C71: 2333 | D71: 371 | E71: 3 | F71: 7 | G71: 5 | H71: 23 | I71: 866 | J71: 870 | K71: 156 | L71: 1 | M71: 30 | N71: 262 | O71: 61 | P71: 116 | Q71: 100 | R71: 44 | S71: 36 | T71: 19 | U71: … | V71: 6 | W71: 29 | X71: 1009 | Z71: 2021 | AA71: =D71 -> 371 | AB71: =I71 -> 866 | AC71: =J71 -> 870 | AD71: =K71 -> 156 | AE71: =L71 -> 1 | AF71: =N71 -> 262 | AG71: =AI71-SUM(AA71:AF71) -> 98 | AH71: =W71 -> 29 | AI71: =B71 -> 2624
A72: 令.４(2022) | B72: 2708 | C72: 2428 | D72: 402 | E72: x | F72: 8 | G72: 6 | H72: 19 | I72: 886 | J72: 904 | K72: 170 | L72: 1 | M72: x | N72: 262 | O72: 64 | P72: 112 | Q72: 99 | R72: 44 | S72: 37 | T72: 20 | U72: … | V72: 6 | W72: 18 | X72: 998 | Z72: 2022 | AA72: =D72 -> 402 | AB72: =I72 -> 886 | AC72: =J72 -> 904 | AD72: =K72 -> 170 | AE72: =L72 -> 1 | AF72: =N72 -> 262 | AG72: =AI72-SUM(AA72:AF72) -> 83 | AH72: =W72 -> 18 | AI72: =B72 -> 2708
A73: 令.５(2023) | B73: 2890 | C73: 2597 | D73: 426 | E73: x | F73: 7 | G73: 4 | H73: 16 | I73: 957 | J73: 1000 | K73: 163 | L73: 1 | M73: x | N73: 280 | O73: 67 | P73: 114 | Q73: 105 | R73: 45 | S73: 49 | T73: 27 | U73: … | V73: 5 | W73: 14 | X73: 1093 | Z73: 2023 | AA73: =D73 -> 426 | AB73: =I73 -> 957 | AC73: =J73 -> 1000 | AD73: =K73 -> 163 | AE73: =L73 -> 1 | AF73: =N73 -> 280 | AG73: =AI73-SUM(AA73:AF73) -> 63 | AH73: =W73 -> 14 | AI73: =B73 -> 2890
B74: （注記）
B75: １．昭和35年の麦類は、雑穀、豆類、いも類を含む。 | Z75: 年 | AA75: 米 | AB75: 野菜 | AC75: 果実 | AD75: 花き | AE75: 工芸 | AF75: 畜産 | AG75: その他 | AH75: 加工 | AI75: 計
B76: ２．昭和36年の麦類は、雑穀を含む。また、豆類は、いも類を含む。 | Z76: =Z10 -> 1960 | AA76: =AA10 -> 248 | AB76: =AB10 -> 38 | AC76: =AC10 -> 77 | AD76: =AD10 -> 6 | AE76: =AE10 -> 14 | AF76: =AF10 -> 79 | AG76: =AG10 -> 157 | ... AI76: =AI10 -> 619
B77: ３．昭和37年から平成12年までの雑穀及び豆類は、雑穀・豆類として合算されていたため、その値を豆類に表示している。 | Z77: =Z15 -> 1965 | AA77: =AA15 -> 369 | AB77: =AB15 -> 107 | AC77: =AC15 -> 115 | AD77: =AD15 -> 11 | AE77: =AE15 -> 26 | AF77: =AF15 -> 163 | AG77: =AG15 -> 163 | ... AI77: =AI15 -> 954
B78: ４．平成12年までの養蚕は畜産計の外数としていたが、日本標準産業分類の改訂により養蚕が畜産に分類されたことに伴い、平成13年から畜産計に養蚕を含めた。 | Z78: =Z20 -> 1970 | AA78: =AA20 -> 489 | AB78: =AB20 -> 290 | AC78: =AC20 -> 188 | AD78: =AD20 -> 27 | AE78: =AE20 -> 30 | AF78: =AF20 -> 300 | AG78: =AG20 -> 220 | ... AI78: =AI20 -> 1544
B79: また、平成14年からは養蚕を畜産計のうちその他畜産物に含めた。 | Z79: =Z25 -> 1975 | AA79: =AA25 -> 941 | AB79: =AB25 -> 677 | AC79: =AC25 -> 399 | AD79: =AD25 -> 70 | AE79: =AE25 -> 62 | AF79: =AF25 -> 618 | AG79: =AG25 -> 236 | ... AI79: =AI25 -> 3003
Z80: =Z30 -> 1980 | AA80: =AA30 -> 772 | AB80: =AB30 -> 736 | AC80: =AC30 -> 587 | AD80: =AD30 -> 117 | AE80: =AE30 -> 68 | AF80: =AF30 -> 660 | AG80: =AG30 -> 275 | ... AI80: =AI30 -> 3215
Z81: =Z35 -> 1985 | AA81: =AA35 -> 938 | AB81: =AB35 -> 820 | AC81: =AC35 -> 709 | AD81: =AD35 -> 145 | AE81: =AE35 -> 58 | AF81: =AF35 -> 673 | AG81: =AG35 -> 174 | ... AI81: =AI35 -> 3517
Z82: =Z40 -> 1990 | AA82: =AA40 -> 824 | AB82: =AB40 -> 898 | AC82: =AC40 -> 712 | AD82: =AD40 -> 227 | AE82: =AE40 -> 32 | AF82: =AF40 -> 564 | AG82: =AG40 -> 147 | ... AI82: =AI40 -> 3404
Z83: =Z45 -> 1995 | AA83: =AA45 -> 815 | AB83: =AB45 -> 789 | AC83: =AC45 -> 665 | AD83: =AD45 -> 234 | AE83: =AE45 -> 23 | AF83: =AF45 -> 410 | AG83: =AG45 -> 111 | ... AI83: =AI45 -> 3047
Z84: =Z50 -> 2000 | AA84: =AA50 -> 596 | AB84: =AB50 -> 717 | AC84: =AC50 -> 579 | AD84: =AD50 -> 201 | AE84: =AE50 -> 13 | AF84: =AF50 -> 333 | AG84: =AG50 -> 119 | ... AI84: =AI50 -> 2558
Z85: =Z55 -> 2005 | AA85: =AA55 -> 536 | AB85: =AB55 -> 609 | AC85: =AC55 -> 524 | AD85: =AD55 -> 185 | AE85: =AE55 -> 8 | AF85: =AF55 -> 328 | AG85: =AG55 -> 106 | ... AI85: =AI55 -> 2296
Z86: =Z60 -> 2010 | AA86: =AA60 -> 428 | AB86: =AB60 -> 785 | AC86: =AC60 -> 485 | AD86: =AD60 -> 161 | AE86: =AE60 -> 4 | AF86: =AF60 -> 288 | AG86: =AG60 -> 92 | ... AI86: =AI60 -> 2243
Z87: =Z65 -> 2015 | AA87: =AA65 -> 422 | AB87: =AB65 -> 889 | AC87: =AC65 -> 558 | AD87: =AD65 -> 149 | AE87: =AE65 -> 3 | AF87: =AF65 -> 308 | AG87: =AG65 -> 91 | ... AI87: =AI65 -> 2420
Z88: =Z70 -> 2020 | AA88: =AA70 -> 413 | AB88: =AB70 -> 891 | AC88: =AC70 -> 894 | AD88: =AD70 -> 132 | AE88: =AE70 -> 1 | AF88: =AF70 -> 269 | AG88: =AG70 -> 97 | ... AI88: =AI70 -> 2697
Z89: =Z73 -> 2023 | AA89: =AA73 -> 426 | AB89: =AB73 -> 957 | AC89: =AC73 -> 1000 | AD89: =AD73 -> 163 | AE89: =AE73 -> 1 | AF89: =AF73 -> 280 | AG89: =AG73 -> 63 | ... AI89: =AI73 -> 2890

Sheet 全国
A1: 生産農業所得統計
A2: 全国推計統計表累年統計
A3: 年次別農業総産出額及び生産農業所得
A4: 全国 | D4: ※ | F4: の塗りつぶしは前年より減少
A5: 年 次 | B5: 農業総 産出額 | C5: 耕 種 | Q5: 畜 産 | AA5: 加 工 農産物 | AB5: 生 産 農 業 所 得 | AC5: （参考） 農業総産出額に占める生産農業所得の割合
C6: 計 | D6: 米 | E6: 麦 類 | F6: 雑 穀 | G6: 豆 類 | H6: いも類 | I6: 野 菜 | M6: 果 実 | N6: 花 き | O6: 工 芸 農作物 | P6: その他 作物 | Q6: 計 | R6: 肉用牛 | S6: 乳用牛 | U6: 豚 | V6: 鶏 | Y6: 養 蚕 | Z6: その他 畜産物
I7: 小 計 | J7: 果菜類 | K7: 葉茎 菜類 | L7: 根菜類 | T7: 生 乳 | W7: 鶏 卵 | X7: ブロイ ラ ー
B9: 億円 | C9: 億円 | D9: 億円 | E9: 億円 | F9: 億円 | G9: 億円 | H9: 億円 | I9: 億円 | J9: 億円 | K9: 億円 | L9: 億円 | M9: 億円 | N9: 億円 | O9: 億円 | P9: 億円 | Q9: 億円 | R9: 億円 | S9: 億円 | T9: 億円 | U9: 億円 | V9: 億円 | W9: 億円 | X9: 億円 | Y9: 億円 | Z9: 億円 | AA9: 億円 | AB9: 億円 | AC9: ％
A10: 昭.30(1955) | B10: 16617 | C10: 14062 | D10: 8634 | E10: 1155 | F10: 123 | G10: 501 | H10: 639 | I10: 1191 | J10: 422 | K10: 350 | L10: 419 | M10: 662 | N10: 79 | O10: 850 | P10: 228 | Q10: 2322 | R10: 314 | S10: 333 | T10: 255 | U10: 247 | V10: 855 | W10: 764 | X10: 15 | Y10: 466 | Z10: 107 | AA10: 233 | AB10: 11411 | AC10: 68.7
A11: 昭.31(1956) | B11: 15505 | C11: 12705 | D11: 7288 | E11: 1023 | F11: 82 | G11: 472 | H11: 558 | I11: 1333 | J11: 454 | K11: 430 | L11: 449 | M11: 750 | N11: 72 | O11: 892 | P11: 235 | Q11: 2589 | R11: 375 | S11: 409 | T11: 320 | U11: 321 | V11: 919 | W11: 828 | X11: 15 | Y11: 454 | Z11: 111 | AA11: 211 | AB11: 10075 | AC11: 65
A12: 昭.32(1957) | B12: 16775 | C12: 13921 | D12: 8189 | E12: 998 | F12: 120 | G12: 526 | H12: 671 | I12: 1355 | J12: 537 | K12: 393 | L12: 425 | M12: 892 | N12: 79 | O12: 842 | P12: 249 | Q12: 2623 | R12: 324 | S12: 469 | T12: 362 | U12: 338 | V12: 898 | W12: 841 | X12: 9 | Y12: 473 | Z12: 121 | AA12: 231 | AB12: 11107 | AC12: 66.2
A13: 昭.33(1958) | B13: 17010 | C13: 14088 | D13: 8383 | E13: 952 | F13: 99 | G13: 485 | H13: 622 | I13: 1503 | J13: 535 | K13: 523 | L13: 445 | M13: 912 | N13: 80 | O13: 808 | P13: 244 | Q13: 2688 | R13: 313 | S13: 494 | T13: 377 | U13: 381 | V13: 997 | W13: 892 | X13: 17 | Y13: 395 | Z13: 108 | AA13: 234 | AB13: 11308 | AC13: 66.5
A14: 昭.34(1959) | B14: 17895 | C14: 14601 | D14: 8827 | E14: 1081 | F14: 78 | G14: 515 | H14: 593 | I14: 1423 | J14: 517 | K14: 420 | L14: 486 | M14: 927 | N14: 83 | O14: 803 | P14: 271 | Q14: 3052 | R14: 396 | S14: 527 | T14: 408 | U14: 502 | V14: 1064 | W14: 955 | X14: 17 | Y14: 462 | Z14: 101 | AA14: 242 | AB14: 11902 | AC14: 66.5
A15: 昭.35(1960) | B15: 19148 | C15: 15415 | D15: 9074 | E15: 1060 | F15: 113 | G15: 487 | H15: 577 | I15: 1741 | J15: 701 | K15: 498 | L15: 542 | M15: 1154 | N15: 87 | O15: 819 | P15: 303 | Q15: 3477 | R15: 375 | S15: 635 | T15: 486 | U15: 559 | V15: 1205 | W15: 1063 | X15: 29 | Y15: 564 | Z15: 139 | AA15: 256 | AB15: 12387 | AC15: 64.7
A16: 昭.36(1961) | B16: 21081 | C16: 16484 | D16: 9167 | E16: 1079 | F16: 62 | G16: 482 | H16: 618 | I16: 2331 | J16: 840 | K16: 745 | L16: 746 | M16: 1354 | N16: 93 | O16: 975 | P16: 323 | Q16: 4333 | R16: 460 | S16: 837 | T16: 627 | U16: 636 | V16: 1642 | W16: 1429 | X16: 73 | Y16: 602 | Z16: 156 | AA16: 264 | AB16: 13292 | AC16: 63.1
A17: 昭.37(1962) | B17: 24381 | C17: 18909 | D17: 10679 | E17: 946 | F17: 67 | G17: 446 | H17: 727 | I17: 2742 | J17: 1105 | K17: 840 | L17: 797 | M17: 1626 | N17: 107 | O17: 1163 | P17: 406 | Q17: 5191 | R17: 520 | S17: 1034 | T17: 796 | U17: 827 | V17: 1968 | W17: 1704 | X17: 93 | Y17: 672 | Z17: 170 | AA17: 281 | AB17: 15204 | AC17: 62.4
A18: 昭.38(1963) | B18: 25760 | C18: 19535 | D18: 11353 | E18: 341 | F18: 79 | G18: 511 | H18: 847 | I18: 2905 | J18: 1176 | K18: 827 | L18: 902 | M18: 1694 | N18: 126 | O18: 1243 | P18: 436 | Q18: 5960 | R18: 576 | S18: 1129 | T18: 904 | U18: 1068 | V18: 2199 | W18: 1843 | X18: 179 | Y18: 810 | Z18: 178 | AA18: 265 | AB18: 15572 | AC18: 60.5
A19: 昭.39(1964) | B19: 28761 | C19: 22235 | D19: 12700 | E19: 837 | F19: 56 | G19: 408 | H19: 715 | I19: 3540 | J19: 1339 | K19: 1137 | L19: 1064 | M19: 1797 | N19: 154 | O19: 1490 | P19: 538 | Q19: 6268 | R19: 724 | S19: 1289 | T19: 1050 | U19: 1106 | V19: 2326 | W19: 1906 | X19: 236 | Y19: 629 | Z19: 194 | AA19: 258 | AB19: 16980 | AC19: 59
A20: 昭.40(1965) | B20: 31769 | C20: 24161 | D20: 13691 | E20: 940 | F20: 59 | G20: 518 | H20: 793 | I20: 3744 | J20: 1595 | K20: 1076 | L20: 1073 | M20: 2100 | N20: 192 | O20: 1534 | P20: 590 | Q20: 7355 | R20: 754 | S20: 1461 | T20: 1169 | U20: 1412 | V20: 2759 | W20: 2270 | X20: 282 | Y20: 727 | Z20: 242 | AA20: 253 | AB20: 18982 | AC20: 59.8
A21: 昭.41(1966) | B21: 35713 | C21: 27050 | D21: 15346 | E21: 869 | F21: 59 | G21: 466 | H21: 852 | I21: 4410 | J21: 1913 | K21: 1373 | L21: 1124 | M21: 2432 | N21: 224 | O21: 1771 | P21: 621 | Q21: 8400 | R21: 692 | S21: 1714 | T21: 1341 | U21: 1874 | V21: 2913 | W21: 2285 | X21: 420 | Y21: 976 | Z21: 231 | AA21: 263 | AB21: 21349 | AC21: 59.8
... A57: 平.14(2002) | B57: 89297 | C57: 63908 | D57: 21720 | E57: 1513 | F57: 69 | G57: 991 | H57: 1928 | I57: 21514 | J57: 9848 | K57: 8238 | L57: 3427 | M57: 7489 | N57: 4471 | O57: 3277 | P57: 936 | Q57: 24783 | R57: 4662 | S57: 7779 | T57: 6836 | U57: 5168 | V57: 6532 | W57: 3944 | X57: 2541 | Y57: 16 | Z57: 627 | AA57: 605 | AB57: 35232 | AC57: 39.5
A58: 平.15(2003) | B58: 88565 | C58: 64602 | D58: 23416 | E58: 1506 | F58: 85 | G58: 1011 | H58: 2051 | I58: 20970 | J58: 9517 | K58: 8157 | L58: 3296 | M58: 7141 | N58: 4256 | O58: 3260 | P58: 906 | Q58: 23289 | R58: 4001 | S58: 7978 | T58: 6942 | U58: 4671 | V58: 6015 | W58: 3454 | X58: 2519 | Y58: … | Z58: 623 | AA58: 674 | AB58: 36528 | AC58: 41.2
A59: 平.16(2004) | B59: 87136 | C59: 61832 | D59: 19910 | E59: 1488 | F59: 76 | G59: 928 | H59: 1981 | I59: 21427 | J59: 9485 | K59: 8608 | L59: 3333 | M59: 7627 | N59: 4156 | O59: 3378 | P59: 861 | Q59: 24580 | R59: 4455 | S59: 7958 | T59: 6875 | U59: 5186 | V59: 6354 | W59: 3866 | X59: 2444 | Y59: … | Z59: 627 | AA59: 725 | AB59: 33887 | AC59: 38.9
A60: 平.17(2005) | B60: 85119 | C60: 59396 | D60: 19469 | E60: 1537 | F60: 93 | G60: 768 | H60: 2016 | I60: 20327 | J60: 9081 | K60: 8193 | L60: 3053 | M60: 7274 | N60: 4043 | O60: 3027 | P60: 842 | Q60: 25057 | R60: 4730 | S60: 7834 | T60: 6759 | U60: 4987 | V60: 6889 | W60: 4346 | X60: 2496 | Y60: … | Z60: 619 | AA60: 666 | AB60: 32030 | AC60: 37.6
A61: 平.18(2006) | B61: 83322 | C61: 58179 | D61: 18147 | E61: 1454 | F61: 98 | G61: 730 | H61: 2027 | I61: 20508 | J61: 9474 | K61: 8008 | L61: 3027 | M61: 7727 | N61: 3991 | O61: 2673 | P61: 824 | Q61: 24525 | R61: 4781 | S61: 7483 | T61: 6486 | U61: 4980 | V61: 6583 | W61: 4010 | X61: 2530 | Y61: … | Z61: 698 | AA61: 618 | AB61: 30803 | AC61: 37
A62: 平.19(2007) | B62: 82585 | C62: 57196 | D62: 17903 | E62: 732 | F62: 87 | G62: 644 | H62: 1919 | I62: 20893 | J62: 9451 | K62: 8334 | L62: 3108 | M62: 7557 | N62: 4051 | O62: 2614 | P62: 796 | Q62: 24787 | R62: 4847 | S62: 7311 | T62: 6363 | U62: 5233 | V62: 6755 | W62: 4019 | X62: 2692 | Y62: … | Z62: 641 | AA62: 603 | AB62: 30207 | AC62: 36.6
A63: 平.20(2008) | B63: 84662 | C63: 58204 | D63: 19014 | E63: 754 | F63: 75 | G63: 778 | H63: 2031 | I63: 21105 | J63: 9311 | K63: 8482 | L63: 3311 | M63: 7410 | N63: 3656 | O63: 2649 | P63: 732 | Q63: 25852 | R63: 4591 | S63: 7480 | T63: 6598 | U63: 5786 | V63: 7444 | W63: 4501 | X63: 2890 | Y63: … | Z63: 551 | AA63: 606 | AB63: 27604 | AC63: 32.6
A64: 平.21(2009) | B64: 81902 | C64: 55899 | D64: 17950 | E64: 649 | F64: 66 | G64: 688 | H64: 2070 | I64: 20850 | J64: 9081 | K64: 8641 | L64: 3129 | M64: 6984 | N64: 3506 | O64: 2434 | P64: 702 | Q64: 25466 | R64: 4819 | S64: 7906 | T64: 7027 | U64: 5120 | V64: 7086 | W64: 4207 | X64: 2829 | Y64: … | Z64: 535 | AA64: 537 | AB64: 25946 | AC64: 31.7
A65: 平.22(2010) | B65: 81214 | C65: 55127 | D65: 15517 | E65: 469 | F65: 99 | G65: 619 | H65: 2071 | I65: 22485 | J65: 9404 | K65: 9585 | L65: 3496 | M65: 7497 | N65: 3512 | O65: 2143 | P65: 715 | Q65: 25525 | R65: 4639 | S65: 7725 | T65: 6747 | U65: 5291 | V65: 7352 | W65: 4419 | X65: 2877 | Y65: … | Z65: 518 | AA65: 562 | AB65: 28395 | AC65: 35
A66: 平.23(2011) | B66: 82463 | C66: 56394 | D66: 18497 | E66: 370 | F66: 69 | G66: 571 | H66: 2045 | I66: 21343 | J66: 9220 | K66: 8768 | L66: 3355 | M66: 7430 | N66: 3377 | O66: 1983 | P66: 709 | Q66: 25509 | R66: 4625 | S66: 7506 | T66: 6579 | U66: 5359 | V66: 7530 | W66: 4505 | X66: 2859 | Y66: … | Z66: 489 | AA66: 560 | AB66: 27800 | AC66: 33.7
A67: 平.24(2012) | B67: 85251 | C67: 58790 | D67: 20286 | E67: 440 | F67: 65 | G67: 658 | H67: 1842 | I67: 21896 | J67: 9485 | K67: 9060 | L67: 3351 | M67: 7471 | N67: 3451 | O67: 1962 | P67: 719 | Q67: 25880 | R67: 5033 | S67: 7746 | T67: 6874 | U67: 5367 | V67: 7239 | W67: 4204 | X67: 2857 | Y67: … | Z67: 496 | AA67: 581 | AB67: 29541 | AC67: 34.7
A68: 平.25(2013) | B68: 84668 | C68: 57031 | D68: 17807 | E68: 410 | F68: 48 | G68: 641 | H68: 1985 | I68: 22533 | J68: 9615 | K68: 9467 | L68: 3451 | M68: 7588 | N68: 3485 | O68: 1849 | P68: 687 | Q68: 27092 | R68: 5189 | S68: 7780 | T68: 6824 | U68: 5746 | V68: 7842 | W68: 4638 | X68: 3018 | Y68: … | Z68: 536 | AA68: 545 | AB68: 29412 | AC68: 34.7
A69: 平.26(2014) | B69: 83639 | C69: 53632 | D69: 14343 | E69: 384 | F69: 60 | G69: 749 | H69: 2075 | I69: 22421 | J69: 9437 | K69: 9576 | L69: 3407 | M69: 7628 | N69: 3437 | O69: 1889 | P69: 646 | Q69: 29448 | R69: 5940 | S69: 8051 | T69: 6967 | U69: 6331 | V69: 8530 | W69: 5109 | X69: 3254 | Y69: … | Z69: 595 | AA69: 559 | AB69: 28319 | AC69: 33.9
... A78: 令.５(2023) | B78: 94952 | C78: 57227 | D78: 15193 | E78: 678 | F78: 77 | G78: 572 | H78: 2301 | I78: 23243 | J78: 10428 | K78: 9664 | L78: 3151 | M78: 9590 | N78: 3522 | O78: 1467 | P78: 585 | Q78: 37212 | R78: 7696 | S78: 9249 | T78: 8310 | U78: 7194 | V78: 12033 | W78: 7413 | X78: 4471 | Y78: … | Z78: 1041 | AA78: 513 | AB78: 32921 | AC78: 34.7
B79: （注記）
B80: １．昭和50年以前については、沖縄県を含まない。
B81: ２．平成14年３月の日本標準産業分類の改定により、もやしが農業に分類されたことから、13年よりもやしを含めた。
B82: ３．養蚕は、平成16年からその他畜産物に含めることとした。このため、平成15年についても遡及してその他畜産物に養蚕を含めている。
B84: *令和7年５月23日修正（全国・茨城）
B85: ※ | D85: の塗りつぶしは前年より減少

Sheet 都道府県ア（実額）
A2: (2) 都道府県別農業産出額及び生産農業所得
A3: ア 実額
D5: 10位以内
C6: 農業産出額 | AW6: 生産農業所得 | AY6: 参考１ | AZ6: 参考２
C7: 計 | E7: 耕種 | AC7: 畜産 | AU7: 加工農産物 | AY7: 農業産出額に占める生産農業所得の割合 | AZ7: 栽培きのこ類（林業）を含めた農業産出額
E8: 小計 | G8: 米 | I8: 麦類 | K8: 雑穀 | M8: 豆類 | O8: いも類 | Q8: 野菜 | S8: 果実 | U8: 花き | W8: 工芸農作物 | AA8: その他作物 | AC8: 小計 | AE8: 肉用牛 | AG8: 乳用牛 | AK8: 豚 | AM8: 鶏 | AS8: その他畜産物
A9: 都道府県
Y10: 茶 | AI10: 生乳 | AO10: 鶏卵 | AQ10: ブロイラー
C12: 産出額 ①＋②＋③ | D12: 順位 | E12: 産出額 ① | F12: 順位 | G12: 産出額 | H12: 順位 | I12: 産出額 | J12: 順位 | K12: 産出額 | L12: 順位 | M12: 産出額 | N12: 順位 | O12: 産出額 | P12: 順位 | Q12: 産出額 | R12: 順位 | S12: 産出額 | T12: 順位 | U12: 産出額 | V12: 順位 | W12: 産出額 | X12: 順位 | Y12: 産出額 | Z12: 順位 | AA12: 産出額 | AB12: 順位 | AC12: 産出額 ② | AD12: 順位 | AE12: 産出額 | AF12: 順位 | AG12: 産出額 | AH12: 順位 | AI12: 産出額 | AJ12: 順位 | AK12: 産出額 | AL12: 順位 | AM12: 産出額 | AN12: 順位 | AO12: 産出額 | AP12: 順位 | AQ12: 産出額 | AR12: 順位 | AS12: 産出額 | AT12: 順位 | AU12: 産出額 ③ | AV12: 順位 | AW12: 生産農業所得 | AX12: 順位
C13: (1) | D13: (2) | E13: (3) | F13: (4) | G13: (5) | H13: (6) | I13: (7) | J13: (8) | K13: (9) | L13: (10) | M13: (11) | N13: (12) | O13: (13) | P13: (14) | Q13: (15) | R13: (16) | S13: (17) | T13: (18) | U13: (19) | V13: (20) | W13: (21) | X13: (22) | Y13: (23) | Z13: (24) | AA13: (25) | AB13: (26) | AC13: (27) | AD13: (28) | AE13: (29) | AF13: (30) | AG13: (31) | AH13: (32) | AI13: (33) | AJ13: (34) | AK13: (35) | AL13: (36) | AM13: (37) | AN13: (38) | AO13: (39) | AP13: (40) | AQ13: (41) | AR13: (42) | AS13: (43) | AT13: (44) | AU13: (45) | AV13: (46) | AW13: (47) | AX13: (48) | AY13: (49) | AZ13: (50)
C14: 億円 | E14: 億円 | G14: 億円 | I14: 億円 | K14: 億円 | M14: 億円 | O14: 億円 | Q14: 億円 | S14: 億円 | U14: 億円 | W14: 億円 | Y14: 億円 | AA14: 億円 | AC14: 億円 | AE14: 億円 | AG14: 億円 | AI14: 億円 | AK14: 億円 | AM14: 億円 | AO14: 億円 | AQ14: 億円 | AS14: 億円 | AU14: 億円 | AW14: 億円 | AY14: ％ | AZ14: 億円
A15: 北海道 | B15: (1) | C15: 13478 | D15: 1 | E15: 5641 | F15: 1 | G15: 1149 | H15: 2 | I15: 408 | J15: 1 | K15: 27 | L15: 1 | M15: 293 | N15: 1 | O15: 591 | P15: 1 | Q15: 2489 | R15: 1 | S15: 96 | T15: 23 | U15: 117 | V15: 10 | W15: 417 | X15: 1 | Y15: - | Z15: - | AA15: 55 | AB15: 2 | AC15: 7837 | AD15: 1 | AE15: 1224 | AF15: 1 | AG15: 4781 | AH15: 1 | AI15: 4341 | AJ15: 1 | AK15: 608 | AL15: 2 | AM15: 426 | AN15: 8 | AO15: 264 | AP15: 14 | AQ15: 161 | AR15: 5 | AS15: 798 | AT15: 1 | AU15: - | AV15: - | AW15: 5167 | AX15: 1 | AY15: 38.3 | AZ15: 13555 | BA15: (1)
A16: 青森 | B16: (2) | C16: 3466 | D16: 7 | E16: 2376 | F16: 5 | G16: 511 | H16: 11 | I16: x | J16: - | K16: 1 | L16: 10 | M16: 14 | N16: 8 | O16: 12 | P16: 19 | Q16: 687 | R16: 13 | S16: 1096 | T16: 1 | U16: 19 | V16: 40 | W16: 17 | X16: 14 | Y16: x | Z16: - | AA16: x | AB16: - | AC16: 1090 | AD16: 10 | AE16: 165 | AF16: 13 | AG16: 91 | AH16: 17 | AI16: 87 | AJ16: 16 | AK16: 307 | AL16: 8 | AM16: 515 | AN16: 6 | AO16: 264 | AP16: 13 | AQ16: 233 | AR16: 4 | AS16: 11 | AT16: 7 | AU16: 0 | AV16: 44 | AW16: 1226 | AX16: 6 | AY16: 35.4 | AZ16: 3469 | BA16: (2)
A17: 岩手 | B17: (3) | C17: 2975 | D17: 9 | E17: 1000 | F17: 23 | G17: 527 | H17: 10 | I17: x | J17: - | K17: 3 | L17: 8 | M17: 7 | N17: 14 | O17: 3 | P17: 43 | Q17: 255 | R17: 30 | S17: 126 | T17: 19 | U17: 44 | V17: 23 | W17: 25 | X17: 12 | Y17: x | Z17: - | AA17: x | AB17: - | AC17: 1975 | AD17: 4 | AE17: 249 | AF17: 8 | AG17: 255 | AH17: 5 | AI17: 245 | AJ17: 4 | AK17: 388 | AL17: 7 | AM17: 1073 | AN17: 2 | AO17: 249 | AP17: 15 | AQ17: 778 | AR17: 3 | AS17: 10 | AT17: 8 | AU17: 0 | AV17: 40 | AW17: 884 | AX17: 13 | AY17: 29.7 | AZ17: 3013 | BA17: (3)
A18: 宮城 | B18: (4) | C18: 1924 | D18: 18 | E18: 1089 | F18: 20 | G18: 731 | H18: 5 | I18: x | J18: - | K18: 0 | L18: 23 | M18: 26 | N18: 3 | O18: 6 | P18: 33 | Q18: 274 | R18: 29 | S18: 19 | T18: 45 | U18: 25 | V18: 38 | W18: 1 | X18: 43 | Y18: 0 | Z18: 33 | AA18: x | AB18: - | AC18: 833 | AD18: 13 | AE18: 253 | AF18: 5 | AG18: 129 | AH18: 10 | AI18: 125 | AJ18: 10 | AK18: 140 | AL18: 16 | AM18: 309 | AN18: 16 | AO18: 231 | AP18: 16 | AQ18: 64 | AR18: 13 | AS18: 1 | AT18: 30 | AU18: 2 | AV18: 25 | AW18: 642 | AX18: 18 | AY18: 33.4 | AZ18: 1961 | BA18: (4)
A19: 秋田 | B19: (5) | C19: 1779 | D19: 19 | E19: 1368 | F19: 15 | G19: 938 | H19: 3 | I19: 0 | J19: 24 | K19: 2 | L19: 9 | M19: 10 | N19: 10 | O19: 8 | P19: 26 | Q19: 298 | R19: 27 | S19: 81 | T19: 29 | U19: 22 | V19: 39 | W19: 3 | X19: 28 | Y19: x | Z19: - | AA19: 6 | AB19: 26 | AC19: 411 | AD19: 25 | AE19: 58 | AF19: 32 | AG19: 27 | AH19: 36 | AI19: 26 | AJ19: 36 | AK19: 192 | AL19: 12 | AM19: 130 | AN19: 27 | AO19: 117 | AP19: 23 | AQ19: - | AR19: - | AS19: 4 | AT19: 13 | AU19: 0 | AV19: 41 | AW19: 526 | AX19: 23 | AY19: 29.6 | AZ19: 1818 | BA19: (5)
A20: 山形 | B20: (6) | C20: 2441 | D20: 13 | E20: 1998 | F20: 8 | G20: 739 | H20: 4 | I20: x | J20: - | K20: 5 | L20: 5 | M20: 9 | N20: 12 | O20: 3 | P20: 44 | Q20: 418 | R20: 19 | S20: 743 | T20: 5 | U20: 70 | V20: 17 | W20: 2 | X20: 31 | Y20: x | Z20: - | AA20: x | AB20: - | AC20: 441 | AD20: 24 | AE20: 155 | AF20: 15 | AG20: 81 | AH20: 21 | AI20: 76 | AJ20: 20 | AK20: 157 | AL20: 13 | AM20: 46 | AN20: 39 | AO20: 26 | AP20: 39 | AQ20: 20 | AR20: 28 | AS20: 3 | AT20: 19 | AU20: 2 | AV20: 24 | AW20: 840 | AX20: 14 | AY20: 34.4 | AZ20: 2480 | BA20: (6)
A21: 福島 | B21: (7) | C21: 2163 | D21: 16 | E21: 1607 | F21: 12 | G21: 687 | H21: 7 | I21: 1 | J21: 23 | K21: 3 | L21: 7 | M21: 3 | N21: 24 | O21: 16 | P21: 14 | Q21: 480 | R21: 16 | S21: 317 | T21: 8 | U21: 83 | V21: 13 | W21: 7 | X21: 19 | Y21: x | Z21: - | AA21: 11 | AB21: 14 | AC21: 542 | AD21: 19 | AE21: 128 | AF21: 17 | AG21: 80 | AH21: 23 | AI21: 75 | AJ21: 22 | AK21: 100 | AL21: 21 | AM21: 232 | AN21: 21 | AO21: 197 | AP21: 17 | AQ21: 16 | AR21: 29 | AS21: 2 | AT21: 24 | AU21: 14 | AV21: 9 | AW21: 742 | AX21: 16 | AY21: 34.3 | AZ21: 2202 | BA21: (7)
A22: 茨城 | B22: (8) | C22: 4536 | D22: 3 | E22: 3082 | F22: 2 | G22: 703 | H22: 6 | I22: 9 | J22: 9 | K22: 7 | L22: 2 | M22: 13 | N22: 9 | O22: 375 | P22: 2 | Q22: 1664 | R22: 2 | S22: 124 | T22: 20 | U22: 165 | V22: 5 | W22: 4 | X22: 26 | Y22: 2 | Z22: 16 | AA22: 18 | AB22: 8 | AC22: 1353 | AD22: 8 | AE22: 196 | AF22: 9 | AG22: 236 | AH22: 7 | AI22: 226 | AJ22: 7 | AK22: 405 | AL22: 6 | AM22: 514 | AN22: 7 | AO22: 460 | AP22: 2 | AQ22: 36 | AR22: 20 | AS22: 2 | AT22: 28 | AU22: 100 | AV22: 2 | AW22: 1534 | AX22: 3 | AY22: 33.8 | AZ22: 4563 | BA22: (8)
A23: 栃木 | B23: (9) | C23: 2959 | D23: 10 | E23: 1586 | F23: 13 | G23: 586 | H23: 8 | I23: 50 | J23: 2 | K23: 6 | L23: 4 | M23: 5 | N23: 17 | O23: 10 | P23: 21 | Q23: 745 | R23: 9 | S23: 89 | T23: 25 | U23: 74 | V23: 15 | W23: 2 | X23: 30 | Y23: x | Z23: - | AA23: 19 | AB23: 6 | AC23: 1367 | AD23: 7 | AE23: 251 | AF23: 6 | AG23: 472 | AH23: 2 | AI23: 435 | AJ23: 2 | AK23: 279 | AL23: 10 | AM23: 363 | AN23: 13 | AO23: 348 | AP23: 7 | AQ23: x | AR23: - | AS23: 3 | AT23: 19 | AU23: 7 | AV23: 14 | AW23: 1086 | AX23: 10 | AY23: 36.7 | AZ23: 2991 | BA23: (9)
A24: 群馬 | B24: (10) | C24: 2655 | D24: 12 | E24: 1335 | F24: 17 | G24: 153 | H24: 33 | I24: 23 | J24: 5 | K24: 1 | L24: 12 | M24: 2 | N24: 27 | O24: 6 | P24: 30 | Q24: 956 | R24: 7 | S24: 76 | T24: 30 | U24: 56 | V24: 21 | W24: 49 | X24: 6 | Y24: x | Z24: - | AA24: 12 | AB24: 12 | AC24: 1319 | AD24: 9 | AE24: 182 | AF24: 12 | AG24: 256 | AH24: 4 | AI24: 233 | AJ24: 6 | AK24: 478 | AL24: 5 | AM24: 388 | AN24: 12 | AO24: 327 | AP24: 8 | AQ24: 48 | AR24: 17 | AS24: 15 | AT24: 5 | AU24: 1 | AV24: 28 | AW24: 900 | AX24: 12 | AY24: 33.9 | AZ24: 2699 | BA24: (10)
A25: 埼玉 | B25: (11) | C25: 1636 | D25: 22 | E25: 1355 | F25: 16 | G25: 305 | H25: 19 | I25: 17 | J25: 7 | K25: 1 | L25: 18 | M25: 1 | N25: 33 | O25: 29 | P25: 10 | Q25: 768 | R25: 8 | S25: 49 | T25: 37 | U25: 157 | V25: 7 | W25: 13 | X25: 16 | Y25: 12 | Z25: 7 | AA25: 16 | AB25: 11 | AC25: 280 | AD25: 33 | AE25: 49 | AF25: 34 | AG25: 59 | AH25: 25 | AI25: 54 | AJ25: 25 | AK25: 69 | AL25: 24 | AM25: 101 | AN25: 32 | AO25: 101 | AP25: 24 | AQ25: x | AR25: - | AS25: 2 | AT25: 22 | AU25: 1 | AV25: 34 | AW25: 597 | AX25: 20 | AY25: 36.5 | AZ25: 1646 | BA25: (11)
A26: 千葉 | B26: (12) | C26: 4029 | D26: 4 | E26: 2526 | F26: 4 | G26: 569 | H26: 9 | I26: x | J26: - | K26: 0 | L26: 27 | M26: 69 | N26: 2 | O26: 212 | P26: 4 | Q26: 1336 | R26: 4 | S26: 108 | T26: 22 | U26: 200 | V26: 2 | W26: 2 | X26: 29 | Y26: 0 | Z26: 28 | AA26: x | AB26: - | AC26: 1501 | AD26: 5 | AE26: 123 | AF26: 20 | AG26: 254 | AH26: 6 | AI26: 238 | AJ26: 5 | AK26: 519 | AL26: 4 | AM26: 593 | AN26: 4 | AO26: 504 | AP26: 1 | AQ26: 54 | AR26: 16 | AS26: 12 | AT26: 6 | AU26: 2 | AV26: 21 | AW26: 1262 | AX26: 5 | AY26: 31.3 | AZ26: 4051 | BA26: (12)
A27: 東京 | B27: (13) | C27: 220 | D27: 47 | E27: 202 | F27: 47 | G27: 1 | H27: 47 | I27: 0 | J27: 32 | K27: 0 | L27: 44 | M27: 0 | N27: 46 | O27: 6 | P27: 34 | Q27: 125 | R27: 41 | S27: 26 | T27: 42 | U27: 37 | V27: 32 | W27: 1 | X27: 32 | Y27: 0 | Z27: 25 | AA27: 7 | AB27: 24 | AC27: 18 | AD27: 47 | AE27: 2 | AF27: 47 | AG27: 11 | AH27: 45 | AI27: 10 | AJ27: 45 | AK27: 1 | AL27: 45 | AM27: 3 | AN27: 46 | AO27: 3 | AP27: 46 | AQ27: - | AR27: - | AS27: 1 | AT27: 39 | AU27: 0 | AV27: 45 | AW27: 86 | AX27: 47 | AY27: 39.1 | AZ27: 221 | BA27: (13)
A28: 神奈川 | B28: (14) | C28: 686 | D28: 39 | E28: 515 | F28: 35 | G28: 30 | H28: 45 | I28: x | J28: - | K28: 0 | L28: 40 | M28: 1 | N28: 30 | O28: 14 | P28: 16 | Q28: 334 | R28: 24 | S28: 83 | T28: 28 | U28: 43 | V28: 25 | W28: 1 | X28: 34 | Y28: 1 | Z28: 19 | AA28: x | AB28: - | AC28: 169 | AD28: 37 | AE28: 18 | AF28: 37 | AG28: 33 | AH28: 33 | AI28: 31 | AJ28: 34 | AK28: 55 | AL28: 26 | AM28: 62 | AN28: 35 | AO28: 62 | AP28: 29 | AQ28: - | AR28: - | AS28: 1 | AT28: 41 | AU28: 2 | AV28: 23 | AW28: 239 | AX28: 40 | AY28: 34.8 | AZ28: 690 | BA28: (14)
A29: 新潟 | B29: (15) | C29: 2281 | D29: 14 | E29: 1775 | F29: 9 | G29: 1255 | H29: 1 | I29: 0 | J29: 27 | K29: 1 | L29: 13 | M29: 10 | N29: 11 | O29: 16 | P29: 13 | Q29: 338 | R29: 23 | S29: 87 | T29: 26 | U29: 62 | V29: 19 | W29: 4 | X29: 25 | Y29: 0 | Z29: 29 | AA29: 2 | AB29: 30 | AC29: 504 | AD29: 20 | AE29: 41 | AF29: 35 | AG29: 50 | AH29: 28 | AI29: 48 | AJ29: 27 | AK29: 131 | AL29: 17 | AM29: 281 | AN29: 19 | AO29: 195 | AP29: 18 | AQ29: 36 | AR29: 19 | AS29: 1 | AT29: 38 | AU29: 2 | AV29: 27 | AW29: 805 | AX29: 15 | AY29: 35.3 | AZ29: 2738 | BA29: (15)
A30: 富山 | B30: (16) | C30: 588 | D30: 42 | E30: 492 | F30: 37 | G30: 388 | H30: 14 | I30: 3 | J30: 17 | K30: 1 | L30: 14 | M30: 8 | N30: 13 | O30: 3 | P30: 45 | Q30: 54 | R30: 47 | S30: 22 | T30: 43 | U30: 11 | V30: 45 | W30: 0 | X30: 46 | Y30: x | Z30: - | AA30: 2 | AB30: 32 | AC30: 93 | AD30: 41 | AE30: 14 | AF30: 42 | AG30: 16 | AH30: 43 | AI30: 16 | AJ30: 42 | AK30: 20 | AL30: 38 | AM30: 43 | AN30: 40 | AO30: 42 | AP30: 35 | AQ30: - | AR30: - | AS30: 0 | AT30: 46 | AU30: 4 | AV30: 18 | AW30: 194 | AX30: 43 | AY30: 33 | AZ30: 623 | BA30: (16)
A31: 石川 | B31: (17) | C31: 521 | D31: 43 | E31: 403 | F31: 42 | G31: 258 | H31: 20 | I31: 2 | J31: 20 | K31: 0 | L31: 28 | M31: 3 | N31: 25 | O31: 13 | P31: 18 | Q31: 86 | R31: 45 | S31: 34 | T31: 41 | U31: 5 | V31: 46 | W31: 0 | X31: 44 | Y31: 0 | Z31: 33 | AA31: 2 | AB31: 31 | AC31: 117 | AD31: 38 | AE31: 18 | AF31: 38 | AG31: 23 | AH31: 40 | AI31: 22 | AJ31: 40 | AK31: 14 | AL31: 39 | AM31: 61 | AN31: 36 | AO31: 60 | AP31: 31 | AQ31: - | AR31: - | AS31: 0 | AT31: 44 | AU31: 1 | AV31: 29 | AW31: 196 | AX31: 42 | AY31: 37.6 | AZ31: 531 | BA31: (17)
A32: 福井 | B32: (18) | C32: 433 | D32: 44 | E32: 368 | F32: 44 | G32: 247 | H32: 24 | I32: 5 | J32: 14 | K32: 5 | L32: 6 | M32: 3 | N32: 23 | O32: 8 | P32: 27 | Q32: 81 | R32: 46 | S32: 13 | T32: 46 | U32: 4 | V32: 47 | W32: 0 | X32: 45 | Y32: 0 | Z32: 35 | AA32: 2 | AB32: 29 | AC32: 65 | AD32: 44 | AE32: 8 | AF32: 45 | AG32: 8 | AH32: 46 | AI32: 8 | AJ32: 46 | AK32: 2 | AL32: 44 | AM32: 47 | AN32: 38 | AO32: 44 | AP32: 34 | AQ32: 2 | AR32: 37 | AS32: 0 | AT32: 45 | AU32: 1 | AV32: 33 | AW32: 175 | AX32: 44 | AY32: 40.4 | AZ32: 438 | BA32: (18)
A33: 山梨 | B33: (19) | C33: 1192 | D33: 30 | E33: 1095 | F33: 19 | G33: 63 | H33: 42 | I33: 0 | J33: 29 | K33: 0 | L33: 25 | M33: 1 | N33: 36 | O33: 3 | P33: 41 | Q33: 137 | R33: 38 | S33: 831 | T33: 3 | U33: 40 | V33: 29 | W33: 1 | X33: 40 | Y33: 1 | Z33: 21 | AA33: 18 | AB33: 7 | AC33: 91 | AD33: 42 | AE33: 16 | AF33: 40 | AG33: 25 | AH33: 39 | AI33: 23 | AJ33: 39 | AK33: 9 | AL33: 41 | AM33: 41 | AN33: 41 | AO33: 30 | AP33: 37 | AQ33: 10 | AR33: 35 | AS33: 1 | AT33: 33 | AU33: 6 | AV33: 16 | AW33: 423 | AX33: 29 | AY33: 35.5 | AZ33: 1197 | BA33: (19)
A34: 長野 | B34: (20) | C34: 2890 | D34: 11 | E34: 2597 | F34: 3 | G34: 426 | H34: 13 | I34: x | J34: - | K34: 7 | L34: 3 | M34: 4 | N34: 20 | O34: 16 | P34: 15 | Q34: 957 | R34: 6 | S34: 1000 | T34: 2 | U34: 163 | V34: 6 | W34: 1 | X34: 38 | Y34: 0 | Z34: 31 | AA34: x | AB34: - | AC34: 280 | AD34: 34 | AE34: 67 | AF34: 30 | AG34: 114 | AH34: 11 | AI34: 105 | AJ34: 12 | AK34: 45 | AL34: 30 | AM34: 49 | AN34: 37 | AO34: 27 | AP34: 38 | AQ34: 20 | AR34: 27 | AS34: 5 | AT34: 11 | AU34: 14 | AV34: 10 | AW34: 1093 | AX34: 9 | AY34: 37.8 | AZ34: 3431 | BA34: (20)
A35: 岐阜 | B35: (21) | C35: 1263 | D35: 28 | E35: 757 | F35: 31 | G35: 192 | H35: 26 | I35: 7 | J35: 13 | K35: 0 | L35: 22 | M35: 5 | N35: 19 | O35: 3 | P35: 42 | Q35: 421 | R35: 18 | S35: 60 | T35: 36 | U35: 59 | V35: 20 | W35: 3 | X35: 27 | Y35: 3 | Z35: 15 | AA35: 6 | AB35: 25 | AC35: 504 | AD35: 21 | AE35: 123 | AF35: 19 | AG35: 42 | AH35: 29 | AI35: 40 | AJ35: 29 | AK35: 95 | AL35: 22 | AM35: 241 | AN35: 20 | AO35: 188 | AP35: 19 | AQ35: 24 | AR35: 24 | AS35: 2 | AT35: 23 | AU35: 2 | AV35: 20 | AW35: 455 | AX35: 26 | AY35: 36 | AZ35: 1290 | BA35: (21)
A36: 静岡 | B36: (22) | C36: 2245 | D36: 15 | E36: 1505 | F36: 14 | G36: 185 | H36: 28 | I36: x | J36: - | K36: 0 | L36: 35 | M36: 0 | N36: 40 | O36: 31 | P36: 9 | Q36: 630 | R36: 14 | S36: 311 | T36: 9 | U36: 179 | V36: 4 | W36: 120 | X36: 4 | Y36: 120 | Z36: 2 | AA36: x | AB36: - | AC36: 637 | AD36: 16 | AE36: 90 | AF36: 24 | AG36: 111 | AH36: 12 | AI36: 106 | AJ36: 11 | AK36: 62 | AL36: 25 | AM36: 334 | AN36: 15 | AO36: 291 | AP36: 10 | AQ36: 33 | AR36: 22 | AS36: 39 | AT36: 3 | AU36: 104 | AV36: 1 | AW36: 738 | AX36: 17 | AY36: 32.9 | AZ36: 2318 | BA36: (22)
A37: 愛知 | B37: (23) | C37: 3207 | D37: 8 | E37: 2153 | F37: 7 | G37: 257 | H37: 21 | I37: 22 | J37: 6 | K37: 0 | L37: 43 | M37: 6 | N37: 15 | O37: 9 | P37: 22 | Q37: 1083 | R37: 5 | S37: 177 | T37: 13 | U37: 563 | V37: 1 | W37: 8 | X37: 18 | Y37: 7 | Z37: 10 | AA37: 28 | AB37: 5 | AC37: 1047 | AD37: 11 | AE37: 124 | AF37: 18 | AG37: 194 | AH37: 8 | AI37: 180 | AJ37: 8 | AK37: 290 | AL37: 9 | AM37: 398 | AN37: 10 | AO37: 353 | AP37: 6 | AQ37: 34 | AR37: 21 | AS37: 41 | AT37: 2 | AU37: 7 | AV37: 13 | AW37: 1157 | AX37: 8 | AY37: 36.1 | AZ37: 3215 | BA37: (23)
A38: 三重 | B38: (24) | C38: 1218 | D38: 29 | E38: 621 | F38: 33 | G38: 252 | H38: 22 | I38: 16 | J38: 8 | K38: 0 | L38: 34 | M38: 5 | N38: 18 | O38: 8 | P38: 25 | Q38: 158 | R38: 36 | S38: 68 | T38: 33 | U38: 40 | V38: 30 | W38: 36 | X38: 8 | Y38: 36 | Z38: 4 | AA38: 39 | AB38: 4 | AC38: 584 | AD38: 18 | AE38: 119 | AF38: 21 | AG38: 81 | AH38: 19 | AI38: 76 | AJ38: 21 | AK38: 84 | AL38: 23 | AM38: 299 | AN38: 17 | AO38: 277 | AP38: 11 | AQ38: 16 | AR38: 30 | AS38: 0 | AT38: 43 | AU38: 14 | AV38: 8 | AW38: 384 | AX38: 32 | AY38: 31.5 | AZ38: 1271 | BA38: (24)
A39: 滋賀 | B39: (25) | C39: 610 | D39: 41 | E39: 497 | F39: 36 | G39: 316 | H39: 17 | I39: 7 | J39: 12 | K39: 1 | L39: 15 | M39: 17 | N39: 6 | O39: 3 | P39: 40 | Q39: 116 | R39: 43 | S39: 10 | T39: 47 | U39: 14 | V39: 44 | W39: 5 | X39: 22 | Y39: 5 | Z39: 14 | AA39: 7 | AB39: 19 | AC39: 112 | AD39: 39 | AE39: 71 | AF39: 29 | AG39: 25 | AH39: 38 | AI39: 23 | AJ39: 38 | AK39: 1 | AL39: 46 | AM39: 11 | AN39: 45 | AO39: 10 | AP39: 45 | AQ39: x | AR39: - | AS39: 3 | AT39: 21 | AU39: 2 | AV39: 26 | AW39: 231 | AX39: 41 | AY39: 37.9 | AZ39: 612 | BA39: (25)
A40: 京都 | B40: (26) | C40: 766 | D40: 37 | E40: 551 | F40: 34 | G40: 164 | H40: 32 | I40: 0 | J40: 25 | K40: 0 | L40: 30 | M40: 3 | N40: 22 | O40: 5 | P40: 38 | Q40: 299 | R40: 26 | S40: 22 | T40: 44 | U40: 14 | V40: 43 | W40: 36 | X40: 7 | Y40: 36 | Z40: 3 | AA40: 7 | AB40: 18 | AC40: 175 | AD40: 36 | AE40: 15 | AF40: 41 | AG40: 39 | AH40: 31 | AI40: 37 | AJ40: 31 | AK40: 12 | AL40: 40 | AM40: 108 | AN40: 30 | AO40: 86 | AP40: 26 | AQ40: 16 | AR40: 31 | AS40: 1 | AT40: 29 | AU40: 40 | AV40: 4 | AW40: 249 | AX40: 38 | AY40: 32.5 | AZ40: 775 | BA40: (26)
A41: 大阪 | B41: (27) | C41: 320 | D41: 46 | E41: 302 | F41: 46 | G41: 52 | H41: 44 | I41: x | J41: - | K41: 0 | L41: 44 | M41: 0 | N41: 46 | O41: 4 | P41: 39 | Q41: 149 | R41: 37 | S41: 74 | T41: 31 | U41: 19 | V41: 41 | W41: 0 | X41: 47 | Y41: - | Z41: - | AA41: x | AB41: - | AC41: 18 | AD41: 46 | AE41: 3 | AF41: 46 | AG41: 12 | AH41: 44 | AI41: 12 | AJ41: 44 | AK41: 2 | AL41: 43 | AM41: 1 | AN41: 47 | AO41: 1 | AP41: 47 | AQ41: - | AR41: - | AS41: - | AT41: - | AU41: - | AV41: - | AW41: 110 | AX41: 46 | AY41: 34.4 | AZ41: 322 | BA41: (27)
A42: 兵庫 | B42: (28) | C42: 1677 | D42: 21 | E42: 949 | F42: 26 | G42: 441 | H42: 12 | I42: 3 | J42: 16 | K42: 0 | L42: 30 | M42: 15 | N42: 7 | O42: 10 | P42: 20 | Q42: 386 | R42: 21 | S42: 44 | T42: 40 | U42: 42 | V42: 27 | W42: 1 | X42: 41 | Y42: 0 | Z42: 24 | AA42: 7 | AB42: 22 | AC42: 728 | AD42: 14 | AE42: 186 | AF42: 10 | AG42: 110 | AH42: 13 | AI42: 101 | AJ42: 13 | AK42: 20 | AL42: 37 | AM42: 411 | AN42: 9 | AO42: 303 | AP42: 9 | AQ42: 82 | AR42: 12 | AS42: 2 | AT42: 26 | AU42: 0 | AV42: 41 | AW42: 487 | AX42: 25 | AY42: 29 | AZ42: 1685 | BA42: (28)
A43: 奈良 | B43: (29) | C43: 413 | D43: 45 | E43: 342 | F43: 45 | G43: 87 | H43: 41 | I43: 0 | J43: 30 | K43: 0 | L43: 42 | M43: 0 | N43: 39 | O43: 2 | P43: 46 | Q43: 113 | R43: 44 | S43: 83 | T43: 27 | U43: 43 | V43: 26 | W43: 6 | X43: 21 | Y43: 6 | Z43: 13 | AA43: 7 | AB43: 21 | AC43: 65 | AD43: 43 | AE43: 11 | AF43: 43 | AG43: 30 | AH43: 35 | AI43: 29 | AJ43: 35 | AK43: 3 | AL43: 42 | AM43: 19 | AN43: 44 | AO43: 18 | AP43: 40 | AQ43: x | AR43: - | AS43: 1 | AT43: 36 | AU43: 6 | AV43: 15 | AW43: 137 | AX43: 45 | AY43: 33.2 | AZ43: 419 | BA43: (29)
A44: 和歌山 | B44: (30) | C44: 1128 | D44: 32 | E44: 1071 | F44: 21 | G44: 60 | H44: 43 | I44: x | J44: - | K44: 0 | L44: 44 | M44: 0 | N44: 44 | O44: 2 | P44: 47 | Q44: 125 | R44: 42 | S44: 774 | T44: 4 | U44: 71 | V44: 16 | W44: 11 | X44: 17 | Y44: 0 | Z44: 32 | AA44: x | AB44: - | AC44: 41 | AD44: 45 | AE44: 9 | AF44: 44 | AG44: 6 | AH44: 47 | AI44: 6 | AJ44: 47 | AK44: 1 | AL44: 47 | AM44: 19 | AN44: 43 | AO44: 14 | AP44: 43 | AQ44: 5 | AR44: 36 | AS44: 5 | AT44: 12 | AU44: 16 | AV44: 7 | AW44: 416 | AX44: 31 | AY44: 36.9 | AZ44: 1146 | BA44: (30)
A45: 鳥取 | B45: (31) | C45: 766 | D45: 36 | E45: 451 | F45: 40 | G45: 127 | H45: 36 | I45: x | J45: - | K45: 0 | L45: 21 | M45: 1 | N45: 32 | O45: 6 | P45: 29 | Q45: 210 | R45: 33 | S45: 73 | T45: 32 | U45: 30 | V45: 33 | W45: 1 | X45: 36 | Y45: 0 | Z45: 27 | AA45: x | AB45: - | AC45: 315 | AD45: 29 | AE45: 72 | AF45: 28 | AG45: 81 | AH45: 20 | AI45: 77 | AJ45: 19 | AK45: 45 | AL45: 29 | AM45: 116 | AN45: 29 | AO45: 12 | AP45: 44 | AQ45: 104 | AR45: 8 | AS45: 0 | AT45: 42 | AU45: 0 | AV45: 37 | AW45: 264 | AX45: 36 | AY45: 34.5 | AZ45: 776 | BA45: (31)
A46: 島根 | B46: (32) | C46: 676 | D46: 40 | E46: 381 | F46: 43 | G46: 174 | H46: 30 | I46: x | J46: - | K46: 1 | L46: 17 | M46: 2 | N46: 26 | O46: 6 | P46: 31 | Q46: 130 | R46: 40 | S46: 45 | T46: 39 | U46: 15 | V46: 42 | W46: 1 | X46: 33 | Y46: 1 | Z46: 20 | AA46: x | AB46: - | AC46: 293 | AD46: 32 | AE46: 93 | AF46: 23 | AG46: 102 | AH46: 14 | AI46: 96 | AJ46: 14 | AK46: 30 | AL46: 33 | AM46: 64 | AN46: 34 | AO46: 50 | AP46: 33 | AQ46: 13 | AR46: 34 | AS46: 4 | AT46: 14 | AU46: 2 | AV46: 22 | AW46: 245 | AX46: 39 | AY46: 36.2 | AZ46: 686 | BA46: (32)
A47: 岡山 | B47: (33) | C47: 1772 | D47: 20 | E47: 914 | F47: 27 | G47: 305 | H47: 18 | I47: 8 | J47: 10 | K47: 0 | L47: 29 | M47: 4 | N47: 21 | O47: 6 | P47: 32 | Q47: 253 | R47: 31 | S47: 305 | T47: 10 | U47: 25 | V47: 36 | W47: 1 | X47: 41 | Y47: 0 | Z47: 23 | AA47: 7 | AB47: 17 | AC47: 857 | AD47: 12 | AE47: 110 | AF47: 22 | AG47: 149 | AH47: 9 | AI47: 144 | AJ47: 9 | AK47: 36 | AL47: 32 | AM47: 562 | AN47: 5 | AO47: 433 | AP47: 4 | AQ47: 108 | AR47: 7 | AS47: 1 | AT47: 31 | AU47: 0 | AV47: 36 | AW47: 519 | AX47: 24 | AY47: 29.3 | AZ47: 1786 | BA47: (33)
A48: 広島 | B48: (34) | C48: 1448 | D48: 24 | E48: 757 | F48: 30 | G48: 247 | H48: 23 | I48: 0 | J48: 26 | K48: 0 | L48: 19 | M48: 1 | N48: 37 | O48: 17 | P48: 12 | Q48: 295 | R48: 28 | S48: 167 | T48: 14 | U48: 25 | V48: 37 | W48: 1 | X48: 39 | Y48: 0 | Z48: 29 | AA48: 5 | AB48: 28 | AC48: 691 | AD48: 15 | AE48: 77 | AF48: 27 | AG48: 65 | AH48: 24 | AI48: 59 | AJ48: 24 | AK48: 146 | AL48: 14 | AM48: 396 | AN48: 11 | AO48: 361 | AP48: 5 | AQ48: 22 | AR48: 25 | AS48: 7 | AT48: 10 | AU48: 0 | AV48: 38 | AW48: 426 | AX48: 28 | AY48: 29.4 | AZ48: 1492 | BA48: (34)
A49: 山口 | B49: (35) | C49: 689 | D49: 38 | E49: 451 | F49: 41 | G49: 183 | H49: 29 | I49: 2 | J49: 18 | K49: 0 | L49: 37 | M49: 2 | N49: 29 | O49: 7 | P49: 28 | Q49: 166 | R49: 35 | S49: 48 | T49: 38 | U49: 30 | V49: 34 | W49: 1 | X49: 37 | Y49: 0 | Z49: 22 | AA49: 12 | AB49: 13 | AC49: 237 | AD49: 35 | AE49: 49 | AF49: 33 | AG49: 20 | AH49: 41 | AI49: 19 | AJ49: 41 | AK49: 27 | AL49: 34 | AM49: 137 | AN49: 25 | AO49: 85 | AP49: 27 | AQ49: 43 | AR49: 18 | AS49: 4 | AT49: 16 | AU49: 1 | AV49: 30 | AW49: 253 | AX49: 37 | AY49: 36.7 | AZ49: 698 | BA49: (35)
A50: 徳島 | B50: (36) | C50: 986 | D50: 33 | E50: 689 | F50: 32 | G50: 98 | H50: 40 | I50: x | J50: - | K50: 0 | L50: 40 | M50: 0 | N50: 44 | O50: 80 | P50: 6 | Q50: 364 | R50: 22 | S50: 92 | T50: 24 | U50: 38 | V50: 31 | W50: 4 | X50: 24 | Y50: 1 | Z50: 17 | AA50: x | AB50: - | AC50: 296 | AD50: 31 | AE50: 81 | AF50: 25 | AG50: 34 | AH50: 32 | AI50: 31 | AJ50: 33 | AK50: 40 | AL50: 31 | AM50: 140 | AN50: 24 | AO50: 39 | AP50: 36 | AQ50: 94 | AR50: 10 | AS50: 2 | AT50: 25 | AU50: 1 | AV50: 32 | AW50: 327 | AX50: 33 | AY50: 33.2 | AZ50: 1054 | BA50: (36)
A51: 香川 | B51: (37) | C51: 978 | D51: 34 | E51: 478 | F51: 39 | G51: 110 | H51: 37 | I51: 2 | J51: 19 | K51: 0 | L51: 37 | M51: 0 | N51: 42 | O51: 6 | P51: 35 | Q51: 251 | R51: 32 | S51: 64 | T51: 34 | U51: 30 | V51: 35 | W51: 5 | X51: 23 | Y51: x | Z51: - | AA51: 11 | AB51: 15 | AC51: 500 | AD51: 22 | AE51: 63 | AF51: 31 | AG51: 57 | AH51: 26 | AI51: 52 | AJ51: 26 | AK51: 26 | AL51: 35 | AM51: 354 | AN51: 14 | AO51: 267 | AP51: 12 | AQ51: 56 | AR51: 14 | AS51: 1 | AT51: 40 | AU51: 0 | AV51: 43 | AW51: 307 | AX51: 34 | AY51: 31.4 | AZ51: 1017 | BA51: (37)
A52: 愛媛 | B52: (38) | C52: 1295 | D52: 26 | E52: 994 | F52: 24 | G52: 139 | H52: 35 | I52: 1 | J52: 22 | K52: 0 | L52: 35 | M52: 1 | N52: 34 | O52: 5 | P52: 37 | Q52: 204 | R52: 34 | S52: 550 | T52: 6 | U52: 43 | V52: 24 | W52: 1 | X52: 35 | Y52: x | Z52: - | AA52: 50 | AB52: 3 | AC52: 301 | AD52: 30 | AE52: 28 | AF52: 36 | AG52: 39 | AH52: 30 | AI52: 38 | AJ52: 30 | AK52: 127 | AL52: 18 | AM52: 103 | AN52: 31 | AO52: 81 | AP52: 28 | AQ52: 22 | AR52: 26 | AS52: 3 | AT52: 17 | AU52: 0 | AV52: 39 | AW52: 449 | AX52: 27 | AY52: 34.7 | AZ52: 1306 | BA52: (38)
A53: 高知 | B53: (39) | C53: 1128 | D53: 31 | E53: 1032 | F53: 22 | G53: 103 | H53: 38 | I53: x | J53: - | K53: 0 | L53: 44 | M53: 0 | N53: 43 | O53: 13 | P53: 17 | Q53: 705 | R53: 11 | S53: 131 | T53: 18 | U53: 64 | V53: 18 | W53: 6 | X53: 20 | Y53: 1 | Z53: 18 | AA53: x | AB53: - | AC53: 96 | AD53: 40 | AE53: 18 | AF53: 39 | AG53: 26 | AH53: 37 | AI53: 25 | AJ53: 37 | AK53: 22 | AL53: 36 | AM53: 29 | AN53: 42 | AO53: 15 | AP53: 42 | AQ53: 13 | AR53: 33 | AS53: 1 | AT53: 35 | AU53: 1 | AV53: 31 | AW53: 417 | AX53: 30 | AY53: 37 | AZ53: 1140 | BA53: (39)
A54: 福岡 | B54: (40) | C54: 2096 | D54: 17 | E54: 1683 | F54: 10 | G54: 338 | H54: 15 | I54: 43 | J54: 3 | K54: 0 | L54: 33 | M54: 18 | N54: 5 | O54: 9 | P54: 23 | Q54: 734 | R54: 10 | S54: 267 | T54: 11 | U54: 188 | V54: 3 | W54: 25 | X54: 11 | Y54: 24 | Z54: 5 | AA54: 61 | AB54: 1 | AC54: 402 | AD54: 26 | AE54: 79 | AF54: 26 | AG54: 80 | AH54: 22 | AI54: 73 | AJ54: 23 | AK54: 55 | AL54: 28 | AM54: 180 | AN54: 23 | AO54: 118 | AP54: 22 | AQ54: 30 | AR54: 23 | AS54: 7 | AT54: 9 | AU54: 12 | AV54: 11 | AW54: 938 | AX54: 11 | AY54: 44.8 | AZ54: 2225 | BA54: (40)
A55: 佐賀 | B55: (41) | C55: 1284 | D55: 27 | E55: 901 | F55: 28 | G55: 245 | H55: 25 | I55: 34 | J55: 4 | K55: 0 | L55: 37 | M55: 18 | N55: 4 | O55: 5 | P55: 36 | Q55: 331 | R55: 25 | S55: 201 | T55: 12 | U55: 42 | V55: 28 | W55: 17 | X55: 13 | Y55: 8 | Z55: 9 | AA55: 8 | AB55: 16 | AC55: 378 | AD55: 28 | AE55: 185 | AF55: 11 | AG55: 17 | AH55: 42 | AI55: 15 | AJ55: 43 | AK55: 55 | AL55: 27 | AM55: 118 | AN55: 28 | AO55: 16 | AP55: 41 | AQ55: 101 | AR55: 9 | AS55: 3 | AT55: 18 | AU55: 5 | AV55: 17 | AW55: 609 | AX55: 19 | AY55: 47.4 | AZ55: 1285 | BA55: (41)
A56: 長崎 | B56: (42) | C56: 1590 | D56: 23 | E56: 960 | F56: 25 | G56: 101 | H56: 39 | I56: 1 | J56: 21 | K56: 0 | L56: 20 | M56: 1 | N56: 35 | O56: 123 | P56: 5 | Q56: 472 | R56: 17 | S56: 139 | T56: 17 | U56: 89 | V56: 11 | W56: 28 | X56: 10 | Y56: 6 | Z56: 12 | AA56: 7 | AB56: 23 | AC56: 627 | AD56: 17 | AE56: 250 | AF56: 7 | AG56: 53 | AH56: 27 | AI56: 48 | AJ56: 28 | AK56: 142 | AL56: 15 | AM56: 182 | AN56: 22 | AO56: 92 | AP56: 25 | AQ56: 89 | AR56: 11 | AS56: 1 | AT56: 37 | AU56: 2 | AV56: 19 | AW56: 561 | AX56: 21 | AY56: 35.3 | AZ56: 1635 | BA56: (42)
A57: 熊本 | B57: (43) | C57: 3757 | D57: 5 | E57: 2368 | F57: 6 | G57: 328 | H57: 16 | I57: 8 | J57: 11 | K57: 1 | L57: 16 | M57: 6 | N57: 16 | O57: 61 | P57: 8 | Q57: 1365 | R57: 3 | S57: 391 | T57: 7 | U57: 117 | V57: 9 | W57: 76 | X57: 5 | Y57: 8 | Z57: 8 | AA57: 17 | AB57: 10 | AC57: 1371 | AD57: 6 | AE57: 435 | AF57: 4 | AG57: 352 | AH57: 3 | AI57: 317 | AJ57: 3 | AK57: 265 | AL57: 11 | AM57: 285 | AN57: 18 | AO57: 146 | AP57: 21 | AQ57: 112 | AR57: 6 | AS57: 34 | AT57: 4 | AU57: 18 | AV57: 6 | AW57: 1554 | AX57: 2 | AY57: 41.4 | AZ57: 3776 | BA57: (43)
A58: 大分 | B58: (44) | C58: 1342 | D58: 25 | E58: 839 | F58: 29 | G58: 188 | H58: 27 | I58: 5 | J58: 14 | K58: 0 | L58: 32 | M58: 2 | N58: 28 | O58: 26 | P58: 11 | Q58: 393 | R58: 20 | S58: 156 | T58: 15 | U58: 48 | V58: 22 | W58: 15 | X58: 15 | Y58: 7 | Z58: 11 | AA58: 5 | AB58: 27 | AC58: 496 | AD58: 23 | AE58: 150 | AF58: 16 | AG58: 89 | AH58: 18 | AI58: 83 | AJ58: 18 | AK58: 121 | AL58: 19 | AM58: 134 | AN58: 26 | AO58: 60 | AP58: 32 | AQ58: 56 | AR58: 15 | AS58: 2 | AT58: 27 | AU58: 8 | AV58: 12 | AW58: 537 | AX58: 22 | AY58: 40 | AZ58: 1393 | BA58: (44)
A59: 宮崎 | B59: (45) | C59: 3720 | D59: 6 | E59: 1197 | F59: 18 | G59: 146 | H59: 34 | I59: x | J59: - | K59: 0 | L59: 25 | M59: 0 | N59: 38 | O59: 68 | P59: 7 | Q59: 700 | R59: 12 | S59: 148 | T59: 16 | U59: 87 | V59: 12 | W59: 32 | X59: 9 | Y59: 14 | Z59: 6 | AA59: x | AB59: - | AC59: 2483 | AD59: 3 | AE59: 765 | AF59: 3 | AG59: 94 | AH59: 16 | AI59: 86 | AJ59: 17 | AK59: 600 | AL59: 3 | AM59: 1023 | AN59: 3 | AO59: 166 | AP59: 20 | AQ59: 827 | AR59: 2 | AS59: 1 | AT59: 34 | AU59: 39 | AV59: 5 | AW59: 1219 | AX59: 7 | AY59: 32.8 | AZ59: 3768 | BA59: (45)
A60: 鹿児島 | B60: (46) | C60: 5438 | D60: 2 | E60: 1609 | F60: 11 | G60: 173 | H60: 31 | I60: 0 | J60: 28 | K60: 1 | L60: 11 | M60: 1 | N60: 31 | O60: 310 | P60: 3 | Q60: 573 | R60: 15 | S60: 112 | T60: 21 | U60: 127 | V60: 8 | W60: 293 | X60: 2 | Y60: 140 | Z60: 1 | AA60: 18 | AB60: 9 | AC60: 3754 | AD60: 2 | AE60: 1208 | AF60: 2 | AG60: 96 | AH60: 15 | AI60: 88 | AJ60: 15 | AK60: 910 | AL60: 1 | AM60: 1540 | AN60: 1 | AO60: 439 | AP60: 3 | AQ60: 1067 | AR60: 1 | AS60: 1 | AT60: 32 | AU60: 75 | AV60: 3 | AW60: 1534 | AX60: 4 | AY60: 28.2 | AZ60: 5451 | BA60: (46)
A61: 沖縄 | B61: (47) | C61: 879 | D61: 35 | E61: 486 | F61: 38 | G61: 4 | H61: 46 | I61: 0 | J61: 31 | K61: 0 | L61: 24 | M61: 0 | N61: 41 | O61: 8 | P61: 24 | Q61: 136 | R61: 39 | S61: 62 | T61: 35 | U61: 82 | V61: 14 | W61: 185 | X61: 3 | Y61: 0 | Z61: 26 | AA61: 7 | AB61: 20 | AC61: 393 | AD61: 27 | AE61: 160 | AF61: 14 | AG61: 33 | AH61: 34 | AI61: 33 | AJ61: 32 | AK61: 120 | AL61: 20 | AM61: 77 | AN61: 33 | AO61: 61 | AP61: 30 | AQ61: 15 | AR61: 32 | AS61: 4 | AT61: 15 | AU61: 0 | AV61: 35 | AW61: 273 | AX61: 35 | AY61: 31.1 | AZ61: 885 | BA61: (47)
A62: 合計 | B62: (48) | C62: 95543 | D62: - | E62: 57345 | F62: - | G62: 15279 | H62: - | I62: 697 | J62: - | K62: 80 | L62: - | M62: 589 | N62: - | O62: 2183 | P62: - | Q62: 23243 | R62: - | S62: 9590 | T62: - | U62: 3522 | V62: - | W62: 1467 | X62: - | Y62: 443 | Z62: - | AA62: 696 | AB62: - | AC62: 37685 | AD62: - | AE62: 7787 | AF62: - | AG62: 9038 | AH62: - | AI62: 8318 | AJ62: - | AK62: 7259 | AL62: - | AM62: 12561 | AN62: - | AO62: 7533 | AP62: - | AQ62: 4471 | AR62: - | AS62: 1041 | AT62: - | AU62: 513 | AV62: - | AW62: 33417 | AX62: - | AY62: 35 | AZ62: 97742 | BA62: (48)
A64: 注：順位付けは、秘密保護上統計数値を公表していない都道府県を除いたものであり、原数値（100万円）により判定した。
C65: *令和7年５月23日修正（全国・茨城）

Sheet 上位10道県との比較
A1: 年次 | B1: 全国 | C1: 長野県 | D1: ①北海道 | E1: ②鹿児島 | F1: ③茨城県 | G1: ④千葉県 | H1: ⑤熊本県 | I1: ⑥宮崎県 | J1: ⑦青森県 | K1: ⑧愛知県 | L1: ⑨岩手県 | M1: ⑩栃木県
A2: 1960 | B2: =全国!B15 -> 19148 | C2: =長野県!$B10 -> 619 | D2: =①北海道!$B10 -> 1319 | E2: =②鹿児島県!$B10 -> 520 | F2: =③茨城県!B10 -> 726 | G2: =④千葉県!$B10 -> 671 | H2: =⑥熊本県!$B10 -> 446 | I2: =⑦宮崎県!$B10 -> 271 | J2: =⑤青森県!$B10 -> 466 | K2: =⑧愛知県!$B10 -> 591 | L2: 401 | M2: =⑨栃木県!$B10 -> 494
A3: =A2+1 -> 1961 | B3: =全国!B16 -> 21081 | C3: =長野県!$B11 -> 726 | D3: =①北海道!B11 -> 1515 | E3: =②鹿児島県!$B11 -> 545 | F3: =③茨城県!B11 -> 877 | G3: =④千葉県!$B11 -> 801 | H3: =⑥熊本県!$B11 -> 519 | I3: =⑦宮崎県!$B11 -> 305 | J3: =⑤青森県!$B11 -> 513 | K3: =⑧愛知県!$B11 -> 612 | L3: 431 | M3: =⑨栃木県!$B11 -> 524
A4: =A3+1 -> 1962 | B4: =全国!B17 -> 24381 | C4: =長野県!$B12 -> 800 | D4: =①北海道!B12 -> 1512 | E4: =②鹿児島県!$B12 -> 611 | F4: =③茨城県!B12 -> 1008 | G4: =④千葉県!$B12 -> 921 | H4: =⑥熊本県!$B12 -> 588 | I4: =⑦宮崎県!$B12 -> 342 | J4: =⑤青森県!$B12 -> 644 | K4: =⑧愛知県!$B12 -> 692 | L4: 488 | M4: =⑨栃木県!$B12 -> 643
A5: =A4+1 -> 1963 | B5: =全国!B18 -> 25760 | C5: =長野県!$B13 -> 872 | D5: =①北海道!B13 -> 1756 | E5: =②鹿児島県!$B13 -> 701 | F5: =③茨城県!B13 -> 1082 | G5: =④千葉県!$B13 -> 1003 | H5: =⑥熊本県!$B13 -> 598 | I5: =⑦宮崎県!$B13 -> 347 | J5: =⑤青森県!$B13 -> 683 | K5: =⑧愛知県!$B13 -> 765 | L5: 515 | M5: =⑨栃木県!$B13 -> 640
A6: =A5+1 -> 1964 | B6: =全国!B19 -> 28761 | C6: =長野県!$B14 -> 953 | D6: =①北海道!B14 -> 1524 | E6: =②鹿児島県!$B14 -> 624 | F6: =③茨城県!B14 -> 1209 | G6: =④千葉県!$B14 -> 1110 | H6: =⑥熊本県!$B14 -> 737 | I6: =⑦宮崎県!$B14 -> 350 | J6: =⑤青森県!$B14 -> 753 | K6: =⑧愛知県!$B14 -> 846 | L6: 607 | M6: =⑨栃木県!$B14 -> 743
A7: =A6+1 -> 1965 | B7: =全国!B20 -> 31769 | C7: =長野県!$B15 -> 954 | D7: =①北海道!B15 -> 2033 | E7: =②鹿児島県!$B15 -> 783 | F7: =③茨城県!B15 -> 1330 | G7: =④千葉県!$B15 -> 1195 | H7: =⑥熊本県!$B15 -> 822 | I7: =⑦宮崎県!$B15 -> 477 | J7: =⑤青森県!$B15 -> 820 | K7: =⑧愛知県!$B15 -> 886 | L7: 700 | M7: =⑨栃木県!$B15 -> 782
A8: =A7+1 -> 1966 | B8: =全国!B21 -> 35713 | C8: =長野県!$B16 -> 1179 | D8: =①北海道!B16 -> 1984 | E8: =②鹿児島県!$B16 -> 873 | F8: =③茨城県!B16 -> 1512 | G8: =④千葉県!$B16 -> 1303 | H8: =⑥熊本県!$B16 -> 974 | I8: =⑦宮崎県!$B16 -> 543 | J8: =⑤青森県!$B16 -> 843 | K8: =⑧愛知県!$B16 -> 1061 | L8: 738 | M8: =⑨栃木県!$B16 -> 914
A9: =A8+1 -> 1967 | B9: =全国!B22 -> 41661 | C9: =長野県!$B17 -> 1353 | D9: =①北海道!B17 -> 3013 | E9: =②鹿児島県!$B17 -> 1023 | F9: =③茨城県!B17 -> 1737 | G9: =④千葉県!$B17 -> 1578 | H9: =⑥熊本県!$B17 -> 1125 | I9: =⑦宮崎県!$B17 -> 637 | J9: =⑤青森県!$B17 -> 1052 | K9: =⑧愛知県!$B17 -> 1218 | L9: 923 | M9: =⑨栃木県!$B17 -> 1065
A10: =A9+1 -> 1968 | B10: =全国!B23 -> 43846 | C10: =長野県!$B18 -> 1379 | D10: =①北海道!B18 -> 3308 | E10: =②鹿児島県!$B18 -> 996 | F10: =③茨城県!B18 -> 1913 | G10: =④千葉県!$B18 -> 1755 | H10: =⑥熊本県!$B18 -> 1214 | I10: =⑦宮崎県!$B18 -> 694 | J10: =⑤青森県!$B18 -> 1033 | K10: =⑧愛知県!$B18 -> 1296 | L10: 990 | M10: =⑨栃木県!$B18 -> 1173
A11: =A10+1 -> 1969 | B11: =全国!B24 -> 46587 | C11: =長野県!$B19 -> 1466 | D11: =①北海道!B19 -> 3124 | E11: =②鹿児島県!$B19 -> 1095 | F11: =③茨城県!B19 -> 1952 | G11: =④千葉県!$B19 -> 1899 | H11: =⑥熊本県!$B19 -> 1299 | I11: =⑦宮崎県!$B19 -> 808 | J11: =⑤青森県!$B19 -> 1187 | K11: =⑧愛知県!$B19 -> 1450 | L11: 1049 | M11: =⑨栃木県!$B19 -> 1197
A12: =A11+1 -> 1970 | B12: =全国!B25 -> 46643 | C12: =長野県!$B20 -> 1544 | D12: =①北海道!B20 -> 3454 | E12: =②鹿児島県!$B20 -> 1125 | F12: =③茨城県!B20 -> 2092 | G12: =④千葉県!$B20 -> 2044 | H12: =⑥熊本県!$B20 -> 1336 | I12: =⑦宮崎県!$B20 -> 809 | J12: =⑤青森県!$B20 -> 1225 | K12: =⑧愛知県!$B20 -> 1567 | L12: 1119 | M12: =⑨栃木県!$B20 -> 1219
A13: =A12+1 -> 1971 | B13: =全国!B26 -> 45745 | C13: =長野県!$B21 -> 1496 | D13: =①北海道!B21 -> 2917 | E13: =②鹿児島県!$B21 -> 1166 | F13: =③茨城県!B21 -> 2228 | G13: =④千葉県!$B21 -> 2013 | H13: =⑥熊本県!$B21 -> 1394 | I13: =⑦宮崎県!$B21 -> 865 | J13: =⑤青森県!$B21 -> 1234 | K13: =⑧愛知県!$B21 -> 1477 | L13: 1054 | M13: =⑨栃木県!$B21 -> 1220
A14: =A13+1 -> 1972 | B14: =全国!B27 -> 50794 | C14: =長野県!$B22 -> 1649 | D14: =①北海道!B22 -> 3796 | E14: =②鹿児島県!$B22 -> 1366 | F14: =③茨城県!B22 -> 2358 | G14: =④千葉県!$B22 -> 2176 | H14: =⑥熊本県!$B22 -> 1638 | I14: =⑦宮崎県!$B22 -> 991 | J14: =⑤青森県!$B22 -> 1430 | K14: =⑧愛知県!$B22 -> 1599 | L14: 1238 | M14: =⑨栃木県!$B22 -> 1387
... A65: =A64+1 -> 2023 | B65: =全国!B78 -> 94952 | C65: =長野県!$B73 -> 2890 | D65: =①北海道!B73 -> 13478 | E65: =②鹿児島県!$B73 -> 5438 | F65: =③茨城県!B73 -> 4536 | G65: =④千葉県!$B73 -> 4029 | H65: =⑥熊本県!$B73 -> 3757 | I65: =⑦宮崎県!$B73 -> 3720 | J65: =⑤青森県!$B73 -> 3466 | K65: =⑧愛知県!$B73 -> 3207 | L65: 2975 | M65: =⑨栃木県!$B73 -> 2959
B67: 前年より減少

Sheet ①北海道
A1: 生産農業所得統計
A2: 都道府県別生産農業所得統計累年統計
A4: 北海道
A5: 年次 | B5: 農業産出額 | X5: 生産農業所得
B6: 計 | C6: 耕種 | N6: 畜産 | W6: 加工農産物
C7: 小計 | D7: 米 | E7: 麦類 | F7: 雑穀 | G7: 豆類 | H7: いも類 | I7: 野菜 | J7: 果実 | K7: 花き | L7: 工芸農作物 | M7: その他作物 | N7: 小計 | O7: 肉用牛 | P7: 乳用牛 | R7: 豚 | S7: 鶏 | U7: 養蚕 | V7: その他畜産物
Q8: 生乳 | T8: 鶏卵
B9: 億円 | C9: 億円 | D9: 億円 | E9: 億円 | F9: 億円 | G9: 億円 | H9: 億円 | I9: 億円 | J9: 億円 | K9: 億円 | L9: 億円 | M9: 億円 | N9: 億円 | O9: 億円 | P9: 億円 | Q9: 億円 | R9: 億円 | S9: 億円 | T9: 億円 | U9: 億円 | V9: 億円 | W9: 億円 | X9: 億円
A10: 昭.35(1960) | B10: 1319 | C10: 1057 | D10: 528 | E10: 350 | F10: … | G10: … | H10: … | I10: 77 | J10: 23 | K10: 0 | L10: 73 | M10: 6 | N10: 248 | O10: … | P10: … | Q10: … | R10: … | S10: … | T10: … | U10: - | V10: … | W10: 14 | X10: 809
A11: 昭.36(1961) | B11: 1515 | C11: 1215 | D11: 615 | E11: 61 | F11: … | G11: 326 | H11: … | I11: 104 | J11: 27 | K11: 1 | L11: 76 | M11: 5 | N11: 281 | O11: … | P11: … | Q11: … | R11: … | S11: … | T11: … | U11: - | V11: … | W11: 18 | X11: 903
A12: 昭.37(1962) | B12: 1512 | C12: 1154 | D12: 586 | E12: 26 | F12: … | G12: 194 | H12: 114 | I12: 111 | J12: 28 | K12: 1 | L12: 86 | M12: 7 | N12: 337 | O12: … | P12: … | Q12: … | R12: … | S12: … | T12: … | U12: - | V12: … | W12: 20 | X12: 837
A13: 昭.38(1963) | B13: 1756 | C13: 1359 | D13: 717 | E13: 29 | F13: … | G13: 214 | H13: 123 | I13: 150 | J13: 28 | K13: 1 | L13: 84 | M13: 13 | N13: 379 | O13: … | P13: … | Q13: … | R13: … | S13: … | T13: … | U13: - | V13: … | W13: 18 | X13: 1028
A14: 昭.39(1964) | B14: 1524 | C14: 1102 | D14: 555 | E14: 26 | F14: … | G14: 115 | H14: 136 | I14: 144 | J14: 23 | K14: 0 | L14: 90 | M14: 14 | N14: 411 | O14: 4 | P14: 233 | Q14: … | R14: 56 | S14: 67 | T14: … | U14: - | V14: 52 | W14: 11 | X14: 764
A15: 昭.40(1965) | B15: 2033 | C15: 1534 | D15: 803 | E15: 22 | F15: … | G15: 216 | H15: 149 | I15: 175 | J15: 26 | K15: 2 | L15: 128 | M15: 12 | N15: 487 | O15: 5 | P15: 273 | Q15: … | R15: 67 | S15: 82 | T15: … | U15: - | V15: 62 | W15: 12 | X15: 1098
A16: 昭.41(1966) | B16: 1984 | C16: 1417 | D16: 775 | E16: 15 | F16: … | G16: 145 | H16: 133 | I16: 192 | J16: 26 | K16: 2 | L16: 115 | M16: 13 | N16: 557 | O16: 5 | P16: 330 | Q16: … | R16: 78 | S16: 79 | T16: … | U16: - | V16: 64 | W16: 11 | X16: 991
A17: 昭.42(1967) | B17: 3013 | C17: 2329 | D17: 1423 | E17: 24 | F17: … | G17: 219 | H17: 190 | I17: 262 | J17: 45 | K17: 3 | L17: 148 | M17: 14 | N17: 676 | O17: 10 | P17: 400 | Q17: 311 | R17: 84 | S17: 97 | T17: 78 | U17: 0 | V17: 85 | W17: 8 | X17: 1812
A18: 昭.43(1968) | B18: 3308 | C18: 2484 | D18: 1646 | E18: 27 | F18: … | G18: 189 | H18: 180 | I18: 228 | J18: 36 | K18: 3 | L18: 161 | M18: 13 | N18: 816 | O18: 11 | P18: 500 | Q18: 387 | R18: 102 | S18: 108 | T18: 92 | U18: - | V18: 94 | W18: 8 | X18: 1896
A19: 昭.44(1969) | B19: 3124 | C19: 2157 | D19: 1248 | E19: 24 | F19: … | G19: 204 | H19: 193 | I19: 272 | J19: 32 | K19: 3 | L19: 161 | M19: 20 | N19: 963 | O19: 15 | P19: 583 | Q19: 463 | R19: 124 | S19: 123 | T19: 105 | U19: - | V19: 117 | W19: 4 | X19: 1569
A20: 昭.45(1970) | B20: 3454 | C20: 2309 | D20: 1217 | E20: 16 | F20: … | G20: 251 | H20: 229 | I20: 351 | J20: 40 | K20: 3 | L20: 183 | M20: 20 | N20: 1142 | O20: 19 | P20: 678 | Q20: 531 | R20: 140 | S20: 154 | T20: 134 | U20: - | V20: 151 | W20: 4 | X20: 1774
A21: 昭.46(1971) | B21: 2917 | C21: 1698 | D21: 701 | E21: 19 | F21: … | G21: 191 | H21: 178 | I21: 352 | J21: 55 | K21: 4 | L21: 179 | M21: 19 | N21: 1216 | O21: 25 | P21: 728 | Q21: 569 | R21: 161 | S21: 145 | T21: 129 | U21: - | V21: 155 | W21: 3 | X21: 1257
A22: 昭.47(1972) | B22: 3796 | C22: 2407 | D22: 1108 | E22: 24 | F22: … | G22: 308 | H22: 229 | I22: 415 | J22: 65 | K22: 4 | L22: 231 | M22: 23 | N22: 1387 | O22: 57 | P22: 827 | Q22: 631 | R22: 197 | S22: 172 | T22: 143 | U22: - | V22: 134 | W22: 3 | X22: 2391
A23: 昭.48(1973) | B23: 4707 | C23: 2932 | D23: 1176 | E23: 29 | F23: … | G23: 392 | H23: 347 | I23: 622 | J23: 77 | K23: 6 | L23: 255 | M23: 29 | N23: 1772 | O23: 134 | P23: 1032 | Q23: 697 | R23: 235 | S23: 196 | T23: 166 | U23: - | V23: 175 | W23: 3 | X23: 3129
A24: 昭.49(1974) | B24: 6049 | C24: 3989 | D24: 1877 | E24: 60 | F24: … | G24: 449 | H24: 446 | I24: 744 | J24: 85 | K24: 7 | L24: 283 | M24: 38 | N24: 2057 | O24: 125 | P24: 1177 | Q24: 980 | R24: 316 | S24: 242 | T24: 214 | U24: - | V24: 196 | W24: 3 | X24: 3754
A25: 昭.50(1975) | B25: 6744 | C25: 4249 | D25: 2109 | E25: 85 | F25: … | G25: 422 | H25: 464 | I25: 760 | J25: 84 | K25: 6 | L25: 282 | M25: 38 | N25: 2493 | O25: 128 | P25: 1473 | Q25: 1171 | R25: 402 | S25: 263 | T25: 237 | U25: - | V25: 227 | W25: 2 | X25: 3777
A26: 昭.51(1976) | B26: 7229 | C26: 4475 | D26: 1907 | E26: 126 | F26: … | G26: 515 | H26: 595 | I26: 833 | J26: 87 | K26: 7 | L26: 370 | M26: 36 | N26: 2752 | O26: 124 | P26: 1712 | Q26: 1358 | R26: 397 | S26: 266 | T26: 241 | U26: - | V26: 254 | W26: 2 | X26: 3927
A27: 昭.52(1977) | B27: 8450 | C27: 5325 | D27: 2731 | E27: 152 | F27: … | G27: 462 | H27: 585 | I27: 869 | J27: 59 | K27: 10 | L27: 421 | M27: 36 | N27: 3123 | O27: 182 | P27: 1982 | Q27: 1591 | R27: 427 | S27: 274 | T27: 247 | U27: - | V27: 258 | W27: 2 | X27: 4536
A28: 昭.53(1978) | B28: 8978 | C28: 5513 | D28: 2613 | E28: 252 | F28: … | G28: 509 | H28: 567 | I28: 926 | J28: 73 | K28: 12 | L28: 521 | M28: 39 | N28: 3463 | O28: 249 | P28: 2206 | Q28: 1734 | R28: 479 | S28: 246 | T28: 209 | U28: - | V28: 284 | W28: 2 | X28: 4849
A29: 昭.54(1979) | B29: 9177 | C29: 5461 | D29: 2339 | E29: 443 | F29: … | G29: 454 | H29: 599 | I29: 872 | J29: 60 | K29: 13 | L29: 638 | M29: 43 | N29: 3714 | O29: 266 | P29: 2468 | Q29: 1851 | R29: 432 | S29: 232 | T29: 206 | U29: - | V29: 317 | W29: 2 | X29: 4674
A30: 昭.55(1980) | B30: 8955 | C30: 5165 | D30: 1615 | E30: 517 | F30: … | G30: 367 | H30: 725 | I30: 1115 | J30: 61 | K30: 14 | L30: 712 | M30: 38 | N30: 3788 | O30: 274 | P30: 2441 | Q30: 1841 | R30: 463 | S30: 272 | T30: 248 | U30: 0 | V30: 338 | W30: 1 | X30: 4282
A31: 昭.56(1981) | B31: 9081 | C31: 5280 | D31: 1598 | E31: 428 | F31: … | G31: 453 | H31: 770 | I31: 1209 | J31: 53 | K31: 16 | L31: 707 | M31: 46 | N31: 3801 | O31: 295 | P31: 2410 | Q31: 1859 | R31: 467 | S31: 288 | T31: 265 | U31: 0 | V31: 341 | W31: 1 | X31: 3732
A32: 昭.57(1982) | B32: 9959 | C32: 5998 | D32: 2040 | E32: 681 | F32: … | G32: 591 | H32: 736 | I32: 954 | J32: 62 | K32: 18 | L32: 864 | M32: 52 | N32: 3960 | O32: 327 | P32: 2566 | Q32: 1998 | R32: 480 | S32: 256 | T32: 234 | U32: 0 | V32: 332 | W32: 1 | X32: 3980
A33: 昭.58(1983) | B33: 9383 | C33: 5216 | D33: 1432 | E33: 531 | F33: … | G33: 371 | H33: 772 | I33: 1279 | J33: 49 | K33: 19 | L33: 711 | M33: 53 | N33: 4167 | O33: 346 | P33: 2746 | Q33: 2180 | R33: 483 | S33: 244 | T33: 230 | U33: 0 | V33: 348 | W33: 1 | X33: 3964
A34: 昭.59(1984) | B34: 10799 | C34: 6470 | D34: 2472 | E34: 522 | F34: … | G34: 549 | H34: 793 | I34: 1149 | J34: 67 | K34: 23 | L34: 850 | M34: 46 | N34: 4328 | O34: 364 | P34: 2829 | Q34: 2256 | R34: 499 | S34: 232 | T34: 218 | U34: 0 | V34: 404 | W34: 1 | X34: 4154
A35: 昭.60(1985) | B35: 10911 | C35: 6366 | D35: 2352 | E35: 771 | F35: … | G35: 506 | H35: 758 | I35: 1014 | J35: 67 | K35: 25 | L35: 825 | M35: 49 | N35: 4545 | O35: 418 | P35: 2973 | Q35: 2362 | R35: 490 | S35: 250 | T35: 231 | U35: 0 | V35: 413 | W35: 0 | X35: 3986
A36: 昭.61(1986) | B36: 11094 | C36: 6527 | D36: 2411 | E36: 750 | F36: … | G36: 491 | H36: 902 | I36: 1039 | J36: 55 | K36: 28 | L36: 799 | M36: 52 | N36: 4566 | O36: 445 | P36: 2980 | Q36: 2248 | R36: 462 | S36: 262 | T36: 234 | U36: - | V36: 417 | W36: 1 | X36: 4262
A37: 昭.62(1987) | B37: 10373 | C37: 5976 | D37: 1881 | E37: 692 | F37: … | G37: 473 | H37: 876 | I37: 1171 | J37: 58 | K37: 34 | L37: 740 | M37: 53 | N37: 4396 | O37: 456 | P37: 2832 | Q37: 2011 | R37: 426 | S37: 226 | T37: 168 | U37: - | V37: 456 | W37: 2 | X37: 3882
A38: 昭.63(1988) | B38: 10721 | C38: 6243 | D38: 1956 | E38: 865 | F38: … | G38: 485 | H38: 742 | I38: 1319 | J38: 51 | K38: 52 | L38: 720 | M38: 53 | N38: 4477 | O38: 443 | P38: 2916 | Q38: 2087 | R38: 388 | S38: 249 | T38: 171 | U38: - | V38: 481 | W38: 1 | X38: 4363
A39: 平.元(1989) | B39: 11086 | C39: 6315 | D39: 2014 | E39: 775 | F39: … | G39: 538 | H39: 688 | I39: 1447 | J39: 60 | K39: 65 | L39: 676 | M39: 53 | N39: 4769 | O39: 478 | P39: 3108 | Q39: 2233 | R39: 359 | S39: 283 | T39: 194 | U39: - | V39: 542 | W39: 1 | X39: 4797
A40: 平.2(1990) | B40: 11175 | C40: 6408 | D40: 2008 | E40: 748 | F40: … | G40: 394 | H40: 791 | I40: 1574 | J40: 69 | K40: 84 | L40: 687 | M40: 53 | N40: 4765 | O40: 451 | P40: 3039 | Q40: 2281 | R40: 362 | S40: 313 | T40: 215 | U40: - | V40: 600 | W40: 1 | X40: 4438
A41: 平.3(1991) | B41: 11280 | C41: 6582 | D41: 1906 | E41: 688 | F41: … | G41: 397 | H41: 872 | I41: 1727 | J41: 82 | K41: 108 | L41: 746 | M41: 55 | N41: 4696 | O41: 470 | P41: 2998 | Q41: 2406 | R41: 337 | S41: 335 | T41: 224 | U41: - | V41: 556 | W41: 2 | X41: 4321
A42: 平.4(1992) | B42: 11136 | C42: 6456 | D42: 2039 | E42: 656 | F42: … | G42: 431 | H42: 800 | I42: 1629 | J42: 69 | K42: 120 | L42: 658 | M42: 55 | N42: 4678 | O42: 494 | P42: 3064 | Q42: 2554 | R42: 318 | S42: 314 | T42: 195 | U42: - | V42: 488 | W42: 2 | X42: 4141
A43: 平.5(1993) | B43: 10358 | C43: 5787 | D43: 1195 | E43: 519 | F43: … | G43: 444 | H43: 851 | I43: 1896 | J43: 59 | K43: 133 | L43: 632 | M43: 58 | N43: 4568 | O43: 488 | P43: 3015 | Q43: 2571 | R43: 319 | S43: 279 | T43: 163 | U43: - | V43: 468 | W43: 2 | X43: 4454
A44: 平.6(1994) | B44: 11646 | C44: 7260 | D44: 2592 | E44: 537 | F44: … | G44: 398 | H44: 843 | I44: 2032 | J44: 71 | K44: 115 | L44: 614 | M44: 57 | N44: 4384 | O44: 453 | P44: 2958 | Q44: 2508 | R44: 290 | S44: 245 | T44: 154 | U44: - | V44: 439 | W44: 1 | X44: 4639
A45: 平.7(1995) | B45: 11143 | C45: 6690 | D45: 2188 | E45: 338 | F45: … | G45: 411 | H45: 874 | I45: 1943 | J45: 66 | K45: 134 | L45: 676 | M45: 60 | N45: 4450 | O45: 486 | P45: 3018 | Q45: 2542 | R45: 276 | S45: 256 | T45: 162 | U45: - | V45: 415 | W45: 2 | X45: 4506
A46: 平.8(1996) | B46: 10774 | C46: 6212 | D46: 2061 | E46: 367 | F46: … | G46: 378 | H46: 799 | I46: 1759 | J46: 55 | K46: 135 | L46: 601 | M46: 56 | N46: 4560 | O46: 517 | P46: 3055 | Q46: 2584 | R46: 263 | S46: 296 | T46: 187 | U46: - | V46: 429 | W46: 2 | X46: 3943
A47: 平.9(1997) | B47: 10761 | C47: 6165 | D47: 1833 | E47: 545 | F47: … | G47: 335 | H47: 775 | I47: 1742 | J47: 60 | K47: 151 | L47: 668 | M47: 56 | N47: 4593 | O47: 527 | P47: 3046 | Q47: 2601 | R47: 288 | S47: 293 | T47: 189 | U47: - | V47: 439 | W47: 3 | X47: 3889
... A50: 平.12(2000) | B50: 10551 | C50: 5849 | D50: 1569 | E50: 608 | F50: … | G50: 426 | H50: 732 | I50: 1656 | J50: 64 | K50: 145 | L50: 585 | M50: 64 | N50: 4699 | O50: 538 | P50: 3145 | Q50: 2664 | R50: 264 | S50: 300 | T50: 184 | U50: - | V50: 453 | W50: 3 | X50: 3938
A51: 平.13(2001) | B51: 10457 | C51: 5716 | D51: 1411 | E51: 637 | F51: 16 | G51: 346 | H51: 728 | I51: 1628 | J51: 65 | K51: 146 | L51: 677 | M51: 62 | N51: 4739 | O51: 510 | P51: 3209 | Q51: 2669 | R51: 284 | S51: 302 | T51: 176 | U51: - | V51: 436 | W51: 2 | X51: 4029
A52: 平.14(2002) | B52: 10563 | C52: 5716 | D52: 1185 | E52: 787 | F52: 23 | G52: 351 | H52: 689 | I52: 1654 | J52: 63 | K52: 159 | L52: 743 | M52: 61 | N52: 4845 | O52: 518 | P52: 3328 | Q52: 2776 | R52: 283 | S52: 317 | T52: 181 | U52: … | V52: 399 | W52: 2 | X52: 4203
A53: 平.15(2003) | B53: 10579 | C53: 5757 | D53: 1098 | E53: 861 | F53: 32 | G53: 382 | H53: 701 | I53: 1634 | J53: 66 | K53: 159 | L53: 767 | M53: 57 | N53: 4820 | O53: 494 | P53: 3417 | Q53: 2833 | R53: 251 | S53: 277 | T53: 163 | U53: … | V53: 381 | W53: 2 | X53: 4425
A54: 平.16(2004) | B54: 10942 | C54: 5939 | D54: 1091 | E54: 852 | F54: 27 | G54: 419 | H54: 702 | I54: 1780 | J54: 47 | K54: 149 | L54: 816 | M54: 56 | N54: 5001 | O54: 595 | P54: 3432 | Q54: 2813 | R54: 274 | S54: 297 | T54: 173 | U54: … | V54: 403 | W54: 2 | X54: 4330
A55: 平.17(2005) | B55: 10663 | C55: 5642 | D55: 1175 | E55: 777 | F55: 37 | G55: 354 | H55: 699 | I55: 1645 | J55: 58 | K55: 140 | L55: 703 | M55: 53 | N55: 5018 | O55: 646 | P55: 3415 | Q55: 2791 | R55: 263 | S55: 315 | T55: 197 | U55: … | V55: 379 | W55: 2 | X55: 3969
A56: 平.18(2006) | B56: 10527 | C56: 5607 | D56: 1164 | E56: 770 | F56: 34 | G56: 335 | H56: 692 | I56: 1712 | J56: 62 | K56: 145 | L56: 639 | M56: 56 | N56: 4918 | O56: 668 | P56: 3256 | Q56: 2683 | R56: 283 | S56: 310 | T56: 186 | U56: … | V56: 401 | W56: 2 | X56: 3743
A57: 平.19(2007) | B57: 9809 | C57: 4823 | D57: 1092 | E57: 447 | F57: 30 | G57: 282 | H57: 559 | I57: 1672 | J57: 81 | K57: 157 | L57: 486 | M57: 17 | N57: 4986 | O57: 645 | P57: 3325 | Q57: 2732 | R57: 326 | S57: 309 | T57: 187 | U57: … | V57: 380 | W57: 0 | X57: 3511
A58: 平.20(2008) | B58: 10251 | C58: 5194 | D58: 1255 | E58: 418 | F58: 26 | G58: 362 | H58: 632 | I58: 1786 | J58: 66 | K58: 131 | L58: 495 | M58: 24 | N58: 5057 | O58: 587 | P58: 3502 | Q58: 2947 | R58: 344 | S58: 341 | T58: 213 | U58: … | V58: 283 | W58: - | X58: 3458
A59: 平.21(2009) | B59: 10111 | C59: 4882 | D59: 1071 | E59: 342 | F59: 16 | G59: 284 | H59: 628 | I59: 1858 | J59: 58 | K59: 128 | L59: 472 | M59: 26 | N59: 5229 | O59: 577 | P59: 3725 | Q59: 3183 | R59: 298 | S59: 318 | T59: 189 | U59: … | V59: 312 | W59: - | X59: 3573
A60: 平.22(2010) | B60: 9946 | C60: 4806 | D60: 1064 | E60: 249 | F60: 31 | G60: 271 | H60: 621 | I60: 2032 | J60: 52 | K60: 126 | L60: 335 | M60: 27 | N60: 5139 | O60: 559 | P60: 3634 | Q60: 3041 | R60: 336 | S60: 313 | T60: 186 | U60: … | V60: 297 | W60: 0 | X60: 3612
A61: 平.23(2011) | B61: 10137 | C61: 4914 | D61: 1291 | E61: 240 | F61: 15 | G61: 263 | H61: 607 | I61: 1903 | J61: 48 | K61: 119 | L61: 395 | M61: 33 | N61: 5223 | O61: 622 | P61: 3638 | Q61: 3068 | R61: 346 | S61: 345 | T61: 200 | U61: … | V61: 272 | W61: 0 | X61: 3507
A62: 平.24(2012) | B62: 10536 | C62: 5119 | D62: 1439 | E62: 263 | F62: 14 | G62: 348 | H62: 561 | I62: 1915 | J62: 57 | K62: 109 | L62: 377 | M62: 35 | N62: 5417 | O62: 718 | P62: 3736 | Q62: 3220 | R62: 343 | S62: 327 | T62: 189 | U62: … | V62: 293 | W62: - | X62: 3632
A63: 平.25(2013) | B63: 10705 | C63: 5090 | D63: 1301 | E63: 226 | F63: 12 | G63: 320 | H63: 668 | I63: 1990 | J63: 51 | K63: 118 | L63: 366 | M63: 37 | N63: 5616 | O63: 814 | P63: 3777 | Q63: 3224 | R63: 369 | S63: 347 | T63: 207 | U63: … | V63: 308 | W63: - | X63: 3763
A64: 平.26(2014) | B64: 11110 | C64: 5078 | D64: 1105 | E64: 190 | F64: 17 | G64: 350 | H64: 657 | I64: 2116 | J64: 59 | K64: 121 | L64: 420 | M64: 44 | N64: 6032 | O64: 896 | P64: 3949 | Q64: 3318 | R64: 456 | S64: 369 | T64: 222 | U64: … | V64: 362 | W64: - | X64: 3966
A65: 平.27(2015) | B65: 11852 | C65: 5340 | D65: 1149 | E65: 259 | F65: 35 | G65: 301 | H65: 684 | I65: 2224 | J65: 64 | K65: 122 | L65: 458 | M65: 44 | N65: 6512 | O65: 972 | P65: 4317 | Q65: 3544 | R65: 433 | S65: 399 | T65: 238 | U65: … | V65: 392 | W65: - | X65: 4840
A66: 平.28(2016) | B66: 12115 | C66: 5130 | D66: 1167 | E66: 165 | F66: 29 | G66: 196 | H66: 780 | I66: 2206 | J66: 61 | K66: 118 | L66: 363 | M66: 44 | N66: 6986 | O66: 1041 | P66: 4712 | Q66: 3641 | R66: 424 | S66: 377 | T66: 212 | U66: … | V66: 431 | W66: - | X66: 5167
A67: 平.29(2017) | B67: 12762 | C67: 5483 | D67: 1279 | E67: 252 | F67: 40 | G67: 347 | H67: 747 | I67: 2114 | J67: 61 | K67: 134 | L67: 467 | M67: 43 | N67: 7279 | O67: 1002 | P67: 4919 | Q67: 3713 | R67: 459 | S67: 390 | T67: 217 | U67: … | V67: 509 | W67: - | X67: 5662
A68: 平.30(2018) | B68: 12593 | C68: 5246 | D68: 1122 | E68: 232 | F68: 29 | G68: 304 | H68: 648 | I68: 2271 | J68: 54 | K68: 131 | L68: 414 | M68: 40 | N68: 7347 | O68: 1016 | P68: 5026 | Q68: 3826 | R68: 439 | S68: 357 | T68: 188 | U68: … | V68: 509 | W68: - | X68: 5060
A69: 令.元(2019) | B69: 12558 | C69: 5207 | D69: 1254 | E69: 327 | F69: 41 | G69: 421 | H69: 542 | I69: 1951 | J69: 71 | K69: 128 | L69: 433 | M69: 39 | N69: 7350 | O69: 1049 | P69: 5006 | Q69: 3945 | R69: 455 | S69: 327 | T69: 179 | U69: … | V69: 513 | W69: - | X69: 5368
A70: 令.２(2020) | B70: 12667 | C70: 5329 | D70: 1198 | E70: 328 | F70: 23 | G70: 332 | H70: 649 | I70: 2145 | J70: 69 | K70: 129 | L70: 414 | M70: 41 | N70: 7337 | O70: 960 | P70: 4983 | Q70: 4026 | R70: 512 | S70: 322 | T70: 172 | U70: … | V70: 560 | W70: - | X70: 4985
A71: 令.３(2021) | B71: 13108 | C71: 5456 | D71: 1041 | E71: 512 | F71: 27 | G71: 341 | H71: 722 | I71: 2094 | J71: 77 | K71: 131 | L71: 465 | M71: 45 | N71: 7652 | O71: 1131 | P71: 4976 | Q71: 4069 | R71: 512 | S71: 383 | T71: 229 | U71: … | V71: 649 | W71: - | X71: 4919
A72: 令.４(2022) | B72: 12919 | C72: 5384 | D72: 1067 | E72: 423 | F72: 37 | G72: 362 | H72: 543 | I72: 2228 | J72: 83 | K72: 126 | L72: 459 | M72: 56 | N72: 7535 | O72: 1203 | P72: 4660 | Q72: 4109 | R72: 550 | S72: 376 | T72: 223 | U72: … | V72: 747 | W72: - | X72: 4742
A73: 令.５(2023) | B73: 13478 | C73: 5641 | D73: 1149 | E73: 408 | F73: 27 | G73: 293 | H73: 591 | I73: 2489 | J73: 96 | K73: 117 | L73: 417 | M73: 55 | N73: 7837 | O73: 1224 | P73: 4781 | Q73: 4341 | R73: 608 | S73: 426 | T73: 264 | U73: … | V73: 798 | W73: - | X73: 5167
B74: （注記）
B75: １．昭和35年の麦類は、雑穀、豆類、いも類を含む。
B76: ２．昭和36年の麦類は、雑穀を含む。また、豆類は、いも類を含む。
B77: ３．昭和37年から平成12年までの雑穀及び豆類は、雑穀・豆類として合算されていたため、その値を豆類に表示している。
B78: ４．平成12年までの養蚕は畜産計の外数としていたが、日本標準産業分類の改訂により養蚕が畜産に分類されたことに伴い、平成13年から畜産計に養蚕を含めた。
B79: また、平成14年からは養蚕を畜産計のうちその他畜産物に含めた。

Sheet ②鹿児島県
A1: 生産農業所得統計
A2: 都道府県別生産農業所得統計累年統計
A4: 鹿児島
A5: 年次 | B5: 農業産出額 | X5: 生産農業所得
B6: 計 | C6: 耕種 | N6: 畜産 | W6: 加工農産物
C7: 小計 | D7: 米 | E7: 麦類 | F7: 雑穀 | G7: 豆類 | H7: いも類 | I7: 野菜 | J7: 果実 | K7: 花き | L7: 工芸農作物 | M7: その他作物 | N7: 小計 | O7: 肉用牛 | P7: 乳用牛 | R7: 豚 | S7: 鶏 | U7: 養蚕 | V7: その他畜産物
Q8: 生乳 | T8: 鶏卵
B9: 億円 | C9: 億円 | D9: 億円 | E9: 億円 | F9: 億円 | G9: 億円 | H9: 億円 | I9: 億円 | J9: 億円 | K9: 億円 | L9: 億円 | M9: 億円 | N9: 億円 | O9: 億円 | P9: 億円 | Q9: 億円 | R9: 億円 | S9: 億円 | T9: 億円 | U9: 億円 | V9: 億円 | W9: 億円 | X9: 億円
A10: 昭.35(1960) | B10: 520 | C10: 396 | D10: 164 | E10: 110 | F10: … | G10: … | H10: … | I10: 29 | J10: 19 | K10: 3 | L10: 67 | M10: 3 | N10: 114 | O10: … | P10: … | Q10: … | R10: … | S10: … | T10: … | U10: 5 | V10: … | W10: 6 | X10: 316
A11: 昭.36(1961) | B11: 545 | C11: 419 | D11: 155 | E11: 23 | F11: … | G11: 99 | H11: … | I11: 34 | J11: 21 | K11: 2 | L11: 81 | M11: 3 | N11: 119 | O11: … | P11: … | Q11: … | R11: … | S11: … | T11: … | U11: 5 | V11: … | W11: 3 | X11: 349
A12: 昭.37(1962) | B12: 611 | C12: 490 | D12: 185 | E12: 17 | F12: … | G12: 16 | H12: 114 | I12: 39 | J12: 28 | K12: 2 | L12: 83 | M12: 6 | N12: 114 | O12: … | P12: … | Q12: … | R12: … | S12: … | T12: … | U12: 5 | V12: … | W12: 2 | X12: 376
A13: 昭.38(1963) | B13: 701 | C13: 570 | D13: 214 | E13: 6 | F13: … | G13: 9 | H13: 165 | I13: 51 | J13: 33 | K13: 4 | L13: 85 | M13: 4 | N13: 124 | O13: … | P13: … | Q13: … | R13: … | S13: … | T13: … | U13: 6 | V13: … | W13: 1 | X13: 437
A14: 昭.39(1964) | B14: 624 | C14: 480 | D14: 180 | E14: 9 | F14: … | G14: 5 | H14: 89 | I14: 57 | J14: 35 | K14: 3 | L14: 99 | M14: 4 | N14: 137 | O14: 42 | P14: 11 | Q14: … | R14: 45 | S14: 38 | T14: … | U14: 6 | V14: 1 | W14: 1 | X14: 349
A15: 昭.40(1965) | B15: 783 | C15: 611 | D15: 244 | E15: 20 | F15: … | G15: 7 | H15: 118 | I15: 64 | J15: 30 | K15: 3 | L15: 119 | M15: 5 | N15: 163 | O15: 53 | P15: 13 | Q15: … | R15: 50 | S15: 45 | T15: … | U15: 7 | V15: 2 | W15: 1 | X15: 481
A16: 昭.41(1966) | B16: 873 | C16: 669 | D16: 261 | E16: 15 | F16: … | G16: 7 | H16: 141 | I16: 71 | J16: 40 | K16: 3 | L16: 127 | M16: 5 | N16: 193 | O16: 73 | P16: 15 | Q16: … | R16: 54 | S16: 49 | T16: … | U16: 10 | V16: 1 | W16: 1 | X16: 523
A17: 昭.42(1967) | B17: 1023 | C17: 768 | D17: 318 | E17: 15 | F17: … | G17: 8 | H17: 131 | I17: 92 | J17: 42 | K17: 4 | L17: 153 | M17: 6 | N17: 237 | O17: 93 | P17: 21 | Q17: 15 | R17: 65 | S17: 57 | T17: 45 | U17: 16 | V17: 1 | W17: 2 | X17: 606
A18: 昭.43(1968) | B18: 996 | C18: 687 | D18: 278 | E18: 22 | F18: … | G18: 6 | H18: 101 | I18: 80 | J18: 36 | K18: 6 | L18: 154 | M18: 5 | N18: 289 | O18: 106 | P18: 24 | Q18: 18 | R18: 87 | S18: 70 | T18: 53 | U18: 19 | V18: 2 | W18: 2 | X18: 524
A19: 昭.44(1969) | B19: 1095 | C19: 755 | D19: 317 | E19: 14 | F19: … | G19: 8 | H19: 95 | I19: 95 | J19: 49 | K19: 7 | L19: 143 | M19: 28 | N19: 320 | O19: 99 | P19: 29 | Q19: 21 | R19: 104 | S19: 87 | T19: 62 | U19: 19 | V19: 1 | W19: 2 | X19: 534
A20: 昭.45(1970) | B20: 1125 | C20: 744 | D20: 284 | E20: 14 | F20: … | G20: 7 | H20: 102 | I20: 103 | J20: 51 | K20: 8 | L20: 141 | M20: 33 | N20: 355 | O20: 118 | P20: 28 | Q20: 21 | R20: 110 | S20: 95 | T20: 59 | U20: 23 | V20: 4 | W20: 3 | X20: 503
A21: 昭.46(1971) | B21: 1166 | C21: 707 | D21: 237 | E21: 12 | F21: … | G21: 8 | H21: 77 | I21: 120 | J21: 58 | K21: 16 | L21: 144 | M21: 35 | N21: 436 | O21: 138 | P21: 33 | Q21: 24 | R21: 137 | S21: 123 | T21: 79 | U21: 23 | V21: 5 | W21: 1 | X21: 521
A22: 昭.47(1972) | B22: 1366 | C22: 783 | D22: 280 | E22: 10 | F22: … | G22: 10 | H22: 86 | I22: 132 | J22: 56 | K22: 20 | L22: 153 | M22: 36 | N22: 555 | O22: 161 | P22: 34 | Q22: 25 | R22: 180 | S22: 173 | T22: 96 | U22: 27 | V22: 7 | W22: 1 | X22: 733
A23: 昭.48(1973) | B23: 1715 | C23: 905 | D23: 299 | E23: 4 | F23: … | G23: 13 | H23: 85 | I23: 187 | J23: 62 | K23: 25 | L23: 181 | M23: 48 | N23: 759 | O23: 227 | P23: 40 | Q23: 27 | R23: 224 | S23: 264 | T23: 131 | U23: 46 | V23: 4 | W23: 5 | X23: 862
A24: 昭.49(1974) | B24: 2276 | C24: 1242 | D24: 450 | E24: 9 | F24: … | G24: 13 | H24: 148 | I24: 207 | J24: 66 | K24: 28 | L24: 253 | M24: 67 | N24: 989 | O24: 222 | P24: 45 | Q24: 36 | R24: 326 | S24: 391 | T24: 174 | U24: 36 | V24: 5 | W24: 9 | X24: 1059
A25: 昭.50(1975) | B25: 2714 | C25: 1417 | D25: 518 | E25: 8 | F25: … | G25: 13 | H25: 150 | I25: 232 | J25: 78 | K25: 30 | L25: 336 | M25: 53 | N25: 1250 | O25: 269 | P25: 51 | Q25: 41 | R25: 469 | S25: 457 | T25: 190 | U25: 38 | V25: 3 | W25: 9 | X25: 1315
A26: 昭.51(1976) | B26: 2793 | C26: 1410 | D26: 492 | E26: 6 | F26: … | G26: 12 | H26: 122 | I26: 259 | J26: 75 | K26: 33 | L26: 347 | M26: 62 | N26: 1341 | O26: 320 | P26: 63 | Q26: 53 | R26: 467 | S26: 488 | T26: 213 | U26: 33 | V26: 3 | W26: 9 | X26: 1237
A27: 昭.52(1977) | B27: 3169 | C27: 1633 | D27: 596 | E27: 11 | F27: … | G27: 16 | H27: 186 | I27: 278 | J27: 85 | K27: 46 | L27: 368 | M27: 47 | N27: 1488 | O27: 343 | P27: 67 | Q27: 57 | R27: 523 | S27: 552 | T27: 228 | U27: 34 | V27: 4 | W27: 14 | X27: 1454
A28: 昭.53(1978) | B28: 3369 | C28: 1748 | D28: 575 | E28: 17 | F28: … | G28: 14 | H28: 196 | I28: 338 | J28: 92 | K28: 44 | L28: 422 | M28: 50 | N28: 1558 | O28: 365 | P28: 78 | Q28: 66 | R28: 534 | S28: 580 | T28: 210 | U28: 42 | V28: 3 | W28: 20 | X28: 1662
... A50: 平.12(2000) | B50: 4048 | C50: 1912 | D50: 311 | E50: 1 | F50: … | G50: 8 | H50: 259 | I50: 507 | J50: 123 | K50: 183 | L50: 453 | M50: 68 | N50: 2067 | O50: 600 | P50: 89 | Q50: 82 | R50: 649 | S50: 714 | T50: 216 | U50: 0 | V50: 15 | W50: 68 | X50: 1221
A51: 平.13(2001) | B51: 4002 | C51: 1848 | D51: 304 | E51: 1 | F51: 3 | G51: 4 | H51: 252 | I51: 471 | J51: 118 | K51: 188 | L51: 447 | M51: 59 | N51: 2093 | O51: 573 | P51: 89 | Q51: 82 | R51: 706 | S51: 711 | T51: 194 | U51: 0 | V51: 14 | W51: 61 | X51: 1228
A52: 平.14(2002) | B52: 4036 | C52: 1808 | D52: 282 | E52: 1 | F52: 4 | G52: 3 | H52: 252 | I52: 503 | J52: 102 | K52: 203 | L52: 397 | M52: 61 | N52: 2168 | O52: 618 | P52: 92 | Q52: 84 | R52: 729 | S52: 724 | T52: 199 | U52: … | V52: 4 | W52: 60 | X52: 1277
A53: 平.15(2003) | B53: 4019 | C53: 1794 | D53: 291 | E53: 0 | F53: 3 | G53: 3 | H53: 246 | I53: 493 | J53: 107 | K53: 186 | L53: 411 | M53: 53 | N53: 2146 | O53: 620 | P53: 92 | Q53: 83 | R53: 716 | S53: 715 | T53: 178 | U53: … | V53: 3 | W53: 79 | X53: 1303
A54: 平.16(2004) | B54: 4142 | C54: 1737 | D54: 247 | E54: 0 | F54: 1 | G54: 2 | H54: 268 | I54: 448 | J54: 105 | K54: 180 | L54: 439 | M54: 47 | N54: 2309 | O54: 725 | P54: 94 | Q54: 84 | R54: 746 | S54: 741 | T54: 203 | U54: … | V54: 3 | W54: 96 | X54: 1248
A55: 平.17(2005) | B55: 4168 | C55: 1696 | D55: 253 | E55: 0 | F55: 3 | G55: 2 | H55: 284 | I55: 432 | J55: 101 | K55: 177 | L55: 402 | M55: 42 | N55: 2386 | O55: 778 | P55: 91 | Q55: 82 | R55: 755 | S55: 760 | T55: 212 | U55: … | V55: 2 | W55: 87 | X55: 1289
A56: 平.18(2006) | B56: 4079 | C56: 1617 | D56: 240 | E56: 0 | F56: 2 | G56: 2 | H56: 292 | I56: 424 | J56: 100 | K56: 162 | L56: 354 | M56: 41 | N56: 2382 | O56: 800 | P56: 89 | Q56: 80 | R56: 730 | S56: 761 | T56: 211 | U56: … | V56: 2 | W56: 80 | X56: 1298
A57: 平.19(2007) | B57: 4053 | C57: 1627 | D57: 241 | E57: 0 | F57: 2 | G57: 2 | H57: 272 | I57: 429 | J57: 94 | K57: 162 | L57: 387 | M57: 38 | N57: 2343 | O57: 816 | P57: 90 | Q57: 81 | R57: 712 | S57: 723 | T57: 212 | U57: … | V57: 2 | W57: 83 | X57: 1230
A58: 平.20(2008) | B58: 4151 | C58: 1690 | D58: 261 | E58: 0 | F58: 1 | G58: 2 | H58: 288 | I58: 464 | J58: 94 | K58: 149 | L58: 392 | M58: 38 | N58: 2383 | O58: 788 | P58: 91 | Q58: 84 | R58: 739 | S58: 762 | T58: 234 | U58: … | V58: 2 | W58: 78 | X58: 1124
A59: 平.21(2009) | B59: 4005 | C59: 1623 | D59: 255 | E59: 0 | F59: 2 | G59: 2 | H59: 304 | I59: 463 | J59: 87 | K59: 144 | L59: 329 | M59: 38 | N59: 2320 | O59: 794 | P59: 96 | Q59: 89 | R59: 655 | S59: 771 | T59: 246 | U59: … | V59: 2 | W59: 61 | X59: 1048
A60: 平.22(2010) | B60: 4011 | C60: 1659 | D60: 202 | E60: 0 | F60: 3 | G60: 2 | H60: 292 | I60: 519 | J60: 94 | K60: 149 | L60: 364 | M60: 34 | N60: 2271 | O60: 741 | P60: 95 | Q60: 87 | R60: 665 | S60: 766 | T60: 250 | U60: … | V60: 2 | W60: 82 | X60: 1028
A61: 平.23(2011) | B61: 4069 | C61: 1613 | D61: 248 | E61: 0 | F61: 2 | G61: 2 | H61: 300 | I61: 506 | J61: 91 | K61: 135 | L61: 299 | M61: 30 | N61: 2377 | O61: 820 | P61: 96 | Q61: 87 | R61: 666 | S61: 791 | T61: 260 | U61: … | V61: 4 | W61: 79 | X61: 1018
A62: 平.24(2012) | B62: 4054 | C62: 1613 | D62: 261 | E62: 0 | F62: 1 | G62: 1 | H62: 260 | I62: 524 | J62: 84 | K62: 130 | L62: 309 | M62: 42 | N62: 2347 | O62: 788 | P62: 97 | Q62: 89 | R62: 676 | S62: 782 | T62: 241 | U62: … | V62: 4 | W62: 94 | X62: 1036
A63: 平.25(2013) | B63: 4109 | C63: 1533 | D63: 241 | E63: 0 | F63: 2 | G63: 1 | H63: 259 | I63: 496 | J63: 92 | K63: 123 | L63: 292 | M63: 28 | N63: 2503 | O63: 880 | P63: 101 | Q63: 92 | R63: 695 | S63: 823 | T63: 266 | U63: … | V63: 4 | W63: 73 | X63: 1088
... A66: 平.28(2016) | B66: 4736 | C66: 1676 | D66: 205 | E66: 0 | F66: 1 | G66: 1 | H66: 266 | I66: 616 | J66: 94 | K66: 130 | L66: 336 | M66: 27 | N66: 2958 | O66: 1245 | P66: 109 | Q66: 96 | R66: 723 | S66: 875 | T66: 272 | U66: … | V66: 6 | W66: 101 | X66: 1618
A67: 平.29(2017) | B67: 5000 | C67: 1718 | D67: 221 | E67: x | F67: 1 | G67: 1 | H67: 283 | I67: 657 | J67: 95 | K67: 125 | L67: 308 | M67: x | N67: 3162 | O67: 1258 | P67: 111 | Q67: 93 | R67: 832 | S67: 958 | T67: 286 | U67: … | V67: 3 | W67: 120 | X67: 1758
A68: 平.30(2018) | B68: 4863 | C68: 1584 | D68: 211 | E68: x | F68: 1 | G68: 2 | H68: 255 | I68: 556 | J68: 106 | K68: 122 | L68: 306 | M68: x | N68: 3172 | O68: 1266 | P68: 112 | Q68: 93 | R68: 806 | S68: 984 | T68: 263 | U68: … | V68: 4 | W68: 107 | X68: 1424
A69: 令.元(2019) | B69: 4890 | C69: 1573 | D69: 209 | E69: x | F69: 1 | G69: 2 | H69: 272 | I69: 532 | J69: 110 | K69: 121 | L69: 299 | M69: x | N69: 3227 | O69: 1278 | P69: 107 | Q69: 88 | R69: 847 | S69: 990 | T69: 263 | U69: … | V69: 5 | W69: 90 | X69: 1481
A70: 令.２(2020) | B70: 4772 | C70: 1582 | D70: 208 | E70: x | F70: 0 | G70: 2 | H70: 305 | I70: 562 | J70: 98 | K70: 113 | L70: 270 | M70: x | N70: 3120 | O70: 1151 | P70: 106 | Q70: 89 | R70: 856 | S70: 1005 | T70: 273 | U70: … | V70: 3 | W70: 70 | X70: 1415
A71: 令.３(2021) | B71: 4997 | C71: 1580 | D71: 176 | E71: x | F71: 1 | G71: 2 | H71: 301 | I71: 545 | J71: 105 | K71: 118 | L71: 305 | M71: x | N71: 3329 | O71: 1240 | P71: 103 | Q71: 88 | R71: 900 | S71: 1084 | T71: 316 | U71: … | V71: 2 | W71: 88 | X71: 1712
A72: 令.４(2022) | B72: 5114 | C72: 1560 | D72: 169 | E72: 0 | F72: 1 | G72: 2 | H72: 305 | I72: 531 | J72: 112 | K72: 125 | L72: 297 | M72: 18 | N72: 3473 | O72: 1228 | P72: 98 | Q72: 88 | R72: 909 | S72: 1237 | T72: 316 | U72: … | V72: 2 | W72: 81 | X72: 1493
A73: 令.５(2023) | B73: 5438 | C73: 1609 | D73: 173 | E73: 0 | F73: 1 | G73: 1 | H73: 310 | I73: 573 | J73: 112 | K73: 127 | L73: 293 | M73: 18 | N73: 3754 | O73: 1208 | P73: 96 | Q73: 88 | R73: 910 | S73: 1540 | T73: 439 | U73: … | V73: 1 | W73: 75 | X73: 1534
B74: （注記）
B75: １．昭和35年の麦類は、雑穀、豆類、いも類を含む。
B76: ２．昭和36年の麦類は、雑穀を含む。また、豆類は、いも類を含む。
B77: ３．昭和37年から平成12年までの雑穀及び豆類は、雑穀・豆類として合算されていたため、その値を豆類に表示している。
B78: ４．平成12年までの養蚕は畜産計の外数としていたが、日本標準産業分類の改訂により養蚕が畜産に分類されたことに伴い、平成13年から畜産計に養蚕を含めた。
B79: また、平成14年からは養蚕を畜産計のうちその他畜産物に含めた。

Sheet ③茨城県
A1: 生産農業所得統計
A2: 都道府県別生産農業所得統計累年統計
A4: 茨城
A5: 年次 | B5: 農業産出額 | X5: 生産農業所得
B6: 計 | C6: 耕種 | N6: 畜産 | W6: 加工農産物
C7: 小計 | D7: 米 | E7: 麦類 | F7: 雑穀 | G7: 豆類 | H7: いも類 | I7: 野菜 | J7: 果実 | K7: 花き | L7: 工芸農作物 | M7: その他作物 | N7: 小計 | O7: 肉用牛 | P7: 乳用牛 | R7: 豚 | S7: 鶏 | U7: 養蚕 | V7: その他畜産物
Q8: 生乳 | T8: 鶏卵
B9: 億円 | C9: 億円 | D9: 億円 | E9: 億円 | F9: 億円 | G9: 億円 | H9: 億円 | I9: 億円 | J9: 億円 | K9: 億円 | L9: 億円 | M9: 億円 | N9: 億円 | O9: 億円 | P9: 億円 | Q9: 億円 | R9: 億円 | S9: 億円 | T9: 億円 | U9: 億円 | V9: 億円 | W9: 億円 | X9: 億円
A10: 昭.35(1960) | B10: 726 | C10: 598 | D10: 309 | E10: 158 | F10: … | G10: … | H10: … | I10: 66 | J10: 13 | K10: 1 | L10: 48 | M10: 3 | N10: 103 | O10: … | P10: … | Q10: … | R10: … | S10: … | T10: … | U10: 16 | V10: … | W10: 9 | X10: 506
A11: 昭.36(1961) | B11: 877 | C11: 704 | D11: 329 | E11: 110 | F11: … | G11: 73 | H11: … | I11: 110 | J11: 17 | K11: 2 | L11: 59 | M11: 4 | N11: 143 | O11: … | P11: … | Q11: … | R11: … | S11: … | T11: … | U11: 18 | V11: … | W11: 13 | X11: 571
A12: 昭.37(1962) | B12: 1008 | C12: 802 | D12: 389 | E12: 104 | F12: … | G12: 51 | H12: 46 | I12: 116 | J12: 18 | K12: 2 | L12: 70 | M12: 4 | N12: 172 | O12: … | P12: … | Q12: … | R12: … | S12: … | T12: … | U12: 21 | V12: … | W12: 14 | X12: 646
A13: 昭.38(1963) | B13: 1082 | C13: 835 | D13: 393 | E13: 87 | F13: … | G13: 40 | H13: 49 | I13: 153 | J13: 24 | K13: 2 | L13: 82 | M13: 5 | N13: 213 | O13: … | P13: … | Q13: … | R13: … | S13: … | T13: … | U13: 26 | V13: … | W13: 10 | X13: 662
A14: 昭.39(1964) | B14: 1209 | C14: 927 | D14: 437 | E14: 113 | F14: … | G14: 41 | H14: 45 | I14: 167 | J14: 25 | K14: 2 | L14: 93 | M14: 3 | N14: 250 | O14: 16 | P14: 29 | Q14: … | R14: 142 | S14: 61 | T14: … | U14: 21 | V14: 2 | W14: 10 | X14: 727
A15: 昭.40(1965) | B15: 1330 | C15: 1024 | D15: 491 | E15: 109 | F15: … | G15: 45 | H15: 47 | I15: 203 | J15: 30 | K15: 3 | L15: 93 | M15: 4 | N15: 276 | O15: 13 | P15: 35 | Q15: … | R15: 151 | S15: 74 | T15: … | U15: 22 | V15: 2 | W15: 9 | X15: 780
A16: 昭.41(1966) | B16: 1512 | C16: 1135 | D16: 538 | E16: 120 | F16: … | G16: 46 | H16: 53 | I16: 221 | J16: 40 | K16: 4 | L16: 107 | M16: 4 | N16: 340 | O16: 15 | P16: 41 | Q16: … | R16: 200 | S16: 81 | T16: … | U16: 29 | V16: 2 | W16: 8 | X16: 876
A17: 昭.42(1967) | B17: 1737 | C17: 1291 | D17: 654 | E17: 139 | F17: … | G17: 45 | H17: 51 | I17: 228 | J17: 39 | K17: 3 | L17: 124 | M17: 8 | N17: 398 | O17: 11 | P17: 54 | Q17: 44 | R17: 250 | S17: 82 | T17: 62 | U17: 40 | V17: 2 | W17: 8 | X17: 1046
A18: 昭.43(1968) | B18: 1913 | C18: 1390 | D18: 740 | E18: 133 | F18: … | G18: 47 | H18: 45 | I18: 274 | J18: 38 | K18: 4 | L18: 103 | M18: 7 | N18: 476 | O18: 15 | P18: 61 | Q18: 51 | R18: 295 | S18: 104 | T18: 70 | U18: 37 | V18: 2 | W18: 9 | X18: 1172
A19: 昭.44(1969) | B19: 1952 | C19: 1377 | D19: 687 | E19: 112 | F19: … | G19: 54 | H19: 44 | I19: 315 | J19: 49 | K19: 6 | L19: 100 | M19: 10 | N19: 521 | O19: 16 | P19: 72 | Q19: 59 | R19: 315 | S19: 117 | T19: 71 | U19: 40 | V19: 2 | W19: 14 | X19: 1122
A20: 昭.45(1970) | B20: 2092 | C20: 1480 | D20: 674 | E20: 93 | F20: … | G20: 55 | H20: 51 | I20: 424 | J20: 56 | K20: 8 | L20: 99 | M20: 20 | N20: 555 | O20: 15 | P20: 84 | Q20: 68 | R20: 330 | S20: 124 | T20: 78 | U20: 46 | V20: 1 | W20: 12 | X20: 1132
A21: 昭.46(1971) | B21: 2228 | C21: 1481 | D21: 617 | E21: 74 | F21: … | G21: 55 | H21: 62 | I21: 493 | J21: 64 | K21: 12 | L21: 89 | M21: 15 | N21: 686 | O21: 18 | P21: 91 | Q21: 71 | R21: 444 | S21: 131 | T21: 82 | U21: 42 | V21: 1 | W21: 20 | X21: 1105
A22: 昭.47(1972) | B22: 2358 | C22: 1546 | D22: 700 | E22: 51 | F22: … | G22: 61 | H22: 54 | I22: 466 | J22: 65 | K22: 28 | L22: 108 | M22: 14 | N22: 742 | O22: 20 | P22: 98 | Q22: 76 | R22: 466 | S22: 157 | T22: 94 | U22: 53 | V22: 1 | W22: 17 | X22: 1252
A23: 昭.48(1973) | B23: 2741 | C23: 1789 | D23: 782 | E23: 40 | F23: … | G23: 60 | H23: 69 | I23: 584 | J23: 71 | K23: 43 | L23: 118 | M23: 23 | N23: 841 | O23: 19 | P23: 114 | Q23: 82 | R23: 542 | S23: 165 | T23: 101 | U23: 93 | V23: 1 | W23: 18 | X23: 1497
A24: 昭.49(1974) | B24: 3374 | C24: 2280 | D24: 1059 | E24: 39 | F24: … | G24: 69 | H24: 132 | I24: 712 | J24: 78 | K24: 32 | L24: 143 | M24: 16 | N24: 1012 | O24: 23 | P24: 134 | Q24: 111 | R24: 652 | S24: 202 | T24: 123 | U24: 70 | V24: 0 | W24: 11 | X24: 1771
A25: 昭.50(1975) | B25: 4127 | C25: 2824 | D25: 1322 | E25: 49 | F25: … | G25: 80 | H25: 130 | I25: 898 | J25: 101 | K25: 36 | L25: 182 | M25: 26 | N25: 1210 | O25: 33 | P25: 162 | Q25: 132 | R25: 805 | S25: 209 | T25: 130 | U25: 75 | V25: 1 | W25: 19 | X25: 2490
A26: 昭.51(1976) | B26: 4147 | C26: 2794 | D26: 1333 | E26: 50 | F26: … | G26: 85 | H26: 106 | I26: 872 | J26: 98 | K26: 40 | L26: 186 | M26: 25 | N26: 1251 | O26: 40 | P26: 198 | Q26: 159 | R26: 804 | S26: 209 | T26: 121 | U26: 84 | V26: 0 | W26: 17 | X26: 2381
A27: 昭.52(1977) | B27: 4530 | C27: 3078 | D27: 1453 | E27: 74 | F27: … | G27: 90 | H27: 131 | I27: 953 | J27: 115 | K27: 54 | L27: 185 | M27: 23 | N27: 1344 | O27: 55 | P27: 214 | Q27: 173 | R27: 843 | S27: 231 | T27: 137 | U27: 83 | V27: 0 | W27: 26 | X27: 2425
A28: 昭.53(1978) | B28: 4595 | C28: 3061 | D28: 1411 | E28: 79 | F28: … | G28: 66 | H28: 123 | I28: 1009 | J28: 100 | K28: 57 | L28: 191 | M28: 23 | N28: 1420 | O28: 62 | P28: 233 | Q28: 185 | R28: 881 | S28: 243 | T28: 151 | U28: 89 | V28: 0 | W28: 26 | X28: 2396
... A50: 平.12(2000) | B50: 4147 | C50: 3085 | D50: 1070 | E50: 35 | F50: … | G50: 38 | H50: 202 | I50: 1394 | J50: 144 | K50: 130 | L50: 57 | M50: 15 | N50: 1014 | O50: 118 | P50: 187 | Q50: 162 | R50: 392 | S50: 315 | T50: 278 | U50: 1 | V50: 2 | W50: 46 | X50: 1839
A51: 平.13(2001) | B51: 3976 | C51: 2961 | D51: 987 | E51: 30 | F51: 4 | G51: 30 | H51: 169 | I51: 1425 | J51: 112 | K51: 129 | L51: 61 | M51: 14 | N51: 968 | O51: 88 | P51: 186 | Q51: 161 | R51: 399 | S51: 293 | T51: 254 | U51: 0 | V51: 2 | W51: 47 | X51: 1772
A52: 平.14(2002) | B52: 4161 | C52: 3124 | D52: 989 | E52: 48 | F52: 5 | G52: 34 | H52: 188 | I52: 1526 | J52: 137 | K52: 125 | L52: 60 | M52: 13 | N52: 981 | O52: 96 | P52: 180 | Q52: 161 | R52: 400 | S52: 304 | T52: 257 | U52: … | V52: 2 | W52: 57 | X52: 1897
A53: 平.15(2003) | B53: 4194 | C53: 3201 | D53: 1204 | E53: 34 | F53: 8 | G53: 36 | H53: 196 | I53: 1414 | J53: 120 | K53: 126 | L53: 51 | M53: 13 | N53: 930 | O53: 87 | P53: 184 | Q53: 160 | R53: 353 | S53: 303 | T53: 248 | U53: … | V53: 3 | W53: 63 | X53: 2031
A54: 平.16(2004) | B54: 4203 | C54: 3133 | D54: 971 | E54: 26 | F54: 5 | G54: 39 | H54: 190 | I54: 1575 | J54: 139 | K54: 123 | L54: 52 | M54: 13 | N54: 1006 | O54: 98 | P54: 180 | Q54: 156 | R54: 377 | S54: 348 | T54: 294 | U54: … | V54: 3 | W54: 64 | X54: 1915
A55: 平.17(2005) | B55: 4162 | C55: 3018 | D55: 938 | E55: 33 | F55: 8 | G55: 32 | H55: 185 | I55: 1494 | J55: 147 | K55: 124 | L55: 44 | M55: 13 | N55: 1082 | O55: 107 | P55: 177 | Q55: 157 | R55: 398 | S55: 396 | T55: 338 | U55: … | V55: 3 | W55: 62 | X55: 1884
A56: 平.18(2006) | B56: 3988 | C56: 2966 | D56: 894 | E56: 18 | F56: 10 | G56: 29 | H56: 191 | I56: 1512 | J56: 139 | K56: 125 | L56: 35 | M56: 14 | N56: 956 | O56: 114 | P56: 174 | Q56: 153 | R56: 393 | S56: 272 | T56: 214 | U56: … | V56: 3 | W56: 66 | X56: 1766
A57: 平.19(2007) | B57: 4082 | C57: 2955 | D57: 861 | E57: 12 | F57: 8 | G57: 25 | H57: 200 | I57: 1538 | J57: 140 | K57: 127 | L57: 36 | M57: 9 | N57: 1058 | O57: 120 | P57: 170 | Q57: 151 | R57: 414 | S57: 351 | T57: 299 | U57: … | V57: 3 | W57: 70 | X57: 1822
A58: 平.20(2008) | B58: 4284 | C58: 3073 | D58: 958 | E58: 9 | F58: 5 | G58: 25 | H58: 195 | I58: 1595 | J58: 130 | K58: 117 | L58: 34 | M58: 6 | N58: 1141 | O58: 123 | P58: 164 | Q58: 151 | R58: 439 | S58: 411 | T58: 357 | U58: … | V58: 4 | W58: 70 | X58: 1669
A59: 平.21(2009) | B59: 4170 | C59: 3002 | D59: 885 | E59: 7 | F59: 5 | G59: 24 | H59: 200 | I59: 1595 | J59: 132 | K59: 117 | L59: 31 | M59: 5 | N59: 1098 | O59: 150 | P59: 176 | Q59: 164 | R59: 388 | S59: 381 | T59: 331 | U59: … | V59: 3 | W59: 70 | X59: 1630
A60: 平.22(2010) | B60: 4306 | C60: 3123 | D60: 845 | E60: 7 | F60: 7 | G60: 18 | H60: 208 | I60: 1743 | J60: 139 | K60: 125 | L60: 26 | M60: 6 | N60: 1125 | O60: 139 | P60: 179 | Q60: 155 | R60: 396 | S60: 408 | T60: 356 | U60: … | V60: 3 | W60: 58 | X60: 1716
A61: 平.23(2011) | B61: 4097 | C61: 2965 | D61: 915 | E61: 2 | F61: 4 | G61: 17 | H61: 203 | I61: 1542 | J61: 130 | K61: 126 | L61: 20 | M61: 6 | N61: 1079 | O61: 118 | P61: 155 | Q61: 136 | R61: 377 | S61: 424 | T61: 372 | U61: … | V61: 3 | W61: 53 | X61: 1417
A62: 平.24(2012) | B62: 4281 | C62: 3150 | D62: 1008 | E62: 3 | F62: 3 | G62: 16 | H62: 210 | I62: 1626 | J62: 131 | K62: 133 | L62: 12 | M62: 8 | N62: 1075 | O62: 119 | P62: 175 | Q62: 158 | R62: 359 | S62: 419 | T62: 364 | U62: … | V62: 3 | W62: 55 | X62: 1439
A63: 平.25(2013) | B63: 4356 | C63: 3167 | D63: 875 | E63: 4 | F63: 2 | G63: 19 | H63: 209 | I63: 1767 | J63: 134 | K63: 134 | L63: 14 | M63: 8 | N63: 1131 | O63: 129 | P63: 171 | Q63: 156 | R63: 375 | S63: 454 | T63: 402 | U63: … | V63: 3 | W63: 58 | X63: 1571
... A73: 令.５(2023) | B73: 4536 | C73: 3082 | D73: 703 | E73: 9 | F73: 7 | G73: 13 | H73: 375 | I73: 1664 | J73: 124 | K73: 165 | L73: 4 | M73: 18 | N73: 1353 | O73: 196 | P73: 236 | Q73: 226 | R73: 405 | S73: 514 | T73: 460 | U73: … | V73: 2 | W73: 100 | X73: 1534
B74: （注記）
B75: １．昭和35年の麦類は、雑穀、豆類、いも類を含む。
B76: ２．昭和36年の麦類は、雑穀を含む。また、豆類は、いも類を含む。
B77: ３．昭和37年から平成12年までの雑穀及び豆類は、雑穀・豆類として合算されていたため、その値を豆類に表示している。
B78: ４．平成12年までの養蚕は畜産計の外数としていたが、日本標準産業分類の改訂により養蚕が畜産に分類されたことに伴い、平成13年から畜産計に養蚕を含めた。
B79: また、平成14年からは養蚕を畜産計のうちその他畜産物に含めた。
B81: *令和7年５月23日修正（全国・茨城）

Sheet ④千葉県
A1: 生産農業所得統計
A2: 都道府県別生産農業所得統計累年統計
A4: 千葉
A5: 年次 | B5: 農業産出額 | X5: 生産農業所得
B6: 計 | C6: 耕種 | N6: 畜産 | W6: 加工農産物
C7: 小計 | D7: 米 | E7: 麦類 | F7: 雑穀 | G7: 豆類 | H7: いも類 | I7: 野菜 | J7: 果実 | K7: 花き | L7: 工芸農作物 | M7: その他作物 | N7: 小計 | O7: 肉用牛 | P7: 乳用牛 | R7: 豚 | S7: 鶏 | U7: 養蚕 | V7: その他畜産物
Q8: 生乳 | T8: 鶏卵
B9: 億円 | C9: 億円 | D9: 億円 | E9: 億円 | F9: 億円 | G9: 億円 | H9: 億円 | I9: 億円 | J9: 億円 | K9: 億円 | L9: 億円 | M9: 億円 | N9: 億円 | O9: 億円 | P9: 億円 | Q9: 億円 | R9: 億円 | S9: 億円 | T9: 億円 | U9: 億円 | V9: 億円 | W9: 億円 | X9: 億円
A10: 昭.35(1960) | B10: 671 | C10: 564 | D10: 317 | E10: 139 | F10: … | G10: … | H10: … | I10: 74 | J10: 15 | K10: 5 | L10: 10 | M10: 4 | N10: 100 | O10: … | P10: … | Q10: … | R10: … | S10: … | T10: … | U10: 2 | V10: … | W10: 5 | X10: 472
A11: 昭.36(1961) | B11: 801 | C11: 671 | D11: 345 | E11: 55 | F11: … | G11: 105 | H11: … | I11: 127 | J11: 19 | K11: 6 | L11: 11 | M11: 4 | N11: 125 | O11: … | P11: … | Q11: … | R11: … | S11: … | T11: … | U11: 2 | V11: … | W11: 2 | X11: 541
A12: 昭.37(1962) | B12: 921 | C12: 748 | D12: 362 | E12: 51 | F12: … | G12: 67 | H12: 53 | I12: 174 | J12: 21 | K12: 6 | L12: 10 | M12: 4 | N12: 168 | O12: … | P12: … | Q12: … | R12: … | S12: … | T12: … | U12: 2 | V12: … | W12: 2 | X12: 585
A13: 昭.38(1963) | B13: 1003 | C13: 804 | D13: 412 | E13: 35 | F13: … | G13: 68 | H13: 60 | I13: 182 | J13: 22 | K13: 6 | L13: 11 | M13: 8 | N13: 195 | O13: … | P13: … | Q13: … | R13: … | S13: … | T13: … | U13: 2 | V13: … | W13: 2 | X13: 607
A14: 昭.39(1964) | B14: 1110 | C14: 891 | D14: 450 | E14: 47 | F14: … | G14: 67 | H14: 45 | I14: 228 | J14: 26 | K14: 8 | L14: 13 | M14: 7 | N14: 214 | O14: 4 | P14: 61 | Q14: … | R14: 90 | S14: 57 | T14: … | U14: 2 | V14: 3 | W14: 3 | X14: 654
A15: 昭.40(1965) | B15: 1195 | C15: 945 | D15: 464 | E15: 50 | F15: … | G15: 67 | H15: 41 | I15: 268 | J15: 28 | K15: 9 | L15: 11 | M15: 8 | N15: 247 | O15: 5 | P15: 67 | Q15: … | R15: 110 | S15: 64 | T15: … | U15: 2 | V15: 1 | W15: 2 | X15: 702
A16: 昭.41(1966) | B16: 1303 | C16: 1005 | D16: 476 | E16: 53 | F16: … | G16: 63 | H16: 50 | I16: 305 | J16: 25 | K16: 12 | L16: 14 | M16: 8 | N16: 294 | O16: 6 | P16: 81 | Q16: … | R16: 137 | S16: 69 | T16: … | U16: 3 | V16: 0 | W16: 1 | X16: 747
A17: 昭.42(1967) | B17: 1578 | C17: 1231 | D17: 609 | E17: 58 | F17: … | G17: 74 | H17: 50 | I17: 375 | J17: 28 | K17: 13 | L17: 16 | M17: 8 | N17: 342 | O17: 6 | P17: 103 | Q17: 88 | R17: 154 | S17: 79 | T17: 62 | U17: 4 | V17: 0 | W17: 1 | X17: 911
A18: 昭.43(1968) | B18: 1755 | C18: 1306 | D18: 617 | E18: 51 | F18: … | G18: 72 | H18: 49 | I18: 450 | J18: 32 | K18: 13 | L18: 14 | M18: 8 | N18: 444 | O18: 11 | P18: 129 | Q18: 102 | R18: 203 | S18: 100 | T18: 80 | U18: 4 | V18: 0 | W18: 0 | X18: 1001
A19: 昭.44(1969) | B19: 1899 | C19: 1385 | D19: 548 | E19: 47 | F19: … | G19: 85 | H19: 53 | I19: 569 | J19: 40 | K19: 15 | L19: 15 | M19: 13 | N19: 509 | O19: 10 | P19: 142 | Q19: 115 | R19: 231 | S19: 127 | T19: 100 | U19: 5 | V19: 0 | W19: 0 | X19: 1038
A20: 昭.45(1970) | B20: 2044 | C20: 1532 | D20: 589 | E20: 27 | F20: … | G20: 83 | H20: 62 | I20: 675 | J20: 47 | K20: 19 | L20: 13 | M20: 17 | N20: 506 | O20: 6 | P20: 144 | Q20: 118 | R20: 235 | S20: 121 | T20: 94 | U20: 6 | V20: 0 | W20: 0 | X20: 1113
A21: 昭.46(1971) | B21: 2013 | C21: 1414 | D21: 544 | E21: 24 | F21: … | G21: 63 | H21: 71 | I21: 604 | J21: 49 | K21: 32 | L21: 13 | M21: 15 | N21: 593 | O21: 11 | P21: 153 | Q21: 127 | R21: 304 | S21: 125 | T21: 95 | U21: 5 | V21: 1 | W21: 0 | X21: 1035
A22: 昭.47(1972) | B22: 2176 | C22: 1494 | D22: 587 | E22: 14 | F22: … | G22: 82 | H22: 76 | I22: 608 | J22: 52 | K22: 43 | L22: 16 | M22: 15 | N22: 675 | O22: 17 | P22: 165 | Q22: 132 | R22: 345 | S22: 147 | T22: 112 | U22: 7 | V22: 1 | W22: 0 | X22: 1160
A23: 昭.48(1973) | B23: 2547 | C23: 1793 | D23: 674 | E23: 10 | F23: … | G23: 101 | H23: 107 | I23: 748 | J23: 57 | K23: 55 | L23: 17 | M23: 23 | N23: 742 | O23: 19 | P23: 186 | Q23: 146 | R23: 351 | S23: 184 | T23: 145 | U23: 12 | V23: 2 | W23: 0 | X23: 1255
A24: 昭.49(1974) | B24: 3224 | C24: 2359 | D24: 941 | E24: 9 | F24: … | G24: 109 | H24: 129 | I24: 967 | J24: 68 | K24: 94 | L24: 24 | M24: 19 | N24: 855 | O24: 26 | P24: 215 | Q24: 190 | R24: 408 | S24: 204 | T24: 159 | U24: 9 | V24: 2 | W24: 0 | X24: 1661
A25: 昭.50(1975) | B25: 3627 | C25: 2614 | D25: 1105 | E25: 13 | F25: … | G25: 78 | H25: 153 | I25: 1025 | J25: 89 | K25: 53 | L25: 28 | M25: 71 | N25: 1003 | O25: 24 | P25: 247 | Q25: 215 | R25: 508 | S25: 222 | T25: 167 | U25: 10 | V25: 2 | W25: 0 | X25: 2048
A26: 昭.51(1976) | B26: 3931 | C26: 2860 | D26: 1067 | E26: 13 | F26: … | G26: 92 | H26: 194 | I26: 1239 | J26: 88 | K26: 59 | L26: 30 | M26: 76 | N26: 1061 | O26: 21 | P26: 289 | Q26: 254 | R26: 524 | S26: 225 | T26: 167 | U26: 11 | V26: 2 | W26: 0 | X26: 2131
A27: 昭.52(1977) | B27: 4222 | C27: 3083 | D27: 1158 | E27: 13 | F27: … | G27: 108 | H27: 275 | I27: 1265 | J27: 85 | K27: 63 | L27: 32 | M27: 83 | N27: 1128 | O27: 31 | P27: 313 | Q27: 277 | R27: 553 | S27: 230 | T27: 164 | U27: 11 | V27: 1 | W27: 0 | X27: 2096
A28: 昭.53(1978) | B28: 4216 | C28: 3051 | D28: 1180 | E28: 13 | F28: … | G28: 81 | H28: 250 | I28: 1268 | J28: 77 | K28: 66 | L28: 33 | M28: 84 | N28: 1153 | O28: 32 | P28: 331 | Q28: 291 | R28: 548 | S28: 241 | T28: 157 | U28: 12 | V28: 2 | W28: 0 | X28: 2111
... A50: 平.12(2000) | B50: 4448 | C50: 3471 | D50: 876 | E50: 4 | F50: … | G50: 88 | H50: 236 | I50: 1763 | J50: 182 | K50: 251 | L50: 19 | M50: 52 | N50: 976 | O50: 64 | P50: 303 | Q50: 281 | R50: 288 | S50: 303 | T50: 256 | U50: 0 | V50: 18 | W50: 0 | X50: 1996
A51: 平.13(2001) | B51: 4246 | C51: 3278 | D51: 803 | E51: 4 | F51: 0 | G51: 73 | H51: 214 | I51: 1716 | J51: 163 | K51: 230 | L51: 22 | M51: 53 | N51: 967 | O51: 50 | P51: 293 | Q51: 271 | R51: 326 | S51: 281 | T51: 228 | U51: 0 | V51: 17 | W51: 0 | X51: 1713
A52: 平.14(2002) | B52: 4308 | C52: 3338 | D52: 795 | E52: 5 | F52: 0 | G52: 69 | H52: 211 | I52: 1794 | J52: 183 | K52: 211 | L52: 21 | M52: 51 | N52: 969 | O52: 56 | P52: 289 | Q52: 269 | R52: 333 | S52: 274 | T52: 225 | U52: … | V52: 17 | W52: 0 | X52: 1749
A53: 平.15(2003) | B53: 4319 | C53: 3435 | D53: 1009 | E53: 3 | F53: 0 | G53: 81 | H53: 226 | I53: 1711 | J53: 135 | K53: 202 | L53: 19 | M53: 50 | N53: 884 | O53: 46 | P53: 290 | Q53: 267 | R53: 293 | S53: 241 | T53: 196 | U53: … | V53: 14 | W53: 0 | X53: 1886
A54: 平.16(2004) | B54: 4224 | C54: 3233 | D54: 782 | E54: 3 | F54: 0 | G54: 65 | H54: 195 | I54: 1760 | J54: 158 | K54: 202 | L54: 19 | M54: 50 | N54: 990 | O54: 49 | P54: 292 | Q54: 265 | R54: 351 | S54: 286 | T54: 241 | U54: … | V54: 12 | W54: 0 | X54: 1735
A55: 平.17(2005) | B55: 4161 | C55: 3136 | D55: 765 | E55: 3 | F55: 0 | G55: 67 | H55: 202 | I55: 1653 | J55: 172 | K55: 208 | L55: 15 | M55: 51 | N55: 1024 | O55: 47 | P55: 284 | Q55: 256 | R55: 342 | S55: 338 | T55: 283 | U55: … | V55: 13 | W55: 0 | X55: 1599
A56: 平.18(2006) | B56: 4014 | C56: 3009 | D56: 706 | E56: 2 | F56: 0 | G56: 67 | H56: 217 | I56: 1570 | J56: 167 | K56: 207 | L56: 14 | M56: 58 | N56: 1003 | O56: 43 | P56: 273 | Q56: 246 | R56: 347 | S56: 328 | T56: 260 | U56: … | V56: 12 | W56: 2 | X56: 1448
A57: 平.19(2007) | B57: 4119 | C57: 3101 | D57: 704 | E57: 1 | F57: 0 | G57: 65 | H57: 228 | I57: 1647 | J57: 182 | K57: 209 | L57: 15 | M57: 50 | N57: 1014 | O57: 45 | P57: 262 | Q57: 241 | R57: 348 | S57: 345 | T57: 294 | U57: … | V57: 14 | W57: 3 | X57: 1355
A58: 平.20(2008) | B58: 4216 | C58: 3158 | D58: 774 | E58: 1 | F58: 0 | G58: 87 | H58: 228 | I58: 1652 | J58: 168 | K58: 191 | L58: 13 | M58: 45 | N58: 1053 | O58: 48 | P58: 259 | Q58: 240 | R58: 367 | S58: 367 | T58: 317 | U58: … | V58: 13 | W58: 4 | X58: 1319
A59: 平.21(2009) | B59: 4066 | C59: 3028 | D59: 716 | E59: 1 | F59: 0 | G59: 87 | H59: 210 | I59: 1586 | J59: 173 | K59: 189 | L59: 14 | M59: 51 | N59: 1033 | O59: 48 | P59: 273 | Q59: 254 | R59: 335 | S59: 365 | T59: 309 | U59: … | V59: 13 | W59: 5 | X59: 1242
A60: 平.22(2010) | B60: 4048 | C60: 3007 | D60: 674 | E60: 1 | F60: 0 | G60: 59 | H60: 201 | I60: 1676 | J60: 145 | K60: 191 | L60: 12 | M60: 48 | N60: 1036 | O60: 44 | P60: 274 | Q60: 254 | R60: 331 | S60: 374 | T60: 321 | U60: … | V60: 13 | W60: 5 | X60: 1258
A61: 平.23(2011) | B61: 4009 | C61: 2971 | D61: 730 | E61: 1 | F61: 0 | G61: 71 | H61: 209 | I61: 1568 | J61: 162 | K61: 176 | L61: 11 | M61: 43 | N61: 1034 | O61: 46 | P61: 262 | Q61: 240 | R61: 347 | S61: 365 | T61: 322 | U61: … | V61: 13 | W61: 5 | X61: 1254
A62: 平.24(2012) | B62: 4153 | C62: 3106 | D62: 814 | E62: 1 | F62: 0 | G62: 59 | H62: 186 | I62: 1653 | J62: 158 | K62: 183 | L62: 8 | M62: 44 | N62: 1042 | O62: 53 | P62: 264 | Q62: 242 | R62: 369 | S62: 345 | T62: 299 | U62: … | V62: 11 | W62: 5 | X62: 1358
A63: 平.25(2013) | B63: 4141 | C63: 3043 | D63: 710 | E63: 1 | F63: 0 | G63: 64 | H63: 178 | I63: 1687 | J63: 159 | K63: 189 | L63: 9 | M63: 45 | N63: 1094 | O63: 47 | P63: 258 | Q63: 236 | R63: 407 | S63: 371 | T63: 326 | U63: … | V63: 11 | W63: 5 | X63: 1398
... A67: 平.29(2017) | B67: 4700 | C67: 3265 | D67: 732 | E67: 1 | F67: 0 | G67: 90 | H67: 204 | I67: 1829 | J67: 179 | K67: 183 | L67: 8 | M67: 38 | N67: 1432 | O67: 95 | P67: 276 | Q67: 233 | R67: 546 | S67: 506 | T67: 386 | U67: … | V67: 9 | W67: 3 | X67: 1784
A68: 平.30(2018) | B68: 4259 | C68: 2969 | D68: 728 | E68: x | F68: 1 | G68: 100 | H68: 198 | I68: 1546 | J68: 157 | K68: 193 | L68: 7 | M68: x | N68: 1287 | O68: 98 | P68: 274 | Q68: 234 | R68: 458 | S68: 446 | T68: 341 | U68: … | V68: 12 | W68: 3 | X68: 1486
A69: 令.元(2019) | B69: 3859 | C69: 2609 | D69: 689 | E69: x | F69: 1 | G69: 73 | H69: 207 | I69: 1305 | J69: 114 | K69: 174 | L69: 6 | M69: x | N69: 1248 | O69: 100 | P69: 269 | Q69: 226 | R69: 442 | S69: 425 | T69: 326 | U69: … | V69: 12 | W69: 2 | X69: 1233
A70: 令.２(2020) | B70: 3853 | C70: 2657 | D70: 641 | E70: 1 | F70: 1 | G70: 81 | H70: 245 | I70: 1383 | J70: 111 | K70: 161 | L70: 5 | M70: 30 | N70: 1194 | O70: 94 | P70: 255 | Q70: 223 | R70: 447 | S70: 388 | T70: 295 | U70: … | V70: 11 | W70: 2 | X70: 1293
A71: 令.３(2021) | B71: 3471 | C71: 2375 | D71: 466 | E71: 1 | F71: 0 | G71: 93 | H71: 215 | I71: 1280 | J71: 101 | K71: 187 | L71: 5 | M71: 26 | N71: 1094 | O71: 107 | P71: 257 | Q71: 225 | R71: 393 | S71: 326 | T71: 247 | U71: … | V71: 11 | W71: 2 | X71: 1257
A72: 令.４(2022) | B72: 3676 | C72: 2448 | D72: 472 | E72: x | F72: 0 | G72: 103 | H72: 215 | I72: 1335 | J72: 91 | K72: 198 | L72: 3 | M72: x | N72: 1226 | O72: 117 | P72: 249 | Q72: 226 | R72: 467 | S72: 381 | T72: 297 | U72: … | V72: 12 | W72: 2 | X72: 1220
A73: 令.５(2023) | B73: 4029 | C73: 2526 | D73: 569 | E73: x | F73: 0 | G73: 69 | H73: 212 | I73: 1336 | J73: 108 | K73: 200 | L73: 2 | M73: x | N73: 1501 | O73: 123 | P73: 254 | Q73: 238 | R73: 519 | S73: 593 | T73: 504 | U73: … | V73: 12 | W73: 2 | X73: 1262
B74: （注記）
B75: １．昭和35年の麦類は、雑穀、豆類、いも類を含む。
B76: ２．昭和36年の麦類は、雑穀を含む。また、豆類は、いも類を含む。
B77: ３．昭和37年から平成12年までの雑穀及び豆類は、雑穀・豆類として合算されていたため、その値を豆類に表示している。
B78: ４．平成12年までの養蚕は畜産計の外数としていたが、日本標準産業分類の改訂により養蚕が畜産に分類されたことに伴い、平成13年から畜産計に養蚕を含めた。
B79: また、平成14年からは養蚕を畜産計のうちその他畜産物に含めた。

Sheet ⑤青森県
A1: 生産農業所得統計
A2: 都道府県別生産農業所得統計累年統計
A4: 青森
A5: 年次 | B5: 農業産出額 | X5: 生産農業所得
B6: 計 | C6: 耕種 | N6: 畜産 | W6: 加工農産物
C7: 小計 | D7: 米 | E7: 麦類 | F7: 雑穀 | G7: 豆類 | H7: いも類 | I7: 野菜 | J7: 果実 | K7: 花き | L7: 工芸農作物 | M7: その他作物 | N7: 小計 | O7: 肉用牛 | P7: 乳用牛 | R7: 豚 | S7: 鶏 | U7: 養蚕 | V7: その他畜産物
Q8: 生乳 | T8: 鶏卵
B9: 億円 | C9: 億円 | D9: 億円 | E9: 億円 | F9: 億円 | G9: 億円 | H9: 億円 | I9: 億円 | J9: 億円 | K9: 億円 | L9: 億円 | M9: 億円 | N9: 億円 | O9: 億円 | P9: 億円 | Q9: 億円 | R9: 億円 | S9: 億円 | T9: 億円 | U9: 億円 | V9: 億円 | W9: 億円 | X9: 億円
A10: 昭.35(1960) | B10: 466 | C10: 433 | D10: 255 | E10: 29 | F10: … | G10: … | H10: … | I10: 19 | J10: 110 | K10: 0 | L10: 19 | M10: 1 | N10: 28 | O10: … | P10: … | Q10: … | R10: … | S10: … | T10: … | U10: 0 | V10: … | W10: 5 | X10: 312
A11: 昭.36(1961) | B11: 513 | C11: 462 | D11: 259 | E11: 8 | F11: … | G11: 19 | H11: … | I11: 24 | J11: 136 | K11: 0 | L11: 15 | M11: 1 | N11: 44 | O11: … | P11: … | Q11: … | R11: … | S11: … | T11: … | U11: 0 | V11: … | W11: 6 | X11: 338
A12: 昭.37(1962) | B12: 644 | C12: 581 | D12: 310 | E12: 3 | F12: … | G12: 15 | H12: 10 | I12: 31 | J12: 184 | K12: 0 | L12: 26 | M12: 1 | N12: 59 | O12: … | P12: … | Q12: … | R12: … | S12: … | T12: … | U12: 0 | V12: … | W12: 4 | X12: 424
A13: 昭.38(1963) | B13: 683 | C13: 612 | D13: 313 | E13: 3 | F13: … | G13: 13 | H13: 8 | I13: 50 | J13: 194 | K13: 0 | L13: 29 | M13: 3 | N13: 67 | O13: … | P13: … | Q13: … | R13: … | S13: … | T13: … | U13: 0 | V13: … | W13: 4 | X13: 444
A14: 昭.39(1964) | B14: 753 | C14: 672 | D14: 375 | E14: 3 | F14: … | G14: 14 | H14: 11 | I14: 58 | J14: 179 | K14: 0 | L14: 30 | M14: 1 | N14: 76 | O14: 2 | P14: 18 | Q14: … | R14: 36 | S14: 18 | T14: … | U14: 0 | V14: 2 | W14: 6 | X14: 480
A15: 昭.40(1965) | B15: 820 | C15: 726 | D15: 410 | E15: 3 | F15: … | G15: 14 | H15: 11 | I15: 61 | J15: 194 | K15: 0 | L15: 32 | M15: 2 | N15: 90 | O15: 2 | P15: 20 | Q15: … | R15: 40 | S15: 23 | T15: … | U15: 0 | V15: 4 | W15: 4 | X15: 513
A16: 昭.41(1966) | B16: 843 | C16: 738 | D16: 445 | E16: 3 | F16: … | G16: 14 | H16: 12 | I16: 68 | J16: 163 | K16: 0 | L16: 32 | M16: 2 | N16: 100 | O16: 4 | P16: 22 | Q16: … | R16: 44 | S16: 27 | T16: … | U16: 0 | V16: 3 | W16: 4 | X16: 520
A17: 昭.42(1967) | B17: 1052 | C17: 930 | D17: 594 | E17: 3 | F17: … | G17: 14 | H17: 14 | I17: 75 | J17: 199 | K17: 0 | L17: 29 | M17: 2 | N17: 121 | O17: 5 | P17: 27 | Q17: 19 | R17: 54 | S17: 32 | T17: 29 | U17: 0 | V17: 4 | W17: 2 | X17: 678
A18: 昭.43(1968) | B18: 1033 | C18: 890 | D18: 621 | E18: 3 | F18: … | G18: 12 | H18: 7 | I18: 70 | J18: 154 | K18: 1 | L18: 21 | M18: 2 | N18: 140 | O18: 7 | P18: 28 | Q18: 21 | R18: 54 | S18: 41 | T18: 37 | U18: 0 | V18: 10 | W18: 3 | X18: 624
A19: 昭.44(1969) | B19: 1187 | C19: 1016 | D19: 654 | E19: 2 | F19: … | G19: 13 | H19: 11 | I19: 83 | J19: 227 | K19: 1 | L19: 21 | M19: 5 | N19: 168 | O19: 6 | P19: 31 | Q19: 23 | R19: 66 | S19: 55 | T19: 50 | U19: 0 | V19: 11 | W19: 3 | X19: 732
A20: 昭.45(1970) | B20: 1225 | C20: 1025 | D20: 601 | E20: 1 | F20: … | G20: 17 | H20: 15 | I20: 92 | J20: 270 | K20: 1 | L20: 25 | M20: 4 | N20: 198 | O20: 7 | P20: 35 | Q20: 26 | R20: 71 | S20: 73 | T20: 65 | U20: 0 | V20: 12 | W20: 1 | X20: 771
A21: 昭.46(1971) | B21: 1234 | C21: 985 | D21: 515 | E21: 1 | F21: … | G21: 22 | H21: 10 | I21: 112 | J21: 289 | K21: 1 | L21: 27 | M21: 7 | N21: 249 | O21: 8 | P21: 36 | Q21: 28 | R21: 98 | S21: 94 | T21: 81 | U21: 1 | V21: 14 | W21: 0 | X21: 738
A22: 昭.47(1972) | B22: 1430 | C22: 1162 | D22: 602 | E22: 1 | F22: … | G22: 20 | H22: 12 | I22: 135 | J22: 342 | K22: 1 | L22: 38 | M22: 10 | N22: 268 | O22: 10 | P22: 38 | Q22: 29 | R22: 96 | S22: 117 | T22: 100 | U22: 1 | V22: 7 | W22: - | X22: 971
A23: 昭.48(1973) | B23: 1643 | C23: 1291 | D23: 675 | E23: 0 | F23: … | G23: 20 | H23: 16 | I23: 197 | J23: 324 | K23: 1 | L23: 50 | M23: 9 | N23: 351 | O23: 16 | P23: 52 | Q23: 36 | R23: 113 | S23: 162 | T23: 135 | U23: 2 | V23: 7 | W23: 0 | X23: 1072
A24: 昭.49(1974) | B24: 2338 | C24: 1866 | D24: 1007 | E24: 1 | F24: … | G24: 23 | H24: 18 | I24: 237 | J24: 500 | K24: 2 | L24: 70 | M24: 10 | N24: 467 | O24: 17 | P24: 63 | Q24: 54 | R24: 172 | S24: 208 | T24: 178 | U24: 2 | V24: 8 | W24: 2 | X24: 1530
A25: 昭.50(1975) | B25: 2908 | C25: 2393 | D25: 1204 | E25: 1 | F25: … | G25: 24 | H25: 18 | I25: 277 | J25: 760 | K25: 2 | L25: 95 | M25: 12 | N25: 508 | O25: 24 | P25: 74 | Q25: 60 | R25: 202 | S25: 190 | T25: 156 | U25: 3 | V25: 19 | W25: 4 | X25: 1971
A26: 昭.51(1976) | B26: 2733 | C26: 2216 | D26: 1146 | E26: 0 | F26: … | G26: 21 | H26: 18 | I26: 266 | J26: 632 | K26: 3 | L26: 114 | M26: 15 | N26: 507 | O26: 24 | P26: 83 | Q26: 68 | R26: 176 | S26: 196 | T26: 153 | U26: 3 | V26: 28 | W26: 7 | X26: 1793
A27: 昭.52(1977) | B27: 2840 | C27: 2319 | D27: 1370 | E27: 0 | F27: … | G27: 24 | H27: 17 | I27: 286 | J27: 494 | K27: 4 | L27: 109 | M27: 15 | N27: 512 | O27: 29 | P27: 90 | Q27: 74 | R27: 183 | S27: 189 | T27: 139 | U27: 3 | V27: 20 | W27: 7 | X27: 1688
A28: 昭.53(1978) | B28: 3006 | C28: 2506 | D28: 1373 | E28: 1 | F28: … | G28: 29 | H28: 20 | I28: 291 | J28: 653 | K28: 4 | L28: 120 | M28: 14 | N28: 490 | O28: 33 | P28: 97 | Q28: 79 | R28: 180 | S28: 165 | T28: 121 | U28: 3 | V28: 16 | W28: 5 | X28: 1926
A29: 昭.54(1979) | B29: 3058 | C29: 2550 | D29: 1304 | E29: 8 | F29: … | G29: 26 | H29: 18 | I29: 335 | J29: 735 | K29: 5 | L29: 105 | M29: 13 | N29: 500 | O29: 41 | P29: 105 | Q29: 82 | R29: 181 | S29: 164 | T29: 120 | U29: 3 | V29: 9 | W29: 4 | X29: 1814
A30: 昭.55(1980) | B30: 2345 | C30: 1751 | D30: 556 | E30: 10 | F30: … | G30: 14 | H30: 28 | I30: 315 | J30: 716 | K30: 4 | L30: 88 | M30: 19 | N30: 586 | O30: 52 | P30: 107 | Q30: 80 | R30: 186 | S30: 220 | T30: 174 | U30: 3 | V30: 21 | W30: 4 | X30: 1410
A31: 昭.56(1981) | B31: 2699 | C31: 2091 | D31: 749 | E31: 11 | F31: … | G31: 24 | H31: 31 | I31: 449 | J31: 715 | K31: 5 | L31: 86 | M31: 22 | N31: 601 | O31: 49 | P31: 106 | Q31: 80 | R31: 192 | S31: 233 | T31: 183 | U31: 2 | V31: 20 | W31: 5 | X31: 1461
A32: 昭.57(1982) | B32: 3277 | C32: 2669 | D32: 1195 | E32: 17 | F32: … | G32: 32 | H32: 29 | I32: 498 | J32: 766 | K32: 5 | L32: 105 | M32: 22 | N32: 599 | O32: 54 | P32: 108 | Q32: 82 | R32: 205 | S32: 209 | T32: 152 | U32: 3 | V32: 23 | W32: 7 | X32: 1540
A33: 昭.58(1983) | B33: 3073 | C33: 2430 | D33: 1169 | E33: 19 | F33: … | G33: 26 | H33: 25 | I33: 387 | J33: 682 | K33: 6 | L33: 92 | M33: 24 | N33: 636 | O33: 61 | P33: 110 | Q33: 85 | R33: 205 | S33: 242 | T33: 159 | U33: 2 | V33: 18 | W33: 6 | X33: 1383
A34: 昭.59(1984) | B34: 3462 | C34: 2850 | D34: 1409 | E34: 6 | F34: … | G34: 29 | H34: 22 | I34: 448 | J34: 806 | K34: 6 | L34: 101 | M34: 24 | N34: 606 | O34: 68 | P34: 108 | Q34: 85 | R34: 181 | S34: 228 | T34: 144 | U34: 2 | V34: 21 | W34: 4 | X34: 1687
... A50: 平.12(2000) | B50: 2648 | C50: 2017 | D50: 647 | E50: 6 | F50: … | G50: 22 | H50: 24 | I50: 607 | J50: 573 | K50: 28 | L50: 80 | M50: 30 | N50: 627 | O50: 75 | P50: 78 | Q50: 71 | R50: 185 | S50: 282 | T50: 137 | U50: 0 | V50: 8 | W50: 4 | X50: 1138
A51: 平.13(2001) | B51: 2575 | C51: 1948 | D51: 604 | E51: 6 | F51: 1 | G51: 22 | H51: 22 | I51: 576 | J51: 575 | K51: 33 | L51: 81 | M51: 29 | N51: 626 | O51: 67 | P51: 74 | Q51: 69 | R51: 195 | S51: 279 | T51: 133 | U51: 0 | V51: 10 | W51: 1 | X51: 1177
A52: 平.14(2002) | B52: 2570 | C52: 1903 | D52: 566 | E52: 8 | F52: 1 | G52: 18 | H52: 19 | I52: 606 | J52: 549 | K52: 35 | L52: 73 | M52: 27 | N52: 666 | O52: 79 | P52: 73 | Q52: 67 | R52: 203 | S52: 299 | T52: 143 | U52: … | V52: 12 | W52: 1 | X52: 1174
A53: 平.15(2003) | B53: 2402 | C53: 1777 | D53: 370 | E53: 8 | F53: 1 | G53: 18 | H53: 19 | I53: 607 | J53: 619 | K53: 33 | L53: 73 | M53: 28 | N53: 624 | O53: 65 | P53: 74 | Q53: 69 | R53: 185 | S53: 291 | T53: 130 | U53: … | V53: 10 | W53: 2 | X53: 1239
A54: 平.16(2004) | B54: 2953 | C54: 2264 | D54: 607 | E54: 6 | F54: 1 | G54: 15 | H54: 21 | I54: 695 | J54: 783 | K54: 30 | L54: 81 | M54: 24 | N54: 689 | O54: 78 | P54: 73 | Q54: 68 | R54: 220 | S54: 308 | T54: 138 | U54: … | V54: 10 | W54: 1 | X54: 1270
A55: 平.17(2005) | B55: 2797 | C55: 2086 | D55: 613 | E55: 4 | F55: 2 | G55: 15 | H55: 22 | I55: 589 | J55: 722 | K55: 30 | L55: 65 | M55: 24 | N55: 710 | O55: 81 | P55: 73 | Q55: 68 | R55: 223 | S55: 324 | T55: 147 | U55: … | V55: 10 | W55: 1 | X55: 1185
A56: 平.18(2006) | B56: 2885 | C56: 2180 | D56: 589 | E56: 4 | F56: 1 | G56: 16 | H56: 22 | I56: 653 | J56: 771 | K56: 30 | L56: 68 | M56: 25 | N56: 704 | O56: 81 | P56: 69 | Q56: 64 | R56: 214 | S56: 330 | T56: 148 | U56: … | V56: 10 | W56: 1 | X56: 1228
A57: 平.19(2007) | B57: 2858 | C57: 2143 | D57: 531 | E57: 3 | F57: 1 | G57: 10 | H57: 17 | I57: 680 | J57: 778 | K57: 32 | L57: 68 | M57: 25 | N57: 714 | O57: 84 | P57: 65 | Q57: 62 | R57: 218 | S57: 335 | T57: 140 | U57: … | V57: 11 | W57: 1 | X57: 1263
A58: 平.20(2008) | B58: 2828 | C58: 2014 | D58: 576 | E58: 3 | F58: 1 | G58: 11 | H58: 16 | I58: 623 | J58: 671 | K58: 28 | L58: 64 | M58: 21 | N58: 813 | O58: 93 | P58: 66 | Q58: 64 | R58: 254 | S58: 388 | T58: 158 | U58: … | V58: 11 | W58: 1 | X58: 915
A59: 平.21(2009) | B59: 2664 | C59: 1886 | D59: 523 | E59: 3 | F59: 1 | G59: 9 | H59: 22 | I59: 563 | J59: 652 | K59: 27 | L59: 64 | M59: 22 | N59: 778 | O59: 116 | P59: 72 | Q59: 69 | R59: 239 | S59: 340 | T59: 155 | U59: … | V59: 11 | W59: 1 | X59: 853
A60: 平.22(2010) | B60: 2751 | C60: 1932 | D60: 410 | E60: 1 | F60: 1 | G60: 9 | H60: 18 | I60: 643 | J60: 746 | K60: 26 | L60: 54 | M60: 24 | N60: 818 | O60: 120 | P60: 72 | Q60: 69 | R60: 258 | S60: 357 | T60: 169 | U60: … | V60: 12 | W60: 1 | X60: 989
A61: 平.23(2011) | B61: 2804 | C61: 2028 | D61: 535 | E61: 1 | F61: 1 | G61: 7 | H61: 15 | I61: 616 | J61: 751 | K61: 22 | L61: 58 | M61: 21 | N61: 776 | O61: 111 | P61: 69 | Q61: 64 | R61: 240 | S61: 342 | T61: 162 | U61: … | V61: 13 | W61: 1 | X61: 1032
A62: 平.24(2012) | B62: 2759 | C62: 1998 | D62: 617 | E62: 0 | F62: 0 | G62: 7 | H62: 12 | I62: 576 | J62: 692 | K62: 21 | L62: 52 | M62: 21 | N62: 760 | O62: 116 | P62: 75 | Q62: 69 | R62: 224 | S62: 335 | T62: 150 | U62: … | V62: 11 | W62: 1 | X62: 1103
A63: 平.25(2013) | B63: 2835 | C63: 2019 | D63: 508 | E63: 0 | F63: 0 | G63: 5 | H63: 16 | I63: 625 | J63: 772 | K63: 19 | L63: 52 | M63: 20 | N63: 815 | O63: 128 | P63: 74 | Q63: 68 | R63: 238 | S63: 362 | T63: 169 | U63: … | V63: 12 | W63: 1 | X63: 936
... A67: 平.29(2017) | B67: 3103 | C67: 2188 | D67: 513 | E67: 0 | F67: 1 | G67: 8 | H67: 14 | I67: 780 | J67: 790 | K67: 19 | L67: 45 | M67: 18 | N67: 915 | O67: 159 | P67: 78 | Q67: 66 | R67: 236 | S67: 429 | T67: 208 | U67: … | V67: 13 | W67: 0 | X67: 1521
A68: 平.30(2018) | B68: 3222 | C68: 2317 | D68: 553 | E68: x | F68: 1 | G68: 6 | H68: 15 | I68: 836 | J68: 828 | K68: 20 | L68: 40 | M68: x | N68: 905 | O68: 164 | P68: 86 | Q68: 72 | R68: 216 | S68: 424 | T68: 193 | U68: … | V68: 15 | W68: 0 | X68: 1307
A69: 令.元(2019) | B69: 3138 | C69: 2253 | D69: 596 | E69: 0 | F69: 2 | G69: 12 | H69: 15 | I69: 642 | J69: 914 | K69: 16 | L69: 38 | M69: 17 | N69: 885 | O69: 162 | P69: 91 | Q69: 78 | R69: 221 | S69: 399 | T69: 178 | U69: … | V69: 13 | W69: 0 | X69: 1162
A70: 令.２(2020) | B70: 3262 | C70: 2378 | D70: 548 | E70: 0 | F70: 1 | G70: 11 | H70: 27 | I70: 821 | J70: 906 | K70: 17 | L70: 32 | M70: 16 | N70: 883 | O70: 144 | P70: 93 | Q70: 83 | R70: 224 | S70: 411 | T70: 179 | U70: … | V70: 13 | W70: 0 | X70: 1211
A71: 令.３(2021) | B71: 3277 | C71: 2330 | D71: 389 | E71: x | F71: 2 | G71: 12 | H71: 17 | I71: 753 | J71: 1094 | K71: 17 | L71: 31 | M71: x | N71: 947 | O71: 161 | P71: 88 | Q71: 78 | R71: 221 | S71: 464 | T71: 223 | U71: … | V71: 13 | W71: 0 | X71: 1294
A72: 令.４(2022) | B72: 3168 | C72: 2190 | D72: 405 | E72: x | F72: 1 | G72: 8 | H72: 15 | I72: 657 | J72: 1051 | K72: 19 | L72: 17 | M72: x | N72: 979 | O72: 171 | P72: 89 | Q72: 83 | R72: 240 | S72: 466 | T72: 234 | U72: … | V72: 12 | W72: 0 | X72: 1148
A73: 令.５(2023) | B73: 3466 | C73: 2376 | D73: 511 | E73: x | F73: 1 | G73: 14 | H73: 12 | I73: 687 | J73: 1096 | K73: 19 | L73: 17 | M73: x | N73: 1090 | O73: 165 | P73: 91 | Q73: 87 | R73: 307 | S73: 515 | T73: 264 | U73: … | V73: 11 | W73: 0 | X73: 1226
B74: （注記）
B75: １．昭和35年の麦類は、雑穀、豆類、いも類を含む。
B76: ２．昭和36年の麦類は、雑穀を含む。また、豆類は、いも類を含む。
B77: ３．昭和37年から平成12年までの雑穀及び豆類は、雑穀・豆類として合算されていたため、その値を豆類に表示している。
B78: ４．平成12年までの養蚕は畜産計の外数としていたが、日本標準産業分類の改訂により養蚕が畜産に分類されたことに伴い、平成13年から畜産計に養蚕を含めた。
B79: また、平成14年からは養蚕を畜産計のうちその他畜産物に含めた。

Sheet ⑥熊本県
A1: 生産農業所得統計
A2: 都道府県別生産農業所得統計累年統計
A4: 熊本
A5: 年次 | B5: 農業産出額 | X5: 生産農業所得
B6: 計 | C6: 耕種 | N6: 畜産 | W6: 加工農産物
C7: 小計 | D7: 米 | E7: 麦類 | F7: 雑穀 | G7: 豆類 | H7: いも類 | I7: 野菜 | J7: 果実 | K7: 花き | L7: 工芸農作物 | M7: その他作物 | N7: 小計 | O7: 肉用牛 | P7: 乳用牛 | R7: 豚 | S7: 鶏 | U7: 養蚕 | V7: その他畜産物
Q8: 生乳 | T8: 鶏卵
B9: 億円 | C9: 億円 | D9: 億円 | E9: 億円 | F9: 億円 | G9: 億円 | H9: 億円 | I9: 億円 | J9: 億円 | K9: 億円 | L9: 億円 | M9: 億円 | N9: 億円 | O9: 億円 | P9: 億円 | Q9: 億円 | R9: 億円 | S9: 億円 | T9: 億円 | U9: 億円 | V9: 億円 | W9: 億円 | X9: 億円
A10: 昭.35(1960) | B10: 446 | C10: 371 | D10: 214 | E10: 83 | F10: … | G10: … | H10: … | I10: 20 | J10: 21 | K10: 1 | L10: 31 | M10: 2 | N10: 51 | O10: … | P10: … | Q10: … | R10: … | S10: … | T10: … | U10: 18 | V10: … | W10: 6 | X10: 298
A11: 昭.36(1961) | B11: 519 | C11: 419 | D11: 220 | E11: 49 | F11: … | G11: 38 | H11: … | I11: 37 | J11: 29 | K11: 1 | L11: 43 | M11: 2 | N11: 72 | O11: … | P11: … | Q11: … | R11: … | S11: … | T11: … | U11: 20 | V11: … | W11: 9 | X11: 354
A12: 昭.37(1962) | B12: 588 | C12: 475 | D12: 257 | E12: 44 | F12: … | G12: 16 | H12: 24 | I12: 34 | J12: 43 | K12: 2 | L12: 52 | M12: 2 | N12: 77 | O12: … | P12: … | Q12: … | R12: … | S12: … | T12: … | U12: 24 | V12: … | W12: 13 | X12: 392
A13: 昭.38(1963) | B13: 598 | C13: 472 | D13: 281 | E13: 2 | F13: … | G13: 13 | H13: 25 | I13: 39 | J13: 46 | K13: 2 | L13: 60 | M13: 3 | N13: 79 | O13: … | P13: … | Q13: … | R13: … | S13: … | T13: … | U13: 26 | V13: … | W13: 20 | X13: 381
A14: 昭.39(1964) | B14: 737 | C14: 598 | D14: 313 | E14: 27 | F14: … | G14: 18 | H14: 31 | I14: 56 | J14: 56 | K14: 3 | L14: 93 | M14: 3 | N14: 102 | O14: 18 | P14: 21 | Q14: … | R14: 22 | S14: 37 | T14: … | U14: 24 | V14: 2 | W14: 13 | X14: 460
A15: 昭.40(1965) | B15: 822 | C15: 662 | D15: 342 | E15: 50 | F15: … | G15: 19 | H15: 26 | I15: 69 | J15: 63 | K15: 3 | L15: 86 | M15: 3 | N15: 122 | O15: 25 | P15: 25 | Q15: … | R15: 29 | S15: 42 | T15: … | U15: 26 | V15: 2 | W15: 12 | X15: 526
A16: 昭.41(1966) | B16: 974 | C16: 781 | D16: 429 | E16: 29 | F16: … | G16: 23 | H16: 23 | I16: 87 | J16: 70 | K16: 3 | L16: 111 | M16: 4 | N16: 142 | O16: 33 | P16: 30 | Q16: … | R16: 32 | S16: 45 | T16: … | U16: 33 | V16: 3 | W16: 18 | X16: 630
A17: 昭.42(1967) | B17: 1125 | C17: 906 | D17: 517 | E17: 34 | F17: … | G17: 17 | H17: 20 | I17: 86 | J17: 64 | K17: 3 | L17: 160 | M17: 6 | N17: 169 | O17: 41 | P17: 33 | Q17: 27 | R17: 49 | S17: 44 | T17: 33 | U17: 40 | V17: 3 | W17: 10 | X17: 694
A18: 昭.43(1968) | B18: 1214 | C18: 936 | D18: 496 | E18: 51 | F18: … | G18: 21 | H18: 20 | I18: 98 | J18: 80 | K18: 5 | L18: 161 | M18: 5 | N18: 217 | O18: 49 | P18: 42 | Q18: 35 | R18: 70 | S18: 55 | T18: 42 | U18: 40 | V18: 2 | W18: 21 | X18: 714
A19: 昭.44(1969) | B19: 1299 | C19: 997 | D19: 511 | E19: 29 | F19: … | G19: 18 | H19: 17 | I19: 102 | J19: 119 | K19: 5 | L19: 151 | M19: 45 | N19: 241 | O19: 44 | P19: 50 | Q19: 43 | R19: 80 | S19: 66 | T19: 49 | U19: 37 | V19: 1 | W19: 24 | X19: 749
A20: 昭.45(1970) | B20: 1336 | C20: 993 | D20: 414 | E20: 21 | F20: … | G20: 18 | H20: 20 | I20: 144 | J20: 156 | K20: 6 | L20: 169 | M20: 45 | N20: 267 | O20: 47 | P20: 60 | Q20: 48 | R20: 95 | S20: 65 | T20: 46 | U20: 42 | V20: 1 | W20: 34 | X20: 700
A21: 昭.46(1971) | B21: 1394 | C21: 990 | D21: 396 | E21: 23 | F21: … | G21: 11 | H21: 16 | I21: 177 | J21: 147 | K21: 8 | L21: 168 | M21: 43 | N21: 310 | O21: 52 | P21: 65 | Q21: 51 | R21: 126 | S21: 66 | T21: 48 | U21: 38 | V21: 1 | W21: 56 | X21: 680
A22: 昭.47(1972) | B22: 1638 | C22: 1170 | D22: 485 | E22: 11 | F22: … | G22: 15 | H22: 18 | I22: 221 | J22: 167 | K22: 10 | L22: 205 | M22: 39 | N22: 365 | O22: 69 | P22: 77 | Q22: 60 | R22: 150 | S22: 69 | T22: 51 | U22: 40 | V22: 1 | W22: 62 | X22: 929
A23: 昭.48(1973) | B23: 1939 | C23: 1352 | D23: 543 | E23: 7 | F23: … | G23: 12 | H23: 20 | I23: 281 | J23: 178 | K23: 13 | L23: 255 | M23: 42 | N23: 453 | O23: 104 | P23: 84 | Q23: 66 | R23: 177 | S23: 85 | T23: 60 | U23: 60 | V23: 3 | W23: 74 | X23: 1125
A24: 昭.49(1974) | B24: 2498 | C24: 1819 | D24: 800 | E24: 23 | F24: … | G24: 13 | H24: 25 | I24: 336 | J24: 237 | K24: 15 | L24: 322 | M24: 48 | N24: 547 | O24: 99 | P24: 109 | Q24: 99 | R24: 228 | S24: 108 | T24: 72 | U24: 44 | V24: 3 | W24: 88 | X24: 1432
A25: 昭.50(1975) | B25: 2961 | C25: 2130 | D25: 973 | E25: 21 | F25: … | G25: 14 | H25: 31 | I25: 373 | J25: 275 | K25: 23 | L25: 366 | M25: 56 | N25: 708 | O25: 161 | P25: 123 | Q25: 110 | R25: 304 | S25: 116 | T25: 79 | U25: 44 | V25: 5 | W25: 79 | X25: 1735
A26: 昭.51(1976) | B26: 3153 | C26: 2257 | D26: 904 | E26: 18 | F26: … | G26: 15 | H26: 36 | I26: 430 | J26: 293 | K26: 27 | L26: 488 | M26: 46 | N26: 790 | O26: 200 | P26: 149 | Q26: 133 | R26: 315 | S26: 120 | T26: 75 | U26: 39 | V26: 6 | W26: 68 | X26: 1689
A27: 昭.52(1977) | B27: 3451 | C27: 2426 | D27: 1037 | E27: 21 | F27: … | G27: 15 | H27: 40 | I27: 441 | J27: 325 | K27: 37 | L27: 454 | M27: 57 | N27: 885 | O27: 217 | P27: 164 | Q27: 147 | R27: 362 | S27: 135 | T27: 83 | U27: 36 | V27: 6 | W27: 104 | X27: 1739
A28: 昭.53(1978) | B28: 3540 | C28: 2470 | D28: 974 | E28: 46 | F28: … | G28: 18 | H28: 38 | I28: 484 | J28: 349 | K28: 39 | L28: 475 | M28: 47 | N28: 932 | O28: 231 | P28: 187 | Q28: 164 | R28: 379 | S28: 128 | T28: 75 | U28: 40 | V28: 7 | W28: 98 | X28: 1919
... A50: 平.12(2000) | B50: 3358 | C50: 2459 | D50: 561 | E50: 29 | F50: … | G50: 17 | H50: 63 | I50: 1039 | J50: 368 | K50: 121 | L50: 212 | M50: 50 | N50: 842 | O50: 257 | P50: 258 | Q50: 237 | R50: 169 | S50: 142 | T50: 91 | U50: 0 | V50: 16 | W50: 56 | X50: 1424
A51: 平.13(2001) | B51: 3294 | C51: 2426 | D51: 559 | E51: 25 | F51: 1 | G51: 18 | H51: 56 | I51: 1063 | J51: 336 | K51: 122 | L51: 199 | M51: 47 | N51: 812 | O51: 228 | P51: 258 | Q51: 237 | R51: 179 | S51: 131 | T51: 83 | U51: 0 | V51: 16 | W51: 56 | X51: 1389
A52: 平.14(2002) | B52: 3255 | C52: 2369 | D52: 538 | E52: 27 | F52: 1 | G52: 19 | H52: 57 | I52: 1039 | J52: 330 | K52: 120 | L52: 191 | M52: 47 | N52: 828 | O52: 226 | P52: 266 | Q52: 245 | R52: 190 | S52: 131 | T52: 80 | U52: … | V52: 16 | W52: 58 | X52: 1367
A53: 平.15(2003) | B53: 3242 | C53: 2378 | D53: 587 | E53: 27 | F53: 1 | G53: 15 | H53: 55 | I53: 1039 | J53: 329 | K53: 116 | L53: 168 | M53: 41 | N53: 801 | O53: 223 | P53: 275 | Q53: 250 | R53: 164 | S53: 121 | T53: 72 | U53: … | V53: 19 | W53: 63 | X53: 1349
A54: 平.16(2004) | B54: 3084 | C54: 2148 | D54: 387 | E54: 31 | F54: 0 | G54: 8 | H54: 56 | I54: 992 | J54: 338 | K54: 107 | L54: 187 | M54: 42 | N54: 879 | O54: 278 | P54: 277 | Q54: 250 | R54: 175 | S54: 127 | T54: 73 | U54: … | V54: 22 | W54: 57 | X54: 1165
A55: 平.17(2005) | B55: 3102 | C55: 2131 | D55: 448 | E55: 30 | F55: 1 | G55: 10 | H55: 50 | I55: 961 | J55: 318 | K55: 103 | L55: 171 | M55: 40 | N55: 921 | O55: 300 | P55: 278 | Q55: 250 | R55: 178 | S55: 142 | T55: 78 | U55: … | V55: 23 | W55: 49 | X55: 1136
A56: 平.18(2006) | B56: 2984 | C56: 2065 | D56: 386 | E56: 29 | F56: 1 | G56: 10 | H56: 51 | I56: 975 | J56: 343 | K56: 102 | L56: 129 | M56: 41 | N56: 873 | O56: 295 | P56: 256 | Q56: 229 | R56: 164 | S56: 129 | T56: 64 | U56: … | V56: 29 | W56: 46 | X56: 1043
A57: 平.19(2007) | B57: 3046 | C57: 2107 | D57: 430 | E57: 15 | F57: 1 | G57: 8 | H57: 51 | I57: 1017 | J57: 302 | K57: 104 | L57: 139 | M57: 41 | N57: 907 | O57: 294 | P57: 252 | Q57: 230 | R57: 180 | S57: 156 | T57: 68 | U57: … | V57: 25 | W57: 32 | X57: 1075
A58: 平.20(2008) | B58: 3053 | C58: 2098 | D58: 443 | E58: 17 | F58: 1 | G58: 8 | H58: 53 | I58: 1001 | J58: 303 | K58: 90 | L58: 145 | M58: 38 | N58: 920 | O58: 283 | P58: 243 | Q58: 224 | R58: 195 | S58: 168 | T58: 72 | U58: … | V58: 31 | W58: 35 | X58: 912
A59: 平.21(2009) | B59: 3004 | C59: 2066 | D59: 434 | E59: 12 | F59: 1 | G59: 8 | H59: 48 | I59: 1003 | J59: 294 | K59: 91 | L59: 139 | M59: 37 | N59: 907 | O59: 294 | P59: 263 | Q59: 240 | R59: 161 | S59: 156 | T59: 68 | U59: … | V59: 33 | W59: 31 | X59: 879
A60: 平.22(2010) | B60: 3071 | C60: 2105 | D60: 351 | E60: 6 | F60: 1 | G60: 7 | H60: 54 | I60: 1113 | J60: 323 | K60: 98 | L60: 115 | M60: 38 | N60: 935 | O60: 307 | P60: 261 | Q60: 235 | R60: 166 | S60: 167 | T60: 69 | U60: … | V60: 35 | W60: 31 | X60: 1080
A61: 平.23(2011) | B61: 3113 | C61: 2122 | D61: 409 | E61: 5 | F61: 1 | G61: 6 | H61: 59 | I61: 1065 | J61: 321 | K61: 97 | L61: 123 | M61: 36 | N61: 956 | O61: 304 | P61: 263 | Q61: 237 | R61: 173 | S61: 188 | T61: 77 | U61: … | V61: 27 | W61: 35 | X61: 1064
A62: 平.24(2012) | B62: 3245 | C62: 2268 | D62: 450 | E62: 6 | F62: 1 | G62: 6 | H62: 43 | I62: 1176 | J62: 333 | K62: 103 | L62: 114 | M62: 36 | N62: 949 | O62: 309 | P62: 269 | Q62: 246 | R62: 166 | S62: 182 | T62: 75 | U62: … | V62: 23 | W62: 27 | X62: 1134
A63: 平.25(2013) | B63: 3250 | C63: 2218 | D63: 403 | E63: 7 | F63: 1 | G63: 7 | H63: 39 | I63: 1172 | J63: 334 | K63: 102 | L63: 115 | M63: 38 | N63: 996 | O63: 326 | P63: 269 | Q63: 243 | R63: 191 | S63: 182 | T63: 86 | U63: … | V63: 27 | W63: 36 | X63: 1167
... A73: 令.５(2023) | B73: 3757 | C73: 2368 | D73: 328 | E73: 8 | F73: 1 | G73: 6 | H73: 61 | I73: 1365 | J73: 391 | K73: 117 | L73: 76 | M73: 17 | N73: 1371 | O73: 435 | P73: 352 | Q73: 317 | R73: 265 | S73: 285 | T73: 146 | U73: … | V73: 34 | W73: 18 | X73: 1554
B74: （注記）
B75: １．昭和35年の麦類は、雑穀、豆類、いも類を含む。
B76: ２．昭和36年の麦類は、雑穀を含む。また、豆類は、いも類を含む。
B77: ３．昭和37年から平成12年までの雑穀及び豆類は、雑穀・豆類として合算されていたため、その値を豆類に表示している。
B78: ４．平成12年までの養蚕は畜産計の外数としていたが、日本標準産業分類の改訂により養蚕が畜産に分類されたことに伴い、平成13年から畜産計に養蚕を含めた。
B79: また、平成14年からは養蚕を畜産計のうちその他畜産物に含めた。

Sheet ⑦宮崎県
A1: 生産農業所得統計
A2: 都道府県別生産農業所得統計累年統計
A4: 宮崎
A5: 年次 | B5: 農業産出額 | X5: 生産農業所得
B6: 計 | C6: 耕種 | N6: 畜産 | W6: 加工農産物
C7: 小計 | D7: 米 | E7: 麦類 | F7: 雑穀 | G7: 豆類 | H7: いも類 | I7: 野菜 | J7: 果実 | K7: 花き | L7: 工芸農作物 | M7: その他作物 | N7: 小計 | O7: 肉用牛 | P7: 乳用牛 | R7: 豚 | S7: 鶏 | U7: 養蚕 | V7: その他畜産物
Q8: 生乳 | T8: 鶏卵
B9: 億円 | C9: 億円 | D9: 億円 | E9: 億円 | F9: 億円 | G9: 億円 | H9: 億円 | I9: 億円 | J9: 億円 | K9: 億円 | L9: 億円 | M9: 億円 | N9: 億円 | O9: 億円 | P9: 億円 | Q9: 億円 | R9: 億円 | S9: 億円 | T9: 億円 | U9: 億円 | V9: 億円 | W9: 億円 | X9: 億円
A10: 昭.35(1960) | B10: 271 | C10: 222 | D10: 120 | E10: 52 | F10: … | G10: … | H10: … | I10: 20 | J10: 6 | K10: 0 | L10: 23 | M10: 2 | N10: 43 | O10: … | P10: … | Q10: … | R10: … | S10: … | T10: … | U10: 2 | V10: … | W10: 4 | X10: 177
A11: 昭.36(1961) | B11: 305 | C11: 237 | D11: 109 | E11: 15 | F11: … | G11: 47 | H11: … | I11: 29 | J11: 7 | K11: 0 | L11: 28 | M11: 2 | N11: 61 | O11: … | P11: … | Q11: … | R11: … | S11: … | T11: … | U11: 2 | V11: … | W11: 5 | X11: 179
A12: 昭.37(1962) | B12: 342 | C12: 282 | D12: 129 | E12: 9 | F12: … | G12: 6 | H12: 55 | I12: 41 | J12: 14 | K12: 0 | L12: 26 | M12: 2 | N12: 52 | O12: … | P12: … | Q12: … | R12: … | S12: … | T12: … | U12: 2 | V12: … | W12: 5 | X12: 205
A13: 昭.38(1963) | B13: 347 | C13: 285 | D13: 130 | E13: 3 | F13: … | G13: 5 | H13: 66 | I13: 43 | J13: 12 | K13: 1 | L13: 25 | M13: 1 | N13: 55 | O13: … | P13: … | Q13: … | R13: … | S13: … | T13: … | U13: 2 | V13: … | W13: 4 | X13: 205
A14: 昭.39(1964) | B14: 350 | C14: 278 | D14: 140 | E14: 3 | F14: … | G14: 4 | H14: 37 | I14: 45 | J14: 14 | K14: 1 | L14: 33 | M14: 1 | N14: 66 | O14: 18 | P14: 12 | Q14: … | R14: 16 | S14: 18 | T14: … | U14: 2 | V14: 2 | W14: 3 | X14: 189
A15: 昭.40(1965) | B15: 477 | C15: 381 | D15: 192 | E15: 17 | F15: … | G15: 5 | H15: 52 | I15: 59 | J15: 16 | K15: 1 | L15: 37 | M15: 2 | N15: 88 | O15: 24 | P15: 15 | Q15: … | R15: 26 | S15: 22 | T15: … | U15: 3 | V15: 2 | W15: 4 | X15: 283
A16: 昭.41(1966) | B16: 543 | C16: 405 | D16: 201 | E16: 8 | F16: … | G16: 6 | H16: 55 | I16: 69 | J16: 22 | K16: 2 | L16: 39 | M16: 3 | N16: 128 | O16: 49 | P16: 21 | Q16: … | R16: 26 | S16: 30 | T16: … | U16: 5 | V16: 3 | W16: 5 | X16: 305
A17: 昭.42(1967) | B17: 637 | C17: 466 | D17: 238 | E17: 8 | F17: … | G17: 5 | H17: 57 | I17: 75 | J17: 26 | K17: 3 | L17: 49 | M17: 5 | N17: 157 | O17: 64 | P17: 26 | Q17: 19 | R17: 27 | S17: 38 | T17: 29 | U17: 9 | V17: 2 | W17: 5 | X17: 351
A18: 昭.43(1968) | B18: 694 | C18: 483 | D18: 255 | E18: 8 | F18: … | G18: 6 | H18: 44 | I18: 84 | J18: 30 | K18: 3 | L18: 47 | M18: 5 | N18: 195 | O18: 66 | P18: 27 | Q18: 20 | R18: 48 | S18: 52 | T18: 39 | U18: 11 | V18: 1 | W18: 5 | X18: 356
A19: 昭.44(1969) | B19: 808 | C19: 562 | D19: 261 | E19: 6 | F19: … | G19: 7 | H19: 32 | I19: 103 | J19: 47 | K19: 3 | L19: 47 | M19: 56 | N19: 227 | O19: 61 | P19: 35 | Q19: 26 | R19: 65 | S19: 65 | T19: 39 | U19: 13 | V19: 2 | W19: 6 | X19: 391
A20: 昭.45(1970) | B20: 809 | C20: 520 | D20: 220 | E20: 5 | F20: … | G20: 8 | H20: 33 | I20: 119 | J20: 53 | K20: 4 | L20: 37 | M20: 42 | N20: 264 | O20: 77 | P20: 36 | Q20: 27 | R20: 66 | S20: 84 | T20: 46 | U20: 16 | V20: 1 | W20: 8 | X20: 376
A21: 昭.46(1971) | B21: 865 | C21: 521 | D21: 186 | E21: 6 | F21: … | G21: 10 | H21: 24 | I21: 136 | J21: 54 | K21: 4 | L21: 52 | M21: 48 | N21: 318 | O21: 84 | P21: 42 | Q21: 29 | R21: 92 | S21: 99 | T21: 46 | U21: 15 | V21: 1 | W21: 11 | X21: 391
A22: 昭.47(1972) | B22: 991 | C22: 562 | D22: 214 | E22: 2 | F22: … | G22: 11 | H22: 26 | I22: 165 | J22: 39 | K22: 4 | L22: 52 | M22: 49 | N22: 402 | O22: 100 | P22: 47 | Q22: 32 | R22: 131 | S22: 123 | T22: 49 | U22: 17 | V22: 1 | W22: 10 | X22: 508
A23: 昭.48(1973) | B23: 1242 | C23: 619 | D23: 251 | E23: 2 | F23: … | G23: 12 | H23: 21 | I23: 179 | J23: 46 | K23: 6 | L23: 74 | M23: 28 | N23: 576 | O23: 197 | P23: 62 | Q23: 42 | R23: 138 | S23: 177 | T23: 60 | U23: 30 | V23: 1 | W23: 17 | X23: 606
A24: 昭.49(1974) | B24: 1597 | C24: 862 | D24: 362 | E24: 3 | F24: … | G24: 11 | H24: 38 | I24: 250 | J24: 61 | K24: 6 | L24: 104 | M24: 27 | N24: 695 | O24: 188 | P24: 64 | Q24: 54 | R24: 189 | S24: 251 | T24: 82 | U24: 23 | V24: 2 | W24: 16 | X24: 758
A25: 昭.50(1975) | B25: 1918 | C25: 976 | D25: 425 | E25: 5 | F25: … | G25: 15 | H25: 36 | I25: 265 | J25: 59 | K25: 14 | L25: 126 | M25: 33 | N25: 904 | O25: 226 | P25: 75 | Q25: 65 | R25: 279 | S25: 323 | T25: 96 | U25: 22 | V25: 2 | W25: 14 | X25: 887
A26: 昭.51(1976) | B26: 2173 | C26: 1084 | D26: 405 | E26: 3 | F26: … | G26: 13 | H26: 48 | I26: 352 | J26: 67 | K26: 15 | L26: 149 | M26: 32 | N26: 1052 | O26: 246 | P26: 90 | Q26: 77 | R26: 325 | S26: 387 | T26: 91 | U26: 21 | V26: 4 | W26: 16 | X26: 979
A27: 昭.52(1977) | B27: 2412 | C27: 1164 | D27: 474 | E27: 6 | F27: … | G27: 18 | H27: 81 | I27: 314 | J27: 71 | K27: 11 | L27: 166 | M27: 23 | N27: 1214 | O27: 286 | P27: 100 | Q27: 86 | R27: 392 | S27: 429 | T27: 119 | U27: 21 | V27: 6 | W27: 12 | X27: 975
A28: 昭.53(1978) | B28: 2561 | C28: 1183 | D28: 450 | E28: 8 | F28: … | G28: 16 | H28: 61 | I28: 375 | J28: 77 | K28: 13 | L28: 165 | M28: 20 | N28: 1342 | O28: 289 | P28: 114 | Q28: 98 | R28: 450 | S28: 485 | T28: 121 | U28: 23 | V28: 4 | W28: 14 | X28: 1149
... A50: 平.12(2000) | B50: 3128 | C50: 1450 | D50: 286 | E50: 0 | F50: … | G50: 4 | H50: 77 | I50: 623 | J50: 130 | K50: 126 | L50: 176 | M50: 27 | N50: 1642 | O50: 485 | P50: 121 | Q50: 109 | R50: 436 | S50: 594 | T50: 91 | U50: 0 | V50: 6 | W50: 36 | X50: 927
A51: 平.13(2001) | B51: 3088 | C51: 1396 | D51: 273 | E51: 0 | F51: 1 | G51: 4 | H51: 74 | I51: 597 | J51: 122 | K51: 126 | L51: 171 | M51: 28 | N51: 1661 | O51: 477 | P51: 117 | Q51: 103 | R51: 483 | S51: 580 | T51: 82 | U51: 0 | V51: 5 | W51: 31 | X51: 892
A52: 平.14(2002) | B52: 3129 | C52: 1403 | D52: 257 | E52: 0 | F52: 1 | G52: 3 | H52: 71 | I52: 651 | J52: 108 | K52: 125 | L52: 159 | M52: 27 | N52: 1699 | O52: 497 | P52: 112 | Q52: 100 | R52: 486 | S52: 602 | T52: 82 | U52: … | V52: 3 | W52: 27 | X52: 929
A53: 平.15(2003) | B53: 3108 | C53: 1407 | D53: 258 | E53: 0 | F53: 1 | G53: 3 | H53: 79 | I53: 687 | J53: 116 | K53: 115 | L53: 121 | M53: 26 | N53: 1672 | O53: 502 | P53: 111 | Q53: 98 | R53: 456 | S53: 599 | T53: 75 | U53: … | V53: 3 | W53: 29 | X53: 921
A54: 平.16(2004) | B54: 3153 | C54: 1348 | D54: 244 | E54: 0 | F54: 1 | G54: 1 | H54: 71 | I54: 638 | J54: 111 | K54: 111 | L54: 144 | M54: 28 | N54: 1760 | O54: 542 | P54: 110 | Q54: 97 | R54: 510 | S54: 596 | T54: 72 | U54: … | V54: 3 | W54: 44 | X54: 930
A55: 平.17(2005) | B55: 3206 | C55: 1346 | D55: 247 | E55: 0 | F55: 1 | G55: 1 | H55: 78 | I55: 626 | J55: 116 | K55: 108 | L55: 139 | M55: 29 | N55: 1823 | O55: 574 | P55: 109 | Q55: 96 | R55: 522 | S55: 615 | T55: 82 | U55: … | V55: 3 | W55: 37 | X55: 953
A56: 平.18(2006) | B56: 3211 | C56: 1335 | D56: 234 | E56: 0 | F56: 1 | G56: 2 | H56: 77 | I56: 669 | J56: 118 | K56: 108 | L56: 97 | M56: 27 | N56: 1843 | O56: 613 | P56: 106 | Q56: 90 | R56: 505 | S56: 617 | T56: 75 | U56: … | V56: 2 | W56: 33 | X56: 962
A57: 平.19(2007) | B57: 3078 | C57: 1295 | D57: 180 | E57: 0 | F57: 1 | G57: 2 | H57: 76 | I57: 668 | J57: 141 | K57: 104 | L57: 97 | M57: 26 | N57: 1757 | O57: 621 | P57: 101 | Q57: 88 | R57: 477 | S57: 555 | T57: 69 | U57: … | V57: 2 | W57: 26 | X57: 952
A58: 平.20(2008) | B58: 3246 | C58: 1336 | D58: 236 | E58: 0 | F58: 1 | G58: 1 | H58: 86 | I58: 660 | J58: 131 | K58: 101 | L58: 96 | M58: 25 | N58: 1869 | O58: 589 | P58: 98 | Q58: 88 | R58: 543 | S58: 637 | T58: 78 | U58: … | V58: 2 | W58: 41 | X58: 979
A59: 平.21(2009) | B59: 3073 | C59: 1309 | D59: 227 | E59: 0 | F59: 1 | G59: 1 | H59: 67 | I59: 666 | J59: 131 | K59: 99 | L59: 92 | M59: 24 | N59: 1726 | O59: 512 | P59: 102 | Q59: 94 | R59: 470 | S59: 637 | T59: 80 | U59: … | V59: 4 | W59: 39 | X59: 942
A60: 平.22(2010) | B60: 2960 | C60: 1329 | D60: 188 | E60: 0 | F60: 2 | G60: 1 | H60: 80 | I60: 723 | J60: 147 | K60: 85 | L60: 79 | M60: 24 | N60: 1595 | O60: 453 | P60: 87 | Q60: 78 | R60: 392 | S60: 660 | T60: 92 | U60: … | V60: 3 | W60: 36 | X60: 833
A61: 平.23(2011) | B61: 2874 | C61: 1306 | D61: 224 | E61: 0 | F61: 0 | G61: 0 | H61: 76 | I61: 688 | J61: 152 | K61: 77 | L61: 67 | M61: 22 | N61: 1539 | O61: 448 | P61: 89 | Q61: 81 | R61: 370 | S61: 629 | T61: 86 | U61: … | V61: 3 | W61: 29 | X61: 741
A62: 平.24(2012) | B62: 3036 | C62: 1341 | D62: 235 | E62: 0 | F62: 1 | G62: 1 | H62: 76 | I62: 737 | J62: 147 | K62: 68 | L62: 56 | M62: 21 | N62: 1662 | O62: 480 | P62: 94 | Q62: 85 | R62: 411 | S62: 676 | T62: 90 | U62: … | V62: 2 | W62: 33 | X62: 782
A63: 平.25(2013) | B63: 3213 | C63: 1333 | D63: 204 | E63: 0 | F63: 1 | G63: 1 | H63: 84 | I63: 751 | J63: 145 | K63: 74 | L63: 52 | M63: 21 | N63: 1850 | O63: 527 | P63: 96 | Q63: 85 | R63: 468 | S63: 757 | T63: 99 | U63: … | V63: 2 | W63: 30 | X63: 776
... A69: 令.元(2019) | B69: 3396 | C69: 1157 | D69: 172 | E69: 0 | F69: 0 | G69: 1 | H69: 71 | I69: 661 | J69: 123 | K69: 67 | L69: 44 | M69: 16 | N69: 2209 | O69: 780 | P69: 96 | Q69: 79 | R69: 521 | S69: 810 | T69: 89 | U69: … | V69: 3 | W69: 30 | X69: 1142
A70: 令.２(2020) | B70: 3348 | C70: 1170 | D70: 173 | E70: x | F70: 0 | G70: 1 | H70: 70 | I70: 681 | J70: 129 | K70: 60 | L70: 41 | M70: x | N70: 2157 | O70: 708 | P70: 95 | Q70: 80 | R70: 521 | S70: 830 | T70: 97 | U70: … | V70: 3 | W70: 21 | X70: 1112
A71: 令.３(2021) | B71: 3478 | C71: 1139 | D71: 159 | E71: x | F71: 0 | G71: 1 | H71: 60 | I71: 661 | J71: 130 | K71: 69 | L71: 43 | M71: x | N71: 2308 | O71: 815 | P71: 98 | Q71: 84 | R71: 518 | S71: 875 | T71: 106 | U71: … | V71: 3 | W71: 32 | X71: 1317
A72: 令.４(2022) | B72: 3505 | C72: 1119 | D72: 142 | E72: x | F72: 0 | G72: 0 | H72: 73 | I72: 633 | J72: 145 | K72: 77 | L72: 32 | M72: x | N72: 2349 | O72: 826 | P72: 95 | Q72: 82 | R72: 520 | S72: 905 | T72: 113 | U72: … | V72: 3 | W72: 37 | X72: 1194
A73: 令.５(2023) | B73: 3720 | C73: 1197 | D73: 146 | E73: x | F73: 0 | G73: 0 | H73: 68 | I73: 700 | J73: 148 | K73: 87 | L73: 32 | M73: x | N73: 2483 | O73: 765 | P73: 94 | Q73: 86 | R73: 600 | S73: 1023 | T73: 166 | U73: … | V73: 1 | W73: 39 | X73: 1219
B74: （注記）
B75: １．昭和35年の麦類は、雑穀、豆類、いも類を含む。
B76: ２．昭和36年の麦類は、雑穀を含む。また、豆類は、いも類を含む。
B77: ３．昭和37年から平成12年までの雑穀及び豆類は、雑穀・豆類として合算されていたため、その値を豆類に表示している。
B78: ４．平成12年までの養蚕は畜産計の外数としていたが、日本標準産業分類の改訂により養蚕が畜産に分類されたことに伴い、平成13年から畜産計に養蚕を含めた。
B79: また、平成14年からは養蚕を畜産計のうちその他畜産物に含めた。

Sheet ⑧愛知県
A1: 生産農業所得統計
A2: 都道府県別生産農業所得統計累年統計
A4: 愛知
A5: 年次 | B5: 農業産出額 | X5: 生産農業所得
B6: 計 | C6: 耕種 | N6: 畜産 | W6: 加工農産物
C7: 小計 | D7: 米 | E7: 麦類 | F7: 雑穀 | G7: 豆類 | H7: いも類 | I7: 野菜 | J7: 果実 | K7: 花き | L7: 工芸農作物 | M7: その他作物 | N7: 小計 | O7: 肉用牛 | P7: 乳用牛 | R7: 豚 | S7: 鶏 | U7: 養蚕 | V7: その他畜産物
Q8: 生乳 | T8: 鶏卵
B9: 億円 | C9: 億円 | D9: 億円 | E9: 億円 | F9: 億円 | G9: 億円 | H9: 億円 | I9: 億円 | J9: 億円 | K9: 億円 | L9: 億円 | M9: 億円 | N9: 億円 | O9: 億円 | P9: 億円 | Q9: 億円 | R9: 億円 | S9: 億円 | T9: 億円 | U9: 億円 | V9: 億円 | W9: 億円 | X9: 億円
A10: 昭.35(1960) | B10: 591 | C10: 437 | D10: 218 | E10: 71 | F10: … | G10: … | H10: … | I10: 98 | J10: 20 | K10: 9 | L10: 14 | M10: 8 | N10: 138 | O10: … | P10: … | Q10: … | R10: … | S10: … | T10: … | U10: 13 | V10: … | W10: 4 | X10: 346
A11: 昭.36(1961) | B11: 612 | C11: 411 | D11: 169 | E11: 43 | F11: … | G11: 33 | H11: … | I11: 108 | J11: 24 | K11: 12 | L11: 11 | M11: 11 | N11: 187 | O11: … | P11: … | Q11: … | R11: … | S11: … | T11: … | U11: 11 | V11: … | W11: 3 | X11: 338
A12: 昭.37(1962) | B12: 692 | C12: 482 | D12: 227 | E12: 31 | F12: … | G12: 13 | H12: 28 | I12: 128 | J12: 27 | K12: 10 | L12: 7 | M12: 10 | N12: 196 | O12: … | P12: … | Q12: … | R12: … | S12: … | T12: … | U12: 11 | V12: … | W12: 3 | X12: 372
A13: 昭.38(1963) | B13: 765 | C13: 515 | D13: 267 | E13: 3 | F13: … | G13: 9 | H13: 29 | I13: 138 | J13: 31 | K13: 14 | L13: 9 | M13: 16 | N13: 234 | O13: … | P13: … | Q13: … | R13: … | S13: … | T13: … | U13: 13 | V13: … | W13: 3 | X13: 402
A14: 昭.39(1964) | B14: 846 | C14: 599 | D14: 293 | E14: 28 | F14: … | G14: 9 | H14: 24 | I14: 171 | J14: 37 | K14: 16 | L14: 13 | M14: 8 | N14: 235 | O14: 9 | P14: 33 | Q14: … | R14: 74 | S14: 116 | T14: … | U14: 10 | V14: 3 | W14: 3 | X14: 440
A15: 昭.40(1965) | B15: 886 | C15: 612 | D15: 283 | E15: 22 | F15: … | G15: 5 | H15: 28 | I15: 192 | J15: 37 | K15: 21 | L15: 14 | M15: 10 | N15: 263 | O15: 9 | P15: 39 | Q15: … | R15: 86 | S15: 125 | T15: … | U15: 10 | V15: 4 | W15: 2 | X15: 434
A16: 昭.41(1966) | B16: 1061 | C16: 714 | D16: 332 | E16: 18 | F16: … | G16: 6 | H16: 32 | I16: 229 | J16: 43 | K16: 28 | L16: 15 | M16: 11 | N16: 332 | O16: 12 | P16: 50 | Q16: … | R16: 95 | S16: 171 | T16: … | U16: 12 | V16: 5 | W16: 3 | X16: 543
A17: 昭.42(1967) | B17: 1218 | C17: 835 | D17: 401 | E17: 20 | F17: … | G17: 5 | H17: 31 | I17: 273 | J17: 47 | K17: 31 | L17: 18 | M17: 10 | N17: 365 | O17: 10 | P17: 62 | Q17: 47 | R17: 104 | S17: 183 | T17: 150 | U17: 15 | V17: 6 | W17: 3 | X17: 605
A18: 昭.43(1968) | B18: 1296 | C18: 828 | D18: 415 | E18: 16 | F18: … | G18: 5 | H18: 24 | I18: 261 | J18: 50 | K18: 30 | L18: 17 | M18: 10 | N18: 452 | O18: 11 | P18: 73 | Q18: 56 | R18: 123 | S18: 238 | T18: 208 | U18: 12 | V18: 7 | W18: 3 | X18: 645
A19: 昭.44(1969) | B19: 1450 | C19: 885 | D19: 404 | E19: 13 | F19: … | G19: 4 | H19: 22 | I19: 303 | J19: 59 | K19: 38 | L19: 16 | M19: 24 | N19: 552 | O19: 13 | P19: 84 | Q19: 66 | R19: 149 | S19: 295 | T19: 263 | U19: 10 | V19: 12 | W19: 3 | X19: 718
A20: 昭.45(1970) | B20: 1567 | C20: 981 | D20: 345 | E20: 5 | F20: … | G20: 4 | H20: 25 | I20: 428 | J20: 67 | K20: 52 | L20: 16 | M20: 40 | N20: 573 | O20: 22 | P20: 83 | Q20: 70 | R20: 150 | S20: 305 | T20: 271 | U20: 10 | V20: 13 | W20: 5 | X20: 803
A21: 昭.46(1971) | B21: 1477 | C21: 868 | D21: 293 | E21: 6 | F21: … | G21: 4 | H21: 21 | I21: 347 | J21: 66 | K21: 69 | L21: 17 | M21: 45 | N21: 597 | O21: 28 | P21: 96 | Q21: 81 | R21: 177 | S21: 282 | T21: 248 | U21: 7 | V21: 15 | W21: 5 | X21: 653
A22: 昭.47(1972) | B22: 1599 | C22: 912 | D22: 281 | E22: 2 | F22: … | G22: 3 | H22: 20 | I22: 361 | J22: 69 | K22: 113 | L22: 17 | M22: 45 | N22: 677 | O22: 43 | P22: 109 | Q22: 87 | R22: 212 | S22: 293 | T22: 254 | U22: 5 | V22: 20 | W22: 6 | X22: 815
A23: 昭.48(1973) | B23: 2047 | C23: 1263 | D23: 408 | E23: 1 | F23: … | G23: 4 | H23: 24 | I23: 562 | J23: 82 | K23: 109 | L23: 22 | M23: 51 | N23: 767 | O23: 55 | P23: 128 | Q23: 94 | R23: 252 | S23: 306 | T23: 265 | U23: 8 | V23: 27 | W23: 9 | X23: 1053
A24: 昭.49(1974) | B24: 2400 | C24: 1484 | D24: 534 | E24: 1 | F24: … | G24: 4 | H24: 28 | I24: 630 | J24: 98 | K24: 116 | L24: 25 | M24: 49 | N24: 900 | O24: 50 | P24: 167 | Q24: 132 | R24: 289 | S24: 372 | T24: 326 | U24: 5 | V24: 22 | W24: 11 | X24: 1160
A25: 昭.50(1975) | B25: 2992 | C25: 1847 | D25: 667 | E25: 1 | F25: … | G25: 4 | H25: 29 | I25: 803 | J25: 112 | K25: 132 | L25: 31 | M25: 68 | N25: 1124 | O25: 64 | P25: 199 | Q25: 152 | R25: 428 | S25: 405 | T25: 352 | U25: 4 | V25: 28 | W25: 17 | X25: 1605
A26: 昭.51(1976) | B26: 3190 | C26: 1994 | D26: 684 | E26: 1 | F26: … | G26: 5 | H26: 32 | I26: 879 | J26: 137 | K26: 171 | L26: 31 | M26: 55 | N26: 1174 | O26: 60 | P26: 232 | Q26: 178 | R26: 437 | S26: 411 | T26: 346 | U26: 4 | V26: 33 | W26: 18 | X26: 1524
A27: 昭.52(1977) | B27: 3271 | C27: 2028 | D27: 763 | E27: 1 | F27: … | G27: 5 | H27: 35 | I27: 812 | J27: 146 | K27: 175 | L27: 37 | M27: 55 | N27: 1224 | O27: 55 | P27: 248 | Q27: 193 | R27: 454 | S27: 427 | T27: 363 | U27: 4 | V27: 41 | W27: 16 | X27: 1414
A28: 昭.53(1978) | B28: 3277 | C28: 1984 | D28: 705 | E28: 3 | F28: … | G28: 7 | H28: 32 | I28: 818 | J28: 147 | K28: 180 | L28: 35 | M28: 58 | N28: 1271 | O28: 81 | P28: 263 | Q28: 206 | R28: 487 | S28: 406 | T28: 337 | U28: 3 | V28: 33 | W28: 19 | X28: 1336
... A48: 平.10(1998) | B48: 3637 | C48: 2825 | D48: 402 | E48: 13 | F48: … | G48: 7 | H48: 33 | I48: 1261 | J48: 241 | K48: 763 | L48: 32 | M48: 72 | N48: 808 | O48: 86 | P48: 235 | Q48: 215 | R48: 202 | S48: 254 | T48: 201 | U48: 0 | V48: 31 | W48: 3 | X48: 1640
A49: 平.11(1999) | B49: 3506 | C49: 2691 | D49: 386 | E49: 23 | F49: … | G49: 9 | H49: 34 | I49: 1140 | J49: 245 | K49: 750 | L49: 32 | M49: 71 | N49: 811 | O49: 84 | P49: 226 | Q49: 209 | R49: 188 | S49: 278 | T49: 229 | U49: - | V49: 34 | W49: 4 | X49: 1482
A50: 平.12(2000) | B50: 3419 | C50: 2618 | D50: 371 | E50: 29 | F50: … | G50: 9 | H50: 30 | I50: 1120 | J50: 241 | K50: 717 | L50: 30 | M50: 71 | N50: 796 | O50: 91 | P50: 217 | Q50: 198 | R50: 181 | S50: 272 | T50: 223 | U50: 0 | V50: 35 | W50: 5 | X50: 1369
A51: 平.13(2001) | B51: 3372 | C51: 2589 | D51: 370 | E51: 26 | F51: 0 | G51: 14 | H51: 27 | I51: 1085 | J51: 243 | K51: 729 | L51: 29 | M51: 66 | N51: 778 | O51: 73 | P51: 211 | Q51: 194 | R51: 203 | S51: 254 | T51: 202 | U51: - | V51: 37 | W51: 5 | X51: 1309
A52: 平.14(2002) | B52: 3392 | C52: 2610 | D52: 356 | E52: 32 | F52: 0 | G52: 17 | H52: 26 | I52: 1097 | J52: 228 | K52: 760 | L52: 27 | M52: 66 | N52: 777 | O52: 75 | P52: 207 | Q52: 192 | R52: 222 | S52: 239 | T52: 196 | U52: … | V52: 35 | W52: 5 | X52: 1337
A53: 平.15(2003) | B53: 3259 | C53: 2536 | D53: 443 | E53: 24 | F53: 0 | G53: 16 | H53: 25 | I53: 1005 | J53: 189 | K53: 740 | L53: 27 | M53: 66 | N53: 718 | O53: 65 | P53: 218 | Q53: 196 | R53: 185 | S53: 218 | T53: 178 | U53: … | V53: 33 | W53: 5 | X53: 1327
A54: 平.16(2004) | B54: 3266 | C54: 2506 | D54: 355 | E54: 18 | F54: 0 | G54: 14 | H54: 22 | I54: 1088 | J54: 198 | K54: 717 | L54: 29 | M54: 66 | N54: 755 | O54: 88 | P54: 215 | Q54: 185 | R54: 198 | S54: 224 | T54: 190 | U54: … | V54: 30 | W54: 5 | X54: 1134
A55: 平.17(2005) | B55: 3275 | C55: 2465 | D55: 342 | E55: 29 | F55: 0 | G55: 18 | H55: 21 | I55: 1044 | J55: 184 | K55: 731 | L55: 31 | M55: 65 | N55: 804 | O55: 91 | P55: 200 | Q55: 178 | R55: 211 | S55: 266 | T55: 233 | U55: … | V55: 36 | W55: 6 | X55: 1247
A56: 平.18(2006) | B56: 3108 | C56: 2322 | D56: 331 | E56: 18 | F56: 0 | G56: 15 | H56: 22 | I56: 934 | J56: 203 | K56: 706 | L56: 27 | M56: 64 | N56: 782 | O56: 94 | P56: 196 | Q56: 179 | R56: 209 | S56: 250 | T56: 215 | U56: … | V56: 33 | W56: 5 | X56: 1095
A57: 平.19(2007) | B57: 3154 | C57: 2357 | D57: 322 | E57: 9 | F57: 0 | G57: 11 | H57: 20 | I57: 1004 | J57: 208 | K57: 709 | L57: 25 | M57: 49 | N57: 793 | O57: 100 | P57: 207 | Q57: 193 | R57: 210 | S57: 243 | T57: 212 | U57: … | V57: 32 | W57: 4 | X57: 1107
A58: 平.20(2008) | B58: 3210 | C58: 2358 | D58: 346 | E58: 8 | F58: 0 | G58: 9 | H58: 19 | I58: 1092 | J58: 202 | K58: 607 | L58: 26 | M58: 49 | N58: 847 | O58: 97 | P58: 214 | Q58: 201 | R58: 226 | S58: 279 | T58: 247 | U58: … | V58: 31 | W58: 6 | X58: 980
A59: 平.21(2009) | B59: 2976 | C59: 2219 | D59: 323 | E59: 9 | F59: 0 | G59: 6 | H59: 17 | I59: 1039 | J59: 202 | K59: 554 | L59: 22 | M59: 46 | N59: 753 | O59: 87 | P59: 229 | Q59: 215 | R59: 184 | S59: 223 | T59: 193 | U59: … | V59: 31 | W59: 4 | X59: 935
A60: 平.22(2010) | B60: 2962 | C60: 2178 | D60: 250 | E60: 7 | F60: 0 | G60: 10 | H60: 18 | I60: 1114 | J60: 178 | K60: 533 | L60: 23 | M60: 46 | N60: 780 | O60: 91 | P60: 215 | Q60: 201 | R60: 221 | S60: 220 | T60: 187 | U60: … | V60: 32 | W60: 4 | X60: 910
A61: 平.23(2011) | B61: 2948 | C61: 2150 | D61: 326 | E61: 4 | F61: 0 | G61: 7 | H61: 14 | I61: 1035 | J61: 169 | K61: 526 | L61: 22 | M61: 47 | N61: 792 | O61: 91 | P61: 217 | Q61: 199 | R61: 230 | S61: 221 | T61: 187 | U61: … | V61: 32 | W61: 5 | X61: 863
A62: 平.24(2012) | B62: 3075 | C62: 2276 | D62: 356 | E62: 6 | F62: 0 | G62: 10 | H62: 12 | I62: 1090 | J62: 176 | K62: 559 | L62: 19 | M62: 48 | N62: 794 | O62: 95 | P62: 218 | Q62: 201 | R62: 218 | S62: 231 | T62: 195 | U62: … | V62: 31 | W62: 4 | X62: 931
... A73: 令.５(2023) | B73: 3207 | C73: 2153 | D73: 257 | E73: 22 | F73: 0 | G73: 6 | H73: 9 | I73: 1083 | J73: 177 | K73: 563 | L73: 8 | M73: 28 | N73: 1047 | O73: 124 | P73: 194 | Q73: 180 | R73: 290 | S73: 398 | T73: 353 | U73: … | V73: 41 | W73: 7 | X73: 1157
B74: （注記）
B75: １．昭和35年の麦類は、雑穀、豆類、いも類を含む。
B76: ２．昭和36年の麦類は、雑穀を含む。また、豆類は、いも類を含む。
B77: ３．昭和37年から平成12年までの雑穀及び豆類は、雑穀・豆類として合算されていたため、その値を豆類に表示している。
B78: ４．平成12年までの養蚕は畜産計の外数としていたが、日本標準産業分類の改訂により養蚕が畜産に分類されたことに伴い、平成13年から畜産計に養蚕を含めた。
B79: また、平成14年からは養蚕を畜産計のうちその他畜産物に含めた。

Sheet ⑨栃木県
A1: 生産農業所得統計
A2: 都道府県別生産農業所得統計累年統計
A4: 栃木
A5: 年次 | B5: 農業産出額 | X5: 生産農業所得
B6: 計 | C6: 耕種 | N6: 畜産 | W6: 加工農産物
C7: 小計 | D7: 米 | E7: 麦類 | F7: 雑穀 | G7: 豆類 | H7: いも類 | I7: 野菜 | J7: 果実 | K7: 花き | L7: 工芸農作物 | M7: その他作物 | N7: 小計 | O7: 肉用牛 | P7: 乳用牛 | R7: 豚 | S7: 鶏 | U7: 養蚕 | V7: その他畜産物
Q8: 生乳 | T8: 鶏卵
B9: 億円 | C9: 億円 | D9: 億円 | E9: 億円 | F9: 億円 | G9: 億円 | H9: 億円 | I9: 億円 | J9: 億円 | K9: 億円 | L9: 億円 | M9: 億円 | N9: 億円 | O9: 億円 | P9: 億円 | Q9: 億円 | R9: 億円 | S9: 億円 | T9: 億円 | U9: 億円 | V9: 億円 | W9: 億円 | X9: 億円
A10: 昭.35(1960) | B10: 494 | C10: 425 | D10: 254 | E10: 87 | F10: … | G10: … | H10: … | I10: 42 | J10: 8 | K10: 0 | L10: 31 | M10: 2 | N10: 50 | O10: … | P10: … | Q10: … | R10: … | S10: … | T10: … | U10: 6 | V10: … | W10: 13 | X10: 315
A11: 昭.36(1961) | B11: 524 | C11: 434 | D11: 241 | E11: 78 | F11: … | G11: 23 | H11: … | I11: 48 | J11: 10 | K11: 0 | L11: 32 | M11: 3 | N11: 70 | O11: … | P11: … | Q11: … | R11: … | S11: … | T11: … | U11: 5 | V11: … | W11: 14 | X11: 333
A12: 昭.37(1962) | B12: 643 | C12: 531 | D12: 313 | E12: 78 | F12: … | G12: 16 | H12: 10 | I12: 61 | J12: 12 | K12: 0 | L12: 39 | M12: 3 | N12: 90 | O12: … | P12: … | Q12: … | R12: … | S12: … | T12: … | U12: 6 | V12: … | W12: 17 | X12: 414
A13: 昭.38(1963) | B13: 640 | C13: 511 | D13: 305 | E13: 52 | F13: … | G13: 14 | H13: 9 | I13: 72 | J13: 13 | K13: 0 | L13: 43 | M13: 4 | N13: 111 | O13: … | P13: … | Q13: … | R13: … | S13: … | T13: … | U13: 8 | V13: … | W13: 11 | X13: 378
A14: 昭.39(1964) | B14: 743 | C14: 598 | D14: 337 | E14: 72 | F14: … | G14: 13 | H14: 11 | I14: 103 | J14: 15 | K14: 0 | L14: 46 | M14: 3 | N14: 129 | O14: 11 | P14: 34 | Q14: … | R14: 37 | S14: 46 | T14: … | U14: 7 | V14: 1 | W14: 9 | X14: 436
A15: 昭.40(1965) | B15: 782 | C15: 619 | D15: 357 | E15: 61 | F15: … | G15: 16 | H15: 13 | I15: 108 | J15: 15 | K15: 0 | L15: 45 | M15: 3 | N15: 145 | O15: 14 | P15: 40 | Q15: … | R15: 38 | S15: 52 | T15: … | U15: 7 | V15: 1 | W15: 10 | X15: 457
A16: 昭.41(1966) | B16: 914 | C16: 732 | D16: 437 | E16: 76 | F16: … | G16: 15 | H16: 15 | I16: 116 | J16: 16 | K16: 0 | L16: 52 | M16: 5 | N16: 156 | O16: 15 | P16: 48 | Q16: … | R16: 42 | S16: 51 | T16: … | U16: 10 | V16: 1 | W16: 16 | X16: 541
A17: 昭.42(1967) | B17: 1065 | C17: 848 | D17: 534 | E17: 76 | F17: … | G17: 15 | H17: 15 | I17: 127 | J17: 18 | K17: 1 | L17: 54 | M17: 7 | N17: 186 | O17: 16 | P17: 58 | Q17: 49 | R17: 55 | S17: 57 | T17: 40 | U17: 14 | V17: 1 | W17: 17 | X17: 644
A18: 昭.43(1968) | B18: 1173 | C18: 903 | D18: 606 | E18: 74 | F18: … | G18: 12 | H18: 13 | I18: 128 | J18: 18 | K18: 1 | L18: 44 | M18: 6 | N18: 236 | O18: 12 | P18: 78 | Q18: 55 | R18: 69 | S18: 76 | T18: 60 | U18: 14 | V18: 1 | W18: 20 | X18: 725
A19: 昭.44(1969) | B19: 1197 | C19: 913 | D19: 615 | E19: 67 | F19: … | G19: 13 | H19: 13 | I19: 135 | J19: 20 | K19: 1 | L19: 43 | M19: 7 | N19: 246 | O19: 13 | P19: 79 | Q19: 57 | R19: 76 | S19: 77 | T19: 62 | U19: 14 | V19: 1 | W19: 23 | X19: 685
A20: 昭.45(1970) | B20: 1219 | C20: 910 | D20: 565 | E20: 58 | F20: … | G20: 16 | H20: 16 | I20: 172 | J20: 26 | K20: 3 | L20: 47 | M20: 8 | N20: 273 | O20: 17 | P20: 76 | Q20: 62 | R20: 90 | S20: 89 | T20: 70 | U20: 18 | V20: 0 | W20: 18 | X20: 684
A21: 昭.46(1971) | B21: 1220 | C21: 879 | D21: 503 | E21: 52 | F21: … | G21: 15 | H21: 14 | I21: 212 | J21: 24 | K21: 8 | L21: 44 | M21: 7 | N21: 305 | O21: 23 | P21: 82 | Q21: 66 | R21: 109 | S21: 91 | T21: 69 | U21: 18 | V21: 1 | W21: 19 | X21: 651
A22: 昭.47(1972) | B22: 1387 | C22: 1003 | D22: 618 | E22: 42 | F22: … | G22: 15 | H22: 14 | I22: 216 | J22: 28 | K22: 11 | L22: 51 | M22: 7 | N22: 338 | O22: 31 | P22: 95 | Q22: 76 | R22: 121 | S22: 91 | T22: 70 | U22: 22 | V22: 1 | W22: 24 | X22: 789
A23: 昭.48(1973) | B23: 1706 | C23: 1165 | D23: 724 | E23: 36 | F23: … | G23: 14 | H23: 16 | I23: 261 | J23: 34 | K23: 16 | L23: 51 | M23: 13 | N23: 444 | O23: 37 | P23: 143 | Q23: 93 | R23: 160 | S23: 102 | T23: 81 | U23: 42 | V23: 2 | W23: 55 | X23: 981
A24: 昭.49(1974) | B24: 2054 | C24: 1410 | D24: 870 | E24: 32 | F24: … | G24: 16 | H24: 18 | I24: 364 | J24: 34 | K24: 14 | L24: 55 | M24: 7 | N24: 536 | O24: 52 | P24: 167 | Q24: 128 | R24: 190 | S24: 124 | T24: 87 | U24: 31 | V24: 2 | W24: 78 | X24: 1137
A25: 昭.50(1975) | B25: 2458 | C25: 1780 | D25: 1166 | E25: 43 | F25: … | G25: 18 | H25: 20 | I25: 383 | J25: 52 | K25: 16 | L25: 70 | M25: 12 | N25: 587 | O25: 71 | P25: 169 | Q25: 141 | R25: 216 | S25: 129 | T25: 88 | U25: 34 | V25: 3 | W25: 57 | X25: 1368
A26: 昭.51(1976) | B26: 2565 | C26: 1864 | D26: 1200 | E26: 65 | F26: … | G26: 18 | H26: 19 | I26: 392 | J26: 62 | K26: 19 | L26: 75 | M26: 14 | N26: 609 | O26: 73 | P26: 200 | Q26: 170 | R26: 206 | S26: 128 | T26: 85 | U26: 38 | V26: 2 | W26: 53 | X26: 1435
A27: 昭.52(1977) | B27: 2729 | C27: 1953 | D27: 1237 | E27: 77 | F27: … | G27: 18 | H27: 20 | I27: 429 | J27: 64 | K27: 27 | L27: 71 | M27: 11 | N27: 668 | O27: 87 | P27: 223 | Q27: 188 | R27: 224 | S27: 131 | T27: 83 | U27: 36 | V27: 3 | W27: 71 | X27: 1387
A28: 昭.53(1978) | B28: 2760 | C28: 1963 | D28: 1174 | E28: 99 | F28: … | G28: 21 | H28: 21 | I28: 441 | J28: 76 | K28: 27 | L28: 89 | M28: 16 | N28: 702 | O28: 91 | P28: 245 | Q28: 205 | R28: 240 | S28: 124 | T28: 77 | U28: 38 | V28: 2 | W28: 57 | X28: 1528
... A50: 平.12(2000) | B50: 2746 | C50: 1931 | D50: 948 | E50: 71 | F50: … | G50: 39 | H50: 12 | I50: 650 | J50: 92 | K50: 80 | L50: 17 | M50: 21 | N50: 807 | O50: 192 | P50: 310 | Q50: 288 | R50: 168 | S50: 135 | T50: 101 | U50: 1 | V50: 1 | W50: 7 | X50: 1180
A51: 平.13(2001) | B51: 2638 | C51: 1825 | D51: 884 | E51: 72 | F51: 3 | G51: 33 | H51: 12 | I51: 623 | J51: 80 | K51: 82 | L51: 16 | M51: 19 | N51: 805 | O51: 170 | P51: 304 | Q51: 286 | R51: 202 | S51: 127 | T51: 90 | U51: 1 | V51: 1 | W51: 8 | X51: 1113
A52: 平.14(2002) | B52: 2746 | C52: 1915 | D52: 885 | E52: 82 | F52: 5 | G52: 32 | H52: 10 | I52: 688 | J52: 96 | K52: 88 | L52: 16 | M52: 15 | N52: 823 | O52: 189 | P52: 302 | Q52: 285 | R52: 202 | S52: 127 | T52: 88 | U52: … | V52: 2 | W52: 8 | X52: 1228
A53: 平.15(2003) | B53: 2786 | C53: 1959 | D53: 947 | E53: 75 | F53: 6 | G53: 38 | H53: 12 | I53: 703 | J53: 79 | K53: 71 | L53: 15 | M53: 13 | N53: 820 | O53: 201 | P53: 312 | Q53: 286 | R53: 181 | S53: 123 | T53: 85 | U53: … | V53: 2 | W53: 7 | X53: 1278
A54: 平.16(2004) | B54: 2769 | C54: 1884 | D54: 856 | E54: 52 | F54: 5 | G54: 34 | H54: 11 | I54: 733 | J54: 87 | K54: 77 | L54: 15 | M54: 13 | N54: 876 | O54: 237 | P54: 317 | Q54: 290 | R54: 189 | S54: 130 | T54: 92 | U54: … | V54: 2 | W54: 9 | X54: 1095
A55: 平.17(2005) | B55: 2741 | C55: 1825 | D55: 800 | E55: 65 | F55: 6 | G55: 26 | H55: 12 | I55: 730 | J55: 90 | K55: 74 | L55: 12 | M55: 10 | N55: 907 | O55: 238 | P55: 317 | Q55: 285 | R55: 197 | S55: 151 | T55: 110 | U55: … | V55: 2 | W55: 9 | X55: 1100
A56: 平.18(2006) | B56: 2609 | C56: 1728 | D56: 714 | E56: 49 | F56: 8 | G56: 28 | H56: 14 | I56: 730 | J56: 87 | K56: 76 | L56: 11 | M56: 11 | N56: 872 | O56: 229 | P56: 318 | Q56: 284 | R56: 181 | S56: 143 | T56: 101 | U56: … | V56: 2 | W56: 8 | X56: 1065
A57: 平.19(2007) | B57: 2634 | C57: 1760 | D57: 721 | E57: 38 | F57: 7 | G57: 17 | H57: 11 | I57: 765 | J57: 102 | K57: 78 | L57: 11 | M57: 10 | N57: 866 | O57: 236 | P57: 307 | Q57: 276 | R57: 191 | S57: 130 | T57: 92 | U57: … | V57: 2 | W57: 8 | X57: 1072
A58: 平.20(2008) | B58: 2693 | C58: 1795 | D58: 748 | E58: 53 | F58: 4 | G58: 20 | H58: 10 | I58: 778 | J58: 89 | K58: 69 | L58: 14 | M58: 10 | N58: 887 | O58: 220 | P58: 322 | Q58: 290 | R58: 218 | S58: 126 | T58: 92 | U58: … | V58: 2 | W58: 11 | X58: 906
A59: 平.21(2009) | B59: 2589 | C59: 1720 | D59: 701 | E59: 49 | F59: 4 | G59: 17 | H59: 11 | I59: 763 | J59: 90 | K59: 64 | L59: 11 | M59: 10 | N59: 858 | O59: 185 | P59: 342 | Q59: 311 | R59: 210 | S59: 119 | T59: 87 | U59: … | V59: 2 | W59: 11 | X59: 914
A60: 平.22(2010) | B60: 2552 | C60: 1689 | D60: 643 | E60: 42 | F60: 7 | G60: 12 | H60: 12 | I60: 789 | J60: 98 | K60: 68 | L60: 9 | M60: 9 | N60: 853 | O60: 170 | P60: 330 | Q60: 298 | R60: 225 | S60: 126 | T60: 95 | U60: … | V60: 2 | W60: 10 | X60: 1005
A61: 平.23(2011) | B61: 2659 | C61: 1813 | D61: 797 | E61: 36 | F61: 9 | G61: 9 | H61: 13 | I61: 776 | J61: 90 | K61: 64 | L61: 10 | M61: 9 | N61: 836 | O61: 146 | P61: 324 | Q61: 290 | R61: 231 | S61: 134 | T61: 99 | U61: … | V61: 2 | W61: 10 | X61: 958
A62: 平.24(2012) | B62: 2786 | C62: 1890 | D62: 832 | E62: 36 | F62: 10 | G62: 8 | H62: 7 | I62: 815 | J62: 94 | K62: 66 | L62: 7 | M62: 14 | N62: 886 | O62: 178 | P62: 356 | Q62: 323 | R62: 233 | S62: 118 | T62: 96 | U62: … | V62: 2 | W62: 10 | X62: 1090
A63: 平.25(2013) | B63: 2690 | C63: 1727 | D63: 685 | E63: 43 | F63: 6 | G63: 10 | H63: 15 | I63: 810 | J63: 73 | K63: 66 | L63: 7 | M63: 11 | N63: 955 | O63: 187 | P63: 356 | Q63: 307 | R63: 261 | S63: 149 | T63: 124 | U63: … | V63: 2 | W63: 8 | X63: 939
... A73: 令.５(2023) | B73: 2959 | C73: 1586 | D73: 586 | E73: 50 | F73: 6 | G73: 5 | H73: 10 | I73: 745 | J73: 89 | K73: 74 | L73: 2 | M73: 19 | N73: 1367 | O73: 251 | P73: 472 | Q73: 435 | R73: 279 | S73: 363 | T73: 348 | U73: … | V73: 3 | W73: 7 | X73: 1086
B74: （注記）
B75: １．昭和35年の麦類は、雑穀、豆類、いも類を含む。
B76: ２．昭和36年の麦類は、雑穀を含む。また、豆類は、いも類を含む。
B77: ３．昭和37年から平成12年までの雑穀及び豆類は、雑穀・豆類として合算されていたため、その値を豆類に表示している。
B78: ４．平成12年までの養蚕は畜産計の外数としていたが、日本標準産業分類の改訂により養蚕が畜産に分類されたことに伴い、平成13年から畜産計に養蚕を含めた。
B79: また、平成14年からは養蚕を畜産計のうちその他畜産物に含めた。

Sheet ⑩岩手県
A1: 生産農業所得統計
A2: 都道府県別生産農業所得統計累年統計
A4: 岩手
A5: 年次 | B5: 農業産出額 | X5: 生産農業所得
B6: 計 | C6: 耕種 | N6: 畜産 | W6: 加工農産物
C7: 小計 | D7: 米 | E7: 麦類 | F7: 雑穀 | G7: 豆類 | H7: いも類 | I7: 野菜 | J7: 果実 | K7: 花き | L7: 工芸農作物 | M7: その他作物 | N7: 小計 | O7: 肉用牛 | P7: 乳用牛 | R7: 豚 | S7: 鶏 | U7: 養蚕 | V7: その他畜産物
Q8: 生乳 | T8: 鶏卵
B9: 億円 | C9: 億円 | D9: 億円 | E9: 億円 | F9: 億円 | G9: 億円 | H9: 億円 | I9: 億円 | J9: 億円 | K9: 億円 | L9: 億円 | M9: 億円 | N9: 億円 | O9: 億円 | P9: 億円 | Q9: 億円 | R9: 億円 | S9: 億円 | T9: 億円 | U9: 億円 | V9: 億円 | W9: 億円 | X9: 億円
A10: 昭.35(1960) | B10: 401 | C10: 335 | D10: 227 | E10: 50 | F10: … | G10: … | H10: … | I10: 22 | J10: 17 | K10: 0 | L10: 18 | M10: 1 | N10: 56 | O10: … | P10: … | Q10: … | R10: … | S10: … | T10: … | U10: 7 | V10: … | W10: 4 | X10: 262
A11: 昭.36(1961) | B11: 431 | C11: 356 | D11: 245 | E11: 22 | F11: … | G11: 23 | H11: … | I11: 30 | J11: 16 | K11: 0 | L11: 19 | M11: 1 | N11: 63 | O11: … | P11: … | Q11: … | R11: … | S11: … | T11: … | U11: 8 | V11: … | W11: 4 | X11: 281
A12: 昭.37(1962) | B12: 488 | C12: 395 | D12: 271 | E12: 16 | F12: … | G12: 19 | H12: 7 | I12: 29 | J12: 24 | K12: 0 | L12: 27 | M12: 2 | N12: 81 | O12: … | P12: … | Q12: … | R12: … | S12: … | T12: … | U12: 9 | V12: … | W12: 3 | X12: 315
A13: 昭.38(1963) | B13: 515 | C13: 405 | D13: 274 | E13: 14 | F13: … | G13: 19 | H13: 7 | I13: 31 | J13: 21 | K13: 0 | L13: 35 | M13: 2 | N13: 97 | O13: … | P13: … | Q13: … | R13: … | S13: … | T13: … | U13: 11 | V13: … | W13: 2 | X13: 318
A14: 昭.39(1964) | B14: 607 | C14: 490 | D14: 340 | E14: 15 | F14: … | G14: 19 | H14: 7 | I14: 40 | J14: 22 | K14: 1 | L14: 42 | M14: 4 | N14: 109 | O14: 12 | P14: 49 | Q14: … | R14: 25 | S14: 22 | T14: … | U14: 7 | V14: 2 | W14: 1 | X14: 374
A15: 昭.40(1965) | B15: 700 | C15: 564 | D15: 403 | E15: 14 | F15: … | G15: 18 | H15: 8 | I15: 42 | J15: 24 | K15: 1 | L15: 51 | M15: 3 | N15: 128 | O15: 14 | P15: 51 | Q15: … | R15: 32 | S15: 28 | T15: … | U15: 7 | V15: 3 | W15: 1 | X15: 449
A16: 昭.41(1966) | B16: 738 | C16: 582 | D16: 414 | E16: 15 | F16: … | G16: 17 | H16: 9 | I16: 50 | J16: 25 | K16: 1 | L16: 47 | M16: 4 | N16: 147 | O16: 21 | P16: 62 | Q16: … | R16: 36 | S16: 26 | T16: … | U16: 9 | V16: 2 | W16: 0 | X16: 450
A17: 昭.42(1967) | B17: 923 | C17: 746 | D17: 557 | E17: 16 | F17: … | G17: 18 | H17: 11 | I17: 58 | J17: 29 | K17: 0 | L17: 51 | M17: 5 | N17: 163 | O17: 23 | P17: 68 | Q17: 49 | R17: 40 | S17: 30 | T17: 22 | U17: 14 | V17: 2 | W17: 0 | X17: 569
A18: 昭.43(1968) | B18: 990 | C18: 788 | D18: 615 | E18: 16 | F18: … | G18: 15 | H18: 9 | I18: 56 | J18: 28 | K18: 0 | L18: 44 | M18: 5 | N18: 191 | O18: 26 | P18: 77 | Q18: 58 | R18: 50 | S18: 36 | T18: 25 | U18: 11 | V18: 1 | W18: 0 | X18: 605
A19: 昭.44(1969) | B19: 1049 | C19: 826 | D19: 635 | E19: 14 | F19: … | G19: 16 | H19: 11 | I19: 62 | J19: 32 | K19: 0 | L19: 45 | M19: 10 | N19: 213 | O19: 29 | P19: 84 | Q19: 66 | R19: 60 | S19: 38 | T19: 24 | U19: 10 | V19: 2 | W19: 0 | X19: 599
A20: 昭.45(1970) | B20: 1119 | C20: 873 | D20: 638 | E20: 12 | F20: … | G20: 16 | H20: 18 | I20: 83 | J20: 42 | K20: 0 | L20: 53 | M20: 11 | N20: 233 | O20: 35 | P20: 87 | Q20: 69 | R20: 63 | S20: 45 | T20: 27 | U20: 13 | V20: 2 | W20: 0 | X20: 644
A21: 昭.46(1971) | B21: 1054 | C21: 768 | D21: 534 | E21: 8 | F21: … | G21: 16 | H21: 10 | I21: 87 | J21: 37 | K21: 1 | L21: 61 | M21: 13 | N21: 274 | O21: 41 | P21: 92 | Q21: 71 | R21: 81 | S21: 58 | T21: 37 | U21: 11 | V21: 2 | W21: 0 | X21: 552
A22: 昭.47(1972) | B22: 1238 | C22: 901 | D22: 635 | E22: 7 | F22: … | G22: 17 | H22: 11 | I22: 96 | J22: 48 | K22: 1 | L22: 77 | M22: 10 | N22: 324 | O22: 44 | P22: 99 | Q22: 73 | R22: 94 | S22: 85 | T22: 45 | U22: 13 | V22: 2 | W22: 0 | X22: 709
A23: 昭.48(1973) | B23: 1573 | C23: 1078 | D23: 745 | E23: 6 | F23: … | G23: 16 | H23: 15 | I23: 133 | J23: 49 | K23: 1 | L23: 100 | M23: 13 | N23: 474 | O23: 96 | P23: 138 | Q23: 90 | R23: 113 | S23: 126 | T23: 55 | U23: 22 | V23: 1 | W23: 0 | X23: 974
A24: 昭.49(1974) | B24: 2023 | C24: 1420 | D24: 970 | E24: 5 | F24: … | G24: 25 | H24: 20 | I24: 185 | J24: 56 | K24: 2 | L24: 139 | M24: 18 | N24: 588 | O24: 83 | P24: 146 | Q24: 118 | R24: 159 | S24: 200 | T24: 80 | U24: 15 | V24: 1 | W24: 0 | X24: 1200
A25: 昭.50(1975) | B25: 2494 | C25: 1754 | D25: 1229 | E25: 5 | F25: … | G25: 21 | H25: 19 | I25: 194 | J25: 77 | K25: 2 | L25: 186 | M25: 20 | N25: 725 | O25: 80 | P25: 168 | Q25: 138 | R25: 248 | S25: 227 | T25: 93 | U25: 16 | V25: 1 | W25: 0 | X25: 1503
A26: 昭.51(1976) | B26: 2393 | C26: 1541 | D26: 1004 | E26: 5 | F26: … | G26: 18 | H26: 16 | I26: 204 | J26: 76 | K26: 3 | L26: 194 | M26: 20 | N26: 836 | O26: 106 | P26: 214 | Q26: 166 | R26: 255 | S26: 260 | T26: 94 | U26: 17 | V26: 1 | W26: 0 | X26: 1403
A27: 昭.52(1977) | B27: 2875 | C27: 1909 | D27: 1329 | E27: 5 | F27: … | G27: 24 | H27: 17 | I27: 214 | J27: 85 | K27: 6 | L27: 205 | M27: 24 | N27: 951 | O27: 145 | P27: 235 | Q27: 187 | R27: 275 | S27: 293 | T27: 101 | U27: 16 | V27: 2 | W27: 0 | X27: 1590
A28: 昭.53(1978) | B28: 3014 | C28: 1964 | D28: 1338 | E28: 7 | F28: … | G28: 24 | H28: 15 | I28: 231 | J28: 92 | K28: 7 | L28: 227 | M28: 23 | N28: 1031 | O28: 168 | P28: 266 | Q28: 208 | R28: 304 | S28: 291 | T28: 87 | U28: 18 | V28: 2 | W28: 1 | X28: 1698
... A50: 平.12(2000) | B50: 2849 | C50: 1538 | D50: 874 | E50: 6 | F50: … | G50: 19 | H50: 8 | I50: 304 | J50: 144 | K50: 59 | L50: 104 | M50: 20 | N50: 1310 | O50: 210 | P50: 246 | Q50: 221 | R50: 192 | S50: 655 | T50: 131 | U50: 1 | V50: 7 | W50: 0 | X50: 990
A51: 平.13(2001) | B51: 2777 | C51: 1482 | D51: 814 | E51: 9 | F51: 3 | G51: 16 | H51: 7 | I51: 305 | J51: 146 | K51: 61 | L51: 103 | M51: 18 | N51: 1295 | O51: 185 | P51: 242 | Q51: 217 | R51: 210 | S51: 651 | T51: 118 | U51: 0 | V51: 7 | W51: 0 | X51: 986
A52: 平.14(2002) | B52: 2726 | C52: 1409 | D52: 794 | E52: 11 | F52: 2 | G52: 14 | H52: 6 | I52: 290 | J52: 115 | K52: 68 | L52: 92 | M52: 16 | N52: 1317 | O52: 200 | P52: 246 | Q52: 221 | R52: 204 | S52: 659 | T52: 127 | U52: … | V52: 9 | W52: 0 | X52: 932
A53: 平.15(2003) | B53: 2587 | C53: 1282 | D53: 687 | E53: 9 | F53: 2 | G53: 13 | H53: 7 | I53: 274 | J53: 124 | K53: 62 | L53: 90 | M53: 14 | N53: 1304 | O53: 192 | P53: 247 | Q53: 222 | R53: 199 | S53: 657 | T53: 111 | U53: … | V53: 9 | W53: 0 | X53: 1061
A54: 平.16(2004) | B54: 2619 | C54: 1351 | D54: 735 | E54: 10 | F54: 3 | G54: 13 | H54: 7 | I54: 285 | J54: 134 | K54: 58 | L54: 91 | M54: 14 | N54: 1268 | O54: 196 | P54: 243 | Q54: 215 | R54: 206 | S54: 615 | T54: 117 | U54: … | V54: 9 | W54: 0 | X54: 891
A55: 平.17(2005) | B55: 2541 | C55: 1245 | D55: 688 | E55: 5 | F55: 4 | G55: 11 | H55: 7 | I55: 256 | J55: 128 | K55: 58 | L55: 74 | M55: 13 | N55: 1296 | O55: 201 | P55: 235 | Q55: 208 | R55: 211 | S55: 640 | T55: 132 | U55: … | V55: 9 | W55: 0 | X55: 823
A56: 平.18(2006) | B56: 2544 | C56: 1214 | D56: 639 | E56: 6 | F56: 4 | G56: 13 | H56: 6 | I56: 267 | J56: 128 | K56: 63 | L56: 74 | M56: 14 | N56: 1330 | O56: 211 | P56: 228 | Q56: 202 | R56: 222 | S56: 660 | T56: 126 | U56: … | V56: 9 | W56: 0 | X56: 828
A57: 平.19(2007) | B57: 2460 | C57: 1196 | D57: 594 | E57: 3 | F57: 4 | G57: 6 | H57: 6 | I57: 276 | J57: 142 | K57: 82 | L57: 71 | M57: 12 | N57: 1265 | O57: 233 | P57: 217 | Q57: 197 | R57: 220 | S57: 585 | T57: 112 | U57: … | V57: 9 | W57: 0 | X57: 779
A58: 平.20(2008) | B58: 2445 | C58: 1165 | D58: 628 | E58: 3 | F58: 3 | G58: 8 | H58: 6 | I58: 246 | J58: 120 | K58: 62 | L58: 76 | M58: 12 | N58: 1280 | O58: 198 | P58: 214 | Q58: 196 | R58: 233 | S58: 625 | T58: 121 | U58: … | V58: 10 | W58: 0 | X58: 705
A59: 平.21(2009) | B59: 2395 | C59: 1124 | D59: 597 | E59: 5 | F59: 5 | G59: 8 | H59: 8 | I59: 252 | J59: 113 | K59: 56 | L59: 69 | M59: 11 | N59: 1271 | O59: 192 | P59: 234 | Q59: 216 | R59: 202 | S59: 633 | T59: 115 | U59: … | V59: 10 | W59: 0 | X59: 674
A60: 平.22(2010) | B60: 2287 | C60: 962 | D60: 456 | E60: 3 | F60: 5 | G60: 6 | H60: 8 | I60: 260 | J60: 104 | K60: 52 | L60: 57 | M60: 11 | N60: 1325 | O60: 208 | P60: 228 | Q60: 212 | R60: 238 | S60: 641 | T60: 115 | U60: … | V60: 9 | W60: 0 | X60: 815
A61: 平.23(2011) | B61: 2387 | C61: 1094 | D61: 582 | E61: 2 | F61: 4 | G61: 6 | H61: 6 | I61: 265 | J61: 113 | K61: 50 | L61: 56 | M61: 9 | N61: 1293 | O61: 194 | P61: 214 | Q61: 198 | R61: 261 | S61: 616 | T61: 124 | U61: … | V61: 7 | W61: 0 | X61: 630
A62: 平.24(2012) | B62: 2476 | C62: 1142 | D62: 656 | E62: 2 | F62: 5 | G62: 5 | H62: 6 | I62: 240 | J62: 119 | K62: 47 | L62: 53 | M62: 11 | N62: 1334 | O62: 209 | P62: 234 | Q62: 214 | R62: 268 | S62: 616 | T62: 108 | U62: … | V62: 7 | W62: 0 | X62: 736
A63: 平.25(2013) | B63: 2433 | C63: 1081 | D63: 600 | E63: 2 | F63: 3 | G63: 5 | H63: 6 | I63: 258 | J63: 99 | K63: 47 | L63: 51 | M63: 11 | N63: 1352 | O63: 200 | P63: 233 | Q63: 214 | R63: 274 | S63: 639 | T63: 121 | U63: … | V63: 7 | W63: 0 | X63: 671
... A71: 令.３(2021) | B71: 2651 | C71: 950 | D71: 460 | E71: 2 | F71: 4 | G71: 10 | H71: 12 | I71: 244 | J71: 132 | K71: 42 | L71: 36 | M71: 7 | N71: 1701 | O71: 280 | P71: 258 | Q71: 234 | R71: 318 | S71: 836 | T71: 178 | U71: … | V71: 9 | W71: 0 | X71: 969
A72: 令.４(2022) | B72: 2659 | C72: 945 | D72: 468 | E72: x | F72: 3 | G72: 10 | H72: 3 | I72: 241 | J72: 137 | K72: 45 | L72: 26 | M72: x | N72: 1714 | O72: 272 | P72: 245 | Q72: 232 | R72: 370 | S72: 818 | T72: 179 | U72: … | V72: 10 | W72: 0 | X72: 850
A73: 令.５(2023) | B73: 2975 | C73: 1000 | D73: 527 | E73: x | F73: 3 | G73: 7 | H73: 3 | I73: 255 | J73: 126 | K73: 44 | L73: 25 | M73: x | N73: 1975 | O73: 249 | P73: 255 | Q73: 245 | R73: 388 | S73: 1073 | T73: 249 | U73: … | V73: 10 | W73: 0 | X73: 884
B74: （注記）
B75: １．昭和35年の麦類は、雑穀、豆類、いも類を含む。
B76: ２．昭和36年の麦類は、雑穀を含む。また、豆類は、いも類を含む。
B77: ３．昭和37年から平成12年までの雑穀及び豆類は、雑穀・豆類として合算されていたため、その値を豆類に表示している。
B78: ４．平成12年までの養蚕は畜産計の外数としていたが、日本標準産業分類の改訂により養蚕が畜産に分類されたことに伴い、平成13年から畜産計に養蚕を含めた。
B79: また、平成14年からは養蚕を畜産計のうちその他畜産物に含めた。
