Workbook
Name _Order1: 255

Sheet グラフ
G25: 農業産出額のピークは1985年で3,517億円
B27: 主な政策（農林水産省 農村振興局 「農村制裁を中心とした戦後農政の流れ」参照 | S27: 2007年品目横断的経営安定対策
B28: 1961年農業基本法 | Q28: 2000年食料・農業・農村基本計画 | W28: 2020年食料・農業・農村基本計画
D29: 1969年新規開田の抑制 | J29: 1980年農用地利用促進法 | R29: 2005年食料・農業・農村基本計画
G30: 1970年農地法改正 | L30: 1986年21世紀へ向けての農政の基本方向 | T30: 2010年食料・農業・農村基本計画・農業者戸別所得補償
V31: 2015年食料・農業・農村基本計画
W68: ：シェア最大
Y92: 単位：億円
B93: 年 | C93: 1960 | D93: 1961 | E93: 1962 | F93: 1963 | G93: 1964 | H93: 1965 | I93: 1966 | J93: 1967 | K93: 1968 | L93: 1969 | M93: 1970 | N93: 1971 | O93: 1972 | P93: 1973 | Q93: 1974 | R93: 1975 | S93: 1976 | T93: 1977 | U93: 1978 | V93: 1979 | W93: 1980 | X93: 1981 | Y93: 1982 | Z93: 1983
B94: 米 | C94: 248 | D94: 285 | E94: 309 | F94: 330 | G94: 368 | H94: 369 | I94: 444 | J94: 514 | K94: 545 | L94: 520 | M94: 489 | N94: 441 | O94: 474 | P94: 575 | Q94: 695 | R94: 941 | S94: 864 | T94: 1048 | U94: 939 | V94: 902 | W94: 772 | X94: 819 | Y94: 698 | Z94: 826
B95: 野菜 | C95: 38 | D95: 70 | E95: 79 | F95: 97 | G95: 116 | H95: 107 | I95: 146 | J95: 189 | K95: 194 | L95: 243 | M95: 290 | N95: 294 | O95: 346 | P95: 462 | Q95: 571 | R95: 677 | S95: 730 | T95: 659 | U95: 701 | V95: 671 | W95: 736 | X95: 735 | Y95: 839 | Z95: 835
B96: 果実 | C96: 77 | D96: 83 | E96: 99 | F96: 100 | G96: 141 | H96: 115 | I96: 144 | J96: 155 | K96: 142 | L96: 171 | M96: 188 | N96: 177 | O96: 200 | P96: 251 | Q96: 294 | R96: 399 | S96: 409 | T96: 479 | U96: 536 | V96: 574 | W96: 587 | X96: 640 | Y96: 560 | Z96: 563
B97: 花き | C97: 6 | D97: 6 | E97: 7 | F97: 7 | G97: 9 | H97: 11 | I97: 12 | J97: 14 | K97: 15 | L97: 18 | M97: 27 | N97: 29 | O97: 35 | P97: 43 | Q97: 58 | R97: 70 | S97: 72 | T97: 78 | U97: 99 | V97: 106 | W97: 117 | X97: 116 | Y97: 129 | Z97: 142
B98: 工芸 | C98: 14 | D98: 15 | E98: 18 | F98: 22 | G98: 26 | H98: 26 | I98: 30 | J98: 30 | K98: 30 | L98: 31 | M98: 30 | N98: 31 | O98: 33 | P98: 39 | Q98: 54 | R98: 62 | S98: 69 | T98: 72 | U98: 73 | V98: 72 | W98: 68 | X98: 61 | Y98: 66 | Z98: 73
B99: 加工 | C99: 3 | D99: 3 | E99: 2 | F99: 3 | G99: 3 | H99: 1 | I99: 2 | J99: 2 | K99: 2 | L99: 3 | M99: 3 | N99: 2 | O99: 5 | P99: 6 | Q99: 6 | R99: 8 | S99: 10 | T99: 9 | U99: 9 | V99: 11 | W99: 13 | X99: 13 | Y99: 7 | Z99: 10
B100: 畜産 | C100: 79 | D100: 102 | E100: 121 | F100: 134 | G100: 144 | H100: 163 | I100: 203 | J100: 217 | K100: 250 | L100: 280 | M100: 300 | N100: 337 | O100: 368 | P100: 412 | Q100: 500 | R100: 618 | S100: 660 | T100: 656 | U100: 652 | V100: 643 | W100: 660 | X100: 674 | Y100: 686 | Z100: 680
B101: その他 | C101: 154 | D101: 162 | E101: 165 | F101: 179 | G101: 146 | H101: 162 | I101: 198 | J101: 232 | K101: 201 | L101: 200 | M101: 217 | N101: 185 | O101: 188 | P101: 257 | Q101: 224 | R101: 228 | S101: 241 | T101: 233 | U101: 257 | V101: 256 | W101: 262 | X101: 234 | Y101: 231 | Z101: 206
B102: 計 | C102: 619 | D102: 726 | E102: 800 | F102: 872 | G102: 953 | H102: 954 | I102: 1179 | J102: 1353 | K102: 1379 | L102: 1466 | M102: 1544 | N102: 1496 | O102: 1649 | P102: 2045 | Q102: 2402 | R102: 3003 | S102: 3055 | T102: 3234 | U102: 3266 | V102: 3235 | W102: 3215 | X102: 3292 | Y102: 3216 | Z102: 3335
B104: 年 | C104: 1984 | D104: 1985 | E104: 1986 | F104: 1987 | G104: 1988 | H104: 1989 | I104: 1990 | J104: 1991 | K104: 1992 | L104: 1993 | M104: 1994 | N104: 1995 | O104: 1996 | P104: 1997 | Q104: 1998 | R104: 1999 | S104: 2000 | T104: 2001 | U104: 2002 | V104: 2003 | W104: 2004 | X104: 2005 | Y104: 2006 | Z104: 2007
B105: 米 | C105: 956 | D105: 938 | E105: 943 | F105: 881 | G105: 752 | H105: 802 | I105: 824 | J105: 823 | K105: 867 | L105: 741 | M105: 979 | N105: 815 | O105: 768 | P105: 668 | Q105: 605 | R105: 621 | S105: 596 | T105: 581 | U105: 566 | V105: 583 | W105: 545 | X105: 536 | Y105: 491 | Z105: 465
... B113: 計 | C113: 3347 | D113: 3517 | E113: 3289 | F113: 3245 | G113: 3186 | H113: 3264 | I113: 3404 | J113: 3521 | K113: 3219 | L113: 3199 | M113: 3290 | N113: 3047 | O113: 2870 | P113: 2773 | Q113: 2697 | R113: 2657 | S113: 2558 | T113: 2438 | U113: 2501 | V113: 2425 | W113: 2405 | X113: 2296 | Y113: 2322 | Z113: 2307
S114: シェア
B115: 年 | C115: 2008 | D115: 2009 | E115: 2010 | F115: 2011 | G115: 2012 | H115: 2013 | I115: 2014 | J115: 2015 | K115: 2016 | L115: 2017 | M115: 2018 | N115: 2019 | O115: 2020 | P115: 2021 | Q115: 2022 | R115: 2023 | S115: 1960 | T115: 1970 | U115: 1980 | V115: 1990 | W115: 2000 | X115: 2010 | Y115: 2020 | Z115: 2023
B116: 米 | C116: 490 | D116: 456 | E116: 428 | F116: 490 | G116: 513 | H116: 491 | I116: 402 | J116: 422 | K116: 454 | L116: 472 | M116: 473 | N116: 473 | O116: 413 | P116: 371 | Q116: 402 | R116: 426 | S116: =C94/619 -> 0.4006462 | T116: =M94/1544 -> 0.31670984 | U116: =W94/3215 -> 0.24012442 | V116: =I105/3404 -> 0.24206816 | W116: =S105/2558 -> 0.23299453 | X116: =E116/2243 -> 0.19081587 | Y116: =O116/2697 -> 0.15313311 | Z116: =R116/2890 -> 0.14740484
B117: 野菜 | C117: 687 | D117: 682 | E117: 785 | F117: 770 | G117: 682 | H117: 806 | I117: 837 | J117: 889 | K117: 897 | L117: 840 | M117: 905 | N117: 818 | O117: 891 | P117: 866 | Q117: 886 | R117: 957 | S117: =C95/619 -> 0.061389338 | T117: =M95/1544 -> 0.18782383 | U117: =W95/3215 -> 0.22892691 | V117: =I106/3404 -> 0.26380729 | W117: =S106/2558 -> 0.28029711 | X117: =E117/2243 -> 0.34997771 | Y117: =O117/2697 -> 0.33036707 | Z117: =R117/2890 -> 0.33114187
B118: 果実 | C118: 490 | D118: 449 | E118: 485 | F118: 482 | G118: 560 | H118: 515 | I118: 544 | J118: 558 | K118: 557 | L118: 625 | M118: 714 | N118: 743 | O118: 894 | P118: 870 | Q118: 904 | R118: 1000 | S118: =C96/619 -> 0.12439418 | T118: =M96/1544 -> 0.12176166 | U118: =W96/3215 -> 0.18258165 | V118: =I107/3404 -> 0.20916569 | W118: =S107/2558 -> 0.22634871 | X118: =E118/2243 -> 0.21622827 | Y118: =O118/2697 -> 0.33147942 | Z118: =R118/2890 -> 0.34602076
B119: 花き | C119: 159 | D119: 157 | E119: 161 | F119: 156 | G119: 153 | H119: 154 | I119: 144 | J119: 149 | K119: 150 | L119: 141 | M119: 138 | N119: 139 | O119: 132 | P119: 156 | Q119: 170 | R119: 163 | S119: =C97/619 -> 0.0096930533 | T119: =M97/1544 -> 0.017487047 | U119: =W97/3215 -> 0.036391913 | V119: =I108/3404 -> 0.066686251 | W119: =S108/2558 -> 0.078577013 | X119: =E119/2243 -> 0.071778868 | Y119: =O119/2697 -> 0.04894327 | Z119: =R119/2890 -> 0.056401384
B120: 工芸 | C120: 6 | D120: 5 | E120: 4 | F120: 4 | G120: 3 | H120: 3 | I120: 3 | J120: 3 | K120: 2 | L120: 2 | M120: 2 | N120: 1 | O120: 1 | P120: 1 | Q120: 1 | R120: 1 | S120: =C98/619 -> 0.022617124 | T120: =M98/1544 -> 0.019430052 | U120: =W98/3215 -> 0.021150855 | V120: =I109/3404 -> 0.0094007051 | W120: =S109/2558 -> 0.0050820954 | X120: =E120/2243 -> 0.0017833259 | Y120: =O120/2697 -> 0.00037078235 | Z120: =R120/2890 -> 0.00034602076
B121: 加工 | C121: 28 | D121: 27 | E121: 30 | F121: 31 | G121: 33 | H121: 29 | I121: 32 | J121: 32 | K121: 36 | L121: 30 | M121: 33 | N121: 34 | O121: 26 | P121: 29 | Q121: 18 | R121: 14 | S121: =C99/619 -> 0.0048465267 | T121: =M99/1544 -> 0.0019430052 | U121: =W99/3215 -> 0.0040435459 | V121: =I110/3404 -> 0.0032314924 | W121: =S110/2558 -> 0.010946052 | X121: =E121/2243 -> 0.013374944 | Y121: =O121/2697 -> 0.0096403411 | Z121: =R121/2890 -> 0.0048442907
B122: 畜産 | C122: 319 | D122: 290 | E122: 288 | F122: 277 | G122: 274 | H122: 286 | I122: 301 | J122: 308 | K122: 305 | L122: 300 | M122: 287 | N122: 279 | O122: 269 | P122: 262 | Q122: 262 | R122: 280 | S122: =C100/619 -> 0.1276252 | T122: =M100/1544 -> 0.19430052 | U122: =W100/3215 -> 0.20528771 | V122: =I111/3404 -> 0.16568743 | W122: =S111/2558 -> 0.13017983 | X122: =E122/2243 -> 0.12839947 | Y122: =O122/2697 -> 0.099740452 | Z122: =R122/2890 -> 0.096885813
B123: その他 | C123: 59 | D123: 64 | E123: 62 | F123: 58 | G123: 59 | H123: 63 | I123: 59 | J123: 59 | K123: 64 | L123: 65 | M123: 64 | N123: 69 | O123: 71 | P123: 69 | Q123: 65 | R123: 49 | S123: =C101/619 -> 0.24878837 | T123: =M101/1544 -> 0.14054404 | U123: =W101/3215 -> 0.081493002 | V123: =I112/3404 -> 0.039952996 | W123: =S112/2558 -> 0.035574668 | X123: =E123/2243 -> 0.027641551 | Y123: =O123/2697 -> 0.026325547 | Z123: =R123/2890 -> 0.016955017
B124: 計 | C124: 2238 | D124: 2130 | E124: 2243 | F124: 2268 | G124: 2277 | H124: 2347 | I124: 2322 | J124: 2420 | K124: 2465 | L124: 2475 | M124: 2616 | N124: 2556 | O124: 2697 | P124: 2624 | Q124: 2708 | R124: 2890
T125: 部門毎の１位年次を示す。
AC1048576: =AC1048568-AE1048568 -> 0

Sheet 長野県
A1: 生産農業所得統計
A2: 都道府県別生産農業所得統計累年統計
A4: 長野
A5: 年次 | B5: 農業産出額 | X5: 生産農業所得
B6: 計 | C6: 耕種 | N6: 畜産 | W6: 加工農産物
C7: 小計 | D7: 米 | E7: 麦類 | F7: 雑穀 | G7: 豆類 | H7: いも類 | I7: 野菜 | J7: 果実 | K7: 花き | L7: 工芸農作物 | M7: その他作物 | N7: 小計 | O7: 肉用牛 | P7: 乳用牛 | R7: 豚 | S7: 鶏 | U7: 養蚕 | V7: その他畜産物
Q8: 生乳 | T8: 鶏卵
B9: 億円 | C9: 億円 | D9: 億円 | E9: 億円 | F9: 億円 | G9: 億円 | H9: 億円 | I9: 億円 | J9: 億円 | K9: 億円 | L9: 億円 | M9: 億円 | N9: 億円 | O9: 億円 | P9: 億円 | Q9: 億円 | R9: 億円 | S9: 億円 | T9: 億円 | U9: 億円 | V9: 億円 | W9: 億円 | X9: 億円 | Z9: 年 | AA9: 米 | AB9: 野菜 | AC9: 果実 | AD9: 花き | AE9: 工芸 | AF9: 畜産 | AG9: その他 | AH9: 加工 | AI9: 計
A10: 昭.35(1960) | B10: 619 | C10: 447 | D10: 248 | E10: 61 | F10: … | G10: … | H10: … | I10: 38 | J10: 77 | K10: 6 | L10: 14 | M10: 4 | N10: 79 | O10: … | P10: … | Q10: … | R10: … | S10: … | T10: … | U10: 90 | V10: … | W10: 3 | X10: 385 | Z10: 1960 | AA10: =D10 -> 248 | AB10: =I10 -> 38 | AC10: =J10 -> 77 | AD10: =K10 -> 6 | AE10: =L10 -> 14 | AF10: =N10 -> 79 | AG10: =AI10-SUM(AA10:AF10) -> 157 | AH10: =W10 -> 3 | AI10: =B10 -> 619
A11: 昭.36(1961) | B11: 726 | C11: 527 | D11: 285 | E11: 34 | F11: … | G11: 30 | H11: … | I11: 70 | J11: 83 | K11: 6 | L11: 15 | M11: 4 | N11: 102 | O11: … | P11: … | Q11: … | R11: … | S11: … | T11: … | U11: 94 | V11: … | W11: 3 | X11: 447 | Z11: 1961 | AA11: =D11 -> 285 | AB11: =I11 -> 70 | AC11: =J11 -> 83 | AD11: =K11 -> 6 | AE11: =L11 -> 15 | AF11: =N11 -> 102 | AG11: =AI11-SUM(AA11:AF11) -> 165 | AH11: =W11 -> 3 | AI11: =B11 -> 726
A12: 昭.37(1962) | B12: 800 | C12: 575 | D12: 309 | E12: 26 | F12: … | G12: 18 | H12: 16 | I12: 79 | J12: 99 | K12: 7 | L12: 18 | M12: 4 | N12: 121 | O12: … | P12: … | Q12: … | R12: … | S12: … | T12: … | U12: 102 | V12: … | W12: 2 | X12: 475 | Z12: 1962 | AA12: =D12 -> 309 | AB12: =I12 -> 79 | AC12: =J12 -> 99 | AD12: =K12 -> 7 | AE12: =L12 -> 18 | AF12: =N12 -> 121 | AG12: =AI12-SUM(AA12:AF12) -> 167 | AH12: =W12 -> 2 | AI12: =B12 -> 800
A13: 昭.38(1963) | B13: 872 | C13: 615 | D13: 330 | E13: 16 | F13: … | G13: 17 | H13: 19 | I13: 97 | J13: 100 | K13: 7 | L13: 22 | M13: 7 | N13: 134 | O13: … | P13: … | Q13: … | R13: … | S13: … | T13: … | U13: 120 | V13: … | W13: 3 | X13: 492 | Z13: 1963 | AA13: =D13 -> 330 | AB13: =I13 -> 97 | AC13: =J13 -> 100 | AD13: =K13 -> 7 | AE13: =L13 -> 22 | AF13: =N13 -> 134 | AG13: =AI13-SUM(AA13:AF13) -> 182 | AH13: =W13 -> 3 | AI13: =B13 -> 872
A14: 昭.39(1964) | B14: 953 | C14: 713 | D14: 368 | E14: 18 | F14: … | G14: 17 | H14: 11 | I14: 116 | J14: 141 | K14: 9 | L14: 26 | M14: 7 | N14: 144 | O14: 11 | P14: 49 | Q14: … | R14: 35 | S14: 40 | T14: … | U14: 93 | V14: 8 | W14: 3 | X14: 540 | Z14: 1964 | AA14: =D14 -> 368 | AB14: =I14 -> 116 | AC14: =J14 -> 141 | AD14: =K14 -> 9 | AE14: =L14 -> 26 | AF14: =N14 -> 144 | AG14: =AI14-SUM(AA14:AF14) -> 149 | AH14: =W14 -> 3 | AI14: =B14 -> 953
A15: 昭.40(1965) | B15: 954 | C15: 681 | D15: 369 | E15: 16 | F15: … | G15: 16 | H15: 13 | I15: 107 | J15: 115 | K15: 11 | L15: 26 | M15: 8 | N15: 163 | O15: 13 | P15: 53 | Q15: … | R15: 46 | S15: 39 | T15: … | U15: 108 | V15: 12 | W15: 1 | X15: 525 | Z15: 1965 | AA15: =D15 -> 369 | AB15: =I15 -> 107 | AC15: =J15 -> 115 | AD15: =K15 -> 11 | AE15: =L15 -> 26 | AF15: =N15 -> 163 | AG15: =AI15-SUM(AA15:AF15) -> 163 | AH15: =W15 -> 1 | AI15: =B15 -> 954
A16: 昭.41(1966) | B16: 1179 | C16: 834 | D16: 444 | E16: 15 | F16: … | G16: 19 | H16: 17 | I16: 146 | J16: 144 | K16: 12 | L16: 30 | M16: 7 | N16: 203 | O16: 20 | P16: 59 | Q16: … | R16: 60 | S16: 53 | T16: … | U16: 141 | V16: 11 | W16: 2 | X16: 685 | Z16: 1966 | AA16: =D16 -> 444 | AB16: =I16 -> 146 | AC16: =J16 -> 144 | AD16: =K16 -> 12 | AE16: =L16 -> 30 | AF16: =N16 -> 203 | AG16: =AI16-SUM(AA16:AF16) -> 200 | AH16: =W16 -> 2 | AI16: =B16 -> 1179
A17: 昭.42(1967) | B17: 1353 | C17: 952 | D17: 514 | E17: 12 | F17: … | G17: 15 | H17: 17 | I17: 189 | J17: 155 | K17: 14 | L17: 30 | M17: 7 | N17: 217 | O17: 16 | P17: 67 | Q17: 52 | R17: 67 | S17: 56 | T17: 37 | U17: 182 | V17: 10 | W17: 2 | X17: 776 | Z17: 1967 | AA17: =D17 -> 514 | AB17: =I17 -> 189 | AC17: =J17 -> 155 | AD17: =K17 -> 14 | AE17: =L17 -> 30 | AF17: =N17 -> 217 | AG17: =AI17-SUM(AA17:AF17) -> 234 | AH17: =W17 -> 2 | AI17: =B17 -> 1353
A18: 昭.43(1968) | B18: 1379 | C18: 972 | D18: 545 | E18: 11 | F18: … | G18: 16 | H18: 13 | I18: 194 | J18: 142 | K18: 15 | L18: 30 | M18: 7 | N18: 250 | O18: 19 | P18: 84 | Q18: 64 | R18: 76 | S18: 61 | T18: 39 | U18: 155 | V18: 9 | W18: 2 | X18: 750 | Z18: 1968 | AA18: =D18 -> 545 | AB18: =I18 -> 194 | AC18: =J18 -> 142 | AD18: =K18 -> 15 | AE18: =L18 -> 30 | AF18: =N18 -> 250 | AG18: =AI18-SUM(AA18:AF18) -> 203 | AH18: =W18 -> 2 | AI18: =B18 -> 1379
A19: 昭.44(1969) | B19: 1466 | C19: 1044 | D19: 520 | E19: 9 | F19: … | G19: 14 | H19: 21 | I19: 243 | J19: 171 | K19: 18 | L19: 31 | M19: 17 | N19: 280 | O19: 23 | P19: 96 | Q19: 77 | R19: 87 | S19: 68 | T19: 48 | U19: 139 | V19: 7 | W19: 3 | X19: 766 | Z19: 1969 | AA19: =D19 -> 520 | AB19: =I19 -> 243 | AC19: =J19 -> 171 | AD19: =K19 -> 18 | AE19: =L19 -> 31 | AF19: =N19 -> 280 | AG19: =AI19-SUM(AA19:AF19) -> 203 | AH19: =W19 -> 3 | AI19: =B19 -> 1466
A20: 昭.45(1970) | B20: 1544 | C20: 1082 | D20: 489 | E20: 6 | F20: … | G20: 12 | H20: 22 | I20: 290 | J20: 188 | K20: 27 | L20: 30 | M20: 19 | N20: 300 | O20: 31 | P20: 97 | Q20: 79 | R20: 98 | S20: 68 | T20: 47 | U20: 160 | V20: 6 | W20: 3 | X20: 760 | Z20: 1970 | AA20: =D20 -> 489 | AB20: =I20 -> 290 | AC20: =J20 -> 188 | AD20: =K20 -> 27 | AE20: =L20 -> 30 | AF20: =N20 -> 300 | AG20: =AI20-SUM(AA20:AF20) -> 220 | AH20: =W20 -> 3 | AI20: =B20 -> 1544
A21: 昭.46(1971) | B21: 1496 | C21: 1030 | D21: 441 | E21: 4 | F21: … | G21: 13 | H21: 20 | I21: 294 | J21: 177 | K21: 29 | L21: 31 | M21: 21 | N21: 337 | O21: 42 | P21: 106 | Q21: 86 | R21: 116 | S21: 68 | T21: 45 | U21: 127 | V21: 6 | W21: 2 | X21: 709 | Z21: 1971 | AA21: =D21 -> 441 | AB21: =I21 -> 294 | AC21: =J21 -> 177 | AD21: =K21 -> 29 | AE21: =L21 -> 31 | AF21: =N21 -> 337 | AG21: =AI21-SUM(AA21:AF21) -> 187 | AH21: =W21 -> 2 | AI21: =B21 -> 1496
A22: 昭.47(1972) | B22: 1649 | C22: 1145 | D22: 474 | E22: 3 | F22: … | G22: 12 | H22: 19 | I22: 346 | J22: 200 | K22: 35 | L22: 33 | M22: 23 | N22: 368 | O22: 50 | P22: 113 | Q22: 91 | R22: 124 | S22: 74 | T22: 45 | U22: 129 | V22: 8 | W22: 5 | X22: 889 | Z22: 1972 | AA22: =D22 -> 474 | AB22: =I22 -> 346 | AC22: =J22 -> 200 | AD22: =K22 -> 35 | AE22: =L22 -> 33 | AF22: =N22 -> 368 | AG22: =AI22-SUM(AA22:AF22) -> 193 | AH22: =W22 -> 5 | AI22: =B22 -> 1649
A23: 昭.48(1973) | B23: 2045 | C23: 1440 | D23: 575 | E23: 2 | F23: … | G23: 12 | H23: 25 | I23: 462 | J23: 251 | K23: 43 | L23: 39 | M23: 31 | N23: 412 | O23: 57 | P23: 133 | Q23: 100 | R23: 128 | S23: 85 | T23: 48 | U23: 188 | V23: 8 | W23: 6 | X23: 1129 | Z23: 1973 | AA23: =D23 -> 575 | AB23: =I23 -> 462 | AC23: =J23 -> 251 | AD23: =K23 -> 43 | AE23: =L23 -> 39 | AF23: =N23 -> 412 | AG23: =AI23-SUM(AA23:AF23) -> 263 | AH23: =W23 -> 6 | AI23: =B23 -> 2045
A24: 昭.49(1974) | B24: 2402 | C24: 1758 | D24: 695 | E24: 2 | F24: … | G24: 15 | H24: 30 | I24: 571 | J24: 294 | K24: 58 | L24: 54 | M24: 39 | N24: 500 | O24: 58 | P24: 149 | Q24: 126 | R24: 177 | S24: 107 | T24: 63 | U24: 139 | V24: 8 | W24: 6 | X24: 1267 | Z24: 1974 | AA24: =D24 -> 695 | AB24: =I24 -> 571 | AC24: =J24 -> 294 | AD24: =K24 -> 58 | AE24: =L24 -> 54 | AF24: =N24 -> 500 | AG24: =AI24-SUM(AA24:AF24) -> 230 | AH24: =W24 -> 6 | AI24: =B24 -> 2402
A25: 昭.50(1975) | B25: 3003 | C25: 2234 | D25: 941 | E25: 3 | F25: … | G25: 14 | H25: 28 | I25: 677 | J25: 399 | K25: 70 | L25: 62 | M25: 41 | N25: 618 | O25: 88 | P25: 193 | Q25: 157 | R25: 215 | S25: 114 | T25: 60 | U25: 143 | V25: 8 | W25: 8 | X25: 1735 | Z25: 1975 | AA25: =D25 -> 941 | AB25: =I25 -> 677 | AC25: =J25 -> 399 | AD25: =K25 -> 70 | AE25: =L25 -> 62 | AF25: =N25 -> 618 | AG25: =AI25-SUM(AA25:AF25) -> 236 | AH25: =W25 -> 8 | AI25: =B25 -> 3003
A26: 昭.51(1976) | B26: 3055 | C26: 2234 | D26: 864 | E26: 4 | F26: … | G26: 14 | H26: 29 | I26: 730 | J26: 409 | K26: 72 | L26: 69 | M26: 43 | N26: 660 | O26: 74 | P26: 214 | Q26: 179 | R26: 238 | S26: 128 | T26: 61 | U26: 151 | V26: 6 | W26: 10 | X26: 1697 | Z26: 1976 | AA26: =D26 -> 864 | AB26: =I26 -> 730 | AC26: =J26 -> 409 | AD26: =K26 -> 72 | AE26: =L26 -> 69 | AF26: =N26 -> 660 | AG26: =AI26-SUM(AA26:AF26) -> 251 | AH26: =W26 -> 10 | AI26: =B26 -> 3055
A27: 昭.52(1977) | B27: 3234 | C27: 2426 | D27: 1048 | E27: 4 | F27: … | G27: 17 | H27: 29 | I27: 659 | J27: 479 | K27: 78 | L27: 72 | M27: 41 | N27: 656 | O27: 94 | P27: 219 | Q27: 188 | R27: 224 | S27: 113 | T27: 56 | U27: 143 | V27: 5 | W27: 9 | X27: 1672 | Z27: 1977 | AA27: =D27 -> 1048 | AB27: =I27 -> 659 | AC27: =J27 -> 479 | AD27: =K27 -> 78 | AE27: =L27 -> 72 | AF27: =N27 -> 656 | AG27: =AI27-SUM(AA27:AF27) -> 242 | AH27: =W27 -> 9 | AI27: =B27 -> 3234
A28: 昭.53(1978) | B28: 3266 | C28: 2445 | D28: 939 | E28: 7 | F28: … | G28: 24 | H28: 26 | I28: 701 | J28: 536 | K28: 99 | L28: 73 | M28: 41 | N28: 652 | O28: 99 | P28: 243 | Q28: 207 | R28: 206 | S28: 97 | T28: 47 | U28: 159 | V28: 6 | W28: 9 | X28: 1780 | Z28: 1978 | AA28: =D28 -> 939 | AB28: =I28 -> 701 | AC28: =J28 -> 536 | AD28: =K28 -> 99 | AE28: =L28 -> 73 | AF28: =N28 -> 652 | AG28: =AI28-SUM(AA28:AF28) -> 266 | AH28: =W28 -> 9 | AI28: =B28 -> 3266
... A50: 平.12(2000) | B50: 2558 | C50: 2196 | D50: 596 | E50: 9 | F50: … | G50: 21 | H50: 18 | I50: 717 | J50: 579 | K50: 201 | L50: 13 | M50: 41 | N50: 333 | O50: 66 | P50: 152 | Q50: 142 | R50: 57 | S50: 52 | T50: 26 | U50: 1 | V50: 6 | W50: 28 | X50: 962 | Z50: 2000 | AA50: =D50 -> 596 | AB50: =I50 -> 717 | AC50: =J50 -> 579 | AD50: =K50 -> 201 | AE50: =L50 -> 13 | AF50: =N50 -> 333 | AG50: =AI50-SUM(AA50:AF50) -> 119 | AH50: =W50 -> 28 | AI50: =B50 -> 2558
A51: 平.13(2001) | B51: 2438 | C51: 2089 | D51: 581 | E51: 7 | F51: 5 | G51: 15 | H51: 19 | I51: 681 | J51: 529 | K51: 199 | L51: 12 | M51: 40 | N51: 324 | O51: 60 | P51: 147 | Q51: 137 | R51: 60 | S51: 50 | T51: 23 | U51: 1 | V51: 6 | W51: 25 | X51: 919 | Z51: 2001 | AA51: =D51 -> 581 | AB51: =I51 -> 681 | AC51: =J51 -> 529 | AD51: =K51 -> 199 | AE51: =L51 -> 12 | AF51: =N51 -> 324 | AG51: =AI51-SUM(AA51:AF51) -> 112 | AH51: =W51 -> 25 | AI51: =B51 -> 2438
A52: 平.14(2002) | B52: 2501 | C52: 2145 | D52: 566 | E52: 12 | F52: 6 | G52: 14 | H52: 16 | I52: 745 | J52: 536 | K52: 200 | L52: 11 | M52: 39 | N52: 329 | O52: 70 | P52: 139 | Q52: 130 | R52: 60 | S52: 53 | T52: 24 | U52: … | V52: 6 | W52: 26 | X52: 949 | Z52: 2002 | AA52: =D52 -> 566 | AB52: =I52 -> 745 | AC52: =J52 -> 536 | AD52: =K52 -> 200 | AE52: =L52 -> 11 | AF52: =N52 -> 329 | AG52: =AI52-SUM(AA52:AF52) -> 114 | AH52: =W52 -> 26 | AI52: =B52 -> 2501
A53: 平.15(2003) | B53: 2425 | C53: 2083 | D53: 583 | E53: 11 | F53: 6 | G53: 14 | H53: 19 | I53: 696 | J53: 521 | K53: 187 | L53: 10 | M53: 36 | N53: 316 | O53: 65 | P53: 136 | Q53: 126 | R53: 60 | S53: 49 | T53: 21 | U53: … | V53: 7 | W53: 26 | X53: 990 | Z53: 2003 | AA53: =D53 -> 583 | AB53: =I53 -> 696 | AC53: =J53 -> 521 | AD53: =K53 -> 187 | AE53: =L53 -> 10 | AF53: =N53 -> 316 | AG53: =AI53-SUM(AA53:AF53) -> 112 | AH53: =W53 -> 26 | AI53: =B53 -> 2425
A54: 平.16(2004) | B54: 2405 | C54: 2051 | D54: 545 | E54: 9 | F54: 7 | G54: 18 | H54: 17 | I54: 724 | J54: 498 | K54: 190 | L54: 9 | M54: 34 | N54: 327 | O54: 70 | P54: 136 | Q54: 126 | R54: 65 | S54: 50 | T54: 23 | U54: … | V54: 6 | W54: 27 | X54: 904 | Z54: 2004 | AA54: =D54 -> 545 | AB54: =I54 -> 724 | AC54: =J54 -> 498 | AD54: =K54 -> 190 | AE54: =L54 -> 9 | AF54: =N54 -> 327 | AG54: =AI54-SUM(AA54:AF54) -> 112 | AH54: =W54 -> 27 | AI54: =B54 -> 2405
A55: 平.17(2005) | B55: 2296 | C55: 1944 | D55: 536 | E55: 9 | F55: 7 | G55: 15 | H55: 17 | I55: 609 | J55: 524 | K55: 185 | L55: 8 | M55: 34 | N55: 328 | O55: 74 | P55: 129 | Q55: 119 | R55: 65 | S55: 54 | T55: 26 | U55: … | V55: 6 | W55: 24 | X55: 835 | Z55: 2005 | AA55: =D55 -> 536 | AB55: =I55 -> 609 | AC55: =J55 -> 524 | AD55: =K55 -> 185 | AE55: =L55 -> 8 | AF55: =N55 -> 328 | AG55: =AI55-SUM(AA55:AF55) -> 106 | AH55: =W55 -> 24 | AI55: =B55 -> 2296
A56: 平.18(2006) | B56: 2322 | C56: 1983 | D56: 491 | E56: 12 | F56: 8 | G56: 14 | H56: 18 | I56: 671 | J56: 532 | K56: 198 | L56: 7 | M56: 33 | N56: 311 | O56: 71 | P56: 127 | Q56: 115 | R56: 56 | S56: 50 | T56: 24 | U56: … | V56: 6 | W56: 28 | X56: 831 | Z56: 2006 | AA56: =D56 -> 491 | AB56: =I56 -> 671 | AC56: =J56 -> 532 | AD56: =K56 -> 198 | AE56: =L56 -> 7 | AF56: =N56 -> 311 | AG56: =AI56-SUM(AA56:AF56) -> 112 | AH56: =W56 -> 28 | AI56: =B56 -> 2322
A57: 平.19(2007) | B57: 2307 | C57: 1966 | D57: 465 | E57: 5 | F57: 6 | G57: 10 | H57: 14 | I57: 726 | J57: 535 | K57: 174 | L57: 7 | M57: 24 | N57: 312 | O57: 71 | P57: 124 | Q57: 113 | R57: 56 | S57: 55 | T57: 22 | U57: … | V57: 6 | W57: 28 | X57: 898 | Z57: 2007 | AA57: =D57 -> 465 | AB57: =I57 -> 726 | AC57: =J57 -> 535 | AD57: =K57 -> 174 | AE57: =L57 -> 7 | AF57: =N57 -> 312 | AG57: =AI57-SUM(AA57:AF57) -> 88 | AH57: =W57 -> 28 | AI57: =B57 -> 2307
A58: 平.20(2008) | B58: 2238 | C58: 1891 | D58: 490 | E58: 6 | F58: 6 | G58: 8 | H58: 16 | I58: 687 | J58: 490 | K58: 159 | L58: 6 | M58: 23 | N58: 319 | O58: 75 | P58: 120 | Q58: 110 | R58: 56 | S58: 61 | T58: 24 | U58: … | V58: 6 | W58: 28 | X58: 657 | Z58: 2008 | AA58: =D58 -> 490 | AB58: =I58 -> 687 | AC58: =J58 -> 490 | AD58: =K58 -> 159 | AE58: =L58 -> 6 | AF58: =N58 -> 319 | AG58: =AI58-SUM(AA58:AF58) -> 87 | AH58: =W58 -> 28 | AI58: =B58 -> 2238
A59: 平.21(2009) | B59: 2130 | C59: 1812 | D59: 456 | E59: 6 | F59: 6 | G59: 6 | H59: 18 | I59: 682 | J59: 449 | K59: 157 | L59: 5 | M59: 27 | N59: 290 | O59: 73 | P59: 122 | Q59: 114 | R59: 47 | S59: 43 | T59: 20 | U59: … | V59: 6 | W59: 27 | X59: 626 | Z59: 2009 | AA59: =D59 -> 456 | AB59: =I59 -> 682 | AC59: =J59 -> 449 | AD59: =K59 -> 157 | AE59: =L59 -> 5 | AF59: =N59 -> 290 | AG59: =AI59-SUM(AA59:AF59) -> 91 | AH59: =W59 -> 27 | AI59: =B59 -> 2130
A60: 平.22(2010) | B60: 2243 | C60: 1925 | D60: 428 | E60: 5 | F60: 8 | G60: 6 | H60: 16 | I60: 785 | J60: 485 | K60: 161 | L60: 4 | M60: 27 | N60: 288 | O60: 72 | P60: 117 | Q60: 110 | R60: 48 | S60: 44 | T60: 20 | U60: … | V60: 6 | W60: 30 | X60: 658 | Z60: 2010 | AA60: =D60 -> 428 | AB60: =I60 -> 785 | AC60: =J60 -> 485 | AD60: =K60 -> 161 | AE60: =L60 -> 4 | AF60: =N60 -> 288 | AG60: =AI60-SUM(AA60:AF60) -> 92 | AH60: =W60 -> 30 | AI60: =B60 -> 2243
A61: 平.23(2011) | B61: 2268 | C61: 1959 | D61: 490 | E61: 3 | F61: 5 | G61: 6 | H61: 12 | I61: 770 | J61: 482 | K61: 156 | L61: 4 | M61: 31 | N61: 277 | O61: 67 | P61: 114 | Q61: 107 | R61: 49 | S61: 42 | T61: 20 | U61: … | V61: 5 | W61: 31 | X61: 667 | Z61: 2011 | AA61: =D61 -> 490 | AB61: =I61 -> 770 | AC61: =J61 -> 482 | AD61: =K61 -> 156 | AE61: =L61 -> 4 | AF61: =N61 -> 277 | AG61: =AI61-SUM(AA61:AF61) -> 89 | AH61: =W61 -> 31 | AI61: =B61 -> 2268
A62: 平.24(2012) | B62: 2277 | C62: 1971 | D62: 513 | E62: 4 | F62: 6 | G62: 6 | H62: 11 | I62: 682 | J62: 560 | K62: 153 | L62: 3 | M62: 33 | N62: 274 | O62: 70 | P62: 113 | Q62: 106 | R62: 46 | S62: 40 | T62: 18 | U62: … | V62: 6 | W62: 33 | X62: 733 | Z62: 2012 | AA62: =D62 -> 513 | AB62: =I62 -> 682 | AC62: =J62 -> 560 | AD62: =K62 -> 153 | AE62: =L62 -> 3 | AF62: =N62 -> 274 | AG62: =AI62-SUM(AA62:AF62) -> 92 | AH62: =W62 -> 33 | AI62: =B62 -> 2277
...

Sheet 全国
A1: 生産農業所得統計
A2: 全国推計統計表累年統計
A3: 年次別農業総産出額及び生産農業所得
A4: 全国 | D4: ※ | F4: の塗りつぶしは前年より減少
A5: 年 次 | B5: 農業総 産出額 | C5: 耕 種 | Q5: 畜 産 | AA5: 加 工 農産物 | AB5: 生 産 農 業 所 得 | AC5: （参考） 農業総産出額に占める生産農業所得の割合
C6: 計 | D6: 米 | E6: 麦 類 | F6: 雑 穀 | G6: 豆 類 | H6: いも類 | I6: 野 菜 | M6: 果 実 | N6: 花 き | O6: 工 芸 農作物 | P6: その他 作物 | Q6: 計 | R6: 肉用牛 | S6: 乳用牛 | U6: 豚 | V6: 鶏 | Y6: 養 蚕 | Z6: その他 畜産物
I7: 小 計 | J7: 果菜類 | K7: 葉茎 菜類 | L7: 根菜類 | T7: 生 乳 | W7: 鶏 卵 | X7: ブロイ ラ ー
B9: 億円 | C9: 億円 | D9: 億円 | E9: 億円 | F9: 億円 | G9: 億円 | H9: 億円 | I9: 億円 | J9: 億円 | K9: 億円 | L9: 億円 | M9: 億円 | N9: 億円 | O9: 億円 | P9: 億円 | Q9: 億円 | R9: 億円 | S9: 億円 | T9: 億円 | U9: 億円 | V9: 億円 | W9: 億円 | X9: 億円 | Y9: 億円 | Z9: 億円 | AA9: 億円 | AB9: 億円 | AC9: ％
A10: 昭.30(1955) | B10: 16617 | C10: 14062 | D10: 8634 | E10: 1155 | F10: 123 | G10: 501 | H10: 639 | I10: 1191 | J10: 422 | K10: 350 | L10: 419 | M10: 662 | N10: 79 | O10: 850 | P10: 228 | Q10: 2322 | R10: 314 | S10: 333 | T10: 255 | U10: 247 | V10: 855 | W10: 764 | X10: 15 | Y10: 466 | Z10: 107 | AA10: 233 | AB10: 11411 | AC10: 68.7
A11: 昭.31(1956) | B11: 15505 | C11: 12705 | D11: 7288 | E11: 1023 | F11: 82 | G11: 472 | H11: 558 | I11: 1333 | J11: 454 | K11: 430 | L11: 449 | M11: 750 | N11: 72 | O11: 892 | P11: 235 | Q11: 2589 | R11: 375 | S11: 409 | T11: 320 | U11: 321 | V11: 919 | W11: 828 | X11: 15 | Y11: 454 | Z11: 111 | AA11: 211 | AB11: 10075 | AC11: 65
A12: 昭.32(1957) | B12: 16775 | C12: 13921 | D12: 8189 | E12: 998 | F12: 120 | G12: 526 | H12: 671 | I12: 1355 | J12: 537 | K12: 393 | L12: 425 | M12: 892 | N12: 79 | O12: 842 | P12: 249 | Q12: 2623 | R12: 324 | S12: 469 | T12: 362 | U12: 338 | V12: 898 | W12: 841 | X12: 9 | Y12: 473 | Z12: 121 | AA12: 231 | AB12: 11107 | AC12: 66.2
A13: 昭.33(1958) | B13: 17010 | C13: 14088 | D13: 8383 | E13: 952 | F13: 99 | G13: 485 | H13: 622 | I13: 1503 | J13: 535 | K13: 523 | L13: 445 | M13: 912 | N13: 80 | O13: 808 | P13: 244 | Q13: 2688 | R13: 313 | S13: 494 | T13: 377 | U13: 381 | V13: 997 | W13: 892 | X13: 17 | Y13: 395 | Z13: 108 | AA13: 234 | AB13: 11308 | AC13: 66.5
A14: 昭.34(1959) | B14: 17895 | C14: 14601 | D14: 8827 | E14: 1081 | F14: 78 | G14: 515 | H14: 593 | I14: 1423 | J14: 517 | K14: 420 | L14: 486 | M14: 927 | N14: 83 | O14: 803 | P14: 271 | Q14: 3052 | R14: 396 | S14: 527 | T14: 408 | U14: 502 | V14: 1064 | W14: 955 | X14: 17 | Y14: 462 | Z14: 101 | AA14: 242 | AB14: 11902 | AC14: 66.5
A15: 昭.35(1960) | B15: 19148 | C15: 15415 | D15: 9074 | E15: 1060 | F15: 113 | G15: 487 | H15: 577 | I15: 1741 | J15: 701 | K15: 498 | L15: 542 | M15: 1154 | N15: 87 | O15: 819 | P15: 303 | Q15: 3477 | R15: 375 | S15: 635 | T15: 486 | U15: 559 | V15: 1205 | W15: 1063 | X15: 29 | Y15: 564 | Z15: 139 | AA15: 256 | AB15: 12387 | AC15: 64.7
A16: 昭.36(1961) | B16: 21081 | C16: 16484 | D16: 9167 | E16: 1079 | F16: 62 | G16: 482 | H16: 618 | I16: 2331 | J16: 840 | K16: 745 | L16: 746 | M16: 1354 | N16: 93 | O16: 975 | P16: 323 | Q16: 4333 | R16: 460 | S16: 837 | T16: 627 | U16: 636 | V16: 1642 | W16: 1429 | X16: 73 | Y16: 602 | Z16: 156 | AA16: 264 | AB16: 13292 | AC16: 63.1
A17: 昭.37(1962) | B17: 24381 | C17: 18909 | D17: 10679 | E17: 946 | F17: 67 | G17: 446 | H17: 727 | I17: 2742 | J17: 1105 | K17: 840 | L17: 797 | M17: 1626 | N17: 107 | O17: 1163 | P17: 406 | Q17: 5191 | R17: 520 | S17: 1034 | T17: 796 | U17: 827 | V17: 1968 | W17: 1704 | X17: 93 | Y17: 672 | Z17: 170 | AA17: 281 | AB17: 15204 | AC17: 62.4
A18: 昭.38(1963) | B18: 25760 | C18: 19535 | D18: 11353 | E18: 341 | F18: 79 | G18: 511 | H18: 847 | I18: 2905 | J18: 1176 | K18: 827 | L18: 902 | M18: 1694 | N18: 126 | O18: 1243 | P18: 436 | Q18: 5960 | R18: 576 | S18: 1129 | T18: 904 | U18: 1068 | V18: 2199 | W18: 1843 | X18: 179 | Y18: 810 | Z18: 178 | AA18: 265 | AB18: 15572 | AC18: 60.5
A19: 昭.39(1964) | B19: 28761 | C19: 22235 | D19: 12700 | E19: 837 | F19: 56 | G19: 408 | H19: 715 | I19: 3540 | J19: 1339 | K19: 1137 | L19: 1064 | M19: 1797 | N19: 154 | O19: 1490 | P19: 538 | Q19: 6268 | R19: 724 | S19: 1289 | T19: 1050 | U19: 1106 | V19: 2326 | W19: 1906 | X19: 236 | Y19: 629 | Z19: 194 | AA19: 258 | AB19: 16980 | AC19: 59
A20: 昭.40(1965) | B20: 31769 | C20: 24161 | D20: 13691 | E20: 940 | F20: 59 | G20: 518 | H20: 793 | I20: 3744 | J20: 1595 | K20: 1076 | L20: 1073 | M20: 2100 | N20: 192 | O20: 1534 | P20: 590 | Q20: 7355 | R20: 754 | S20: 1461 | T20: 1169 | U20: 1412 | V20: 2759 | W20: 2270 | X20: 282 | Y20: 727 | Z20: 242 | AA20: 253 | AB20: 18982 | AC20: 59.8
A21: 昭.41(1966) | B21: 35713 | C21: 27050 | D21: 15346 | E21: 869 | F21: 59 | G21: 466 | H21: 852 | I21: 4410 | J21: 1913 | K21: 1373 | L21: 1124 | M21: 2432 | N21: 224 | O21: 1771 | P21: 621 | Q21: 8400 | R21: 692 | S21: 1714 | T21: 1341 | U21: 1874 | V21: 2913 | W21: 2285 | X21: 420 | Y21: 976 | Z21: 231 | AA21: 263 | AB21: 21349 | AC21: 59.8
... A57: 平.14(2002) | B57: 89297 | C57: 63908 | D57: 21720 | E57: 1513 | F57: 69 | G57: 991 | H57: 1928 | I57: 21514 | J57: 9848 | K57: 8238 | L57: 3427 | M57: 7489 | N57: 4471 | O57: 3277 | P57: 936 | Q57: 24783 | R57: 4662 | S57: 7779 | T57: 6836 | U57: 5168 | V57: 6532 | W57: 3944 | X57: 2541 | Y57: 16 | Z57: 627 | AA57: 605 | AB57: 35232 | AC57: 39.5
A58: 平.15(2003) | B58: 88565 | C58: 64602 | D58: 23416 | E58: 1506 | F58: 85 | G58: 1011 | H58: 2051 | I58: 20970 | J58: 9517 | K58: 8157 | L58: 3296 | M58: 7141 | N58: 4256 | O58: 3260 | P58: 906 | Q58: 23289 | R58: 4001 | S58: 7978 | T58: 6942 | U58: 4671 | V58: 6015 | W58: 3454 | X58: 2519 | Y58: … | Z58: 623 | AA58: 674 | AB58: 36528 | AC58: 41.2
A59: 平.16(2004) | B59: 87136 | C59: 61832 | D59: 19910 | E59: 1488 | F59: 76 | G59: 928 | H59: 1981 | I59: 21427 | J59: 9485 | K59: 8608 | L59: 3333 | M59: 7627 | N59: 4156 | O59: 3378 | P59: 861 | Q59: 24580 | R59: 4455 | S59: 7958 | T59: 6875 | U59: 5186 | V59: 6354 | W59: 3866 | X59: 2444 | Y59: … | Z59: 627 | AA59: 725 | AB59: 33887 | AC59: 38.9
A60: 平.17(2005) | B60: 85119 | C60: 59396 | D60: 19469 | E60: 1537 | F60: 93 | G60: 768 | H60: 2016 | I60: 20327 | J60: 9081 | K60: 8193 | L60: 3053 | M60: 7274 | N60: 4043 | O60: 3027 | P60: 842 | Q60: 25057 | R60: 4730 | S60: 7834 | T60: 6759 | U60: 4987 | V60: 6889 | W60: 4346 | X60: 2496 | Y60: … | Z60: 619 | AA60: 666 | AB60: 32030 | AC60: 37.6
A61: 平.18(2006) | B61: 83322 | C61: 58179 | D61: 18147 | E61: 1454 | F61: 98 | G61: 730 | H61: 2027 | I61: 20508 | J61: 9474 | K61: 8008 | L61: 3027 | M61: 7727 | N61: 3991 | O61: 2673 | P61: 824 | Q61: 24525 | R61: 4781 | S61: 7483 | T61: 6486 | U61: 4980 | V61: 6583 | W61: 4010 | X61: 2530 | Y61: … | Z61: 698 | AA61: 618 | AB61: 30803 | AC61: 37
A62: 平.19(2007) | B62: 82585 | C62: 57196 | D62: 17903 | E62: 732 | F62: 87 | G62: 644 | H62: 1919 | I62: 20893 | J62: 9451 | K62: 8334 | L62: 3108 | M62: 7557 | N62: 4051 | O62: 2614 | P62: 796 | Q62: 24787 | R62: 4847 | S62: 7311 | T62: 6363 | U62: 5233 | V62: 6755 | W62: 4019 | X62: 2692 | Y62: … | Z62: 641 | AA62: 603 | AB62: 30207 | AC62: 36.6
A63: 平.20(2008) | B63: 84662 | C63: 58204 | D63: 19014 | E63: 754 | F63: 75 | G63: 778 | H63: 2031 | I63: 21105 | J63: 9311 | K63: 8482 | L63: 3311 | M63: 7410 | N63: 3656 | O63: 2649 | P63: 732 | Q63: 25852 | R63: 4591 | S63: 7480 | T63: 6598 | U63: 5786 | V63: 7444 | W63: 4501 | X63: 2890 | Y63: … | Z63: 551 | AA63: 606 | AB63: 27604 | AC63: 32.6
A64: 平.21(2009) | B64: 81902 | C64: 55899 | D64: 17950 | E64: 649 | F64: 66 | G64: 688 | H64: 2070 | I64: 20850 | J64: 9081 | K64: 8641 | L64: 3129 | M64: 6984 | N64: 3506 | O64: 2434 | P64: 702 | Q64: 25466 | R64: 4819 | S64: 7906 | T64: 7027 | U64: 5120 | V64: 7086 | W64: 4207 | X64: 2829 | Y64: … | Z64: 535 | AA64: 537 | AB64: 25946 | AC64: 31.7
A65: 平.22(2010) | B65: 81214 | C65: 55127 | D65: 15517 | E65: 469 | F65: 99 | G65: 619 | H65: 2071 | I65: 22485 | J65: 9404 | K65: 9585 | L65: 3496 | M65: 7497 | N65: 3512 | O65: 2143 | P65: 715 | Q65: 25525 | R65: 4639 | S65: 7725 | T65: 6747 | U65: 5291 | V65: 7352 | W65: 4419 | X65: 2877 | Y65: … | Z65: 518 | AA65: 562 | AB65: 28395 | AC65: 35
A66: 平.23(2011) | B66: 82463 | C66: 56394 | D66: 18497 | E66: 370 | F66: 69 | G66: 571 | H66: 2045 | I66: 21343 | J66: 9220 | K66: 8768 | L66: 3355 | M66: 7430 | N66: 3377 | O66: 1983 | P66: 709 | Q66: 25509 | R66: 4625 | S66: 7506 | T66: 6579 | U66: 5359 | V66: 7530 | W66: 4505 | X66: 2859 | Y66: … | Z66: 489 | AA66: 560 | AB66: 27800 | AC66: 33.7
A67: 平.24(2012) | B67: 85251 | C67: 58790 | D67: 20286 | E67: 440 | F67: 65 | G67: 658 | H67: 1842 | I67: 21896 | J67: 9485 | K67: 9060 | L67: 3351 | M67: 7471 | N67: 3451 | O67: 1962 | P67: 719 | Q67: 25880 | R67: 5033 | S67: 7746 | T67: 6874 | U67: 5367 | V67: 7239 | W67: 4204 | X67: 2857 | Y67: … | Z67: 496 | AA67: 581 | AB67: 29541 | AC67: 34.7
A68: 平.25(2013) | B68: 84668 | C68: 57031 | D68: 17807 | E68: 410 | F68: 48 | G68: 641 | H68: 1985 | I68: 22533 | J68: 9615 | K68: 9467 | L68: 3451 | M68: 7588 | N68: 3485 | O68: 1849 | P68: 687 | Q68: 27092 | R68: 5189 | S68: 7780 | T68: 6824 | U68: 5746 | V68: 7842 | W68: 4638 | X68: 3018 | Y68: … | Z68: 536 | AA68: 545 | AB68: 29412 | AC68: 34.7
A69: 平.26(2014) | B69: 83639 | C69: 53632 | D69: 14343 | E69: 384 | F69: 60 | G69: 749 | H69: 2075 | I69: 22421 | J69: 9437 | K69: 9576 | L69: 3407 | M69: 7628 | N69: 3437 | O69: 1889 | P69: 646 | Q69: 29448 | R69: 5940 | S69: 8051 | T69: 6967 | U69: 6331 | V69: 8530 | W69: 5109 | X69: 3254 | Y69: … | Z69: 595 | AA69: 559 | AB69: 28319 | AC69: 33.9
... A78: 令.５(2023) | B78: 94952 | C78: 57227 | D78: 15193 | E78: 678 | F78: 77 | G78: 572 | H78: 2301 | I78: 23243 | J78: 10428 | K78: 9664 | L78: 3151 | M78: 9590 | N78: 3522 | O78: 1467 | P78: 585 | Q78: 37212 | R78: 7696 | S78: 9249 | T78: 8310 | U78: 7194 | V78: 12033 | W78: 7413 | X78: 4471 | Y78: … | Z78: 1041 | AA78: 513 | AB78: 32921 | AC78: 34.7
B79: （注記）
B80: １．昭和50年以前については、沖縄県を含まない。
B81: ２．平成14年３月の日本標準産業分類の改定により、もやしが農業に分類されたことから、13年よりもやしを含めた。
B82: ３．養蚕は、平成16年からその他畜産物に含めることとした。このため、平成15年についても遡及してその他畜産物に養蚕を含めている。
B84: *令和7年５月23日修正（全国・茨城）
B85: ※ | D85: の塗りつぶしは前年より減少

Sheet 都道府県ア（実額）
A2: (2) 都道府県別農業産出額及び生産農業所得
A3: ア 実額
D5: 10位以内
C6: 農業産出額 | AW6: 生産農業所得 | AY6: 参考１ | AZ6: 参考２
C7: 計 | E7: 耕種 | AC7: 畜産 | AU7: 加工農産物 | AY7: 農業産出額に占める生産農業所得の割合 | AZ7: 栽培きのこ類（林業）を含めた農業産出額
E8: 小計 | G8: 米 | I8: 麦類 | K8: 雑穀 | M8: 豆類 | O8: いも類 | Q8: 野菜 | S8: 果実 | U8: 花き | W8: 工芸農作物 | AA8: その他作物 | AC8: 小計 | AE8: 肉用牛 | AG8: 乳用牛 | AK8: 豚 | AM8: 鶏 | AS8: その他畜産物
A9: 都道府県
Y10: 茶 | AI10: 生乳 | AO10: 鶏卵 | AQ10: ブロイラー
C12: 産出額 ①＋②＋③ | D12: 順位 | E12: 産出額 ① | F12: 順位 | G12: 産出額 | H12: 順位 | I12: 産出額 | J12: 順位 | K12: 産出額 | L12: 順位 | M12: 産出額 | N12: 順位 | O12: 産出額 | P12: 順位 | Q12: 産出額 | R12: 順位 | S12: 産出額 | T12: 順位 | U12: 産出額 | V12: 順位 | W12: 産出額 | X12: 順位 | Y12: 産出額 | Z12: 順位 | AA12: 産出額 | AB12: 順位 | AC12: 産出額 ② | AD12: 順位 | AE12: 産出額 | AF12: 順位 | AG12: 産出額 | AH12: 順位 | AI12: 産出額 | AJ12: 順位 | AK12: 産出額 | AL12: 順位 | AM12: 産出額 | AN12: 順位 | AO12: 産出額 | AP12: 順位 | AQ12: 産出額 | AR12: 順位 | AS12: 産出額 | AT12: 順位 | AU12: 産出額 ③ | AV12: 順位 | AW12: 生産農業所得 | AX12: 順位
C13: (1) | D13: (2) | E13: (3) | F13: (4) | G13: (5) | H13: (6) | I13: (7) | J13: (8) | K13: (9) | L13: (10) | M13: (11) | N13: (12) | O13: (13) | P13: (14) | Q13: (15) | R13: (16) | S13: (17) | T13: (18) | U13: (19) | V13: (20) | W13: (21) | X13: (22) | Y13: (23) | Z13: (24) | AA13: (25) | AB13: (26) | AC13: (27) | AD13: (28) | AE13: (29) | AF13: (30) | AG13: (31) | AH13: (32) | AI13: (33) | AJ13: (34) | AK13: (35) | AL13: (36) | AM13: (37) | AN13: (38) | AO13: (39) | AP13: (40) | AQ13: (41) | AR13: (42) | AS13: (43) | AT13: (44) | AU13: (45) | AV13: (46) | AW13: (47) | AX13: (48) | AY13: (49) | AZ13: (50)
C14: 億円 | E14: 億円 | G14: 億円 | I14: 億円 | K14: 億円 | M14: 億円 | O14: 億円 | Q14: 億円 | S14: 億円 | U14: 億円 | W14: 億円 | Y14: 億円 | AA14: 億円 | AC14: 億円 | AE14: 億円 | AG14: 億円 | AI14: 億円 | AK14: 億円 | AM14: 億円 | AO14: 億円 | AQ14: 億円 | AS14: 億円 | AU14: 億円 | AW14: 億円 | AY14: ％ | AZ14: 億円
A15: 北海道 | B15: (1) | C15: 13478 | D15: 1 | E15: 5641 | F15: 1 | G15: 1149 | H15: 2 | I15: 408 | J15: 1 | K15: 27 | L15: 1 | M15: 293 | N15: 1 | O15: 591 | P15: 1 | Q15: 2489 | R15: 1 | S15: 96 | T15: 23 | U15: 117 | V15: 10 | W15: 417 | X15: 1 | Y15: - | Z15: - | AA15: 55 | AB15: 2 | AC15: 7837 | AD15: 1 | AE15: 1224 | AF15: 1 | AG15: 4781 | AH15: 1 | AI15: 4341 | AJ15: 1 | AK15: 608 | AL15: 2 | AM15: 426 | AN15: 8 | AO15: 264 | AP15: 14 | AQ15: 161 | AR15: 5 | AS15: 798 | AT15: 1 | AU15: - | AV15: - | AW15: 5167 | AX15: 1 | AY15: 38.3 | AZ15: 13555 | BA15: (1)
A16: 青森 | B16: (2) | C16: 3466 | D16: 7 | E16: 2376 | F16: 5 | G16: 511 | H16: 11 | I16: x | J16: - | K16: 1 | L16: 10 | M16: 14 | N16: 8 | O16: 12 | P16: 19 | Q16: 687 | R16: 13 | S16: 1096 | T16: 1 | U16: 19 | V16: 40 | W16: 17 | X16: 14 | Y16: x | Z16: - | AA16: x | AB16: - | AC16: 1090 | AD16: 10 | AE16: 165 | AF16: 13 | AG16: 91 | AH16: 17 | AI16: 87 | AJ16: 16 | AK16: 307 | AL16: 8 | AM16: 515 | AN16: 6 | AO16: 264 | AP16: 13 | AQ16: 233 | AR16: 4 | AS16: 11 | AT16: 7 | AU16: 0 | AV16: 44 | AW16: 1226 | AX16: 6 | AY16: 35.4 | AZ16: 3469 | BA16: (2)
A17: 岩手 | B17: (3) | C17: 2975 | D17: 9 | E17: 1000 | F17: 23 | G17: 527 | H17: 10 | I17: x | J17: - | K17: 3 | L17: 8 | M17: 7 | N17: 14 | O17: 3 | P17: 43 | Q17: 255 | R17: 30 | S17: 126 | T17: 19 | U17: 44 | V17: 23 | W17: 25 | X17: 12 | Y17: x | Z17: - | AA17: x | AB17: - | AC17: 1975 | AD17: 4 | AE17: 249 | AF17: 8 | AG17: 255 | AH17: 5 | AI17: 245 | AJ17: 4 | AK17: 388 | AL17: 7 | AM17: 1073 | AN17: 2 | AO17: 249 | AP17: 15 | AQ17: 778 | AR17: 3 | AS17: 10 | AT17: 8 | AU17: 0 | AV17: 40 | AW17: 884 | AX17: 13 | AY17: 29.7 | AZ17: 3013 | BA17: (3)
A18: 宮城 | B18: (4) | C18: 1924 | D18: 18 | E18: 1089 | F18: 20 | G18: 731 | H18: 5 | I18: x | J18: - | K18: 0 | L18: 23 | M18: 26 | N18: 3 | O18: 6 | P18: 33 | Q18: 274 | R18: 29 | S18: 19 | T18: 45 | U18: 25 | V18: 38 | W18: 1 | X18: 43 | Y18: 0 | Z18: 33 | AA18: x | AB18: - | AC18: 833 | AD18: 13 | AE18: 253 | AF18: 5 | AG18: 129 | AH18: 10 | AI18: 125 | AJ18: 10 | AK18: 140 | AL18: 16 | AM18: 309 | AN18: 16 | AO18: 231 | AP18: 16 | AQ18: 64 | AR18: 13 | AS18: 1 | AT18: 30 | AU18: 2 | AV18: 25 | AW18: 642 | AX18: 18 | AY18: 33.4 | AZ18: 1961 | BA18: (4)
A19: 秋田 | B19: (5) | C19: 1779 | D19: 19 | E19: 1368 | F19: 15 | G19: 938 | H19: 3 | I19: 0 | J19: 24 | K19: 2 | L19: 9 | M19: 10 | N19: 10 | O19: 8 | P19: 26 | Q19: 298 | R19: 27 | S19: 81 | T19: 29 | U19: 22 | V19: 39 | W19: 3 | X19: 28 | Y19: x | Z19: - | AA19: 6 | AB19: 26 | AC19: 411 | AD19: 25 | AE19: 58 | AF19: 32 | AG19: 27 | AH19: 36 | AI19: 26 | AJ19: 36 | AK19: 192 | AL19: 12 | AM19: 130 | AN19: 27 | AO19: 117 | AP19: 23 | AQ19: - | AR19: - | AS19: 4 | AT19: 13 | AU19: 0 | AV19: 41 | AW19: 526 | AX19: 23 | AY19: 29.6 | AZ19: 1818 | BA19: (5)
A20: 山形 | B20: (6) | C20: 2441 | D20: 13 | E20: 1998 | F20: 8 | G20: 739 | H20: 4 | I20: x | J20: - | K20: 5 | L20: 5 | M20: 9 | N20: 12 | O20: 3 | P20: 44 | Q20: 418 | R20: 19 | S20: 743 | T20: 5 | U20: 70 | V20: 17 | W20: 2 | X20: 31 | Y20: x | Z20: - | AA20: x | AB20: - | AC20: 441 | AD20: 24 | AE20: 155 | AF20: 15 | AG20: 81 | AH20: 21 | AI20: 76 | AJ20: 20 | AK20: 157 | AL20: 13 | AM20: 46 | AN20: 39 | AO20: 26 | AP20: 39 | AQ20: 20 | AR20: 28 | AS20: 3 | AT20: 19 | AU20: 2 | AV20: 24 | AW20: 840 | AX20: 14 | AY20: 34.4 | AZ20: 2480 | BA20: (6)
A21: 福島 | B21: (7) | C21: 2163 | D21: 16 | E21: 1607 | F21: 12 | G21: 687 | H21: 7 | I21: 1 | J21: 23 | K21: 3 | L21: 7 | M21: 3 | N21: 24 | O21: 16 | P21: 14 | Q21: 480 | R21: 16 | S21: 317 | T21: 8 | U21: 83 | V21: 13 | W21: 7 | X21: 19 | Y21: x | Z21: - | AA21: 11 | AB21: 14 | AC21: 542 | AD21: 19 | AE21: 128 | AF21: 17 | AG21: 80 | AH21: 23 | AI21: 75 | AJ21: 22 | AK21: 100 | AL21: 21 | AM21: 232 | AN21: 21 | AO21: 197 | AP21: 17 | AQ21: 16 | AR21: 29 | AS21: 2 | AT21: 24 | AU21: 14 | AV21: 9 | AW21: 742 | AX21: 16 | AY21: 34.3 | AZ21: 2202 | BA21: (7)
A22: 茨城 | B22: (8) | C22: 4536 | D22: 3 | E22: 3082 | F22: 2 | G22: 703 | H22: 6 | I22: 9 | J22: 9 | K22: 7 | L22: 2 | M22: 13 | N22: 9 | O22: 375 | P22: 2 | Q22: 1664 | R22: 2 | S22: 124 | T22: 20 | U22: 165 | V22: 5 | W22: 4 | X22: 26 | Y22: 2 | Z22: 16 | AA22: 18 | AB22: 8 | AC22: 1353 | AD22: 8 | AE22: 196 | AF22: 9 | AG22: 236 | AH22: 7 | AI22: 226 | AJ22: 7 | AK22: 405 | AL22: 6 | AM22: 514 | AN22: 7 | AO22: 460 | AP22: 2 | AQ22: 36 | AR22: 20 | AS22: 2 | AT22: 28 | AU22: 100 | AV22: 2 | AW22: 1534 | AX22: 3 | AY22: 33.8 | AZ22: 4563 | BA22: (8)
A23: 栃木 | B23: (9) | C23: 2959 | D23: 10 | E23: 1586 | F23: 13 | G23: 586 | H23: 8 | I23: 50 | J23: 2 | K23: 6 | L23: 4 | M23: 5 | N23: 17 | O23: 10 | P23: 21 | Q23: 745 | R23: 9 | S23: 89 | T23: 25 | U23: 74 | V23: 15 | W23: 2 | X23: 30 | Y23: x | Z23: - | AA23: 19 | AB23: 6 | AC23: 1367 | AD23: 7 | AE23: 251 | AF23: 6 | AG23: 472 | AH23: 2 | AI23: 435 | AJ23: 2 | AK23: 279 | AL23: 10 | AM23: 363 | AN23: 13 | AO23: 348 | AP23: 7 | AQ23: x | AR23: - | AS23: 3 | AT23: 19 | AU23: 7 | AV23: 14 | AW23: 1086 | AX23: 10 | AY23: 36.7 | AZ23: 2991 | BA23: (9)
A24: 群馬 | B24: (10) | C24: 2655 | D24: 12 | E24: 1335 | F24: 17 | G24: 153 | H24: 33 | I24: 23 | J24: 5 | K24: 1 | L24: 12 | M24: 2 | N24: 27 | O24: 6 | P24: 30 | Q24: 956 | R24: 7 | S24: 76 | T24: 30 | U24: 56 | V24: 21 | W24: 49 | X24: 6 | Y24: x | Z24: - | AA24: 12 | AB24: 12 | AC24: 1319 | AD24: 9 | AE24: 182 | AF24: 12 | AG24: 256 | AH24: 4 | AI24: 233 | AJ24: 6 | AK24: 478 | AL24: 5 | AM24: 388 | AN24: 12 | AO24: 327 | AP24: 8 | AQ24: 48 | AR24: 17 | AS24: 15 | AT24: 5 | AU24: 1 | AV24: 28 | AW24: 900 | AX24: 12 | AY24: 33.9 | AZ24: 2699 | BA24: (10)
A25: 埼玉 | B25: (11) | C25: 1636 | D25: 22 | E25: 1355 | F25: 16 | G25: 305 | H25: 19 | I25: 17 | J25: 7 | K25: 1 | L25: 18 | M25: 1 | N25: 33 | O25: 29 | P25: 10 | Q25: 768 | R25: 8 | S25: 49 | T25: 37 | U25: 157 | V25: 7 | W25: 13 | X25: 16 | Y25: 12 | Z25: 7 | AA25: 16 | AB25: 11 | AC25: 280 | AD25: 33 | AE25: 49 | AF25: 34 | AG25: 59 | AH25: 25 | AI25: 54 | AJ25: 25 | AK25: 69 | AL25: 24 | AM25: 101 | AN25: 32 | AO25: 101 | AP25: 24 | AQ25: x | AR25: - | AS25: 2 | AT25: 22 | AU25: 1 | AV25: 34 | AW25: 597 | AX25: 20 | AY25: 36.5 | AZ25: 1646 | BA25: (11)
A26: 千葉 | B26: (12) | C26: 4029 | D26: 4 | E26: 2526 | F26: 4 | G26: 569 | H26: 9 | I26: x | J26: - | K26: 0 | L26: 27 | M26: 69 | N26: 2 | O26: 212 | P26: 4 | Q26: 1336 | R26: 4 | S26: 108 | T26: 22 | U26: 200 | V26: 2 | W26: 2 | X26: 29 | Y26: 0 | Z26: 28 | AA26: x | AB26: - | AC26: 1501 | AD26: 5 | AE26: 123 | AF26: 20 | AG26: 254 | AH26: 6 | AI26: 238 | AJ26: 5 | AK26: 519 | AL26: 4 | AM26: 593 | AN26: 4 | AO26: 504 | AP26: 1 | AQ26: 54 | AR26: 16 | AS26: 12 | AT26: 6 | AU26: 2 | AV26: 21 | AW26: 1262 | AX26: 5 | AY26: 31.3 | AZ26: 4051 | BA26: (12)
A27: 東京 | B27: (13) | C27: 220 | D27: 47 | E27: 202 | F27: 47 | G27: 1 | H27: 47 | I27: 0 | J27: 32 | K27: 0 | L27: 44 | M27: 0 | N27: 46 | O27: 6 | P27: 34 | Q27: 125 | R27: 41 | S27: 26 | T27: 42 | U27: 37 | V27: 32 | W27: 1 | X27: 32 | Y27: 0 | Z27: 25 | AA27: 7 | AB27: 24 | AC27: 18 | AD27: 47 | AE27: 2 | AF27: 47 | AG27: 11 | AH27: 45 | AI27: 10 | AJ27: 45 | AK27: 1 | AL27: 45 | AM27: 3 | AN27: 46 | AO27: 3 | AP27: 46 | AQ27: - | AR27: - | AS27: 1 | AT27: 39 | AU27: 0 | AV27: 45 | AW27: 86 | AX27: 47 | AY27: 39.1 | AZ27: 221 | BA27: (13)
A28: 神奈川 | B28: (14) | C28: 686 | D28: 39 | E28: 515 | F28: 35 | G28: 30 | H28: 45 | I28: x | J28: - | K28: 0 | L28: 40 | M28: 1 | N28: 30 | O28: 14 | P28: 16 | Q28: 334 | R28: 24 | S28: 83 | T28: 28 | U28: 43 | V28: 25 | W28: 1 | X28: 34 | Y28: 1 | Z28: 19 | AA28: x | AB28: - | AC28: 169 | AD28: 37 | AE28: 18 | AF28: 37 | AG28: 33 | AH28: 33 | AI28: 31 | AJ28: 34 | AK28: 55 | AL28: 26 | AM28: 62 | AN28: 35 | AO28: 62 | AP28: 29 | AQ28: - | AR28: - | AS28: 1 | AT28: 41 | AU28: 2 | AV28: 23 | AW28: 239 | AX28: 40 | AY28: 34.8 | AZ28: 690 | BA28: (14)
A29: 新潟 | B29: (15) | C29: 2281 | D29: 14 | E29: 1775 | F29: 9 | G29: 1255 | H29: 1 | I29: 0 | J29: 27 | K29: 1 | L29: 13 | M29: 10 | N29: 11 | O29: 16 | P29: 13 | Q29: 338 | R29: 23 | S29: 87 | T29: 26 | U29: 62 | V29: 19 | W29: 4 | X29: 25 | Y29: 0 | Z29: 29 | AA29: 2 | AB29: 30 | AC29: 504 | AD29: 20 | AE29: 41 | AF29: 35 | AG29: 50 | AH29: 28 | AI29: 48 | AJ29: 27 | AK29: 131 | AL29: 17 | AM29: 281 | AN29: 19 | AO29: 195 | AP29: 18 | AQ29: 36 | AR29: 19 | AS29: 1 | AT29: 38 | AU29: 2 | AV29: 27 | AW29: 805 | AX29: 15 | AY29: 35.3 | AZ29: 2738 | BA29: (15)
A30: 富山 | B30: (16) | C30: 588 | D30: 42 | E30: 492 | F30: 37 | G30: 388 | H30: 14 | I30: 3 | J30: 17 | K30: 1 | L30: 14 | M30: 8 | N30: 13 | O30: 3 | P30: 45 | Q30: 54 | R30: 47 | S30: 22 | T30: 43 | U30: 11 | V30: 45 | W30: 0 | X30: 46 | Y30: x | Z30: - | AA30: 2 | AB30: 32 | AC30: 93 | AD30: 41 | AE30: 14 | AF30: 42 | AG30: 16 | AH30: 43 | AI30: 16 | AJ30: 42 | AK30: 20 | AL30: 38 | AM30: 43 | AN30: 40 | AO30: 42 | AP30: 35 | AQ30: - | AR30: - | AS30: 0 | AT30: 46 | AU30: 4 | AV30: 18 | AW30: 194 | AX30: 43 | AY30: 33 | AZ30: 623 | BA30: (16)
A31: 石川 | B31: (17) | C31: 521 | D31: 43 | E31: 403 | F31: 42 | G31: 258 | H31: 20 | I31: 2 | J31: 20 | K31: 0 | L31: 28 | M31: 3 | N31: 25 | O31: 13 | P31: 18 | Q31: 86 | R31: 45 | S31: 34 | T31: 41 | U31: 5 | V31: 46 | W31: 0 | X31: 44 | Y31: 0 | Z31: 33 | AA31: 2 | AB31: 31 | AC31: 117 | AD31: 38 | AE31: 18 | AF31: 38 | AG31: 23 | AH31: 40 | AI31: 22 | AJ31: 40 | AK31: 14 | AL31: 39 | AM31: 61 | AN31: 36 | AO31: 60 | AP31: 31 | AQ31: - | AR31: - | AS31: 0 | AT31: 44 | AU31: 1 | AV31: 29 | AW31: 196 | AX31: 42 | AY31: 37.6 | AZ31: 531 | BA31: (17)
A32: 福井 | B32: (18) | C32: 433 | D32: 44 | E32: 368 | F32: 44 | G32: 247 | H32: 24 | I32: 5 | J32: 14 | K32: 5 | L32: 6 | M32: 3 | N32: 23 | O32: 8 | P32: 27 | Q32: 81 | R32: 46 | S32: 13 | T32: 46 | U32: 4 | V32: 47 | W32: 0 | X32: 45 | Y32: 0 | Z32: 35 | AA32: 2 | AB32: 29 | AC32: 65 | AD32: 44 | AE32: 8 | AF32: 45 | AG32: 8 | AH32: 46 | AI32: 8 | AJ32: 46 | AK32: 2 | AL32: 44 | AM32: 47 | AN32: 38 | AO32: 44 | AP32: 34 | AQ32: 2 | AR32: 37 | AS32: 0 | AT32: 45 | AU32: 1 | AV32: 33 | AW32: 175 | AX32: 44 | AY32: 40.4 | AZ32: 438 | BA32: (18)
A33: 山梨 | B33: (19) | C33: 1192 | D33: 30 | E33: 1095 | F33: 19 | G33: 63 | H33: 42 | I33: 0 | J33: 29 | K33: 0 | L33: 25 | M33: 1 | N33: 36 | O33: 3 | P33: 41 | Q33: 137 | R33: 38 | S33: 831 | T33: 3 | U33: 40 | V33: 29 | W33: 1 | X33: 40 | Y33: 1 | Z33: 21 | AA33: 18 | AB33: 7 | AC33: 91 | AD33: 42 | AE33: 16 | AF33: 40 | AG33: 25 | AH33: 39 | AI33: 23 | AJ33: 39 | AK33: 9 | AL33: 41 | AM33: 41 | AN33: 41 | AO33: 30 | AP33: 37 | AQ33: 10 | AR33: 35 | AS33: 1 | AT33: 33 | AU33: 6 | AV33: 16 | AW33: 423 | AX33: 29 | AY33: 35.5 | AZ33: 1197 | BA33: (19)
A34: 長野 | B34: (20) | C34: 2890 | D34: 11 | E34: 2597 | F34: 3 | G34: 426 | H34: 13 | I34: x | J34: - | K34: 7 | L34: 3 | M34: 4 | N34: 20 | O34: 16 | P34: 15 | Q34: 957 | R34: 6 | S34: 1000 | T34: 2 | U34: 163 | V34: 6 | W34: 1 | X34: 38 | Y34: 0 | Z34: 31 | AA34: x | AB34: - | AC34: 280 | AD34: 34 | AE34: 67 | AF34: 30 | AG34: 114 | AH34: 11 | AI34: 105 | AJ34: 12 | AK34: 45 | AL34: 30 | AM34: 49 | AN34: 37 | AO34: 27 | AP34: 38 | AQ34: 20 | AR34: 27 | AS34: 5 | AT34: 11 | AU34: 14 | AV34: 10 | AW34: 1093 | AX34: 9 | AY34: 37.8 | AZ34: 3431 | BA34: (20)
A35: 岐阜 | B35: (21) | C35: 1263 | D35: 28 | E35: 757 | F35: 31 | G35: 192 | H35: 26 | I35: 7 | J35: 13 | K35: 0 | L35: 22 | M35: 5 | N35: 19 | O35: 3 | P35: 42 | Q35: 421 | R35: 18 | S35: 60 | T35: 36 | U35: 59 | V35: 20 | W35: 3 | X35: 27 | Y35: 3 | Z35: 15 | AA35: 6 | AB35: 25 | AC35: 504 | AD35: 21 | AE35: 123 | AF35: 19 | AG35: 42 | AH35: 29 | AI35: 40 | AJ35: 29 | AK35: 95 | AL35: 22 | AM35: 241 | AN35: 20 | AO35: 188 | AP35: 19 | AQ35: 24 | AR35: 24 | AS35: 2 | AT35: 23 | AU35: 2 | AV35: 20 | AW35: 455 | AX35: 26 | AY35: 36 | AZ35: 1290 | BA35: (21)
A36: 静岡 | B36: (22) | C36: 2245 | D36: 15 | E36: 1505 | F36: 14 | G36: 185 | H36: 28 | I36: x | J36: - | K36: 0 | L36: 35 | M36: 0 | N36: 40 | O36: 31 | P36: 9 | Q36: 630 | R36: 14 | S36: 311 | T36: 9 | U36: 179 | V36: 4 | W36: 120 | X36: 4 | Y36: 120 | Z36: 2 | AA36: x | AB36: - | AC36: 637 | AD36: 16 | AE36: 90 | AF36: 24 | AG36: 111 | AH36: 12 | AI36: 106 | AJ36: 11 | AK36: 62 | AL36: 25 | AM36: 334 | AN36: 15 | AO36: 291 | AP36: 10 | AQ36: 33 | AR36: 22 | AS36: 39 | AT36: 3 | AU36: 104 | AV36: 1 | AW36: 738 | AX36: 17 | AY36: 32.9 | AZ36: 2318 | BA36: (22)
A37: 愛知 | B37: (23) | C37: 3207 | D37: 8 | E37: 2153 | F37: 7 | G37: 257 | H37: 21 | I37: 22 | J37: 6 | K37: 0 | L37: 43 | M37: 6 | N37: 15 | O37: 9 | P37: 22 | Q37: 1083 | R37: 5 | S37: 177 | T37: 13 | U37: 563 | V37: 1 | W37: 8 | X37: 18 | Y37: 7 | Z37: 10 | AA37: 28 | AB37: 5 | AC37: 1047 | AD37: 11 | AE37: 124 | AF37: 18 | AG37: 194 | AH37: 8 | AI37: 180 | AJ37: 8 | AK37: 290 | AL37: 9 | AM37: 398 | AN37: 10 | AO37: 353 | AP37: 6 | AQ37: 34 | AR37: 21 | AS37: 41 | AT37: 2 | AU37: 7 | AV37: 13 | AW37: 1157 | AX37: 8 | AY37: 36.1 | AZ37: 3215 | BA37: (23)
A38: 三重 | B38: (24) | C38: 1218 | D38: 29 | E38: 621 | F38: 33 | G38: 252 | H38: 22 | I38: 16 | J38: 8 | K38: 0 | L38: 34 | M38: 5 | N38: 18 | O38: 8 | P38: 25 | Q38: 158 | R38: 36 | S38: 68 | T38: 33 | U38: 40 | V38: 30 | W38: 36 | X38: 8 | Y38: 36 | Z38: 4 | AA38: 39 | AB38: 4 | AC38: 584 | AD38: 18 | AE38: 119 | AF38: 21 | AG38: 81 | AH38: 19 | AI38: 76 | AJ38: 21 | AK38: 84 | AL38: 23 | AM38: 299 | AN38: 17 | AO38: 277 | AP38: 11 | AQ38: 16 | AR38: 30 | AS38: 0 | AT38: 43 | AU38: 14 | AV38: 8 | AW38: 384 | AX38: 32 | AY38: 31.5 | AZ38: 1271 | BA38: (24)
A39: 滋賀 | B39: (25) | C39: 610 | D39: 41 | E39: 497 | F39: 36 | G39: 316 | H39: 17 | I39: 7 | J39: 12 | K39: 1 | L39: 15 | M39: 17 | N39: 6 | O39: 3 | P39: 40 | Q39: 116 | R39: 43 | S39: 10 | T39: 47 | U39: 14 | V39: 44 | W39: 5 | X39: 22 | Y39: 5 | Z39: 14 | AA39: 7 | AB39: 19 | AC39: 112 | AD39: 39 | AE39: 71 | AF39: 29 | AG39: 25 | AH39: 38 | AI39: 23 | AJ39: 38 | AK39: 1 | AL39: 46 | AM39: 11 | AN39: 45 | AO39: 10 | AP39: 45 | AQ39: x | AR39: - | AS39: 3 | AT39: 21 | AU39: 2 | AV39: 26 | AW39: 231 | AX39: 41 | AY39: 37.9 | AZ39: 612 | BA39: (25)
A40: 京都 | B40: (26) | C40: 766 | D40: 37 | E40: 551 | F40: 34 | G40: 164 | H40: 32 | I40: 0 | J40: 25 | K40: 0 | L40: 30 | M40: 3 | N40: 22 | O40: 5 | P40: 38 | Q40: 299 | R40: 26 | S40: 22 | T40: 44 | U40: 14 | V40: 43 | W40: 36 | X40: 7 | Y40: 36 | Z40: 3 | AA40: 7 | AB40: 18 | AC40: 175 | AD40: 36 | AE40: 15 | AF40: 41 | AG40: 39 | AH40: 31 | AI40: 37 | AJ40: 31 | AK40: 12 | AL40: 40 | AM40: 108 | AN40: 30 | AO40: 86 | AP40: 26 | AQ40: 16 | AR40: 31 | AS40: 1 | AT40: 29 | AU40: 40 | AV40: 4 | AW40: 249 | AX40: 38 | AY40: 32.5 | AZ40: 775 | BA40: (26)
A41: 大阪 | B41: (27) | C41: 320 | D41: 46 | E41: 302 | F41: 46 | G41: 52 | H41: 44 | I41: x | J41: - | K41: 0 | L41: 44 | M41: 0 | N41: 46 | O41: 4 | P41: 39 | Q41: 149 | R41: 37 | S41: 74 | T41: 31 | U41: 19 | V41: 41 | W41: 0 | X41: 47 | Y41: - | Z41: - | AA41: x | AB41: - | AC41: 18 | AD41: 46 | AE41: 3 | AF41: 46 | AG41: 12 | AH41: 44 | AI41: 12 | AJ41: 44 | AK41: 2 | AL41: 43 | AM41: 1 | AN41: 47 | AO41: 1 | AP41: 47 | AQ41: - | AR41: - | AS41: - | AT41: - | AU41: - | AV41: - | AW41: 110 | AX41: 46 | AY41: 34.4 | AZ41: 322 | BA41: (27)
A42: 兵庫 | B42: (28) | C42: 1677 | D42: 21 | E42: 949 | F42: 26 | G42: 441 | H42: 12 | I42: 3 | J42: 16 | K42: 0 | L42: 30 | M42: 15 | N42: 7 | O42: 10 | P42: 20 | Q42: 386 | R42: 21 | S42: 44 | T42: 40 | U42: 42 | V42: 27 | W42: 1 | X42: 41 | Y42: 0 | Z42: 24 | AA42: 7 | AB42: 22 | AC42: 728 | AD42: 14 | AE42: 186 | AF42: 10 | AG42: 110 | AH42: 13 | AI42: 101 | AJ42: 13 | AK42: 20 | AL42: 37 | AM42: 411 | AN42: 9 | AO42: 303 | AP42: 9 | AQ42: 82 | AR42: 12 | AS42: 2 | AT42: 26 | AU42: 0 | AV42: 41 | AW42: 487 | AX42: 25 | AY42: 29 | AZ42: 1685 | BA42: (28)
A43: 奈良 | B43: (29) | C43: 413 | D43: 45 | E43: 342 | F43: 45 | G43: 87 | H43: 41 | I43: 0 | J43: 30 | K43: 0 | L43: 42 | M43: 0 | N43: 39 | O43: 2 | P43: 46 | Q43: 113 | R43: 44 | S43: 83 | T43: 27 | U43: 43 | V43: 26 | W43: 6 | X43: 21 | Y43: 6 | Z43: 13 | AA43: 7 | AB43: 21 | AC43: 65 | AD43: 43 | AE43: 11 | AF43: 43 | AG43: 30 | AH43: 35 | AI43: 29 | AJ43: 35 | AK43: 3 | AL43: 42 | AM43: 19 | AN43: 44 | AO43: 18 | AP43: 40 | AQ43: x | AR43: - | AS43: 1 | AT43: 36 | AU43: 6 | AV43: 15 | AW43: 137 | AX43: 45 | AY43: 33.2 | AZ43: 419 | BA43: (29)
...

Sheet 上位10道県との比較
A1: 年次 | B1: 全国 | C1: 長野県 | D1: ①北海道 | E1: ②鹿児島 | F1: ③茨城県 | G1: ④千葉県 | H1: ⑤熊本県 | I1: ⑥宮崎県 | J1: ⑦青森県 | K1: ⑧愛知県 | L1: ⑨岩手県 | M1: ⑩栃木県
A2: 1960 | B2: =全国!B15 -> 19148 | C2: =長野県!$B10 -> 619 | D2: =①北海道!$B10 -> 1319 | E2: =②鹿児島県!$B10 -> 520 | F2: =③茨城県!B10 -> 726 | G2: =④千葉県!$B10 -> 671 | H2: =⑥熊本県!$B10 -> 446 | I2: =⑦宮崎県!$B10 -> 271 | J2: =⑤青森県!$B10 -> 466 | K2: =⑧愛知県!$B10 -> 591 | L2: 401 | M2: =⑨栃木県!$B10 -> 494
A3: =A2+1 -> 1961 | B3: =全国!B16 -> 21081 | C3: =長野県!$B11 -> 726 | D3: =①北海道!B11 -> 1515 | E3: =②鹿児島県!$B11 -> 545 | F3: =③茨城県!B11 -> 877 | G3: =④千葉県!$B11 -> 801 | H3: =⑥熊本県!$B11 -> 519 | I3: =⑦宮崎県!$B11 -> 305 | J3: =⑤青森県!$B11 -> 513 | K3: =⑧愛知県!$B11 -> 612 | L3: 431 | M3: =⑨栃木県!$B11 -> 524
A4: =A3+1 -> 1962 | B4: =全国!B17 -> 24381 | C4: =長野県!$B12 -> 800 | D4: =①北海道!B12 -> 1512 | E4: =②鹿児島県!$B12 -> 611 | F4: =③茨城県!B12 -> 1008 | G4: =④千葉県!$B12 -> 921 | H4: =⑥熊本県!$B12 -> 588 | I4: =⑦宮崎県!$B12 -> 342 | J4: =⑤青森県!$B12 -> 644 | K4: =⑧愛知県!$B12 -> 692 | L4: 488 | M4: =⑨栃木県!$B12 -> 643
A5: =A4+1 -> 1963 | B5: =全国!B18 -> 25760 | C5: =長野県!$B13 -> 872 | D5: =①北海道!B13 -> 1756 | E5: =②鹿児島県!$B13 -> 701 | F5: =③茨城県!B13 -> 1082 | G5: =④千葉県!$B13 -> 1003 | H5: =⑥熊本県!$B13 -> 598 | I5: =⑦宮崎県!$B13 -> 347 | J5: =⑤青森県!$B13 -> 683 | K5: =⑧愛知県!$B13 -> 765 | L5: 515 | M5: =⑨栃木県!$B13 -> 640
A6: =A5+1 -> 1964 | B6: =全国!B19 -> 28761 | C6: =長野県!$B14 -> 953 | D6: =①北海道!B14 -> 1524 | E6: =②鹿児島県!$B14 -> 624 | F6: =③茨城県!B14 -> 1209 | G6: =④千葉県!$B14 -> 1110 | H6: =⑥熊本県!$B14 -> 737 | I6: =⑦宮崎県!$B14 -> 350 | J6: =⑤青森県!$B14 -> 753 | K6: =⑧愛知県!$B14 -> 846 | L6: 607 | M6: =⑨栃木県!$B14 -> 743
A7: =A6+1 -> 1965 | B7: =全国!B20 -> 31769 | C7: =長野県!$B15 -> 954 | D7: =①北海道!B15 -> 2033 | E7: =②鹿児島県!$B15 -> 783 | F7: =③茨城県!B15 -> 1330 | G7: =④千葉県!$B15 -> 1195 | H7: =⑥熊本県!$B15 -> 822 | I7: =⑦宮崎県!$B15 -> 477 | J7: =⑤青森県!$B15 -> 820 | K7: =⑧愛知県!$B15 -> 886 | L7: 700 | M7: =⑨栃木県!$B15 -> 782
A8: =A7+1 -> 1966 | B8: =全国!B21 -> 35713 | C8: =長野県!$B16 -> 1179 | D8: =①北海道!B16 -> 1984 | E8: =②鹿児島県!$B16 -> 873 | F8: =③茨城県!B16 -> 1512 | G8: =④千葉県!$B16 -> 1303 | H8: =⑥熊本県!$B16 -> 974 | I8: =⑦宮崎県!$B16 -> 543 | J8: =⑤青森県!$B16 -> 843 | K8: =⑧愛知県!$B16 -> 1061 | L8: 738 | M8: =⑨栃木県!$B16 -> 914
A9: =A8+1 -> 1967 | B9: =全国!B22 -> 41661 | C9: =長野県!$B17 -> 1353 | D9: =①北海道!B17 -> 3013 | E9: =②鹿児島県!$B17 -> 1023 | F9: =③茨城県!B17 -> 1737 | G9: =④千葉県!$B17 -> 1578 | H9: =⑥熊本県!$B17 -> 1125 | I9: =⑦宮崎県!$B17 -> 637 | J9: =⑤青森県!$B17 -> 1052 | K9: =⑧愛知県!$B17 -> 1218 | L9: 923 | M9: =⑨栃木県!$B17 -> 1065
A10: =A9+1 -> 1968 | B10: =全国!B23 -> 43846 | C10: =長野県!$B18 -> 1379 | D10: =①北海道!B18 -> 3308 | E10: =②鹿児島県!$B18 -> 996 | F10: =③茨城県!B18 -> 1913 | G10: =④千葉県!$B18 -> 1755 | H10: =⑥熊本県!$B18 -> 1214 | I10: =⑦宮崎県!$B18 -> 694 | J10: =⑤青森県!$B18 -> 1033 | K10: =⑧愛知県!$B18 -> 1296 | L10: 990 | M10: =⑨栃木県!$B18 -> 1173
A11: =A10+1 -> 1969 | B11: =全国!B24 -> 46587 | C11: =長野県!$B19 -> 1466 | D11: =①北海道!B19 -> 3124 | E11: =②鹿児島県!$B19 -> 1095 | F11: =③茨城県!B19 -> 1952 | G11: =④千葉県!$B19 -> 1899 | H11: =⑥熊本県!$B19 -> 1299 | I11: =⑦宮崎県!$B19 -> 808 | J11: =⑤青森県!$B19 -> 1187 | K11: =⑧愛知県!$B19 -> 1450 | L11: 1049 | M11: =⑨栃木県!$B19 -> 1197
A12: =A11+1 -> 1970 | B12: =全国!B25 -> 46643 | C12: =長野県!$B20 -> 1544 | D12: =①北海道!B20 -> 3454 | E12: =②鹿児島県!$B20 -> 1125 | F12: =③茨城県!B20 -> 2092 | G12: =④千葉県!$B20 -> 2044 | H12: =⑥熊本県!$B20 -> 1336 | I12: =⑦宮崎県!$B20 -> 809 | J12: =⑤青森県!$B20 -> 1225 | K12: =⑧愛知県!$B20 -> 1567 | L12: 1119 | M12: =⑨栃木県!$B20 -> 1219
A13: =A12+1 -> 1971 | B13: =全国!B26 -> 45745 | C13: =長野県!$B21 -> 1496 | D13: =①北海道!B21 -> 2917 | E13: =②鹿児島県!$B21 -> 1166 | F13: =③茨城県!B21 -> 2228 | G13: =④千葉県!$B21 -> 2013 | H13: =⑥熊本県!$B21 -> 1394 | I13: =⑦宮崎県!$B21 -> 865 | J13: =⑤青森県!$B21 -> 1234 | K13: =⑧愛知県!$B21 -> 1477 | L13: 1054 | M13: =⑨栃木県!$B21 -> 1220
A14: =A13+1 -> 1972 | B14: =全国!B27 -> 50794 | C14: =長野県!$B22 -> 1649 | D14: =①北海道!B22 -> 3796 | E14: =②鹿児島県!$B22 -> 1366 | F14: =③茨城県!B22 -> 2358 | G14: =④千葉県!$B22 -> 2176 | H14: =⑥熊本県!$B22 -> 1638 | I14: =⑦宮崎県!$B22 -> 991 | J14: =⑤青森県!$B22 -> 1430 | K14: =⑧愛知県!$B22 -> 1599 | L14: 1238 | M14: =⑨栃木県!$B22 -> 1387
... A65: =A64+1 -> 2023 | B65: =全国!B78 -> 94952 | C65: =長野県!$B73 -> 2890 | D65: =①北海道!B73 -> 13478 | E65: =②鹿児島県!$B73 -> 5438 | F65: =③茨城県!B73 -> 4536 | G65: =④千葉県!$B73 -> 4029 | H65: =⑥熊本県!$B73 -> 3757 | I65: =⑦宮崎県!$B73 -> 3720 | J65: =⑤青森県!$B73 -> 3466 | K65: =⑧愛知県!$B73 -> 3207 | L65: 2975 | M65: =⑨栃木県!$B73 -> 2959
B67: 前年より減少

Sheet ①北海道
A1: 生産農業所得統計
A2: 都道府県別生産農業所得統計累年統計
A4: 北海道
A5: 年次 | B5: 農業産出額 | X5: 生産農業所得
B6: 計 | C6: 耕種 | N6: 畜産 | W6: 加工農産物
C7: 小計 | D7: 米 | E7: 麦類 | F7: 雑穀 | G7: 豆類 | H7: いも類 | I7: 野菜 | J7: 果実 | K7: 花き | L7: 工芸農作物 | M7: その他作物 | N7: 小計 | O7: 肉用牛 | P7: 乳用牛 | R7: 豚 | S7: 鶏 | U7: 養蚕 | V7: その他畜産物
Q8: 生乳 | T8: 鶏卵
B9: 億円 | C9: 億円 | D9: 億円 | E9: 億円 | F9: 億円 | G9: 億円 | H9: 億円 | I9: 億円 | J9: 億円 | K9: 億円 | L9: 億円 | M9: 億円 | N9: 億円 | O9: 億円 | P9: 億円 | Q9: 億円 | R9: 億円 | S9: 億円 | T9: 億円 | U9: 億円 | V9: 億円 | W9: 億円 | X9: 億円
A10: 昭.35(1960) | B10: 1319 | C10: 1057 | D10: 528 | E10: 350 | F10: … | G10: … | H10: … | I10: 77 | J10: 23 | K10: 0 | L10: 73 | M10: 6 | N10: 248 | O10: … | P10: … | Q10: … | R10: … | S10: … | T10: … | U10: - | V10: … | W10: 14 | X10: 809
A11: 昭.36(1961) | B11: 1515 | C11: 1215 | D11: 615 | E11: 61 | F11: … | G11: 326 | H11: … | I11: 104 | J11: 27 | K11: 1 | L11: 76 | M11: 5 | N11: 281 | O11: … | P11: … | Q11: … | R11: … | S11: … | T11: … | U11: - | V11: … | W11: 18 | X11: 903
A12: 昭.37(1962) | B12: 1512 | C12: 1154 | D12: 586 | E12: 26 | F12: … | G12: 194 | H12: 114 | I12: 111 | J12: 28 | K12: 1 | L12: 86 | M12: 7 | N12: 337 | O12: … | P12: … | Q12: … | R12: … | S12: … | T12: … | U12: - | V12: … | W12: 20 | X12: 837
A13: 昭.38(1963) | B13: 1756 | C13: 1359 | D13: 717 | E13: 29 | F13: … | G13: 214 | H13: 123 | I13: 150 | J13: 28 | K13: 1 | L13: 84 | M13: 13 | N13: 379 | O13: … | P13: … | Q13: … | R13: … | S13: … | T13: … | U13: - | V13: … | W13: 18 | X13: 1028
A14: 昭.39(1964) | B14: 1524 | C14: 1102 | D14: 555 | E14: 26 | F14: … | G14: 115 | H14: 136 | I14: 144 | J14: 23 | K14: 0 | L14: 90 | M14: 14 | N14: 411 | O14: 4 | P14: 233 | Q14: … | R14: 56 | S14: 67 | T14: … | U14: - | V14: 52 | W14: 11 | X14: 764
A15: 昭.40(1965) | B15: 2033 | C15: 1534 | D15: 803 | E15: 22 | F15: … | G15: 216 | H15: 149 | I15: 175 | J15: 26 | K15: 2 | L15: 128 | M15: 12 | N15: 487 | O15: 5 | P15: 273 | Q15: … | R15: 67 | S15: 82 | T15: … | U15: - | V15: 62 | W15: 12 | X15: 1098
A16: 昭.41(1966) | B16: 1984 | C16: 1417 | D16: 775 | E16: 15 | F16: … | G16: 145 | H16: 133 | I16: 192 | J16: 26 | K16: 2 | L16: 115 | M16: 13 | N16: 557 | O16: 5 | P16: 330 | Q16: … | R16: 78 | S16: 79 | T16: … | U16: - | V16: 64 | W16: 11 | X16: 991
A17: 昭.42(1967) | B17: 3013 | C17: 2329 | D17: 1423 | E17: 24 | F17: … | G17: 219 | H17: 190 | I17: 262 | J17: 45 | K17: 3 | L17: 148 | M17: 14 | N17: 676 | O17: 10 | P17: 400 | Q17: 311 | R17: 84 | S17: 97 | T17: 78 | U17: 0 | V17: 85 | W17: 8 | X17: 1812
A18: 昭.43(1968) | B18: 3308 | C18: 2484 | D18: 1646 | E18: 27 | F18: … | G18: 189 | H18: 180 | I18: 228 | J18: 36 | K18: 3 | L18: 161 | M18: 13 | N18: 816 | O18: 11 | P18: 500 | Q18: 387 | R18: 102 | S18: 108 | T18: 92 | U18: - | V18: 94 | W18: 8 | X18: 1896
A19: 昭.44(1969) | B19: 3124 | C19: 2157 | D19: 1248 | E19: 24 | F19: … | G19: 204 | H19: 193 | I19: 272 | J19: 32 | K19: 3 | L19: 161 | M19: 20 | N19: 963 | O19: 15 | P19: 583 | Q19: 463 | R19: 124 | S19: 123 | T19: 105 | U19: - | V19: 117 | W19: 4 | X19: 1569
A20: 昭.45(1970) | B20: 3454 | C20: 2309 | D20: 1217 | E20: 16 | F20: … | G20: 251 | H20: 229 | I20: 351 | J20: 40 | K20: 3 | L20: 183 | M20: 20 | N20: 1142 | O20: 19 | P20: 678 | Q20: 531 | R20: 140 | S20: 154 | T20: 134 | U20: - | V20: 151 | W20: 4 | X20: 1774
A21: 昭.46(1971) | B21: 2917 | C21: 1698 | D21: 701 | E21: 19 | F21: … | G21: 191 | H21: 178 | I21: 352 | J21: 55 | K21: 4 | L21: 179 | M21: 19 | N21: 1216 | O21: 25 | P21: 728 | Q21: 569 | R21: 161 | S21: 145 | T21: 129 | U21: - | V21: 155 | W21: 3 | X21: 1257
A22: 昭.47(1972) | B22: 3796 | C22: 2407 | D22: 1108 | E22: 24 | F22: … | G22: 308 | H22: 229 | I22: 415 | J22: 65 | K22: 4 | L22: 231 | M22: 23 | N22: 1387 | O22: 57 | P22: 827 | Q22: 631 | R22: 197 | S22: 172 | T22: 143 | U22: - | V22: 134 | W22: 3 | X22: 2391
