Workbook
Name DDT: 'グラフ耕地（長野)2010～'!$C$3:$R$38

Sheet 16（長野）2004
A1: 農林水産関係市町村別データ
A2: 平成16年
A3: 耕地面積
A4: 長野県
A5: 都道 | B5: 市町 | D5: 耕地面積 | E5: 田耕地面積 | F5: 田本地面積 | G5: 畑耕地面積 | H5: 普通畑 | I5: 樹園地 | J5: 牧草地 | K5: 田畑計の作 | L5: 田畑計の耕
A6: 府県 | B6: 村 | C6: 市町村名 | K6: 付延べ面積 | L6: 地利用率
A7: ｺｰﾄﾞ | B7: ｺｰﾄﾞ
D8: ha | E8: ha | F8: ha | G8: ha | H8: ha | I8: ha | J8: ha | K8: ha | L8: 0.0%
A9: 20 | B9: 201 | C9: 長野市 | D9: 8130 | E9: 2510 | F9: 2230 | G9: 5630 | H9: 2630 | I9: 2910 | J9: 84 | K9: 6820 | L9: 83.9
A10: 20 | B10: 202 | C10: 松本市 | D10: 5070 | E10: 3510 | F10: 3190 | G10: 1560 | H10: 947 | I10: 562 | J10: 50 | K10: 5000 | L10: 98.6
A11: 20 | B11: 203 | C11: 上田市 | D11: 3160 | E11: 1920 | F11: 1700 | G11: 1240 | H11: 720 | I11: 508 | J11: 15 | K11: 2520 | L11: 79.7
A12: 20 | B12: 204 | C12: 岡谷市 | D12: 271 | E12: 109 | F12: 92 | G12: 162 | H12: 140 | I12: 10 | J12: 12 | K12: 206 | L12: 76
A13: 20 | B13: 205 | C13: 飯田市 | D13: 3110 | E13: 1220 | F13: 1040 | G13: 1880 | H13: 866 | I13: 981 | J13: 36 | K13: 2590 | L13: 83.3
A14: 20 | B14: 206 | C14: 諏訪市 | D14: 703 | E14: 477 | F14: 459 | G14: 226 | H14: 154 | I14: 30 | J14: 42 | K14: 721 | L14: 102.6
A15: 20 | B15: 207 | C15: 須坂市 | D15: 1860 | E15: 290 | F15: 273 | G15: 1570 | H15: 286 | I15: 1260 | J15: 22 | K15: 1730 | L15: 93
A16: 20 | B16: 208 | C16: 小諸市 | D16: 2830 | E16: 1110 | F16: 938 | G16: 1730 | H16: 1430 | I16: 228 | J16: 65 | K16: 2710 | L16: 95.8
A17: 20 | B17: 209 | C17: 伊那市 | D17: 4520 | E17: 3030 | F17: 2660 | G17: 1490 | H17: 1250 | I17: 147 | J17: 90 | K17: 4060 | L17: 89.8
A18: 20 | B18: 210 | C18: 駒ヶ根市 | D18: 1980 | E18: 1500 | F18: 1310 | G18: 475 | H18: 348 | I18: 84 | J18: 43 | K18: 1750 | L18: 88.4
A19: 20 | B19: 211 | C19: 中野市 | D19: 2540 | E19: 452 | F19: 425 | G19: 2090 | H19: 847 | I19: 1240 | J19: - | K19: 2140 | L19: 84.3
A20: 20 | B20: 212 | C20: 大町市 | D20: 2320 | E20: 2080 | F20: 1860 | G20: 234 | H20: 148 | I20: 80 | J20: 6 | K20: 2060 | L20: 88.8
A21: 20 | B21: 213 | C21: 飯山市 | D21: 3610 | E21: 1950 | F21: 1650 | G21: 1660 | H21: 1620 | I21: 45 | J21: - | K21: 2830 | L21: 78.4
A22: 20 | B22: 214 | C22: 茅野市 | D22: 2630 | E22: 1600 | F22: 1370 | G22: 1030 | H22: 990 | I22: 24 | J22: 17 | K22: 1970 | L22: 74.9
A23: 20 | B23: 215 | C23: 塩尻市 | D23: 3090 | E23: 1150 | F23: 1030 | G23: 1940 | H23: 1330 | I23: 550 | J23: 57 | K23: 3510 | L23: 113.6
A24: 20 | B24: 217 | C24: 佐久市 | D24: 3570 | E24: 2310 | F24: 2110 | G24: 1260 | H24: 1040 | I24: 200 | J24: 19 | K24: 2750 | L24: 77
A25: 20 | B25: 218 | C25: 千曲市 | D25: 1670 | E25: 880 | F25: 833 | G25: 793 | H25: 260 | I25: 531 | J25: 2 | K25: 1580 | L25: 94.6
A26: 20 | B26: 219 | C26: 東御市 | D26: 2500 | E26: 1160 | F26: 980 | G26: 1340 | H26: 990 | I26: 289 | J26: 59 | K26: 1850 | L26: 74
A27: 20 | B27: 301 | C27: 臼田町 | D27: 818 | E27: 496 | F27: 447 | G27: 322 | H27: 235 | I27: 67 | J27: 20 | K27: 724 | L27: 88.5
A28: 20 | B28: 303 | C28: 小海町 | D28: 976 | E28: 217 | F28: 178 | G28: 759 | H28: 703 | I28: 1 | J28: 55 | K28: 941 | L28: 96.4
A29: 20 | B29: 304 | C29: 川上村 | D29: 1870 | E29: 47 | F29: 38 | G29: 1820 | H29: 1730 | I29: - | J29: 93 | K29: 3320 | L29: 177.5
A30: 20 | B30: 305 | C30: 南牧村 | D30: 1950 | E30: 112 | F30: 94 | G30: 1840 | H30: 1200 | I30: - | J30: 641 | K30: 2520 | L30: 129.2
A31: 20 | B31: 306 | C31: 南相木村 | D31: 311 | E31: 52 | F31: 41 | G31: 259 | H31: 259 | I31: 0 | J31: - | K31: 351 | L31: 112.9
A32: 20 | B32: 307 | C32: 北相木村 | D32: 174 | E32: 30 | F32: 23 | G32: 144 | H32: 144 | I32: - | J32: - | K32: 148 | L32: 85.1
A33: 20 | B33: 309 | C33: 佐久穂町 | D33: 1310 | E33: 746 | F33: 640 | G33: 563 | H33: 467 | I33: 76 | J33: 20 | K33: 1020 | L33: 77.9
A34: 20 | B34: 321 | C34: 軽井沢町 | D34: 350 | E34: 134 | F34: 118 | G34: 216 | H34: 199 | I34: 2 | J34: 15 | K34: 444 | L34: 126.9
A35: 20 | B35: 322 | C35: 望月町 | D35: 1810 | E35: 807 | F35: 685 | G35: 1000 | H35: 851 | I35: 39 | J35: 113 | K35: 1530 | L35: 84.5
A36: 20 | B36: 323 | C36: 御代田町 | D36: 764 | E36: 246 | F36: 211 | G36: 518 | H36: 465 | I36: 3 | J36: 50 | K36: 1190 | L36: 155.8
A37: 20 | B37: 324 | C37: 立科町 | D37: 1320 | E37: 750 | F37: 626 | G37: 573 | H37: 366 | I37: 149 | J37: 58 | K37: 975 | L37: 73.9
A38: 20 | B38: 325 | C38: 浅科村 | D38: 690 | E38: 504 | F38: 440 | G38: 186 | H38: 168 | I38: 15 | J38: 3 | K38: 542 | L38: 78.6
A39: 20 | B39: 341 | C39: 丸子町 | D39: 911 | E39: 601 | F39: 522 | G39: 310 | H39: 214 | I39: 71 | J39: 25 | K39: 681 | L39: 74.8
A40: 20 | B40: 342 | C40: 長門町 | D40: 699 | E40: 341 | F40: 270 | G40: 358 | H40: 181 | I40: 27 | J40: 150 | K40: 558 | L40: 79.8
A41: 20 | B41: 345 | C41: 真田町 | D41: 1210 | E41: 268 | F41: 202 | G41: 946 | H41: 599 | I41: 85 | J41: 262 | K41: 1110 | L41: 91.7
A42: 20 | B42: 346 | C42: 武石村 | D42: 427 | E42: 281 | F42: 234 | G42: 146 | H42: 92 | I42: 22 | J42: 32 | K42: 492 | L42: 115.2
A43: 20 | B43: 347 | C43: 和田村 | D43: 267 | E43: 184 | F43: 139 | G43: 83 | H43: 69 | I43: 9 | J43: 5 | K43: 264 | L43: 98.9
A44: 20 | B44: 349 | C44: 青木村 | D44: 459 | E44: 247 | F44: 184 | G44: 212 | H44: 126 | I44: 32 | J44: 54 | K44: 379 | L44: 82.6
... A58: 20 | B58: 404 | C58: 阿南町 | D58: 553 | E58: 303 | F58: 245 | G58: 250 | H58: 189 | I58: 58 | J58: 3 | K58: 391 | L58: 70.7
A59: 20 | B59: 406 | C59: 清内路村 | D59: 27 | E59: 3 | F59: 2 | G59: 24 | H59: 24 | I59: 0 | J59: - | K59: 15 | L59: 55.6
A60: 20 | B60: 407 | C60: 阿智村 | D60: 437 | E60: 267 | F60: 222 | G60: 170 | H60: 116 | I60: 51 | J60: 3 | K60: 348 | L60: 79.6
A61: 20 | B61: 408 | C61: 浪合村 | D61: 30 | E61: 15 | F61: 12 | G61: 15 | H61: 15 | I61: 0 | J61: - | K61: 30 | L61: 100
A62: 20 | B62: 409 | C62: 平谷村 | D62: 21 | E62: 9 | F62: 7 | G62: 12 | H62: 11 | I62: 0 | J62: 1 | K62: 81 | L62: 385.7
A63: 20 | B63: 410 | C63: 根羽村 | D63: 142 | E63: 76 | F63: 61 | G63: 66 | H63: 39 | I63: 0 | J63: 27 | K63: 152 | L63: 107
A64: 20 | B64: 411 | C64: 下條村 | D64: 440 | E64: 191 | F64: 158 | G64: 249 | H64: 106 | I64: 137 | J64: 6 | K64: 419 | L64: 95.2
A65: 20 | B65: 412 | C65: 売木村 | D65: 119 | E65: 96 | F65: 80 | G65: 23 | H65: 14 | I65: 7 | J65: 2 | K65: 90 | L65: 75.6
A66: 20 | B66: 413 | C66: 天龍村 | D66: 103 | E66: 33 | F66: 26 | G66: 70 | H66: 26 | I66: 42 | J66: 2 | K66: 99 | L66: 96.1
A67: 20 | B67: 414 | C67: 泰阜村 | D67: 214 | E67: 81 | F67: 66 | G67: 133 | H67: 109 | I67: 22 | J67: 2 | K67: 150 | L67: 70.1
A68: 20 | B68: 415 | C68: 喬木村 | D68: 503 | E68: 189 | F68: 157 | G68: 314 | H68: 145 | I68: 167 | J68: 2 | K68: 454 | L68: 90.3
A69: 20 | B69: 416 | C69: 豊丘村 | D69: 633 | E69: 220 | F69: 182 | G69: 413 | H69: 96 | I69: 314 | J69: 3 | K69: 574 | L69: 90.7
A70: 20 | B70: 417 | C70: 大鹿村 | D70: 222 | E70: 80 | F70: 64 | G70: 142 | H70: 104 | I70: 16 | J70: 22 | K70: 221 | L70: 99.5
A71: 20 | B71: 418 | C71: 上村 | D71: 40 | E71: 6 | F71: 5 | G71: 34 | H71: 22 | I71: 12 | J71: - | K71: 34 | L71: 85
A72: 20 | B72: 419 | C72: 南信濃村 | D72: 120 | E72: 27 | F72: 21 | G72: 93 | H72: 48 | I72: 45 | J72: - | K72: 96 | L72: 80
A73: 20 | B73: 421 | C73: 木曽福島町 | D73: 201 | E73: 155 | F73: 118 | G73: 46 | H73: 33 | I73: 4 | J73: 9 | K73: 151 | L73: 75.1
A74: 20 | B74: 422 | C74: 上松町 | D74: 185 | E74: 104 | F74: 79 | G74: 81 | H74: 42 | I74: 8 | J74: 31 | K74: 153 | L74: 82.7
A75: 20 | B75: 423 | C75: 南木曽町 | D75: 303 | E75: 198 | F75: 149 | G75: 105 | H75: 62 | I75: 20 | J75: 23 | K75: 233 | L75: 76.9
A76: 20 | B76: 424 | C76: 楢川村 | D76: 23 | E76: 7 | F76: 6 | G76: 16 | H76: 12 | I76: 4 | J76: - | K76: 17 | L76: 73.9
A77: 20 | B77: 425 | C77: 木祖村 | D77: 242 | E77: 111 | F77: 87 | G77: 131 | H77: 100 | I77: 2 | J77: 29 | K77: 209 | L77: 86.4
A78: 20 | B78: 426 | C78: 日義村 | D78: 152 | E78: 96 | F78: 74 | G78: 56 | H78: 41 | I78: 3 | J78: 12 | K78: 116 | L78: 76.3
A79: 20 | B79: 427 | C79: 開田村 | D79: 468 | E79: 186 | F79: 149 | G79: 282 | H79: 146 | I79: 2 | J79: 134 | K79: 434 | L79: 92.7
A80: 20 | B80: 428 | C80: 三岳村 | D80: 395 | E80: 97 | F80: 74 | G80: 298 | H80: 58 | I80: 10 | J80: 230 | K80: 339 | L80: 85.8
A81: 20 | B81: 429 | C81: 王滝村 | D81: 47 | E81: 33 | F81: 26 | G81: 14 | H81: 11 | I81: 1 | J81: 2 | K81: 35 | L81: 74.5
A82: 20 | B82: 430 | C82: 大桑村 | D82: 187 | E82: 104 | F82: 79 | G82: 83 | H82: 45 | I82: 6 | J82: 32 | K82: 153 | L82: 81.8
A83: 20 | B83: 441 | C83: 明科町 | D83: 523 | E83: 377 | F83: 346 | G83: 146 | H83: 117 | I83: 21 | J83: 8 | K83: 429 | L83: 82
A84: 20 | B84: 443 | C84: 四賀村 | D84: 534 | E84: 275 | F84: 235 | G84: 259 | H84: 205 | I84: 31 | J84: 23 | K84: 392 | L84: 73.4
A85: 20 | B85: 444 | C85: 本城村 | D85: 201 | E85: 110 | F85: 94 | G85: 91 | H85: 77 | I85: 7 | J85: 7 | K85: 172 | L85: 85.6
A86: 20 | B86: 445 | C86: 坂北村 | D86: 241 | E86: 114 | F86: 97 | G86: 127 | H86: 117 | I86: 7 | J86: 3 | K86: 191 | L86: 79.3
A87: 20 | B87: 446 | C87: 麻績村 | D87: 402 | E87: 226 | F87: 194 | G87: 176 | H87: 116 | I87: 45 | J87: 15 | K87: 323 | L87: 80.3
A88: 20 | B88: 447 | C88: 坂井村 | D88: 234 | E88: 135 | F88: 116 | G88: 99 | H88: 84 | I88: 8 | J88: 7 | K88: 196 | L88: 83.8
... A92: 20 | B92: 451 | C92: 朝日村 | D92: 577 | E92: 127 | F92: 114 | G92: 450 | H92: 429 | I92: 18 | J92: 3 | K92: 1070 | L92: 185.4
A93: 20 | B93: 461 | C93: 豊科町 | D93: 1520 | E93: 1450 | F93: 1320 | G93: 75 | H93: 73 | I93: 2 | J93: - | K93: 1310 | L93: 86.2
A94: 20 | B94: 462 | C94: 穂高町 | D94: 2330 | E94: 2030 | F94: 1820 | G94: 298 | H94: 259 | I94: 36 | J94: 3 | K94: 1870 | L94: 80.3
A95: 20 | B95: 463 | C95: 奈川村 | D95: 133 | E95: 50 | F95: 38 | G95: 83 | H95: 51 | I95: 1 | J95: 31 | K95: 116 | L95: 87.2
A96: 20 | B96: 464 | C96: 安曇村 | D96: 33 | E96: 0 | F96: 0 | G96: 33 | H96: 13 | I96: 4 | J96: 16 | K96: 86 | L96: 260.6
A97: 20 | B97: 465 | C97: 梓川村 | D97: 1220 | E97: 711 | F97: 637 | G97: 504 | H97: 202 | I97: 299 | J97: 3 | K97: 1130 | L97: 92.6
A98: 20 | B98: 466 | C98: 三郷村 | D98: 1770 | E98: 921 | F98: 827 | G98: 850 | H98: 376 | I98: 471 | J98: 3 | K98: 1520 | L98: 85.9
A99: 20 | B99: 467 | C99: 堀金村 | D99: 991 | E99: 835 | F99: 749 | G99: 156 | H99: 116 | I99: 39 | J99: 1 | K99: 949 | L99: 95.8
A100: 20 | B100: 481 | C100: 池田町 | D100: 870 | E100: 716 | F100: 655 | G100: 154 | H100: 124 | I100: 26 | J100: 4 | K100: 838 | L100: 96.3
A101: 20 | B101: 482 | C101: 松川村 | D101: 1180 | E101: 1080 | F101: 984 | G101: 104 | H101: 60 | I101: 42 | J101: 2 | K101: 1060 | L101: 89.8
A102: 20 | B102: 483 | C102: 八坂村 | D102: 139 | E102: 52 | F102: 35 | G102: 87 | H102: 76 | I102: 11 | J102: - | K102: 104 | L102: 74.8
A103: 20 | B103: 484 | C103: 美麻村 | D103: 174 | E103: 123 | F103: 85 | G103: 51 | H103: 46 | I103: 5 | J103: 0 | K103: 112 | L103: 64.4
A104: 20 | B104: 485 | C104: 白馬村 | D104: 764 | E104: 668 | F104: 557 | G104: 96 | H104: 86 | I104: 9 | J104: 1 | K104: 668 | L104: 87.4
A105: 20 | B105: 486 | C105: 小谷村 | D105: 468 | E105: 380 | F105: 241 | G105: 88 | H105: 38 | I105: 7 | J105: 43 | K105: 268 | L105: 57.3
A106: 20 | B106: 521 | C106: 坂城町 | D106: 560 | E106: 204 | F106: 186 | G106: 356 | H106: 75 | I106: 281 | J106: - | K106: 521 | L106: 93
A107: 20 | B107: 541 | C107: 小布施町 | D107: 824 | E107: 162 | F107: 158 | G107: 662 | H107: 76 | I107: 586 | J107: 0 | K107: 813 | L107: 98.7
A108: 20 | B108: 543 | C108: 高山村 | D108: 627 | E108: 140 | F108: 121 | G108: 487 | H108: 178 | I108: 304 | J108: 5 | K108: 551 | L108: 87.9
A109: 20 | B109: 561 | C109: 山ノ内町 | D109: 1070 | E109: 182 | F109: 145 | G109: 887 | H109: 180 | I109: 697 | J109: 10 | K109: 930 | L109: 86.9
A110: 20 | B110: 562 | C110: 木島平村 | D110: 914 | E110: 567 | F110: 463 | G110: 347 | H110: 286 | I110: 22 | J110: 39 | K110: 754 | L110: 82.5
A111: 20 | B111: 563 | C111: 野沢温泉村 | D111: 355 | E111: 250 | F111: 185 | G111: 105 | H111: 104 | I111: 1 | J111: - | K111: 279 | L111: 78.6
A112: 20 | B112: 581 | C112: 信州新町 | D112: 612 | E112: 136 | F112: 103 | G112: 476 | H112: 333 | I112: 130 | J112: 13 | K112: 399 | L112: 65.2
A113: 20 | B113: 583 | C113: 信濃町 | D113: 1530 | E113: 969 | F113: 840 | G113: 561 | H113: 377 | I113: 32 | J113: 152 | K113: 1270 | L113: 83
A114: 20 | B114: 584 | C114: 牟礼村 | D114: 803 | E114: 330 | F114: 282 | G114: 473 | H114: 204 | I114: 252 | J114: 17 | K114: 662 | L114: 82.4
A115: 20 | B115: 585 | C115: 三水村 | D115: 967 | E115: 430 | F115: 365 | G115: 537 | H115: 147 | I115: 381 | J115: 9 | K115: 794 | L115: 82.1
A116: 20 | B116: 588 | C116: 小川村 | D116: 378 | E116: 95 | F116: 76 | G116: 283 | H116: 241 | I116: 33 | J116: 9 | K116: 243 | L116: 64.3
...

Sheet 17（長野）2005
A1: 農林水産関係市町村別データ
A2: 平成17年
A3: 耕地面積
A4: 長野県
A5: 都道 | B5: 市町 | D5: 耕地面積 | E5: 田耕地面積 | F5: 田本地面積 | G5: 畑耕地面積 | H5: 普通畑 | I5: 樹園地 | J5: 牧草地 | K5: 田畑計の作 | L5: 田畑計の耕
A6: 府県 | B6: 村 | C6: 市町村名 | K6: 付延べ面積 | L6: 地利用率
A7: ｺｰﾄﾞ | B7: ｺｰﾄﾞ
D8: ha | E8: ha | F8: ha | G8: ha | H8: ha | I8: ha | J8: ha | K8: ha | L8: 0.0%
A9: 20 | B9: 201 | C9: 長野市 | D9: 8100 | E9: 2490 | F9: 2220 | G9: 5610 | H9: 2660 | I9: 2870 | J9: 82 | K9: 6700 | L9: 82.7
A10: 20 | B10: 202 | C10: 松本市 | D10: 6920 | E10: 4490 | F10: 4050 | G10: 2430 | H10: 1420 | I10: 887 | J10: 123 | K10: 6620 | L10: 95.7
A11: 20 | B11: 203 | C11: 上田市 | D11: 5680 | E11: 3060 | F11: 2650 | G11: 2620 | H11: 1620 | I11: 668 | J11: 331 | K11: 4830 | L11: 85
A12: 20 | B12: 204 | C12: 岡谷市 | D12: 265 | E12: 108 | F12: 91 | G12: 157 | H12: 137 | I12: 8 | J12: 12 | K12: 194 | L12: 73.2
A13: 20 | B13: 205 | C13: 飯田市 | D13: 3230 | E13: 1240 | F13: 1060 | G13: 1990 | H13: 922 | I13: 1030 | J13: 34 | K13: 2690 | L13: 83.3
A14: 20 | B14: 206 | C14: 諏訪市 | D14: 693 | E14: 468 | F14: 450 | G14: 225 | H14: 162 | I14: 22 | J14: 41 | K14: 716 | L14: 103.3
A15: 20 | B15: 207 | C15: 須坂市 | D15: 1850 | E15: 290 | F15: 273 | G15: 1560 | H15: 279 | I15: 1260 | J15: 22 | K15: 1730 | L15: 93.5
A16: 20 | B16: 208 | C16: 小諸市 | D16: 2820 | E16: 1100 | F16: 935 | G16: 1720 | H16: 1430 | I16: 224 | J16: 65 | K16: 2660 | L16: 94.3
A17: 20 | B17: 209 | C17: 伊那市 | D17: 5310 | E17: 3590 | F17: 3140 | G17: 1720 | H17: 1460 | I17: 167 | J17: 93 | K17: 4670 | L17: 87.9
A18: 20 | B18: 210 | C18: 駒ヶ根市 | D18: 1960 | E18: 1490 | F18: 1300 | G18: 472 | H18: 348 | I18: 81 | J18: 43 | K18: 1730 | L18: 88.3
A19: 20 | B19: 211 | C19: 中野市 | D19: 3160 | E19: 660 | F19: 578 | G19: 2500 | H19: 1000 | I19: 1500 | J19: - | K19: 2610 | L19: 82.6
A20: 20 | B20: 212 | C20: 大町市 | D20: 2630 | E20: 2260 | F20: 1980 | G20: 370 | H20: 269 | I20: 96 | J20: 5 | K20: 2370 | L20: 90.1
A21: 20 | B21: 213 | C21: 飯山市 | D21: 3570 | E21: 1930 | F21: 1620 | G21: 1640 | H21: 1600 | I21: 46 | J21: - | K21: 2790 | L21: 78.2
A22: 20 | B22: 214 | C22: 茅野市 | D22: 2610 | E22: 1590 | F22: 1360 | G22: 1020 | H22: 980 | I22: 27 | J22: 17 | K22: 1960 | L22: 75.1
A23: 20 | B23: 215 | C23: 塩尻市 | D23: 3090 | E23: 1140 | F23: 1010 | G23: 1950 | H23: 1340 | I23: 553 | J23: 57 | K23: 3600 | L23: 116.5
A24: 20 | B24: 217 | C24: 佐久市 | D24: 6870 | E24: 4110 | F24: 3670 | G24: 2760 | H24: 2300 | I24: 307 | J24: 155 | K24: 5450 | L24: 79.3
A25: 20 | B25: 218 | C25: 千曲市 | D25: 1660 | E25: 875 | F25: 828 | G25: 785 | H25: 257 | I25: 526 | J25: 2 | K25: 1570 | L25: 94.6
A26: 20 | B26: 219 | C26: 東御市 | D26: 2490 | E26: 1160 | F26: 979 | G26: 1330 | H26: 984 | I26: 286 | J26: 59 | K26: 1840 | L26: 73.9
A27: 20 | B27: 220 | C27: 安曇野市 | D27: 7120 | E27: 5600 | F27: 5050 | G27: 1520 | H27: 937 | I27: 567 | J27: 15 | K27: 6050 | L27: 85
A28: 20 | B28: 303 | C28: 小海町 | D28: 974 | E28: 217 | F28: 178 | G28: 757 | H28: 703 | I28: 1 | J28: 53 | K28: 937 | L28: 96.2
A29: 20 | B29: 304 | C29: 川上村 | D29: 1840 | E29: 47 | F29: 38 | G29: 1800 | H29: 1730 | I29: - | J29: 71 | K29: 3120 | L29: 169.6
A30: 20 | B30: 305 | C30: 南牧村 | D30: 1950 | E30: 112 | F30: 94 | G30: 1840 | H30: 1200 | I30: - | J30: 641 | K30: 2510 | L30: 128.7
A31: 20 | B31: 306 | C31: 南相木村 | D31: 308 | E31: 52 | F31: 41 | G31: 256 | H31: 253 | I31: 3 | J31: - | K31: 341 | L31: 110.7
A32: 20 | B32: 307 | C32: 北相木村 | D32: 173 | E32: 30 | F32: 23 | G32: 143 | H32: 143 | I32: - | J32: - | K32: 149 | L32: 86.1
A33: 20 | B33: 309 | C33: 佐久穂町 | D33: 1310 | E33: 745 | F33: 639 | G33: 560 | H33: 467 | I33: 73 | J33: 20 | K33: 1010 | L33: 77.1
A34: 20 | B34: 321 | C34: 軽井沢町 | D34: 346 | E34: 130 | F34: 114 | G34: 216 | H34: 199 | I34: 2 | J34: 15 | K34: 443 | L34: 128
A35: 20 | B35: 323 | C35: 御代田町 | D35: 758 | E35: 245 | F35: 210 | G35: 513 | H35: 466 | I35: 3 | J35: 44 | K35: 1170 | L35: 154.4
A36: 20 | B36: 324 | C36: 立科町 | D36: 1320 | E36: 750 | F36: 626 | G36: 571 | H36: 363 | I36: 150 | J36: 58 | K36: 960 | L36: 72.7
A37: 20 | B37: 349 | C37: 青木村 | D37: 457 | E37: 247 | F37: 184 | G37: 210 | H37: 124 | I37: 32 | J37: 54 | K37: 375 | L37: 82.1
A38: 20 | B38: 350 | C38: 長和町 | D38: 963 | E38: 525 | F38: 409 | G38: 438 | H38: 245 | I38: 38 | J38: 155 | K38: 805 | L38: 83.6
A39: 20 | B39: 361 | C39: 下諏訪町 | D39: 62 | E39: 35 | F39: 28 | G39: 27 | H39: 14 | I39: 13 | J39: - | K39: 53 | L39: 85.5
A40: 20 | B40: 362 | C40: 富士見町 | D40: 1680 | E40: 1040 | F40: 855 | G40: 640 | H40: 515 | I40: 10 | J40: 115 | K40: 1280 | L40: 76.2
A41: 20 | B41: 363 | C41: 原村 | D41: 1160 | E41: 637 | F41: 553 | G41: 525 | H41: 474 | I41: 4 | J41: 47 | K41: 1250 | L41: 107.8
A42: 20 | B42: 382 | C42: 辰野町 | D42: 993 | E42: 587 | F42: 516 | G42: 406 | H42: 352 | I42: 37 | J42: 17 | K42: 651 | L42: 65.6
A43: 20 | B43: 383 | C43: 箕輪町 | D43: 1580 | E43: 792 | F43: 694 | G43: 791 | H43: 596 | I43: 143 | J43: 52 | K43: 1370 | L43: 86.7
A44: 20 | B44: 384 | C44: 飯島町 | D44: 1210 | E44: 882 | F44: 768 | G44: 324 | H44: 215 | I44: 100 | J44: 9 | K44: 1070 | L44: 88.4
A45: 20 | B45: 385 | C45: 南箕輪村 | D45: 921 | E45: 577 | F45: 504 | G45: 344 | H45: 260 | I45: 37 | J45: 47 | K45: 816 | L45: 88.6
A46: 20 | B46: 386 | C46: 中川村 | D46: 782 | E46: 452 | F46: 385 | G46: 330 | H46: 146 | I46: 183 | J46: 1 | K46: 596 | L46: 76.2
A47: 20 | B47: 388 | C47: 宮田村 | D47: 517 | E47: 435 | F47: 377 | G47: 82 | H47: 37 | I47: 43 | J47: 2 | K47: 473 | L47: 91.5
A48: 20 | B48: 402 | C48: 松川町 | D48: 1110 | E48: 277 | F48: 234 | G48: 828 | H48: 195 | I48: 630 | J48: 3 | K48: 913 | L48: 82.3
A49: 20 | B49: 403 | C49: 高森町 | D49: 986 | E49: 349 | F49: 297 | G49: 637 | H49: 207 | I49: 425 | J49: 5 | K49: 860 | L49: 87.2
A50: 20 | B50: 404 | C50: 阿南町 | D50: 544 | E50: 302 | F50: 244 | G50: 242 | H50: 183 | I50: 56 | J50: 3 | K50: 387 | L50: 71.1
A51: 20 | B51: 406 | C51: 清内路村 | D51: 27 | E51: 3 | F51: 2 | G51: 24 | H51: 24 | I51: 0 | J51: - | K51: 13 | L51: 48.1
A52: 20 | B52: 407 | C52: 阿智村 | D52: 462 | E52: 281 | F52: 233 | G52: 181 | H52: 130 | I52: 49 | J52: 2 | K52: 372 | L52: 80.5
A53: 20 | B53: 409 | C53: 平谷村 | D53: 21 | E53: 9 | F53: 7 | G53: 12 | H53: 11 | I53: 0 | J53: 1 | K53: 77 | L53: 366.7
A54: 20 | B54: 410 | C54: 根羽村 | D54: 142 | E54: 76 | F54: 61 | G54: 66 | H54: 39 | I54: 0 | J54: 27 | K54: 149 | L54: 104.9
A55: 20 | B55: 411 | C55: 下條村 | D55: 442 | E55: 191 | F55: 158 | G55: 251 | H55: 106 | I55: 139 | J55: 6 | K55: 420 | L55: 95
A56: 20 | B56: 412 | C56: 売木村 | D56: 119 | E56: 96 | F56: 80 | G56: 23 | H56: 14 | I56: 7 | J56: 2 | K56: 86 | L56: 72.3
A57: 20 | B57: 413 | C57: 天龍村 | D57: 103 | E57: 33 | F57: 26 | G57: 70 | H57: 29 | I57: 39 | J57: 2 | K57: 92 | L57: 89.3
A58: 20 | B58: 414 | C58: 泰阜村 | D58: 209 | E58: 81 | F58: 66 | G58: 128 | H58: 104 | I58: 22 | J58: 2 | K58: 142 | L58: 67.9
A59: 20 | B59: 415 | C59: 喬木村 | D59: 499 | E59: 187 | F59: 155 | G59: 312 | H59: 147 | I59: 163 | J59: 2 | K59: 443 | L59: 88.8
A60: 20 | B60: 416 | C60: 豊丘村 | D60: 624 | E60: 213 | F60: 175 | G60: 411 | H60: 97 | I60: 312 | J60: 2 | K60: 576 | L60: 92.3
A61: 20 | B61: 417 | C61: 大鹿村 | D61: 221 | E61: 80 | F61: 64 | G61: 141 | H61: 101 | I61: 18 | J61: 22 | K61: 220 | L61: 99.5
A62: 20 | B62: 422 | C62: 上松町 | D62: 185 | E62: 104 | F62: 79 | G62: 81 | H62: 42 | I62: 8 | J62: 31 | K62: 156 | L62: 84.3
A63: 20 | B63: 423 | C63: 南木曽町 | D63: 301 | E63: 196 | F63: 148 | G63: 105 | H63: 62 | I63: 20 | J63: 23 | K63: 233 | L63: 77.4
... A77: 20 | B77: 486 | C77: 小谷村 | D77: 468 | E77: 380 | F77: 241 | G77: 88 | H77: 38 | I77: 7 | J77: 43 | K77: 267 | L77: 57.1
A78: 20 | B78: 521 | C78: 坂城町 | D78: 556 | E78: 202 | F78: 184 | G78: 354 | H78: 75 | I78: 279 | J78: - | K78: 519 | L78: 93.3
A79: 20 | B79: 541 | C79: 小布施町 | D79: 824 | E79: 162 | F79: 158 | G79: 662 | H79: 74 | I79: 588 | J79: 0 | K79: 815 | L79: 98.9
A80: 20 | B80: 543 | C80: 高山村 | D80: 626 | E80: 140 | F80: 121 | G80: 486 | H80: 181 | I80: 300 | J80: 5 | K80: 549 | L80: 87.7
A81: 20 | B81: 561 | C81: 山ノ内町 | D81: 1060 | E81: 179 | F81: 143 | G81: 882 | H81: 175 | I81: 697 | J81: 10 | K81: 922 | L81: 87
A82: 20 | B82: 562 | C82: 木島平村 | D82: 906 | E82: 565 | F82: 462 | G82: 341 | H82: 281 | I82: 21 | J82: 39 | K82: 741 | L82: 81.8
A83: 20 | B83: 563 | C83: 野沢温泉村 | D83: 350 | E83: 249 | F83: 184 | G83: 101 | H83: 101 | I83: 0 | J83: - | K83: 266 | L83: 76
A84: 20 | B84: 581 | C84: 信州新町 | D84: 609 | E84: 135 | F84: 102 | G84: 474 | H84: 336 | I84: 125 | J84: 13 | K84: 393 | L84: 64.5
A85: 20 | B85: 583 | C85: 信濃町 | D85: 1530 | E85: 969 | F85: 840 | G85: 561 | H85: 377 | I85: 32 | J85: 152 | K85: 1270 | L85: 83
A86: 20 | B86: 588 | C86: 小川村 | D86: 376 | E86: 95 | F86: 76 | G86: 281 | H86: 242 | I86: 30 | J86: 9 | K86: 240 | L86: 63.8
A87: 20 | B87: 589 | C87: 中条村 | D87: 327 | E87: 59 | F87: 43 | G87: 268 | H87: 228 | I87: 38 | J87: 2 | K87: 189 | L87: 57.8
A88: 20 | B88: 590 | C88: 飯綱町 | D88: 1770 | E88: 760 | F88: 647 | G88: 1010 | H88: 350 | I88: 633 | J88: 26 | K88: 1460 | L88: 82.5
A89: 20 | B89: 602 | C89: 栄村 | D89: 692 | E89: 367 | F89: 282 | G89: 325 | H89: 239 | I89: 13 | J89: 73 | K89: 510 | L89: 73.7
A91: 利用上の注意 | D91: =SUM(D9:D90) -> 113562 | E91: =SUM(E9:E90) -> 57660 | F91: =SUM(F9:F90) -> 50119 | G91: =SUM(G9:G90) -> 55906 | H91: =SUM(H9:H90) -> 35247 | I91: =SUM(I9:I90) -> 17093 | J91: =SUM(J9:J90) -> 3574
A92: この市町村別データは、『作物統計調査』の県計値を当該市町村における調査結果、関係機関・団体からの情報等により加工したものである。

Sheet 18（長野）2006
A1: 農林水産関係市町村別データ
A2: 平成18年
A3: 耕地面積
A4: 長野県
A5: 都道 | B5: 市町 | D5: 耕地面積 | E5: 田耕地面積 | F5: 田本地面積 | G5: 畑耕地面積 | H5: 普通畑 | I5: 樹園地 | J5: 牧草地 | K5: 田畑計の作 | L5: 田畑計の耕
A6: 府県 | B6: 村 | C6: 市町村名 | K6: 付延べ面積 | L6: 地利用率
A7: ｺｰﾄﾞ | B7: ｺｰﾄﾞ
D8: ha | E8: ha | F8: ha | G8: ha | H8: ha | I8: ha | J8: ha | K8: ha | L8: 0.0%
A9: 20 | B9: 201 | C9: 長野市 | D9: 8070 | E9: 2460 | F9: 2190 | G9: 5610 | H9: 2720 | I9: 2810 | J9: 82 | K9: 6510 | L9: 80.7
A10: 20 | B10: 202 | C10: 松本市 | D10: 6870 | E10: 4460 | F10: 4020 | G10: 2410 | H10: 1410 | I10: 876 | J10: 123 | K10: 6660 | L10: 96.9
A11: 20 | B11: 203 | C11: 上田市 | D11: 5630 | E11: 3050 | F11: 2630 | G11: 2590 | H11: 1620 | I11: 634 | J11: 330 | K11: 4810 | L11: 85.4
A12: 20 | B12: 204 | C12: 岡谷市 | D12: 258 | E12: 101 | F12: 87 | G12: 157 | H12: 137 | I12: 8 | J12: 12 | K12: 196 | L12: 76
A13: 20 | B13: 205 | C13: 飯田市 | D13: 3190 | E13: 1210 | F13: 1030 | G13: 1980 | H13: 920 | I13: 1020 | J13: 34 | K13: 2650 | L13: 83.1
A14: 20 | B14: 206 | C14: 諏訪市 | D14: 687 | E14: 459 | F14: 441 | G14: 228 | H14: 166 | I14: 21 | J14: 41 | K14: 711 | L14: 103.5
A15: 20 | B15: 207 | C15: 須坂市 | D15: 1850 | E15: 288 | F15: 271 | G15: 1560 | H15: 289 | I15: 1250 | J15: 22 | K15: 1720 | L15: 93
A16: 20 | B16: 208 | C16: 小諸市 | D16: 2800 | E16: 1100 | F16: 932 | G16: 1700 | H16: 1420 | I16: 221 | J16: 65 | K16: 2640 | L16: 94.3
A17: 20 | B17: 209 | C17: 伊那市 | D17: 5290 | E17: 3570 | F17: 3110 | G17: 1720 | H17: 1470 | I17: 158 | J17: 91 | K17: 4640 | L17: 87.7
A18: 20 | B18: 210 | C18: 駒ヶ根市 | D18: 1950 | E18: 1480 | F18: 1290 | G18: 471 | H18: 347 | I18: 80 | J18: 44 | K18: 1690 | L18: 86.7
A19: 20 | B19: 211 | C19: 中野市 | D19: 3140 | E19: 646 | F19: 566 | G19: 2500 | H19: 1010 | I19: 1490 | J19: - | K19: 2600 | L19: 82.8
A20: 20 | B20: 212 | C20: 大町市 | D20: 2620 | E20: 2250 | F20: 1980 | G20: 368 | H20: 276 | I20: 86 | J20: 6 | K20: 2350 | L20: 89.7
A21: 20 | B21: 213 | C21: 飯山市 | D21: 3530 | E21: 1900 | F21: 1600 | G21: 1630 | H21: 1590 | I21: 42 | J21: - | K21: 2690 | L21: 76.2
A22: 20 | B22: 214 | C22: 茅野市 | D22: 2590 | E22: 1550 | F22: 1330 | G22: 1040 | H22: 997 | I22: 26 | J22: 17 | K22: 1920 | L22: 74.1
A23: 20 | B23: 215 | C23: 塩尻市 | D23: 3080 | E23: 1130 | F23: 1010 | G23: 1950 | H23: 1350 | I23: 542 | J23: 57 | K23: 3590 | L23: 116.6
A24: 20 | B24: 217 | C24: 佐久市 | D24: 6830 | E24: 4090 | F24: 3650 | G24: 2740 | H24: 2290 | I24: 308 | J24: 140 | K24: 5380 | L24: 78.8
A25: 20 | B25: 218 | C25: 千曲市 | D25: 1650 | E25: 869 | F25: 823 | G25: 784 | H25: 271 | I25: 511 | J25: 2 | K25: 1560 | L25: 94.5
A26: 20 | B26: 219 | C26: 東御市 | D26: 2470 | E26: 1160 | F26: 977 | G26: 1310 | H26: 976 | I26: 279 | J26: 59 | K26: 1840 | L26: 74.5
A27: 20 | B27: 220 | C27: 安曇野市 | D27: 7110 | E27: 5590 | F27: 5050 | G27: 1520 | H27: 931 | I27: 571 | J27: 15 | K27: 6020 | L27: 84.7
A28: 20 | B28: 303 | C28: 小海町 | D28: 971 | E28: 215 | F28: 176 | G28: 756 | H28: 703 | I28: 1 | J28: 52 | K28: 930 | L28: 95.8
A29: 20 | B29: 304 | C29: 川上村 | D29: 1840 | E29: 47 | F29: 38 | G29: 1800 | H29: 1730 | I29: - | J29: 71 | K29: 3160 | L29: 171.7
A30: 20 | B30: 305 | C30: 南牧村 | D30: 1950 | E30: 112 | F30: 94 | G30: 1840 | H30: 1200 | I30: - | J30: 638 | K30: 2520 | L30: 129.2
A31: 20 | B31: 306 | C31: 南相木村 | D31: 307 | E31: 52 | F31: 41 | G31: 255 | H31: 252 | I31: 3 | J31: - | K31: 332 | L31: 108.1
A32: 20 | B32: 307 | C32: 北相木村 | D32: 170 | E32: 30 | F32: 23 | G32: 140 | H32: 140 | I32: - | J32: - | K32: 153 | L32: 90
A33: 20 | B33: 309 | C33: 佐久穂町 | D33: 1300 | E33: 739 | F33: 634 | G33: 561 | H33: 468 | I33: 74 | J33: 19 | K33: 1000 | L33: 76.9
A34: 20 | B34: 321 | C34: 軽井沢町 | D34: 342 | E34: 129 | F34: 113 | G34: 213 | H34: 197 | I34: 2 | J34: 14 | K34: 441 | L34: 128.9
A35: 20 | B35: 323 | C35: 御代田町 | D35: 754 | E35: 244 | F35: 209 | G35: 510 | H35: 463 | I35: 3 | J35: 44 | K35: 1150 | L35: 152.5
A36: 20 | B36: 324 | C36: 立科町 | D36: 1320 | E36: 747 | F36: 623 | G36: 572 | H36: 362 | I36: 150 | J36: 60 | K36: 963 | L36: 73
A37: 20 | B37: 349 | C37: 青木村 | D37: 454 | E37: 246 | F37: 183 | G37: 208 | H37: 123 | I37: 31 | J37: 54 | K37: 365 | L37: 80.4
A38: 20 | B38: 350 | C38: 長和町 | D38: 958 | E38: 523 | F38: 407 | G38: 435 | H38: 240 | I38: 40 | J38: 155 | K38: 796 | L38: 83.1
A39: 20 | B39: 361 | C39: 下諏訪町 | D39: 60 | E39: 32 | F39: 26 | G39: 28 | H39: 16 | I39: 12 | J39: - | K39: 51 | L39: 85
A40: 20 | B40: 362 | C40: 富士見町 | D40: 1670 | E40: 1010 | F40: 829 | G40: 664 | H40: 540 | I40: 9 | J40: 115 | K40: 1260 | L40: 75.4
A41: 20 | B41: 363 | C41: 原村 | D41: 1160 | E41: 612 | F41: 531 | G41: 545 | H41: 494 | I41: 4 | J41: 47 | K41: 1240 | L41: 106.9
A42: 20 | B42: 382 | C42: 辰野町 | D42: 988 | E42: 581 | F42: 511 | G42: 407 | H42: 360 | I42: 33 | J42: 14 | K42: 637 | L42: 64.5
A43: 20 | B43: 383 | C43: 箕輪町 | D43: 1580 | E43: 786 | F43: 689 | G43: 790 | H43: 601 | I43: 134 | J43: 55 | K43: 1340 | L43: 84.8
A44: 20 | B44: 384 | C44: 飯島町 | D44: 1200 | E44: 879 | F44: 765 | G44: 324 | H44: 210 | I44: 105 | J44: 9 | K44: 1050 | L44: 87.5
A45: 20 | B45: 385 | C45: 南箕輪村 | D45: 916 | E45: 575 | F45: 503 | G45: 341 | H45: 258 | I45: 35 | J45: 48 | K45: 809 | L45: 88.3
A46: 20 | B46: 386 | C46: 中川村 | D46: 778 | E46: 448 | F46: 382 | G46: 330 | H46: 158 | I46: 171 | J46: 1 | K46: 580 | L46: 74.6
A47: 20 | B47: 388 | C47: 宮田村 | D47: 513 | E47: 431 | F47: 374 | G47: 82 | H47: 38 | I47: 42 | J47: 2 | K47: 466 | L47: 90.8
A48: 20 | B48: 402 | C48: 松川町 | D48: 1100 | E48: 276 | F48: 233 | G48: 824 | H48: 194 | I48: 627 | J48: 3 | K48: 908 | L48: 82.5
A49: 20 | B49: 403 | C49: 高森町 | D49: 980 | E49: 347 | F49: 295 | G49: 633 | H49: 206 | I49: 422 | J49: 5 | K49: 846 | L49: 86.3
A50: 20 | B50: 404 | C50: 阿南町 | D50: 533 | E50: 294 | F50: 237 | G50: 239 | H50: 181 | I50: 55 | J50: 3 | K50: 374 | L50: 70.2
A51: 20 | B51: 406 | C51: 清内路村 | D51: 27 | E51: 3 | F51: 2 | G51: 24 | H51: 24 | I51: 0 | J51: - | K51: 13 | L51: 48.1
A52: 20 | B52: 407 | C52: 阿智村 | D52: 456 | E52: 279 | F52: 232 | G52: 177 | H52: 127 | I52: 48 | J52: 2 | K52: 372 | L52: 81.6
A53: 20 | B53: 409 | C53: 平谷村 | D53: 21 | E53: 9 | F53: 7 | G53: 12 | H53: 11 | I53: 0 | J53: 1 | K53: 77 | L53: 366.7
A54: 20 | B54: 410 | C54: 根羽村 | D54: 142 | E54: 76 | F54: 61 | G54: 66 | H54: 39 | I54: 0 | J54: 27 | K54: 145 | L54: 102.1
A55: 20 | B55: 411 | C55: 下條村 | D55: 441 | E55: 191 | F55: 158 | G55: 250 | H55: 106 | I55: 138 | J55: 6 | K55: 426 | L55: 96.6
A56: 20 | B56: 412 | C56: 売木村 | D56: 118 | E56: 93 | F56: 77 | G56: 25 | H56: 16 | I56: 7 | J56: 2 | K56: 85 | L56: 72
A57: 20 | B57: 413 | C57: 天龍村 | D57: 103 | E57: 33 | F57: 26 | G57: 70 | H57: 29 | I57: 39 | J57: 2 | K57: 91 | L57: 88.3
A58: 20 | B58: 414 | C58: 泰阜村 | D58: 205 | E58: 81 | F58: 66 | G58: 124 | H58: 101 | I58: 21 | J58: 2 | K58: 139 | L58: 67.8
A59: 20 | B59: 415 | C59: 喬木村 | D59: 496 | E59: 186 | F59: 154 | G59: 310 | H59: 146 | I59: 162 | J59: 2 | K59: 436 | L59: 87.9
A60: 20 | B60: 416 | C60: 豊丘村 | D60: 615 | E60: 206 | F60: 171 | G60: 409 | H60: 97 | I60: 310 | J60: 2 | K60: 562 | L60: 91.4
A61: 20 | B61: 417 | C61: 大鹿村 | D61: 220 | E61: 80 | F61: 64 | G61: 140 | H61: 100 | I61: 18 | J61: 22 | K61: 215 | L61: 97.7
A62: 20 | B62: 422 | C62: 上松町 | D62: 183 | E62: 103 | F62: 78 | G62: 80 | H62: 41 | I62: 8 | J62: 31 | K62: 161 | L62: 88
A63: 20 | B63: 423 | C63: 南木曽町 | D63: 299 | E63: 195 | F63: 147 | G63: 104 | H63: 61 | I63: 20 | J63: 23 | K63: 233 | L63: 77.9
... A77: 20 | B77: 486 | C77: 小谷村 | D77: 468 | E77: 380 | F77: 241 | G77: 88 | H77: 39 | I77: 5 | J77: 44 | K77: 260 | L77: 55.6
A78: 20 | B78: 521 | C78: 坂城町 | D78: 554 | E78: 201 | F78: 183 | G78: 353 | H78: 83 | I78: 270 | J78: - | K78: 508 | L78: 91.7
A79: 20 | B79: 541 | C79: 小布施町 | D79: 823 | E79: 161 | F79: 157 | G79: 662 | H79: 81 | I79: 581 | J79: - | K79: 805 | L79: 97.8
A80: 20 | B80: 543 | C80: 高山村 | D80: 626 | E80: 140 | F80: 121 | G80: 486 | H80: 177 | I80: 304 | J80: 5 | K80: 550 | L80: 87.9
A81: 20 | B81: 561 | C81: 山ノ内町 | D81: 1060 | E81: 177 | F81: 141 | G81: 880 | H81: 175 | I81: 695 | J81: 10 | K81: 923 | L81: 87.1
A82: 20 | B82: 562 | C82: 木島平村 | D82: 903 | E82: 563 | F82: 460 | G82: 340 | H82: 280 | I82: 21 | J82: 39 | K82: 739 | L82: 81.8
A83: 20 | B83: 563 | C83: 野沢温泉村 | D83: 346 | E83: 247 | F83: 183 | G83: 99 | H83: 99 | I83: 0 | J83: - | K83: 260 | L83: 75.1
A84: 20 | B84: 581 | C84: 信州新町 | D84: 607 | E84: 135 | F84: 102 | G84: 472 | H84: 339 | I84: 120 | J84: 13 | K84: 384 | L84: 63.3
A85: 20 | B85: 583 | C85: 信濃町 | D85: 1530 | E85: 969 | F85: 840 | G85: 559 | H85: 377 | I85: 32 | J85: 150 | K85: 1260 | L85: 82.4
A86: 20 | B86: 588 | C86: 小川村 | D86: 374 | E86: 95 | F86: 76 | G86: 279 | H86: 241 | I86: 29 | J86: 9 | K86: 226 | L86: 60.4
A87: 20 | B87: 589 | C87: 中条村 | D87: 325 | E87: 59 | F87: 43 | G87: 266 | H87: 227 | I87: 37 | J87: 2 | K87: 180 | L87: 55.4
A88: 20 | B88: 590 | C88: 飯綱町 | D88: 1770 | E88: 760 | F88: 647 | G88: 1010 | H88: 352 | I88: 630 | J88: 26 | K88: 1460 | L88: 82.5
A89: 20 | B89: 602 | C89: 栄村 | D89: 689 | E89: 365 | F89: 281 | G89: 324 | H89: 238 | I89: 13 | J89: 73 | K89: 521 | L89: 75.6
A91: 利用上の注意 | D91: =SUM(D9:D89) -> 112965 | E91: =SUM(E9:E89) -> 57215 | F91: =SUM(F9:F89) -> 49732 | G91: =SUM(G9:G89) -> 55761 | H91: =SUM(H9:H89) -> 35369 | I91: =SUM(I9:I89) -> 16831 | J91: =SUM(J9:J89) -> 3553
A92: この市町村別データは、「耕地面積調査」の県計値を当該市町村における調査結果、関係機関からの情報等
A93: により加工したものである。

Sheet 19（長野）2007
A1: 農林水産関係市町村別データ
A2: 平成19年
A3: 耕地面積
A4: 長野県
A5: 都道 | B5: 市町 | D5: 耕地面積 | E5: 田耕地面積 | F5: 田本地面積 | G5: 畑耕地面積
A6: 府県 | B6: 村 | C6: 市町村名
A7: ｺｰﾄﾞ | B7: ｺｰﾄﾞ
D8: ha | E8: ha | F8: ha | G8: ha
A9: 20 | B9: 201 | C9: 長野市 | D9: 8020 | E9: 2430 | F9: 2160 | G9: 5600
A10: 20 | B10: 202 | C10: 松本市 | D10: 6860 | E10: 4460 | F10: 4020 | G10: 2410
A11: 20 | B11: 203 | C11: 上田市 | D11: 5600 | E11: 3030 | F11: 2620 | G11: 2570
A12: 20 | B12: 204 | C12: 岡谷市 | D12: 251 | E12: 96 | F12: 83 | G12: 155
A13: 20 | B13: 205 | C13: 飯田市 | D13: 3160 | E13: 1200 | F13: 1020 | G13: 1960
A14: 20 | B14: 206 | C14: 諏訪市 | D14: 679 | E14: 449 | F14: 431 | G14: 230
A15: 20 | B15: 207 | C15: 須坂市 | D15: 1850 | E15: 287 | F15: 270 | G15: 1560
A16: 20 | B16: 208 | C16: 小諸市 | D16: 2790 | E16: 1090 | F16: 926 | G16: 1700
A17: 20 | B17: 209 | C17: 伊那市 | D17: 5260 | E17: 3550 | F17: 3090 | G17: 1710
A18: 20 | B18: 210 | C18: 駒ヶ根市 | D18: 1930 | E18: 1470 | F18: 1280 | G18: 466
A19: 20 | B19: 211 | C19: 中野市 | D19: 3100 | E19: 643 | F19: 564 | G19: 2460
A20: 20 | B20: 212 | C20: 大町市 | D20: 2610 | E20: 2250 | F20: 1970 | G20: 360
... A89: 20 | B89: 602 | C89: 栄村 | D89: 679 | E89: 363 | F89: 279 | G89: 316
A91: 利用上の注意 | D91: =SUM(D9:D90) -> 112282 | E91: =SUM(E9:E90) -> 56792 | F91: =SUM(F9:F90) -> 49344 | G91: =SUM(G9:G90) -> 55512
A92: １ この市町村別データは、「作物統計調査」を実施する上で把握した地域における標本調査及び現地見積りの結果、
A93: 関係機関からの情報等をもとに都道府県計値の内訳として市町村別に作成した加工統計であり、作成するうえで
A94: 精度を設定しているものではない。
A95: なお、「作物統計調査」は都道府県計値を求めるために設計されている。
A96: ２ 市町村間の出作・入作を考慮していない（属地統計）。
A97: ３ 数値については、四捨五入しており、都道府県計値と市町村別の内訳の計が一致しないことがある。

Sheet 20（長野）2008
A1: 農林水産関係市町村別データ
A2: 平成20年
A3: 耕地面積
A4: 長野県
A5: 都道 | B5: 市町 | D5: 耕地面積 | E5: 田耕地面積 | G5: 畑耕地面積
A6: 府県 | B6: 村 | C6: 市町村名 | F6: 田本地面積
A7: ｺｰﾄﾞ | B7: ｺｰﾄﾞ
D8: ha | E8: ha | F8: ha | G8: ha
A9: 20 | B9: 201 | C9: 長野市 | D9: 7960 | E9: 2380 | F9: 2120 | G9: 5570
A10: 20 | B10: 202 | C10: 松本市 | D10: 6860 | E10: 4460 | F10: 4020 | G10: 2410
A11: 20 | B11: 203 | C11: 上田市 | D11: 5560 | E11: 3000 | F11: 2590 | G11: 2560
A12: 20 | B12: 204 | C12: 岡谷市 | D12: 246 | E12: 90 | F12: 78 | G12: 156
A13: 20 | B13: 205 | C13: 飯田市 | D13: 3130 | E13: 1160 | F13: 997 | G13: 1970
A14: 20 | B14: 206 | C14: 諏訪市 | D14: 672 | E14: 439 | F14: 421 | G14: 233
A15: 20 | B15: 207 | C15: 須坂市 | D15: 1830 | E15: 280 | F15: 263 | G15: 1550
A16: 20 | B16: 208 | C16: 小諸市 | D16: 2790 | E16: 1090 | F16: 924 | G16: 1700
A17: 20 | B17: 209 | C17: 伊那市 | D17: 5220 | E17: 3510 | F17: 3060 | G17: 1720
A18: 20 | B18: 210 | C18: 駒ヶ根市 | D18: 1910 | E18: 1440 | F18: 1260 | G18: 468
A19: 20 | B19: 211 | C19: 中野市 | D19: 3090 | E19: 628 | F19: 551 | G19: 2460
A20: 20 | B20: 212 | C20: 大町市 | D20: 2610 | E20: 2250 | F20: 1970 | G20: 360
... A89: 20 | B89: 602 | C89: 栄村 | D89: 662 | E89: 359 | F89: 276 | G89: 303
A91: 利用上の注意 | D91: =SUM(D9:D90) -> 111544 | E91: =SUM(E9:E90) -> 55995 | F91: =SUM(F9:F90) -> 48668 | G91: =SUM(G9:G90) -> 55547
A92: １ この市町村別データは、「作物統計調査」を実施する上で把握した地域における標本調査及び現地見積りの結果、
A93: 関係機関からの情報等をもとに都道府県計値の内訳として市町村別に作成した加工統計であり、作成するうえで
A94: 精度を設定しているものではない。
A95: なお、「作物統計調査」は都道府県計値を求めるために設計されている。
A96: ２ 市町村間の出作・入作を考慮していない（属地統計）。
A97: ３ 数値については、四捨五入しており、都道府県計値と市町村別の内訳の計が一致しないことがある。

Sheet 21（長野）2009
A1: 農林水産関係市町村別データ
A2: 平成21年産
A3: 耕地面積
A4: 長野県
A5: 都道 | B5: 市町 | D5: 耕地面積 | E5: 田耕地面積 | G5: 畑耕地面積
A6: 府県 | B6: 村 | C6: 市町村名 | F6: 田本地面積
A7: ｺｰﾄﾞ | B7: ｺｰﾄﾞ
D8: ha | E8: ha | F8: ha | G8: ha
A9: 20 | B9: 201 | C9: 長野市 | D9: 7920 | E9: 2360 | F9: 2110 | G9: 5570
A10: 20 | B10: 202 | C10: 松本市 | D10: 6870 | E10: 4460 | F10: 4020 | G10: 2410
A11: 20 | B11: 203 | C11: 上田市 | D11: 5550 | E11: 2980 | F11: 2580 | G11: 2570
A12: 20 | B12: 204 | C12: 岡谷市 | D12: 244 | E12: 87 | F12: 75 | G12: 157
A13: 20 | B13: 205 | C13: 飯田市 | D13: 3100 | E13: 1140 | F13: 975 | G13: 1970
A14: 20 | B14: 206 | C14: 諏訪市 | D14: 668 | E14: 434 | F14: 416 | G14: 234
A15: 20 | B15: 207 | C15: 須坂市 | D15: 1830 | E15: 280 | F15: 263 | G15: 1550
A16: 20 | B16: 208 | C16: 小諸市 | D16: 2790 | E16: 1090 | F16: 921 | G16: 1700
A17: 20 | B17: 209 | C17: 伊那市 | D17: 5210 | E17: 3490 | F17: 3040 | G17: 1720
A18: 20 | B18: 210 | C18: 駒ヶ根市 | D18: 1890 | E18: 1430 | F18: 1250 | G18: 465
A19: 20 | B19: 211 | C19: 中野市 | D19: 3090 | E19: 627 | F19: 550 | G19: 2460
A20: 20 | B20: 212 | C20: 大町市 | D20: 2610 | E20: 2250 | F20: 1970 | G20: 361
... A88: 20 | B88: 602 | C88: 栄村 | D88: 647 | E88: 359 | F88: 276 | G88: 288
A90: 利用上の注意 | D90: =SUM(D9:D89) -> 111357 | E90: =SUM(E9:E89) -> 55651 | F90: =SUM(F9:F89) -> 48384 | G90: =SUM(G9:G89) -> 55711
A91: １ この市町村別データは、「作物統計調査」を実施する上で把握した地域における標本調査及び現地見積りの結果、
A92: 関係機関からの情報等をもとに都道府県計値の内訳として市町村別に作成した加工統計であり、作成するうえで
A93: 精度を設定しているものではない。
A94: なお、「作物統計調査」は都道府県計値を求めるために設計されている。
A95: ２ 市町村間の出作・入作を考慮していない（属地統計）。
A96: ３ 数値については、四捨五入しており、都道府県計値と市町村別の内訳の計が一致しないことがある。

Sheet 22（長野）2010
A1: 農林水産関係市町村別統計
A2: 平成22年
A3: 耕地面積
A4: 長野県
A5: 都道 | B5: 市町 | D5: 耕地面積 | E5: 田耕地面積 | G5: 畑耕地面積
A6: 府県 | B6: 村 | C6: 市町村名 | F6: 田本地面積
A7: ｺｰﾄﾞ | B7: ｺｰﾄﾞ
D8: ha | E8: ha | F8: ha | G8: ha
A9: 20 | B9: 201 | C9: 長野市 | D9: 8790 | E9: 2520 | F9: 2230 | G9: 6270
A10: 20 | B10: 202 | C10: 松本市 | D10: 7790 | E10: 4930 | F10: 4460 | G10: 2860
A11: 20 | B11: 203 | C11: 上田市 | D11: 5540 | E11: 2980 | F11: 2580 | G11: 2560
A12: 20 | B12: 204 | C12: 岡谷市 | D12: 244 | E12: 85 | F12: 73 | G12: 159
A13: 20 | B13: 205 | C13: 飯田市 | D13: 3080 | E13: 1100 | F13: 944 | G13: 1980
A14: 20 | B14: 206 | C14: 諏訪市 | D14: 668 | E14: 432 | F14: 414 | G14: 236
A15: 20 | B15: 207 | C15: 須坂市 | D15: 1820 | E15: 279 | F15: 262 | G15: 1540
A16: 20 | B16: 208 | C16: 小諸市 | D16: 2800 | E16: 1090 | F16: 919 | G16: 1710
A17: 20 | B17: 209 | C17: 伊那市 | D17: 5200 | E17: 3470 | F17: 3030 | G17: 1730
A18: 20 | B18: 210 | C18: 駒ヶ根市 | D18: 1890 | E18: 1420 | F18: 1240 | G18: 473
A19: 20 | B19: 211 | C19: 中野市 | D19: 3080 | E19: 622 | F19: 546 | G19: 2460
A20: 20 | B20: 212 | C20: 大町市 | D20: 2600 | E20: 2240 | F20: 1970 | G20: 360
... A85: 20 | B85: 602 | C85: 栄村 | D85: 648 | E85: 358 | F85: 275 | G85: 290
A87: 利用上の注意 | D87: =SUM(D9:D86) -> 111203 | E87: =SUM(E9:E86) -> 55388 | F87: =SUM(F9:F86) -> 48182 | G87: =SUM(G9:G86) -> 55844
A88: １ この市町村別統計は、「作物統計調査」を実施する上で把握した地域における標本調査及び現地見積りの結果、
A89: 関係機関からの情報等を踏まえ、都道府県計値の内訳として市町村別に作成した加工統計であり、作成するうえで
A90: 精度を設定しているものではない。
A91: なお、「作物統計調査」は都道府県計値を求めるために設計されている。
A92: ２ 耕作者の市町村間の出作・入作を考慮していない（属地統計）。
A93: ３ 数値は四捨五入しており、市町村値の計が都道府県値と一致しないことがある。

Sheet 23（長野）2011
A1: 農林水産関係市町村別統計
A2: 平成23年
A3: 耕地面積
A4: 長野県
A5: 都道 | B5: 市町 | D5: 耕地面積 | E5: 田耕地面積 | G5: 畑耕地面積
A6: 府県 | B6: 村 | C6: 市町村名 | F6: 田本地面積
A7: ｺｰﾄﾞ | B7: ｺｰﾄﾞ
D8: ha | E8: ha | F8: ha | G8: ha
A9: 20 | B9: 201 | C9: 長野市 | D9: 8750 | E9: 2500 | F9: 2210 | G9: 6250
A10: 20 | B10: 202 | C10: 松本市 | D10: 7780 | E10: 4930 | F10: 4460 | G10: 2860
A11: 20 | B11: 203 | C11: 上田市 | D11: 5530 | E11: 2970 | F11: 2570 | G11: 2560
A12: 20 | B12: 204 | C12: 岡谷市 | D12: 244 | E12: 85 | F12: 73 | G12: 159
A13: 20 | B13: 205 | C13: 飯田市 | D13: 3050 | E13: 1090 | F13: 934 | G13: 1970
A14: 20 | B14: 206 | C14: 諏訪市 | D14: 668 | E14: 432 | F14: 414 | G14: 236
A15: 20 | B15: 207 | C15: 須坂市 | D15: 1820 | E15: 279 | F15: 262 | G15: 1540
A16: 20 | B16: 208 | C16: 小諸市 | D16: 2810 | E16: 1080 | F16: 916 | G16: 1730
A17: 20 | B17: 209 | C17: 伊那市 | D17: 5200 | E17: 3470 | F17: 3030 | G17: 1730
A18: 20 | B18: 210 | C18: 駒ヶ根市 | D18: 1890 | E18: 1420 | F18: 1240 | G18: 474
A19: 20 | B19: 211 | C19: 中野市 | D19: 3060 | E19: 619 | F19: 543 | G19: 2450
A20: 20 | B20: 212 | C20: 大町市 | D20: 2600 | E20: 2240 | F20: 1960 | G20: 358
... A85: 20 | B85: 602 | C85: 栄村 | D85: 585 | E85: 298 | F85: 223 | G85: 287
C87: 計 | D87: 111000 | E87: 55200 | F87: 48000 | G87: 55800
A89: 利用上の注意 | D89: =SUM(D9:D85) -> 110963 | E89: =SUM(E9:E85) -> 55222 | F89: =SUM(F9:F85) -> 48008 | G89: =SUM(G9:G85) -> 55786
A90: １ この市町村別統計は、「作物統計調査」を実施する上で把握した地域における標本調査及び現地見積りの結果、
A91: 関係機関からの情報等を踏まえ、都道府県計値の内訳として市町村別に作成した加工統計であり、作成するうえで
A92: 精度を設定しているものではない。
A93: なお、「作物統計調査」は都道府県計値を求めるために設計されている。
A94: ２ 耕作者の市町村間の出作・入作を考慮していない（属地統計）。
A95: ３ 数値は四捨五入しており、市町村値の計が都道府県値と一致しないことがある。

Sheet 24（長野）2012
A1: 農林水産関係市町村別統計
A2: 平成24年
A3: 耕地面積
A4: 長野県
A5: 都道 | B5: 市町 | D5: 耕地面積 | E5: 田耕地面積 | G5: 畑耕地面積
A6: 府県 | B6: 村 | C6: 市町村名 | F6: 田本地面積
A7: ｺｰﾄﾞ | B7: ｺｰﾄﾞ
D8: ha | E8: ha | F8: ha | G8: ha
A9: 20 | B9: 201 | C9: 長野市 | D9: 8720 | E9: 2480 | F9: 2190 | G9: 6230
A10: 20 | B10: 202 | C10: 松本市 | D10: 7760 | E10: 4910 | F10: 4440 | G10: 2850
A11: 20 | B11: 203 | C11: 上田市 | D11: 5530 | E11: 2960 | F11: 2560 | G11: 2570
A12: 20 | B12: 204 | C12: 岡谷市 | D12: 241 | E12: 83 | F12: 71 | G12: 158
A13: 20 | B13: 205 | C13: 飯田市 | D13: 3040 | E13: 1070 | F13: 922 | G13: 1970
A14: 20 | B14: 206 | C14: 諏訪市 | D14: 664 | E14: 429 | F14: 412 | G14: 235
A15: 20 | B15: 207 | C15: 須坂市 | D15: 1810 | E15: 278 | F15: 261 | G15: 1530
A16: 20 | B16: 208 | C16: 小諸市 | D16: 2820 | E16: 1080 | F16: 915 | G16: 1740
A17: 20 | B17: 209 | C17: 伊那市 | D17: 5210 | E17: 3460 | F17: 3020 | G17: 1750
A18: 20 | B18: 210 | C18: 駒ヶ根市 | D18: 1890 | E18: 1410 | F18: 1230 | G18: 478
A19: 20 | B19: 211 | C19: 中野市 | D19: 3060 | E19: 619 | F19: 543 | G19: 2440
A20: 20 | B20: 212 | C20: 大町市 | D20: 2590 | E20: 2240 | F20: 1960 | G20: 357
... A85: 20 | B85: 602 | C85: 栄村 | D85: 645 | E85: 356 | F85: 273 | G85: 289
C87: 計 | D87: 110900 | E87: 55000 | F87: 47900 | G87: 55800
A89: 利用上の注意 | D89: =SUM(D9:D85) -> 110878 | E89: =SUM(E9:E85) -> 55049 | F89: =SUM(F9:F85) -> 47874 | G89: =SUM(G9:G85) -> 55816
A90: １ この市町村別統計は、「作物統計調査」を実施する上で把握した地域における標本調査及び現地見積りの結果、
A91: 関係機関からの情報等を踏まえ、都道府県計値の内訳として市町村別に作成した加工統計であり、作成する上で
A92: 精度を設定しているものではない。
A93: なお、「作物統計調査」は都道府県計値を求めるために設計されている。
A94: ２ 耕作者の市町村間の出作・入作を考慮していない（属地統計）。
A95: ３ 数値は四捨五入しており、市町村値の計が都道府県値と一致しないことがある。

Sheet 25（長野）2013
A1: 農林水産関係市町村別統計
A2: 平成25年
A3: 耕地面積
A4: 長野県
A5: 都道 | B5: 市町 | D5: 耕地面積 | E5: 田耕地面積 | G5: 畑耕地面積
A6: 府県 | B6: 村 | C6: 市町村名 | F6: 田本地面積
A7: ｺｰﾄﾞ | B7: ｺｰﾄﾞ
D8: ha | E8: ha | F8: ha | G8: ha
A9: 20 | B9: 201 | C9: 長野市 | D9: 8660 | E9: 2450 | F9: 2170 | G9: 6210
A10: 20 | B10: 202 | C10: 松本市 | D10: 7660 | E10: 4880 | F10: 4410 | G10: 2780
A11: 20 | B11: 203 | C11: 上田市 | D11: 5510 | E11: 2930 | F11: 2540 | G11: 2580
A12: 20 | B12: 204 | C12: 岡谷市 | D12: 239 | E12: 83 | F12: 71 | G12: 156
A13: 20 | B13: 205 | C13: 飯田市 | D13: 3040 | E13: 1060 | F13: 915 | G13: 1980
A14: 20 | B14: 206 | C14: 諏訪市 | D14: 659 | E14: 427 | F14: 410 | G14: 232
A15: 20 | B15: 207 | C15: 須坂市 | D15: 1810 | E15: 275 | F15: 258 | G15: 1530
A16: 20 | B16: 208 | C16: 小諸市 | D16: 2820 | E16: 1080 | F16: 910 | G16: 1750
A17: 20 | B17: 209 | C17: 伊那市 | D17: 5220 | E17: 3440 | F17: 3000 | G17: 1770
A18: 20 | B18: 210 | C18: 駒ヶ根市 | D18: 1890 | E18: 1410 | F18: 1230 | G18: 479
A19: 20 | B19: 211 | C19: 中野市 | D19: 3050 | E19: 613 | F19: 538 | G19: 2440
A20: 20 | B20: 212 | C20: 大町市 | D20: 2590 | E20: 2230 | F20: 1960 | G20: 358
... A85: 20 | B85: 602 | C85: 栄村 | D85: 646 | E85: 357 | F85: 274 | G85: 289
C87: 計 | D87: 110400 | E87: 54700 | F87: 47600 | G87: 55700
A89: 利用上の注意 | D89: =SUM(D9:D85) -> 110466 | E89: =SUM(E9:E85) -> 54731 | F89: =SUM(F9:F85) -> 47598 | G89: =SUM(G9:G85) -> 55702
A90: １ この市町村別統計は、「作物統計調査」を実施する上で把握した地域における標本調査及び現地見積りの結果、
A91: 関係機関からの情報等を踏まえ、都道府県計値の内訳として市町村別に作成した加工統計であり、作成するうえで
A92: 精度を設定しているものではない。
A93: なお、「作物統計調査」は都道府県計値を求めるために設計されている。
A94: ２ 耕作者の市町村間の出作・入作を考慮していない（属地統計）。
A95: ３ 数値は四捨五入しており、市町村値の計が都道府県値と一致しないことがある。

Sheet 26（長野）2014
A1: 農林水産関係市町村別統計
A2: 平成26年
A3: 耕地面積
A4: 長野県
A5: 都道 | B5: 市町 | D5: 耕地面積 | E5: 田耕地面積 | G5: 畑耕地面積
A6: 府県 | B6: 村 | C6: 市町村名 | F6: 田本地面積
A7: ｺｰﾄﾞ | B7: ｺｰﾄﾞ
D8: ha | E8: ha | F8: ha | G8: ha
A9: 20 | B9: 201 | C9: 長野市 | D9: 8570 | E9: 2410 | F9: 2140 | G9: 6170
A10: 20 | B10: 202 | C10: 松本市 | D10: 7600 | E10: 4860 | F10: 4400 | G10: 2740
A11: 20 | B11: 203 | C11: 上田市 | D11: 5470 | E11: 2910 | F11: 2530 | G11: 2560
A12: 20 | B12: 204 | C12: 岡谷市 | D12: 237 | E12: 82 | F12: 70 | G12: 155
A13: 20 | B13: 205 | C13: 飯田市 | D13: 3050 | E13: 1050 | F13: 905 | G13: 1990
A14: 20 | B14: 206 | C14: 諏訪市 | D14: 651 | E14: 421 | F14: 404 | G14: 230
A15: 20 | B15: 207 | C15: 須坂市 | D15: 1780 | E15: 272 | F15: 256 | G15: 1510
A16: 20 | B16: 208 | C16: 小諸市 | D16: 2800 | E16: 1070 | F16: 908 | G16: 1730
A17: 20 | B17: 209 | C17: 伊那市 | D17: 5220 | E17: 3430 | F17: 2990 | G17: 1790
A18: 20 | B18: 210 | C18: 駒ヶ根市 | D18: 1880 | E18: 1410 | F18: 1230 | G18: 479
A19: 20 | B19: 211 | C19: 中野市 | D19: 3030 | E19: 607 | F19: 534 | G19: 2420
A20: 20 | B20: 212 | C20: 大町市 | D20: 2590 | E20: 2230 | F20: 1950 | G20: 358
... A85: 20 | B85: 602 | C85: 栄村 | D85: 645 | E85: 357 | F85: 274 | G85: 288
C87: 計 | D87: 109900 | E87: 54500 | F87: 47400 | G87: 55500
A89: 利用上の注意 | D89: =SUM(D9:D85) -> 109972 | E89: =SUM(E9:E85) -> 54476 | F89: =SUM(F9:F85) -> 47433 | G89: =SUM(G9:G85) -> 55490
A90: １ この市町村別統計は、「作物統計調査」を実施する上で把握した地域における標本調査及び現地見積りの結果、
A91: 関係機関からの情報等を踏まえ、都道府県計値の内訳として市町村別に作成した加工統計であり、作成する上で
A92: 精度を設定しているものではない。
A93: なお、「作物統計調査」は都道府県計値を求めるために設計されている。
A94: ２ 耕作者の市町村間の出作・入作を考慮していない（属地統計）。
A95: ３ 数値は四捨五入しており、市町村値の計が都道府県値と一致しないことがある。

Sheet 27（長野）2015
A1: 農林水産関係市町村別統計
A2: 平成27年
A3: 耕地面積
A4: 長野県
A5: 都道 | B5: 市町 | D5: 耕地面積 | E5: 田耕地面積 | G5: 畑耕地面積
A6: 府県 | B6: 村 | C6: 市町村名 | F6: 田本地面積
A7: ｺｰﾄﾞ | B7: ｺｰﾄﾞ
D8: ha | E8: ha | F8: ha | G8: ha
A9: 20 | B9: 201 | C9: 長野市 | D9: 8340 | E9: 2360 | F9: 2110 | G9: 5990
A10: 20 | B10: 202 | C10: 松本市 | D10: 7540 | E10: 4830 | F10: 4380 | G10: 2710
A11: 20 | B11: 203 | C11: 上田市 | D11: 5390 | E11: 2880 | F11: 2520 | G11: 2520
A12: 20 | B12: 204 | C12: 岡谷市 | D12: 234 | E12: 81 | F12: 69 | G12: 153
A13: 20 | B13: 205 | C13: 飯田市 | D13: 3030 | E13: 1040 | F13: 893 | G13: 1990
A14: 20 | B14: 206 | C14: 諏訪市 | D14: 646 | E14: 419 | F14: 402 | G14: 227
A15: 20 | B15: 207 | C15: 須坂市 | D15: 1760 | E15: 269 | F15: 253 | G15: 1500
A16: 20 | B16: 208 | C16: 小諸市 | D16: 2770 | E16: 1060 | F16: 904 | G16: 1710
A17: 20 | B17: 209 | C17: 伊那市 | D17: 5210 | E17: 3410 | F17: 2970 | G17: 1790
A18: 20 | B18: 210 | C18: 駒ヶ根市 | D18: 1880 | E18: 1400 | F18: 1220 | G18: 478
A19: 20 | B19: 211 | C19: 中野市 | D19: 3010 | E19: 604 | F19: 532 | G19: 2400
A20: 20 | B20: 212 | C20: 大町市 | D20: 2570 | E20: 2210 | F20: 1940 | G20: 358
... A85: 20 | B85: 602 | C85: 栄村 | D85: 643 | E85: 357 | F85: 274 | G85: 286
C87: 計 | D87: 108900 | E87: 54000 | F87: 47100 | G87: 54900
A89: 利用上の注意 | D89: =SUM(D9:D85) -> 108928 | E89: =SUM(E9:E85) -> 53998 | F89: =SUM(F9:F85) -> 47110 | G89: =SUM(G9:G85) -> 54918
A90: １ この市町村別統計は、「作物統計調査」を実施する上で把握した地域における標本調査及び現地見積りの結果、
A91: 関係機関からの情報等を踏まえ、都道府県計値の内訳として市町村別に作成した加工統計であり、作成するうえで
A92: 精度を設定しているものではない。
A93: なお、「作物統計調査」は都道府県計値を求めるために設計されている。
A94: ２ 耕作者の市町村間の出作・入作を考慮していない（属地統計）。
A95: ３ 数値は四捨五入しており、市町村値の計が都道府県値と一致しないことがある。

Sheet 28（長野）2016
A1: 農林水産関係市町村別統計
A2: 平成28年
A3: 耕地面積
A4: 長野県
A5: 都道 | B5: 市町 | D5: 耕地面積 | E5: 田耕地面積 | G5: 畑耕地面積
A6: 府県 | B6: 村 | C6: 市町村名 | F6: 田本地面積
A7: ｺｰﾄﾞ | B7: ｺｰﾄﾞ
D8: ha | E8: ha | F8: ha | G8: ha
A9: 20 | B9: 201 | C9: 長野市 | D9: 8230 | E9: 2320 | F9: 2080 | G9: 5910
A10: 20 | B10: 202 | C10: 松本市 | D10: 7460 | E10: 4770 | F10: 4340 | G10: 2690
A11: 20 | B11: 203 | C11: 上田市 | D11: 5320 | E11: 2850 | F11: 2500 | G11: 2470
A12: 20 | B12: 204 | C12: 岡谷市 | D12: 232 | E12: 80 | F12: 68 | G12: 152
A13: 20 | B13: 205 | C13: 飯田市 | D13: 3010 | E13: 1030 | F13: 884 | G13: 1980
A14: 20 | B14: 206 | C14: 諏訪市 | D14: 642 | E14: 418 | F14: 401 | G14: 224
A15: 20 | B15: 207 | C15: 須坂市 | D15: 1750 | E15: 267 | F15: 252 | G15: 1480
A16: 20 | B16: 208 | C16: 小諸市 | D16: 2750 | E16: 1050 | F16: 899 | G16: 1700
A17: 20 | B17: 209 | C17: 伊那市 | D17: 5190 | E17: 3400 | F17: 2960 | G17: 1790
A18: 20 | B18: 210 | C18: 駒ヶ根市 | D18: 1870 | E18: 1390 | F18: 1210 | G18: 476
A19: 20 | B19: 211 | C19: 中野市 | D19: 2990 | E19: 598 | F19: 528 | G19: 2390
A20: 20 | B20: 212 | C20: 大町市 | D20: 2540 | E20: 2180 | F20: 1920 | G20: 355
... A85: 20 | B85: 602 | C85: 栄村 | D85: 641 | E85: 356 | F85: 273 | G85: 285
C87: 計 | D87: 108000 | E87: 53500 | F87: 46800 | G87: 54500
A89: 利用上の注意 | D89: =SUM(D9:D85) -> 108090 | E89: =SUM(E9:E85) -> 53551 | F89: =SUM(F9:F85) -> 46781 | G89: =SUM(G9:G85) -> 54515
A90: １ この市町村別統計は、「作物統計調査」を実施する上で把握した地域における標本調査及び現地見積りの結果、
A91: 関係機関からの情報等を踏まえ、都道府県計値の内訳として市町村別に作成した加工統計であり、作成するうえで
A92: 精度を設定しているものではない。
A93: なお、「作物統計調査」は都道府県計値を求めるために設計されている。
A94: ２ 耕作者の市町村間の出作・入作を考慮していない（属地統計）。
A95: ３ 数値は四捨五入しており、市町村値の計が都道府県値と一致しないことがある。

Sheet 29（長野）2017
A1: 農林水産関係市町村別統計
A2: 平成29年
A3: 耕地面積
A4: 長野県
A5: 都道 | B5: 市町 | D5: 耕地面積 | E5: 田耕地面積 | G5: 畑耕地面積
A6: 府県 | B6: 村 | C6: 市町村名 | F6: 田本地面積
A7: ｺｰﾄﾞ | B7: ｺｰﾄﾞ
D8: ha | E8: ha | F8: ha | G8: ha
A9: 20 | B9: 201 | C9: 長野市 | D9: 8160 | E9: 2300 | F9: 2070 | G9: 5860
A10: 20 | B10: 202 | C10: 松本市 | D10: 7390 | E10: 4710 | F10: 4290 | G10: 2680
A11: 20 | B11: 203 | C11: 上田市 | D11: 5290 | E11: 2830 | F11: 2500 | G11: 2460
A12: 20 | B12: 204 | C12: 岡谷市 | D12: 230 | E12: 80 | F12: 68 | G12: 150
A13: 20 | B13: 205 | C13: 飯田市 | D13: 2990 | E13: 1020 | F13: 872 | G13: 1970
A14: 20 | B14: 206 | C14: 諏訪市 | D14: 637 | E14: 416 | F14: 399 | G14: 221
A15: 20 | B15: 207 | C15: 須坂市 | D15: 1730 | E15: 265 | F15: 251 | G15: 1470
A16: 20 | B16: 208 | C16: 小諸市 | D16: 2740 | E16: 1040 | F16: 898 | G16: 1700
A17: 20 | B17: 209 | C17: 伊那市 | D17: 5170 | E17: 3390 | F17: 2950 | G17: 1790
A18: 20 | B18: 210 | C18: 駒ヶ根市 | D18: 1860 | E18: 1390 | F18: 1210 | G18: 472
A19: 20 | B19: 211 | C19: 中野市 | D19: 2970 | E19: 595 | F19: 527 | G19: 2380
A20: 20 | B20: 212 | C20: 大町市 | D20: 2510 | E20: 2160 | F20: 1900 | G20: 357
... A85: 20 | B85: 602 | C85: 栄村 | D85: 631 | E85: 355 | F85: 273 | G85: 276
C87: 計 | D87: 107300 | E87: 53100 | F87: 46500 | G87: 54200
A89: 利用上の注意 | D89: =SUM(D9:D85) -> 107351 | E89: =SUM(E9:E85) -> 53152 | F89: =SUM(F9:F85) -> 46511 | G89: =SUM(G9:G85) -> 54229
A90: １ この市町村別統計は、「作物統計調査」を実施する上で把握した地域における標本調査及び現地見積りの結果、
A91: 関係機関からの情報等を踏まえ、都道府県計値の内訳として市町村別に作成した加工統計であり、作成するうえで
A92: 精度を設定しているものではない。
A93: なお、「作物統計調査」は都道府県計値を求めるために設計されている。
A94: ２ 耕作者の市町村間の出作・入作を考慮していない（属地統計）。
A95: ３ 数値は四捨五入しており、市町村値の計が都道府県値と一致しないことがある。

Sheet 30（長野）2018
A1: 農林水産関係市町村別統計
A2: 平成30年
A3: 耕地面積
A4: 長野県
A5: 都道 | B5: 市町 | D5: 耕地面積 | E5: 田耕地面積 | G5: 畑耕地面積
A6: 府県 | B6: 村 | C6: 市町村名 | F6: 田本地面積
A7: ｺｰﾄﾞ | B7: ｺｰﾄﾞ
D8: ha | E8: ha | F8: ha | G8: ha
A9: 20 | B9: 201 | C9: 長野市 | D9: 8120 | E9: 2280 | F9: 2060 | G9: 5840
A10: 20 | B10: 202 | C10: 松本市 | D10: 7320 | E10: 4650 | F10: 4240 | G10: 2680
A11: 20 | B11: 203 | C11: 上田市 | D11: 5230 | E11: 2820 | F11: 2500 | G11: 2410
A12: 20 | B12: 204 | C12: 岡谷市 | D12: 227 | E12: 79 | F12: 67 | G12: 148
A13: 20 | B13: 205 | C13: 飯田市 | D13: 2980 | E13: 1020 | F13: 870 | G13: 1960
A14: 20 | B14: 206 | C14: 諏訪市 | D14: 630 | E14: 411 | F14: 394 | G14: 219
A15: 20 | B15: 207 | C15: 須坂市 | D15: 1750 | E15: 266 | F15: 252 | G15: 1480
A16: 20 | B16: 208 | C16: 小諸市 | D16: 2720 | E16: 1040 | F16: 897 | G16: 1680
A17: 20 | B17: 209 | C17: 伊那市 | D17: 5160 | E17: 3380 | F17: 2940 | G17: 1780
A18: 20 | B18: 210 | C18: 駒ヶ根市 | D18: 1850 | E18: 1380 | F18: 1210 | G18: 464
A19: 20 | B19: 211 | C19: 中野市 | D19: 2970 | E19: 599 | F19: 531 | G19: 2370
A20: 20 | B20: 212 | C20: 大町市 | D20: 2480 | E20: 2130 | F20: 1880 | G20: 354
... A85: 20 | B85: 602 | C85: 栄村 | D85: 629 | E85: 354 | F85: 272 | G85: 275
C87: 計 | D87: 106700 | E87: 52800 | F87: 46200 | G87: 54000
A89: 利用上の注意 | D89: =SUM(D9:D85) -> 106722 | E89: =SUM(E9:E85) -> 52765 | F89: =SUM(F9:F85) -> 46249 | G89: =SUM(G9:G85) -> 53967
A90: １ この市町村別統計は、「作物統計調査」を実施する上で把握した地域における標本調査及び現地見積りの結果、
A91: 関係機関からの情報等を踏まえ、都道府県計値の内訳として市町村別に作成した加工統計であり、作成するうえで
A92: 精度を設定しているものではない。
A93: なお、「作物統計調査」は都道府県計値を求めるために設計されている。
A94: ２ 耕作者の市町村間の出作・入作を考慮していない（属地統計）。
A95: ３ 数値は四捨五入しており、市町村値の計が都道府県値と一致しないことがある。

Sheet R1（長野）2019
A1: 農林水産関係市町村別統計
A2: 令和元年
A3: 耕地面積
A4: 長野県
A5: 都道 | B5: 市町 | D5: 耕地面積 | E5: 田耕地面積 | G5: 畑耕地面積
A6: 府県 | B6: 村 | C6: 市町村名 | F6: 田本地面積
A7: ｺｰﾄﾞ | B7: ｺｰﾄﾞ
D8: ha | E8: ha | F8: ha | G8: ha
A9: 20 | B9: 201 | C9: 長野市 | D9: 8090 | E9: 2270 | F9: 2050 | G9: 5830
A10: 20 | B10: 202 | C10: 松本市 | D10: 7260 | E10: 4590 | F10: 4180 | G10: 2680
A11: 20 | B11: 203 | C11: 上田市 | D11: 5220 | E11: 2810 | F11: 2490 | G11: 2400
A12: 20 | B12: 204 | C12: 岡谷市 | D12: 224 | E12: 78 | F12: 66 | G12: 146
A13: 20 | B13: 205 | C13: 飯田市 | D13: 2950 | E13: 1010 | F13: 861 | G13: 1940
A14: 20 | B14: 206 | C14: 諏訪市 | D14: 621 | E14: 405 | F14: 389 | G14: 216
A15: 20 | B15: 207 | C15: 須坂市 | D15: 1750 | E15: 264 | F15: 250 | G15: 1490
A16: 20 | B16: 208 | C16: 小諸市 | D16: 2680 | E16: 1030 | F16: 894 | G16: 1650
A17: 20 | B17: 209 | C17: 伊那市 | D17: 5140 | E17: 3370 | F17: 2930 | G17: 1770
A18: 20 | B18: 210 | C18: 駒ヶ根市 | D18: 1830 | E18: 1380 | F18: 1200 | G18: 456
A19: 20 | B19: 211 | C19: 中野市 | D19: 2950 | E19: 596 | F19: 528 | G19: 2360
A20: 20 | B20: 212 | C20: 大町市 | D20: 2450 | E20: 2100 | F20: 1850 | G20: 354
... A85: 20 | B85: 602 | C85: 栄村 | D85: 630 | E85: 355 | F85: 273 | G85: 275
C87: 計 | D87: 106100 | E87: 52400 | F87: 45900 | G87: 53700
A89: 利用上の注意 | D89: =SUM(D9:D85) -> 106151 | E89: =SUM(E9:E85) -> 52408 | F89: =SUM(F9:F85) -> 45911 | G89: =SUM(G9:G85) -> 53758
A90: １ この市町村別統計は、「作物統計調査」を実施する上で把握した地域における標本調査及び現地見積りの結果、
A91: 関係機関からの情報等を踏まえ、都道府県計値の内訳として市町村別に作成した加工統計であり、作成するうえで
A92: 精度を設定しているものではない。
A93: なお、「作物統計調査」は都道府県計値を求めるために設計されている。
A94: ２ 耕作者の市町村間の出作・入作を考慮していない（属地統計）。
A95: ３ 数値は四捨五入しており、市町村値の計が都道府県値と一致しないことがある。

Sheet R2（長野）2020
A1: 農林水産関係市町村別統計
A2: 令和2年
A3: 耕地面積
A4: 長野県
A5: 都道 | B5: 市町 | D5: 耕地面積 | E5: 田耕地面積 | G5: 畑耕地面積
A6: 府県 | B6: 村 | C6: 市町村名 | F6: 田本地面積
A7: ｺｰﾄﾞ | B7: ｺｰﾄﾞ
D8: ha | E8: ha | F8: ha | G8: ha
A9: 20 | B9: 201 | C9: 長野市 | D9: 8010 | E9: 2260 | F9: 2040 | G9: 5750
A10: 20 | B10: 202 | C10: 松本市 | D10: 7200 | E10: 4530 | F10: 4130 | G10: 2670
A11: 20 | B11: 203 | C11: 上田市 | D11: 5220 | E11: 2820 | F11: 2490 | G11: 2410
A12: 20 | B12: 204 | C12: 岡谷市 | D12: 220 | E12: 76 | F12: 64 | G12: 144
A13: 20 | B13: 205 | C13: 飯田市 | D13: 2940 | E13: 1010 | F13: 861 | G13: 1930
A14: 20 | B14: 206 | C14: 諏訪市 | D14: 615 | E14: 402 | F14: 386 | G14: 213
A15: 20 | B15: 207 | C15: 須坂市 | D15: 1750 | E15: 264 | F15: 250 | G15: 1490
A16: 20 | B16: 208 | C16: 小諸市 | D16: 2610 | E16: 1010 | F16: 872 | G16: 1610
A17: 20 | B17: 209 | C17: 伊那市 | D17: 5120 | E17: 3360 | F17: 2930 | G17: 1760
A18: 20 | B18: 210 | C18: 駒ヶ根市 | D18: 1820 | E18: 1370 | F18: 1200 | G18: 452
A19: 20 | B19: 211 | C19: 中野市 | D19: 2950 | E19: 596 | F19: 528 | G19: 2350
A20: 20 | B20: 212 | C20: 大町市 | D20: 2430 | E20: 2070 | F20: 1830 | G20: 353
... A85: 20 | B85: 602 | C85: 栄村 | D85: 618 | E85: 350 | F85: 269 | G85: 268
C87: 計 | D87: 105300 | E87: 51900 | F87: 45500 | G87: 53400
A89: 利用上の注意 | D89: =SUM(D9:D85) -> 105326 | E89: =SUM(E9:E85) -> 51881 | F89: =SUM(F9:F85) -> 45488 | G89: =SUM(G9:G85) -> 53439
A90: １ この市町村別統計は、「作物統計調査」を実施する上で把握した地域における標本調査及び現地見積りの結果、
A91: 関係機関からの情報等を踏まえ、都道府県計値の内訳として市町村別に作成した加工統計であり、作成するうえで
A92: 精度を設定しているものではない。
A93: なお、「作物統計調査」は都道府県計値を求めるために設計されている。
A94: ２ 耕作者の市町村間の出作・入作を考慮していない（属地統計）。
A95: ３ 数値は四捨五入しており、市町村値の計が都道府県値と一致しないことがある。

Sheet R3（長野）2021
A1: 農林水産関係市町村別統計
A2: 令和3年
A3: 耕地面積
A4: 長野県
A5: 都道 | B5: 市町 | C5: 市町村名 | D5: 耕地面積 | E5: 田耕地面積 | G5: 畑耕地面積
A6: 府県 | B6: 村 | F6: 田本地面積
A7: ｺｰﾄﾞ | B7: ｺｰﾄﾞ
D8: ha | E8: ha | F8: ha | G8: ha
A9: 20 | B9: 201 | C9: 長野市 | D9: 7990 | E9: 2240 | F9: 2030 | G9: 5740
A10: 20 | B10: 202 | C10: 松本市 | D10: 7180 | E10: 4500 | F10: 4100 | G10: 2680
A11: 20 | B11: 203 | C11: 上田市 | D11: 5250 | E11: 2820 | F11: 2500 | G11: 2420
A12: 20 | B12: 204 | C12: 岡谷市 | D12: 215 | E12: 74 | F12: 62 | G12: 141
A13: 20 | B13: 205 | C13: 飯田市 | D13: 2930 | E13: 1000 | F13: 857 | G13: 1920
A14: 20 | B14: 206 | C14: 諏訪市 | D14: 609 | E14: 398 | F14: 383 | G14: 211
A15: 20 | B15: 207 | C15: 須坂市 | D15: 1710 | E15: 227 | F15: 215 | G15: 1480
A16: 20 | B16: 208 | C16: 小諸市 | D16: 2620 | E16: 1010 | F16: 872 | G16: 1610
A17: 20 | B17: 209 | C17: 伊那市 | D17: 5110 | E17: 3360 | F17: 2920 | G17: 1750
A18: 20 | B18: 210 | C18: 駒ヶ根市 | D18: 1820 | E18: 1370 | F18: 1190 | G18: 450
A19: 20 | B19: 211 | C19: 中野市 | D19: 2950 | E19: 596 | F19: 528 | G19: 2360
A20: 20 | B20: 212 | C20: 大町市 | D20: 2420 | E20: 2070 | F20: 1830 | G20: 353
... A85: 20 | B85: 602 | C85: 栄村 | D85: 608 | E85: 347 | F85: 267 | G85: 261
C87: 計 | D87: 105200 | E87: 51700 | F87: 45300 | G87: 53400
A89: 利用上の注意 | D89: =SUM(D9:D85) -> 105221 | E89: =SUM(E9:E85) -> 51738 | F89: =SUM(F9:F85) -> 45345 | G89: =SUM(G9:G85) -> 53427
A90: １ この市町村別統計は、「作物統計調査」を実施する上で把握した地域における標本調査、現地見積りの結果、関係機関
A91: からの情報等を踏まえ、都道府県計値の内訳として市町村別に配分することにより作成した加工統計であり、市町村別の
A92: 値を目的として設計された調査に基づいて直接得られたものではない。
A93: なお、「作物統計調査」は、都道府県計値を求めるために目標精度を設定し、調査の設計がされている。
A94: ２ 面積は、耕地の存在する市町村に計上しており（属地統計）、耕作者の市町村間の出作・入作を考慮していない。
A95: ３ 数値は四捨五入しており、市町村値の計が都道府県値と一致しないことがある。

Sheet R4（長野）2022
A1: 農林水産関係市町村別統計
A2: 令和4年
A3: 耕地面積
A4: 長野県
A5: 都道 | B5: 市町 | C5: 市町村名 | D5: 耕地面積 | E5: 田耕地面積 | G5: 畑耕地面積
A6: 府県 | B6: 村 | F6: 田本地面積
A7: ｺｰﾄﾞ | B7: ｺｰﾄﾞ
D8: ha | E8: ha | F8: ha | G8: ha
A9: 20 | B9: 201 | C9: 長野市 | D9: 7980 | E9: 2240 | F9: 2030 | G9: 5740
A10: 20 | B10: 202 | C10: 松本市 | D10: 7150 | E10: 4480 | F10: 4080 | G10: 2680
A11: 20 | B11: 203 | C11: 上田市 | D11: 5200 | E11: 2800 | F11: 2480 | G11: 2400
A12: 20 | B12: 204 | C12: 岡谷市 | D12: 211 | E12: 74 | F12: 62 | G12: 137
A13: 20 | B13: 205 | C13: 飯田市 | D13: 2920 | E13: 1000 | F13: 854 | G13: 1920
A14: 20 | B14: 206 | C14: 諏訪市 | D14: 602 | E14: 394 | F14: 379 | G14: 208
A15: 20 | B15: 207 | C15: 須坂市 | D15: 1710 | E15: 227 | F15: 215 | G15: 1480
A16: 20 | B16: 208 | C16: 小諸市 | D16: 2600 | E16: 1010 | F16: 873 | G16: 1590
A17: 20 | B17: 209 | C17: 伊那市 | D17: 5100 | E17: 3360 | F17: 2920 | G17: 1750
A18: 20 | B18: 210 | C18: 駒ヶ根市 | D18: 1820 | E18: 1370 | F18: 1190 | G18: 448
A19: 20 | B19: 211 | C19: 中野市 | D19: 2950 | E19: 596 | F19: 528 | G19: 2360
A20: 20 | B20: 212 | C20: 大町市 | D20: 2410 | E20: 2060 | F20: 1820 | G20: 350
... A85: 20 | B85: 602 | C85: 栄村 | D85: 595 | E85: 340 | F85: 262 | G85: 255
C87: 計 | D87: 104800 | E87: 51500 | F87: 45100 | G87: 53300
A89: 利用上の注意 | D89: =SUM(D9:D85) -> 104805 | E89: =SUM(E9:E85) -> 51464 | F89: =SUM(F9:F85) -> 45096 | G89: =SUM(G9:G85) -> 53343
A90: １ この市町村別統計は、「作物統計調査」を実施する上で把握した地域における標本調査、現地見積りの結果、関係機関
A91: からの情報等を踏まえ、都道府県計値の内訳として市町村別に配分することにより作成した加工統計であり、市町村別の
A92: 値を目的として設計された調査に基づいて直接得られたものではない。
A93: なお、「作物統計調査」は、都道府県計値を求めるために目標精度を設定し、調査の設計がされている。
A94: ２ 面積は、耕地の存在する市町村に計上しており（属地統計）、耕作者の市町村間の出作・入作を考慮していない。
A95: ３ 数値は四捨五入しており、市町村値の計が都道府県値と一致しないことがある。

Sheet R5（長野）2023
A1: 農林水産関係市町村別統計
A2: 令和5年
A3: 耕地面積
A4: 長野県
A5: 都道府県ｺｰﾄﾞ | B5: 市町村 ｺｰﾄﾞ | C5: 市町村名 | D5: 耕地面積 | E5: 田耕地面積 | G5: 畑耕地面積
F6: 田本地面積
D8: ha | E8: ha | F8: ha | G8: ha
A9: 20 | B9: 201 | C9: 長野市 | D9: 7940 | E9: 2200 | F9: 1990 | G9: 5740
A10: 20 | B10: 202 | C10: 松本市 | D10: 7130 | E10: 4460 | F10: 4060 | G10: 2680
A11: 20 | B11: 203 | C11: 上田市 | D11: 5180 | E11: 2780 | F11: 2450 | G11: 2410
A12: 20 | B12: 204 | C12: 岡谷市 | D12: 213 | E12: 75 | F12: 63 | G12: 138
A13: 20 | B13: 205 | C13: 飯田市 | D13: 2910 | E13: 996 | F13: 851 | G13: 1910
A14: 20 | B14: 206 | C14: 諏訪市 | D14: 603 | E14: 395 | F14: 380 | G14: 208
A15: 20 | B15: 207 | C15: 須坂市 | D15: 1700 | E15: 224 | F15: 212 | G15: 1480
A16: 20 | B16: 208 | C16: 小諸市 | D16: 2580 | E16: 1000 | F16: 866 | G16: 1570
A17: 20 | B17: 209 | C17: 伊那市 | D17: 5100 | E17: 3350 | F17: 2920 | G17: 1740
A18: 20 | B18: 210 | C18: 駒ヶ根市 | D18: 1810 | E18: 1360 | F18: 1190 | G18: 446
A19: 20 | B19: 211 | C19: 中野市 | D19: 2890 | E19: 581 | F19: 515 | G19: 2310
A20: 20 | B20: 212 | C20: 大町市 | D20: 2410 | E20: 2050 | F20: 1810 | G20: 354
... A85: 20 | B85: 602 | C85: 栄村 | D85: 582 | E85: 331 | F85: 255 | G85: 251
C87: 計 | D87: 104400 | E87: 51100 | F87: 44800 | G87: 53300
A89: 利用上の注意 | D89: =SUM(D9:D85) -> 104405 | E89: =SUM(E9:E85) -> 51134 | F89: =SUM(F9:F85) -> 44809 | G89: =SUM(G9:G85) -> 53255
A90: １ この市町村別統計は、「作物統計調査」を実施する上で把握した地域における標本調査及び現地見積りの結果、関係機関
A91: からの情報等を踏まえ、都道府県計値の内訳として市町村別に配分することにより作成した加工統計であり、市町村別の値
A92: を目的として設計された調査に基づいて直接得られたものではない。
A93: なお、「作物統計調査」は、都道府県計値を求めるために目標精度を設定し、調査の設計がされている。
A94: ２ 面積は、耕地の存在する市町村に計上しており（属地統計）、耕作者の市町村間の出作・入作を考慮していない。
A95: ３ 数値は四捨五入しており、市町村値の計が都道府県値と一致しないことがある。

Sheet R6（長野）2024
A1: 農林水産関係市町村別統計
A2: 令和6年
A3: 耕地面積
A4: 長野県
A5: 都道府県ｺｰﾄﾞ | B5: 市町村 ｺｰﾄﾞ | C5: 市町村名 | D5: 耕地面積 | E5: 田耕地面積 | G5: 畑耕地面積
F6: 田本地面積
D8: ha | E8: ha | F8: ha | G8: ha
A9: 20 | B9: 201 | C9: 長野市 | D9: 7870 | E9: 2160 | F9: 1950 | G9: 5710
A10: 20 | B10: 202 | C10: 松本市 | D10: 7130 | E10: 4440 | F10: 4050 | G10: 2680
A11: 20 | B11: 203 | C11: 上田市 | D11: 5170 | E11: 2760 | F11: 2440 | G11: 2410
A12: 20 | B12: 204 | C12: 岡谷市 | D12: 207 | E12: 73 | F12: 62 | G12: 134
A13: 20 | B13: 205 | C13: 飯田市 | D13: 2850 | E13: 962 | F13: 824 | G13: 1880
A14: 20 | B14: 206 | C14: 諏訪市 | D14: 608 | E14: 400 | F14: 383 | G14: 208
A15: 20 | B15: 207 | C15: 須坂市 | D15: 1700 | E15: 223 | F15: 211 | G15: 1480
A16: 20 | B16: 208 | C16: 小諸市 | D16: 2580 | E16: 997 | F16: 861 | G16: 1580
A17: 20 | B17: 209 | C17: 伊那市 | D17: 5080 | E17: 3350 | F17: 2910 | G17: 1740
A18: 20 | B18: 210 | C18: 駒ヶ根市 | D18: 1800 | E18: 1360 | F18: 1180 | G18: 444
A19: 20 | B19: 211 | C19: 中野市 | D19: 2880 | E19: 571 | F19: 506 | G19: 2310
A20: 20 | B20: 212 | C20: 大町市 | D20: 2390 | E20: 2040 | F20: 1800 | G20: 357
... A85: 20 | B85: 602 | C85: 栄村 | D85: 552 | E85: 321 | F85: 247 | G85: 231
C87: 計 | D87: 103800 | E87: 50700 | F87: 44500 | G87: 53100
A89: 利用上の注意 | D89: =SUM(D9:D85) -> 103834 | E89: =SUM(E9:E85) -> 50760 | F89: =SUM(F9:F85) -> 44468 | G89: =SUM(G9:G85) -> 53106
A90: １ この市町村別統計は、「作物統計調査」を実施する上で把握した地域における標本調査結果及び現地見積りの結果、関係機関
A91: からの情報等を踏まえ、都道府県計値の内訳として市町村別に配分することにより作成した加工統計であり、市町村別の値
A92: を目的として設計された調査に基づいて直接得られたものではない。
A93: なお、「作物統計調査」は、都道府県計値を求めるために目標精度を設定し、調査の設計がされている。
A94: ２ 面積は、耕地の存在する市町村に計上しており（属地統計）、耕作者の市町村間の出作・入作を考慮していない。
A95: ３ 数値は四捨五入しており、市町村値の計が都道府県値と一致しないことがある。

Sheet 耕地面積累年統計
A1: 耕地及び作付面積統計
A2: 本地・けい畔別耕地面積累年統計
A4: 長野
A5: 年次 | B5: 田畑計 | E5: 田 | H5: 畑
B6: 計 | C6: 本地 | D6: けい畔 | E6: 計 | F6: 本地 | G6: けい畔 | H6: 計 | I6: 本地 | J6: けい畔
B7: ha | C7: ha | D7: ha | E7: ha | F7: ha | G7: ha | H7: ha | I7: ha | J7: ha
A8: 昭.40(1965) | B8: 180000 | C8: 162000 | D8: 18000 | E8: 88900 | F8: 76100 | G8: 12800 | H8: 91100 | I8: 85900 | J8: 5180
A9: 昭.41(1966) | B9: 178600 | C9: 160700 | D9: 17900 | E9: 88800 | F9: 76000 | G9: 12800 | H9: 89800 | I9: 84700 | J9: 5110
A10: 昭.42(1967) | B10: 176400 | C10: 158700 | D10: 17800 | E10: 88700 | F10: 76000 | G10: 12800 | H10: 87700 | I10: 82700 | J10: 4970
A11: 昭.43(1968) | B11: 174600 | C11: 157100 | D11: 17500 | E11: 88600 | F11: 75900 | G11: 12700 | H11: 86000 | I11: 81200 | J11: 4810
A12: 昭.44(1969) | B12: 172900 | C12: 155500 | D12: 17400 | E12: 88700 | F12: 76000 | G12: 12700 | H12: 84200 | I12: 79500 | J12: 4700
A13: 昭.45(1970) | B13: 169900 | C13: 152800 | D13: 17100 | E13: 87700 | F13: 75200 | G13: 12500 | H13: 82200 | I13: 77600 | J13: 4580
A14: 昭.46(1971) | B14: 166700 | C14: 150000 | D14: 16700 | E14: 85600 | F14: 73400 | G14: 12200 | H14: 81100 | I14: 76600 | J14: 4510
A15: 昭.47(1972) | B15: 163700 | C15: 147500 | D15: 16200 | E15: 84300 | F15: 72600 | G15: 11700 | H15: 79400 | I15: 74900 | J15: 4480
A16: 昭.48(1973) | B16: 161100 | C16: 145200 | D16: 15900 | E16: 83300 | F16: 71800 | G16: 11500 | H16: 77800 | I16: 73400 | J16: 4390
A17: 昭.49(1974) | B17: 156800 | C17: 141300 | D17: 15500 | E17: 81400 | F17: 70200 | G17: 11200 | H17: 75400 | I17: 71100 | J17: 4250
A18: 昭.50(1975) | B18: 155500 | C18: 140200 | D18: 15300 | E18: 80900 | F18: 69800 | G18: 11100 | H18: 74600 | I18: 70400 | J18: 4190
A19: 昭.51(1976) | B19: 154500 | C19: 139500 | D19: 15000 | E19: 80400 | F19: 69600 | G19: 10800 | H19: 74100 | I19: 69900 | J19: 4180
... A66: 令.5(2023) | B66: 104400 | C66: 95600 | D66: 8800 | E66: 51100 | F66: 44800 | G66: 6320 | H66: 53300 | I66: 50800 | J66: 2480

Sheet 令和6年
A1: 令和６年耕地及び作付面積統計
A2: Ⅰ 耕地面積及び耕地の拡張・かい廃面積
A3: １ 田畑別耕地面積
K6: 単位:ha
A7: 全国農業地域 ・ 都道府県 | C7: 令和５年 | F7: ６ | I7: 対前年差
C8: 計 | D8: 田 | E8: 畑 | F8: 計 | G8: 田 | H8: 畑 | I8: 計 (4)-(1) | J8: 田 (5)-(2) | K8: 畑 (6)-(3)
C9: (1) | D9: (2) | E9: (3) | F9: (4) | G9: (5) | H9: (6) | I9: (7) | J9: (8) | K9: (9)
A10: 全国 | C10: 4297000 | D10: 2335000 | E10: 1962000 | F10: 4272000 | G10: 2319000 | H10: 1952000 | I10: -25000 | J10: -16000 | K10: -10000
A11: （全国農業地域）
A12: 北海道 | C12: 1141000 | D12: 221500 | E12: 919100 | F12: 1138000 | G12: 220700 | H12: 917300 | I12: -3000 | J12: -800 | K12: -1800
A13: 都府県 | C13: 3156000 | D13: 2113000 | E13: 1043000 | F13: 3134000 | G13: 2099000 | H13: 1035000 | I13: -22000 | J13: -14000 | K13: -8000
A14: 東北 | C14: 813800 | D14: 586800 | E14: 227000 | F14: 809600 | G14: 583100 | H14: 226500 | I14: -4200 | J14: -3700 | K14: -500
A15: 北陸 | C15: 304700 | D15: 272800 | E15: 31900 | F15: 302800 | G15: 271200 | H15: 31600 | I15: -1900 | J15: -1600 | K15: -300
A16: 関東・東山 | C16: 688700 | D16: 386500 | E16: 302200 | F16: 684900 | G16: 384500 | H16: 300500 | I16: -3800 | J16: -2000 | K16: -1700
A17: 東海 | C17: 242700 | D17: 147000 | E17: 95700 | F17: 239900 | G17: 145700 | H17: 94200 | I17: -2800 | J17: -1300 | K17: -1500
A18: 近畿 | C18: 213400 | D18: 166000 | E18: 47400 | F18: 211200 | G18: 164300 | H18: 46900 | I18: -2200 | J18: -1700 | K18: -500
A19: 中国 | C19: 224900 | D19: 175000 | E19: 49900 | F19: 222900 | G19: 173600 | H19: 49400 | I19: -2000 | J19: -1400 | K19: -500
A20: 四国 | C20: 125800 | D20: 82800 | E20: 43000 | F20: 123900 | G20: 81600 | H20: 42300 | I20: -1900 | J20: -1200 | K20: -700
A21: 九州 | C21: 506300 | D21: 295800 | E21: 210500 | F21: 502400 | G21: 293900 | H21: 208500 | I21: -3900 | J21: -1900 | K21: -2000
A22: 沖縄 | C22: 36100 | D22: 751 | E22: 35400 | F22: 35900 | G22: 751 | H22: 35200 | I22: -200 | J22: 0 | K22: -200
A23: （都道府県）
A24: 北海道 | C24: 1141000 | D24: 221500 | E24: 919100 | F24: 1138000 | G24: 220700 | H24: 917300 | I24: -3000 | J24: -800 | K24: -1800
A25: 青森 | C25: 148400 | D25: 78100 | E25: 70300 | F25: 147300 | G25: 77500 | H25: 69800 | I25: -1100 | J25: -600 | K25: -500
A26: 岩手 | C26: 147100 | D26: 92700 | E26: 54500 | F26: 146000 | G26: 91500 | H26: 54500 | I26: -1100 | J26: -1200 | K26: 0
A27: 宮城 | C27: 124400 | D27: 102300 | E27: 22100 | F27: 123900 | G27: 101700 | H27: 22200 | I27: -500 | J27: -600 | K27: 100
A28: 秋田 | C28: 146000 | D28: 128100 | E28: 17900 | F28: 145600 | G28: 127700 | H28: 17800 | I28: -400 | J28: -400 | K28: -100
A29: 山形 | C29: 113500 | D29: 90200 | E29: 23300 | F29: 113200 | G29: 89800 | H29: 23300 | I29: -300 | J29: -400 | K29: 0
A30: 福島 | C30: 134500 | D30: 95500 | E30: 39000 | F30: 133700 | G30: 94800 | H30: 38900 | I30: -800 | J30: -700 | K30: -100
A31: 茨城 | C31: 159400 | D31: 94300 | E31: 65200 | F31: 158300 | G31: 93900 | H31: 64500 | I31: -1100 | J31: -400 | K31: -700
A32: 栃木 | C32: 120700 | D32: 93900 | E32: 26800 | F32: 120400 | G32: 93600 | H32: 26800 | I32: -300 | J32: -300 | K32: 0
A33: 群馬 | C33: 63800 | D33: 23800 | E33: 40100 | F33: 63200 | G33: 23500 | H33: 39700 | I33: -600 | J33: -300 | K33: -400
A34: 埼玉 | C34: 73000 | D34: 40700 | E34: 32200 | F34: 72700 | G34: 40600 | H34: 32100 | I34: -300 | J34: -100 | K34: -100
A35: 千葉 | C35: 120300 | D35: 71500 | E35: 48800 | F35: 119500 | G35: 70900 | H35: 48700 | I35: -800 | J35: -600 | K35: -100
... A73: 中国四国農政局 | C73: 350700 | D73: 257800 | E73: 92900 | F73: 346900 | G73: 255200 | H73: 91700 | I73: -3800 | J73: -2600 | K73: -1200

Sheet 合併（長野）(合併年月と集計単位）
C1: 2003 | D1: 2004 | E1: 2005 | F1: 2006 | G1: 2007 | H1: 2008 | I1: 2009 | J1: 2010 | K1: 2011 | L1: 2012 | M1: 2013 | N1: 2014 | O1: 2015 | P1: 2016 | Q1: 2017 | R1: 2018 | S1: 2019 | T1: 2020 | U1: 2021 | V1: 2022 | W1: 2023 | X1: 2024
C2: H15 | D2: H16 | E2: H17 | F2: H18 | G2: H19 | H2: H20 | I2: H21 | J2: H22 | K2: H23 | L2: H24 | M2: H25 | N2: H26 | O2: H27 | P2: H28 | Q2: H29 | R2: H30 | S2: R1 | T2: R2 | U2: R3 | V2: R4 | W2: R5 | X2: R6
A3: 201 | B3: 長野市 | D3: 3 | E3: 3 | F3: 3 | G3: 3 | H3: 3 | I3: 3 | J3: 1 | K3: 集計数 | Y3: 201 | Z3: 長野市 | AD3: 201 | AE3: 長野市
A4: 201 | B4: 長野市 | J4: 1
A5: 581 | B5: 信州新町 | J5: 1
A6: 589 | B6: 中条村 | J6: 1 | K6: 合併年月
A7: 202 | B7: 松本市 | D7: 6 | E7: 2 | F7: 2 | G7: 2 | H7: 2 | I7: 2 | J7: 1 | Y7: 202 | Z7: 松本市
A8: 202 | B8: 松本市 | E8: 4 | J8: 3
A9: 202 | B9: 松本市 | E9: 4
A10: 443 | B10: 四賀村 | E10: 4
A11: 449 | B11: 波田町 | J11: 3
A12: 463 | B12: 奈川村 | E12: 4
A13: 464 | B13: 安曇村 | E13: 4
A14: 465 | B14: 梓川村 | E14: 4
A15: 203 | B15: 上田市 | D15: 4 | E15: 1 | Y15: 203 | Z15: 上田市 | AD15: 203 | AE15: 上田市
A16: 203 | B16: 上田市 | F16: 3
A17: 341 | B17: 丸子町 | F17: 3
A18: 345 | B18: 真田町 | F18: 3
A19: 346 | B19: 武石村 | F19: 3
A20: 204 | B20: 岡谷市 | Y20: 204 | Z20: 岡谷市 | AD20: 204 | AE20: 岡谷市
A21: 205 | B21: 飯田市 | D21: 3 | E21: 1 | Y21: 205 | Z21: 飯田市 | AD21: 205 | AE21: 飯田市
A22: 205 | B22: 飯田市 | E22: 10
A23: 418 | B23: 上村 | E23: 10
A24: 419 | B24: 南信濃村 | E24: 10
A25: 206 | B25: 諏訪市 | Y25: 206 | Z25: 諏訪市 | AD25: 206 | AE25: 諏訪市
A26: 207 | B26: 須坂市 | Y26: 207 | Z26: 須坂市 | AD26: 207 | AE26: 須坂市
A27: 208 | B27: 小諸市 | Y27: 208 | Z27: 小諸市 | AD27: 208 | AE27: 小諸市
A28: 209 | B28: 伊那市 | D28: 3 | E28: 3 | F28: 1 | Y28: 209 | Z28: 伊那市 | AD28: 209 | AE28: 伊那市
A29: 209 | B29: 伊那市 | F29: 3
A30: 381 | B30: 高遠町 | F30: 3
A31: 387 | B31: 長谷村 | F31: 3
A32: 210 | B32: 駒ヶ根市 | Y32: 210 | Z32: 駒ヶ根市 | AD32: 210 | AE32: 駒ヶ根市
A33: 211 | B33: 中野市 | D33: 2 | E33: 1 | Y33: 211 | Z33: 中野市 | AD33: 211 | AE33: 中野市
A34: 211 | B34: 中野市 | E34: 4
A35: 601 | B35: 豊田村 | E35: 4
A36: 212 | B36: 大町市 | D36: 3 | E36: 3 | F36: 1 | Y36: 212 | Z36: 大町市 | AD36: 212 | AE36: 大町市
A37: 212 | B37: 大町市 | F37: 1
A38: 483 | B38: 八坂村 | F38: 1
A39: 484 | B39: 美麻村 | F39: 1
A40: 213 | B40: 飯山市 | Y40: 213 | Z40: 飯山市 | AD40: 213 | AE40: 飯山市
A41: 214 | B41: 茅野市 | Y41: 214 | Z41: 茅野市 | AD41: 214 | AE41: 茅野市
A42: 215 | B42: 塩尻市 | D42: 2 | E42: 1 | Y42: 215 | Z42: 塩尻市 | AD42: 215 | AE42: 塩尻市
A43: 215 | B43: 塩尻市 | E43: 4
A44: 424 | B44: 楢川村 | E44: 4
A45: 217 | B45: 佐久市 | D45: 4 | E45: 1 | Y45: 217 | Z45: 佐久市 | AD45: 217 | AE45: 佐久市
A46: 217 | B46: 佐久市 | E46: 4
A47: 301 | B47: 臼田町 | E47: 4
A48: 322 | B48: 望月町 | E48: 4
A49: 325 | B49: 浅科村 | E49: 4
A50: 218 | B50: 千曲市 | Y50: 218 | Z50: 千曲市 | AD50: 218 | AE50: 千曲市
A51: 219 | B51: 東御市 | Y51: 219 | Z51: 東御市 | AD51: 219 | AE51: 東御市
A52: 220 | B52: 安曇野市 | D52: 5 | E52: 1 | Y52: 220 | Z52: 安曇野市 | AD52: 220 | AE52: 安曇野市
A53: 441 | B53: 明科町 | E53: 10
A54: 461 | B54: 豊科町 | E54: 10
A55: 462 | B55: 穂高町 | E55: 10
A56: 466 | B56: 三郷村 | E56: 10
A57: 467 | B57: 堀金村 | E57: 10
A58: 303 | B58: 小海町 | Y58: 303 | Z58: 小海町 | AD58: 303 | AE58: 小海町
A59: 304 | B59: 川上村 | Y59: 304 | Z59: 川上村 | AD59: 304 | AE59: 川上村
A60: 305 | B60: 南牧村 | Y60: 305 | Z60: 南牧村 | AD60: 305 | AE60: 南牧村
A61: 306 | B61: 南相木村 | Y61: 306 | Z61: 南相木村 | AD61: 306 | AE61: 南相木村
A62: 307 | B62: 北相木村 | Y62: 307 | Z62: 北相木村 | AD62: 307 | AE62: 北相木村
A63: 309 | B63: 佐久穂町 | Y63: 309 | Z63: 佐久穂町 | AD63: 309 | AE63: 佐久穂町
A64: 321 | B64: 軽井沢町 | Y64: 321 | Z64: 軽井沢町 | AD64: 321 | AE64: 軽井沢町
A65: 323 | B65: 御代田町 | Y65: 323 | Z65: 御代田町 | AD65: 323 | AE65: 御代田町
A66: 324 | B66: 立科町 | Y66: 324 | Z66: 立科町 | AD66: 324 | AE66: 立科町
A67: 349 | B67: 青木村 | Y67: 349 | Z67: 青木村 | AD67: 349 | AE67: 青木村
A68: 350 | B68: 長和町 | D68: 2 | E68: 1 | Y68: 350 | Z68: 長和町 | AD68: 350 | AE68: 長和町
A69: 342 | B69: 長門町 | E69: 10
A70: 347 | B70: 和田村 | E70: 10
A71: 361 | B71: 下諏訪町 | Y71: 361 | Z71: 下諏訪町 | AD71: 361 | AE71: 下諏訪町
A72: 362 | B72: 富士見町 | Y72: 362 | Z72: 富士見町 | AD72: 362 | AE72: 富士見町
A73: 363 | B73: 原村 | Y73: 363 | Z73: 原村 | AD73: 363 | AE73: 原村
A74: 382 | B74: 辰野町 | Y74: 382 | Z74: 辰野町 | AD74: 382 | AE74: 辰野町
A75: 383 | B75: 箕輪町 | Y75: 383 | Z75: 箕輪町 | AD75: 383 | AE75: 箕輪町
A76: 384 | B76: 飯島町 | Y76: 384 | Z76: 飯島町 | AD76: 384 | AE76: 飯島町
A77: 385 | B77: 南箕輪村 | Y77: 385 | Z77: 南箕輪村 | AD77: 385 | AE77: 南箕輪村
A78: 386 | B78: 中川村 | Y78: 386 | Z78: 中川村 | AD78: 386 | AE78: 中川村
A79: 388 | B79: 宮田村 | Y79: 388 | Z79: 宮田村 | AD79: 388 | AE79: 宮田村
A80: 402 | B80: 松川町 | Y80: 402 | Z80: 松川町 | AD80: 402 | AE80: 松川町
A81: 403 | B81: 高森町 | Y81: 403 | Z81: 高森町 | AD81: 403 | AE81: 高森町
A82: 404 | B82: 阿南町 | Y82: 404 | Z82: 阿南町 | AD82: 404 | AE82: 阿南町
A83: 407 | B83: 阿智村 | D83: 3 | E83: 2 | F83: 2 | G83: 2 | H83: 2 | I83: 1 | Y83: 407 | Z83: 阿智村 | AD83: 407 | AE83: 阿智村
A84: 407 | B84: 阿智村 | I84: 3
A85: 407 | B85: 阿智村 | E85: 1
A86: 408 | B86: 浪合村 | E86: 1
A87: 406 | B87: 清内路村 | I87: 3
A88: 409 | B88: 平谷村 | Y88: 409 | Z88: 平谷村 | AD88: 409 | AE88: 平谷村
A89: 410 | B89: 根羽村 | Y89: 410 | Z89: 根羽村 | AD89: 410 | AE89: 根羽村
A90: 411 | B90: 下條村 | Y90: 411 | Z90: 下條村 | AD90: 411 | AE90: 下條村
A91: 412 | B91: 売木村 | Y91: 412 | Z91: 売木村 | AD91: 412 | AE91: 売木村
A92: 413 | B92: 天龍村 | Y92: 413 | Z92: 天龍村 | AD92: 413 | AE92: 天龍村
A93: 414 | B93: 泰阜村 | Y93: 414 | Z93: 泰阜村 | AD93: 414 | AE93: 泰阜村
A94: 415 | B94: 喬木村 | Y94: 415 | Z94: 喬木村 | AD94: 415 | AE94: 喬木村
A95: 416 | B95: 豊丘村 | Y95: 416 | Z95: 豊丘村 | AD95: 416 | AE95: 豊丘村
A96: 417 | B96: 大鹿村 | Y96: 417 | Z96: 大鹿村 | AD96: 417 | AE96: 大鹿村
A97: 422 | B97: 上松町 | Y97: 422 | Z97: 上松町 | AD97: 422 | AE97: 上松町
A98: 423 | B98: 南木曽町 | Y98: 423 | Z98: 南木曽町 | AD98: 423 | AE98: 南木曽町
A99: 425 | B99: 木祖村 | Y99: 425 | Z99: 木祖村 | AD99: 425 | AE99: 木祖村
... A101: 430 | B101: 大桑村 | Y101: 430 | Z101: 大桑村 | AD101: 430 | AE101: 大桑村
...

Sheet 市町村合併一覧(長野）
B1: 合併市町村一覧（旧合併特例法下）
A2: 反 映有無 | B2: 千曲市 | C2: 更埴市・戸倉町・上山田町 | D2: H15年9月1日 | E2: 64,022人 | F2: 119.84k平方メートル | G2: 新設
B3: 東御市 | C3: 東部町・北御牧村 | D3: H16年4月1日 | E3: 31,271人 | F3: 112.30k平方メートル | G3: 新設
B4: 長野市 | C4: 長野市・大岡村・豊野町・戸隠村・鬼無里村 | D4: H17年1月1日 | E4: 378,512人 | F4: 730.83k平方メートル | G4: 編入・更級郡が消滅
A5: 〇 | B5: 佐久穂町 | C5: 佐久町・八千穂村 | D5: H17年3月20日 | E5: 12,980人 | F5: 188.13k平方メートル | G5: 新設
A6: 〇 | B6: 松本市 | C6: 松本市・四賀村・奈川村・安曇村・梓川村 | D6: H17年4月1日 | E6: 227,627人 | F6: 919.35k平方メートル | G6: 編入
A7: 〇 | B7: 中野市 | C7: 中野市・豊田村 | D7: H17年4月1日 | E7: 46,788人 | F7: 112.06k平方メートル | G7: 新設
A8: 〇 | B8: 塩尻市 | C8: 塩尻市・楢川村 | D8: H17年4月1日 | E8: 68,346人 | F8: 290.13k平方メートル | G8: 編入
A9: 〇 | B9: 佐久市 | C9: 佐久市・臼田町・浅科村・望月町 | D9: H17年4月1日 | E9: 100,462人 | F9: 423.99k平方メートル | G9: 新設
A10: 〇 | B10: 飯田市 | C10: 飯田市・上村・南信濃村 | D10: H17年10月1日 | E10: 108,624人 | F10: 658.76k平方メートル | G10: 編入
A11: 〇 | B11: 安曇野市 | C11: 豊科町・穂高町・三郷村・堀金村・明科町 | D11: H17年10月1日 | E11: 96,266人 | F11: 331.82k平方メートル | G11: 新設・南安曇郡が消滅
A12: 〇 | B12: 長和町 | C12: 長門町・和田村 | D12: H17年10月1日 | E12: 7,304人 | F12: 183.95k平方メートル | G12: 新設
A13: 〇 | B13: 飯綱町 | C13: 牟礼村・三水村 | D13: H17年10月1日 | E13: 12,504人 | F13: 75.31k平方メートル | G13: 新設
A14: 〇 | B14: 筑北村 | C14: 本城村・坂北村・坂井村 | D14: H17年10月11日 | E14: 5,702人 | F14: 99.50k平方メートル | G14: 新設
A15: 〇 | B15: 木曽町 | C15: 木曽福島町・日義村・開田村・三岳村 | D15: H17年11月1日 | E15: 13,900人 | F15: 476.06k平方メートル | G15: 新設
A16: 〇 | B16: 大町市 | C16: 大町市・八坂村・美麻村 | D16: H18年1月1日 | E16: 32,145人 | F16: 564.99k平方メートル | G16: 編入
... A19: 〇 | B19: 伊那市 | C19: 伊那市、高遠町、長谷村 | D19: H18年3月31日 | E19: 71,788人 | F19: 667.81k平方メートル | G19: 新設
B20: 木曽郡山口村が岐阜県中津川市に編入（H17年2月13日）
B21: 合併市町村一覧（合併新法下）
B23: 新市町村名 | C23: 合併前の市町村 | D23: 合併日 | E23: 人口(H17国調) | F23: 面積 | G23: 備考
A24: 〇 | B24: 阿智村 | C24: 阿智村・清内路村 | D24: H21年3月31日 | E24: 7,548人 | F24: 214.47k平方メートル | G24: 編入
A25: 〇 | B25: 長野市 | C25: 長野市・信州新町・中条村 | D25: H22年1月1日 | E25: 386,572人 | F25: 834.85k平方メートル | G25: 編入
A26: 〇 | B26: 松本市 | C26: 松本市・波田町 | D26: H22年3月31日 | E26: 242,541人 | F26: 978.77k平方メートル | G26: 編入
B28: 長野県の市町村数の推移（旧合併特例法下）
B29: 年月日 | C29: 市 | D29: 町 | E29: 村 | F29: 計 | G29: 備考
B30: H15年9月1日 | C30: 17 | D30: 34 | E30: 67 | F30: 118 | G30: 千曲市が誕生
B31: H16年4月1日 | C31: 18 | D31: 33 | E31: 66 | F31: 117 | G31: 東御市が誕生
B32: H17年1月1日 | C32: 18 | D32: 32 | E32: 63 | F32: 113 | G32: 豊野町、大岡村、戸隠村、鬼無里村が長野市に編入
B33: H17年2月13日 | C33: 18 | D33: 32 | E33: 62 | F33: 112 | G33: 山口村が岐阜県中津川市に編入
B34: H17年3月20日 | C34: 18 | D34: 32 | E34: 61 | F34: 111 | G34: 佐久穂町が誕生
B35: H17年4月1日 | C35: 18 | D35: 30 | E35: 54 | F35: 102 | G35: 四賀村、奈川村、安曇村、梓川村が松本市に編入、中野市（新設）が誕生、楢川村が塩尻市に編入、佐久市（新設）が誕生
B36: H17年10月1日 | C36: 19 | D36: 28 | E36: 47 | F36: 94 | G36: 上村、南信濃村が飯田市に編入、安曇野市が誕生、長和町が誕生、飯綱町が誕生
B37: H17年10月11日 | C37: 19 | D37: 28 | E37: 45 | F37: 92 | G37: 筑北村が誕生
B38: H17年11月1日 | C38: 19 | D38: 28 | E38: 42 | F38: 89 | G38: 木曽町が誕生
B39: H18年1月1日 | C39: 19 | D39: 28 | E39: 39 | F39: 86 | G39: 八坂村、美麻村が大町市に編入、浪合村が阿智村に編入
B40: H18年3月6日 | C40: 19 | D40: 26 | E40: 38 | F40: 83 | G40: 上田市（新設）が誕生
B41: H18年3月31日 | C41: 19 | D41: 25 | E41: 37 | F41: 81 | G41: 伊那市（新設）が誕生
B43: 長野県の市町村数の推移（合併新法下）
B44: 年月日 | C44: 市 | D44: 町 | E44: 村 | F44: 計 | G44: 備考
B45: H21年3月31日 | C45: 19 | D45: 25 | E45: 36 | F45: 80 | G45: 清内路村が阿智村に編入
B46: H22年1月1日 | C46: 19 | D46: 24 | E46: 35 | F46: 78 | G46: 信州新町、中条村が長野市に編入
B47: H22年3月31日 | C47: 19 | D47: 23 | E47: 35 | F47: 77 | G47: 波田町が松本市に編入
B49: 資料：長野県ホームぺージ

Sheet データ耕地（長野）2004～
A1: データ耕地 | D1: 2004 | E1: 2005 | F1: 2006 | G1: 2007 | H1: 2008 | I1: 2009 | J1: 2010 | K1: 2011 | L1: 2012 | M1: 2013 | N1: 2014 | O1: 2015 | P1: 2016 | Q1: 2017 | R1: 2018 | S1: 2019 | T1: 2020 | U1: 2021 | V1: 2022 | W1: 2023 | X1: 2024
J2: 111200 | K2: 111000 | L2: 110900 | M2: 110400 | N2: 109900 | O2: 108900 | P2: 108000 | Q2: 107300 | R2: 106700 | S2: 106100 | T2: 105300 | U2: 105200 | V2: 104800 | W2: 104400 | X2: 103800
D3: =SUM(D4:D131) -> 114186 | E3: =SUM(E4:E131) -> 113562 | F3: =SUM(F4:F131) -> 112965 | G3: =SUM(G4:G131) -> 112282 | H3: =SUM(H4:H131) -> 111544 | I3: =SUM(I4:I131) -> 111357 | J3: =SUM(J4:J131) -> 111203 | K3: =SUM(K4:K131) -> 110963 | ... X3: =SUM(X4:X131) -> 103834
A4: 1000 | B4: 201 | C4: 長野市 | J4: ='22（長野）2010'!$D9 -> 8790 | K4: ='23（長野）2011'!$D9 -> 8750 | L4: ='24（長野）2012'!$D9 -> 8720 | M4: ='25（長野）2013'!$D9 -> 8660 | N4: ='26（長野）2014'!$D9 -> 8570 | O4: ='27（長野）2015'!$D9 -> 8340 | P4: ='28（長野）2016'!$D9 -> 8230 | Q4: ='29（長野）2017'!$D9 -> 8160 | R4: ='30（長野）2018'!$D9 -> 8120 | S4: ='R1（長野）2019'!$D9 -> 8090 | T4: ='R2（長野）2020'!$D9 -> 8010 | U4: ='R3（長野）2021'!$D9 -> 7990 | V4: ='R4（長野）2022'!$D9 -> 7980 | W4: ='R5（長野）2023'!$D9 -> 7940 | X4: ='R6（長野）2024'!$D9 -> 7870
B5: 201 | C5: 長野市 | D5: ='16（長野）2004'!D9 -> 8130 | E5: ='17（長野）2005'!D9 -> 8100 | F5: ='18（長野）2006'!$D9 -> 8070 | G5: ='19（長野）2007'!$D9 -> 8020 | H5: ='20（長野）2008'!$D9 -> 7960 | I5: ='21（長野）2009'!$D9 -> 7920
B6: 581 | C6: 信州新町 | D6: ='16（長野）2004'!D112 -> 612 | E6: ='17（長野）2005'!D84 -> 609 | F6: ='18（長野）2006'!$D84 -> 607 | G6: ='19（長野）2007'!$D84 -> 604 | H6: ='20（長野）2008'!$D84 -> 591 | I6: ='21（長野）2009'!D83 -> 591
B7: 589 | C7: 中条村 | D7: ='16（長野）2004'!D117 -> 330 | E7: ='17（長野）2005'!D87 -> 327 | F7: ='18（長野）2006'!$D87 -> 325 | G7: ='19（長野）2007'!$D87 -> 321 | H7: ='20（長野）2008'!$D87 -> 314 | I7: ='21（長野）2009'!D86 -> 314
A8: 2000 | B8: 202 | C8: 松本市 | J8: ='22（長野）2010'!$D10 -> 7790 | K8: ='23（長野）2011'!$D10 -> 7780 | L8: ='24（長野）2012'!$D10 -> 7760 | M8: ='25（長野）2013'!$D10 -> 7660 | N8: ='26（長野）2014'!$D10 -> 7600 | O8: ='27（長野）2015'!$D10 -> 7540 | P8: ='28（長野）2016'!$D10 -> 7460 | Q8: ='29（長野）2017'!$D10 -> 7390 | R8: ='30（長野）2018'!$D10 -> 7320 | S8: ='R1（長野）2019'!$D10 -> 7260 | T8: ='R2（長野）2020'!$D10 -> 7200 | U8: ='R3（長野）2021'!$D10 -> 7180 | V8: ='R4（長野）2022'!$D10 -> 7150 | W8: ='R5（長野）2023'!$D10 -> 7130 | X8: ='R6（長野）2024'!$D10 -> 7130
B9: 202 | C9: 松本市
B10: 202 | C10: 松本市 | D10: ='16（長野）2004'!D10 -> 5070 | E10: ='17（長野）2005'!D10 -> 6920 | F10: ='18（長野）2006'!D10 -> 6870 | G10: ='19（長野）2007'!D10 -> 6860 | H10: ='20（長野）2008'!D10 -> 6860 | I10: ='21（長野）2009'!D10 -> 6870
B11: 443 | C11: 四賀村 | D11: ='16（長野）2004'!D84 -> 534
B12: 449 | C12: 波田町 | D12: ='16（長野）2004'!D90 -> 941 | E12: ='17（長野）2005'!D70 -> 936 | F12: ='18（長野）2006'!$D70 -> 932 | G12: ='19（長野）2007'!$D70 -> 930 | H12: ='20（長野）2008'!$D70 -> 930 | I12: ='21（長野）2009'!D69 -> 928
B13: 463 | C13: 奈川村 | D13: ='16（長野）2004'!D95 -> 133
B14: 464 | C14: 安曇村 | D14: ='16（長野）2004'!D96 -> 33
B15: 465 | C15: 梓川村 | D15: ='16（長野）2004'!D97 -> 1220
A16: 3000 | B16: 203 | C16: 上田市 | E16: ='17（長野）2005'!D11 -> 5680 | F16: ='18（長野）2006'!$D11 -> 5630 | G16: ='19（長野）2007'!$D11 -> 5600 | H16: ='20（長野）2008'!$D11 -> 5560 | I16: ='21（長野）2009'!$D11 -> 5550 | J16: ='22（長野）2010'!$D11 -> 5540 | K16: ='23（長野）2011'!$D11 -> 5530 | L16: ='24（長野）2012'!$D11 -> 5530 | M16: ='25（長野）2013'!$D11 -> 5510 | N16: ='26（長野）2014'!$D11 -> 5470 | O16: ='27（長野）2015'!$D11 -> 5390 | P16: ='28（長野）2016'!$D11 -> 5320 | Q16: ='29（長野）2017'!$D11 -> 5290 | R16: ='30（長野）2018'!$D11 -> 5230 | S16: ='R1（長野）2019'!$D11 -> 5220 | T16: ='R2（長野）2020'!$D11 -> 5220 | U16: ='R3（長野）2021'!$D11 -> 5250 | V16: ='R4（長野）2022'!$D11 -> 5200 | W16: ='R5（長野）2023'!$D11 -> 5180 | X16: ='R6（長野）2024'!$D11 -> 5170
B17: 203 | C17: 上田市 | D17: ='16（長野）2004'!D11 -> 3160
B18: 341 | C18: 丸子町 | D18: ='16（長野）2004'!D39 -> 911
B19: 345 | C19: 真田町 | D19: ='16（長野）2004'!D41 -> 1210
B20: 346 | C20: 武石村 | D20: ='16（長野）2004'!D42 -> 427
A21: 4000 | B21: 204 | C21: 岡谷市 | D21: ='16（長野）2004'!D12 -> 271 | E21: ='17（長野）2005'!D12 -> 265 | F21: ='18（長野）2006'!$D12 -> 258 | G21: ='19（長野）2007'!$D12 -> 251 | H21: ='20（長野）2008'!$D12 -> 246 | I21: ='21（長野）2009'!$D12 -> 244 | J21: ='22（長野）2010'!$D12 -> 244 | K21: ='23（長野）2011'!$D12 -> 244 | L21: ='24（長野）2012'!$D12 -> 241 | M21: ='25（長野）2013'!$D12 -> 239 | N21: ='26（長野）2014'!$D12 -> 237 | O21: ='27（長野）2015'!$D12 -> 234 | P21: ='28（長野）2016'!$D12 -> 232 | Q21: ='29（長野）2017'!$D12 -> 230 | R21: ='30（長野）2018'!$D12 -> 227 | S21: ='R1（長野）2019'!$D12 -> 224 | T21: ='R2（長野）2020'!$D12 -> 220 | U21: ='R3（長野）2021'!$D12 -> 215 | V21: ='R4（長野）2022'!$D12 -> 211 | W21: ='R5（長野）2023'!$D12 -> 213 | X21: ='R6（長野）2024'!$D12 -> 207
A22: 5000 | B22: 205 | C22: 飯田市 | E22: ='17（長野）2005'!D13 -> 3230 | F22: ='18（長野）2006'!$D13 -> 3190 | G22: ='19（長野）2007'!$D13 -> 3160 | H22: ='20（長野）2008'!$D13 -> 3130 | I22: ='21（長野）2009'!$D13 -> 3100 | J22: ='22（長野）2010'!$D13 -> 3080 | K22: ='23（長野）2011'!$D13 -> 3050 | L22: ='24（長野）2012'!$D13 -> 3040 | M22: ='25（長野）2013'!$D13 -> 3040 | N22: ='26（長野）2014'!$D13 -> 3050 | O22: ='27（長野）2015'!$D13 -> 3030 | P22: ='28（長野）2016'!$D13 -> 3010 | Q22: ='29（長野）2017'!$D13 -> 2990 | R22: ='30（長野）2018'!$D13 -> 2980 | S22: ='R1（長野）2019'!$D13 -> 2950 | T22: ='R2（長野）2020'!$D13 -> 2940 | U22: ='R3（長野）2021'!$D13 -> 2930 | V22: ='R4（長野）2022'!$D13 -> 2920 | W22: ='R5（長野）2023'!$D13 -> 2910 | X22: ='R6（長野）2024'!$D13 -> 2850
B23: 205 | C23: 飯田市 | D23: ='16（長野）2004'!D13 -> 3110
B24: 418 | C24: 上村 | D24: ='16（長野）2004'!D71 -> 40
B25: 419 | C25: 南信濃村 | D25: ='16（長野）2004'!D72 -> 120
A26: 6000 | B26: 206 | C26: 諏訪市 | D26: ='16（長野）2004'!D14 -> 703 | E26: ='17（長野）2005'!D14 -> 693 | F26: ='18（長野）2006'!$D14 -> 687 | G26: ='19（長野）2007'!$D14 -> 679 | H26: ='20（長野）2008'!$D14 -> 672 | I26: ='21（長野）2009'!$D14 -> 668 | J26: ='22（長野）2010'!$D14 -> 668 | K26: ='23（長野）2011'!$D14 -> 668 | L26: ='24（長野）2012'!$D14 -> 664 | M26: ='25（長野）2013'!$D14 -> 659 | N26: ='26（長野）2014'!$D14 -> 651 | O26: ='27（長野）2015'!$D14 -> 646 | P26: ='28（長野）2016'!$D14 -> 642 | Q26: ='29（長野）2017'!$D14 -> 637 | R26: ='30（長野）2018'!$D14 -> 630 | S26: ='R1（長野）2019'!$D14 -> 621 | T26: ='R2（長野）2020'!$D14 -> 615 | U26: ='R3（長野）2021'!$D14 -> 609 | V26: ='R4（長野）2022'!$D14 -> 602 | W26: ='R5（長野）2023'!$D14 -> 603 | X26: ='R6（長野）2024'!$D14 -> 608
A27: 7000 | B27: 207 | C27: 須坂市 | D27: ='16（長野）2004'!D15 -> 1860 | E27: ='17（長野）2005'!D15 -> 1850 | F27: ='18（長野）2006'!$D15 -> 1850 | G27: ='19（長野）2007'!$D15 -> 1850 | H27: ='20（長野）2008'!$D15 -> 1830 | I27: ='21（長野）2009'!$D15 -> 1830 | J27: ='22（長野）2010'!$D15 -> 1820 | K27: ='23（長野）2011'!$D15 -> 1820 | L27: ='24（長野）2012'!$D15 -> 1810 | M27: ='25（長野）2013'!$D15 -> 1810 | N27: ='26（長野）2014'!$D15 -> 1780 | O27: ='27（長野）2015'!$D15 -> 1760 | P27: ='28（長野）2016'!$D15 -> 1750 | Q27: ='29（長野）2017'!$D15 -> 1730 | R27: ='30（長野）2018'!$D15 -> 1750 | S27: ='R1（長野）2019'!$D15 -> 1750 | T27: ='R2（長野）2020'!$D15 -> 1750 | U27: ='R3（長野）2021'!$D15 -> 1710 | V27: ='R4（長野）2022'!$D15 -> 1710 | W27: ='R5（長野）2023'!$D15 -> 1700 | X27: ='R6（長野）2024'!$D15 -> 1700
A28: 8000 | B28: 208 | C28: 小諸市 | D28: ='16（長野）2004'!D16 -> 2830 | E28: ='17（長野）2005'!D16 -> 2820 | F28: ='18（長野）2006'!$D16 -> 2800 | G28: ='19（長野）2007'!$D16 -> 2790 | H28: ='20（長野）2008'!$D16 -> 2790 | I28: ='21（長野）2009'!$D16 -> 2790 | J28: ='22（長野）2010'!$D16 -> 2800 | K28: ='23（長野）2011'!$D16 -> 2810 | L28: ='24（長野）2012'!$D16 -> 2820 | M28: ='25（長野）2013'!$D16 -> 2820 | N28: ='26（長野）2014'!$D16 -> 2800 | O28: ='27（長野）2015'!$D16 -> 2770 | P28: ='28（長野）2016'!$D16 -> 2750 | Q28: ='29（長野）2017'!$D16 -> 2740 | R28: ='30（長野）2018'!$D16 -> 2720 | S28: ='R1（長野）2019'!$D16 -> 2680 | T28: ='R2（長野）2020'!$D16 -> 2610 | U28: ='R3（長野）2021'!$D16 -> 2620 | V28: ='R4（長野）2022'!$D16 -> 2600 | W28: ='R5（長野）2023'!$D16 -> 2580 | X28: ='R6（長野）2024'!$D16 -> 2580
A29: 9000 | B29: 209 | C29: 伊那市 | E29: ='17（長野）2005'!D17 -> 5310 | F29: ='18（長野）2006'!$D17 -> 5290 | G29: ='19（長野）2007'!$D17 -> 5260 | H29: ='20（長野）2008'!$D17 -> 5220 | I29: ='21（長野）2009'!$D17 -> 5210 | J29: ='22（長野）2010'!$D17 -> 5200 | K29: ='23（長野）2011'!$D17 -> 5200 | L29: ='24（長野）2012'!$D17 -> 5210 | M29: ='25（長野）2013'!$D17 -> 5220 | N29: ='26（長野）2014'!$D17 -> 5220 | O29: ='27（長野）2015'!$D17 -> 5210 | P29: ='28（長野）2016'!$D17 -> 5190 | Q29: ='29（長野）2017'!$D17 -> 5170 | R29: ='30（長野）2018'!$D17 -> 5160 | S29: ='R1（長野）2019'!$D17 -> 5140 | T29: ='R2（長野）2020'!$D17 -> 5120 | U29: ='R3（長野）2021'!$D17 -> 5110 | V29: ='R4（長野）2022'!$D17 -> 5100 | W29: ='R5（長野）2023'!$D17 -> 5100 | X29: ='R6（長野）2024'!$D17 -> 5080
B30: 209 | C30: 伊那市 | D30: ='16（長野）2004'!D17 -> 4520
B31: 381 | C31: 高遠町 | D31: ='16（長野）2004'!D48 -> 608
B32: 387 | C32: 長谷村 | D32: ='16（長野）2004'!D54 -> 218
A33: 10000 | B33: 210 | C33: 駒ヶ根市 | D33: ='16（長野）2004'!D18 -> 1980 | E33: ='17（長野）2005'!D18 -> 1960 | F33: ='18（長野）2006'!$D18 -> 1950 | G33: ='19（長野）2007'!$D18 -> 1930 | H33: ='20（長野）2008'!$D18 -> 1910 | I33: ='21（長野）2009'!$D18 -> 1890 | J33: ='22（長野）2010'!$D18 -> 1890 | K33: ='23（長野）2011'!$D18 -> 1890 | L33: ='24（長野）2012'!$D18 -> 1890 | M33: ='25（長野）2013'!$D18 -> 1890 | N33: ='26（長野）2014'!$D18 -> 1880 | O33: ='27（長野）2015'!$D18 -> 1880 | P33: ='28（長野）2016'!$D18 -> 1870 | Q33: ='29（長野）2017'!$D18 -> 1860 | R33: ='30（長野）2018'!$D18 -> 1850 | S33: ='R1（長野）2019'!$D18 -> 1830 | T33: ='R2（長野）2020'!$D18 -> 1820 | U33: ='R3（長野）2021'!$D18 -> 1820 | V33: ='R4（長野）2022'!$D18 -> 1820 | W33: ='R5（長野）2023'!$D18 -> 1810 | X33: ='R6（長野）2024'!$D18 -> 1800
A34: 11000 | B34: 211 | C34: 中野市 | E34: ='17（長野）2005'!D19 -> 3160 | F34: ='18（長野）2006'!$D19 -> 3140 | G34: ='19（長野）2007'!$D19 -> 3100 | H34: ='20（長野）2008'!$D19 -> 3090 | I34: ='21（長野）2009'!$D19 -> 3090 | J34: ='22（長野）2010'!$D19 -> 3080 | K34: ='23（長野）2011'!$D19 -> 3060 | L34: ='24（長野）2012'!$D19 -> 3060 | M34: ='25（長野）2013'!$D19 -> 3050 | N34: ='26（長野）2014'!$D19 -> 3030 | O34: ='27（長野）2015'!$D19 -> 3010 | P34: ='28（長野）2016'!$D19 -> 2990 | Q34: ='29（長野）2017'!$D19 -> 2970 | R34: ='30（長野）2018'!$D19 -> 2970 | S34: ='R1（長野）2019'!$D19 -> 2950 | T34: ='R2（長野）2020'!$D19 -> 2950 | U34: ='R3（長野）2021'!$D19 -> 2950 | V34: ='R4（長野）2022'!$D19 -> 2950 | W34: ='R5（長野）2023'!$D19 -> 2890 | X34: ='R6（長野）2024'!$D19 -> 2880
B35: 211 | C35: 中野市 | D35: ='16（長野）2004'!D19 -> 2540
B36: 601 | C36: 豊田村 | D36: ='16（長野）2004'!D118 -> 649
A37: 12000 | B37: 212 | C37: 大町市 | E37: ='17（長野）2005'!D20 -> 2630 | F37: ='18（長野）2006'!$D20 -> 2620 | G37: ='19（長野）2007'!$D20 -> 2610 | H37: ='20（長野）2008'!$D20 -> 2610 | I37: ='21（長野）2009'!$D20 -> 2610 | J37: ='22（長野）2010'!$D20 -> 2600 | K37: ='23（長野）2011'!$D20 -> 2600 | L37: ='24（長野）2012'!$D20 -> 2590 | M37: ='25（長野）2013'!$D20 -> 2590 | N37: ='26（長野）2014'!$D20 -> 2590 | O37: ='27（長野）2015'!$D20 -> 2570 | P37: ='28（長野）2016'!$D20 -> 2540 | Q37: ='29（長野）2017'!$D20 -> 2510 | R37: ='30（長野）2018'!$D20 -> 2480 | S37: ='R1（長野）2019'!$D20 -> 2450 | T37: ='R2（長野）2020'!$D20 -> 2430 | U37: ='R3（長野）2021'!$D20 -> 2420 | V37: ='R4（長野）2022'!$D20 -> 2410 | W37: ='R5（長野）2023'!$D20 -> 2410 | X37: ='R6（長野）2024'!$D20 -> 2390
B38: 212 | C38: 大町市 | D38: ='16（長野）2004'!D20 -> 2320
B39: 483 | C39: 八坂村 | D39: ='16（長野）2004'!D102 -> 139
B40: 484 | C40: 美麻村 | D40: ='16（長野）2004'!D103 -> 174
A41: 13000 | B41: 213 | C41: 飯山市 | D41: ='16（長野）2004'!D21 -> 3610 | E41: ='17（長野）2005'!D21 -> 3570 | F41: ='18（長野）2006'!$D21 -> 3530 | G41: ='19（長野）2007'!$D21 -> 3490 | H41: ='20（長野）2008'!$D21 -> 3470 | I41: ='21（長野）2009'!$D21 -> 3470 | J41: ='22（長野）2010'!$D21 -> 3470 | K41: ='23（長野）2011'!$D21 -> 3470 | L41: ='24（長野）2012'!$D21 -> 3430 | M41: ='25（長野）2013'!$D21 -> 3430 | N41: ='26（長野）2014'!$D21 -> 3420 | O41: ='27（長野）2015'!$D21 -> 3400 | P41: ='28（長野）2016'!$D21 -> 3380 | Q41: ='29（長野）2017'!$D21 -> 3360 | R41: ='30（長野）2018'!$D21 -> 3350 | S41: ='R1（長野）2019'!$D21 -> 3340 | T41: ='R2（長野）2020'!$D21 -> 3310 | U41: ='R3（長野）2021'!$D21 -> 3300 | V41: ='R4（長野）2022'!$D21 -> 3280 | W41: ='R5（長野）2023'!$D21 -> 3240 | X41: ='R6（長野）2024'!$D21 -> 3190
A42: 14000 | B42: 214 | C42: 茅野市 | D42: ='16（長野）2004'!D22 -> 2630 | E42: ='17（長野）2005'!D22 -> 2610 | F42: ='18（長野）2006'!$D22 -> 2590 | G42: ='19（長野）2007'!$D22 -> 2570 | H42: ='20（長野）2008'!$D22 -> 2550 | I42: ='21（長野）2009'!$D22 -> 2540 | J42: ='22（長野）2010'!$D22 -> 2540 | K42: ='23（長野）2011'!$D22 -> 2530 | L42: ='24（長野）2012'!$D22 -> 2520 | M42: ='25（長野）2013'!$D22 -> 2500 | N42: ='26（長野）2014'!$D22 -> 2480 | O42: ='27（長野）2015'!$D22 -> 2460 | P42: ='28（長野）2016'!$D22 -> 2450 | Q42: ='29（長野）2017'!$D22 -> 2430 | R42: ='30（長野）2018'!$D22 -> 2390 | S42: ='R1（長野）2019'!$D22 -> 2330 | T42: ='R2（長野）2020'!$D22 -> 2320 | U42: ='R3（長野）2021'!$D22 -> 2330 | V42: ='R4（長野）2022'!$D22 -> 2330 | W42: ='R5（長野）2023'!$D22 -> 2330 | X42: ='R6（長野）2024'!$D22 -> 2320
A43: 15000 | B43: 215 | C43: 塩尻市 | E43: ='17（長野）2005'!D23 -> 3090 | F43: ='18（長野）2006'!$D23 -> 3080 | G43: ='19（長野）2007'!$D23 -> 3060 | H43: ='20（長野）2008'!$D23 -> 3060 | I43: ='21（長野）2009'!$D23 -> 3070 | J43: ='22（長野）2010'!$D23 -> 3070 | K43: ='23（長野）2011'!$D23 -> 3060 | L43: ='24（長野）2012'!$D23 -> 3050 | M43: ='25（長野）2013'!$D23 -> 3050 | N43: ='26（長野）2014'!$D23 -> 3040 | O43: ='27（長野）2015'!$D23 -> 3020 | P43: ='28（長野）2016'!$D23 -> 2990 | Q43: ='29（長野）2017'!$D23 -> 2970 | R43: ='30（長野）2018'!$D23 -> 2950 | S43: ='R1（長野）2019'!$D23 -> 2920 | T43: ='R2（長野）2020'!$D23 -> 2890 | U43: ='R3（長野）2021'!$D23 -> 2880 | V43: ='R4（長野）2022'!$D23 -> 2870 | W43: ='R5（長野）2023'!$D23 -> 2870 | X43: ='R6（長野）2024'!$D23 -> 2870
B44: 215 | C44: 塩尻市 | D44: ='16（長野）2004'!D23 -> 3090
B45: 424 | C45: 楢川村 | D45: ='16（長野）2004'!D76 -> 23
A46: 16000 | B46: 217 | C46: 佐久市 | E46: ='17（長野）2005'!D24 -> 6870 | F46: ='18（長野）2006'!$D24 -> 6830 | G46: ='19（長野）2007'!$D24 -> 6770 | H46: ='20（長野）2008'!$D24 -> 6730 | I46: ='21（長野）2009'!$D24 -> 6720 | J46: ='22（長野）2010'!$D24 -> 6710 | K46: ='23（長野）2011'!$D24 -> 6700 | L46: ='24（長野）2012'!$D24 -> 6720 | M46: ='25（長野）2013'!$D24 -> 6600 | N46: ='26（長野）2014'!$D24 -> 6580 | O46: ='27（長野）2015'!$D24 -> 6530 | P46: ='28（長野）2016'!$D24 -> 6480 | Q46: ='29（長野）2017'!$D24 -> 6450 | R46: ='30（長野）2018'!$D24 -> 6430 | S46: ='R1（長野）2019'!$D24 -> 6400 | T46: ='R2（長野）2020'!$D24 -> 6280 | U46: ='R3（長野）2021'!$D24 -> 6320 | V46: ='R4（長野）2022'!$D24 -> 6300 | W46: ='R5（長野）2023'!$D24 -> 6260 | X46: ='R6（長野）2024'!$D24 -> 6210
B47: 217 | C47: 佐久市 | D47: ='16（長野）2004'!D24 -> 3570
B48: 301 | C48: 臼田町 | D48: ='16（長野）2004'!D27 -> 818
B49: 322 | C49: 望月町 | D49: ='16（長野）2004'!D35 -> 1810
B50: 325 | C50: 浅科村 | D50: ='16（長野）2004'!D38 -> 690
A51: 17000 | B51: 218 | C51: 千曲市 | D51: ='16（長野）2004'!D25 -> 1670 | E51: ='17（長野）2005'!D25 -> 1660 | F51: ='18（長野）2006'!$D25 -> 1650 | G51: ='19（長野）2007'!$D25 -> 1650 | H51: ='20（長野）2008'!$D25 -> 1640 | I51: ='21（長野）2009'!$D25 -> 1630 | J51: ='22（長野）2010'!$D25 -> 1630 | K51: ='23（長野）2011'!$D25 -> 1620 | L51: ='24（長野）2012'!$D25 -> 1620 | M51: ='25（長野）2013'!$D25 -> 1610 | N51: ='26（長野）2014'!$D25 -> 1590 | O51: ='27（長野）2015'!$D25 -> 1570 | P51: ='28（長野）2016'!$D25 -> 1560 | Q51: ='29（長野）2017'!$D25 -> 1550 | R51: ='30（長野）2018'!$D25 -> 1550 | S51: ='R1（長野）2019'!$D25 -> 1550 | T51: ='R2（長野）2020'!$D25 -> 1540 | U51: ='R3（長野）2021'!$D25 -> 1540 | V51: ='R4（長野）2022'!$D25 -> 1540 | W51: ='R5（長野）2023'!$D25 -> 1520 | X51: ='R6（長野）2024'!$D25 -> 1520
A52: 18000 | B52: 219 | C52: 東御市 | D52: ='16（長野）2004'!D26 -> 2500 | E52: ='17（長野）2005'!D26 -> 2490 | F52: ='18（長野）2006'!$D26 -> 2470 | G52: ='19（長野）2007'!$D26 -> 2460 | H52: ='20（長野）2008'!$D26 -> 2440 | I52: ='21（長野）2009'!$D26 -> 2440 | J52: ='22（長野）2010'!$D26 -> 2440 | K52: ='23（長野）2011'!$D26 -> 2440 | L52: ='24（長野）2012'!$D26 -> 2440 | M52: ='25（長野）2013'!$D26 -> 2420 | N52: ='26（長野）2014'!$D26 -> 2420 | O52: ='27（長野）2015'!$D26 -> 2390 | P52: ='28（長野）2016'!$D26 -> 2370 | Q52: ='29（長野）2017'!$D26 -> 2360 | R52: ='30（長野）2018'!$D26 -> 2330 | S52: ='R1（長野）2019'!$D26 -> 2360 | T52: ='R2（長野）2020'!$D26 -> 2340 | U52: ='R3（長野）2021'!$D26 -> 2360 | V52: ='R4（長野）2022'!$D26 -> 2360 | W52: ='R5（長野）2023'!$D26 -> 2350 | X52: ='R6（長野）2024'!$D26 -> 2340
A53: 19000 | B53: 220 | C53: 安曇野市 | E53: ='17（長野）2005'!D27 -> 7120 | F53: ='18（長野）2006'!D$27 -> 7110 | G53: ='19（長野）2007'!D$27 -> 7080 | H53: ='20（長野）2008'!D$27 -> 7000 | I53: ='21（長野）2009'!D$27 -> 6990 | J53: ='22（長野）2010'!$D27 -> 6970 | K53: ='23（長野）2011'!$D27 -> 6960 | L53: ='24（長野）2012'!$D27 -> 6940 | M53: ='25（長野）2013'!$D27 -> 6930 | N53: ='26（長野）2014'!$D27 -> 6910 | O53: ='27（長野）2015'!$D27 -> 6860 | P53: ='28（長野）2016'!$D27 -> 6800 | Q53: ='29（長野）2017'!$D27 -> 6740 | R53: ='30（長野）2018'!$D27 -> 6680 | S53: ='R1（長野）2019'!$D27 -> 6610 | T53: ='R2（長野）2020'!$D27 -> 6530 | U53: ='R3（長野）2021'!$D27 -> 6510 | V53: ='R4（長野）2022'!$D27 -> 6480 | W53: ='R5（長野）2023'!$D27 -> 6470 | X53: ='R6（長野）2024'!$D27 -> 6450
B54: 441 | C54: 明科町 | D54: ='16（長野）2004'!D83 -> 523
B55: 461 | C55: 豊科町 | D55: ='16（長野）2004'!D93 -> 1520
B56: 462 | C56: 穂高町 | D56: ='16（長野）2004'!D94 -> 2330
B57: 466 | C57: 三郷村 | D57: ='16（長野）2004'!D98 -> 1770
B58: 467 | C58: 堀金村 | D58: ='16（長野）2004'!D99 -> 991
A59: 20000 | B59: 303 | C59: 小海町 | D59: ='16（長野）2004'!D28 -> 976 | E59: ='17（長野）2005'!D28 -> 974 | F59: ='18（長野）2006'!D$28 -> 971 | G59: ='19（長野）2007'!D$28 -> 969 | H59: ='20（長野）2008'!D$28 -> 966 | I59: ='21（長野）2009'!D$28 -> 967 | J59: ='22（長野）2010'!$D28 -> 967 | K59: ='23（長野）2011'!$D28 -> 965 | L59: ='24（長野）2012'!$D28 -> 963 | M59: ='25（長野）2013'!$D28 -> 947 | N59: ='26（長野）2014'!$D28 -> 945 | O59: ='27（長野）2015'!$D28 -> 934 | P59: ='28（長野）2016'!$D28 -> 926 | Q59: ='29（長野）2017'!$D28 -> 920 | R59: ='30（長野）2018'!$D28 -> 913 | S59: ='R1（長野）2019'!$D28 -> 911 | T59: ='R2（長野）2020'!$D28 -> 909 | U59: ='R3（長野）2021'!$D28 -> 899 | V59: ='R4（長野）2022'!$D28 -> 888 | W59: ='R5（長野）2023'!$D28 -> 886 | X59: ='R6（長野）2024'!$D28 -> 878
A60: 21000 | B60: 304 | C60: 川上村 | D60: ='16（長野）2004'!D29 -> 1870 | E60: ='17（長野）2005'!D29 -> 1840 | F60: ='18（長野）2006'!$D29 -> 1840 | G60: ='19（長野）2007'!$D29 -> 1840 | H60: ='20（長野）2008'!$D29 -> 1850 | I60: ='21（長野）2009'!$D29 -> 1850 | J60: ='22（長野）2010'!$D29 -> 1850 | K60: ='23（長野）2011'!$D29 -> 1850 | L60: ='24（長野）2012'!$D29 -> 1860 | M60: ='25（長野）2013'!$D29 -> 1860 | N60: ='26（長野）2014'!$D29 -> 1860 | O60: ='27（長野）2015'!$D29 -> 1850 | P60: ='28（長野）2016'!$D29 -> 1850 | Q60: ='29（長野）2017'!$D29 -> 1840 | R60: ='30（長野）2018'!$D29 -> 1840 | S60: ='R1（長野）2019'!$D29 -> 1840 | T60: ='R2（長野）2020'!$D29 -> 1850 | U60: ='R3（長野）2021'!$D29 -> 1860 | V60: ='R4（長野）2022'!$D29 -> 1880 | W60: ='R5（長野）2023'!$D29 -> 1880 | X60: ='R6（長野）2024'!$D29 -> 1880
A61: 22000 | B61: 305 | C61: 南牧村 | D61: ='16（長野）2004'!D30 -> 1950 | E61: ='17（長野）2005'!D30 -> 1950 | F61: ='18（長野）2006'!$D30 -> 1950 | G61: ='19（長野）2007'!$D30 -> 1950 | H61: ='20（長野）2008'!$D30 -> 1950 | I61: ='21（長野）2009'!$D30 -> 1940 | J61: ='22（長野）2010'!$D30 -> 1940 | K61: ='23（長野）2011'!$D30 -> 1940 | L61: ='24（長野）2012'!$D30 -> 1940 | M61: ='25（長野）2013'!$D30 -> 1950 | N61: ='26（長野）2014'!$D30 -> 1940 | O61: ='27（長野）2015'!$D30 -> 1940 | P61: ='28（長野）2016'!$D30 -> 1940 | Q61: ='29（長野）2017'!$D30 -> 1930 | R61: ='30（長野）2018'!$D30 -> 1930 | S61: ='R1（長野）2019'!$D30 -> 1930 | T61: ='R2（長野）2020'!$D30 -> 1940 | U61: ='R3（長野）2021'!$D30 -> 1940 | V61: ='R4（長野）2022'!$D30 -> 1950 | W61: ='R5（長野）2023'!$D30 -> 1950 | X61: ='R6（長野）2024'!$D30 -> 1950
A62: 23000 | B62: 306 | C62: 南相木村 | D62: ='16（長野）2004'!D31 -> 311 | E62: ='17（長野）2005'!D31 -> 308 | F62: ='18（長野）2006'!$D31 -> 307 | G62: ='19（長野）2007'!$D31 -> 306 | H62: ='20（長野）2008'!$D31 -> 304 | I62: ='21（長野）2009'!$D31 -> 310 | J62: ='22（長野）2010'!$D31 -> 313 | K62: ='23（長野）2011'!$D31 -> 315 | L62: ='24（長野）2012'!$D31 -> 314 | M62: ='25（長野）2013'!$D31 -> 315 | N62: ='26（長野）2014'!$D31 -> 312 | O62: ='27（長野）2015'!$D31 -> 308 | P62: ='28（長野）2016'!$D31 -> 305 | Q62: ='29（長野）2017'!$D31 -> 296 | R62: ='30（長野）2018'!$D31 -> 288 | S62: ='R1（長野）2019'!$D31 -> 285 | T62: ='R2（長野）2020'!$D31 -> 275 | U62: ='R3（長野）2021'!$D31 -> 266 | V62: ='R4（長野）2022'!$D31 -> 256 | W62: ='R5（長野）2023'!$D31 -> 254 | X62: ='R6（長野）2024'!$D31 -> 245
A63: 24000 | B63: 307 | C63: 北相木村 | D63: ='16（長野）2004'!D32 -> 174 | E63: ='17（長野）2005'!D32 -> 173 | F63: ='18（長野）2006'!$D32 -> 170 | G63: ='19（長野）2007'!$D32 -> 170 | H63: ='20（長野）2008'!$D32 -> 169 | I63: ='21（長野）2009'!$D32 -> 169 | J63: ='22（長野）2010'!$D32 -> 169 | K63: ='23（長野）2011'!$D32 -> 169 | L63: ='24（長野）2012'!$D32 -> 169 | M63: ='25（長野）2013'!$D32 -> 169 | N63: ='26（長野）2014'!$D32 -> 169 | O63: ='27（長野）2015'!$D32 -> 168 | P63: ='28（長野）2016'!$D32 -> 165 | Q63: ='29（長野）2017'!$D32 -> 163 | R63: ='30（長野）2018'!$D32 -> 163 | S63: ='R1（長野）2019'!$D32 -> 161 | T63: ='R2（長野）2020'!$D32 -> 147 | U63: ='R3（長野）2021'!$D32 -> 156 | V63: ='R4（長野）2022'!$D32 -> 154 | W63: ='R5（長野）2023'!$D32 -> 152 | X63: ='R6（長野）2024'!$D32 -> 149
A64: 25000 | B64: 309 | C64: 佐久穂町 | D64: ='16（長野）2004'!D33 -> 1310 | E64: ='17（長野）2005'!D33 -> 1310 | F64: ='18（長野）2006'!$D33 -> 1300 | G64: ='19（長野）2007'!$D33 -> 1290 | H64: ='20（長野）2008'!$D33 -> 1290 | I64: ='21（長野）2009'!$D33 -> 1280 | J64: ='22（長野）2010'!$D33 -> 1280 | K64: ='23（長野）2011'!$D33 -> 1280 | L64: ='24（長野）2012'!$D33 -> 1290 | M64: ='25（長野）2013'!$D33 -> 1280 | N64: ='26（長野）2014'!$D33 -> 1280 | O64: ='27（長野）2015'!$D33 -> 1270 | P64: ='28（長野）2016'!$D33 -> 1270 | Q64: ='29（長野）2017'!$D33 -> 1260 | R64: ='30（長野）2018'!$D33 -> 1260 | S64: ='R1（長野）2019'!$D33 -> 1240 | T64: ='R2（長野）2020'!$D33 -> 1210 | U64: ='R3（長野）2021'!$D33 -> 1230 | V64: ='R4（長野）2022'!$D33 -> 1210 | W64: ='R5（長野）2023'!$D33 -> 1200 | X64: ='R6（長野）2024'!$D33 -> 1190
A65: 26000 | B65: 321 | C65: 軽井沢町 | D65: ='16（長野）2004'!D34 -> 350 | E65: ='17（長野）2005'!D34 -> 346 | F65: ='18（長野）2006'!$D34 -> 342 | G65: ='19（長野）2007'!$D34 -> 339 | H65: ='20（長野）2008'!$D34 -> 339 | I65: ='21（長野）2009'!$D34 -> 345 | J65: ='22（長野）2010'!$D34 -> 350 | K65: ='23（長野）2011'!$D34 -> 346 | L65: ='24（長野）2012'!$D34 -> 343 | M65: ='25（長野）2013'!$D34 -> 346 | N65: ='26（長野）2014'!$D34 -> 343 | O65: ='27（長野）2015'!$D34 -> 340 | P65: ='28（長野）2016'!$D34 -> 330 | Q65: ='29（長野）2017'!$D34 -> 326 | R65: ='30（長野）2018'!$D34 -> 329 | S65: ='R1（長野）2019'!$D34 -> 332 | T65: ='R2（長野）2020'!$D34 -> 336 | U65: ='R3（長野）2021'!$D34 -> 339 | V65: ='R4（長野）2022'!$D34 -> 341 | W65: ='R5（長野）2023'!$D34 -> 342 | X65: ='R6（長野）2024'!$D34 -> 339
A66: 27000 | B66: 323 | C66: 御代田町 | D66: ='16（長野）2004'!D36 -> 764 | E66: ='17（長野）2005'!D35 -> 758 | F66: ='18（長野）2006'!$D35 -> 754 | G66: ='19（長野）2007'!$D35 -> 752 | H66: ='20（長野）2008'!$D35 -> 750 | I66: ='21（長野）2009'!$D35 -> 751 | J66: ='22（長野）2010'!$D35 -> 766 | K66: ='23（長野）2011'!$D35 -> 769 | L66: ='24（長野）2012'!$D35 -> 772 | M66: ='25（長野）2013'!$D35 -> 772 | N66: ='26（長野）2014'!$D35 -> 766 | O66: ='27（長野）2015'!$D35 -> 757 | P66: ='28（長野）2016'!$D35 -> 750 | Q66: ='29（長野）2017'!$D35 -> 746 | R66: ='30（長野）2018'!$D35 -> 754 | S66: ='R1（長野）2019'!$D35 -> 750 | T66: ='R2（長野）2020'!$D35 -> 754 | U66: ='R3（長野）2021'!$D35 -> 758 | V66: ='R4（長野）2022'!$D35 -> 762 | W66: ='R5（長野）2023'!$D35 -> 752 | X66: ='R6（長野）2024'!$D35 -> 749
A67: 28000 | B67: 324 | C67: 立科町 | D67: ='16（長野）2004'!D37 -> 1320 | E67: ='17（長野）2005'!D36 -> 1320 | F67: ='18（長野）2006'!$D36 -> 1320 | G67: ='19（長野）2007'!$D36 -> 1320 | H67: ='20（長野）2008'!$D36 -> 1320 | I67: ='21（長野）2009'!$D36 -> 1320 | J67: ='22（長野）2010'!$D36 -> 1320 | K67: ='23（長野）2011'!$D36 -> 1320 | L67: ='24（長野）2012'!$D36 -> 1320 | M67: ='25（長野）2013'!$D36 -> 1330 | N67: ='26（長野）2014'!$D36 -> 1330 | O67: ='27（長野）2015'!$D36 -> 1310 | P67: ='28（長野）2016'!$D36 -> 1300 | Q67: ='29（長野）2017'!$D36 -> 1290 | R67: ='30（長野）2018'!$D36 -> 1290 | S67: ='R1（長野）2019'!$D36 -> 1290 | T67: ='R2（長野）2020'!$D36 -> 1280 | U67: ='R3（長野）2021'!$D36 -> 1280 | V67: ='R4（長野）2022'!$D36 -> 1260 | W67: ='R5（長野）2023'!$D36 -> 1260 | X67: ='R6（長野）2024'!$D36 -> 1250
A68: 29000 | B68: 349 | C68: 青木村 | D68: ='16（長野）2004'!D44 -> 459 | E68: ='17（長野）2005'!D37 -> 457 | F68: ='18（長野）2006'!$D37 -> 454 | G68: ='19（長野）2007'!$D37 -> 453 | H68: ='20（長野）2008'!$D37 -> 452 | I68: ='21（長野）2009'!$D37 -> 453 | J68: ='22（長野）2010'!$D37 -> 454 | K68: ='23（長野）2011'!$D37 -> 456 | L68: ='24（長野）2012'!$D37 -> 456 | M68: ='25（長野）2013'!$D37 -> 455 | N68: ='26（長野）2014'!$D37 -> 456 | O68: ='27（長野）2015'!$D37 -> 450 | P68: ='28（長野）2016'!$D37 -> 445 | Q68: ='29（長野）2017'!$D37 -> 443 | R68: ='30（長野）2018'!$D37 -> 431 | S68: ='R1（長野）2019'!$D37 -> 431 | T68: ='R2（長野）2020'!$D37 -> 428 | U68: ='R3（長野）2021'!$D37 -> 428 | V68: ='R4（長野）2022'!$D37 -> 428 | W68: ='R5（長野）2023'!$D37 -> 430 | X68: ='R6（長野）2024'!$D37 -> 437
A69: 30000 | B69: 350 | C69: 長和町 | E69: ='17（長野）2005'!D38 -> 963 | F69: ='18（長野）2006'!$D38 -> 958 | G69: ='19（長野）2007'!$D38 -> 955 | H69: ='20（長野）2008'!$D38 -> 938 | I69: ='21（長野）2009'!$D38 -> 942 | J69: ='22（長野）2010'!$D38 -> 942 | K69: ='23（長野）2011'!$D38 -> 942 | L69: ='24（長野）2012'!$D38 -> 944 | M69: ='25（長野）2013'!$D38 -> 940 | N69: ='26（長野）2014'!$D38 -> 947 | O69: ='27（長野）2015'!$D38 -> 910 | P69: ='28（長野）2016'!$D38 -> 896 | Q69: ='29（長野）2017'!$D38 -> 891 | R69: ='30（長野）2018'!$D38 -> 875 | S69: ='R1（長野）2019'!$D38 -> 879 | T69: ='R2（長野）2020'!$D38 -> 875 | U69: ='R3（長野）2021'!$D38 -> 884 | V69: ='R4（長野）2022'!$D38 -> 883 | W69: ='R5（長野）2023'!$D38 -> 879 | X69: ='R6（長野）2024'!$D38 -> 865
B70: 342 | C70: 長門町 | D70: ='16（長野）2004'!D40 -> 699
B71: 347 | C71: 和田村 | D71: ='16（長野）2004'!D43 -> 267
A72: 31000 | B72: 361 | C72: 下諏訪町 | D72: ='16（長野）2004'!D45 -> 64 | E72: ='17（長野）2005'!D39 -> 62 | F72: ='18（長野）2006'!$D39 -> 60 | G72: ='19（長野）2007'!$D39 -> 58 | H72: ='20（長野）2008'!$D39 -> 56 | I72: ='21（長野）2009'!$D39 -> 54 | J72: ='22（長野）2010'!$D39 -> 55 | K72: ='23（長野）2011'!$D39 -> 55 | L72: ='24（長野）2012'!$D39 -> 54 | M72: ='25（長野）2013'!$D39 -> 54 | N72: ='26（長野）2014'!$D39 -> 54 | O72: ='27（長野）2015'!$D39 -> 54 | P72: ='28（長野）2016'!$D39 -> 54 | Q72: ='29（長野）2017'!$D39 -> 54 | R72: ='30（長野）2018'!$D39 -> 50 | S72: ='R1（長野）2019'!$D39 -> 49 | T72: ='R2（長野）2020'!$D39 -> 49 | U72: ='R3（長野）2021'!$D39 -> 49 | V72: ='R4（長野）2022'!$D39 -> 45 | W72: ='R5（長野）2023'!$D39 -> 47 | X72: ='R6（長野）2024'!$D39 -> 56
A73: 32000 | B73: 362 | C73: 富士見町 | D73: ='16（長野）2004'!D46 -> 1680 | E73: ='17（長野）2005'!D40 -> 1680 | F73: ='18（長野）2006'!$D40 -> 1670 | G73: ='19（長野）2007'!$D40 -> 1670 | H73: ='20（長野）2008'!$D40 -> 1650 | I73: ='21（長野）2009'!$D40 -> 1650 | J73: ='22（長野）2010'!$D40 -> 1650 | K73: ='23（長野）2011'!$D40 -> 1650 | L73: ='24（長野）2012'!$D40 -> 1650 | M73: ='25（長野）2013'!$D40 -> 1650 | N73: ='26（長野）2014'!$D40 -> 1650 | O73: ='27（長野）2015'!$D40 -> 1640 | P73: ='28（長野）2016'!$D40 -> 1630 | Q73: ='29（長野）2017'!$D40 -> 1620 | R73: ='30（長野）2018'!$D40 -> 1600 | S73: ='R1（長野）2019'!$D40 -> 1600 | T73: ='R2（長野）2020'!$D40 -> 1590 | U73: ='R3（長野）2021'!$D40 -> 1590 | V73: ='R4（長野）2022'!$D40 -> 1570 | W73: ='R5（長野）2023'!$D40 -> 1570 | X73: ='R6（長野）2024'!$D40 -> 1570
A74: 33000 | B74: 363 | C74: 原村 | D74: ='16（長野）2004'!D47 -> 1160 | E74: ='17（長野）2005'!D41 -> 1160 | F74: ='18（長野）2006'!$D41 -> 1160 | G74: ='19（長野）2007'!$D41 -> 1150 | H74: ='20（長野）2008'!$D41 -> 1150 | I74: ='21（長野）2009'!$D41 -> 1150 | J74: ='22（長野）2010'!$D41 -> 1150 | K74: ='23（長野）2011'!$D41 -> 1150 | L74: ='24（長野）2012'!$D41 -> 1150 | M74: ='25（長野）2013'!$D41 -> 1140 | N74: ='26（長野）2014'!$D41 -> 1140 | O74: ='27（長野）2015'!$D41 -> 1140 | P74: ='28（長野）2016'!$D41 -> 1140 | Q74: ='29（長野）2017'!$D41 -> 1140 | R74: ='30（長野）2018'!$D41 -> 1130 | S74: ='R1（長野）2019'!$D41 -> 1130 | T74: ='R2（長野）2020'!$D41 -> 1130 | U74: ='R3（長野）2021'!$D41 -> 1130 | V74: ='R4（長野）2022'!$D41 -> 1130 | W74: ='R5（長野）2023'!$D41 -> 1130 | X74: ='R6（長野）2024'!$D41 -> 1130
A75: 34000 | B75: 382 | C75: 辰野町 | D75: ='16（長野）2004'!D49 -> 1000 | E75: ='17（長野）2005'!D42 -> 993 | F75: ='18（長野）2006'!$D42 -> 988 | G75: ='19（長野）2007'!$D42 -> 981 | H75: ='20（長野）2008'!$D42 -> 970 | I75: ='21（長野）2009'!$D42 -> 972 | J75: ='22（長野）2010'!$D42 -> 975 | K75: ='23（長野）2011'!$D42 -> 976 | L75: ='24（長野）2012'!$D42 -> 976 | M75: ='25（長野）2013'!$D42 -> 972 | N75: ='26（長野）2014'!$D42 -> 963 | O75: ='27（長野）2015'!$D42 -> 955 | P75: ='28（長野）2016'!$D42 -> 952 | Q75: ='29（長野）2017'!$D42 -> 946 | R75: ='30（長野）2018'!$D42 -> 940 | S75: ='R1（長野）2019'!$D42 -> 928 | T75: ='R2（長野）2020'!$D42 -> 924 | U75: ='R3（長野）2021'!$D42 -> 925 | V75: ='R4（長野）2022'!$D42 -> 916 | W75: ='R5（長野）2023'!$D42 -> 910 | X75: ='R6（長野）2024'!$D42 -> 898
A76: 35000 | B76: 383 | C76: 箕輪町 | D76: ='16（長野）2004'!D50 -> 1590 | E76: ='17（長野）2005'!D43 -> 1580 | F76: ='18（長野）2006'!$D43 -> 1580 | G76: ='19（長野）2007'!$D43 -> 1560 | H76: ='20（長野）2008'!$D43 -> 1540 | I76: ='21（長野）2009'!$D43 -> 1540 | J76: ='22（長野）2010'!$D43 -> 1530 | K76: ='23（長野）2011'!$D43 -> 1530 | L76: ='24（長野）2012'!$D43 -> 1530 | M76: ='25（長野）2013'!$D43 -> 1530 | N76: ='26（長野）2014'!$D43 -> 1520 | O76: ='27（長野）2015'!$D43 -> 1520 | P76: ='28（長野）2016'!$D43 -> 1510 | Q76: ='29（長野）2017'!$D43 -> 1510 | R76: ='30（長野）2018'!$D43 -> 1500 | S76: ='R1（長野）2019'!$D43 -> 1490 | T76: ='R2（長野）2020'!$D43 -> 1480 | U76: ='R3（長野）2021'!$D43 -> 1480 | V76: ='R4（長野）2022'!$D43 -> 1470 | W76: ='R5（長野）2023'!$D43 -> 1470 | X76: ='R6（長野）2024'!$D43 -> 1460
A77: 36000 | B77: 384 | C77: 飯島町 | D77: ='16（長野）2004'!D51 -> 1210 | E77: ='17（長野）2005'!D44 -> 1210 | F77: ='18（長野）2006'!$D44 -> 1200 | G77: ='19（長野）2007'!$D44 -> 1200 | H77: ='20（長野）2008'!$D44 -> 1190 | I77: ='21（長野）2009'!$D44 -> 1190 | J77: ='22（長野）2010'!$D44 -> 1190 | K77: ='23（長野）2011'!$D44 -> 1190 | L77: ='24（長野）2012'!$D44 -> 1190 | M77: ='25（長野）2013'!$D44 -> 1190 | N77: ='26（長野）2014'!$D44 -> 1180 | O77: ='27（長野）2015'!$D44 -> 1170 | P77: ='28（長野）2016'!$D44 -> 1170 | Q77: ='29（長野）2017'!$D44 -> 1170 | R77: ='30（長野）2018'!$D44 -> 1160 | S77: ='R1（長野）2019'!$D44 -> 1160 | T77: ='R2（長野）2020'!$D44 -> 1150 | U77: ='R3（長野）2021'!$D44 -> 1150 | V77: ='R4（長野）2022'!$D44 -> 1150 | W77: ='R5（長野）2023'!$D44 -> 1140 | X77: ='R6（長野）2024'!$D44 -> 1140
A78: 37000 | B78: 385 | C78: 南箕輪村 | D78: ='16（長野）2004'!D52 -> 925 | E78: ='17（長野）2005'!D45 -> 921 | F78: ='18（長野）2006'!$D45 -> 916 | G78: ='19（長野）2007'!$D45 -> 912 | H78: ='20（長野）2008'!$D45 -> 903 | I78: ='21（長野）2009'!$D45 -> 899 | J78: ='22（長野）2010'!$D45 -> 898 | K78: ='23（長野）2011'!$D45 -> 896 | L78: ='24（長野）2012'!$D45 -> 895 | M78: ='25（長野）2013'!$D45 -> 890 | N78: ='26（長野）2014'!$D45 -> 887 | O78: ='27（長野）2015'!$D45 -> 879 | P78: ='28（長野）2016'!$D45 -> 871 | Q78: ='29（長野）2017'!$D45 -> 865 | R78: ='30（長野）2018'!$D45 -> 862 | S78: ='R1（長野）2019'!$D45 -> 857 | T78: ='R2（長野）2020'!$D45 -> 854 | U78: ='R3（長野）2021'!$D45 -> 852 | V78: ='R4（長野）2022'!$D45 -> 846 | W78: ='R5（長野）2023'!$D45 -> 844 | X78: ='R6（長野）2024'!$D45 -> 841
A79: 38000 | B79: 386 | C79: 中川村 | D79: ='16（長野）2004'!D53 -> 793 | E79: ='17（長野）2005'!D46 -> 782 | F79: ='18（長野）2006'!$D46 -> 778 | G79: ='19（長野）2007'!$D46 -> 775 | H79: ='20（長野）2008'!$D46 -> 768 | I79: ='21（長野）2009'!$D46 -> 764 | J79: ='22（長野）2010'!$D46 -> 764 | K79: ='23（長野）2011'!$D46 -> 764 | L79: ='24（長野）2012'!$D46 -> 763 | M79: ='25（長野）2013'!$D46 -> 766 | N79: ='26（長野）2014'!$D46 -> 767 | O79: ='27（長野）2015'!$D46 -> 760 | P79: ='28（長野）2016'!$D46 -> 759 | Q79: ='29（長野）2017'!$D46 -> 756 | R79: ='30（長野）2018'!$D46 -> 754 | S79: ='R1（長野）2019'!$D46 -> 751 | T79: ='R2（長野）2020'!$D46 -> 751 | U79: ='R3（長野）2021'!$D46 -> 747 | V79: ='R4（長野）2022'!$D46 -> 757 | W79: ='R5（長野）2023'!$D46 -> 757 | X79: ='R6（長野）2024'!$D46 -> 757
A80: 39000 | B80: 388 | C80: 宮田村 | D80: ='16（長野）2004'!D55 -> 520 | E80: ='17（長野）2005'!D47 -> 517 | F80: ='18（長野）2006'!$D47 -> 513 | G80: ='19（長野）2007'!$D47 -> 509 | H80: ='20（長野）2008'!$D47 -> 503 | I80: ='21（長野）2009'!$D47 -> 499 | J80: ='22（長野）2010'!$D47 -> 501 | K80: ='23（長野）2011'!$D47 -> 501 | L80: ='24（長野）2012'!$D47 -> 500 | M80: ='25（長野）2013'!$D47 -> 498 | N80: ='26（長野）2014'!$D47 -> 498 | O80: ='27（長野）2015'!$D47 -> 496 | P80: ='28（長野）2016'!$D47 -> 494 | Q80: ='29（長野）2017'!$D47 -> 492 | R80: ='30（長野）2018'!$D47 -> 490 | S80: ='R1（長野）2019'!$D47 -> 489 | T80: ='R2（長野）2020'!$D47 -> 488 | U80: ='R3（長野）2021'!$D47 -> 487 | V80: ='R4（長野）2022'!$D47 -> 484 | W80: ='R5（長野）2023'!$D47 -> 484 | X80: ='R6（長野）2024'!$D47 -> 485
A81: 40000 | B81: 402 | C81: 松川町 | D81: ='16（長野）2004'!D56 -> 1110 | E81: ='17（長野）2005'!D48 -> 1110 | F81: ='18（長野）2006'!$D48 -> 1100 | G81: ='19（長野）2007'!$D48 -> 1090 | H81: ='20（長野）2008'!$D48 -> 1080 | I81: ='21（長野）2009'!$D48 -> 1070 | J81: ='22（長野）2010'!$D48 -> 1070 | K81: ='23（長野）2011'!$D48 -> 1060 | L81: ='24（長野）2012'!$D48 -> 1070 | M81: ='25（長野）2013'!$D48 -> 1070 | N81: ='26（長野）2014'!$D48 -> 1060 | O81: ='27（長野）2015'!$D48 -> 1050 | P81: ='28（長野）2016'!$D48 -> 1040 | Q81: ='29（長野）2017'!$D48 -> 1030 | R81: ='30（長野）2018'!$D48 -> 1030 | S81: ='R1（長野）2019'!$D48 -> 1030 | T81: ='R2（長野）2020'!$D48 -> 1020 | U81: ='R3（長野）2021'!$D48 -> 1010 | V81: ='R4（長野）2022'!$D48 -> 1010 | W81: ='R5（長野）2023'!$D48 -> 1020 | X81: ='R6（長野）2024'!$D48 -> 1050
A82: 41000 | B82: 403 | C82: 高森町 | D82: ='16（長野）2004'!D57 -> 992 | E82: ='17（長野）2005'!D49 -> 986 | F82: ='18（長野）2006'!$D49 -> 980 | G82: ='19（長野）2007'!$D49 -> 966 | H82: ='20（長野）2008'!$D49 -> 953 | I82: ='21（長野）2009'!$D49 -> 949 | J82: ='22（長野）2010'!$D49 -> 944 | K82: ='23（長野）2011'!$D49 -> 939 | L82: ='24（長野）2012'!$D49 -> 947 | M82: ='25（長野）2013'!$D49 -> 945 | N82: ='26（長野）2014'!$D49 -> 945 | O82: ='27（長野）2015'!$D49 -> 944 | P82: ='28（長野）2016'!$D49 -> 941 | Q82: ='29（長野）2017'!$D49 -> 936 | R82: ='30（長野）2018'!$D49 -> 936 | S82: ='R1（長野）2019'!$D49 -> 933 | T82: ='R2（長野）2020'!$D49 -> 930 | U82: ='R3（長野）2021'!$D49 -> 928 | V82: ='R4（長野）2022'!$D49 -> 924 | W82: ='R5（長野）2023'!$D49 -> 921 | X82: ='R6（長野）2024'!$D49 -> 918
A83: 42000 | B83: 404 | C83: 阿南町 | D83: ='16（長野）2004'!D58 -> 553 | E83: ='17（長野）2005'!D50 -> 544 | F83: ='18（長野）2006'!$D50 -> 533 | G83: ='19（長野）2007'!$D50 -> 516 | H83: ='20（長野）2008'!$D50 -> 506 | I83: ='21（長野）2009'!$D50 -> 509 | J83: ='22（長野）2010'!$D50 -> 509 | K83: ='23（長野）2011'!$D50 -> 506 | L83: ='24（長野）2012'!$D50 -> 506 | M83: ='25（長野）2013'!$D50 -> 510 | N83: ='26（長野）2014'!$D50 -> 509 | O83: ='27（長野）2015'!$D50 -> 507 | P83: ='28（長野）2016'!$D50 -> 502 | Q83: ='29（長野）2017'!$D50 -> 497 | R83: ='30（長野）2018'!$D50 -> 495 | S83: ='R1（長野）2019'!$D50 -> 487 | T83: ='R2（長野）2020'!$D50 -> 485 | U83: ='R3（長野）2021'!$D50 -> 480 | V83: ='R4（長野）2022'!$D50 -> 478 | W83: ='R5（長野）2023'!$D50 -> 482 | X83: ='R6（長野）2024'!$D50 -> 479
A84: 43000 | B84: 407 | C84: 阿智村 | I84: ='21（長野）2009'!D51 -> 453 | J84: ='22（長野）2010'!$D51 -> 452 | K84: ='23（長野）2011'!$D51 -> 451 | L84: ='24（長野）2012'!$D51 -> 451 | M84: ='25（長野）2013'!$D51 -> 459 | N84: ='26（長野）2014'!$D51 -> 459 | O84: ='27（長野）2015'!$D51 -> 458 | P84: ='28（長野）2016'!$D51 -> 457 | Q84: ='29（長野）2017'!$D51 -> 455 | R84: ='30（長野）2018'!$D51 -> 455 | S84: ='R1（長野）2019'!$D51 -> 455 | T84: ='R2（長野）2020'!$D51 -> 454 | U84: ='R3（長野）2021'!$D51 -> 441 | V84: ='R4（長野）2022'!$D51 -> 431 | W84: ='R5（長野）2023'!$D51 -> 428 | X84: ='R6（長野）2024'!$D51 -> 422
B85: 407 | C85: 阿智村 | E85: ='17（長野）2005'!D52 -> 462 | F85: ='18（長野）2006'!D52 -> 456 | G85: ='19（長野）2007'!D52 -> 447 | H85: ='20（長野）2008'!D52 -> 432
B86: 407 | C86: 阿智村 | D86: ='16（長野）2004'!D60 -> 437
B87: 408 | C87: 浪合村 | D87: ='16（長野）2004'!D61 -> 30
B88: 406 | C88: 清内路村 | D88: ='16（長野）2004'!D59 -> 27 | E88: ='17（長野）2005'!D51 -> 27 | F88: ='18（長野）2006'!D51 -> 27 | G88: ='19（長野）2007'!D51 -> 25 | H88: ='20（長野）2008'!D51 -> 25
A89: 44000 | B89: 409 | C89: 平谷村 | D89: ='16（長野）2004'!D62 -> 21 | E89: ='17（長野）2005'!D53 -> 21 | F89: ='18（長野）2006'!$D53 -> 21 | G89: ='19（長野）2007'!$D53 -> 21 | H89: ='20（長野）2008'!$D53 -> 21 | I89: ='21（長野）2009'!D52 -> 21 | J89: ='22（長野）2010'!$D52 -> 21 | K89: ='23（長野）2011'!$D52 -> 21 | L89: ='24（長野）2012'!$D52 -> 21 | M89: ='25（長野）2013'!$D52 -> 21 | N89: ='26（長野）2014'!$D52 -> 21 | O89: ='27（長野）2015'!$D52 -> 21 | P89: ='28（長野）2016'!$D52 -> 21 | Q89: ='29（長野）2017'!$D52 -> 21 | R89: ='30（長野）2018'!$D52 -> 21 | S89: ='R1（長野）2019'!$D52 -> 21 | T89: ='R2（長野）2020'!$D52 -> 21 | U89: ='R3（長野）2021'!$D52 -> 22 | V89: ='R4（長野）2022'!$D52 -> 22 | W89: ='R5（長野）2023'!$D52 -> 23 | X89: ='R6（長野）2024'!$D52 -> 23
A90: 45000 | B90: 410 | C90: 根羽村 | D90: ='16（長野）2004'!D63 -> 142 | E90: ='17（長野）2005'!D54 -> 142 | F90: ='18（長野）2006'!$D54 -> 142 | G90: ='19（長野）2007'!$D54 -> 137 | H90: ='20（長野）2008'!$D54 -> 132 | I90: ='21（長野）2009'!D53 -> 132 | J90: ='22（長野）2010'!$D53 -> 133 | K90: ='23（長野）2011'!$D53 -> 133 | L90: ='24（長野）2012'!$D53 -> 134 | M90: ='25（長野）2013'!$D53 -> 134 | N90: ='26（長野）2014'!$D53 -> 134 | O90: ='27（長野）2015'!$D53 -> 134 | P90: ='28（長野）2016'!$D53 -> 134 | Q90: ='29（長野）2017'!$D53 -> 133 | R90: ='30（長野）2018'!$D53 -> 119 | S90: ='R1（長野）2019'!$D53 -> 119 | T90: ='R2（長野）2020'!$D53 -> 119 | U90: ='R3（長野）2021'!$D53 -> 115 | V90: ='R4（長野）2022'!$D53 -> 112 | W90: ='R5（長野）2023'!$D53 -> 112 | X90: ='R6（長野）2024'!$D53 -> 112
A91: 46000 | B91: 411 | C91: 下條村 | D91: ='16（長野）2004'!D64 -> 440 | E91: ='17（長野）2005'!D55 -> 442 | F91: ='18（長野）2006'!$D55 -> 441 | G91: ='19（長野）2007'!$D55 -> 437 | H91: ='20（長野）2008'!$D55 -> 433 | I91: ='21（長野）2009'!D54 -> 431 | J91: ='22（長野）2010'!$D54 -> 430 | K91: ='23（長野）2011'!$D54 -> 428 | L91: ='24（長野）2012'!$D54 -> 425 | M91: ='25（長野）2013'!$D54 -> 424 | N91: ='26（長野）2014'!$D54 -> 423 | O91: ='27（長野）2015'!$D54 -> 422 | P91: ='28（長野）2016'!$D54 -> 420 | Q91: ='29（長野）2017'!$D54 -> 416 | R91: ='30（長野）2018'!$D54 -> 412 | S91: ='R1（長野）2019'!$D54 -> 411 | T91: ='R2（長野）2020'!$D54 -> 413 | U91: ='R3（長野）2021'!$D54 -> 412 | V91: ='R4（長野）2022'!$D54 -> 420 | W91: ='R5（長野）2023'!$D54 -> 420 | X91: ='R6（長野）2024'!$D54 -> 419
A92: 47000 | B92: 412 | C92: 売木村 | D92: ='16（長野）2004'!D65 -> 119 | E92: ='17（長野）2005'!D56 -> 119 | F92: ='18（長野）2006'!$D56 -> 118 | G92: ='19（長野）2007'!$D56 -> 114 | H92: ='20（長野）2008'!$D56 -> 111 | I92: ='21（長野）2009'!D55 -> 110 | J92: ='22（長野）2010'!$D55 -> 109 | K92: ='23（長野）2011'!$D55 -> 108 | L92: ='24（長野）2012'!$D55 -> 108 | M92: ='25（長野）2013'!$D55 -> 111 | N92: ='26（長野）2014'!$D55 -> 111 | O92: ='27（長野）2015'!$D55 -> 111 | P92: ='28（長野）2016'!$D55 -> 110 | Q92: ='29（長野）2017'!$D55 -> 110 | R92: ='30（長野）2018'!$D55 -> 110 | S92: ='R1（長野）2019'!$D55 -> 109 | T92: ='R2（長野）2020'!$D55 -> 109 | U92: ='R3（長野）2021'!$D55 -> 110 | V92: ='R4（長野）2022'!$D55 -> 110 | W92: ='R5（長野）2023'!$D55 -> 114 | X92: ='R6（長野）2024'!$D55 -> 110
A93: 48000 | B93: 413 | C93: 天龍村 | D93: ='16（長野）2004'!D66 -> 103 | E93: ='17（長野）2005'!D57 -> 103 | F93: ='18（長野）2006'!$D57 -> 103 | G93: ='19（長野）2007'!$D57 -> 102 | H93: ='20（長野）2008'!$D57 -> 100 | I93: ='21（長野）2009'!D56 -> 99 | J93: ='22（長野）2010'!$D56 -> 99 | K93: ='23（長野）2011'!$D56 -> 99 | L93: ='24（長野）2012'!$D56 -> 101 | M93: ='25（長野）2013'!$D56 -> 102 | N93: ='26（長野）2014'!$D56 -> 99 | O93: ='27（長野）2015'!$D56 -> 96 | P93: ='28（長野）2016'!$D56 -> 96 | Q93: ='29（長野）2017'!$D56 -> 96 | R93: ='30（長野）2018'!$D56 -> 95 | S93: ='R1（長野）2019'!$D56 -> 98 | T93: ='R2（長野）2020'!$D56 -> 97 | U93: ='R3（長野）2021'!$D56 -> 101 | V93: ='R4（長野）2022'!$D56 -> 100 | W93: ='R5（長野）2023'!$D56 -> 102 | X93: ='R6（長野）2024'!$D56 -> 102
A94: 49000 | B94: 414 | C94: 泰阜村 | D94: ='16（長野）2004'!D67 -> 214 | E94: ='17（長野）2005'!D58 -> 209 | F94: ='18（長野）2006'!$D58 -> 205 | G94: ='19（長野）2007'!$D58 -> 203 | H94: ='20（長野）2008'!$D58 -> 200 | I94: ='21（長野）2009'!D57 -> 200 | J94: ='22（長野）2010'!$D57 -> 199 | K94: ='23（長野）2011'!$D57 -> 198 | L94: ='24（長野）2012'!$D57 -> 199 | M94: ='25（長野）2013'!$D57 -> 199 | N94: ='26（長野）2014'!$D57 -> 199 | O94: ='27（長野）2015'!$D57 -> 199 | P94: ='28（長野）2016'!$D57 -> 196 | Q94: ='29（長野）2017'!$D57 -> 196 | R94: ='30（長野）2018'!$D57 -> 199 | S94: ='R1（長野）2019'!$D57 -> 202 | T94: ='R2（長野）2020'!$D57 -> 202 | U94: ='R3（長野）2021'!$D57 -> 202 | V94: ='R4（長野）2022'!$D57 -> 199 | W94: ='R5（長野）2023'!$D57 -> 199 | X94: ='R6（長野）2024'!$D57 -> 197
A95: 50000 | B95: 415 | C95: 喬木村 | D95: ='16（長野）2004'!D68 -> 503 | E95: ='17（長野）2005'!D59 -> 499 | F95: ='18（長野）2006'!$D59 -> 496 | G95: ='19（長野）2007'!$D59 -> 489 | H95: ='20（長野）2008'!$D59 -> 483 | I95: ='21（長野）2009'!D58 -> 481 | J95: ='22（長野）2010'!$D58 -> 479 | K95: ='23（長野）2011'!$D58 -> 477 | L95: ='24（長野）2012'!$D58 -> 476 | M95: ='25（長野）2013'!$D58 -> 473 | N95: ='26（長野）2014'!$D58 -> 472 | O95: ='27（長野）2015'!$D58 -> 468 | P95: ='28（長野）2016'!$D58 -> 461 | Q95: ='29（長野）2017'!$D58 -> 459 | R95: ='30（長野）2018'!$D58 -> 458 | S95: ='R1（長野）2019'!$D58 -> 447 | T95: ='R2（長野）2020'!$D58 -> 446 | U95: ='R3（長野）2021'!$D58 -> 441 | V95: ='R4（長野）2022'!$D58 -> 439 | W95: ='R5（長野）2023'!$D58 -> 443 | X95: ='R6（長野）2024'!$D58 -> 443
A96: 51000 | B96: 416 | C96: 豊丘村 | D96: ='16（長野）2004'!D69 -> 633 | E96: ='17（長野）2005'!D60 -> 624 | F96: ='18（長野）2006'!$D60 -> 615 | G96: ='19（長野）2007'!$D60 -> 604 | H96: ='20（長野）2008'!$D60 -> 597 | I96: ='21（長野）2009'!D59 -> 593 | J96: ='22（長野）2010'!$D59 -> 591 | K96: ='23（長野）2011'!$D59 -> 590 | L96: ='24（長野）2012'!$D59 -> 589 | M96: ='25（長野）2013'!$D59 -> 592 | N96: ='26（長野）2014'!$D59 -> 588 | O96: ='27（長野）2015'!$D59 -> 582 | P96: ='28（長野）2016'!$D59 -> 581 | Q96: ='29（長野）2017'!$D59 -> 578 | R96: ='30（長野）2018'!$D59 -> 595 | S96: ='R1（長野）2019'!$D59 -> 593 | T96: ='R2（長野）2020'!$D59 -> 590 | U96: ='R3（長野）2021'!$D59 -> 602 | V96: ='R4（長野）2022'!$D59 -> 599 | W96: ='R5（長野）2023'!$D59 -> 602 | X96: ='R6（長野）2024'!$D59 -> 600
A97: 52000 | B97: 417 | C97: 大鹿村 | D97: ='16（長野）2004'!D70 -> 222 | E97: ='17（長野）2005'!D61 -> 221 | F97: ='18（長野）2006'!$D61 -> 220 | G97: ='19（長野）2007'!$D61 -> 214 | H97: ='20（長野）2008'!$D61 -> 212 | I97: ='21（長野）2009'!D60 -> 211 | J97: ='22（長野）2010'!$D60 -> 209 | K97: ='23（長野）2011'!$D60 -> 208 | L97: ='24（長野）2012'!$D60 -> 207 | M97: ='25（長野）2013'!$D60 -> 205 | N97: ='26（長野）2014'!$D60 -> 206 | O97: ='27（長野）2015'!$D60 -> 206 | P97: ='28（長野）2016'!$D60 -> 203 | Q97: ='29（長野）2017'!$D60 -> 201 | R97: ='30（長野）2018'!$D60 -> 197 | S97: ='R1（長野）2019'!$D60 -> 193 | T97: ='R2（長野）2020'!$D60 -> 189 | U97: ='R3（長野）2021'!$D60 -> 188 | V97: ='R4（長野）2022'!$D60 -> 188 | W97: ='R5（長野）2023'!$D60 -> 188 | X97: ='R6（長野）2024'!$D60 -> 188
A98: 53000 | B98: 422 | C98: 上松町 | D98: ='16（長野）2004'!D74 -> 185 | E98: ='17（長野）2005'!D62 -> 185 | F98: ='18（長野）2006'!$D62 -> 183 | G98: ='19（長野）2007'!$D62 -> 181 | H98: ='20（長野）2008'!$D62 -> 181 | I98: ='21（長野）2009'!D61 -> 180 | J98: ='22（長野）2010'!$D61 -> 179 | K98: ='23（長野）2011'!$D61 -> 179 | L98: ='24（長野）2012'!$D61 -> 177 | M98: ='25（長野）2013'!$D61 -> 176 | N98: ='26（長野）2014'!$D61 -> 173 | O98: ='27（長野）2015'!$D61 -> 169 | P98: ='28（長野）2016'!$D61 -> 166 | Q98: ='29（長野）2017'!$D61 -> 163 | R98: ='30（長野）2018'!$D61 -> 151 | S98: ='R1（長野）2019'!$D61 -> 148 | T98: ='R2（長野）2020'!$D61 -> 142 | U98: ='R3（長野）2021'!$D61 -> 143 | V98: ='R4（長野）2022'!$D61 -> 145 | W98: ='R5（長野）2023'!$D61 -> 145 | X98: ='R6（長野）2024'!$D61 -> 144
A99: 54000 | B99: 423 | C99: 南木曽町 | D99: ='16（長野）2004'!D75 -> 303 | E99: ='17（長野）2005'!D63 -> 301 | F99: ='18（長野）2006'!$D63 -> 299 | G99: ='19（長野）2007'!$D63 -> 298 | H99: ='20（長野）2008'!$D63 -> 298 | I99: ='21（長野）2009'!D62 -> 296 | J99: ='22（長野）2010'!$D62 -> 296 | K99: ='23（長野）2011'!$D62 -> 296 | L99: ='24（長野）2012'!$D62 -> 295 | M99: ='25（長野）2013'!$D62 -> 293 | N99: ='26（長野）2014'!$D62 -> 292 | O99: ='27（長野）2015'!$D62 -> 284 | P99: ='28（長野）2016'!$D62 -> 279 | Q99: ='29（長野）2017'!$D62 -> 276 | R99: ='30（長野）2018'!$D62 -> 272 | S99: ='R1（長野）2019'!$D62 -> 271 | T99: ='R2（長野）2020'!$D62 -> 267 | U99: ='R3（長野）2021'!$D62 -> 262 | V99: ='R4（長野）2022'!$D62 -> 261 | W99: ='R5（長野）2023'!$D62 -> 260 | X99: ='R6（長野）2024'!$D62 -> 259
A100: 55000 | B100: 425 | C100: 木祖村 | D100: ='16（長野）2004'!D77 -> 242 | E100: ='17（長野）2005'!D64 -> 242 | F100: ='18（長野）2006'!$D64 -> 240 | G100: ='19（長野）2007'!$D64 -> 238 | H100: ='20（長野）2008'!$D64 -> 238 | I100: ='21（長野）2009'!D63 -> 238 | J100: ='22（長野）2010'!$D63 -> 237 | K100: ='23（長野）2011'!$D63 -> 237 | L100: ='24（長野）2012'!$D63 -> 228 | M100: ='25（長野）2013'!$D63 -> 226 | N100: ='26（長野）2014'!$D63 -> 214 | O100: ='27（長野）2015'!$D63 -> 213 | P100: ='28（長野）2016'!$D63 -> 212 | Q100: ='29（長野）2017'!$D63 -> 209 | R100: ='30（長野）2018'!$D63 -> 210 | S100: ='R1（長野）2019'!$D63 -> 208 | T100: ='R2（長野）2020'!$D63 -> 205 | U100: ='R3（長野）2021'!$D63 -> 205 | V100: ='R4（長野）2022'!$D63 -> 205 | W100: ='R5（長野）2023'!$D63 -> 206 | X100: ='R6（長野）2024'!$D63 -> 200
...

Sheet グラフ耕地（長野)2010～
A1: グラフデータの市町村選択は87行目
C2: 1 | D2: 2 | E2: 3 | F2: 4 | G2: 5 | H2: 6 | I2: 7 | J2: 8 | K2: 9 | L2: 10 | M2: 11 | N2: 12 | O2: 13 | P2: 14 | Q2: 15 | R2: 16
A3: データ耕地 | D3: 2010 | E3: 2011 | F3: 2012 | G3: 2013 | H3: 2014 | I3: 2015 | J3: 2016 | K3: 2017 | L3: 2018 | M3: 2019 | N3: 2020 | O3: 2021 | P3: 2022 | Q3: 2023 | R3: 2024
A4: 1000 | B4: 201 | C4: 長野市 | D4: 8790 | E4: 8750 | F4: 8720 | G4: 8660 | H4: 8570 | I4: 8340 | J4: 8230 | K4: 8160 | L4: 8120 | M4: 8090 | N4: 8010 | O4: 7990 | P4: 7980 | Q4: 7940 | R4: 7870
A5: 2000 | B5: 202 | C5: 松本市 | D5: 7790 | E5: 7780 | F5: 7760 | G5: 7660 | H5: 7600 | I5: 7540 | J5: 7460 | K5: 7390 | L5: 7320 | M5: 7260 | N5: 7200 | O5: 7180 | P5: 7150 | Q5: 7130 | R5: 7130
A6: 3000 | B6: 203 | C6: 上田市 | D6: 5540 | E6: 5530 | F6: 5530 | G6: 5510 | H6: 5470 | I6: 5390 | J6: 5320 | K6: 5290 | L6: 5230 | M6: 5220 | N6: 5220 | O6: 5250 | P6: 5200 | Q6: 5180 | R6: 5170
A7: 4000 | B7: 204 | C7: 岡谷市 | D7: 244 | E7: 244 | F7: 241 | G7: 239 | H7: 237 | I7: 234 | J7: 232 | K7: 230 | L7: 227 | M7: 224 | N7: 220 | O7: 215 | P7: 211 | Q7: 213 | R7: 207
A8: 5000 | B8: 205 | C8: 飯田市 | D8: 3080 | E8: 3050 | F8: 3040 | G8: 3040 | H8: 3050 | I8: 3030 | J8: 3010 | K8: 2990 | L8: 2980 | M8: 2950 | N8: 2940 | O8: 2930 | P8: 2920 | Q8: 2910 | R8: 2850
A9: 6000 | B9: 206 | C9: 諏訪市 | D9: 668 | E9: 668 | F9: 664 | G9: 659 | H9: 651 | I9: 646 | J9: 642 | K9: 637 | L9: 630 | M9: 621 | N9: 615 | O9: 609 | P9: 602 | Q9: 603 | R9: 608
A10: 7000 | B10: 207 | C10: 須坂市 | D10: 1820 | E10: 1820 | F10: 1810 | G10: 1810 | H10: 1780 | I10: 1760 | J10: 1750 | K10: 1730 | L10: 1750 | M10: 1750 | N10: 1750 | O10: 1710 | P10: 1710 | Q10: 1700 | R10: 1700
A11: 8000 | B11: 208 | C11: 小諸市 | D11: 2800 | E11: 2810 | F11: 2820 | G11: 2820 | H11: 2800 | I11: 2770 | J11: 2750 | K11: 2740 | L11: 2720 | M11: 2680 | N11: 2610 | O11: 2620 | P11: 2600 | Q11: 2580 | R11: 2580
A12: 9000 | B12: 209 | C12: 伊那市 | D12: 5200 | E12: 5200 | F12: 5210 | G12: 5220 | H12: 5220 | I12: 5210 | J12: 5190 | K12: 5170 | L12: 5160 | M12: 5140 | N12: 5120 | O12: 5110 | P12: 5100 | Q12: 5100 | R12: 5080
A13: 10000 | B13: 210 | C13: 駒ヶ根市 | D13: 1890 | E13: 1890 | F13: 1890 | G13: 1890 | H13: 1880 | I13: 1880 | J13: 1870 | K13: 1860 | L13: 1850 | M13: 1830 | N13: 1820 | O13: 1820 | P13: 1820 | Q13: 1810 | R13: 1800
A14: 11000 | B14: 211 | C14: 中野市 | D14: 3080 | E14: 3060 | F14: 3060 | G14: 3050 | H14: 3030 | I14: 3010 | J14: 2990 | K14: 2970 | L14: 2970 | M14: 2950 | N14: 2950 | O14: 2950 | P14: 2950 | Q14: 2890 | R14: 2880
A15: 12000 | B15: 212 | C15: 大町市 | D15: 2600 | E15: 2600 | F15: 2590 | G15: 2590 | H15: 2590 | I15: 2570 | J15: 2540 | K15: 2510 | L15: 2480 | M15: 2450 | N15: 2430 | O15: 2420 | P15: 2410 | Q15: 2410 | R15: 2390
... A80: 77000 | B80: 602 | C80: 栄村 | D80: 648 | E80: 585 | F80: 645 | G80: 646 | H80: 645 | I80: 643 | J80: 641 | K80: 631 | L80: 629 | M80: 630 | N80: 618 | O80: 608 | P80: 595 | Q80: 582 | R80: 552
C81: 長野県 | D81: 111200 | E81: 111000 | F81: 110900 | G81: 110400 | H81: 109900 | I81: 108900 | J81: 108000 | K81: 107300 | L81: 106700 | M81: 106100 | N81: 105300 | O81: 105200 | P81: 104800 | Q81: 104400 | R81: 103800
C85: グラフデータ選択表
D86: =D3 -> 2010 | E86: =E3 -> 2011 | F86: =F3 -> 2012 | G86: =G3 -> 2013 | H86: =H3 -> 2014 | I86: =I3 -> 2015 | J86: =J3 -> 2016 | K86: =K3 -> 2017 | ... R86: =R3 -> 2024
A87: 市町村選択タブ→ | C87: 大町市 | D87: =VLOOKUP($C$87,$C$3:$R$81,D$2,FALSE) -> 2600 | E87: =VLOOKUP($C$87,$C$3:$R$81,E$2,FALSE) -> 2600 | F87: =VLOOKUP($C$87,$C$3:$R$81,F$2,FALSE) -> 2590 | G87: =VLOOKUP($C$87,$C$3:$R$81,G$2,FALSE) -> 2590 | H87: =VLOOKUP($C$87,$C$3:$R$81,H$2,FALSE) -> 2590 | I87: =VLOOKUP($C$87,$C$3:$R$81,I$2,FALSE) -> 2570 | J87: =VLOOKUP($C$87,$C$3:$R$81,J$2,FALSE) -> 2540 | K87: =VLOOKUP($C$87,$C$3:$R$81,K$2,FALSE) -> 2510 | ... R87: =VLOOKUP($C$87,$C$3:$R$81,R$2,FALSE) -> 2390

Sheet データ田（長野）2004～
A1: データ田 | D1: 2004 | E1: 2005 | F1: 2006 | G1: 2007 | H1: 2008 | I1: 2009 | J1: 2010 | K1: 2011 | L1: 2012 | M1: 2013 | N1: 2014 | O1: 2015 | P1: 2016 | Q1: 2017 | R1: 2018 | S1: 2019 | T1: 2020 | U1: 2021 | V1: 2022 | W1: 2023 | X1: 2024
J2: 55400 | K2: 55200 | L2: 55000 | M2: 54700 | N2: 54500 | O2: 54000 | P2: 53500 | Q2: 53100 | R2: 52800 | S2: 52400 | T2: 51900 | U2: 51700 | V2: 51500 | W2: 51100 | X2: 50700
D3: =SUM(D4:D131) -> 57986 | E3: =SUM(E4:E131) -> 57660 | F3: =SUM(F4:F131) -> 57215 | G3: =SUM(G4:G131) -> 56792 | H3: =SUM(H4:H131) -> 55995 | I3: =SUM(I4:I131) -> 55651 | J3: =SUM(J4:J131) -> 55388 | K3: =SUM(K4:K131) -> 55222 | ... X3: =SUM(X4:X131) -> 50760
A4: 1000 | B4: 201 | C4: 長野市 | J4: ='22（長野）2010'!$E9 -> 2520 | K4: ='23（長野）2011'!$E9 -> 2500 | L4: ='24（長野）2012'!$E9 -> 2480 | M4: ='25（長野）2013'!$E9 -> 2450 | N4: ='26（長野）2014'!$E9 -> 2410 | O4: ='27（長野）2015'!$E9 -> 2360 | P4: ='28（長野）2016'!$E9 -> 2320 | Q4: ='29（長野）2017'!$E9 -> 2300 | R4: ='30（長野）2018'!$E9 -> 2280 | S4: ='R1（長野）2019'!$E9 -> 2270 | T4: ='R2（長野）2020'!$E9 -> 2260 | U4: ='R3（長野）2021'!$E9 -> 2240 | V4: ='R4（長野）2022'!$E9 -> 2240 | W4: ='R5（長野）2023'!$E9 -> 2200 | X4: ='R6（長野）2024'!$E9 -> 2160
B5: 201 | C5: 長野市 | D5: ='16（長野）2004'!E9 -> 2510 | E5: ='17（長野）2005'!E9 -> 2490 | F5: ='18（長野）2006'!$E9 -> 2460 | G5: ='19（長野）2007'!$E9 -> 2430 | H5: ='20（長野）2008'!$E9 -> 2380 | I5: ='21（長野）2009'!$E9 -> 2360
B6: 581 | C6: 信州新町 | D6: ='16（長野）2004'!E112 -> 136 | E6: ='17（長野）2005'!E84 -> 135 | F6: ='18（長野）2006'!$E84 -> 135 | G6: ='19（長野）2007'!$E84 -> 133 | H6: ='20（長野）2008'!$E84 -> 130 | I6: ='21（長野）2009'!E83 -> 130
B7: 589 | C7: 中条村 | D7: ='16（長野）2004'!E117 -> 59 | E7: ='17（長野）2005'!E87 -> 59 | F7: ='18（長野）2006'!$E87 -> 59 | G7: ='19（長野）2007'!$E87 -> 58 | H7: ='20（長野）2008'!$E87 -> 57 | I7: ='21（長野）2009'!E86 -> 57
A8: 2000 | B8: 202 | C8: 松本市 | J8: ='22（長野）2010'!$E10 -> 4930 | K8: ='23（長野）2011'!$E10 -> 4930 | L8: ='24（長野）2012'!$E10 -> 4910 | M8: ='25（長野）2013'!$E10 -> 4880 | N8: ='26（長野）2014'!$E10 -> 4860 | O8: ='27（長野）2015'!$E10 -> 4830 | P8: ='28（長野）2016'!$E10 -> 4770 | Q8: ='29（長野）2017'!$E10 -> 4710 | R8: ='30（長野）2018'!$E10 -> 4650 | S8: ='R1（長野）2019'!$E10 -> 4590 | T8: ='R2（長野）2020'!$E10 -> 4530 | U8: ='R3（長野）2021'!$E10 -> 4500 | V8: ='R4（長野）2022'!$E10 -> 4480 | W8: ='R5（長野）2023'!$E10 -> 4460 | X8: ='R6（長野）2024'!$E10 -> 4440
B9: 202 | C9: 松本市
B10: 202 | C10: 松本市 | D10: ='16（長野）2004'!E10 -> 3510 | E10: ='17（長野）2005'!E10 -> 4490 | F10: ='18（長野）2006'!E10 -> 4460 | G10: ='19（長野）2007'!E10 -> 4460 | H10: ='20（長野）2008'!E10 -> 4460 | I10: ='21（長野）2009'!E10 -> 4460
B11: 443 | C11: 四賀村 | D11: ='16（長野）2004'!E84 -> 275
B12: 449 | C12: 波田町 | D12: ='16（長野）2004'!E90 -> 491 | E12: ='17（長野）2005'!E70 -> 488 | F12: ='18（長野）2006'!$E70 -> 487 | G12: ='19（長野）2007'!$E70 -> 485 | H12: ='20（長野）2008'!$E70 -> 485 | I12: ='21（長野）2009'!E69 -> 483
B13: 463 | C13: 奈川村 | D13: ='16（長野）2004'!E95 -> 50
B14: 464 | C14: 安曇村 | D14: ='16（長野）2004'!E96 -> 0
B15: 465 | C15: 梓川村 | D15: ='16（長野）2004'!E97 -> 711
A16: 3000 | B16: 203 | C16: 上田市 | E16: ='17（長野）2005'!E11 -> 3060 | F16: ='18（長野）2006'!$E11 -> 3050 | G16: ='19（長野）2007'!$E11 -> 3030 | H16: ='20（長野）2008'!$E11 -> 3000 | I16: ='21（長野）2009'!$E11 -> 2980 | J16: ='22（長野）2010'!$E11 -> 2980 | K16: ='23（長野）2011'!$E11 -> 2970 | L16: ='24（長野）2012'!$E11 -> 2960 | M16: ='25（長野）2013'!$E11 -> 2930 | N16: ='26（長野）2014'!$E11 -> 2910 | O16: ='27（長野）2015'!$E11 -> 2880 | P16: ='28（長野）2016'!$E11 -> 2850 | Q16: ='29（長野）2017'!$E11 -> 2830 | R16: ='30（長野）2018'!$E11 -> 2820 | S16: ='R1（長野）2019'!$E11 -> 2810 | T16: ='R2（長野）2020'!$E11 -> 2820 | U16: ='R3（長野）2021'!$E11 -> 2820 | V16: ='R4（長野）2022'!$E11 -> 2800 | W16: ='R5（長野）2023'!$E11 -> 2780 | X16: ='R6（長野）2024'!$E11 -> 2760
B17: 203 | C17: 上田市 | D17: ='16（長野）2004'!E11 -> 1920
B18: 341 | C18: 丸子町 | D18: ='16（長野）2004'!E39 -> 601
B19: 345 | C19: 真田町 | D19: ='16（長野）2004'!E41 -> 268
B20: 346 | C20: 武石村 | D20: ='16（長野）2004'!E42 -> 281
A21: 4000 | B21: 204 | C21: 岡谷市 | D21: ='16（長野）2004'!E12 -> 109 | E21: ='17（長野）2005'!E12 -> 108 | F21: ='18（長野）2006'!$E12 -> 101 | G21: ='19（長野）2007'!$E12 -> 96 | H21: ='20（長野）2008'!$E12 -> 90 | I21: ='21（長野）2009'!$E12 -> 87 | J21: ='22（長野）2010'!$E12 -> 85 | K21: ='23（長野）2011'!$E12 -> 85 | L21: ='24（長野）2012'!$E12 -> 83 | M21: ='25（長野）2013'!$E12 -> 83 | N21: ='26（長野）2014'!$E12 -> 82 | O21: ='27（長野）2015'!$E12 -> 81 | P21: ='28（長野）2016'!$E12 -> 80 | Q21: ='29（長野）2017'!$E12 -> 80 | R21: ='30（長野）2018'!$E12 -> 79 | S21: ='R1（長野）2019'!$E12 -> 78 | T21: ='R2（長野）2020'!$E12 -> 76 | U21: ='R3（長野）2021'!$E12 -> 74 | V21: ='R4（長野）2022'!$E12 -> 74 | W21: ='R5（長野）2023'!$E12 -> 75 | X21: ='R6（長野）2024'!$E12 -> 73
A22: 5000 | B22: 205 | C22: 飯田市 | E22: ='17（長野）2005'!E13 -> 1240 | F22: ='18（長野）2006'!$E13 -> 1210 | G22: ='19（長野）2007'!$E13 -> 1200 | H22: ='20（長野）2008'!$E13 -> 1160 | I22: ='21（長野）2009'!$E13 -> 1140 | J22: ='22（長野）2010'!$E13 -> 1100 | K22: ='23（長野）2011'!$E13 -> 1090 | L22: ='24（長野）2012'!$E13 -> 1070 | M22: ='25（長野）2013'!$E13 -> 1060 | N22: ='26（長野）2014'!$E13 -> 1050 | O22: ='27（長野）2015'!$E13 -> 1040 | P22: ='28（長野）2016'!$E13 -> 1030 | Q22: ='29（長野）2017'!$E13 -> 1020 | R22: ='30（長野）2018'!$E13 -> 1020 | S22: ='R1（長野）2019'!$E13 -> 1010 | T22: ='R2（長野）2020'!$E13 -> 1010 | U22: ='R3（長野）2021'!$E13 -> 1000 | V22: ='R4（長野）2022'!$E13 -> 1000 | W22: ='R5（長野）2023'!$E13 -> 996 | X22: ='R6（長野）2024'!$E13 -> 962
B23: 205 | C23: 飯田市 | D23: ='16（長野）2004'!E13 -> 1220
B24: 418 | C24: 上村 | D24: ='16（長野）2004'!E71 -> 6
B25: 419 | C25: 南信濃村 | D25: ='16（長野）2004'!E72 -> 27
A26: 6000 | B26: 206 | C26: 諏訪市 | D26: ='16（長野）2004'!E14 -> 477 | E26: ='17（長野）2005'!E14 -> 468 | F26: ='18（長野）2006'!$E14 -> 459 | G26: ='19（長野）2007'!$E14 -> 449 | H26: ='20（長野）2008'!$E14 -> 439 | I26: ='21（長野）2009'!$E14 -> 434 | J26: ='22（長野）2010'!$E14 -> 432 | K26: ='23（長野）2011'!$E14 -> 432 | L26: ='24（長野）2012'!$E14 -> 429 | M26: ='25（長野）2013'!$E14 -> 427 | N26: ='26（長野）2014'!$E14 -> 421 | O26: ='27（長野）2015'!$E14 -> 419 | P26: ='28（長野）2016'!$E14 -> 418 | Q26: ='29（長野）2017'!$E14 -> 416 | R26: ='30（長野）2018'!$E14 -> 411 | S26: ='R1（長野）2019'!$E14 -> 405 | T26: ='R2（長野）2020'!$E14 -> 402 | U26: ='R3（長野）2021'!$E14 -> 398 | V26: ='R4（長野）2022'!$E14 -> 394 | W26: ='R5（長野）2023'!$E14 -> 395 | X26: ='R6（長野）2024'!$E14 -> 400
A27: 7000 | B27: 207 | C27: 須坂市 | D27: ='16（長野）2004'!E15 -> 290 | E27: ='17（長野）2005'!E15 -> 290 | F27: ='18（長野）2006'!$E15 -> 288 | G27: ='19（長野）2007'!$E15 -> 287 | H27: ='20（長野）2008'!$E15 -> 280 | I27: ='21（長野）2009'!$E15 -> 280 | J27: ='22（長野）2010'!$E15 -> 279 | K27: ='23（長野）2011'!$E15 -> 279 | L27: ='24（長野）2012'!$E15 -> 278 | M27: ='25（長野）2013'!$E15 -> 275 | N27: ='26（長野）2014'!$E15 -> 272 | O27: ='27（長野）2015'!$E15 -> 269 | P27: ='28（長野）2016'!$E15 -> 267 | Q27: ='29（長野）2017'!$E15 -> 265 | R27: ='30（長野）2018'!$E15 -> 266 | S27: ='R1（長野）2019'!$E15 -> 264 | T27: ='R2（長野）2020'!$E15 -> 264 | U27: ='R3（長野）2021'!$E15 -> 227 | V27: ='R4（長野）2022'!$E15 -> 227 | W27: ='R5（長野）2023'!$E15 -> 224 | X27: ='R6（長野）2024'!$E15 -> 223
A28: 8000 | B28: 208 | C28: 小諸市 | D28: ='16（長野）2004'!E16 -> 1110 | E28: ='17（長野）2005'!E16 -> 1100 | F28: ='18（長野）2006'!$E16 -> 1100 | G28: ='19（長野）2007'!$E16 -> 1090 | H28: ='20（長野）2008'!$E16 -> 1090 | I28: ='21（長野）2009'!$E16 -> 1090 | J28: ='22（長野）2010'!$E16 -> 1090 | K28: ='23（長野）2011'!$E16 -> 1080 | L28: ='24（長野）2012'!$E16 -> 1080 | M28: ='25（長野）2013'!$E16 -> 1080 | N28: ='26（長野）2014'!$E16 -> 1070 | O28: ='27（長野）2015'!$E16 -> 1060 | P28: ='28（長野）2016'!$E16 -> 1050 | Q28: ='29（長野）2017'!$E16 -> 1040 | R28: ='30（長野）2018'!$E16 -> 1040 | S28: ='R1（長野）2019'!$E16 -> 1030 | T28: ='R2（長野）2020'!$E16 -> 1010 | U28: ='R3（長野）2021'!$E16 -> 1010 | V28: ='R4（長野）2022'!$E16 -> 1010 | W28: ='R5（長野）2023'!$E16 -> 1000 | X28: ='R6（長野）2024'!$E16 -> 997
A29: 9000 | B29: 209 | C29: 伊那市 | E29: ='17（長野）2005'!E17 -> 3590 | F29: ='18（長野）2006'!$E17 -> 3570 | G29: ='19（長野）2007'!$E17 -> 3550 | H29: ='20（長野）2008'!$E17 -> 3510 | I29: ='21（長野）2009'!$E17 -> 3490 | J29: ='22（長野）2010'!$E17 -> 3470 | K29: ='23（長野）2011'!$E17 -> 3470 | L29: ='24（長野）2012'!$E17 -> 3460 | M29: ='25（長野）2013'!$E17 -> 3440 | N29: ='26（長野）2014'!$E17 -> 3430 | O29: ='27（長野）2015'!$E17 -> 3410 | P29: ='28（長野）2016'!$E17 -> 3400 | Q29: ='29（長野）2017'!$E17 -> 3390 | R29: ='30（長野）2018'!$E17 -> 3380 | S29: ='R1（長野）2019'!$E17 -> 3370 | T29: ='R2（長野）2020'!$E17 -> 3360 | U29: ='R3（長野）2021'!$E17 -> 3360 | V29: ='R4（長野）2022'!$E17 -> 3360 | W29: ='R5（長野）2023'!$E17 -> 3350 | X29: ='R6（長野）2024'!$E17 -> 3350
B30: 209 | C30: 伊那市 | D30: ='16（長野）2004'!E17 -> 3030
B31: 381 | C31: 高遠町 | D31: ='16（長野）2004'!E48 -> 423
B32: 387 | C32: 長谷村 | D32: ='16（長野）2004'!E54 -> 157
A33: 10000 | B33: 210 | C33: 駒ヶ根市 | D33: ='16（長野）2004'!E18 -> 1500 | E33: ='17（長野）2005'!E18 -> 1490 | F33: ='18（長野）2006'!$E18 -> 1480 | G33: ='19（長野）2007'!$E18 -> 1470 | H33: ='20（長野）2008'!$E18 -> 1440 | I33: ='21（長野）2009'!$E18 -> 1430 | J33: ='22（長野）2010'!$E18 -> 1420 | K33: ='23（長野）2011'!$E18 -> 1420 | L33: ='24（長野）2012'!$E18 -> 1410 | M33: ='25（長野）2013'!$E18 -> 1410 | N33: ='26（長野）2014'!$E18 -> 1410 | O33: ='27（長野）2015'!$E18 -> 1400 | P33: ='28（長野）2016'!$E18 -> 1390 | Q33: ='29（長野）2017'!$E18 -> 1390 | R33: ='30（長野）2018'!$E18 -> 1380 | S33: ='R1（長野）2019'!$E18 -> 1380 | T33: ='R2（長野）2020'!$E18 -> 1370 | U33: ='R3（長野）2021'!$E18 -> 1370 | V33: ='R4（長野）2022'!$E18 -> 1370 | W33: ='R5（長野）2023'!$E18 -> 1360 | X33: ='R6（長野）2024'!$E18 -> 1360
A34: 11000 | B34: 211 | C34: 中野市 | E34: ='17（長野）2005'!E19 -> 660 | F34: ='18（長野）2006'!$E19 -> 646 | G34: ='19（長野）2007'!$E19 -> 643 | H34: ='20（長野）2008'!$E19 -> 628 | I34: ='21（長野）2009'!$E19 -> 627 | J34: ='22（長野）2010'!$E19 -> 622 | K34: ='23（長野）2011'!$E19 -> 619 | L34: ='24（長野）2012'!$E19 -> 619 | M34: ='25（長野）2013'!$E19 -> 613 | N34: ='26（長野）2014'!$E19 -> 607 | O34: ='27（長野）2015'!$E19 -> 604 | P34: ='28（長野）2016'!$E19 -> 598 | Q34: ='29（長野）2017'!$E19 -> 595 | R34: ='30（長野）2018'!$E19 -> 599 | S34: ='R1（長野）2019'!$E19 -> 596 | T34: ='R2（長野）2020'!$E19 -> 596 | U34: ='R3（長野）2021'!$E19 -> 596 | V34: ='R4（長野）2022'!$E19 -> 596 | W34: ='R5（長野）2023'!$E19 -> 581 | X34: ='R6（長野）2024'!$E19 -> 571
B35: 211 | C35: 中野市 | D35: ='16（長野）2004'!E19 -> 452
B36: 601 | C36: 豊田村 | D36: ='16（長野）2004'!E118 -> 232
A37: 12000 | B37: 212 | C37: 大町市 | E37: ='17（長野）2005'!E20 -> 2260 | F37: ='18（長野）2006'!$E20 -> 2250 | G37: ='19（長野）2007'!$E20 -> 2250 | H37: ='20（長野）2008'!$E20 -> 2250 | I37: ='21（長野）2009'!$E20 -> 2250 | J37: ='22（長野）2010'!$E20 -> 2240 | K37: ='23（長野）2011'!$E20 -> 2240 | L37: ='24（長野）2012'!$E20 -> 2240 | M37: ='25（長野）2013'!$E20 -> 2230 | N37: ='26（長野）2014'!$E20 -> 2230 | O37: ='27（長野）2015'!$E20 -> 2210 | P37: ='28（長野）2016'!$E20 -> 2180 | Q37: ='29（長野）2017'!$E20 -> 2160 | R37: ='30（長野）2018'!$E20 -> 2130 | S37: ='R1（長野）2019'!$E20 -> 2100 | T37: ='R2（長野）2020'!$E20 -> 2070 | U37: ='R3（長野）2021'!$E20 -> 2070 | V37: ='R4（長野）2022'!$E20 -> 2060 | W37: ='R5（長野）2023'!$E20 -> 2050 | X37: ='R6（長野）2024'!$E20 -> 2040
B38: 212 | C38: 大町市 | D38: ='16（長野）2004'!E20 -> 2080
B39: 483 | C39: 八坂村 | D39: ='16（長野）2004'!E102 -> 52
B40: 484 | C40: 美麻村 | D40: ='16（長野）2004'!E103 -> 123
A41: 13000 | B41: 213 | C41: 飯山市 | D41: ='16（長野）2004'!E21 -> 1950 | E41: ='17（長野）2005'!E21 -> 1930 | F41: ='18（長野）2006'!$E21 -> 1900 | G41: ='19（長野）2007'!$E21 -> 1890 | H41: ='20（長野）2008'!$E21 -> 1880 | I41: ='21（長野）2009'!$E21 -> 1880 | J41: ='22（長野）2010'!$E21 -> 1870 | K41: ='23（長野）2011'!$E21 -> 1870 | L41: ='24（長野）2012'!$E21 -> 1860 | M41: ='25（長野）2013'!$E21 -> 1860 | N41: ='26（長野）2014'!$E21 -> 1860 | O41: ='27（長野）2015'!$E21 -> 1850 | P41: ='28（長野）2016'!$E21 -> 1850 | Q41: ='29（長野）2017'!$E21 -> 1840 | R41: ='30（長野）2018'!$E21 -> 1840 | S41: ='R1（長野）2019'!$E21 -> 1840 | T41: ='R2（長野）2020'!$E21 -> 1810 | U41: ='R3（長野）2021'!$E21 -> 1800 | V41: ='R4（長野）2022'!$E21 -> 1790 | W41: ='R5（長野）2023'!$E21 -> 1750 | X41: ='R6（長野）2024'!$E21 -> 1730
A42: 14000 | B42: 214 | C42: 茅野市 | D42: ='16（長野）2004'!E22 -> 1600 | E42: ='17（長野）2005'!E22 -> 1590 | F42: ='18（長野）2006'!$E22 -> 1550 | G42: ='19（長野）2007'!$E22 -> 1530 | H42: ='20（長野）2008'!$E22 -> 1480 | I42: ='21（長野）2009'!$E22 -> 1470 | J42: ='22（長野）2010'!$E22 -> 1460 | K42: ='23（長野）2011'!$E22 -> 1460 | L42: ='24（長野）2012'!$E22 -> 1440 | M42: ='25（長野）2013'!$E22 -> 1420 | N42: ='26（長野）2014'!$E22 -> 1410 | O42: ='27（長野）2015'!$E22 -> 1400 | P42: ='28（長野）2016'!$E22 -> 1390 | Q42: ='29（長野）2017'!$E22 -> 1380 | R42: ='30（長野）2018'!$E22 -> 1350 | S42: ='R1（長野）2019'!$E22 -> 1330 | T42: ='R2（長野）2020'!$E22 -> 1330 | U42: ='R3（長野）2021'!$E22 -> 1340 | V42: ='R4（長野）2022'!$E22 -> 1340 | W42: ='R5（長野）2023'!$E22 -> 1340 | X42: ='R6（長野）2024'!$E22 -> 1340
A43: 15000 | B43: 215 | C43: 塩尻市 | E43: ='17（長野）2005'!E23 -> 1140 | F43: ='18（長野）2006'!$E23 -> 1130 | G43: ='19（長野）2007'!$E23 -> 1120 | H43: ='20（長野）2008'!$E23 -> 1120 | I43: ='21（長野）2009'!$E23 -> 1110 | J43: ='22（長野）2010'!$E23 -> 1110 | K43: ='23（長野）2011'!$E23 -> 1110 | L43: ='24（長野）2012'!$E23 -> 1100 | M43: ='25（長野）2013'!$E23 -> 1090 | N43: ='26（長野）2014'!$E23 -> 1080 | O43: ='27（長野）2015'!$E23 -> 1050 | P43: ='28（長野）2016'!$E23 -> 1040 | Q43: ='29（長野）2017'!$E23 -> 1020 | R43: ='30（長野）2018'!$E23 -> 996 | S43: ='R1（長野）2019'!$E23 -> 964 | T43: ='R2（長野）2020'!$E23 -> 935 | U43: ='R3（長野）2021'!$E23 -> 923 | V43: ='R4（長野）2022'!$E23 -> 916 | W43: ='R5（長野）2023'!$E23 -> 910 | X43: ='R6（長野）2024'!$E23 -> 903
B44: 215 | C44: 塩尻市 | D44: ='16（長野）2004'!E23 -> 1150
B45: 424 | C45: 楢川村 | D45: ='16（長野）2004'!E76 -> 7
A46: 16000 | B46: 217 | C46: 佐久市 | E46: ='17（長野）2005'!E24 -> 4110 | F46: ='18（長野）2006'!$E24 -> 4090 | G46: ='19（長野）2007'!$E24 -> 4050 | H46: ='20（長野）2008'!$E24 -> 4020 | I46: ='21（長野）2009'!$E24 -> 4010 | J46: ='22（長野）2010'!$E24 -> 4010 | K46: ='23（長野）2011'!$E24 -> 4000 | L46: ='24（長野）2012'!$E24 -> 3990 | M46: ='25（長野）2013'!$E24 -> 3940 | N46: ='26（長野）2014'!$E24 -> 3940 | O46: ='27（長野）2015'!$E24 -> 3910 | P46: ='28（長野）2016'!$E24 -> 3880 | Q46: ='29（長野）2017'!$E24 -> 3870 | R46: ='30（長野）2018'!$E24 -> 3860 | S46: ='R1（長野）2019'!$E24 -> 3860 | T46: ='R2（長野）2020'!$E24 -> 3780 | U46: ='R3（長野）2021'!$E24 -> 3830 | V46: ='R4（長野）2022'!$E24 -> 3830 | W46: ='R5（長野）2023'!$E24 -> 3820 | X46: ='R6（長野）2024'!$E24 -> 3780
B47: 217 | C47: 佐久市 | D47: ='16（長野）2004'!E24 -> 2310
B48: 301 | C48: 臼田町 | D48: ='16（長野）2004'!E27 -> 496
B49: 322 | C49: 望月町 | D49: ='16（長野）2004'!E35 -> 807
B50: 325 | C50: 浅科村 | D50: ='16（長野）2004'!E38 -> 504
A51: 17000 | B51: 218 | C51: 千曲市 | D51: ='16（長野）2004'!E25 -> 880 | E51: ='17（長野）2005'!E25 -> 875 | F51: ='18（長野）2006'!$E25 -> 869 | G51: ='19（長野）2007'!$E25 -> 866 | H51: ='20（長野）2008'!$E25 -> 861 | I51: ='21（長野）2009'!$E25 -> 858 | J51: ='22（長野）2010'!$E25 -> 855 | K51: ='23（長野）2011'!$E25 -> 853 | L51: ='24（長野）2012'!$E25 -> 850 | M51: ='25（長野）2013'!$E25 -> 848 | N51: ='26（長野）2014'!$E25 -> 841 | O51: ='27（長野）2015'!$E25 -> 835 | P51: ='28（長野）2016'!$E25 -> 830 | Q51: ='29（長野）2017'!$E25 -> 827 | R51: ='30（長野）2018'!$E25 -> 826 | S51: ='R1（長野）2019'!$E25 -> 827 | T51: ='R2（長野）2020'!$E25 -> 823 | U51: ='R3（長野）2021'!$E25 -> 821 | V51: ='R4（長野）2022'!$E25 -> 811 | W51: ='R5（長野）2023'!$E25 -> 801 | X51: ='R6（長野）2024'!$E25 -> 791
A52: 18000 | B52: 219 | C52: 東御市 | D52: ='16（長野）2004'!E26 -> 1160 | E52: ='17（長野）2005'!E26 -> 1160 | F52: ='18（長野）2006'!$E26 -> 1160 | G52: ='19（長野）2007'!$E26 -> 1150 | H52: ='20（長野）2008'!$E26 -> 1140 | I52: ='21（長野）2009'!$E26 -> 1140 | J52: ='22（長野）2010'!$E26 -> 1140 | K52: ='23（長野）2011'!$E26 -> 1140 | L52: ='24（長野）2012'!$E26 -> 1140 | M52: ='25（長野）2013'!$E26 -> 1120 | N52: ='26（長野）2014'!$E26 -> 1120 | O52: ='27（長野）2015'!$E26 -> 1110 | P52: ='28（長野）2016'!$E26 -> 1110 | Q52: ='29（長野）2017'!$E26 -> 1100 | R52: ='30（長野）2018'!$E26 -> 1100 | S52: ='R1（長野）2019'!$E26 -> 1090 | T52: ='R2（長野）2020'!$E26 -> 1080 | U52: ='R3（長野）2021'!$E26 -> 1090 | V52: ='R4（長野）2022'!$E26 -> 1090 | W52: ='R5（長野）2023'!$E26 -> 1090 | X52: ='R6（長野）2024'!$E26 -> 1070
A53: 19000 | B53: 220 | C53: 安曇野市 | E53: ='17（長野）2005'!E27 -> 5600 | F53: ='18（長野）2006'!E$27 -> 5590 | G53: ='19（長野）2007'!E$27 -> 5580 | H53: ='20（長野）2008'!E$27 -> 5480 | I53: ='21（長野）2009'!E$27 -> 5460 | J53: ='22（長野）2010'!$E27 -> 5450 | K53: ='23（長野）2011'!$E27 -> 5440 | L53: ='24（長野）2012'!$E27 -> 5420 | M53: ='25（長野）2013'!$E27 -> 5420 | N53: ='26（長野）2014'!$E27 -> 5400 | O53: ='27（長野）2015'!$E27 -> 5370 | P53: ='28（長野）2016'!$E27 -> 5320 | Q53: ='29（長野）2017'!$E27 -> 5260 | R53: ='30（長野）2018'!$E27 -> 5190 | S53: ='R1（長野）2019'!$E27 -> 5120 | T53: ='R2（長野）2020'!$E27 -> 5040 | U53: ='R3（長野）2021'!$E27 -> 5020 | V53: ='R4（長野）2022'!$E27 -> 4990 | W53: ='R5（長野）2023'!$E27 -> 4970 | X53: ='R6（長野）2024'!$E27 -> 4950
B54: 441 | C54: 明科町 | D54: ='16（長野）2004'!E83 -> 377
B55: 461 | C55: 豊科町 | D55: ='16（長野）2004'!E93 -> 1450
B56: 462 | C56: 穂高町 | D56: ='16（長野）2004'!E94 -> 2030
B57: 466 | C57: 三郷村 | D57: ='16（長野）2004'!E98 -> 921
B58: 467 | C58: 堀金村 | D58: ='16（長野）2004'!E99 -> 835
A59: 20000 | B59: 303 | C59: 小海町 | D59: ='16（長野）2004'!E28 -> 217 | E59: ='17（長野）2005'!E28 -> 217 | F59: ='18（長野）2006'!E$28 -> 215 | G59: ='19（長野）2007'!E$28 -> 213 | H59: ='20（長野）2008'!E$28 -> 207 | I59: ='21（長野）2009'!E$28 -> 207 | J59: ='22（長野）2010'!$E28 -> 207 | K59: ='23（長野）2011'!$E28 -> 206 | L59: ='24（長野）2012'!$E28 -> 205 | M59: ='25（長野）2013'!$E28 -> 204 | N59: ='26（長野）2014'!$E28 -> 204 | O59: ='27（長野）2015'!$E28 -> 199 | P59: ='28（長野）2016'!$E28 -> 196 | Q59: ='29（長野）2017'!$E28 -> 193 | R59: ='30（長野）2018'!$E28 -> 189 | S59: ='R1（長野）2019'!$E28 -> 187 | T59: ='R2（長野）2020'!$E28 -> 185 | U59: ='R3（長野）2021'!$E28 -> 180 | V59: ='R4（長野）2022'!$E28 -> 173 | W59: ='R5（長野）2023'!$E28 -> 170 | X59: ='R6（長野）2024'!$E28 -> 164
A60: 21000 | B60: 304 | C60: 川上村 | D60: ='16（長野）2004'!E29 -> 47 | E60: ='17（長野）2005'!E29 -> 47 | F60: ='18（長野）2006'!$E29 -> 47 | G60: ='19（長野）2007'!$E29 -> 47 | H60: ='20（長野）2008'!$E29 -> 47 | I60: ='21（長野）2009'!$E29 -> 46 | J60: ='22（長野）2010'!$E29 -> 45 | K60: ='23（長野）2011'!$E29 -> 44 | L60: ='24（長野）2012'!$E29 -> 44 | M60: ='25（長野）2013'!$E29 -> 44 | N60: ='26（長野）2014'!$E29 -> 44 | O60: ='27（長野）2015'!$E29 -> 44 | P60: ='28（長野）2016'!$E29 -> 43 | Q60: ='29（長野）2017'!$E29 -> 42 | R60: ='30（長野）2018'!$E29 -> 42 | S60: ='R1（長野）2019'!$E29 -> 42 | T60: ='R2（長野）2020'!$E29 -> 40 | U60: ='R3（長野）2021'!$E29 -> 40 | V60: ='R4（長野）2022'!$E29 -> 38 | W60: ='R5（長野）2023'!$E29 -> 37 | X60: ='R6（長野）2024'!$E29 -> 37
A61: 22000 | B61: 305 | C61: 南牧村 | D61: ='16（長野）2004'!E30 -> 112 | E61: ='17（長野）2005'!E30 -> 112 | F61: ='18（長野）2006'!$E30 -> 112 | G61: ='19（長野）2007'!$E30 -> 112 | H61: ='20（長野）2008'!$E30 -> 112 | I61: ='21（長野）2009'!$E30 -> 112 | J61: ='22（長野）2010'!$E30 -> 112 | K61: ='23（長野）2011'!$E30 -> 111 | L61: ='24（長野）2012'!$E30 -> 111 | M61: ='25（長野）2013'!$E30 -> 111 | N61: ='26（長野）2014'!$E30 -> 111 | O61: ='27（長野）2015'!$E30 -> 109 | P61: ='28（長野）2016'!$E30 -> 109 | Q61: ='29（長野）2017'!$E30 -> 108 | R61: ='30（長野）2018'!$E30 -> 108 | S61: ='R1（長野）2019'!$E30 -> 108 | T61: ='R2（長野）2020'!$E30 -> 107 | U61: ='R3（長野）2021'!$E30 -> 107 | V61: ='R4（長野）2022'!$E30 -> 99 | W61: ='R5（長野）2023'!$E30 -> 92 | X61: ='R6（長野）2024'!$E30 -> 92
A62: 23000 | B62: 306 | C62: 南相木村 | D62: ='16（長野）2004'!E31 -> 52 | E62: ='17（長野）2005'!E31 -> 52 | F62: ='18（長野）2006'!$E31 -> 52 | G62: ='19（長野）2007'!$E31 -> 50 | H62: ='20（長野）2008'!$E31 -> 48 | I62: ='21（長野）2009'!$E31 -> 48 | J62: ='22（長野）2010'!$E31 -> 48 | K62: ='23（長野）2011'!$E31 -> 48 | L62: ='24（長野）2012'!$E31 -> 45 | M62: ='25（長野）2013'!$E31 -> 45 | N62: ='26（長野）2014'!$E31 -> 44 | O62: ='27（長野）2015'!$E31 -> 42 | P62: ='28（長野）2016'!$E31 -> 41 | Q62: ='29（長野）2017'!$E31 -> 40 | R62: ='30（長野）2018'!$E31 -> 41 | S62: ='R1（長野）2019'!$E31 -> 39 | T62: ='R2（長野）2020'!$E31 -> 38 | U62: ='R3（長野）2021'!$E31 -> 36 | V62: ='R4（長野）2022'!$E31 -> 34 | W62: ='R5（長野）2023'!$E31 -> 32 | X62: ='R6（長野）2024'!$E31 -> 29
A63: 24000 | B63: 307 | C63: 北相木村 | D63: ='16（長野）2004'!E32 -> 30 | E63: ='17（長野）2005'!E32 -> 30 | F63: ='18（長野）2006'!$E32 -> 30 | G63: ='19（長野）2007'!$E32 -> 30 | H63: ='20（長野）2008'!$E32 -> 30 | I63: ='21（長野）2009'!$E32 -> 30 | J63: ='22（長野）2010'!$E32 -> 30 | K63: ='23（長野）2011'!$E32 -> 30 | L63: ='24（長野）2012'!$E32 -> 30 | M63: ='25（長野）2013'!$E32 -> 30 | N63: ='26（長野）2014'!$E32 -> 30 | O63: ='27（長野）2015'!$E32 -> 30 | P63: ='28（長野）2016'!$E32 -> 29 | Q63: ='29（長野）2017'!$E32 -> 28 | R63: ='30（長野）2018'!$E32 -> 29 | S63: ='R1（長野）2019'!$E32 -> 28 | T63: ='R2（長野）2020'!$E32 -> 27 | U63: ='R3（長野）2021'!$E32 -> 27 | V63: ='R4（長野）2022'!$E32 -> 27 | W63: ='R5（長野）2023'!$E32 -> 26 | X63: ='R6（長野）2024'!$E32 -> 25
A64: 25000 | B64: 309 | C64: 佐久穂町 | D64: ='16（長野）2004'!E33 -> 746 | E64: ='17（長野）2005'!E33 -> 745 | F64: ='18（長野）2006'!$E33 -> 739 | G64: ='19（長野）2007'!$E33 -> 734 | H64: ='20（長野）2008'!$E33 -> 728 | I64: ='21（長野）2009'!$E33 -> 726 | J64: ='22（長野）2010'!$E33 -> 724 | K64: ='23（長野）2011'!$E33 -> 722 | L64: ='24（長野）2012'!$E33 -> 720 | M64: ='25（長野）2013'!$E33 -> 719 | N64: ='26（長野）2014'!$E33 -> 718 | O64: ='27（長野）2015'!$E33 -> 713 | P64: ='28（長野）2016'!$E33 -> 710 | Q64: ='29（長野）2017'!$E33 -> 707 | R64: ='30（長野）2018'!$E33 -> 703 | S64: ='R1（長野）2019'!$E33 -> 700 | T64: ='R2（長野）2020'!$E33 -> 664 | U64: ='R3（長野）2021'!$E33 -> 680 | V64: ='R4（長野）2022'!$E33 -> 668 | W64: ='R5（長野）2023'!$E33 -> 658 | X64: ='R6（長野）2024'!$E33 -> 644
A65: 26000 | B65: 321 | C65: 軽井沢町 | D65: ='16（長野）2004'!E34 -> 134 | E65: ='17（長野）2005'!E34 -> 130 | F65: ='18（長野）2006'!$E34 -> 129 | G65: ='19（長野）2007'!$E34 -> 127 | H65: ='20（長野）2008'!$E34 -> 125 | I65: ='21（長野）2009'!$E34 -> 125 | J65: ='22（長野）2010'!$E34 -> 125 | K65: ='23（長野）2011'!$E34 -> 124 | L65: ='24（長野）2012'!$E34 -> 119 | M65: ='25（長野）2013'!$E34 -> 117 | N65: ='26（長野）2014'!$E34 -> 116 | O65: ='27（長野）2015'!$E34 -> 115 | P65: ='28（長野）2016'!$E34 -> 112 | Q65: ='29（長野）2017'!$E34 -> 111 | R65: ='30（長野）2018'!$E34 -> 115 | S65: ='R1（長野）2019'!$E34 -> 116 | T65: ='R2（長野）2020'!$E34 -> 112 | U65: ='R3（長野）2021'!$E34 -> 110 | V65: ='R4（長野）2022'!$E34 -> 100 | W65: ='R5（長野）2023'!$E34 -> 95 | X65: ='R6（長野）2024'!$E34 -> 92
A66: 27000 | B66: 323 | C66: 御代田町 | D66: ='16（長野）2004'!E36 -> 246 | E66: ='17（長野）2005'!E35 -> 245 | F66: ='18（長野）2006'!$E35 -> 244 | G66: ='19（長野）2007'!$E35 -> 244 | H66: ='20（長野）2008'!$E35 -> 240 | I66: ='21（長野）2009'!$E35 -> 239 | J66: ='22（長野）2010'!$E35 -> 238 | K66: ='23（長野）2011'!$E35 -> 237 | L66: ='24（長野）2012'!$E35 -> 237 | M66: ='25（長野）2013'!$E35 -> 237 | N66: ='26（長野）2014'!$E35 -> 235 | O66: ='27（長野）2015'!$E35 -> 231 | P66: ='28（長野）2016'!$E35 -> 228 | Q66: ='29（長野）2017'!$E35 -> 226 | R66: ='30（長野）2018'!$E35 -> 233 | S66: ='R1（長野）2019'!$E35 -> 229 | T66: ='R2（長野）2020'!$E35 -> 223 | U66: ='R3（長野）2021'!$E35 -> 220 | V66: ='R4（長野）2022'!$E35 -> 213 | W66: ='R5（長野）2023'!$E35 -> 204 | X66: ='R6（長野）2024'!$E35 -> 201
A67: 28000 | B67: 324 | C67: 立科町 | D67: ='16（長野）2004'!E37 -> 750 | E67: ='17（長野）2005'!E36 -> 750 | F67: ='18（長野）2006'!$E36 -> 747 | G67: ='19（長野）2007'!$E36 -> 743 | H67: ='20（長野）2008'!$E36 -> 743 | I67: ='21（長野）2009'!$E36 -> 742 | J67: ='22（長野）2010'!$E36 -> 740 | K67: ='23（長野）2011'!$E36 -> 739 | L67: ='24（長野）2012'!$E36 -> 738 | M67: ='25（長野）2013'!$E36 -> 735 | N67: ='26（長野）2014'!$E36 -> 731 | O67: ='27（長野）2015'!$E36 -> 723 | P67: ='28（長野）2016'!$E36 -> 719 | Q67: ='29（長野）2017'!$E36 -> 716 | R67: ='30（長野）2018'!$E36 -> 711 | S67: ='R1（長野）2019'!$E36 -> 710 | T67: ='R2（長野）2020'!$E36 -> 705 | U67: ='R3（長野）2021'!$E36 -> 713 | V67: ='R4（長野）2022'!$E36 -> 707 | W67: ='R5（長野）2023'!$E36 -> 705 | X67: ='R6（長野）2024'!$E36 -> 702
A68: 29000 | B68: 349 | C68: 青木村 | D68: ='16（長野）2004'!E44 -> 247 | E68: ='17（長野）2005'!E37 -> 247 | F68: ='18（長野）2006'!$E37 -> 246 | G68: ='19（長野）2007'!$E37 -> 246 | H68: ='20（長野）2008'!$E37 -> 245 | I68: ='21（長野）2009'!$E37 -> 245 | J68: ='22（長野）2010'!$E37 -> 245 | K68: ='23（長野）2011'!$E37 -> 244 | L68: ='24（長野）2012'!$E37 -> 244 | M68: ='25（長野）2013'!$E37 -> 244 | N68: ='26（長野）2014'!$E37 -> 244 | O68: ='27（長野）2015'!$E37 -> 241 | P68: ='28（長野）2016'!$E37 -> 238 | Q68: ='29（長野）2017'!$E37 -> 237 | R68: ='30（長野）2018'!$E37 -> 228 | S68: ='R1（長野）2019'!$E37 -> 228 | T68: ='R2（長野）2020'!$E37 -> 230 | U68: ='R3（長野）2021'!$E37 -> 230 | V68: ='R4（長野）2022'!$E37 -> 230 | W68: ='R5（長野）2023'!$E37 -> 229 | X68: ='R6（長野）2024'!$E37 -> 233
A69: 30000 | B69: 350 | C69: 長和町 | E69: ='17（長野）2005'!E38 -> 525 | F69: ='18（長野）2006'!$E38 -> 523 | G69: ='19（長野）2007'!$E38 -> 522 | H69: ='20（長野）2008'!$E38 -> 506 | I69: ='21（長野）2009'!$E38 -> 505 | J69: ='22（長野）2010'!$E38 -> 503 | K69: ='23（長野）2011'!$E38 -> 503 | L69: ='24（長野）2012'!$E38 -> 503 | M69: ='25（長野）2013'!$E38 -> 503 | N69: ='26（長野）2014'!$E38 -> 503 | O69: ='27（長野）2015'!$E38 -> 489 | P69: ='28（長野）2016'!$E38 -> 484 | Q69: ='29（長野）2017'!$E38 -> 480 | R69: ='30（長野）2018'!$E38 -> 474 | S69: ='R1（長野）2019'!$E38 -> 473 | T69: ='R2（長野）2020'!$E38 -> 459 | U69: ='R3（長野）2021'!$E38 -> 453 | V69: ='R4（長野）2022'!$E38 -> 453 | W69: ='R5（長野）2023'!$E38 -> 450 | X69: ='R6（長野）2024'!$E38 -> 445
B70: 342 | C70: 長門町 | D70: ='16（長野）2004'!E40 -> 341
B71: 347 | C71: 和田村 | D71: ='16（長野）2004'!E43 -> 184
A72: 31000 | B72: 361 | C72: 下諏訪町 | D72: ='16（長野）2004'!E45 -> 36 | E72: ='17（長野）2005'!E39 -> 35 | F72: ='18（長野）2006'!$E39 -> 32 | G72: ='19（長野）2007'!$E39 -> 30 | H72: ='20（長野）2008'!$E39 -> 29 | I72: ='21（長野）2009'!$E39 -> 28 | J72: ='22（長野）2010'!$E39 -> 28 | K72: ='23（長野）2011'!$E39 -> 28 | L72: ='24（長野）2012'!$E39 -> 27 | M72: ='25（長野）2013'!$E39 -> 27 | N72: ='26（長野）2014'!$E39 -> 27 | O72: ='27（長野）2015'!$E39 -> 27 | P72: ='28（長野）2016'!$E39 -> 27 | Q72: ='29（長野）2017'!$E39 -> 27 | R72: ='30（長野）2018'!$E39 -> 25 | S72: ='R1（長野）2019'!$E39 -> 25 | T72: ='R2（長野）2020'!$E39 -> 25 | U72: ='R3（長野）2021'!$E39 -> 25 | V72: ='R4（長野）2022'!$E39 -> 21 | W72: ='R5（長野）2023'!$E39 -> 22 | X72: ='R6（長野）2024'!$E39 -> 29
A73: 32000 | B73: 362 | C73: 富士見町 | D73: ='16（長野）2004'!E46 -> 1040 | E73: ='17（長野）2005'!E40 -> 1040 | F73: ='18（長野）2006'!$E40 -> 1010 | G73: ='19（長野）2007'!$E40 -> 993 | H73: ='20（長野）2008'!$E40 -> 949 | I73: ='21（長野）2009'!$E40 -> 935 | J73: ='22（長野）2010'!$E40 -> 932 | K73: ='23（長野）2011'!$E40 -> 931 | L73: ='24（長野）2012'!$E40 -> 930 | M73: ='25（長野）2013'!$E40 -> 928 | N73: ='26（長野）2014'!$E40 -> 926 | O73: ='27（長野）2015'!$E40 -> 919 | P73: ='28（長野）2016'!$E40 -> 913 | Q73: ='29（長野）2017'!$E40 -> 908 | R73: ='30（長野）2018'!$E40 -> 899 | S73: ='R1（長野）2019'!$E40 -> 898 | T73: ='R2（長野）2020'!$E40 -> 897 | U73: ='R3（長野）2021'!$E40 -> 895 | V73: ='R4（長野）2022'!$E40 -> 891 | W73: ='R5（長野）2023'!$E40 -> 894 | X73: ='R6（長野）2024'!$E40 -> 894
A74: 33000 | B74: 363 | C74: 原村 | D74: ='16（長野）2004'!E47 -> 638 | E74: ='17（長野）2005'!E41 -> 637 | F74: ='18（長野）2006'!$E41 -> 612 | G74: ='19（長野）2007'!$E41 -> 597 | H74: ='20（長野）2008'!$E41 -> 574 | I74: ='21（長野）2009'!$E41 -> 566 | J74: ='22（長野）2010'!$E41 -> 564 | K74: ='23（長野）2011'!$E41 -> 564 | L74: ='24（長野）2012'!$E41 -> 561 | M74: ='25（長野）2013'!$E41 -> 559 | N74: ='26（長野）2014'!$E41 -> 558 | O74: ='27（長野）2015'!$E41 -> 558 | P74: ='28（長野）2016'!$E41 -> 557 | Q74: ='29（長野）2017'!$E41 -> 556 | R74: ='30（長野）2018'!$E41 -> 555 | S74: ='R1（長野）2019'!$E41 -> 556 | T74: ='R2（長野）2020'!$E41 -> 555 | U74: ='R3（長野）2021'!$E41 -> 556 | V74: ='R4（長野）2022'!$E41 -> 553 | W74: ='R5（長野）2023'!$E41 -> 555 | X74: ='R6（長野）2024'!$E41 -> 557
A75: 34000 | B75: 382 | C75: 辰野町 | D75: ='16（長野）2004'!E49 -> 592 | E75: ='17（長野）2005'!E42 -> 587 | F75: ='18（長野）2006'!$E42 -> 581 | G75: ='19（長野）2007'!$E42 -> 575 | H75: ='20（長野）2008'!$E42 -> 560 | I75: ='21（長野）2009'!$E42 -> 554 | J75: ='22（長野）2010'!$E42 -> 550 | K75: ='23（長野）2011'!$E42 -> 550 | L75: ='24（長野）2012'!$E42 -> 549 | M75: ='25（長野）2013'!$E42 -> 547 | N75: ='26（長野）2014'!$E42 -> 545 | O75: ='27（長野）2015'!$E42 -> 541 | P75: ='28（長野）2016'!$E42 -> 539 | Q75: ='29（長野）2017'!$E42 -> 534 | R75: ='30（長野）2018'!$E42 -> 532 | S75: ='R1（長野）2019'!$E42 -> 525 | T75: ='R2（長野）2020'!$E42 -> 526 | U75: ='R3（長野）2021'!$E42 -> 527 | V75: ='R4（長野）2022'!$E42 -> 527 | W75: ='R5（長野）2023'!$E42 -> 525 | X75: ='R6（長野）2024'!$E42 -> 522
A76: 35000 | B76: 383 | C76: 箕輪町 | D76: ='16（長野）2004'!E50 -> 798 | E76: ='17（長野）2005'!E43 -> 792 | F76: ='18（長野）2006'!$E43 -> 786 | G76: ='19（長野）2007'!$E43 -> 771 | H76: ='20（長野）2008'!$E43 -> 752 | I76: ='21（長野）2009'!$E43 -> 743 | J76: ='22（長野）2010'!$E43 -> 737 | K76: ='23（長野）2011'!$E43 -> 736 | L76: ='24（長野）2012'!$E43 -> 733 | M76: ='25（長野）2013'!$E43 -> 728 | N76: ='26（長野）2014'!$E43 -> 724 | O76: ='27（長野）2015'!$E43 -> 720 | P76: ='28（長野）2016'!$E43 -> 715 | Q76: ='29（長野）2017'!$E43 -> 713 | R76: ='30（長野）2018'!$E43 -> 709 | S76: ='R1（長野）2019'!$E43 -> 706 | T76: ='R2（長野）2020'!$E43 -> 700 | U76: ='R3（長野）2021'!$E43 -> 699 | V76: ='R4（長野）2022'!$E43 -> 693 | W76: ='R5（長野）2023'!$E43 -> 688 | X76: ='R6（長野）2024'!$E43 -> 683
A77: 36000 | B77: 384 | C77: 飯島町 | D77: ='16（長野）2004'!E51 -> 883 | E77: ='17（長野）2005'!E44 -> 882 | F77: ='18（長野）2006'!$E44 -> 879 | G77: ='19（長野）2007'!$E44 -> 876 | H77: ='20（長野）2008'!$E44 -> 858 | I77: ='21（長野）2009'!$E44 -> 853 | J77: ='22（長野）2010'!$E44 -> 850 | K77: ='23（長野）2011'!$E44 -> 849 | L77: ='24（長野）2012'!$E44 -> 847 | M77: ='25（長野）2013'!$E44 -> 845 | N77: ='26（長野）2014'!$E44 -> 837 | O77: ='27（長野）2015'!$E44 -> 835 | P77: ='28（長野）2016'!$E44 -> 834 | Q77: ='29（長野）2017'!$E44 -> 832 | R77: ='30（長野）2018'!$E44 -> 827 | S77: ='R1（長野）2019'!$E44 -> 825 | T77: ='R2（長野）2020'!$E44 -> 820 | U77: ='R3（長野）2021'!$E44 -> 815 | V77: ='R4（長野）2022'!$E44 -> 814 | W77: ='R5（長野）2023'!$E44 -> 813 | X77: ='R6（長野）2024'!$E44 -> 812
A78: 37000 | B78: 385 | C78: 南箕輪村 | D78: ='16（長野）2004'!E52 -> 581 | E78: ='17（長野）2005'!E45 -> 577 | F78: ='18（長野）2006'!$E45 -> 575 | G78: ='19（長野）2007'!$E45 -> 572 | H78: ='20（長野）2008'!$E45 -> 562 | I78: ='21（長野）2009'!$E45 -> 556 | J78: ='22（長野）2010'!$E45 -> 552 | K78: ='23（長野）2011'!$E45 -> 551 | L78: ='24（長野）2012'!$E45 -> 548 | M78: ='25（長野）2013'!$E45 -> 545 | N78: ='26（長野）2014'!$E45 -> 542 | O78: ='27（長野）2015'!$E45 -> 539 | P78: ='28（長野）2016'!$E45 -> 532 | Q78: ='29（長野）2017'!$E45 -> 526 | R78: ='30（長野）2018'!$E45 -> 524 | S78: ='R1（長野）2019'!$E45 -> 520 | T78: ='R2（長野）2020'!$E45 -> 520 | U78: ='R3（長野）2021'!$E45 -> 519 | V78: ='R4（長野）2022'!$E45 -> 515 | W78: ='R5（長野）2023'!$E45 -> 512 | X78: ='R6（長野）2024'!$E45 -> 509
A79: 38000 | B79: 386 | C79: 中川村 | D79: ='16（長野）2004'!E53 -> 455 | E79: ='17（長野）2005'!E46 -> 452 | F79: ='18（長野）2006'!$E46 -> 448 | G79: ='19（長野）2007'!$E46 -> 444 | H79: ='20（長野）2008'!$E46 -> 433 | I79: ='21（長野）2009'!$E46 -> 426 | J79: ='22（長野）2010'!$E46 -> 424 | K79: ='23（長野）2011'!$E46 -> 424 | L79: ='24（長野）2012'!$E46 -> 424 | M79: ='25（長野）2013'!$E46 -> 423 | N79: ='26（長野）2014'!$E46 -> 423 | O79: ='27（長野）2015'!$E46 -> 421 | P79: ='28（長野）2016'!$E46 -> 421 | Q79: ='29（長野）2017'!$E46 -> 419 | R79: ='30（長野）2018'!$E46 -> 418 | S79: ='R1（長野）2019'!$E46 -> 416 | T79: ='R2（長野）2020'!$E46 -> 416 | U79: ='R3（長野）2021'!$E46 -> 414 | V79: ='R4（長野）2022'!$E46 -> 416 | W79: ='R5（長野）2023'!$E46 -> 415 | X79: ='R6（長野）2024'!$E46 -> 415
A80: 39000 | B80: 388 | C80: 宮田村 | D80: ='16（長野）2004'!E55 -> 438 | E80: ='17（長野）2005'!E47 -> 435 | F80: ='18（長野）2006'!$E47 -> 431 | G80: ='19（長野）2007'!$E47 -> 427 | H80: ='20（長野）2008'!$E47 -> 419 | I80: ='21（長野）2009'!$E47 -> 415 | J80: ='22（長野）2010'!$E47 -> 414 | K80: ='23（長野）2011'!$E47 -> 414 | L80: ='24（長野）2012'!$E47 -> 413 | M80: ='25（長野）2013'!$E47 -> 411 | N80: ='26（長野）2014'!$E47 -> 409 | O80: ='27（長野）2015'!$E47 -> 406 | P80: ='28（長野）2016'!$E47 -> 403 | Q80: ='29（長野）2017'!$E47 -> 402 | R80: ='30（長野）2018'!$E47 -> 401 | S80: ='R1（長野）2019'!$E47 -> 400 | T80: ='R2（長野）2020'!$E47 -> 399 | U80: ='R3（長野）2021'!$E47 -> 398 | V80: ='R4（長野）2022'!$E47 -> 395 | W80: ='R5（長野）2023'!$E47 -> 392 | X80: ='R6（長野）2024'!$E47 -> 389
A81: 40000 | B81: 402 | C81: 松川町 | D81: ='16（長野）2004'!E56 -> 278 | E81: ='17（長野）2005'!E48 -> 277 | F81: ='18（長野）2006'!$E48 -> 276 | G81: ='19（長野）2007'!$E48 -> 271 | H81: ='20（長野）2008'!$E48 -> 258 | I81: ='21（長野）2009'!$E48 -> 250 | J81: ='22（長野）2010'!$E48 -> 248 | K81: ='23（長野）2011'!$E48 -> 247 | L81: ='24（長野）2012'!$E48 -> 246 | M81: ='25（長野）2013'!$E48 -> 242 | N81: ='26（長野）2014'!$E48 -> 239 | O81: ='27（長野）2015'!$E48 -> 237 | P81: ='28（長野）2016'!$E48 -> 236 | Q81: ='29（長野）2017'!$E48 -> 234 | R81: ='30（長野）2018'!$E48 -> 234 | S81: ='R1（長野）2019'!$E48 -> 235 | T81: ='R2（長野）2020'!$E48 -> 234 | U81: ='R3（長野）2021'!$E48 -> 232 | V81: ='R4（長野）2022'!$E48 -> 232 | W81: ='R5（長野）2023'!$E48 -> 235 | X81: ='R6（長野）2024'!$E48 -> 242
A82: 41000 | B82: 403 | C82: 高森町 | D82: ='16（長野）2004'!E57 -> 351 | E82: ='17（長野）2005'!E49 -> 349 | F82: ='18（長野）2006'!$E49 -> 347 | G82: ='19（長野）2007'!$E49 -> 339 | H82: ='20（長野）2008'!$E49 -> 323 | I82: ='21（長野）2009'!$E49 -> 303 | J82: ='22（長野）2010'!$E49 -> 295 | K82: ='23（長野）2011'!$E49 -> 294 | L82: ='24（長野）2012'!$E49 -> 292 | M82: ='25（長野）2013'!$E49 -> 288 | N82: ='26（長野）2014'!$E49 -> 286 | O82: ='27（長野）2015'!$E49 -> 285 | P82: ='28（長野）2016'!$E49 -> 282 | Q82: ='29（長野）2017'!$E49 -> 280 | R82: ='30（長野）2018'!$E49 -> 280 | S82: ='R1（長野）2019'!$E49 -> 279 | T82: ='R2（長野）2020'!$E49 -> 278 | U82: ='R3（長野）2021'!$E49 -> 276 | V82: ='R4（長野）2022'!$E49 -> 274 | W82: ='R5（長野）2023'!$E49 -> 273 | X82: ='R6（長野）2024'!$E49 -> 272
A83: 42000 | B83: 404 | C83: 阿南町 | D83: ='16（長野）2004'!E58 -> 303 | E83: ='17（長野）2005'!E50 -> 302 | F83: ='18（長野）2006'!$E50 -> 294 | G83: ='19（長野）2007'!$E50 -> 285 | H83: ='20（長野）2008'!$E50 -> 267 | I83: ='21（長野）2009'!$E50 -> 257 | J83: ='22（長野）2010'!$E50 -> 252 | K83: ='23（長野）2011'!$E50 -> 251 | L83: ='24（長野）2012'!$E50 -> 250 | M83: ='25（長野）2013'!$E50 -> 250 | N83: ='26（長野）2014'!$E50 -> 249 | O83: ='27（長野）2015'!$E50 -> 246 | P83: ='28（長野）2016'!$E50 -> 241 | Q83: ='29（長野）2017'!$E50 -> 238 | R83: ='30（長野）2018'!$E50 -> 236 | S83: ='R1（長野）2019'!$E50 -> 232 | T83: ='R2（長野）2020'!$E50 -> 231 | U83: ='R3（長野）2021'!$E50 -> 229 | V83: ='R4（長野）2022'!$E50 -> 229 | W83: ='R5（長野）2023'!$E50 -> 231 | X83: ='R6（長野）2024'!$E50 -> 229
A84: 43000 | B84: 407 | C84: 阿智村 | I84: ='21（長野）2009'!E51 -> 221 | J84: ='22（長野）2010'!$E51 -> 220 | K84: ='23（長野）2011'!$E51 -> 219 | L84: ='24（長野）2012'!$E51 -> 218 | M84: ='25（長野）2013'!$E51 -> 217 | N84: ='26（長野）2014'!$E51 -> 216 | O84: ='27（長野）2015'!$E51 -> 214 | P84: ='28（長野）2016'!$E51 -> 213 | Q84: ='29（長野）2017'!$E51 -> 212 | R84: ='30（長野）2018'!$E51 -> 212 | S84: ='R1（長野）2019'!$E51 -> 212 | T84: ='R2（長野）2020'!$E51 -> 211 | U84: ='R3（長野）2021'!$E51 -> 207 | V84: ='R4（長野）2022'!$E51 -> 205 | W84: ='R5（長野）2023'!$E51 -> 206 | X84: ='R6（長野）2024'!$E51 -> 203
B85: 407 | C85: 阿智村 | E85: ='17（長野）2005'!E52 -> 281 | F85: ='18（長野）2006'!E52 -> 279 | G85: ='19（長野）2007'!E52 -> 272 | H85: ='20（長野）2008'!E52 -> 252
B86: 407 | C86: 阿智村 | D86: ='16（長野）2004'!E60 -> 267
B87: 408 | C87: 浪合村 | D87: ='16（長野）2004'!E61 -> 15
B88: 406 | C88: 清内路村 | D88: ='16（長野）2004'!E59 -> 3 | E88: ='17（長野）2005'!E51 -> 3 | F88: ='18（長野）2006'!E51 -> 3 | G88: ='19（長野）2007'!E51 -> 3 | H88: ='20（長野）2008'!E51 -> 3
A89: 44000 | B89: 409 | C89: 平谷村 | D89: ='16（長野）2004'!E62 -> 9 | E89: ='17（長野）2005'!E53 -> 9 | F89: ='18（長野）2006'!$E53 -> 9 | G89: ='19（長野）2007'!$E53 -> 9 | H89: ='20（長野）2008'!$E53 -> 8 | I89: ='21（長野）2009'!E52 -> 8 | J89: ='22（長野）2010'!$E52 -> 8 | K89: ='23（長野）2011'!$E52 -> 8 | L89: ='24（長野）2012'!$E52 -> 8 | M89: ='25（長野）2013'!$E52 -> 8 | N89: ='26（長野）2014'!$E52 -> 8 | O89: ='27（長野）2015'!$E52 -> 8 | P89: ='28（長野）2016'!$E52 -> 8 | Q89: ='29（長野）2017'!$E52 -> 8 | R89: ='30（長野）2018'!$E52 -> 8 | S89: ='R1（長野）2019'!$E52 -> 8 | T89: ='R2（長野）2020'!$E52 -> 8 | U89: ='R3（長野）2021'!$E52 -> 8 | V89: ='R4（長野）2022'!$E52 -> 8 | W89: ='R5（長野）2023'!$E52 -> 8 | X89: ='R6（長野）2024'!$E52 -> 8
A90: 45000 | B90: 410 | C90: 根羽村 | D90: ='16（長野）2004'!E63 -> 76 | E90: ='17（長野）2005'!E54 -> 76 | F90: ='18（長野）2006'!$E54 -> 76 | G90: ='19（長野）2007'!$E54 -> 67 | H90: ='20（長野）2008'!$E54 -> 57 | I90: ='21（長野）2009'!E53 -> 56 | J90: ='22（長野）2010'!$E53 -> 55 | K90: ='23（長野）2011'!$E53 -> 55 | L90: ='24（長野）2012'!$E53 -> 55 | M90: ='25（長野）2013'!$E53 -> 55 | N90: ='26（長野）2014'!$E53 -> 55 | O90: ='27（長野）2015'!$E53 -> 55 | P90: ='28（長野）2016'!$E53 -> 55 | Q90: ='29（長野）2017'!$E53 -> 55 | R90: ='30（長野）2018'!$E53 -> 52 | S90: ='R1（長野）2019'!$E53 -> 52 | T90: ='R2（長野）2020'!$E53 -> 52 | U90: ='R3（長野）2021'!$E53 -> 51 | V90: ='R4（長野）2022'!$E53 -> 51 | W90: ='R5（長野）2023'!$E53 -> 51 | X90: ='R6（長野）2024'!$E53 -> 51
A91: 46000 | B91: 411 | C91: 下條村 | D91: ='16（長野）2004'!E64 -> 191 | E91: ='17（長野）2005'!E55 -> 191 | F91: ='18（長野）2006'!$E55 -> 191 | G91: ='19（長野）2007'!$E55 -> 187 | H91: ='20（長野）2008'!$E55 -> 179 | I91: ='21（長野）2009'!E54 -> 169 | J91: ='22（長野）2010'!$E54 -> 162 | K91: ='23（長野）2011'!$E54 -> 162 | L91: ='24（長野）2012'!$E54 -> 161 | M91: ='25（長野）2013'!$E54 -> 161 | N91: ='26（長野）2014'!$E54 -> 161 | O91: ='27（長野）2015'!$E54 -> 160 | P91: ='28（長野）2016'!$E54 -> 159 | Q91: ='29（長野）2017'!$E54 -> 157 | R91: ='30（長野）2018'!$E54 -> 154 | S91: ='R1（長野）2019'!$E54 -> 154 | T91: ='R2（長野）2020'!$E54 -> 156 | U91: ='R3（長野）2021'!$E54 -> 155 | V91: ='R4（長野）2022'!$E54 -> 161 | W91: ='R5（長野）2023'!$E54 -> 161 | X91: ='R6（長野）2024'!$E54 -> 161
A92: 47000 | B92: 412 | C92: 売木村 | D92: ='16（長野）2004'!E65 -> 96 | E92: ='17（長野）2005'!E56 -> 96 | F92: ='18（長野）2006'!$E56 -> 93 | G92: ='19（長野）2007'!$E56 -> 84 | H92: ='20（長野）2008'!$E56 -> 77 | I92: ='21（長野）2009'!E55 -> 76 | J92: ='22（長野）2010'!$E55 -> 72 | K92: ='23（長野）2011'!$E55 -> 71 | L92: ='24（長野）2012'!$E55 -> 71 | M92: ='25（長野）2013'!$E55 -> 69 | N92: ='26（長野）2014'!$E55 -> 69 | O92: ='27（長野）2015'!$E55 -> 69 | P92: ='28（長野）2016'!$E55 -> 68 | Q92: ='29（長野）2017'!$E55 -> 68 | R92: ='30（長野）2018'!$E55 -> 68 | S92: ='R1（長野）2019'!$E55 -> 67 | T92: ='R2（長野）2020'!$E55 -> 67 | U92: ='R3（長野）2021'!$E55 -> 68 | V92: ='R4（長野）2022'!$E55 -> 68 | W92: ='R5（長野）2023'!$E55 -> 71 | X92: ='R6（長野）2024'!$E55 -> 66
A93: 48000 | B93: 413 | C93: 天龍村 | D93: ='16（長野）2004'!E66 -> 33 | E93: ='17（長野）2005'!E57 -> 33 | F93: ='18（長野）2006'!$E57 -> 33 | G93: ='19（長野）2007'!$E57 -> 33 | H93: ='20（長野）2008'!$E57 -> 31 | I93: ='21（長野）2009'!E56 -> 25 | J93: ='22（長野）2010'!$E56 -> 25 | K93: ='23（長野）2011'!$E56 -> 25 | L93: ='24（長野）2012'!$E56 -> 25 | M93: ='25（長野）2013'!$E56 -> 25 | N93: ='26（長野）2014'!$E56 -> 25 | O93: ='27（長野）2015'!$E56 -> 25 | P93: ='28（長野）2016'!$E56 -> 25 | Q93: ='29（長野）2017'!$E56 -> 25 | R93: ='30（長野）2018'!$E56 -> 24 | S93: ='R1（長野）2019'!$E56 -> 25 | T93: ='R2（長野）2020'!$E56 -> 25 | U93: ='R3（長野）2021'!$E56 -> 25 | V93: ='R4（長野）2022'!$E56 -> 25 | W93: ='R5（長野）2023'!$E56 -> 25 | X93: ='R6（長野）2024'!$E56 -> 24
A94: 49000 | B94: 414 | C94: 泰阜村 | D94: ='16（長野）2004'!E67 -> 81 | E94: ='17（長野）2005'!E58 -> 81 | F94: ='18（長野）2006'!$E58 -> 81 | G94: ='19（長野）2007'!$E58 -> 80 | H94: ='20（長野）2008'!$E58 -> 75 | I94: ='21（長野）2009'!E57 -> 71 | J94: ='22（長野）2010'!$E57 -> 66 | K94: ='23（長野）2011'!$E57 -> 66 | L94: ='24（長野）2012'!$E57 -> 66 | M94: ='25（長野）2013'!$E57 -> 66 | N94: ='26（長野）2014'!$E57 -> 66 | O94: ='27（長野）2015'!$E57 -> 66 | P94: ='28（長野）2016'!$E57 -> 65 | Q94: ='29（長野）2017'!$E57 -> 65 | R94: ='30（長野）2018'!$E57 -> 67 | S94: ='R1（長野）2019'!$E57 -> 70 | T94: ='R2（長野）2020'!$E57 -> 70 | U94: ='R3（長野）2021'!$E57 -> 70 | V94: ='R4（長野）2022'!$E57 -> 70 | W94: ='R5（長野）2023'!$E57 -> 70 | X94: ='R6（長野）2024'!$E57 -> 70
A95: 50000 | B95: 415 | C95: 喬木村 | D95: ='16（長野）2004'!E68 -> 189 | E95: ='17（長野）2005'!E59 -> 187 | F95: ='18（長野）2006'!$E59 -> 186 | G95: ='19（長野）2007'!$E59 -> 181 | H95: ='20（長野）2008'!$E59 -> 172 | I95: ='21（長野）2009'!E58 -> 168 | J95: ='22（長野）2010'!$E58 -> 164 | K95: ='23（長野）2011'!$E58 -> 164 | L95: ='24（長野）2012'!$E58 -> 164 | M95: ='25（長野）2013'!$E58 -> 163 | N95: ='26（長野）2014'!$E58 -> 163 | O95: ='27（長野）2015'!$E58 -> 162 | P95: ='28（長野）2016'!$E58 -> 160 | Q95: ='29（長野）2017'!$E58 -> 159 | R95: ='30（長野）2018'!$E58 -> 159 | S95: ='R1（長野）2019'!$E58 -> 154 | T95: ='R2（長野）2020'!$E58 -> 154 | U95: ='R3（長野）2021'!$E58 -> 150 | V95: ='R4（長野）2022'!$E58 -> 150 | W95: ='R5（長野）2023'!$E58 -> 154 | X95: ='R6（長野）2024'!$E58 -> 154
A96: 51000 | B96: 416 | C96: 豊丘村 | D96: ='16（長野）2004'!E69 -> 220 | E96: ='17（長野）2005'!E60 -> 213 | F96: ='18（長野）2006'!$E60 -> 206 | G96: ='19（長野）2007'!$E60 -> 197 | H96: ='20（長野）2008'!$E60 -> 189 | I96: ='21（長野）2009'!E59 -> 185 | J96: ='22（長野）2010'!$E59 -> 183 | K96: ='23（長野）2011'!$E59 -> 183 | L96: ='24（長野）2012'!$E59 -> 183 | M96: ='25（長野）2013'!$E59 -> 183 | N96: ='26（長野）2014'!$E59 -> 180 | O96: ='27（長野）2015'!$E59 -> 177 | P96: ='28（長野）2016'!$E59 -> 176 | Q96: ='29（長野）2017'!$E59 -> 174 | R96: ='30（長野）2018'!$E59 -> 176 | S96: ='R1（長野）2019'!$E59 -> 175 | T96: ='R2（長野）2020'!$E59 -> 173 | U96: ='R3（長野）2021'!$E59 -> 177 | V96: ='R4（長野）2022'!$E59 -> 175 | W96: ='R5（長野）2023'!$E59 -> 175 | X96: ='R6（長野）2024'!$E59 -> 175
A97: 52000 | B97: 417 | C97: 大鹿村 | D97: ='16（長野）2004'!E70 -> 80 | E97: ='17（長野）2005'!E61 -> 80 | F97: ='18（長野）2006'!$E61 -> 80 | G97: ='19（長野）2007'!$E61 -> 76 | H97: ='20（長野）2008'!$E61 -> 73 | I97: ='21（長野）2009'!E60 -> 70 | J97: ='22（長野）2010'!$E60 -> 61 | K97: ='23（長野）2011'!$E60 -> 61 | L97: ='24（長野）2012'!$E60 -> 61 | M97: ='25（長野）2013'!$E60 -> 60 | N97: ='26（長野）2014'!$E60 -> 60 | O97: ='27（長野）2015'!$E60 -> 60 | P97: ='28（長野）2016'!$E60 -> 59 | Q97: ='29（長野）2017'!$E60 -> 58 | R97: ='30（長野）2018'!$E60 -> 57 | S97: ='R1（長野）2019'!$E60 -> 56 | T97: ='R2（長野）2020'!$E60 -> 57 | U97: ='R3（長野）2021'!$E60 -> 56 | V97: ='R4（長野）2022'!$E60 -> 53 | W97: ='R5（長野）2023'!$E60 -> 52 | X97: ='R6（長野）2024'!$E60 -> 49
A98: 53000 | B98: 422 | C98: 上松町 | D98: ='16（長野）2004'!E74 -> 104 | E98: ='17（長野）2005'!E62 -> 104 | F98: ='18（長野）2006'!$E62 -> 103 | G98: ='19（長野）2007'!$E62 -> 101 | H98: ='20（長野）2008'!$E62 -> 101 | I98: ='21（長野）2009'!E61 -> 100 | J98: ='22（長野）2010'!$E61 -> 99 | K98: ='23（長野）2011'!$E61 -> 99 | L98: ='24（長野）2012'!$E61 -> 97 | M98: ='25（長野）2013'!$E61 -> 95 | N98: ='26（長野）2014'!$E61 -> 93 | O98: ='27（長野）2015'!$E61 -> 89 | P98: ='28（長野）2016'!$E61 -> 86 | Q98: ='29（長野）2017'!$E61 -> 83 | R98: ='30（長野）2018'!$E61 -> 78 | S98: ='R1（長野）2019'!$E61 -> 76 | T98: ='R2（長野）2020'!$E61 -> 71 | U98: ='R3（長野）2021'!$E61 -> 69 | V98: ='R4（長野）2022'!$E61 -> 70 | W98: ='R5（長野）2023'!$E61 -> 70 | X98: ='R6（長野）2024'!$E61 -> 69
A99: 54000 | B99: 423 | C99: 南木曽町 | D99: ='16（長野）2004'!E75 -> 198 | E99: ='17（長野）2005'!E63 -> 196 | F99: ='18（長野）2006'!$E63 -> 195 | G99: ='19（長野）2007'!$E63 -> 195 | H99: ='20（長野）2008'!$E63 -> 195 | I99: ='21（長野）2009'!E62 -> 193 | J99: ='22（長野）2010'!$E62 -> 193 | K99: ='23（長野）2011'!$E62 -> 193 | L99: ='24（長野）2012'!$E62 -> 191 | M99: ='25（長野）2013'!$E62 -> 188 | N99: ='26（長野）2014'!$E62 -> 187 | O99: ='27（長野）2015'!$E62 -> 183 | P99: ='28（長野）2016'!$E62 -> 180 | Q99: ='29（長野）2017'!$E62 -> 178 | R99: ='30（長野）2018'!$E62 -> 175 | S99: ='R1（長野）2019'!$E62 -> 175 | T99: ='R2（長野）2020'!$E62 -> 172 | U99: ='R3（長野）2021'!$E62 -> 167 | V99: ='R4（長野）2022'!$E62 -> 167 | W99: ='R5（長野）2023'!$E62 -> 167 | X99: ='R6（長野）2024'!$E62 -> 167
A100: 55000 | B100: 425 | C100: 木祖村 | D100: ='16（長野）2004'!E77 -> 111 | E100: ='17（長野）2005'!E64 -> 111 | F100: ='18（長野）2006'!$E64 -> 110 | G100: ='19（長野）2007'!$E64 -> 108 | H100: ='20（長野）2008'!$E64 -> 108 | I100: ='21（長野）2009'!E63 -> 108 | J100: ='22（長野）2010'!$E63 -> 107 | K100: ='23（長野）2011'!$E63 -> 107 | L100: ='24（長野）2012'!$E63 -> 102 | M100: ='25（長野）2013'!$E63 -> 99 | N100: ='26（長野）2014'!$E63 -> 93 | O100: ='27（長野）2015'!$E63 -> 92 | P100: ='28（長野）2016'!$E63 -> 91 | Q100: ='29（長野）2017'!$E63 -> 89 | R100: ='30（長野）2018'!$E63 -> 87 | S100: ='R1（長野）2019'!$E63 -> 85 | T100: ='R2（長野）2020'!$E63 -> 82 | U100: ='R3（長野）2021'!$E63 -> 81 | V100: ='R4（長野）2022'!$E63 -> 79 | W100: ='R5（長野）2023'!$E63 -> 78 | X100: ='R6（長野）2024'!$E63 -> 71
...

Sheet グラフ田  (長野)2010～
A1: グラフデータの市町村選択は87行目
C2: 1 | D2: 2 | E2: 3 | F2: 4 | G2: 5 | H2: 6 | I2: 7 | J2: 8 | K2: 9 | L2: 10 | M2: 11 | N2: 12 | O2: 13 | P2: 14 | Q2: 15 | R2: 16
A3: データ田 | D3: 2010 | E3: 2011 | F3: 2012 | G3: 2013 | H3: 2014 | I3: 2015 | J3: 2016 | K3: 2017 | L3: 2018 | M3: 2019 | N3: 2020 | O3: 2021 | P3: 2022 | Q3: 2023 | R3: 2024
A4: 1000 | B4: 201 | C4: 長野市 | D4: 2520 | E4: 2500 | F4: 2480 | G4: 2450 | H4: 2410 | I4: 2360 | J4: 2320 | K4: 2300 | L4: 2280 | M4: 2270 | N4: 2260 | O4: 2240 | P4: 2240 | Q4: 2200 | R4: 2160
A5: 2000 | B5: 202 | C5: 松本市 | D5: 4930 | E5: 4930 | F5: 4910 | G5: 4880 | H5: 4860 | I5: 4830 | J5: 4770 | K5: 4710 | L5: 4650 | M5: 4590 | N5: 4530 | O5: 4500 | P5: 4480 | Q5: 4460 | R5: 4440
A6: 3000 | B6: 203 | C6: 上田市 | D6: 2980 | E6: 2970 | F6: 2960 | G6: 2930 | H6: 2910 | I6: 2880 | J6: 2850 | K6: 2830 | L6: 2820 | M6: 2810 | N6: 2820 | O6: 2820 | P6: 2800 | Q6: 2780 | R6: 2760
A7: 4000 | B7: 204 | C7: 岡谷市 | D7: 85 | E7: 85 | F7: 83 | G7: 83 | H7: 82 | I7: 81 | J7: 80 | K7: 80 | L7: 79 | M7: 78 | N7: 76 | O7: 74 | P7: 74 | Q7: 75 | R7: 73
A8: 5000 | B8: 205 | C8: 飯田市 | D8: 1100 | E8: 1090 | F8: 1070 | G8: 1060 | H8: 1050 | I8: 1040 | J8: 1030 | K8: 1020 | L8: 1020 | M8: 1010 | N8: 1010 | O8: 1000 | P8: 1000 | Q8: 996 | R8: 962
A9: 6000 | B9: 206 | C9: 諏訪市 | D9: 432 | E9: 432 | F9: 429 | G9: 427 | H9: 421 | I9: 419 | J9: 418 | K9: 416 | L9: 411 | M9: 405 | N9: 402 | O9: 398 | P9: 394 | Q9: 395 | R9: 400
A10: 7000 | B10: 207 | C10: 須坂市 | D10: 279 | E10: 279 | F10: 278 | G10: 275 | H10: 272 | I10: 269 | J10: 267 | K10: 265 | L10: 266 | M10: 264 | N10: 264 | O10: 227 | P10: 227 | Q10: 224 | R10: 223
A11: 8000 | B11: 208 | C11: 小諸市 | D11: 1090 | E11: 1080 | F11: 1080 | G11: 1080 | H11: 1070 | I11: 1060 | J11: 1050 | K11: 1040 | L11: 1040 | M11: 1030 | N11: 1010 | O11: 1010 | P11: 1010 | Q11: 1000 | R11: 997
A12: 9000 | B12: 209 | C12: 伊那市 | D12: 3470 | E12: 3470 | F12: 3460 | G12: 3440 | H12: 3430 | I12: 3410 | J12: 3400 | K12: 3390 | L12: 3380 | M12: 3370 | N12: 3360 | O12: 3360 | P12: 3360 | Q12: 3350 | R12: 3350
A13: 10000 | B13: 210 | C13: 駒ヶ根市 | D13: 1420 | E13: 1420 | F13: 1410 | G13: 1410 | H13: 1410 | I13: 1400 | J13: 1390 | K13: 1390 | L13: 1380 | M13: 1380 | N13: 1370 | O13: 1370 | P13: 1370 | Q13: 1360 | R13: 1360
A14: 11000 | B14: 211 | C14: 中野市 | D14: 622 | E14: 619 | F14: 619 | G14: 613 | H14: 607 | I14: 604 | J14: 598 | K14: 595 | L14: 599 | M14: 596 | N14: 596 | O14: 596 | P14: 596 | Q14: 581 | R14: 571
A15: 12000 | B15: 212 | C15: 大町市 | D15: 2240 | E15: 2240 | F15: 2240 | G15: 2230 | H15: 2230 | I15: 2210 | J15: 2180 | K15: 2160 | L15: 2130 | M15: 2100 | N15: 2070 | O15: 2070 | P15: 2060 | Q15: 2050 | R15: 2040
... A80: 77000 | B80: 602 | C80: 栄村 | D80: 358 | E80: 298 | F80: 356 | G80: 357 | H80: 357 | I80: 357 | J80: 356 | K80: 355 | L80: 354 | M80: 355 | N80: 350 | O80: 347 | P80: 340 | Q80: 331 | R80: 321
C81: 長野県 | D81: 55400 | E81: 55200 | F81: 55000 | G81: 54700 | H81: 54500 | I81: 54000 | J81: 53500 | K81: 53100 | L81: 52800 | M81: 52400 | N81: 51900 | O81: 51700 | P81: 51500 | Q81: 51100 | R81: 50700
C85: グラフデータ選択表
D86: =D3 -> 2010 | E86: =E3 -> 2011 | F86: =F3 -> 2012 | G86: =G3 -> 2013 | H86: =H3 -> 2014 | I86: =I3 -> 2015 | J86: =J3 -> 2016 | K86: =K3 -> 2017 | ... R86: =R3 -> 2024
A87: 市町村選択タブ→ | C87: 中野市 | D87: =VLOOKUP($C$87,$C$3:$R$81,D$2,FALSE) -> 622 | E87: =VLOOKUP($C$87,$C$3:$R$81,E$2,FALSE) -> 619 | F87: =VLOOKUP($C$87,$C$3:$R$81,F$2,FALSE) -> 619 | G87: =VLOOKUP($C$87,$C$3:$R$81,G$2,FALSE) -> 613 | H87: =VLOOKUP($C$87,$C$3:$R$81,H$2,FALSE) -> 607 | I87: =VLOOKUP($C$87,$C$3:$R$81,I$2,FALSE) -> 604 | J87: =VLOOKUP($C$87,$C$3:$R$81,J$2,FALSE) -> 598 | K87: =VLOOKUP($C$87,$C$3:$R$81,K$2,FALSE) -> 595 | ... R87: =VLOOKUP($C$87,$C$3:$R$81,R$2,FALSE) -> 571

Sheet データ畑（長野）2040～ 
A1: データ畑 | D1: 2004 | E1: 2005 | F1: 2006 | G1: 2007 | H1: 2008 | I1: 2009 | J1: 2010 | K1: 2011 | L1: 2012 | M1: 2013 | N1: 2014 | O1: 2015 | P1: 2016 | Q1: 2017 | R1: 2018 | S1: 2019 | T1: 2020 | U1: 2021 | V1: 2022 | W1: 2023 | X1: 2024
J2: 55800 | K2: 55800 | L2: 55800 | M2: 55700 | N2: 55500 | O2: 54900 | P2: 54500 | Q2: 54200 | R2: 54000 | S2: 53700 | T2: 53400 | U2: 53400 | V2: 53300 | W2: 53300 | X2: 50700
D3: =SUM(D4:D131) -> 56220 | E3: =SUM(E4:E131) -> 55906 | F3: =SUM(F4:F131) -> 55761 | G3: =SUM(G4:G131) -> 55512 | H3: =SUM(H4:H131) -> 55547 | I3: =SUM(I4:I131) -> 55711 | J3: =SUM(J4:J131) -> 55844 | K3: =SUM(K4:K131) -> 55786 | ... X3: =SUM(X4:X131) -> 53106
A4: 1000 | B4: 201 | C4: 長野市 | J4: ='22（長野）2010'!$G9 -> 6270 | K4: ='23（長野）2011'!$G9 -> 6250 | L4: ='24（長野）2012'!$G9 -> 6230 | M4: ='25（長野）2013'!$G9 -> 6210 | N4: ='26（長野）2014'!$G9 -> 6170 | O4: ='27（長野）2015'!$G9 -> 5990 | P4: ='28（長野）2016'!$G9 -> 5910 | Q4: ='29（長野）2017'!$G9 -> 5860 | R4: ='30（長野）2018'!$G9 -> 5840 | S4: ='R1（長野）2019'!$G9 -> 5830 | T4: ='R2（長野）2020'!$G9 -> 5750 | U4: ='R3（長野）2021'!$G9 -> 5740 | V4: ='R4（長野）2022'!$G9 -> 5740 | W4: ='R5（長野）2023'!$G9 -> 5740 | X4: ='R6（長野）2024'!$G9 -> 5710
B5: 201 | C5: 長野市 | D5: ='16（長野）2004'!G9 -> 5630 | E5: ='17（長野）2005'!G9 -> 5610 | F5: ='18（長野）2006'!$G9 -> 5610 | G5: ='19（長野）2007'!$G9 -> 5600 | H5: ='20（長野）2008'!$G9 -> 5570 | I5: ='21（長野）2009'!$G9 -> 5570
B6: 581 | C6: 信州新町 | D6: ='16（長野）2004'!G112 -> 476 | E6: ='17（長野）2005'!G84 -> 474 | F6: ='18（長野）2006'!$G84 -> 472 | G6: ='19（長野）2007'!$G84 -> 471 | H6: ='20（長野）2008'!$G84 -> 461 | I6: ='21（長野）2009'!G83 -> 461
B7: 589 | C7: 中条村 | D7: ='16（長野）2004'!G117 -> 271 | E7: ='17（長野）2005'!G87 -> 268 | F7: ='18（長野）2006'!$G87 -> 266 | G7: ='19（長野）2007'!$G87 -> 263 | H7: ='20（長野）2008'!$G87 -> 257 | I7: ='21（長野）2009'!G86 -> 257
A8: 2000 | B8: 202 | C8: 松本市 | J8: ='22（長野）2010'!$G10 -> 2860 | K8: ='23（長野）2011'!$G10 -> 2860 | L8: ='24（長野）2012'!$G10 -> 2850 | M8: ='25（長野）2013'!$G10 -> 2780 | N8: ='26（長野）2014'!$G10 -> 2740 | O8: ='27（長野）2015'!$G10 -> 2710 | P8: ='28（長野）2016'!$G10 -> 2690 | Q8: ='29（長野）2017'!$G10 -> 2680 | R8: ='30（長野）2018'!$G10 -> 2680 | S8: ='R1（長野）2019'!$G10 -> 2680 | T8: ='R2（長野）2020'!$G10 -> 2670 | U8: ='R3（長野）2021'!$G10 -> 2680 | V8: ='R4（長野）2022'!$G10 -> 2680 | W8: ='R5（長野）2023'!$G10 -> 2680 | X8: ='R6（長野）2024'!$G10 -> 2680
B9: 202 | C9: 松本市
B10: 202 | C10: 松本市 | D10: ='16（長野）2004'!G10 -> 1560 | E10: ='17（長野）2005'!G10 -> 2430 | F10: ='18（長野）2006'!G10 -> 2410 | G10: ='19（長野）2007'!G10 -> 2410 | H10: ='20（長野）2008'!G10 -> 2410 | I10: ='21（長野）2009'!G10 -> 2410
B11: 443 | C11: 四賀村 | D11: ='16（長野）2004'!G84 -> 259
B12: 449 | C12: 波田町 | D12: ='16（長野）2004'!G90 -> 450 | E12: ='17（長野）2005'!G70 -> 448 | F12: ='18（長野）2006'!$G70 -> 445 | G12: ='19（長野）2007'!$G70 -> 445 | H12: ='20（長野）2008'!$G70 -> 445 | I12: ='21（長野）2009'!G69 -> 445
B13: 463 | C13: 奈川村 | D13: ='16（長野）2004'!G95 -> 83
B14: 464 | C14: 安曇村 | D14: ='16（長野）2004'!G96 -> 33
B15: 465 | C15: 梓川村 | D15: ='16（長野）2004'!G97 -> 504
A16: 3000 | B16: 203 | C16: 上田市 | E16: ='17（長野）2005'!G11 -> 2620 | F16: ='18（長野）2006'!$G11 -> 2590 | G16: ='19（長野）2007'!$G11 -> 2570 | H16: ='20（長野）2008'!$G11 -> 2560 | I16: ='21（長野）2009'!$G11 -> 2570 | J16: ='22（長野）2010'!$G11 -> 2560 | K16: ='23（長野）2011'!$G11 -> 2560 | L16: ='24（長野）2012'!$G11 -> 2570 | M16: ='25（長野）2013'!$G11 -> 2580 | N16: ='26（長野）2014'!$G11 -> 2560 | O16: ='27（長野）2015'!$G11 -> 2520 | P16: ='28（長野）2016'!$G11 -> 2470 | Q16: ='29（長野）2017'!$G11 -> 2460 | R16: ='30（長野）2018'!$G11 -> 2410 | S16: ='R1（長野）2019'!$G11 -> 2400 | T16: ='R2（長野）2020'!$G11 -> 2410 | U16: ='R3（長野）2021'!$G11 -> 2420 | V16: ='R4（長野）2022'!$G11 -> 2400 | W16: ='R5（長野）2023'!$G11 -> 2410 | X16: ='R6（長野）2024'!$G11 -> 2410
B17: 203 | C17: 上田市 | D17: ='16（長野）2004'!G11 -> 1240
B18: 341 | C18: 丸子町 | D18: ='16（長野）2004'!G39 -> 310
B19: 345 | C19: 真田町 | D19: ='16（長野）2004'!G41 -> 946
B20: 346 | C20: 武石村 | D20: ='16（長野）2004'!G42 -> 146
A21: 4000 | B21: 204 | C21: 岡谷市 | D21: ='16（長野）2004'!G12 -> 162 | E21: ='17（長野）2005'!G12 -> 157 | F21: ='18（長野）2006'!$G12 -> 157 | G21: ='19（長野）2007'!$G12 -> 155 | H21: ='20（長野）2008'!$G12 -> 156 | I21: ='21（長野）2009'!$G12 -> 157 | J21: ='22（長野）2010'!$G12 -> 159 | K21: ='23（長野）2011'!$G12 -> 159 | L21: ='24（長野）2012'!$G12 -> 158 | M21: ='25（長野）2013'!$G12 -> 156 | N21: ='26（長野）2014'!$G12 -> 155 | O21: ='27（長野）2015'!$G12 -> 153 | P21: ='28（長野）2016'!$G12 -> 152 | Q21: ='29（長野）2017'!$G12 -> 150 | R21: ='30（長野）2018'!$G12 -> 148 | S21: ='R1（長野）2019'!$G12 -> 146 | T21: ='R2（長野）2020'!$G12 -> 144 | U21: ='R3（長野）2021'!$G12 -> 141 | V21: ='R4（長野）2022'!$G12 -> 137 | W21: ='R5（長野）2023'!$G12 -> 138 | X21: ='R6（長野）2024'!$G12 -> 134
A22: 5000 | B22: 205 | C22: 飯田市 | E22: ='17（長野）2005'!G13 -> 1990 | F22: ='18（長野）2006'!$G13 -> 1980 | G22: ='19（長野）2007'!$G13 -> 1960 | H22: ='20（長野）2008'!$G13 -> 1970 | I22: ='21（長野）2009'!$G13 -> 1970 | J22: ='22（長野）2010'!$G13 -> 1980 | K22: ='23（長野）2011'!$G13 -> 1970 | L22: ='24（長野）2012'!$G13 -> 1970 | M22: ='25（長野）2013'!$G13 -> 1980 | N22: ='26（長野）2014'!$G13 -> 1990 | O22: ='27（長野）2015'!$G13 -> 1990 | P22: ='28（長野）2016'!$G13 -> 1980 | Q22: ='29（長野）2017'!$G13 -> 1970 | R22: ='30（長野）2018'!$G13 -> 1960 | S22: ='R1（長野）2019'!$G13 -> 1940 | T22: ='R2（長野）2020'!$G13 -> 1930 | U22: ='R3（長野）2021'!$G13 -> 1920 | V22: ='R4（長野）2022'!$G13 -> 1920 | W22: ='R5（長野）2023'!$G13 -> 1910 | X22: ='R6（長野）2024'!$G13 -> 1880
B23: 205 | C23: 飯田市 | D23: ='16（長野）2004'!G13 -> 1880
B24: 418 | C24: 上村 | D24: ='16（長野）2004'!G71 -> 34
B25: 419 | C25: 南信濃村 | D25: ='16（長野）2004'!G72 -> 93
A26: 6000 | B26: 206 | C26: 諏訪市 | D26: ='16（長野）2004'!G14 -> 226 | E26: ='17（長野）2005'!G14 -> 225 | F26: ='18（長野）2006'!$G14 -> 228 | G26: ='19（長野）2007'!$G14 -> 230 | H26: ='20（長野）2008'!$G14 -> 233 | I26: ='21（長野）2009'!$G14 -> 234 | J26: ='22（長野）2010'!$G14 -> 236 | K26: ='23（長野）2011'!$G14 -> 236 | L26: ='24（長野）2012'!$G14 -> 235 | M26: ='25（長野）2013'!$G14 -> 232 | N26: ='26（長野）2014'!$G14 -> 230 | O26: ='27（長野）2015'!$G14 -> 227 | P26: ='28（長野）2016'!$G14 -> 224 | Q26: ='29（長野）2017'!$G14 -> 221 | R26: ='30（長野）2018'!$G14 -> 219 | S26: ='R1（長野）2019'!$G14 -> 216 | T26: ='R2（長野）2020'!$G14 -> 213 | U26: ='R3（長野）2021'!$G14 -> 211 | V26: ='R4（長野）2022'!$G14 -> 208 | W26: ='R5（長野）2023'!$G14 -> 208 | X26: ='R6（長野）2024'!$G14 -> 208
A27: 7000 | B27: 207 | C27: 須坂市 | D27: ='16（長野）2004'!G15 -> 1570 | E27: ='17（長野）2005'!G15 -> 1560 | F27: ='18（長野）2006'!$G15 -> 1560 | G27: ='19（長野）2007'!$G15 -> 1560 | H27: ='20（長野）2008'!$G15 -> 1550 | I27: ='21（長野）2009'!$G15 -> 1550 | J27: ='22（長野）2010'!$G15 -> 1540 | K27: ='23（長野）2011'!$G15 -> 1540 | L27: ='24（長野）2012'!$G15 -> 1530 | M27: ='25（長野）2013'!$G15 -> 1530 | N27: ='26（長野）2014'!$G15 -> 1510 | O27: ='27（長野）2015'!$G15 -> 1500 | P27: ='28（長野）2016'!$G15 -> 1480 | Q27: ='29（長野）2017'!$G15 -> 1470 | R27: ='30（長野）2018'!$G15 -> 1480 | S27: ='R1（長野）2019'!$G15 -> 1490 | T27: ='R2（長野）2020'!$G15 -> 1490 | U27: ='R3（長野）2021'!$G15 -> 1480 | V27: ='R4（長野）2022'!$G15 -> 1480 | W27: ='R5（長野）2023'!$G15 -> 1480 | X27: ='R6（長野）2024'!$G15 -> 1480
A28: 8000 | B28: 208 | C28: 小諸市 | D28: ='16（長野）2004'!G16 -> 1730 | E28: ='17（長野）2005'!G16 -> 1720 | F28: ='18（長野）2006'!$G16 -> 1700 | G28: ='19（長野）2007'!$G16 -> 1700 | H28: ='20（長野）2008'!$G16 -> 1700 | I28: ='21（長野）2009'!$G16 -> 1700 | J28: ='22（長野）2010'!$G16 -> 1710 | K28: ='23（長野）2011'!$G16 -> 1730 | L28: ='24（長野）2012'!$G16 -> 1740 | M28: ='25（長野）2013'!$G16 -> 1750 | N28: ='26（長野）2014'!$G16 -> 1730 | O28: ='27（長野）2015'!$G16 -> 1710 | P28: ='28（長野）2016'!$G16 -> 1700 | Q28: ='29（長野）2017'!$G16 -> 1700 | R28: ='30（長野）2018'!$G16 -> 1680 | S28: ='R1（長野）2019'!$G16 -> 1650 | T28: ='R2（長野）2020'!$G16 -> 1610 | U28: ='R3（長野）2021'!$G16 -> 1610 | V28: ='R4（長野）2022'!$G16 -> 1590 | W28: ='R5（長野）2023'!$G16 -> 1570 | X28: ='R6（長野）2024'!$G16 -> 1580
A29: 9000 | B29: 209 | C29: 伊那市 | E29: ='17（長野）2005'!G17 -> 1720 | F29: ='18（長野）2006'!$G17 -> 1720 | G29: ='19（長野）2007'!$G17 -> 1710 | H29: ='20（長野）2008'!$G17 -> 1720 | I29: ='21（長野）2009'!$G17 -> 1720 | J29: ='22（長野）2010'!$G17 -> 1730 | K29: ='23（長野）2011'!$G17 -> 1730 | L29: ='24（長野）2012'!$G17 -> 1750 | M29: ='25（長野）2013'!$G17 -> 1770 | N29: ='26（長野）2014'!$G17 -> 1790 | O29: ='27（長野）2015'!$G17 -> 1790 | P29: ='28（長野）2016'!$G17 -> 1790 | Q29: ='29（長野）2017'!$G17 -> 1790 | R29: ='30（長野）2018'!$G17 -> 1780 | S29: ='R1（長野）2019'!$G17 -> 1770 | T29: ='R2（長野）2020'!$G17 -> 1760 | U29: ='R3（長野）2021'!$G17 -> 1750 | V29: ='R4（長野）2022'!$G17 -> 1750 | W29: ='R5（長野）2023'!$G17 -> 1740 | X29: ='R6（長野）2024'!$G17 -> 1740
B30: 209 | C30: 伊那市 | D30: ='16（長野）2004'!G17 -> 1490
B31: 381 | C31: 高遠町 | D31: ='16（長野）2004'!G48 -> 185
B32: 387 | C32: 長谷村 | D32: ='16（長野）2004'!G54 -> 61
A33: 10000 | B33: 210 | C33: 駒ヶ根市 | D33: ='16（長野）2004'!G18 -> 475 | E33: ='17（長野）2005'!G18 -> 472 | F33: ='18（長野）2006'!$G18 -> 471 | G33: ='19（長野）2007'!$G18 -> 466 | H33: ='20（長野）2008'!$G18 -> 468 | I33: ='21（長野）2009'!$G18 -> 465 | J33: ='22（長野）2010'!$G18 -> 473 | K33: ='23（長野）2011'!$G18 -> 474 | L33: ='24（長野）2012'!$G18 -> 478 | M33: ='25（長野）2013'!$G18 -> 479 | N33: ='26（長野）2014'!$G18 -> 479 | O33: ='27（長野）2015'!$G18 -> 478 | P33: ='28（長野）2016'!$G18 -> 476 | Q33: ='29（長野）2017'!$G18 -> 472 | R33: ='30（長野）2018'!$G18 -> 464 | S33: ='R1（長野）2019'!$G18 -> 456 | T33: ='R2（長野）2020'!$G18 -> 452 | U33: ='R3（長野）2021'!$G18 -> 450 | V33: ='R4（長野）2022'!$G18 -> 448 | W33: ='R5（長野）2023'!$G18 -> 446 | X33: ='R6（長野）2024'!$G18 -> 444
A34: 11000 | B34: 211 | C34: 中野市 | E34: ='17（長野）2005'!G19 -> 2500 | F34: ='18（長野）2006'!$G19 -> 2500 | G34: ='19（長野）2007'!$G19 -> 2460 | H34: ='20（長野）2008'!$G19 -> 2460 | I34: ='21（長野）2009'!$G19 -> 2460 | J34: ='22（長野）2010'!$G19 -> 2460 | K34: ='23（長野）2011'!$G19 -> 2450 | L34: ='24（長野）2012'!$G19 -> 2440 | M34: ='25（長野）2013'!$G19 -> 2440 | N34: ='26（長野）2014'!$G19 -> 2420 | O34: ='27（長野）2015'!$G19 -> 2400 | P34: ='28（長野）2016'!$G19 -> 2390 | Q34: ='29（長野）2017'!$G19 -> 2380 | R34: ='30（長野）2018'!$G19 -> 2370 | S34: ='R1（長野）2019'!$G19 -> 2360 | T34: ='R2（長野）2020'!$G19 -> 2350 | U34: ='R3（長野）2021'!$G19 -> 2360 | V34: ='R4（長野）2022'!$G19 -> 2360 | W34: ='R5（長野）2023'!$G19 -> 2310 | X34: ='R6（長野）2024'!$G19 -> 2310
B35: 211 | C35: 中野市 | D35: ='16（長野）2004'!G19 -> 2090
B36: 601 | C36: 豊田村 | D36: ='16（長野）2004'!G118 -> 417
A37: 12000 | B37: 212 | C37: 大町市 | E37: ='17（長野）2005'!G20 -> 370 | F37: ='18（長野）2006'!$G20 -> 368 | G37: ='19（長野）2007'!$G20 -> 360 | H37: ='20（長野）2008'!$G20 -> 360 | I37: ='21（長野）2009'!$G20 -> 361 | J37: ='22（長野）2010'!$G20 -> 360 | K37: ='23（長野）2011'!$G20 -> 358 | L37: ='24（長野）2012'!$G20 -> 357 | M37: ='25（長野）2013'!$G20 -> 358 | N37: ='26（長野）2014'!$G20 -> 358 | O37: ='27（長野）2015'!$G20 -> 358 | P37: ='28（長野）2016'!$G20 -> 355 | Q37: ='29（長野）2017'!$G20 -> 357 | R37: ='30（長野）2018'!$G20 -> 354 | S37: ='R1（長野）2019'!$G20 -> 354 | T37: ='R2（長野）2020'!$G20 -> 353 | U37: ='R3（長野）2021'!$G20 -> 353 | V37: ='R4（長野）2022'!$G20 -> 350 | W37: ='R5（長野）2023'!$G20 -> 354 | X37: ='R6（長野）2024'!$G20 -> 357
B38: 212 | C38: 大町市 | D38: ='16（長野）2004'!G20 -> 234
B39: 483 | C39: 八坂村 | D39: ='16（長野）2004'!G102 -> 87
B40: 484 | C40: 美麻村 | D40: ='16（長野）2004'!G103 -> 51
A41: 13000 | B41: 213 | C41: 飯山市 | D41: ='16（長野）2004'!G21 -> 1660 | E41: ='17（長野）2005'!G21 -> 1640 | F41: ='18（長野）2006'!$G21 -> 1630 | G41: ='19（長野）2007'!$G21 -> 1600 | H41: ='20（長野）2008'!$G21 -> 1600 | I41: ='21（長野）2009'!$G21 -> 1600 | J41: ='22（長野）2010'!$G21 -> 1600 | K41: ='23（長野）2011'!$G21 -> 1590 | L41: ='24（長野）2012'!$G21 -> 1570 | M41: ='25（長野）2013'!$G21 -> 1570 | N41: ='26（長野）2014'!$G21 -> 1560 | O41: ='27（長野）2015'!$G21 -> 1550 | P41: ='28（長野）2016'!$G21 -> 1540 | Q41: ='29（長野）2017'!$G21 -> 1520 | R41: ='30（長野）2018'!$G21 -> 1510 | S41: ='R1（長野）2019'!$G21 -> 1500 | T41: ='R2（長野）2020'!$G21 -> 1500 | U41: ='R3（長野）2021'!$G21 -> 1490 | V41: ='R4（長野）2022'!$G21 -> 1490 | W41: ='R5（長野）2023'!$G21 -> 1490 | X41: ='R6（長野）2024'!$G21 -> 1470
A42: 14000 | B42: 214 | C42: 茅野市 | D42: ='16（長野）2004'!G22 -> 1030 | E42: ='17（長野）2005'!G22 -> 1020 | F42: ='18（長野）2006'!$G22 -> 1040 | G42: ='19（長野）2007'!$G22 -> 1050 | H42: ='20（長野）2008'!$G22 -> 1070 | I42: ='21（長野）2009'!$G22 -> 1070 | J42: ='22（長野）2010'!$G22 -> 1080 | K42: ='23（長野）2011'!$G22 -> 1080 | L42: ='24（長野）2012'!$G22 -> 1070 | M42: ='25（長野）2013'!$G22 -> 1070 | N42: ='26（長野）2014'!$G22 -> 1070 | O42: ='27（長野）2015'!$G22 -> 1060 | P42: ='28（長野）2016'!$G22 -> 1060 | Q42: ='29（長野）2017'!$G22 -> 1050 | R42: ='30（長野）2018'!$G22 -> 1040 | S42: ='R1（長野）2019'!$G22 -> 1010 | T42: ='R2（長野）2020'!$G22 -> 985 | U42: ='R3（長野）2021'!$G22 -> 987 | V42: ='R4（長野）2022'!$G22 -> 984 | W42: ='R5（長野）2023'!$G22 -> 981 | X42: ='R6（長野）2024'!$G22 -> 980
A43: 15000 | B43: 215 | C43: 塩尻市 | E43: ='17（長野）2005'!G23 -> 1950 | F43: ='18（長野）2006'!$G23 -> 1950 | G43: ='19（長野）2007'!$G23 -> 1950 | H43: ='20（長野）2008'!$G23 -> 1950 | I43: ='21（長野）2009'!$G23 -> 1960 | J43: ='22（長野）2010'!$G23 -> 1960 | K43: ='23（長野）2011'!$G23 -> 1950 | L43: ='24（長野）2012'!$G23 -> 1960 | M43: ='25（長野）2013'!$G23 -> 1960 | N43: ='26（長野）2014'!$G23 -> 1960 | O43: ='27（長野）2015'!$G23 -> 1960 | P43: ='28（長野）2016'!$G23 -> 1950 | Q43: ='29（長野）2017'!$G23 -> 1950 | R43: ='30（長野）2018'!$G23 -> 1950 | S43: ='R1（長野）2019'!$G23 -> 1950 | T43: ='R2（長野）2020'!$G23 -> 1950 | U43: ='R3（長野）2021'!$G23 -> 1950 | V43: ='R4（長野）2022'!$G23 -> 1960 | W43: ='R5（長野）2023'!$G23 -> 1960 | X43: ='R6（長野）2024'!$G23 -> 1970
B44: 215 | C44: 塩尻市 | D44: ='16（長野）2004'!G23 -> 1940
B45: 424 | C45: 楢川村 | D45: ='16（長野）2004'!G76 -> 16
A46: 16000 | B46: 217 | C46: 佐久市 | E46: ='17（長野）2005'!G24 -> 2760 | F46: ='18（長野）2006'!$G24 -> 2740 | G46: ='19（長野）2007'!$G24 -> 2720 | H46: ='20（長野）2008'!$G24 -> 2710 | I46: ='21（長野）2009'!$G24 -> 2710 | J46: ='22（長野）2010'!$G24 -> 2710 | K46: ='23（長野）2011'!$G24 -> 2700 | L46: ='24（長野）2012'!$G24 -> 2730 | M46: ='25（長野）2013'!$G24 -> 2660 | N46: ='26（長野）2014'!$G24 -> 2640 | O46: ='27（長野）2015'!$G24 -> 2620 | P46: ='28（長野）2016'!$G24 -> 2600 | Q46: ='29（長野）2017'!$G24 -> 2580 | R46: ='30（長野）2018'!$G24 -> 2570 | S46: ='R1（長野）2019'!$G24 -> 2540 | T46: ='R2（長野）2020'!$G24 -> 2500 | U46: ='R3（長野）2021'!$G24 -> 2500 | V46: ='R4（長野）2022'!$G24 -> 2470 | W46: ='R5（長野）2023'!$G24 -> 2440 | X46: ='R6（長野）2024'!$G24 -> 2430
B47: 217 | C47: 佐久市 | D47: ='16（長野）2004'!G24 -> 1260
B48: 301 | C48: 臼田町 | D48: ='16（長野）2004'!G27 -> 322
B49: 322 | C49: 望月町 | D49: ='16（長野）2004'!G35 -> 1000
B50: 325 | C50: 浅科村 | D50: ='16（長野）2004'!G38 -> 186
A51: 17000 | B51: 218 | C51: 千曲市 | D51: ='16（長野）2004'!G25 -> 793 | E51: ='17（長野）2005'!G25 -> 785 | F51: ='18（長野）2006'!$G25 -> 784 | G51: ='19（長野）2007'!$G25 -> 782 | H51: ='20（長野）2008'!$G25 -> 778 | I51: ='21（長野）2009'!$G25 -> 774 | J51: ='22（長野）2010'!$G25 -> 773 | K51: ='23（長野）2011'!$G25 -> 770 | L51: ='24（長野）2012'!$G25 -> 765 | M51: ='25（長野）2013'!$G25 -> 759 | N51: ='26（長野）2014'!$G25 -> 750 | O51: ='27（長野）2015'!$G25 -> 736 | P51: ='28（長野）2016'!$G25 -> 731 | Q51: ='29（長野）2017'!$G25 -> 724 | R51: ='30（長野）2018'!$G25 -> 727 | S51: ='R1（長野）2019'!$G25 -> 718 | T51: ='R2（長野）2020'!$G25 -> 718 | U51: ='R3（長野）2021'!$G25 -> 718 | V51: ='R4（長野）2022'!$G25 -> 728 | W51: ='R5（長野）2023'!$G25 -> 720 | X51: ='R6（長野）2024'!$G25 -> 725
A52: 18000 | B52: 219 | C52: 東御市 | D52: ='16（長野）2004'!G26 -> 1340 | E52: ='17（長野）2005'!G26 -> 1330 | F52: ='18（長野）2006'!$G26 -> 1310 | G52: ='19（長野）2007'!$G26 -> 1300 | H52: ='20（長野）2008'!$G26 -> 1300 | I52: ='21（長野）2009'!$G26 -> 1300 | J52: ='22（長野）2010'!$G26 -> 1300 | K52: ='23（長野）2011'!$G26 -> 1300 | L52: ='24（長野）2012'!$G26 -> 1300 | M52: ='25（長野）2013'!$G26 -> 1290 | N52: ='26（長野）2014'!$G26 -> 1300 | O52: ='27（長野）2015'!$G26 -> 1280 | P52: ='28（長野）2016'!$G26 -> 1270 | Q52: ='29（長野）2017'!$G26 -> 1260 | R52: ='30（長野）2018'!$G26 -> 1230 | S52: ='R1（長野）2019'!$G26 -> 1260 | T52: ='R2（長野）2020'!$G26 -> 1260 | U52: ='R3（長野）2021'!$G26 -> 1270 | V52: ='R4（長野）2022'!$G26 -> 1260 | W52: ='R5（長野）2023'!$G26 -> 1270 | X52: ='R6（長野）2024'!$G26 -> 1270
A53: 19000 | B53: 220 | C53: 安曇野市 | E53: ='17（長野）2005'!G27 -> 1520 | F53: ='18（長野）2006'!G$27 -> 1520 | G53: ='19（長野）2007'!G$27 -> 1500 | H53: ='20（長野）2008'!G$27 -> 1520 | I53: ='21（長野）2009'!G$27 -> 1530 | J53: ='22（長野）2010'!$G27 -> 1520 | K53: ='23（長野）2011'!$G27 -> 1520 | L53: ='24（長野）2012'!$G27 -> 1520 | M53: ='25（長野）2013'!$G27 -> 1510 | N53: ='26（長野）2014'!$G27 -> 1510 | O53: ='27（長野）2015'!$G27 -> 1490 | P53: ='28（長野）2016'!$G27 -> 1480 | Q53: ='29（長野）2017'!$G27 -> 1480 | R53: ='30（長野）2018'!$G27 -> 1490 | S53: ='R1（長野）2019'!$G27 -> 1490 | T53: ='R2（長野）2020'!$G27 -> 1490 | U53: ='R3（長野）2021'!$G27 -> 1490 | V53: ='R4（長野）2022'!$G27 -> 1490 | W53: ='R5（長野）2023'!$G27 -> 1500 | X53: ='R6（長野）2024'!$G27 -> 1510
B54: 441 | C54: 明科町 | D54: ='16（長野）2004'!G83 -> 146
B55: 461 | C55: 豊科町 | D55: ='16（長野）2004'!G93 -> 75
B56: 462 | C56: 穂高町 | D56: ='16（長野）2004'!G94 -> 298
B57: 466 | C57: 三郷村 | D57: ='16（長野）2004'!G98 -> 850
B58: 467 | C58: 堀金村 | D58: ='16（長野）2004'!G99 -> 156
A59: 20000 | B59: 303 | C59: 小海町 | D59: ='16（長野）2004'!G28 -> 759 | E59: ='17（長野）2005'!G28 -> 757 | F59: ='18（長野）2006'!G$28 -> 756 | G59: ='19（長野）2007'!G$28 -> 756 | H59: ='20（長野）2008'!G$28 -> 759 | I59: ='21（長野）2009'!G$28 -> 760 | J59: ='22（長野）2010'!$G28 -> 760 | K59: ='23（長野）2011'!$G28 -> 759 | L59: ='24（長野）2012'!$G28 -> 758 | M59: ='25（長野）2013'!$G28 -> 743 | N59: ='26（長野）2014'!$G28 -> 741 | O59: ='27（長野）2015'!$G28 -> 735 | P59: ='28（長野）2016'!$G28 -> 730 | Q59: ='29（長野）2017'!$G28 -> 727 | R59: ='30（長野）2018'!$G28 -> 724 | S59: ='R1（長野）2019'!$G28 -> 724 | T59: ='R2（長野）2020'!$G28 -> 724 | U59: ='R3（長野）2021'!$G28 -> 719 | V59: ='R4（長野）2022'!$G28 -> 715 | W59: ='R5（長野）2023'!$G28 -> 716 | X59: ='R6（長野）2024'!$G28 -> 714
A60: 21000 | B60: 304 | C60: 川上村 | D60: ='16（長野）2004'!G29 -> 1820 | E60: ='17（長野）2005'!G29 -> 1800 | F60: ='18（長野）2006'!$G29 -> 1800 | G60: ='19（長野）2007'!$G29 -> 1800 | H60: ='20（長野）2008'!$G29 -> 1800 | I60: ='21（長野）2009'!$G29 -> 1800 | J60: ='22（長野）2010'!$G29 -> 1810 | K60: ='23（長野）2011'!$G29 -> 1810 | L60: ='24（長野）2012'!$G29 -> 1810 | M60: ='25（長野）2013'!$G29 -> 1810 | N60: ='26（長野）2014'!$G29 -> 1810 | O60: ='27（長野）2015'!$G29 -> 1810 | P60: ='28（長野）2016'!$G29 -> 1800 | Q60: ='29（長野）2017'!$G29 -> 1800 | R60: ='30（長野）2018'!$G29 -> 1800 | S60: ='R1（長野）2019'!$G29 -> 1800 | T60: ='R2（長野）2020'!$G29 -> 1810 | U60: ='R3（長野）2021'!$G29 -> 1820 | V60: ='R4（長野）2022'!$G29 -> 1840 | W60: ='R5（長野）2023'!$G29 -> 1840 | X60: ='R6（長野）2024'!$G29 -> 1850
A61: 22000 | B61: 305 | C61: 南牧村 | D61: ='16（長野）2004'!G30 -> 1840 | E61: ='17（長野）2005'!G30 -> 1840 | F61: ='18（長野）2006'!$G30 -> 1840 | G61: ='19（長野）2007'!$G30 -> 1840 | H61: ='20（長野）2008'!$G30 -> 1840 | I61: ='21（長野）2009'!$G30 -> 1820 | J61: ='22（長野）2010'!$G30 -> 1830 | K61: ='23（長野）2011'!$G30 -> 1830 | L61: ='24（長野）2012'!$G30 -> 1830 | M61: ='25（長野）2013'!$G30 -> 1830 | N61: ='26（長野）2014'!$G30 -> 1830 | O61: ='27（長野）2015'!$G30 -> 1830 | P61: ='28（長野）2016'!$G30 -> 1830 | Q61: ='29（長野）2017'!$G30 -> 1830 | R61: ='30（長野）2018'!$G30 -> 1820 | S61: ='R1（長野）2019'!$G30 -> 1820 | T61: ='R2（長野）2020'!$G30 -> 1840 | U61: ='R3（長野）2021'!$G30 -> 1840 | V61: ='R4（長野）2022'!$G30 -> 1850 | W61: ='R5（長野）2023'!$G30 -> 1860 | X61: ='R6（長野）2024'!$G30 -> 1860
A62: 23000 | B62: 306 | C62: 南相木村 | D62: ='16（長野）2004'!G31 -> 259 | E62: ='17（長野）2005'!G31 -> 256 | F62: ='18（長野）2006'!$G31 -> 255 | G62: ='19（長野）2007'!$G31 -> 256 | H62: ='20（長野）2008'!$G31 -> 256 | I62: ='21（長野）2009'!$G31 -> 262 | J62: ='22（長野）2010'!$G31 -> 265 | K62: ='23（長野）2011'!$G31 -> 267 | L62: ='24（長野）2012'!$G31 -> 269 | M62: ='25（長野）2013'!$G31 -> 270 | N62: ='26（長野）2014'!$G31 -> 268 | O62: ='27（長野）2015'!$G31 -> 266 | P62: ='28（長野）2016'!$G31 -> 264 | Q62: ='29（長野）2017'!$G31 -> 256 | R62: ='30（長野）2018'!$G31 -> 247 | S62: ='R1（長野）2019'!$G31 -> 246 | T62: ='R2（長野）2020'!$G31 -> 237 | U62: ='R3（長野）2021'!$G31 -> 230 | V62: ='R4（長野）2022'!$G31 -> 222 | W62: ='R5（長野）2023'!$G31 -> 222 | X62: ='R6（長野）2024'!$G31 -> 216
A63: 24000 | B63: 307 | C63: 北相木村 | D63: ='16（長野）2004'!G32 -> 144 | E63: ='17（長野）2005'!G32 -> 143 | F63: ='18（長野）2006'!$G32 -> 140 | G63: ='19（長野）2007'!$G32 -> 140 | H63: ='20（長野）2008'!$G32 -> 139 | I63: ='21（長野）2009'!$G32 -> 139 | J63: ='22（長野）2010'!$G32 -> 139 | K63: ='23（長野）2011'!$G32 -> 139 | L63: ='24（長野）2012'!$G32 -> 139 | M63: ='25（長野）2013'!$G32 -> 139 | N63: ='26（長野）2014'!$G32 -> 139 | O63: ='27（長野）2015'!$G32 -> 138 | P63: ='28（長野）2016'!$G32 -> 136 | Q63: ='29（長野）2017'!$G32 -> 135 | R63: ='30（長野）2018'!$G32 -> 134 | S63: ='R1（長野）2019'!$G32 -> 133 | T63: ='R2（長野）2020'!$G32 -> 120 | U63: ='R3（長野）2021'!$G32 -> 129 | V63: ='R4（長野）2022'!$G32 -> 127 | W63: ='R5（長野）2023'!$G32 -> 126 | X63: ='R6（長野）2024'!$G32 -> 124
A64: 25000 | B64: 309 | C64: 佐久穂町 | D64: ='16（長野）2004'!G33 -> 563 | E64: ='17（長野）2005'!G33 -> 560 | F64: ='18（長野）2006'!$G33 -> 561 | G64: ='19（長野）2007'!$G33 -> 559 | H64: ='20（長野）2008'!$G33 -> 557 | I64: ='21（長野）2009'!$G33 -> 558 | J64: ='22（長野）2010'!$G33 -> 559 | K64: ='23（長野）2011'!$G33 -> 561 | L64: ='24（長野）2012'!$G33 -> 566 | M64: ='25（長野）2013'!$G33 -> 564 | N64: ='26（長野）2014'!$G33 -> 563 | O64: ='27（長野）2015'!$G33 -> 558 | P64: ='28（長野）2016'!$G33 -> 558 | Q64: ='29（長野）2017'!$G33 -> 556 | R64: ='30（長野）2018'!$G33 -> 552 | S64: ='R1（長野）2019'!$G33 -> 536 | T64: ='R2（長野）2020'!$G33 -> 544 | U64: ='R3（長野）2021'!$G33 -> 546 | V64: ='R4（長野）2022'!$G33 -> 542 | W64: ='R5（長野）2023'!$G33 -> 546 | X64: ='R6（長野）2024'!$G33 -> 541
A65: 26000 | B65: 321 | C65: 軽井沢町 | D65: ='16（長野）2004'!G34 -> 216 | E65: ='17（長野）2005'!G34 -> 216 | F65: ='18（長野）2006'!$G34 -> 213 | G65: ='19（長野）2007'!$G34 -> 212 | H65: ='20（長野）2008'!$G34 -> 214 | I65: ='21（長野）2009'!$G34 -> 220 | J65: ='22（長野）2010'!$G34 -> 225 | K65: ='23（長野）2011'!$G34 -> 222 | L65: ='24（長野）2012'!$G34 -> 224 | M65: ='25（長野）2013'!$G34 -> 229 | N65: ='26（長野）2014'!$G34 -> 227 | O65: ='27（長野）2015'!$G34 -> 225 | P65: ='28（長野）2016'!$G34 -> 218 | Q65: ='29（長野）2017'!$G34 -> 215 | R65: ='30（長野）2018'!$G34 -> 214 | S65: ='R1（長野）2019'!$G34 -> 216 | T65: ='R2（長野）2020'!$G34 -> 224 | U65: ='R3（長野）2021'!$G34 -> 229 | V65: ='R4（長野）2022'!$G34 -> 241 | W65: ='R5（長野）2023'!$G34 -> 247 | X65: ='R6（長野）2024'!$G34 -> 247
A66: 27000 | B66: 323 | C66: 御代田町 | D66: ='16（長野）2004'!G36 -> 518 | E66: ='17（長野）2005'!G35 -> 513 | F66: ='18（長野）2006'!$G35 -> 510 | G66: ='19（長野）2007'!$G35 -> 508 | H66: ='20（長野）2008'!$G35 -> 510 | I66: ='21（長野）2009'!$G35 -> 512 | J66: ='22（長野）2010'!$G35 -> 528 | K66: ='23（長野）2011'!$G35 -> 532 | L66: ='24（長野）2012'!$G35 -> 535 | M66: ='25（長野）2013'!$G35 -> 535 | N66: ='26（長野）2014'!$G35 -> 531 | O66: ='27（長野）2015'!$G35 -> 526 | P66: ='28（長野）2016'!$G35 -> 522 | Q66: ='29（長野）2017'!$G35 -> 520 | R66: ='30（長野）2018'!$G35 -> 521 | S66: ='R1（長野）2019'!$G35 -> 521 | T66: ='R2（長野）2020'!$G35 -> 531 | U66: ='R3（長野）2021'!$G35 -> 538 | V66: ='R4（長野）2022'!$G35 -> 549 | W66: ='R5（長野）2023'!$G35 -> 548 | X66: ='R6（長野）2024'!$G35 -> 548
A67: 28000 | B67: 324 | C67: 立科町 | D67: ='16（長野）2004'!G37 -> 573 | E67: ='17（長野）2005'!G36 -> 571 | F67: ='18（長野）2006'!$G36 -> 572 | G67: ='19（長野）2007'!$G36 -> 574 | H67: ='20（長野）2008'!$G36 -> 573 | I67: ='21（長野）2009'!$G36 -> 574 | J67: ='22（長野）2010'!$G36 -> 579 | K67: ='23（長野）2011'!$G36 -> 579 | L67: ='24（長野）2012'!$G36 -> 585 | M67: ='25（長野）2013'!$G36 -> 599 | N67: ='26（長野）2014'!$G36 -> 597 | O67: ='27（長野）2015'!$G36 -> 583 | P67: ='28（長野）2016'!$G36 -> 576 | Q67: ='29（長野）2017'!$G36 -> 575 | R67: ='30（長野）2018'!$G36 -> 580 | S67: ='R1（長野）2019'!$G36 -> 581 | T67: ='R2（長野）2020'!$G36 -> 571 | U67: ='R3（長野）2021'!$G36 -> 564 | V67: ='R4（長野）2022'!$G36 -> 557 | W67: ='R5（長野）2023'!$G36 -> 554 | X67: ='R6（長野）2024'!$G36 -> 548
A68: 29000 | B68: 349 | C68: 青木村 | D68: ='16（長野）2004'!G44 -> 212 | E68: ='17（長野）2005'!G37 -> 210 | F68: ='18（長野）2006'!$G37 -> 208 | G68: ='19（長野）2007'!$G37 -> 207 | H68: ='20（長野）2008'!$G37 -> 207 | I68: ='21（長野）2009'!$G37 -> 208 | J68: ='22（長野）2010'!$G37 -> 209 | K68: ='23（長野）2011'!$G37 -> 212 | L68: ='24（長野）2012'!$G37 -> 212 | M68: ='25（長野）2013'!$G37 -> 211 | N68: ='26（長野）2014'!$G37 -> 212 | O68: ='27（長野）2015'!$G37 -> 209 | P68: ='28（長野）2016'!$G37 -> 207 | Q68: ='29（長野）2017'!$G37 -> 206 | R68: ='30（長野）2018'!$G37 -> 203 | S68: ='R1（長野）2019'!$G37 -> 203 | T68: ='R2（長野）2020'!$G37 -> 198 | U68: ='R3（長野）2021'!$G37 -> 198 | V68: ='R4（長野）2022'!$G37 -> 198 | W68: ='R5（長野）2023'!$G37 -> 201 | X68: ='R6（長野）2024'!$G37 -> 204
A69: 30000 | B69: 350 | C69: 長和町 | E69: ='17（長野）2005'!G38 -> 438 | F69: ='18（長野）2006'!$G38 -> 435 | G69: ='19（長野）2007'!$G38 -> 433 | H69: ='20（長野）2008'!$G38 -> 432 | I69: ='21（長野）2009'!$G38 -> 437 | J69: ='22（長野）2010'!$G38 -> 439 | K69: ='23（長野）2011'!$G38 -> 439 | L69: ='24（長野）2012'!$G38 -> 441 | M69: ='25（長野）2013'!$G38 -> 437 | N69: ='26（長野）2014'!$G38 -> 444 | O69: ='27（長野）2015'!$G38 -> 421 | P69: ='28（長野）2016'!$G38 -> 412 | Q69: ='29（長野）2017'!$G38 -> 411 | R69: ='30（長野）2018'!$G38 -> 401 | S69: ='R1（長野）2019'!$G38 -> 406 | T69: ='R2（長野）2020'!$G38 -> 416 | U69: ='R3（長野）2021'!$G38 -> 431 | V69: ='R4（長野）2022'!$G38 -> 430 | W69: ='R5（長野）2023'!$G38 -> 429 | X69: ='R6（長野）2024'!$G38 -> 420
B70: 342 | C70: 長門町 | D70: ='16（長野）2004'!G40 -> 358
B71: 347 | C71: 和田村 | D71: ='16（長野）2004'!G43 -> 83
A72: 31000 | B72: 361 | C72: 下諏訪町 | D72: ='16（長野）2004'!G45 -> 28 | E72: ='17（長野）2005'!G39 -> 27 | F72: ='18（長野）2006'!$G39 -> 28 | G72: ='19（長野）2007'!$G39 -> 28 | H72: ='20（長野）2008'!$G39 -> 27 | I72: ='21（長野）2009'!$G39 -> 26 | J72: ='22（長野）2010'!$G39 -> 27 | K72: ='23（長野）2011'!$G39 -> 27 | L72: ='24（長野）2012'!$G39 -> 27 | M72: ='25（長野）2013'!$G39 -> 27 | N72: ='26（長野）2014'!$G39 -> 27 | O72: ='27（長野）2015'!$G39 -> 27 | P72: ='28（長野）2016'!$G39 -> 27 | Q72: ='29（長野）2017'!$G39 -> 27 | R72: ='30（長野）2018'!$G39 -> 25 | S72: ='R1（長野）2019'!$G39 -> 24 | T72: ='R2（長野）2020'!$G39 -> 24 | U72: ='R3（長野）2021'!$G39 -> 24 | V72: ='R4（長野）2022'!$G39 -> 24 | W72: ='R5（長野）2023'!$G39 -> 25 | X72: ='R6（長野）2024'!$G39 -> 27
A73: 32000 | B73: 362 | C73: 富士見町 | D73: ='16（長野）2004'!G46 -> 642 | E73: ='17（長野）2005'!G40 -> 640 | F73: ='18（長野）2006'!$G40 -> 664 | G73: ='19（長野）2007'!$G40 -> 675 | H73: ='20（長野）2008'!$G40 -> 702 | I73: ='21（長野）2009'!$G40 -> 711 | J73: ='22（長野）2010'!$G40 -> 715 | K73: ='23（長野）2011'!$G40 -> 716 | L73: ='24（長野）2012'!$G40 -> 719 | M73: ='25（長野）2013'!$G40 -> 723 | N73: ='26（長野）2014'!$G40 -> 724 | O73: ='27（長野）2015'!$G40 -> 720 | P73: ='28（長野）2016'!$G40 -> 714 | Q73: ='29（長野）2017'!$G40 -> 709 | R73: ='30（長野）2018'!$G40 -> 704 | S73: ='R1（長野）2019'!$G40 -> 700 | T73: ='R2（長野）2020'!$G40 -> 690 | U73: ='R3（長野）2021'!$G40 -> 690 | V73: ='R4（長野）2022'!$G40 -> 680 | W73: ='R5（長野）2023'!$G40 -> 678 | X73: ='R6（長野）2024'!$G40 -> 675
A74: 33000 | B74: 363 | C74: 原村 | D74: ='16（長野）2004'!G47 -> 524 | E74: ='17（長野）2005'!G41 -> 525 | F74: ='18（長野）2006'!$G41 -> 545 | G74: ='19（長野）2007'!$G41 -> 556 | H74: ='20（長野）2008'!$G41 -> 573 | I74: ='21（長野）2009'!$G41 -> 579 | J74: ='22（長野）2010'!$G41 -> 582 | K74: ='23（長野）2011'!$G41 -> 583 | L74: ='24（長野）2012'!$G41 -> 585 | M74: ='25（長野）2013'!$G41 -> 585 | N74: ='26（長野）2014'!$G41 -> 584 | O74: ='27（長野）2015'!$G41 -> 582 | P74: ='28（長野）2016'!$G41 -> 580 | Q74: ='29（長野）2017'!$G41 -> 579 | R74: ='30（長野）2018'!$G41 -> 578 | S74: ='R1（長野）2019'!$G41 -> 577 | T74: ='R2（長野）2020'!$G41 -> 575 | U74: ='R3（長野）2021'!$G41 -> 575 | V74: ='R4（長野）2022'!$G41 -> 572 | W74: ='R5（長野）2023'!$G41 -> 574 | X74: ='R6（長野）2024'!$G41 -> 575
A75: 34000 | B75: 382 | C75: 辰野町 | D75: ='16（長野）2004'!G49 -> 409 | E75: ='17（長野）2005'!G42 -> 406 | F75: ='18（長野）2006'!$G42 -> 407 | G75: ='19（長野）2007'!$G42 -> 406 | H75: ='20（長野）2008'!$G42 -> 410 | I75: ='21（長野）2009'!$G42 -> 418 | J75: ='22（長野）2010'!$G42 -> 425 | K75: ='23（長野）2011'!$G42 -> 426 | L75: ='24（長野）2012'!$G42 -> 427 | M75: ='25（長野）2013'!$G42 -> 425 | N75: ='26（長野）2014'!$G42 -> 418 | O75: ='27（長野）2015'!$G42 -> 414 | P75: ='28（長野）2016'!$G42 -> 413 | Q75: ='29（長野）2017'!$G42 -> 412 | R75: ='30（長野）2018'!$G42 -> 408 | S75: ='R1（長野）2019'!$G42 -> 403 | T75: ='R2（長野）2020'!$G42 -> 398 | U75: ='R3（長野）2021'!$G42 -> 398 | V75: ='R4（長野）2022'!$G42 -> 389 | W75: ='R5（長野）2023'!$G42 -> 385 | X75: ='R6（長野）2024'!$G42 -> 376
A76: 35000 | B76: 383 | C76: 箕輪町 | D76: ='16（長野）2004'!G50 -> 795 | E76: ='17（長野）2005'!G43 -> 791 | F76: ='18（長野）2006'!$G43 -> 790 | G76: ='19（長野）2007'!$G43 -> 789 | H76: ='20（長野）2008'!$G43 -> 791 | I76: ='21（長野）2009'!$G43 -> 793 | J76: ='22（長野）2010'!$G43 -> 797 | K76: ='23（長野）2011'!$G43 -> 796 | L76: ='24（長野）2012'!$G43 -> 798 | M76: ='25（長野）2013'!$G43 -> 797 | N76: ='26（長野）2014'!$G43 -> 798 | O76: ='27（長野）2015'!$G43 -> 796 | P76: ='28（長野）2016'!$G43 -> 794 | Q76: ='29（長野）2017'!$G43 -> 792 | R76: ='30（長野）2018'!$G43 -> 790 | S76: ='R1（長野）2019'!$G43 -> 785 | T76: ='R2（長野）2020'!$G43 -> 782 | U76: ='R3（長野）2021'!$G43 -> 782 | V76: ='R4（長野）2022'!$G43 -> 780 | W76: ='R5（長野）2023'!$G43 -> 782 | X76: ='R6（長野）2024'!$G43 -> 779
A77: 36000 | B77: 384 | C77: 飯島町 | D77: ='16（長野）2004'!G51 -> 330 | E77: ='17（長野）2005'!G44 -> 324 | F77: ='18（長野）2006'!$G44 -> 324 | G77: ='19（長野）2007'!$G44 -> 323 | H77: ='20（長野）2008'!$G44 -> 332 | I77: ='21（長野）2009'!$G44 -> 335 | J77: ='22（長野）2010'!$G44 -> 342 | K77: ='23（長野）2011'!$G44 -> 343 | L77: ='24（長野）2012'!$G44 -> 342 | M77: ='25（長野）2013'!$G44 -> 341 | N77: ='26（長野）2014'!$G44 -> 342 | O77: ='27（長野）2015'!$G44 -> 339 | P77: ='28（長野）2016'!$G44 -> 338 | Q77: ='29（長野）2017'!$G44 -> 338 | R77: ='30（長野）2018'!$G44 -> 335 | S77: ='R1（長野）2019'!$G44 -> 333 | T77: ='R2（長野）2020'!$G44 -> 332 | U77: ='R3（長野）2021'!$G44 -> 331 | V77: ='R4（長野）2022'!$G44 -> 331 | W77: ='R5（長野）2023'!$G44 -> 330 | X77: ='R6（長野）2024'!$G44 -> 328
A78: 37000 | B78: 385 | C78: 南箕輪村 | D78: ='16（長野）2004'!G52 -> 344 | E78: ='17（長野）2005'!G45 -> 344 | F78: ='18（長野）2006'!$G45 -> 341 | G78: ='19（長野）2007'!$G45 -> 340 | H78: ='20（長野）2008'!$G45 -> 341 | I78: ='21（長野）2009'!$G45 -> 343 | J78: ='22（長野）2010'!$G45 -> 346 | K78: ='23（長野）2011'!$G45 -> 345 | L78: ='24（長野）2012'!$G45 -> 347 | M78: ='25（長野）2013'!$G45 -> 345 | N78: ='26（長野）2014'!$G45 -> 345 | O78: ='27（長野）2015'!$G45 -> 340 | P78: ='28（長野）2016'!$G45 -> 339 | Q78: ='29（長野）2017'!$G45 -> 339 | R78: ='30（長野）2018'!$G45 -> 338 | S78: ='R1（長野）2019'!$G45 -> 337 | T78: ='R2（長野）2020'!$G45 -> 334 | U78: ='R3（長野）2021'!$G45 -> 333 | V78: ='R4（長野）2022'!$G45 -> 331 | W78: ='R5（長野）2023'!$G45 -> 332 | X78: ='R6（長野）2024'!$G45 -> 332
A79: 38000 | B79: 386 | C79: 中川村 | D79: ='16（長野）2004'!G53 -> 338 | E79: ='17（長野）2005'!G46 -> 330 | F79: ='18（長野）2006'!$G46 -> 330 | G79: ='19（長野）2007'!$G46 -> 331 | H79: ='20（長野）2008'!$G46 -> 335 | I79: ='21（長野）2009'!$G46 -> 338 | J79: ='22（長野）2010'!$G46 -> 340 | K79: ='23（長野）2011'!$G46 -> 340 | L79: ='24（長野）2012'!$G46 -> 339 | M79: ='25（長野）2013'!$G46 -> 343 | N79: ='26（長野）2014'!$G46 -> 344 | O79: ='27（長野）2015'!$G46 -> 339 | P79: ='28（長野）2016'!$G46 -> 338 | Q79: ='29（長野）2017'!$G46 -> 337 | R79: ='30（長野）2018'!$G46 -> 336 | S79: ='R1（長野）2019'!$G46 -> 335 | T79: ='R2（長野）2020'!$G46 -> 335 | U79: ='R3（長野）2021'!$G46 -> 333 | V79: ='R4（長野）2022'!$G46 -> 341 | W79: ='R5（長野）2023'!$G46 -> 342 | X79: ='R6（長野）2024'!$G46 -> 342
