Workbook
Name DDT: 'グラフ耕地（長野)2010～'!$C$3:$R$38

Sheet 16（長野）2004
A1: 農林水産関係市町村別データ
A2: 平成16年
A3: 耕地面積
A4: 長野県
A5: 都道 | B5: 市町 | D5: 耕地面積 | E5: 田耕地面積 | F5: 田本地面積 | G5: 畑耕地面積 | H5: 普通畑 | I5: 樹園地 | J5: 牧草地 | K5: 田畑計の作 | L5: 田畑計の耕
A6: 府県 | B6: 村 | C6: 市町村名 | K6: 付延べ面積 | L6: 地利用率
A7: ｺｰﾄﾞ | B7: ｺｰﾄﾞ
D8: ha | E8: ha | F8: ha | G8: ha | H8: ha | I8: ha | J8: ha | K8: ha | L8: 0.0%
A9: 20 | B9: 201 | C9: 長野市 | D9: 8130 | E9: 2510 | F9: 2230 | G9: 5630 | H9: 2630 | I9: 2910 | J9: 84 | K9: 6820 | L9: 83.9
A10: 20 | B10: 202 | C10: 松本市 | D10: 5070 | E10: 3510 | F10: 3190 | G10: 1560 | H10: 947 | I10: 562 | J10: 50 | K10: 5000 | L10: 98.6
A11: 20 | B11: 203 | C11: 上田市 | D11: 3160 | E11: 1920 | F11: 1700 | G11: 1240 | H11: 720 | I11: 508 | J11: 15 | K11: 2520 | L11: 79.7
A12: 20 | B12: 204 | C12: 岡谷市 | D12: 271 | E12: 109 | F12: 92 | G12: 162 | H12: 140 | I12: 10 | J12: 12 | K12: 206 | L12: 76
A13: 20 | B13: 205 | C13: 飯田市 | D13: 3110 | E13: 1220 | F13: 1040 | G13: 1880 | H13: 866 | I13: 981 | J13: 36 | K13: 2590 | L13: 83.3
A14: 20 | B14: 206 | C14: 諏訪市 | D14: 703 | E14: 477 | F14: 459 | G14: 226 | H14: 154 | I14: 30 | J14: 42 | K14: 721 | L14: 102.6
A15: 20 | B15: 207 | C15: 須坂市 | D15: 1860 | E15: 290 | F15: 273 | G15: 1570 | H15: 286 | I15: 1260 | J15: 22 | K15: 1730 | L15: 93
A16: 20 | B16: 208 | C16: 小諸市 | D16: 2830 | E16: 1110 | F16: 938 | G16: 1730 | H16: 1430 | I16: 228 | J16: 65 | K16: 2710 | L16: 95.8
A17: 20 | B17: 209 | C17: 伊那市 | D17: 4520 | E17: 3030 | F17: 2660 | G17: 1490 | H17: 1250 | I17: 147 | J17: 90 | K17: 4060 | L17: 89.8
A18: 20 | B18: 210 | C18: 駒ヶ根市 | D18: 1980 | E18: 1500 | F18: 1310 | G18: 475 | H18: 348 | I18: 84 | J18: 43 | K18: 1750 | L18: 88.4
A19: 20 | B19: 211 | C19: 中野市 | D19: 2540 | E19: 452 | F19: 425 | G19: 2090 | H19: 847 | I19: 1240 | J19: - | K19: 2140 | L19: 84.3
A20: 20 | B20: 212 | C20: 大町市 | D20: 2320 | E20: 2080 | F20: 1860 | G20: 234 | H20: 148 | I20: 80 | J20: 6 | K20: 2060 | L20: 88.8
A21: 20 | B21: 213 | C21: 飯山市 | D21: 3610 | E21: 1950 | F21: 1650 | G21: 1660 | H21: 1620 | I21: 45 | J21: - | K21: 2830 | L21: 78.4
A22: 20 | B22: 214 | C22: 茅野市 | D22: 2630 | E22: 1600 | F22: 1370 | G22: 1030 | H22: 990 | I22: 24 | J22: 17 | K22: 1970 | L22: 74.9
A23: 20 | B23: 215 | C23: 塩尻市 | D23: 3090 | E23: 1150 | F23: 1030 | G23: 1940 | H23: 1330 | I23: 550 | J23: 57 | K23: 3510 | L23: 113.6
A24: 20 | B24: 217 | C24: 佐久市 | D24: 3570 | E24: 2310 | F24: 2110 | G24: 1260 | H24: 1040 | I24: 200 | J24: 19 | K24: 2750 | L24: 77
A25: 20 | B25: 218 | C25: 千曲市 | D25: 1670 | E25: 880 | F25: 833 | G25: 793 | H25: 260 | I25: 531 | J25: 2 | K25: 1580 | L25: 94.6
A26: 20 | B26: 219 | C26: 東御市 | D26: 2500 | E26: 1160 | F26: 980 | G26: 1340 | H26: 990 | I26: 289 | J26: 59 | K26: 1850 | L26: 74
A27: 20 | B27: 301 | C27: 臼田町 | D27: 818 | E27: 496 | F27: 447 | G27: 322 | H27: 235 | I27: 67 | J27: 20 | K27: 724 | L27: 88.5
A28: 20 | B28: 303 | C28: 小海町 | D28: 976 | E28: 217 | F28: 178 | G28: 759 | H28: 703 | I28: 1 | J28: 55 | K28: 941 | L28: 96.4
A29: 20 | B29: 304 | C29: 川上村 | D29: 1870 | E29: 47 | F29: 38 | G29: 1820 | H29: 1730 | I29: - | J29: 93 | K29: 3320 | L29: 177.5
A30: 20 | B30: 305 | C30: 南牧村 | D30: 1950 | E30: 112 | F30: 94 | G30: 1840 | H30: 1200 | I30: - | J30: 641 | K30: 2520 | L30: 129.2
A31: 20 | B31: 306 | C31: 南相木村 | D31: 311 | E31: 52 | F31: 41 | G31: 259 | H31: 259 | I31: 0 | J31: - | K31: 351 | L31: 112.9
A32: 20 | B32: 307 | C32: 北相木村 | D32: 174 | E32: 30 | F32: 23 | G32: 144 | H32: 144 | I32: - | J32: - | K32: 148 | L32: 85.1
A33: 20 | B33: 309 | C33: 佐久穂町 | D33: 1310 | E33: 746 | F33: 640 | G33: 563 | H33: 467 | I33: 76 | J33: 20 | K33: 1020 | L33: 77.9
A34: 20 | B34: 321 | C34: 軽井沢町 | D34: 350 | E34: 134 | F34: 118 | G34: 216 | H34: 199 | I34: 2 | J34: 15 | K34: 444 | L34: 126.9
A35: 20 | B35: 322 | C35: 望月町 | D35: 1810 | E35: 807 | F35: 685 | G35: 1000 | H35: 851 | I35: 39 | J35: 113 | K35: 1530 | L35: 84.5
A36: 20 | B36: 323 | C36: 御代田町 | D36: 764 | E36: 246 | F36: 211 | G36: 518 | H36: 465 | I36: 3 | J36: 50 | K36: 1190 | L36: 155.8
A37: 20 | B37: 324 | C37: 立科町 | D37: 1320 | E37: 750 | F37: 626 | G37: 573 | H37: 366 | I37: 149 | J37: 58 | K37: 975 | L37: 73.9
A38: 20 | B38: 325 | C38: 浅科村 | D38: 690 | E38: 504 | F38: 440 | G38: 186 | H38: 168 | I38: 15 | J38: 3 | K38: 542 | L38: 78.6
A39: 20 | B39: 341 | C39: 丸子町 | D39: 911 | E39: 601 | F39: 522 | G39: 310 | H39: 214 | I39: 71 | J39: 25 | K39: 681 | L39: 74.8
A40: 20 | B40: 342 | C40: 長門町 | D40: 699 | E40: 341 | F40: 270 | G40: 358 | H40: 181 | I40: 27 | J40: 150 | K40: 558 | L40: 79.8
...

Sheet 17（長野）2005
A1: 農林水産関係市町村別データ
A2: 平成17年
A3: 耕地面積
A4: 長野県
A5: 都道 | B5: 市町 | D5: 耕地面積 | E5: 田耕地面積 | F5: 田本地面積 | G5: 畑耕地面積 | H5: 普通畑 | I5: 樹園地 | J5: 牧草地 | K5: 田畑計の作 | L5: 田畑計の耕
A6: 府県 | B6: 村 | C6: 市町村名 | K6: 付延べ面積 | L6: 地利用率
A7: ｺｰﾄﾞ | B7: ｺｰﾄﾞ
D8: ha | E8: ha | F8: ha | G8: ha | H8: ha | I8: ha | J8: ha | K8: ha | L8: 0.0%
A9: 20 | B9: 201 | C9: 長野市 | D9: 8100 | E9: 2490 | F9: 2220 | G9: 5610 | H9: 2660 | I9: 2870 | J9: 82 | K9: 6700 | L9: 82.7
A10: 20 | B10: 202 | C10: 松本市 | D10: 6920 | E10: 4490 | F10: 4050 | G10: 2430 | H10: 1420 | I10: 887 | J10: 123 | K10: 6620 | L10: 95.7
A11: 20 | B11: 203 | C11: 上田市 | D11: 5680 | E11: 3060 | F11: 2650 | G11: 2620 | H11: 1620 | I11: 668 | J11: 331 | K11: 4830 | L11: 85
A12: 20 | B12: 204 | C12: 岡谷市 | D12: 265 | E12: 108 | F12: 91 | G12: 157 | H12: 137 | I12: 8 | J12: 12 | K12: 194 | L12: 73.2
A13: 20 | B13: 205 | C13: 飯田市 | D13: 3230 | E13: 1240 | F13: 1060 | G13: 1990 | H13: 922 | I13: 1030 | J13: 34 | K13: 2690 | L13: 83.3
A14: 20 | B14: 206 | C14: 諏訪市 | D14: 693 | E14: 468 | F14: 450 | G14: 225 | H14: 162 | I14: 22 | J14: 41 | K14: 716 | L14: 103.3
A15: 20 | B15: 207 | C15: 須坂市 | D15: 1850 | E15: 290 | F15: 273 | G15: 1560 | H15: 279 | I15: 1260 | J15: 22 | K15: 1730 | L15: 93.5
A16: 20 | B16: 208 | C16: 小諸市 | D16: 2820 | E16: 1100 | F16: 935 | G16: 1720 | H16: 1430 | I16: 224 | J16: 65 | K16: 2660 | L16: 94.3
A17: 20 | B17: 209 | C17: 伊那市 | D17: 5310 | E17: 3590 | F17: 3140 | G17: 1720 | H17: 1460 | I17: 167 | J17: 93 | K17: 4670 | L17: 87.9
A18: 20 | B18: 210 | C18: 駒ヶ根市 | D18: 1960 | E18: 1490 | F18: 1300 | G18: 472 | H18: 348 | I18: 81 | J18: 43 | K18: 1730 | L18: 88.3
A19: 20 | B19: 211 | C19: 中野市 | D19: 3160 | E19: 660 | F19: 578 | G19: 2500 | H19: 1000 | I19: 1500 | J19: - | K19: 2610 | L19: 82.6
A20: 20 | B20: 212 | C20: 大町市 | D20: 2630 | E20: 2260 | F20: 1980 | G20: 370 | H20: 269 | I20: 96 | J20: 5 | K20: 2370 | L20: 90.1
A21: 20 | B21: 213 | C21: 飯山市 | D21: 3570 | E21: 1930 | F21: 1620 | G21: 1640 | H21: 1600 | I21: 46 | J21: - | K21: 2790 | L21: 78.2
A22: 20 | B22: 214 | C22: 茅野市 | D22: 2610 | E22: 1590 | F22: 1360 | G22: 1020 | H22: 980 | I22: 27 | J22: 17 | K22: 1960 | L22: 75.1
A23: 20 | B23: 215 | C23: 塩尻市 | D23: 3090 | E23: 1140 | F23: 1010 | G23: 1950 | H23: 1340 | I23: 553 | J23: 57 | K23: 3600 | L23: 116.5
A24: 20 | B24: 217 | C24: 佐久市 | D24: 6870 | E24: 4110 | F24: 3670 | G24: 2760 | H24: 2300 | I24: 307 | J24: 155 | K24: 5450 | L24: 79.3
A25: 20 | B25: 218 | C25: 千曲市 | D25: 1660 | E25: 875 | F25: 828 | G25: 785 | H25: 257 | I25: 526 | J25: 2 | K25: 1570 | L25: 94.6
A26: 20 | B26: 219 | C26: 東御市 | D26: 2490 | E26: 1160 | F26: 979 | G26: 1330 | H26: 984 | I26: 286 | J26: 59 | K26: 1840 | L26: 73.9
A27: 20 | B27: 220 | C27: 安曇野市 | D27: 7120 | E27: 5600 | F27: 5050 | G27: 1520 | H27: 937 | I27: 567 | J27: 15 | K27: 6050 | L27: 85
A28: 20 | B28: 303 | C28: 小海町 | D28: 974 | E28: 217 | F28: 178 | G28: 757 | H28: 703 | I28: 1 | J28: 53 | K28: 937 | L28: 96.2
A29: 20 | B29: 304 | C29: 川上村 | D29: 1840 | E29: 47 | F29: 38 | G29: 1800 | H29: 1730 | I29: - | J29: 71 | K29: 3120 | L29: 169.6
A30: 20 | B30: 305 | C30: 南牧村 | D30: 1950 | E30: 112 | F30: 94 | G30: 1840 | H30: 1200 | I30: - | J30: 641 | K30: 2510 | L30: 128.7
A31: 20 | B31: 306 | C31: 南相木村 | D31: 308 | E31: 52 | F31: 41 | G31: 256 | H31: 253 | I31: 3 | J31: - | K31: 341 | L31: 110.7
A32: 20 | B32: 307 | C32: 北相木村 | D32: 173 | E32: 30 | F32: 23 | G32: 143 | H32: 143 | I32: - | J32: - | K32: 149 | L32: 86.1
A33: 20 | B33: 309 | C33: 佐久穂町 | D33: 1310 | E33: 745 | F33: 639 | G33: 560 | H33: 467 | I33: 73 | J33: 20 | K33: 1010 | L33: 77.1
A34: 20 | B34: 321 | C34: 軽井沢町 | D34: 346 | E34: 130 | F34: 114 | G34: 216 | H34: 199 | I34: 2 | J34: 15 | K34: 443 | L34: 128
A35: 20 | B35: 323 | C35: 御代田町 | D35: 758 | E35: 245 | F35: 210 | G35: 513 | H35: 466 | I35: 3 | J35: 44 | K35: 1170 | L35: 154.4
A36: 20 | B36: 324 | C36: 立科町 | D36: 1320 | E36: 750 | F36: 626 | G36: 571 | H36: 363 | I36: 150 | J36: 58 | K36: 960 | L36: 72.7
A37: 20 | B37: 349 | C37: 青木村 | D37: 457 | E37: 247 | F37: 184 | G37: 210 | H37: 124 | I37: 32 | J37: 54 | K37: 375 | L37: 82.1
A38: 20 | B38: 350 | C38: 長和町 | D38: 963 | E38: 525 | F38: 409 | G38: 438 | H38: 245 | I38: 38 | J38: 155 | K38: 805 | L38: 83.6
A39: 20 | B39: 361 | C39: 下諏訪町 | D39: 62 | E39: 35 | F39: 28 | G39: 27 | H39: 14 | I39: 13 | J39: - | K39: 53 | L39: 85.5
A40: 20 | B40: 362 | C40: 富士見町 | D40: 1680 | E40: 1040 | F40: 855 | G40: 640 | H40: 515 | I40: 10 | J40: 115 | K40: 1280 | L40: 76.2
...

Sheet 18（長野）2006
A1: 農林水産関係市町村別データ
A2: 平成18年
A3: 耕地面積
A4: 長野県
A5: 都道 | B5: 市町 | D5: 耕地面積 | E5: 田耕地面積 | F5: 田本地面積 | G5: 畑耕地面積 | H5: 普通畑 | I5: 樹園地 | J5: 牧草地 | K5: 田畑計の作 | L5: 田畑計の耕
A6: 府県 | B6: 村 | C6: 市町村名 | K6: 付延べ面積 | L6: 地利用率
A7: ｺｰﾄﾞ | B7: ｺｰﾄﾞ
D8: ha | E8: ha | F8: ha | G8: ha | H8: ha | I8: ha | J8: ha | K8: ha | L8: 0.0%
A9: 20 | B9: 201 | C9: 長野市 | D9: 8070 | E9: 2460 | F9: 2190 | G9: 5610 | H9: 2720 | I9: 2810 | J9: 82 | K9: 6510 | L9: 80.7
A10: 20 | B10: 202 | C10: 松本市 | D10: 6870 | E10: 4460 | F10: 4020 | G10: 2410 | H10: 1410 | I10: 876 | J10: 123 | K10: 6660 | L10: 96.9
A11: 20 | B11: 203 | C11: 上田市 | D11: 5630 | E11: 3050 | F11: 2630 | G11: 2590 | H11: 1620 | I11: 634 | J11: 330 | K11: 4810 | L11: 85.4
A12: 20 | B12: 204 | C12: 岡谷市 | D12: 258 | E12: 101 | F12: 87 | G12: 157 | H12: 137 | I12: 8 | J12: 12 | K12: 196 | L12: 76
A13: 20 | B13: 205 | C13: 飯田市 | D13: 3190 | E13: 1210 | F13: 1030 | G13: 1980 | H13: 920 | I13: 1020 | J13: 34 | K13: 2650 | L13: 83.1
A14: 20 | B14: 206 | C14: 諏訪市 | D14: 687 | E14: 459 | F14: 441 | G14: 228 | H14: 166 | I14: 21 | J14: 41 | K14: 711 | L14: 103.5
A15: 20 | B15: 207 | C15: 須坂市 | D15: 1850 | E15: 288 | F15: 271 | G15: 1560 | H15: 289 | I15: 1250 | J15: 22 | K15: 1720 | L15: 93
A16: 20 | B16: 208 | C16: 小諸市 | D16: 2800 | E16: 1100 | F16: 932 | G16: 1700 | H16: 1420 | I16: 221 | J16: 65 | K16: 2640 | L16: 94.3
A17: 20 | B17: 209 | C17: 伊那市 | D17: 5290 | E17: 3570 | F17: 3110 | G17: 1720 | H17: 1470 | I17: 158 | J17: 91 | K17: 4640 | L17: 87.7
A18: 20 | B18: 210 | C18: 駒ヶ根市 | D18: 1950 | E18: 1480 | F18: 1290 | G18: 471 | H18: 347 | I18: 80 | J18: 44 | K18: 1690 | L18: 86.7
A19: 20 | B19: 211 | C19: 中野市 | D19: 3140 | E19: 646 | F19: 566 | G19: 2500 | H19: 1010 | I19: 1490 | J19: - | K19: 2600 | L19: 82.8
A20: 20 | B20: 212 | C20: 大町市 | D20: 2620 | E20: 2250 | F20: 1980 | G20: 368 | H20: 276 | I20: 86 | J20: 6 | K20: 2350 | L20: 89.7
A21: 20 | B21: 213 | C21: 飯山市 | D21: 3530 | E21: 1900 | F21: 1600 | G21: 1630 | H21: 1590 | I21: 42 | J21: - | K21: 2690 | L21: 76.2
A22: 20 | B22: 214 | C22: 茅野市 | D22: 2590 | E22: 1550 | F22: 1330 | G22: 1040 | H22: 997 | I22: 26 | J22: 17 | K22: 1920 | L22: 74.1
A23: 20 | B23: 215 | C23: 塩尻市 | D23: 3080 | E23: 1130 | F23: 1010 | G23: 1950 | H23: 1350 | I23: 542 | J23: 57 | K23: 3590 | L23: 116.6
A24: 20 | B24: 217 | C24: 佐久市 | D24: 6830 | E24: 4090 | F24: 3650 | G24: 2740 | H24: 2290 | I24: 308 | J24: 140 | K24: 5380 | L24: 78.8
A25: 20 | B25: 218 | C25: 千曲市 | D25: 1650 | E25: 869 | F25: 823 | G25: 784 | H25: 271 | I25: 511 | J25: 2 | K25: 1560 | L25: 94.5
A26: 20 | B26: 219 | C26: 東御市 | D26: 2470 | E26: 1160 | F26: 977 | G26: 1310 | H26: 976 | I26: 279 | J26: 59 | K26: 1840 | L26: 74.5
A27: 20 | B27: 220 | C27: 安曇野市 | D27: 7110 | E27: 5590 | F27: 5050 | G27: 1520 | H27: 931 | I27: 571 | J27: 15 | K27: 6020 | L27: 84.7
A28: 20 | B28: 303 | C28: 小海町 | D28: 971 | E28: 215 | F28: 176 | G28: 756 | H28: 703 | I28: 1 | J28: 52 | K28: 930 | L28: 95.8
A29: 20 | B29: 304 | C29: 川上村 | D29: 1840 | E29: 47 | F29: 38 | G29: 1800 | H29: 1730 | I29: - | J29: 71 | K29: 3160 | L29: 171.7
A30: 20 | B30: 305 | C30: 南牧村 | D30: 1950 | E30: 112 | F30: 94 | G30: 1840 | H30: 1200 | I30: - | J30: 638 | K30: 2520 | L30: 129.2
A31: 20 | B31: 306 | C31: 南相木村 | D31: 307 | E31: 52 | F31: 41 | G31: 255 | H31: 252 | I31: 3 | J31: - | K31: 332 | L31: 108.1
A32: 20 | B32: 307 | C32: 北相木村 | D32: 170 | E32: 30 | F32: 23 | G32: 140 | H32: 140 | I32: - | J32: - | K32: 153 | L32: 90
A33: 20 | B33: 309 | C33: 佐久穂町 | D33: 1300 | E33: 739 | F33: 634 | G33: 561 | H33: 468 | I33: 74 | J33: 19 | K33: 1000 | L33: 76.9
A34: 20 | B34: 321 | C34: 軽井沢町 | D34: 342 | E34: 129 | F34: 113 | G34: 213 | H34: 197 | I34: 2 | J34: 14 | K34: 441 | L34: 128.9
A35: 20 | B35: 323 | C35: 御代田町 | D35: 754 | E35: 244 | F35: 209 | G35: 510 | H35: 463 | I35: 3 | J35: 44 | K35: 1150 | L35: 152.5
A36: 20 | B36: 324 | C36: 立科町 | D36: 1320 | E36: 747 | F36: 623 | G36: 572 | H36: 362 | I36: 150 | J36: 60 | K36: 963 | L36: 73
A37: 20 | B37: 349 | C37: 青木村 | D37: 454 | E37: 246 | F37: 183 | G37: 208 | H37: 123 | I37: 31 | J37: 54 | K37: 365 | L37: 80.4
A38: 20 | B38: 350 | C38: 長和町 | D38: 958 | E38: 523 | F38: 407 | G38: 435 | H38: 240 | I38: 40 | J38: 155 | K38: 796 | L38: 83.1
A39: 20 | B39: 361 | C39: 下諏訪町 | D39: 60 | E39: 32 | F39: 26 | G39: 28 | H39: 16 | I39: 12 | J39: - | K39: 51 | L39: 85
A40: 20 | B40: 362 | C40: 富士見町 | D40: 1670 | E40: 1010 | F40: 829 | G40: 664 | H40: 540 | I40: 9 | J40: 115 | K40: 1260 | L40: 75.4
...

Sheet 19（長野）2007
A1: 農林水産関係市町村別データ
A2: 平成19年
A3: 耕地面積
A4: 長野県
A5: 都道 | B5: 市町 | D5: 耕地面積 | E5: 田耕地面積 | F5: 田本地面積 | G5: 畑耕地面積
A6: 府県 | B6: 村 | C6: 市町村名
A7: ｺｰﾄﾞ | B7: ｺｰﾄﾞ
D8: ha | E8: ha | F8: ha | G8: ha
A9: 20 | B9: 201 | C9: 長野市 | D9: 8020 | E9: 2430 | F9: 2160 | G9: 5600
A10: 20 | B10: 202 | C10: 松本市 | D10: 6860 | E10: 4460 | F10: 4020 | G10: 2410
A11: 20 | B11: 203 | C11: 上田市 | D11: 5600 | E11: 3030 | F11: 2620 | G11: 2570
A12: 20 | B12: 204 | C12: 岡谷市 | D12: 251 | E12: 96 | F12: 83 | G12: 155
A13: 20 | B13: 205 | C13: 飯田市 | D13: 3160 | E13: 1200 | F13: 1020 | G13: 1960
A14: 20 | B14: 206 | C14: 諏訪市 | D14: 679 | E14: 449 | F14: 431 | G14: 230
A15: 20 | B15: 207 | C15: 須坂市 | D15: 1850 | E15: 287 | F15: 270 | G15: 1560
A16: 20 | B16: 208 | C16: 小諸市 | D16: 2790 | E16: 1090 | F16: 926 | G16: 1700
A17: 20 | B17: 209 | C17: 伊那市 | D17: 5260 | E17: 3550 | F17: 3090 | G17: 1710
A18: 20 | B18: 210 | C18: 駒ヶ根市 | D18: 1930 | E18: 1470 | F18: 1280 | G18: 466
A19: 20 | B19: 211 | C19: 中野市 | D19: 3100 | E19: 643 | F19: 564 | G19: 2460
A20: 20 | B20: 212 | C20: 大町市 | D20: 2610 | E20: 2250 | F20: 1970 | G20: 360
... A89: 20 | B89: 602 | C89: 栄村 | D89: 679 | E89: 363 | F89: 279 | G89: 316
A91: 利用上の注意 | D91: =SUM(D9:D90) -> 112282 | E91: =SUM(E9:E90) -> 56792 | F91: =SUM(F9:F90) -> 49344 | G91: =SUM(G9:G90) -> 55512
A92: １ この市町村別データは、「作物統計調査」を実施する上で把握した地域における標本調査及び現地見積りの結果、
A93: 関係機関からの情報等をもとに都道府県計値の内訳として市町村別に作成した加工統計であり、作成するうえで
A94: 精度を設定しているものではない。
A95: なお、「作物統計調査」は都道府県計値を求めるために設計されている。
A96: ２ 市町村間の出作・入作を考慮していない（属地統計）。
A97: ３ 数値については、四捨五入しており、都道府県計値と市町村別の内訳の計が一致しないことがある。

Sheet 20（長野）2008
A1: 農林水産関係市町村別データ
A2: 平成20年
A3: 耕地面積
A4: 長野県
A5: 都道 | B5: 市町 | D5: 耕地面積 | E5: 田耕地面積 | G5: 畑耕地面積
A6: 府県 | B6: 村 | C6: 市町村名 | F6: 田本地面積
A7: ｺｰﾄﾞ | B7: ｺｰﾄﾞ
D8: ha | E8: ha | F8: ha | G8: ha
A9: 20 | B9: 201 | C9: 長野市 | D9: 7960 | E9: 2380 | F9: 2120 | G9: 5570
A10: 20 | B10: 202 | C10: 松本市 | D10: 6860 | E10: 4460 | F10: 4020 | G10: 2410
A11: 20 | B11: 203 | C11: 上田市 | D11: 5560 | E11: 3000 | F11: 2590 | G11: 2560
A12: 20 | B12: 204 | C12: 岡谷市 | D12: 246 | E12: 90 | F12: 78 | G12: 156
A13: 20 | B13: 205 | C13: 飯田市 | D13: 3130 | E13: 1160 | F13: 997 | G13: 1970
A14: 20 | B14: 206 | C14: 諏訪市 | D14: 672 | E14: 439 | F14: 421 | G14: 233
A15: 20 | B15: 207 | C15: 須坂市 | D15: 1830 | E15: 280 | F15: 263 | G15: 1550
A16: 20 | B16: 208 | C16: 小諸市 | D16: 2790 | E16: 1090 | F16: 924 | G16: 1700
A17: 20 | B17: 209 | C17: 伊那市 | D17: 5220 | E17: 3510 | F17: 3060 | G17: 1720
A18: 20 | B18: 210 | C18: 駒ヶ根市 | D18: 1910 | E18: 1440 | F18: 1260 | G18: 468
A19: 20 | B19: 211 | C19: 中野市 | D19: 3090 | E19: 628 | F19: 551 | G19: 2460
A20: 20 | B20: 212 | C20: 大町市 | D20: 2610 | E20: 2250 | F20: 1970 | G20: 360
... A89: 20 | B89: 602 | C89: 栄村 | D89: 662 | E89: 359 | F89: 276 | G89: 303
A91: 利用上の注意 | D91: =SUM(D9:D90) -> 111544 | E91: =SUM(E9:E90) -> 55995 | F91: =SUM(F9:F90) -> 48668 | G91: =SUM(G9:G90) -> 55547
A92: １ この市町村別データは、「作物統計調査」を実施する上で把握した地域における標本調査及び現地見積りの結果、
A93: 関係機関からの情報等をもとに都道府県計値の内訳として市町村別に作成した加工統計であり、作成するうえで
A94: 精度を設定しているものではない。
A95: なお、「作物統計調査」は都道府県計値を求めるために設計されている。
A96: ２ 市町村間の出作・入作を考慮していない（属地統計）。
A97: ３ 数値については、四捨五入しており、都道府県計値と市町村別の内訳の計が一致しないことがある。

Sheet 21（長野）2009
A1: 農林水産関係市町村別データ
A2: 平成21年産
A3: 耕地面積
A4: 長野県
A5: 都道 | B5: 市町 | D5: 耕地面積 | E5: 田耕地面積 | G5: 畑耕地面積
A6: 府県 | B6: 村 | C6: 市町村名 | F6: 田本地面積
A7: ｺｰﾄﾞ | B7: ｺｰﾄﾞ
D8: ha | E8: ha | F8: ha | G8: ha
A9: 20 | B9: 201 | C9: 長野市 | D9: 7920 | E9: 2360 | F9: 2110 | G9: 5570
A10: 20 | B10: 202 | C10: 松本市 | D10: 6870 | E10: 4460 | F10: 4020 | G10: 2410
A11: 20 | B11: 203 | C11: 上田市 | D11: 5550 | E11: 2980 | F11: 2580 | G11: 2570
A12: 20 | B12: 204 | C12: 岡谷市 | D12: 244 | E12: 87 | F12: 75 | G12: 157
A13: 20 | B13: 205 | C13: 飯田市 | D13: 3100 | E13: 1140 | F13: 975 | G13: 1970
A14: 20 | B14: 206 | C14: 諏訪市 | D14: 668 | E14: 434 | F14: 416 | G14: 234
A15: 20 | B15: 207 | C15: 須坂市 | D15: 1830 | E15: 280 | F15: 263 | G15: 1550
A16: 20 | B16: 208 | C16: 小諸市 | D16: 2790 | E16: 1090 | F16: 921 | G16: 1700
A17: 20 | B17: 209 | C17: 伊那市 | D17: 5210 | E17: 3490 | F17: 3040 | G17: 1720
A18: 20 | B18: 210 | C18: 駒ヶ根市 | D18: 1890 | E18: 1430 | F18: 1250 | G18: 465
A19: 20 | B19: 211 | C19: 中野市 | D19: 3090 | E19: 627 | F19: 550 | G19: 2460
A20: 20 | B20: 212 | C20: 大町市 | D20: 2610 | E20: 2250 | F20: 1970 | G20: 361
... A88: 20 | B88: 602 | C88: 栄村 | D88: 647 | E88: 359 | F88: 276 | G88: 288
A90: 利用上の注意 | D90: =SUM(D9:D89) -> 111357 | E90: =SUM(E9:E89) -> 55651 | F90: =SUM(F9:F89) -> 48384 | G90: =SUM(G9:G89) -> 55711
A91: １ この市町村別データは、「作物統計調査」を実施する上で把握した地域における標本調査及び現地見積りの結果、
A92: 関係機関からの情報等をもとに都道府県計値の内訳として市町村別に作成した加工統計であり、作成するうえで
A93: 精度を設定しているものではない。
A94: なお、「作物統計調査」は都道府県計値を求めるために設計されている。
A95: ２ 市町村間の出作・入作を考慮していない（属地統計）。
A96: ３ 数値については、四捨五入しており、都道府県計値と市町村別の内訳の計が一致しないことがある。

Sheet 22（長野）2010
A1: 農林水産関係市町村別統計
A2: 平成22年
A3: 耕地面積
A4: 長野県
A5: 都道 | B5: 市町 | D5: 耕地面積 | E5: 田耕地面積 | G5: 畑耕地面積
A6: 府県 | B6: 村 | C6: 市町村名 | F6: 田本地面積
A7: ｺｰﾄﾞ | B7: ｺｰﾄﾞ
D8: ha | E8: ha | F8: ha | G8: ha
A9: 20 | B9: 201 | C9: 長野市 | D9: 8790 | E9: 2520 | F9: 2230 | G9: 6270
A10: 20 | B10: 202 | C10: 松本市 | D10: 7790 | E10: 4930 | F10: 4460 | G10: 2860
A11: 20 | B11: 203 | C11: 上田市 | D11: 5540 | E11: 2980 | F11: 2580 | G11: 2560
A12: 20 | B12: 204 | C12: 岡谷市 | D12: 244 | E12: 85 | F12: 73 | G12: 159
A13: 20 | B13: 205 | C13: 飯田市 | D13: 3080 | E13: 1100 | F13: 944 | G13: 1980
A14: 20 | B14: 206 | C14: 諏訪市 | D14: 668 | E14: 432 | F14: 414 | G14: 236
A15: 20 | B15: 207 | C15: 須坂市 | D15: 1820 | E15: 279 | F15: 262 | G15: 1540
A16: 20 | B16: 208 | C16: 小諸市 | D16: 2800 | E16: 1090 | F16: 919 | G16: 1710
A17: 20 | B17: 209 | C17: 伊那市 | D17: 5200 | E17: 3470 | F17: 3030 | G17: 1730
A18: 20 | B18: 210 | C18: 駒ヶ根市 | D18: 1890 | E18: 1420 | F18: 1240 | G18: 473
A19: 20 | B19: 211 | C19: 中野市 | D19: 3080 | E19: 622 | F19: 546 | G19: 2460
A20: 20 | B20: 212 | C20: 大町市 | D20: 2600 | E20: 2240 | F20: 1970 | G20: 360
... A85: 20 | B85: 602 | C85: 栄村 | D85: 648 | E85: 358 | F85: 275 | G85: 290
A87: 利用上の注意 | D87: =SUM(D9:D86) -> 111203 | E87: =SUM(E9:E86) -> 55388 | F87: =SUM(F9:F86) -> 48182 | G87: =SUM(G9:G86) -> 55844
A88: １ この市町村別統計は、「作物統計調査」を実施する上で把握した地域における標本調査及び現地見積りの結果、
A89: 関係機関からの情報等を踏まえ、都道府県計値の内訳として市町村別に作成した加工統計であり、作成するうえで
A90: 精度を設定しているものではない。
A91: なお、「作物統計調査」は都道府県計値を求めるために設計されている。
A92: ２ 耕作者の市町村間の出作・入作を考慮していない（属地統計）。
A93: ３ 数値は四捨五入しており、市町村値の計が都道府県値と一致しないことがある。

Sheet 23（長野）2011
A1: 農林水産関係市町村別統計
A2: 平成23年
A3: 耕地面積
A4: 長野県
A5: 都道 | B5: 市町 | D5: 耕地面積 | E5: 田耕地面積 | G5: 畑耕地面積
A6: 府県 | B6: 村 | C6: 市町村名 | F6: 田本地面積
A7: ｺｰﾄﾞ | B7: ｺｰﾄﾞ
D8: ha | E8: ha | F8: ha | G8: ha
A9: 20 | B9: 201 | C9: 長野市 | D9: 8750 | E9: 2500 | F9: 2210 | G9: 6250
A10: 20 | B10: 202 | C10: 松本市 | D10: 7780 | E10: 4930 | F10: 4460 | G10: 2860
A11: 20 | B11: 203 | C11: 上田市 | D11: 5530 | E11: 2970 | F11: 2570 | G11: 2560
A12: 20 | B12: 204 | C12: 岡谷市 | D12: 244 | E12: 85 | F12: 73 | G12: 159
A13: 20 | B13: 205 | C13: 飯田市 | D13: 3050 | E13: 1090 | F13: 934 | G13: 1970
A14: 20 | B14: 206 | C14: 諏訪市 | D14: 668 | E14: 432 | F14: 414 | G14: 236
A15: 20 | B15: 207 | C15: 須坂市 | D15: 1820 | E15: 279 | F15: 262 | G15: 1540
A16: 20 | B16: 208 | C16: 小諸市 | D16: 2810 | E16: 1080 | F16: 916 | G16: 1730
A17: 20 | B17: 209 | C17: 伊那市 | D17: 5200 | E17: 3470 | F17: 3030 | G17: 1730
A18: 20 | B18: 210 | C18: 駒ヶ根市 | D18: 1890 | E18: 1420 | F18: 1240 | G18: 474
A19: 20 | B19: 211 | C19: 中野市 | D19: 3060 | E19: 619 | F19: 543 | G19: 2450
A20: 20 | B20: 212 | C20: 大町市 | D20: 2600 | E20: 2240 | F20: 1960 | G20: 358
... A85: 20 | B85: 602 | C85: 栄村 | D85: 585 | E85: 298 | F85: 223 | G85: 287
C87: 計 | D87: 111000 | E87: 55200 | F87: 48000 | G87: 55800
A89: 利用上の注意 | D89: =SUM(D9:D85) -> 110963 | E89: =SUM(E9:E85) -> 55222 | F89: =SUM(F9:F85) -> 48008 | G89: =SUM(G9:G85) -> 55786
A90: １ この市町村別統計は、「作物統計調査」を実施する上で把握した地域における標本調査及び現地見積りの結果、
A91: 関係機関からの情報等を踏まえ、都道府県計値の内訳として市町村別に作成した加工統計であり、作成するうえで
A92: 精度を設定しているものではない。
A93: なお、「作物統計調査」は都道府県計値を求めるために設計されている。
A94: ２ 耕作者の市町村間の出作・入作を考慮していない（属地統計）。
A95: ３ 数値は四捨五入しており、市町村値の計が都道府県値と一致しないことがある。

Sheet 24（長野）2012
A1: 農林水産関係市町村別統計
A2: 平成24年
A3: 耕地面積
A4: 長野県
A5: 都道 | B5: 市町 | D5: 耕地面積 | E5: 田耕地面積 | G5: 畑耕地面積
A6: 府県 | B6: 村 | C6: 市町村名 | F6: 田本地面積
A7: ｺｰﾄﾞ | B7: ｺｰﾄﾞ
D8: ha | E8: ha | F8: ha | G8: ha
A9: 20 | B9: 201 | C9: 長野市 | D9: 8720 | E9: 2480 | F9: 2190 | G9: 6230
A10: 20 | B10: 202 | C10: 松本市 | D10: 7760 | E10: 4910 | F10: 4440 | G10: 2850
A11: 20 | B11: 203 | C11: 上田市 | D11: 5530 | E11: 2960 | F11: 2560 | G11: 2570
A12: 20 | B12: 204 | C12: 岡谷市 | D12: 241 | E12: 83 | F12: 71 | G12: 158
A13: 20 | B13: 205 | C13: 飯田市 | D13: 3040 | E13: 1070 | F13: 922 | G13: 1970
A14: 20 | B14: 206 | C14: 諏訪市 | D14: 664 | E14: 429 | F14: 412 | G14: 235
A15: 20 | B15: 207 | C15: 須坂市 | D15: 1810 | E15: 278 | F15: 261 | G15: 1530
A16: 20 | B16: 208 | C16: 小諸市 | D16: 2820 | E16: 1080 | F16: 915 | G16: 1740
A17: 20 | B17: 209 | C17: 伊那市 | D17: 5210 | E17: 3460 | F17: 3020 | G17: 1750
A18: 20 | B18: 210 | C18: 駒ヶ根市 | D18: 1890 | E18: 1410 | F18: 1230 | G18: 478
A19: 20 | B19: 211 | C19: 中野市 | D19: 3060 | E19: 619 | F19: 543 | G19: 2440
A20: 20 | B20: 212 | C20: 大町市 | D20: 2590 | E20: 2240 | F20: 1960 | G20: 357
... A85: 20 | B85: 602 | C85: 栄村 | D85: 645 | E85: 356 | F85: 273 | G85: 289
C87: 計 | D87: 110900 | E87: 55000 | F87: 47900 | G87: 55800
A89: 利用上の注意 | D89: =SUM(D9:D85) -> 110878 | E89: =SUM(E9:E85) -> 55049 | F89: =SUM(F9:F85) -> 47874 | G89: =SUM(G9:G85) -> 55816
A90: １ この市町村別統計は、「作物統計調査」を実施する上で把握した地域における標本調査及び現地見積りの結果、
A91: 関係機関からの情報等を踏まえ、都道府県計値の内訳として市町村別に作成した加工統計であり、作成する上で
A92: 精度を設定しているものではない。
A93: なお、「作物統計調査」は都道府県計値を求めるために設計されている。
A94: ２ 耕作者の市町村間の出作・入作を考慮していない（属地統計）。
A95: ３ 数値は四捨五入しており、市町村値の計が都道府県値と一致しないことがある。

Sheet 25（長野）2013
A1: 農林水産関係市町村別統計
A2: 平成25年
A3: 耕地面積
A4: 長野県
A5: 都道 | B5: 市町 | D5: 耕地面積 | E5: 田耕地面積 | G5: 畑耕地面積
A6: 府県 | B6: 村 | C6: 市町村名 | F6: 田本地面積
A7: ｺｰﾄﾞ | B7: ｺｰﾄﾞ
D8: ha | E8: ha | F8: ha | G8: ha
A9: 20 | B9: 201 | C9: 長野市 | D9: 8660 | E9: 2450 | F9: 2170 | G9: 6210
A10: 20 | B10: 202 | C10: 松本市 | D10: 7660 | E10: 4880 | F10: 4410 | G10: 2780
A11: 20 | B11: 203 | C11: 上田市 | D11: 5510 | E11: 2930 | F11: 2540 | G11: 2580
A12: 20 | B12: 204 | C12: 岡谷市 | D12: 239 | E12: 83 | F12: 71 | G12: 156
A13: 20 | B13: 205 | C13: 飯田市 | D13: 3040 | E13: 1060 | F13: 915 | G13: 1980
A14: 20 | B14: 206 | C14: 諏訪市 | D14: 659 | E14: 427 | F14: 410 | G14: 232
A15: 20 | B15: 207 | C15: 須坂市 | D15: 1810 | E15: 275 | F15: 258 | G15: 1530
A16: 20 | B16: 208 | C16: 小諸市 | D16: 2820 | E16: 1080 | F16: 910 | G16: 1750
A17: 20 | B17: 209 | C17: 伊那市 | D17: 5220 | E17: 3440 | F17: 3000 | G17: 1770
A18: 20 | B18: 210 | C18: 駒ヶ根市 | D18: 1890 | E18: 1410 | F18: 1230 | G18: 479
A19: 20 | B19: 211 | C19: 中野市 | D19: 3050 | E19: 613 | F19: 538 | G19: 2440
A20: 20 | B20: 212 | C20: 大町市 | D20: 2590 | E20: 2230 | F20: 1960 | G20: 358
... A85: 20 | B85: 602 | C85: 栄村 | D85: 646 | E85: 357 | F85: 274 | G85: 289
C87: 計 | D87: 110400 | E87: 54700 | F87: 47600 | G87: 55700
A89: 利用上の注意 | D89: =SUM(D9:D85) -> 110466 | E89: =SUM(E9:E85) -> 54731 | F89: =SUM(F9:F85) -> 47598 | G89: =SUM(G9:G85) -> 55702
A90: １ この市町村別統計は、「作物統計調査」を実施する上で把握した地域における標本調査及び現地見積りの結果、
A91: 関係機関からの情報等を踏まえ、都道府県計値の内訳として市町村別に作成した加工統計であり、作成するうえで
A92: 精度を設定しているものではない。
A93: なお、「作物統計調査」は都道府県計値を求めるために設計されている。
A94: ２ 耕作者の市町村間の出作・入作を考慮していない（属地統計）。
A95: ３ 数値は四捨五入しており、市町村値の計が都道府県値と一致しないことがある。

Sheet 26（長野）2014
A1: 農林水産関係市町村別統計
A2: 平成26年
A3: 耕地面積
A4: 長野県
A5: 都道 | B5: 市町 | D5: 耕地面積 | E5: 田耕地面積 | G5: 畑耕地面積
A6: 府県 | B6: 村 | C6: 市町村名 | F6: 田本地面積
A7: ｺｰﾄﾞ | B7: ｺｰﾄﾞ
D8: ha | E8: ha | F8: ha | G8: ha
A9: 20 | B9: 201 | C9: 長野市 | D9: 8570 | E9: 2410 | F9: 2140 | G9: 6170
A10: 20 | B10: 202 | C10: 松本市 | D10: 7600 | E10: 4860 | F10: 4400 | G10: 2740
A11: 20 | B11: 203 | C11: 上田市 | D11: 5470 | E11: 2910 | F11: 2530 | G11: 2560
A12: 20 | B12: 204 | C12: 岡谷市 | D12: 237 | E12: 82 | F12: 70 | G12: 155
A13: 20 | B13: 205 | C13: 飯田市 | D13: 3050 | E13: 1050 | F13: 905 | G13: 1990
A14: 20 | B14: 206 | C14: 諏訪市 | D14: 651 | E14: 421 | F14: 404 | G14: 230
A15: 20 | B15: 207 | C15: 須坂市 | D15: 1780 | E15: 272 | F15: 256 | G15: 1510
A16: 20 | B16: 208 | C16: 小諸市 | D16: 2800 | E16: 1070 | F16: 908 | G16: 1730
A17: 20 | B17: 209 | C17: 伊那市 | D17: 5220 | E17: 3430 | F17: 2990 | G17: 1790
A18: 20 | B18: 210 | C18: 駒ヶ根市 | D18: 1880 | E18: 1410 | F18: 1230 | G18: 479
A19: 20 | B19: 211 | C19: 中野市 | D19: 3030 | E19: 607 | F19: 534 | G19: 2420
A20: 20 | B20: 212 | C20: 大町市 | D20: 2590 | E20: 2230 | F20: 1950 | G20: 358
... A85: 20 | B85: 602 | C85: 栄村 | D85: 645 | E85: 357 | F85: 274 | G85: 288
C87: 計 | D87: 109900 | E87: 54500 | F87: 47400 | G87: 55500
A89: 利用上の注意 | D89: =SUM(D9:D85) -> 109972 | E89: =SUM(E9:E85) -> 54476 | F89: =SUM(F9:F85) -> 47433 | G89: =SUM(G9:G85) -> 55490
A90: １ この市町村別統計は、「作物統計調査」を実施する上で把握した地域における標本調査及び現地見積りの結果、
A91: 関係機関からの情報等を踏まえ、都道府県計値の内訳として市町村別に作成した加工統計であり、作成する上で
A92: 精度を設定しているものではない。
A93: なお、「作物統計調査」は都道府県計値を求めるために設計されている。
A94: ２ 耕作者の市町村間の出作・入作を考慮していない（属地統計）。
A95: ３ 数値は四捨五入しており、市町村値の計が都道府県値と一致しないことがある。

Sheet 27（長野）2015
A1: 農林水産関係市町村別統計
A2: 平成27年
A3: 耕地面積
A4: 長野県
A5: 都道 | B5: 市町 | D5: 耕地面積 | E5: 田耕地面積 | G5: 畑耕地面積
A6: 府県 | B6: 村 | C6: 市町村名 | F6: 田本地面積
A7: ｺｰﾄﾞ | B7: ｺｰﾄﾞ
D8: ha | E8: ha | F8: ha | G8: ha
A9: 20 | B9: 201 | C9: 長野市 | D9: 8340 | E9: 2360 | F9: 2110 | G9: 5990
A10: 20 | B10: 202 | C10: 松本市 | D10: 7540 | E10: 4830 | F10: 4380 | G10: 2710
A11: 20 | B11: 203 | C11: 上田市 | D11: 5390 | E11: 2880 | F11: 2520 | G11: 2520
A12: 20 | B12: 204 | C12: 岡谷市 | D12: 234 | E12: 81 | F12: 69 | G12: 153
A13: 20 | B13: 205 | C13: 飯田市 | D13: 3030 | E13: 1040 | F13: 893 | G13: 1990
A14: 20 | B14: 206 | C14: 諏訪市 | D14: 646 | E14: 419 | F14: 402 | G14: 227
A15: 20 | B15: 207 | C15: 須坂市 | D15: 1760 | E15: 269 | F15: 253 | G15: 1500
A16: 20 | B16: 208 | C16: 小諸市 | D16: 2770 | E16: 1060 | F16: 904 | G16: 1710
A17: 20 | B17: 209 | C17: 伊那市 | D17: 5210 | E17: 3410 | F17: 2970 | G17: 1790
A18: 20 | B18: 210 | C18: 駒ヶ根市 | D18: 1880 | E18: 1400 | F18: 1220 | G18: 478
A19: 20 | B19: 211 | C19: 中野市 | D19: 3010 | E19: 604 | F19: 532 | G19: 2400
A20: 20 | B20: 212 | C20: 大町市 | D20: 2570 | E20: 2210 | F20: 1940 | G20: 358
... A85: 20 | B85: 602 | C85: 栄村 | D85: 643 | E85: 357 | F85: 274 | G85: 286
C87: 計 | D87: 108900 | E87: 54000 | F87: 47100 | G87: 54900
A89: 利用上の注意 | D89: =SUM(D9:D85) -> 108928 | E89: =SUM(E9:E85) -> 53998 | F89: =SUM(F9:F85) -> 47110 | G89: =SUM(G9:G85) -> 54918
A90: １ この市町村別統計は、「作物統計調査」を実施する上で把握した地域における標本調査及び現地見積りの結果、
A91: 関係機関からの情報等を踏まえ、都道府県計値の内訳として市町村別に作成した加工統計であり、作成するうえで
A92: 精度を設定しているものではない。
A93: なお、「作物統計調査」は都道府県計値を求めるために設計されている。
A94: ２ 耕作者の市町村間の出作・入作を考慮していない（属地統計）。
A95: ３ 数値は四捨五入しており、市町村値の計が都道府県値と一致しないことがある。

Sheet 28（長野）2016
A1: 農林水産関係市町村別統計
A2: 平成28年
A3: 耕地面積
A4: 長野県
A5: 都道 | B5: 市町 | D5: 耕地面積 | E5: 田耕地面積 | G5: 畑耕地面積
A6: 府県 | B6: 村 | C6: 市町村名 | F6: 田本地面積
A7: ｺｰﾄﾞ | B7: ｺｰﾄﾞ
D8: ha | E8: ha | F8: ha | G8: ha
A9: 20 | B9: 201 | C9: 長野市 | D9: 8230 | E9: 2320 | F9: 2080 | G9: 5910
A10: 20 | B10: 202 | C10: 松本市 | D10: 7460 | E10: 4770 | F10: 4340 | G10: 2690
A11: 20 | B11: 203 | C11: 上田市 | D11: 5320 | E11: 2850 | F11: 2500 | G11: 2470
A12: 20 | B12: 204 | C12: 岡谷市 | D12: 232 | E12: 80 | F12: 68 | G12: 152
A13: 20 | B13: 205 | C13: 飯田市 | D13: 3010 | E13: 1030 | F13: 884 | G13: 1980
A14: 20 | B14: 206 | C14: 諏訪市 | D14: 642 | E14: 418 | F14: 401 | G14: 224
A15: 20 | B15: 207 | C15: 須坂市 | D15: 1750 | E15: 267 | F15: 252 | G15: 1480
A16: 20 | B16: 208 | C16: 小諸市 | D16: 2750 | E16: 1050 | F16: 899 | G16: 1700
A17: 20 | B17: 209 | C17: 伊那市 | D17: 5190 | E17: 3400 | F17: 2960 | G17: 1790
A18: 20 | B18: 210 | C18: 駒ヶ根市 | D18: 1870 | E18: 1390 | F18: 1210 | G18: 476
A19: 20 | B19: 211 | C19: 中野市 | D19: 2990 | E19: 598 | F19: 528 | G19: 2390
A20: 20 | B20: 212 | C20: 大町市 | D20: 2540 | E20: 2180 | F20: 1920 | G20: 355
... A85: 20 | B85: 602 | C85: 栄村 | D85: 641 | E85: 356 | F85: 273 | G85: 285
C87: 計 | D87: 108000 | E87: 53500 | F87: 46800 | G87: 54500
A89: 利用上の注意 | D89: =SUM(D9:D85) -> 108090 | E89: =SUM(E9:E85) -> 53551 | F89: =SUM(F9:F85) -> 46781 | G89: =SUM(G9:G85) -> 54515
A90: １ この市町村別統計は、「作物統計調査」を実施する上で把握した地域における標本調査及び現地見積りの結果、
A91: 関係機関からの情報等を踏まえ、都道府県計値の内訳として市町村別に作成した加工統計であり、作成するうえで
A92: 精度を設定しているものではない。
A93: なお、「作物統計調査」は都道府県計値を求めるために設計されている。
A94: ２ 耕作者の市町村間の出作・入作を考慮していない（属地統計）。
A95: ３ 数値は四捨五入しており、市町村値の計が都道府県値と一致しないことがある。

Sheet 29（長野）2017
A1: 農林水産関係市町村別統計
A2: 平成29年
A3: 耕地面積
A4: 長野県
A5: 都道 | B5: 市町 | D5: 耕地面積 | E5: 田耕地面積 | G5: 畑耕地面積
A6: 府県 | B6: 村 | C6: 市町村名 | F6: 田本地面積
A7: ｺｰﾄﾞ | B7: ｺｰﾄﾞ
D8: ha | E8: ha | F8: ha | G8: ha
A9: 20 | B9: 201 | C9: 長野市 | D9: 8160 | E9: 2300 | F9: 2070 | G9: 5860
A10: 20 | B10: 202 | C10: 松本市 | D10: 7390 | E10: 4710 | F10: 4290 | G10: 2680
A11: 20 | B11: 203 | C11: 上田市 | D11: 5290 | E11: 2830 | F11: 2500 | G11: 2460
A12: 20 | B12: 204 | C12: 岡谷市 | D12: 230 | E12: 80 | F12: 68 | G12: 150
A13: 20 | B13: 205 | C13: 飯田市 | D13: 2990 | E13: 1020 | F13: 872 | G13: 1970
A14: 20 | B14: 206 | C14: 諏訪市 | D14: 637 | E14: 416 | F14: 399 | G14: 221
A15: 20 | B15: 207 | C15: 須坂市 | D15: 1730 | E15: 265 | F15: 251 | G15: 1470
A16: 20 | B16: 208 | C16: 小諸市 | D16: 2740 | E16: 1040 | F16: 898 | G16: 1700
A17: 20 | B17: 209 | C17: 伊那市 | D17: 5170 | E17: 3390 | F17: 2950 | G17: 1790
A18: 20 | B18: 210 | C18: 駒ヶ根市 | D18: 1860 | E18: 1390 | F18: 1210 | G18: 472
A19: 20 | B19: 211 | C19: 中野市 | D19: 2970 | E19: 595 | F19: 527 | G19: 2380
A20: 20 | B20: 212 | C20: 大町市 | D20: 2510 | E20: 2160 | F20: 1900 | G20: 357
... A85: 20 | B85: 602 | C85: 栄村 | D85: 631 | E85: 355 | F85: 273 | G85: 276
C87: 計 | D87: 107300 | E87: 53100 | F87: 46500 | G87: 54200
A89: 利用上の注意 | D89: =SUM(D9:D85) -> 107351 | E89: =SUM(E9:E85) -> 53152 | F89: =SUM(F9:F85) -> 46511 | G89: =SUM(G9:G85) -> 54229
A90: １ この市町村別統計は、「作物統計調査」を実施する上で把握した地域における標本調査及び現地見積りの結果、
A91: 関係機関からの情報等を踏まえ、都道府県計値の内訳として市町村別に作成した加工統計であり、作成するうえで
A92: 精度を設定しているものではない。
A93: なお、「作物統計調査」は都道府県計値を求めるために設計されている。
A94: ２ 耕作者の市町村間の出作・入作を考慮していない（属地統計）。
A95: ３ 数値は四捨五入しており、市町村値の計が都道府県値と一致しないことがある。

Sheet 30（長野）2018
A1: 農林水産関係市町村別統計
A2: 平成30年
A3: 耕地面積
A4: 長野県
A5: 都道 | B5: 市町 | D5: 耕地面積 | E5: 田耕地面積 | G5: 畑耕地面積
A6: 府県 | B6: 村 | C6: 市町村名 | F6: 田本地面積
A7: ｺｰﾄﾞ | B7: ｺｰﾄﾞ
D8: ha | E8: ha | F8: ha | G8: ha
A9: 20 | B9: 201 | C9: 長野市 | D9: 8120 | E9: 2280 | F9: 2060 | G9: 5840
A10: 20 | B10: 202 | C10: 松本市 | D10: 7320 | E10: 4650 | F10: 4240 | G10: 2680
A11: 20 | B11: 203 | C11: 上田市 | D11: 5230 | E11: 2820 | F11: 2500 | G11: 2410
A12: 20 | B12: 204 | C12: 岡谷市 | D12: 227 | E12: 79 | F12: 67 | G12: 148
A13: 20 | B13: 205 | C13: 飯田市 | D13: 2980 | E13: 1020 | F13: 870 | G13: 1960
A14: 20 | B14: 206 | C14: 諏訪市 | D14: 630 | E14: 411 | F14: 394 | G14: 219
A15: 20 | B15: 207 | C15: 須坂市 | D15: 1750 | E15: 266 | F15: 252 | G15: 1480
A16: 20 | B16: 208 | C16: 小諸市 | D16: 2720 | E16: 1040 | F16: 897 | G16: 1680
A17: 20 | B17: 209 | C17: 伊那市 | D17: 5160 | E17: 3380 | F17: 2940 | G17: 1780
A18: 20 | B18: 210 | C18: 駒ヶ根市 | D18: 1850 | E18: 1380 | F18: 1210 | G18: 464
A19: 20 | B19: 211 | C19: 中野市 | D19: 2970 | E19: 599 | F19: 531 | G19: 2370
A20: 20 | B20: 212 | C20: 大町市 | D20: 2480 | E20: 2130 | F20: 1880 | G20: 354
... A85: 20 | B85: 602 | C85: 栄村 | D85: 629 | E85: 354 | F85: 272 | G85: 275
C87: 計 | D87: 106700 | E87: 52800 | F87: 46200 | G87: 54000
A89: 利用上の注意 | D89: =SUM(D9:D85) -> 106722 | E89: =SUM(E9:E85) -> 52765 | F89: =SUM(F9:F85) -> 46249 | G89: =SUM(G9:G85) -> 53967
A90: １ この市町村別統計は、「作物統計調査」を実施する上で把握した地域における標本調査及び現地見積りの結果、
A91: 関係機関からの情報等を踏まえ、都道府県計値の内訳として市町村別に作成した加工統計であり、作成するうえで
A92: 精度を設定しているものではない。
A93: なお、「作物統計調査」は都道府県計値を求めるために設計されている。
A94: ２ 耕作者の市町村間の出作・入作を考慮していない（属地統計）。
A95: ３ 数値は四捨五入しており、市町村値の計が都道府県値と一致しないことがある。

Sheet R1（長野）2019
A1: 農林水産関係市町村別統計
A2: 令和元年
A3: 耕地面積
A4: 長野県
A5: 都道 | B5: 市町 | D5: 耕地面積 | E5: 田耕地面積 | G5: 畑耕地面積
A6: 府県 | B6: 村 | C6: 市町村名 | F6: 田本地面積
A7: ｺｰﾄﾞ | B7: ｺｰﾄﾞ
D8: ha | E8: ha | F8: ha | G8: ha
A9: 20 | B9: 201 | C9: 長野市 | D9: 8090 | E9: 2270 | F9: 2050 | G9: 5830
A10: 20 | B10: 202 | C10: 松本市 | D10: 7260 | E10: 4590 | F10: 4180 | G10: 2680
A11: 20 | B11: 203 | C11: 上田市 | D11: 5220 | E11: 2810 | F11: 2490 | G11: 2400
A12: 20 | B12: 204 | C12: 岡谷市 | D12: 224 | E12: 78 | F12: 66 | G12: 146
A13: 20 | B13: 205 | C13: 飯田市 | D13: 2950 | E13: 1010 | F13: 861 | G13: 1940
A14: 20 | B14: 206 | C14: 諏訪市 | D14: 621 | E14: 405 | F14: 389 | G14: 216
A15: 20 | B15: 207 | C15: 須坂市 | D15: 1750 | E15: 264 | F15: 250 | G15: 1490
A16: 20 | B16: 208 | C16: 小諸市 | D16: 2680 | E16: 1030 | F16: 894 | G16: 1650
A17: 20 | B17: 209 | C17: 伊那市 | D17: 5140 | E17: 3370 | F17: 2930 | G17: 1770
A18: 20 | B18: 210 | C18: 駒ヶ根市 | D18: 1830 | E18: 1380 | F18: 1200 | G18: 456
A19: 20 | B19: 211 | C19: 中野市 | D19: 2950 | E19: 596 | F19: 528 | G19: 2360
A20: 20 | B20: 212 | C20: 大町市 | D20: 2450 | E20: 2100 | F20: 1850 | G20: 354
... A85: 20 | B85: 602 | C85: 栄村 | D85: 630 | E85: 355 | F85: 273 | G85: 275
C87: 計 | D87: 106100 | E87: 52400 | F87: 45900 | G87: 53700
A89: 利用上の注意 | D89: =SUM(D9:D85) -> 106151 | E89: =SUM(E9:E85) -> 52408 | F89: =SUM(F9:F85) -> 45911 | G89: =SUM(G9:G85) -> 53758
A90: １ この市町村別統計は、「作物統計調査」を実施する上で把握した地域における標本調査及び現地見積りの結果、
A91: 関係機関からの情報等を踏まえ、都道府県計値の内訳として市町村別に作成した加工統計であり、作成するうえで
A92: 精度を設定しているものではない。
A93: なお、「作物統計調査」は都道府県計値を求めるために設計されている。
A94: ２ 耕作者の市町村間の出作・入作を考慮していない（属地統計）。
A95: ３ 数値は四捨五入しており、市町村値の計が都道府県値と一致しないことがある。

Sheet R2（長野）2020
A1: 農林水産関係市町村別統計
A2: 令和2年
A3: 耕地面積
A4: 長野県
A5: 都道 | B5: 市町 | D5: 耕地面積 | E5: 田耕地面積 | G5: 畑耕地面積
A6: 府県 | B6: 村 | C6: 市町村名 | F6: 田本地面積
A7: ｺｰﾄﾞ | B7: ｺｰﾄﾞ
D8: ha | E8: ha | F8: ha | G8: ha
A9: 20 | B9: 201 | C9: 長野市 | D9: 8010 | E9: 2260 | F9: 2040 | G9: 5750
A10: 20 | B10: 202 | C10: 松本市 | D10: 7200 | E10: 4530 | F10: 4130 | G10: 2670
A11: 20 | B11: 203 | C11: 上田市 | D11: 5220 | E11: 2820 | F11: 2490 | G11: 2410
A12: 20 | B12: 204 | C12: 岡谷市 | D12: 220 | E12: 76 | F12: 64 | G12: 144
A13: 20 | B13: 205 | C13: 飯田市 | D13: 2940 | E13: 1010 | F13: 861 | G13: 1930
A14: 20 | B14: 206 | C14: 諏訪市 | D14: 615 | E14: 402 | F14: 386 | G14: 213
A15: 20 | B15: 207 | C15: 須坂市 | D15: 1750 | E15: 264 | F15: 250 | G15: 1490
A16: 20 | B16: 208 | C16: 小諸市 | D16: 2610 | E16: 1010 | F16: 872 | G16: 1610
A17: 20 | B17: 209 | C17: 伊那市 | D17: 5120 | E17: 3360 | F17: 2930 | G17: 1760
A18: 20 | B18: 210 | C18: 駒ヶ根市 | D18: 1820 | E18: 1370 | F18: 1200 | G18: 452
A19: 20 | B19: 211 | C19: 中野市 | D19: 2950 | E19: 596 | F19: 528 | G19: 2350
A20: 20 | B20: 212 | C20: 大町市 | D20: 2430 | E20: 2070 | F20: 1830 | G20: 353
... A85: 20 | B85: 602 | C85: 栄村 | D85: 618 | E85: 350 | F85: 269 | G85: 268
C87: 計 | D87: 105300 | E87: 51900 | F87: 45500 | G87: 53400
A89: 利用上の注意 | D89: =SUM(D9:D85) -> 105326 | E89: =SUM(E9:E85) -> 51881 | F89: =SUM(F9:F85) -> 45488 | G89: =SUM(G9:G85) -> 53439
A90: １ この市町村別統計は、「作物統計調査」を実施する上で把握した地域における標本調査及び現地見積りの結果、
A91: 関係機関からの情報等を踏まえ、都道府県計値の内訳として市町村別に作成した加工統計であり、作成するうえで
A92: 精度を設定しているものではない。
A93: なお、「作物統計調査」は都道府県計値を求めるために設計されている。
A94: ２ 耕作者の市町村間の出作・入作を考慮していない（属地統計）。
A95: ３ 数値は四捨五入しており、市町村値の計が都道府県値と一致しないことがある。

Sheet R3（長野）2021
A1: 農林水産関係市町村別統計
A2: 令和3年
A3: 耕地面積
A4: 長野県
A5: 都道 | B5: 市町 | C5: 市町村名 | D5: 耕地面積 | E5: 田耕地面積 | G5: 畑耕地面積
A6: 府県 | B6: 村 | F6: 田本地面積
A7: ｺｰﾄﾞ | B7: ｺｰﾄﾞ
D8: ha | E8: ha | F8: ha | G8: ha
A9: 20 | B9: 201 | C9: 長野市 | D9: 7990 | E9: 2240 | F9: 2030 | G9: 5740
A10: 20 | B10: 202 | C10: 松本市 | D10: 7180 | E10: 4500 | F10: 4100 | G10: 2680
A11: 20 | B11: 203 | C11: 上田市 | D11: 5250 | E11: 2820 | F11: 2500 | G11: 2420
A12: 20 | B12: 204 | C12: 岡谷市 | D12: 215 | E12: 74 | F12: 62 | G12: 141
A13: 20 | B13: 205 | C13: 飯田市 | D13: 2930 | E13: 1000 | F13: 857 | G13: 1920
A14: 20 | B14: 206 | C14: 諏訪市 | D14: 609 | E14: 398 | F14: 383 | G14: 211
A15: 20 | B15: 207 | C15: 須坂市 | D15: 1710 | E15: 227 | F15: 215 | G15: 1480
A16: 20 | B16: 208 | C16: 小諸市 | D16: 2620 | E16: 1010 | F16: 872 | G16: 1610
A17: 20 | B17: 209 | C17: 伊那市 | D17: 5110 | E17: 3360 | F17: 2920 | G17: 1750
A18: 20 | B18: 210 | C18: 駒ヶ根市 | D18: 1820 | E18: 1370 | F18: 1190 | G18: 450
A19: 20 | B19: 211 | C19: 中野市 | D19: 2950 | E19: 596 | F19: 528 | G19: 2360
A20: 20 | B20: 212 | C20: 大町市 | D20: 2420 | E20: 2070 | F20: 1830 | G20: 353
... A85: 20 | B85: 602 | C85: 栄村 | D85: 608 | E85: 347 | F85: 267 | G85: 261
C87: 計 | D87: 105200 | E87: 51700 | F87: 45300 | G87: 53400
A89: 利用上の注意 | D89: =SUM(D9:D85) -> 105221 | E89: =SUM(E9:E85) -> 51738 | F89: =SUM(F9:F85) -> 45345 | G89: =SUM(G9:G85) -> 53427
A90: １ この市町村別統計は、「作物統計調査」を実施する上で把握した地域における標本調査、現地見積りの結果、関係機関
A91: からの情報等を踏まえ、都道府県計値の内訳として市町村別に配分することにより作成した加工統計であり、市町村別の
A92: 値を目的として設計された調査に基づいて直接得られたものではない。
A93: なお、「作物統計調査」は、都道府県計値を求めるために目標精度を設定し、調査の設計がされている。
A94: ２ 面積は、耕地の存在する市町村に計上しており（属地統計）、耕作者の市町村間の出作・入作を考慮していない。
A95: ３ 数値は四捨五入しており、市町村値の計が都道府県値と一致しないことがある。

Sheet R4（長野）2022
A1: 農林水産関係市町村別統計
A2: 令和4年
A3: 耕地面積
A4: 長野県
A5: 都道 | B5: 市町 | C5: 市町村名 | D5: 耕地面積 | E5: 田耕地面積 | G5: 畑耕地面積
A6: 府県 | B6: 村 | F6: 田本地面積
A7: ｺｰﾄﾞ | B7: ｺｰﾄﾞ
D8: ha | E8: ha | F8: ha | G8: ha
A9: 20 | B9: 201 | C9: 長野市 | D9: 7980 | E9: 2240 | F9: 2030 | G9: 5740
A10: 20 | B10: 202 | C10: 松本市 | D10: 7150 | E10: 4480 | F10: 4080 | G10: 2680
A11: 20 | B11: 203 | C11: 上田市 | D11: 5200 | E11: 2800 | F11: 2480 | G11: 2400
A12: 20 | B12: 204 | C12: 岡谷市 | D12: 211 | E12: 74 | F12: 62 | G12: 137
A13: 20 | B13: 205 | C13: 飯田市 | D13: 2920 | E13: 1000 | F13: 854 | G13: 1920
A14: 20 | B14: 206 | C14: 諏訪市 | D14: 602 | E14: 394 | F14: 379 | G14: 208
A15: 20 | B15: 207 | C15: 須坂市 | D15: 1710 | E15: 227 | F15: 215 | G15: 1480
A16: 20 | B16: 208 | C16: 小諸市 | D16: 2600 | E16: 1010 | F16: 873 | G16: 1590
A17: 20 | B17: 209 | C17: 伊那市 | D17: 5100 | E17: 3360 | F17: 2920 | G17: 1750
A18: 20 | B18: 210 | C18: 駒ヶ根市 | D18: 1820 | E18: 1370 | F18: 1190 | G18: 448
A19: 20 | B19: 211 | C19: 中野市 | D19: 2950 | E19: 596 | F19: 528 | G19: 2360
A20: 20 | B20: 212 | C20: 大町市 | D20: 2410 | E20: 2060 | F20: 1820 | G20: 350
... A85: 20 | B85: 602 | C85: 栄村 | D85: 595 | E85: 340 | F85: 262 | G85: 255
C87: 計 | D87: 104800 | E87: 51500 | F87: 45100 | G87: 53300
A89: 利用上の注意 | D89: =SUM(D9:D85) -> 104805 | E89: =SUM(E9:E85) -> 51464 | F89: =SUM(F9:F85) -> 45096 | G89: =SUM(G9:G85) -> 53343
A90: １ この市町村別統計は、「作物統計調査」を実施する上で把握した地域における標本調査、現地見積りの結果、関係機関
A91: からの情報等を踏まえ、都道府県計値の内訳として市町村別に配分することにより作成した加工統計であり、市町村別の
A92: 値を目的として設計された調査に基づいて直接得られたものではない。
A93: なお、「作物統計調査」は、都道府県計値を求めるために目標精度を設定し、調査の設計がされている。
A94: ２ 面積は、耕地の存在する市町村に計上しており（属地統計）、耕作者の市町村間の出作・入作を考慮していない。
A95: ３ 数値は四捨五入しており、市町村値の計が都道府県値と一致しないことがある。

Sheet R5（長野）2023
A1: 農林水産関係市町村別統計
A2: 令和5年
A3: 耕地面積
A4: 長野県
A5: 都道府県ｺｰﾄﾞ | B5: 市町村 ｺｰﾄﾞ | C5: 市町村名 | D5: 耕地面積 | E5: 田耕地面積 | G5: 畑耕地面積
F6: 田本地面積
D8: ha | E8: ha | F8: ha | G8: ha
A9: 20 | B9: 201 | C9: 長野市 | D9: 7940 | E9: 2200 | F9: 1990 | G9: 5740
A10: 20 | B10: 202 | C10: 松本市 | D10: 7130 | E10: 4460 | F10: 4060 | G10: 2680
A11: 20 | B11: 203 | C11: 上田市 | D11: 5180 | E11: 2780 | F11: 2450 | G11: 2410
A12: 20 | B12: 204 | C12: 岡谷市 | D12: 213 | E12: 75 | F12: 63 | G12: 138
A13: 20 | B13: 205 | C13: 飯田市 | D13: 2910 | E13: 996 | F13: 851 | G13: 1910
A14: 20 | B14: 206 | C14: 諏訪市 | D14: 603 | E14: 395 | F14: 380 | G14: 208
A15: 20 | B15: 207 | C15: 須坂市 | D15: 1700 | E15: 224 | F15: 212 | G15: 1480
A16: 20 | B16: 208 | C16: 小諸市 | D16: 2580 | E16: 1000 | F16: 866 | G16: 1570
A17: 20 | B17: 209 | C17: 伊那市 | D17: 5100 | E17: 3350 | F17: 2920 | G17: 1740
A18: 20 | B18: 210 | C18: 駒ヶ根市 | D18: 1810 | E18: 1360 | F18: 1190 | G18: 446
A19: 20 | B19: 211 | C19: 中野市 | D19: 2890 | E19: 581 | F19: 515 | G19: 2310
A20: 20 | B20: 212 | C20: 大町市 | D20: 2410 | E20: 2050 | F20: 1810 | G20: 354
... A85: 20 | B85: 602 | C85: 栄村 | D85: 582 | E85: 331 | F85: 255 | G85: 251
C87: 計 | D87: 104400 | E87: 51100 | F87: 44800 | G87: 53300
A89: 利用上の注意 | D89: =SUM(D9:D85) -> 104405 | E89: =SUM(E9:E85) -> 51134 | F89: =SUM(F9:F85) -> 44809 | G89: =SUM(G9:G85) -> 53255
A90: １ この市町村別統計は、「作物統計調査」を実施する上で把握した地域における標本調査及び現地見積りの結果、関係機関
A91: からの情報等を踏まえ、都道府県計値の内訳として市町村別に配分することにより作成した加工統計であり、市町村別の値
A92: を目的として設計された調査に基づいて直接得られたものではない。
A93: なお、「作物統計調査」は、都道府県計値を求めるために目標精度を設定し、調査の設計がされている。
A94: ２ 面積は、耕地の存在する市町村に計上しており（属地統計）、耕作者の市町村間の出作・入作を考慮していない。
A95: ３ 数値は四捨五入しており、市町村値の計が都道府県値と一致しないことがある。

Sheet R6（長野）2024
A1: 農林水産関係市町村別統計
A2: 令和6年
A3: 耕地面積
A4: 長野県
A5: 都道府県ｺｰﾄﾞ | B5: 市町村 ｺｰﾄﾞ | C5: 市町村名 | D5: 耕地面積 | E5: 田耕地面積 | G5: 畑耕地面積
F6: 田本地面積
D8: ha | E8: ha | F8: ha | G8: ha
A9: 20 | B9: 201 | C9: 長野市 | D9: 7870 | E9: 2160 | F9: 1950 | G9: 5710
A10: 20 | B10: 202 | C10: 松本市 | D10: 7130 | E10: 4440 | F10: 4050 | G10: 2680
A11: 20 | B11: 203 | C11: 上田市 | D11: 5170 | E11: 2760 | F11: 2440 | G11: 2410
A12: 20 | B12: 204 | C12: 岡谷市 | D12: 207 | E12: 73 | F12: 62 | G12: 134
A13: 20 | B13: 205 | C13: 飯田市 | D13: 2850 | E13: 962 | F13: 824 | G13: 1880
A14: 20 | B14: 206 | C14: 諏訪市 | D14: 608 | E14: 400 | F14: 383 | G14: 208
A15: 20 | B15: 207 | C15: 須坂市 | D15: 1700 | E15: 223 | F15: 211 | G15: 1480
A16: 20 | B16: 208 | C16: 小諸市 | D16: 2580 | E16: 997 | F16: 861 | G16: 1580
A17: 20 | B17: 209 | C17: 伊那市 | D17: 5080 | E17: 3350 | F17: 2910 | G17: 1740
A18: 20 | B18: 210 | C18: 駒ヶ根市 | D18: 1800 | E18: 1360 | F18: 1180 | G18: 444
A19: 20 | B19: 211 | C19: 中野市 | D19: 2880 | E19: 571 | F19: 506 | G19: 2310
A20: 20 | B20: 212 | C20: 大町市 | D20: 2390 | E20: 2040 | F20: 1800 | G20: 357
... A85: 20 | B85: 602 | C85: 栄村 | D85: 552 | E85: 321 | F85: 247 | G85: 231
C87: 計 | D87: 103800 | E87: 50700 | F87: 44500 | G87: 53100
A89: 利用上の注意 | D89: =SUM(D9:D85) -> 103834 | E89: =SUM(E9:E85) -> 50760 | F89: =SUM(F9:F85) -> 44468 | G89: =SUM(G9:G85) -> 53106
A90: １ この市町村別統計は、「作物統計調査」を実施する上で把握した地域における標本調査結果及び現地見積りの結果、関係機関
A91: からの情報等を踏まえ、都道府県計値の内訳として市町村別に配分することにより作成した加工統計であり、市町村別の値
A92: を目的として設計された調査に基づいて直接得られたものではない。
A93: なお、「作物統計調査」は、都道府県計値を求めるために目標精度を設定し、調査の設計がされている。
A94: ２ 面積は、耕地の存在する市町村に計上しており（属地統計）、耕作者の市町村間の出作・入作を考慮していない。
A95: ３ 数値は四捨五入しており、市町村値の計が都道府県値と一致しないことがある。

Sheet 耕地面積累年統計
A1: 耕地及び作付面積統計
A2: 本地・けい畔別耕地面積累年統計
A4: 長野
A5: 年次 | B5: 田畑計 | E5: 田 | H5: 畑
B6: 計 | C6: 本地 | D6: けい畔 | E6: 計 | F6: 本地 | G6: けい畔 | H6: 計 | I6: 本地 | J6: けい畔
B7: ha | C7: ha | D7: ha | E7: ha | F7: ha | G7: ha | H7: ha | I7: ha | J7: ha
A8: 昭.40(1965) | B8: 180000 | C8: 162000 | D8: 18000 | E8: 88900 | F8: 76100 | G8: 12800 | H8: 91100 | I8: 85900 | J8: 5180
A9: 昭.41(1966) | B9: 178600 | C9: 160700 | D9: 17900 | E9: 88800 | F9: 76000 | G9: 12800 | H9: 89800 | I9: 84700 | J9: 5110
A10: 昭.42(1967) | B10: 176400 | C10: 158700 | D10: 17800 | E10: 88700 | F10: 76000 | G10: 12800 | H10: 87700 | I10: 82700 | J10: 4970
A11: 昭.43(1968) | B11: 174600 | C11: 157100 | D11: 17500 | E11: 88600 | F11: 75900 | G11: 12700 | H11: 86000 | I11: 81200 | J11: 4810
A12: 昭.44(1969) | B12: 172900 | C12: 155500 | D12: 17400 | E12: 88700 | F12: 76000 | G12: 12700 | H12: 84200 | I12: 79500 | J12: 4700
A13: 昭.45(1970) | B13: 169900 | C13: 152800 | D13: 17100 | E13: 87700 | F13: 75200 | G13: 12500 | H13: 82200 | I13: 77600 | J13: 4580
A14: 昭.46(1971) | B14: 166700 | C14: 150000 | D14: 16700 | E14: 85600 | F14: 73400 | G14: 12200 | H14: 81100 | I14: 76600 | J14: 4510
A15: 昭.47(1972) | B15: 163700 | C15: 147500 | D15: 16200 | E15: 84300 | F15: 72600 | G15: 11700 | H15: 79400 | I15: 74900 | J15: 4480
A16: 昭.48(1973) | B16: 161100 | C16: 145200 | D16: 15900 | E16: 83300 | F16: 71800 | G16: 11500 | H16: 77800 | I16: 73400 | J16: 4390
A17: 昭.49(1974) | B17: 156800 | C17: 141300 | D17: 15500 | E17: 81400 | F17: 70200 | G17: 11200 | H17: 75400 | I17: 71100 | J17: 4250
A18: 昭.50(1975) | B18: 155500 | C18: 140200 | D18: 15300 | E18: 80900 | F18: 69800 | G18: 11100 | H18: 74600 | I18: 70400 | J18: 4190
A19: 昭.51(1976) | B19: 154500 | C19: 139500 | D19: 15000 | E19: 80400 | F19: 69600 | G19: 10800 | H19: 74100 | I19: 69900 | J19: 4180
... A66: 令.5(2023) | B66: 104400 | C66: 95600 | D66: 8800 | E66: 51100 | F66: 44800 | G66: 6320 | H66: 53300 | I66: 50800 | J66: 2480

Sheet 令和6年
A1: 令和６年耕地及び作付面積統計
A2: Ⅰ 耕地面積及び耕地の拡張・かい廃面積
A3: １ 田畑別耕地面積
K6: 単位:ha
A7: 全国農業地域 ・ 都道府県 | C7: 令和５年 | F7: ６ | I7: 対前年差
C8: 計 | D8: 田 | E8: 畑 | F8: 計 | G8: 田 | H8: 畑 | I8: 計 (4)-(1) | J8: 田 (5)-(2) | K8: 畑 (6)-(3)
C9: (1) | D9: (2) | E9: (3) | F9: (4) | G9: (5) | H9: (6) | I9: (7) | J9: (8) | K9: (9)
A10: 全国 | C10: 4297000 | D10: 2335000 | E10: 1962000 | F10: 4272000 | G10: 2319000 | H10: 1952000 | I10: -25000 | J10: -16000 | K10: -10000
A11: （全国農業地域）
A12: 北海道 | C12: 1141000 | D12: 221500 | E12: 919100 | F12: 1138000 | G12: 220700 | H12: 917300 | I12: -3000 | J12: -800 | K12: -1800
A13: 都府県 | C13: 3156000 | D13: 2113000 | E13: 1043000 | F13: 3134000 | G13: 2099000 | H13: 1035000 | I13: -22000 | J13: -14000 | K13: -8000
A14: 東北 | C14: 813800 | D14: 586800 | E14: 227000 | F14: 809600 | G14: 583100 | H14: 226500 | I14: -4200 | J14: -3700 | K14: -500
A15: 北陸 | C15: 304700 | D15: 272800 | E15: 31900 | F15: 302800 | G15: 271200 | H15: 31600 | I15: -1900 | J15: -1600 | K15: -300
A16: 関東・東山 | C16: 688700 | D16: 386500 | E16: 302200 | F16: 684900 | G16: 384500 | H16: 300500 | I16: -3800 | J16: -2000 | K16: -1700
A17: 東海 | C17: 242700 | D17: 147000 | E17: 95700 | F17: 239900 | G17: 145700 | H17: 94200 | I17: -2800 | J17: -1300 | K17: -1500
A18: 近畿 | C18: 213400 | D18: 166000 | E18: 47400 | F18: 211200 | G18: 164300 | H18: 46900 | I18: -2200 | J18: -1700 | K18: -500
A19: 中国 | C19: 224900 | D19: 175000 | E19: 49900 | F19: 222900 | G19: 173600 | H19: 49400 | I19: -2000 | J19: -1400 | K19: -500
A20: 四国 | C20: 125800 | D20: 82800 | E20: 43000 | F20: 123900 | G20: 81600 | H20: 42300 | I20: -1900 | J20: -1200 | K20: -700
A21: 九州 | C21: 506300 | D21: 295800 | E21: 210500 | F21: 502400 | G21: 293900 | H21: 208500 | I21: -3900 | J21: -1900 | K21: -2000
A22: 沖縄 | C22: 36100 | D22: 751 | E22: 35400 | F22: 35900 | G22: 751 | H22: 35200 | I22: -200 | J22: 0 | K22: -200
A23: （都道府県）
A24: 北海道 | C24: 1141000 | D24: 221500 | E24: 919100 | F24: 1138000 | G24: 220700 | H24: 917300 | I24: -3000 | J24: -800 | K24: -1800
A25: 青森 | C25: 148400 | D25: 78100 | E25: 70300 | F25: 147300 | G25: 77500 | H25: 69800 | I25: -1100 | J25: -600 | K25: -500
A26: 岩手 | C26: 147100 | D26: 92700 | E26: 54500 | F26: 146000 | G26: 91500 | H26: 54500 | I26: -1100 | J26: -1200 | K26: 0
A27: 宮城 | C27: 124400 | D27: 102300 | E27: 22100 | F27: 123900 | G27: 101700 | H27: 22200 | I27: -500 | J27: -600 | K27: 100
A28: 秋田 | C28: 146000 | D28: 128100 | E28: 17900 | F28: 145600 | G28: 127700 | H28: 17800 | I28: -400 | J28: -400 | K28: -100
A29: 山形 | C29: 113500 | D29: 90200 | E29: 23300 | F29: 113200 | G29: 89800 | H29: 23300 | I29: -300 | J29: -400 | K29: 0
A30: 福島 | C30: 134500 | D30: 95500 | E30: 39000 | F30: 133700 | G30: 94800 | H30: 38900 | I30: -800 | J30: -700 | K30: -100
A31: 茨城 | C31: 159400 | D31: 94300 | E31: 65200 | F31: 158300 | G31: 93900 | H31: 64500 | I31: -1100 | J31: -400 | K31: -700
A32: 栃木 | C32: 120700 | D32: 93900 | E32: 26800 | F32: 120400 | G32: 93600 | H32: 26800 | I32: -300 | J32: -300 | K32: 0
A33: 群馬 | C33: 63800 | D33: 23800 | E33: 40100 | F33: 63200 | G33: 23500 | H33: 39700 | I33: -600 | J33: -300 | K33: -400
A34: 埼玉 | C34: 73000 | D34: 40700 | E34: 32200 | F34: 72700 | G34: 40600 | H34: 32100 | I34: -300 | J34: -100 | K34: -100
A35: 千葉 | C35: 120300 | D35: 71500 | E35: 48800 | F35: 119500 | G35: 70900 | H35: 48700 | I35: -800 | J35: -600 | K35: -100
... A73: 中国四国農政局 | C73: 350700 | D73: 257800 | E73: 92900 | F73: 346900 | G73: 255200 | H73: 91700 | I73: -3800 | J73: -2600 | K73: -1200

Sheet 合併（長野）(合併年月と集計単位）
C1: 2003 | D1: 2004 | E1: 2005 | F1: 2006 | G1: 2007 | H1: 2008 | I1: 2009 | J1: 2010 | K1: 2011 | L1: 2012 | M1: 2013 | N1: 2014 | O1: 2015 | P1: 2016 | Q1: 2017 | R1: 2018 | S1: 2019 | T1: 2020 | U1: 2021 | V1: 2022 | W1: 2023 | X1: 2024
C2: H15 | D2: H16 | E2: H17 | F2: H18 | G2: H19 | H2: H20 | I2: H21 | J2: H22 | K2: H23 | L2: H24 | M2: H25 | N2: H26 | O2: H27 | P2: H28 | Q2: H29 | R2: H30 | S2: R1 | T2: R2 | U2: R3 | V2: R4 | W2: R5 | X2: R6
A3: 201 | B3: 長野市 | D3: 3 | E3: 3 | F3: 3 | G3: 3 | H3: 3 | I3: 3 | J3: 1 | K3: 集計数 | Y3: 201 | Z3: 長野市 | AD3: 201 | AE3: 長野市
A4: 201 | B4: 長野市 | J4: 1
A5: 581 | B5: 信州新町 | J5: 1
A6: 589 | B6: 中条村 | J6: 1 | K6: 合併年月
A7: 202 | B7: 松本市 | D7: 6 | E7: 2 | F7: 2 | G7: 2 | H7: 2 | I7: 2 | J7: 1 | Y7: 202 | Z7: 松本市
A8: 202 | B8: 松本市 | E8: 4 | J8: 3
A9: 202 | B9: 松本市 | E9: 4
A10: 443 | B10: 四賀村 | E10: 4
A11: 449 | B11: 波田町 | J11: 3
A12: 463 | B12: 奈川村 | E12: 4
A13: 464 | B13: 安曇村 | E13: 4
A14: 465 | B14: 梓川村 | E14: 4
A15: 203 | B15: 上田市 | D15: 4 | E15: 1 | Y15: 203 | Z15: 上田市 | AD15: 203 | AE15: 上田市
A16: 203 | B16: 上田市 | F16: 3
A17: 341 | B17: 丸子町 | F17: 3
A18: 345 | B18: 真田町 | F18: 3
A19: 346 | B19: 武石村 | F19: 3
A20: 204 | B20: 岡谷市 | Y20: 204 | Z20: 岡谷市 | AD20: 204 | AE20: 岡谷市
A21: 205 | B21: 飯田市 | D21: 3 | E21: 1 | Y21: 205 | Z21: 飯田市 | AD21: 205 | AE21: 飯田市
A22: 205 | B22: 飯田市 | E22: 10
A23: 418 | B23: 上村 | E23: 10
A24: 419 | B24: 南信濃村 | E24: 10
A25: 206 | B25: 諏訪市 | Y25: 206 | Z25: 諏訪市 | AD25: 206 | AE25: 諏訪市
A26: 207 | B26: 須坂市 | Y26: 207 | Z26: 須坂市 | AD26: 207 | AE26: 須坂市
A27: 208 | B27: 小諸市 | Y27: 208 | Z27: 小諸市 | AD27: 208 | AE27: 小諸市
A28: 209 | B28: 伊那市 | D28: 3 | E28: 3 | F28: 1 | Y28: 209 | Z28: 伊那市 | AD28: 209 | AE28: 伊那市
A29: 209 | B29: 伊那市 | F29: 3
A30: 381 | B30: 高遠町 | F30: 3
A31: 387 | B31: 長谷村 | F31: 3
A32: 210 | B32: 駒ヶ根市 | Y32: 210 | Z32: 駒ヶ根市 | AD32: 210 | AE32: 駒ヶ根市
A33: 211 | B33: 中野市 | D33: 2 | E33: 1 | Y33: 211 | Z33: 中野市 | AD33: 211 | AE33: 中野市
A34: 211 | B34: 中野市 | E34: 4
A35: 601 | B35: 豊田村 | E35: 4
A36: 212 | B36: 大町市 | D36: 3 | E36: 3 | F36: 1 | Y36: 212 | Z36: 大町市 | AD36: 212 | AE36: 大町市
A37: 212 | B37: 大町市 | F37: 1
A38: 483 | B38: 八坂村 | F38: 1
A39: 484 | B39: 美麻村 | F39: 1
A40: 213 | B40: 飯山市 | Y40: 213 | Z40: 飯山市 | AD40: 213 | AE40: 飯山市
...

Sheet 市町村合併一覧(長野）
B1: 合併市町村一覧（旧合併特例法下）
A2: 反 映有無 | B2: 千曲市 | C2: 更埴市・戸倉町・上山田町 | D2: H15年9月1日 | E2: 64,022人 | F2: 119.84k平方メートル | G2: 新設
B3: 東御市 | C3: 東部町・北御牧村 | D3: H16年4月1日 | E3: 31,271人 | F3: 112.30k平方メートル | G3: 新設
B4: 長野市 | C4: 長野市・大岡村・豊野町・戸隠村・鬼無里村 | D4: H17年1月1日 | E4: 378,512人 | F4: 730.83k平方メートル | G4: 編入・更級郡が消滅
A5: 〇 | B5: 佐久穂町 | C5: 佐久町・八千穂村 | D5: H17年3月20日 | E5: 12,980人 | F5: 188.13k平方メートル | G5: 新設
A6: 〇 | B6: 松本市 | C6: 松本市・四賀村・奈川村・安曇村・梓川村 | D6: H17年4月1日 | E6: 227,627人 | F6: 919.35k平方メートル | G6: 編入
A7: 〇 | B7: 中野市 | C7: 中野市・豊田村 | D7: H17年4月1日 | E7: 46,788人 | F7: 112.06k平方メートル | G7: 新設
A8: 〇 | B8: 塩尻市 | C8: 塩尻市・楢川村 | D8: H17年4月1日 | E8: 68,346人 | F8: 290.13k平方メートル | G8: 編入
A9: 〇 | B9: 佐久市 | C9: 佐久市・臼田町・浅科村・望月町 | D9: H17年4月1日 | E9: 100,462人 | F9: 423.99k平方メートル | G9: 新設
A10: 〇 | B10: 飯田市 | C10: 飯田市・上村・南信濃村 | D10: H17年10月1日 | E10: 108,624人 | F10: 658.76k平方メートル | G10: 編入
A11: 〇 | B11: 安曇野市 | C11: 豊科町・穂高町・三郷村・堀金村・明科町 | D11: H17年10月1日 | E11: 96,266人 | F11: 331.82k平方メートル | G11: 新設・南安曇郡が消滅
A12: 〇 | B12: 長和町 | C12: 長門町・和田村 | D12: H17年10月1日 | E12: 7,304人 | F12: 183.95k平方メートル | G12: 新設
A13: 〇 | B13: 飯綱町 | C13: 牟礼村・三水村 | D13: H17年10月1日 | E13: 12,504人 | F13: 75.31k平方メートル | G13: 新設
A14: 〇 | B14: 筑北村 | C14: 本城村・坂北村・坂井村 | D14: H17年10月11日 | E14: 5,702人 | F14: 99.50k平方メートル | G14: 新設
A15: 〇 | B15: 木曽町 | C15: 木曽福島町・日義村・開田村・三岳村 | D15: H17年11月1日 | E15: 13,900人 | F15: 476.06k平方メートル | G15: 新設
A16: 〇 | B16: 大町市 | C16: 大町市・八坂村・美麻村 | D16: H18年1月1日 | E16: 32,145人 | F16: 564.99k平方メートル | G16: 編入
... A19: 〇 | B19: 伊那市 | C19: 伊那市、高遠町、長谷村 | D19: H18年3月31日 | E19: 71,788人 | F19: 667.81k平方メートル | G19: 新設
B20: 木曽郡山口村が岐阜県中津川市に編入（H17年2月13日）
B21: 合併市町村一覧（合併新法下）
B23: 新市町村名 | C23: 合併前の市町村 | D23: 合併日 | E23: 人口(H17国調) | F23: 面積 | G23: 備考
A24: 〇 | B24: 阿智村 | C24: 阿智村・清内路村 | D24: H21年3月31日 | E24: 7,548人 | F24: 214.47k平方メートル | G24: 編入
A25: 〇 | B25: 長野市 | C25: 長野市・信州新町・中条村 | D25: H22年1月1日 | E25: 386,572人 | F25: 834.85k平方メートル | G25: 編入
A26: 〇 | B26: 松本市 | C26: 松本市・波田町 | D26: H22年3月31日 | E26: 242,541人 | F26: 978.77k平方メートル | G26: 編入
B28: 長野県の市町村数の推移（旧合併特例法下）
B29: 年月日 | C29: 市 | D29: 町 | E29: 村 | F29: 計 | G29: 備考
B30: H15年9月1日 | C30: 17 | D30: 34 | E30: 67 | F30: 118 | G30: 千曲市が誕生
B31: H16年4月1日 | C31: 18 | D31: 33 | E31: 66 | F31: 117 | G31: 東御市が誕生
B32: H17年1月1日 | C32: 18 | D32: 32 | E32: 63 | F32: 113 | G32: 豊野町、大岡村、戸隠村、鬼無里村が長野市に編入
B33: H17年2月13日 | C33: 18 | D33: 32 | E33: 62 | F33: 112 | G33: 山口村が岐阜県中津川市に編入
B34: H17年3月20日 | C34: 18 | D34: 32 | E34: 61 | F34: 111 | G34: 佐久穂町が誕生
B35: H17年4月1日 | C35: 18 | D35: 30 | E35: 54 | F35: 102 | G35: 四賀村、奈川村、安曇村、梓川村が松本市に編入、中野市（新設）が誕生、楢川村が塩尻市に編入、佐久市（新設）が誕生
B36: H17年10月1日 | C36: 19 | D36: 28 | E36: 47 | F36: 94 | G36: 上村、南信濃村が飯田市に編入、安曇野市が誕生、長和町が誕生、飯綱町が誕生
B37: H17年10月11日 | C37: 19 | D37: 28 | E37: 45 | F37: 92 | G37: 筑北村が誕生
B38: H17年11月1日 | C38: 19 | D38: 28 | E38: 42 | F38: 89 | G38: 木曽町が誕生
B39: H18年1月1日 | C39: 19 | D39: 28 | E39: 39 | F39: 86 | G39: 八坂村、美麻村が大町市に編入、浪合村が阿智村に編入
B40: H18年3月6日 | C40: 19 | D40: 26 | E40: 38 | F40: 83 | G40: 上田市（新設）が誕生
B41: H18年3月31日 | C41: 19 | D41: 25 | E41: 37 | F41: 81 | G41: 伊那市（新設）が誕生
B43: 長野県の市町村数の推移（合併新法下）
B44: 年月日 | C44: 市 | D44: 町 | E44: 村 | F44: 計 | G44: 備考
B45: H21年3月31日 | C45: 19 | D45: 25 | E45: 36 | F45: 80 | G45: 清内路村が阿智村に編入
...

Sheet データ耕地（長野）2004～
A1: データ耕地 | D1: 2004 | E1: 2005 | F1: 2006 | G1: 2007 | H1: 2008 | I1: 2009 | J1: 2010 | K1: 2011 | L1: 2012 | M1: 2013 | N1: 2014 | O1: 2015 | P1: 2016 | Q1: 2017 | R1: 2018 | S1: 2019 | T1: 2020 | U1: 2021 | V1: 2022 | W1: 2023 | X1: 2024
J2: 111200 | K2: 111000 | L2: 110900 | M2: 110400 | N2: 109900 | O2: 108900 | P2: 108000 | Q2: 107300 | R2: 106700 | S2: 106100 | T2: 105300 | U2: 105200 | V2: 104800 | W2: 104400 | X2: 103800
D3: =SUM(D4:D131) -> 114186 | E3: =SUM(E4:E131) -> 113562 | F3: =SUM(F4:F131) -> 112965 | G3: =SUM(G4:G131) -> 112282 | H3: =SUM(H4:H131) -> 111544 | I3: =SUM(I4:I131) -> 111357 | J3: =SUM(J4:J131) -> 111203 | K3: =SUM(K4:K131) -> 110963 | ... X3: =SUM(X4:X131) -> 103834
A4: 1000 | B4: 201 | C4: 長野市 | J4: ='22（長野）2010'!$D9 -> 8790 | K4: ='23（長野）2011'!$D9 -> 8750 | L4: ='24（長野）2012'!$D9 -> 8720 | M4: ='25（長野）2013'!$D9 -> 8660 | N4: ='26（長野）2014'!$D9 -> 8570 | O4: ='27（長野）2015'!$D9 -> 8340 | P4: ='28（長野）2016'!$D9 -> 8230 | Q4: ='29（長野）2017'!$D9 -> 8160 | R4: ='30（長野）2018'!$D9 -> 8120 | S4: ='R1（長野）2019'!$D9 -> 8090 | T4: ='R2（長野）2020'!$D9 -> 8010 | U4: ='R3（長野）2021'!$D9 -> 7990 | V4: ='R4（長野）2022'!$D9 -> 7980 | W4: ='R5（長野）2023'!$D9 -> 7940 | X4: ='R6（長野）2024'!$D9 -> 7870
B5: 201 | C5: 長野市 | D5: ='16（長野）2004'!D9 -> 8130 | E5: ='17（長野）2005'!D9 -> 8100 | F5: ='18（長野）2006'!$D9 -> 8070 | G5: ='19（長野）2007'!$D9 -> 8020 | H5: ='20（長野）2008'!$D9 -> 7960 | I5: ='21（長野）2009'!$D9 -> 7920
B6: 581 | C6: 信州新町 | D6: ='16（長野）2004'!D112 -> 612 | E6: ='17（長野）2005'!D84 -> 609 | F6: ='18（長野）2006'!$D84 -> 607 | G6: ='19（長野）2007'!$D84 -> 604 | H6: ='20（長野）2008'!$D84 -> 591 | I6: ='21（長野）2009'!D83 -> 591
B7: 589 | C7: 中条村 | D7: ='16（長野）2004'!D117 -> 330 | E7: ='17（長野）2005'!D87 -> 327 | F7: ='18（長野）2006'!$D87 -> 325 | G7: ='19（長野）2007'!$D87 -> 321 | H7: ='20（長野）2008'!$D87 -> 314 | I7: ='21（長野）2009'!D86 -> 314
A8: 2000 | B8: 202 | C8: 松本市 | J8: ='22（長野）2010'!$D10 -> 7790 | K8: ='23（長野）2011'!$D10 -> 7780 | L8: ='24（長野）2012'!$D10 -> 7760 | M8: ='25（長野）2013'!$D10 -> 7660 | N8: ='26（長野）2014'!$D10 -> 7600 | O8: ='27（長野）2015'!$D10 -> 7540 | P8: ='28（長野）2016'!$D10 -> 7460 | Q8: ='29（長野）2017'!$D10 -> 7390 | R8: ='30（長野）2018'!$D10 -> 7320 | S8: ='R1（長野）2019'!$D10 -> 7260 | T8: ='R2（長野）2020'!$D10 -> 7200 | U8: ='R3（長野）2021'!$D10 -> 7180 | V8: ='R4（長野）2022'!$D10 -> 7150 | W8: ='R5（長野）2023'!$D10 -> 7130 | X8: ='R6（長野）2024'!$D10 -> 7130
B9: 202 | C9: 松本市
B10: 202 | C10: 松本市 | D10: ='16（長野）2004'!D10 -> 5070 | E10: ='17（長野）2005'!D10 -> 6920 | F10: ='18（長野）2006'!D10 -> 6870 | G10: ='19（長野）2007'!D10 -> 6860 | H10: ='20（長野）2008'!D10 -> 6860 | I10: ='21（長野）2009'!D10 -> 6870
B11: 443 | C11: 四賀村 | D11: ='16（長野）2004'!D84 -> 534
B12: 449 | C12: 波田町 | D12: ='16（長野）2004'!D90 -> 941 | E12: ='17（長野）2005'!D70 -> 936 | F12: ='18（長野）2006'!$D70 -> 932 | G12: ='19（長野）2007'!$D70 -> 930 | H12: ='20（長野）2008'!$D70 -> 930 | I12: ='21（長野）2009'!D69 -> 928
B13: 463 | C13: 奈川村 | D13: ='16（長野）2004'!D95 -> 133
B14: 464 | C14: 安曇村 | D14: ='16（長野）2004'!D96 -> 33
B15: 465 | C15: 梓川村 | D15: ='16（長野）2004'!D97 -> 1220
A16: 3000 | B16: 203 | C16: 上田市 | E16: ='17（長野）2005'!D11 -> 5680 | F16: ='18（長野）2006'!$D11 -> 5630 | G16: ='19（長野）2007'!$D11 -> 5600 | H16: ='20（長野）2008'!$D11 -> 5560 | I16: ='21（長野）2009'!$D11 -> 5550 | J16: ='22（長野）2010'!$D11 -> 5540 | K16: ='23（長野）2011'!$D11 -> 5530 | L16: ='24（長野）2012'!$D11 -> 5530 | M16: ='25（長野）2013'!$D11 -> 5510 | N16: ='26（長野）2014'!$D11 -> 5470 | O16: ='27（長野）2015'!$D11 -> 5390 | P16: ='28（長野）2016'!$D11 -> 5320 | Q16: ='29（長野）2017'!$D11 -> 5290 | R16: ='30（長野）2018'!$D11 -> 5230 | S16: ='R1（長野）2019'!$D11 -> 5220 | T16: ='R2（長野）2020'!$D11 -> 5220 | U16: ='R3（長野）2021'!$D11 -> 5250 | V16: ='R4（長野）2022'!$D11 -> 5200 | W16: ='R5（長野）2023'!$D11 -> 5180 | X16: ='R6（長野）2024'!$D11 -> 5170
B17: 203 | C17: 上田市 | D17: ='16（長野）2004'!D11 -> 3160
B18: 341 | C18: 丸子町 | D18: ='16（長野）2004'!D39 -> 911
B19: 345 | C19: 真田町 | D19: ='16（長野）2004'!D41 -> 1210
B20: 346 | C20: 武石村 | D20: ='16（長野）2004'!D42 -> 427
A21: 4000 | B21: 204 | C21: 岡谷市 | D21: ='16（長野）2004'!D12 -> 271 | E21: ='17（長野）2005'!D12 -> 265 | F21: ='18（長野）2006'!$D12 -> 258 | G21: ='19（長野）2007'!$D12 -> 251 | H21: ='20（長野）2008'!$D12 -> 246 | I21: ='21（長野）2009'!$D12 -> 244 | J21: ='22（長野）2010'!$D12 -> 244 | K21: ='23（長野）2011'!$D12 -> 244 | L21: ='24（長野）2012'!$D12 -> 241 | M21: ='25（長野）2013'!$D12 -> 239 | N21: ='26（長野）2014'!$D12 -> 237 | O21: ='27（長野）2015'!$D12 -> 234 | P21: ='28（長野）2016'!$D12 -> 232 | Q21: ='29（長野）2017'!$D12 -> 230 | R21: ='30（長野）2018'!$D12 -> 227 | S21: ='R1（長野）2019'!$D12 -> 224 | T21: ='R2（長野）2020'!$D12 -> 220 | U21: ='R3（長野）2021'!$D12 -> 215 | V21: ='R4（長野）2022'!$D12 -> 211 | W21: ='R5（長野）2023'!$D12 -> 213 | X21: ='R6（長野）2024'!$D12 -> 207
A22: 5000 | B22: 205 | C22: 飯田市 | E22: ='17（長野）2005'!D13 -> 3230 | F22: ='18（長野）2006'!$D13 -> 3190 | G22: ='19（長野）2007'!$D13 -> 3160 | H22: ='20（長野）2008'!$D13 -> 3130 | I22: ='21（長野）2009'!$D13 -> 3100 | J22: ='22（長野）2010'!$D13 -> 3080 | K22: ='23（長野）2011'!$D13 -> 3050 | L22: ='24（長野）2012'!$D13 -> 3040 | M22: ='25（長野）2013'!$D13 -> 3040 | N22: ='26（長野）2014'!$D13 -> 3050 | O22: ='27（長野）2015'!$D13 -> 3030 | P22: ='28（長野）2016'!$D13 -> 3010 | Q22: ='29（長野）2017'!$D13 -> 2990 | R22: ='30（長野）2018'!$D13 -> 2980 | S22: ='R1（長野）2019'!$D13 -> 2950 | T22: ='R2（長野）2020'!$D13 -> 2940 | U22: ='R3（長野）2021'!$D13 -> 2930 | V22: ='R4（長野）2022'!$D13 -> 2920 | W22: ='R5（長野）2023'!$D13 -> 2910 | X22: ='R6（長野）2024'!$D13 -> 2850
B23: 205 | C23: 飯田市 | D23: ='16（長野）2004'!D13 -> 3110
B24: 418 | C24: 上村 | D24: ='16（長野）2004'!D71 -> 40
B25: 419 | C25: 南信濃村 | D25: ='16（長野）2004'!D72 -> 120
