Workbook

Sheet 水稲H16（長野）2004
A1: 農林水産関係市町村別データ
A2: 平成16年産
A3: 水陸稲
A4: 長野県 | D4: 1.水稲 | G4: 2.陸稲
A5: 都道 | B5: 市町 | D5: 作付面積 | E5: 10a当たり | F5: 収穫量 | G5: 作付面積 | H5: 10a当たり | I5: 収穫量
A6: 府県 | B6: 村 | C6: 市町村名 | E6: 収量 | H6: 収量
A7: ｺｰﾄﾞ | B7: ｺｰﾄﾞ
D8: ha | E8: kg | F8: t | G8: ha | H8: kg | I8: t
A9: 20 | B9: 201 | C9: 長野市 | D9: 1910 | E9: 537 | F9: 10200 | G9: - | H9: - | I9: -
A10: 20 | B10: 202 | C10: 松本市 | D10: 2100 | E10: 643 | F10: 13500 | G10: - | H10: - | I10: -
A11: 20 | B11: 203 | C11: 上田市 | D11: 1160 | E11: 630 | F11: 7330 | G11: - | H11: - | I11: -
A12: 20 | B12: 204 | C12: 岡谷市 | D12: 66 | E12: 658 | F12: 434 | G12: - | H12: - | I12: -
A13: 20 | B13: 205 | C13: 飯田市 | D13: 873 | E13: 647 | F13: 5650 | G13: - | H13: - | I13: -
A14: 20 | B14: 206 | C14: 諏訪市 | D14: 379 | E14: 678 | F14: 2570 | G14: - | H14: - | I14: -
A15: 20 | B15: 207 | C15: 須坂市 | D15: 232 | E15: 560 | F15: 1300 | G15: - | H15: - | I15: -
A16: 20 | B16: 208 | C16: 小諸市 | D16: 708 | E16: 659 | F16: 4670 | G16: - | H16: - | I16: -
A17: 20 | B17: 209 | C17: 伊那市 | D17: 1870 | E17: 663 | F17: 12400 | G17: - | H17: - | I17: -
A18: 20 | B18: 210 | C18: 駒ヶ根市 | D18: 926 | E18: 650 | F18: 6020 | G18: - | H18: - | I18: -
A19: 20 | B19: 211 | C19: 中野市 | D19: 394 | E19: 562 | F19: 2210 | G19: - | H19: - | I19: -
A20: 20 | B20: 212 | C20: 大町市 | D20: 1430 | E20: 656 | F20: 9370 | G20: - | H20: - | I20: -
... A28: 20 | B28: 303 | C28: 小海町 | D28: 89 | E28: 615 | F28: 547 | G28: - | H28: - | I28: -
A29: 20 | B29: 304 | C29: 川上村 | D29: - | E29: - | F29: - | G29: - | H29: - | I29: -
A30: 20 | B30: 305 | C30: 南牧村 | D30: 22 | E30: 536 | F30: 118 | G30: - | H30: - | I30: -
A31: 20 | B31: 306 | C31: 南相木村 | D31: 2 | E31: 551 | F31: 11 | G31: - | H31: - | I31: -
A32: 20 | B32: 307 | C32: 北相木村 | D32: 6 | E32: 549 | F32: 33 | G32: - | H32: - | I32: -
A33: 20 | B33: 309 | C33: 佐久穂町 | D33: 384 | E33: 636 | F33: 2440 | G33: - | H33: - | I33: -
A34: 20 | B34: 321 | C34: 軽井沢町 | D34: 24 | E34: 619 | F34: 149 | G34: - | H34: - | I34: -
A35: 20 | B35: 322 | C35: 望月町 | D35: 538 | E35: 679 | F35: 3650 | G35: - | H35: - | I35: -
A36: 20 | B36: 323 | C36: 御代田町 | D36: 131 | E36: 634 | F36: 831 | G36: - | H36: - | I36: -
A37: 20 | B37: 324 | C37: 立科町 | D37: 470 | E37: 682 | F37: 3210 | G37: - | H37: - | I37: -
A38: 20 | B38: 325 | C38: 浅科村 | D38: 399 | E38: 677 | F38: 2700 | G38: - | H38: - | I38: -
A39: 20 | B39: 341 | C39: 丸子町 | D39: 356 | E39: 641 | F39: 2280 | G39: - | H39: - | I39: -
A40: 20 | B40: 342 | C40: 長門町 | D40: 179 | E40: 628 | F40: 1120 | G40: - | H40: - | I40: -
A41: 20 | B41: 345 | C41: 真田町 | D41: 150 | E41: 620 | F41: 930 | G41: - | H41: - | I41: -
... A95: 20 | B95: 463 | C95: 奈川村 | D95: 9 | E95: 543 | F95: 49 | G95: - | H95: - | I95: -
A96: 20 | B96: 464 | C96: 安曇村 | D96: - | E96: - | F96: - | G96: - | H96: - | I96: -
A97: 20 | B97: 465 | C97: 梓川村 | D97: 414 | E97: 666 | F97: 2760 | G97: - | H97: - | I97: -
A98: 20 | B98: 466 | C98: 三郷村 | D98: 520 | E98: 666 | F98: 3460 | G98: - | H98: - | I98: -
A99: 20 | B99: 467 | C99: 堀金村 | D99: 509 | E99: 667 | F99: 3400 | G99: - | H99: - | I99: -
A100: 20 | B100: 481 | C100: 池田町 | D100: 527 | E100: 667 | F100: 3520 | G100: - | H100: - | I100: -
A101: 20 | B101: 482 | C101: 松川村 | D101: 760 | E101: 675 | F101: 5130 | G101: - | H101: - | I101: -
A102: 20 | B102: 483 | C102: 八坂村 | D102: 33 | E102: 601 | F102: 198 | G102: - | H102: - | I102: -
A103: 20 | B103: 484 | C103: 美麻村 | D103: 55 | E103: 601 | F103: 331 | G103: - | H103: - | I103: -
A104: 20 | B104: 485 | C104: 白馬村 | D104: 410 | E104: 613 | F104: 2510 | G104: - | H104: - | I104: -
A105: 20 | B105: 486 | C105: 小谷村 | D105: 116 | E105: 600 | F105: 696 | G105: - | H105: - | I105: -
A106: 20 | B106: 521 | C106: 坂城町 | D106: 163 | E106: 564 | F106: 919 | G106: - | H106: - | I106: -
A107: 20 | B107: 541 | C107: 小布施町 | D107: 120 | E107: 572 | F107: 686 | G107: - | H107: - | I107: -
A108: 20 | B108: 543 | C108: 高山村 | D108: 91 | E108: 556 | F108: 506 | G108: - | H108: - | I108: -
... A119: 20 | B119: 602 | C119: 栄村 | D119: 252 | E119: 532 | F119: 1340 | G119: - | H119: - | I119: -
D121: =SUM(D9:D120) -> 36278 | E121: =SUM(E9:E120) -> 66113 | F121: =SUM(F9:F120) -> 230172
A122: 利用上の注意
A123: この市町村別データは、『作物統計調査』の県計値を当該市町村における調査結果、関係機関・団体からの情報等により加工したものである。

Sheet 水稲H17（長野）2005
A1: 農林水産関係市町村別データ
A2: 平成17年産
A3: 水陸稲
A4: 長野県 | D4: 1.水稲 | G4: 2.陸稲
A5: 都道 | B5: 市町 | D5: 作付面積 | E5: 10a当たり | F5: 収穫量 | G5: 作付面積 | H5: 10a当たり | I5: 収穫量
A6: 府県 | B6: 村 | C6: 市町村名 | E6: 収量 | H6: 収量
A7: ｺｰﾄﾞ | B7: ｺｰﾄﾞ
D8: ha | E8: kg | F8: t | G8: ha | H8: kg | I8: t
A9: 20 | B9: 201 | C9: 長野市 | D9: 1870 | E9: 599 | F9: 11200 | G9: - | H9: - | I9: -
A10: 20 | B10: 202 | C10: 松本市 | D10: 2700 | E10: 661 | F10: 17800 | G10: - | H10: - | I10: -
A11: 20 | B11: 203 | C11: 上田市 | D11: 1820 | E11: 644 | F11: 11700 | G11: - | H11: - | I11: -
A12: 20 | B12: 204 | C12: 岡谷市 | D12: 65 | E12: 673 | F12: 437 | G12: - | H12: - | I12: -
A13: 20 | B13: 205 | C13: 飯田市 | D13: 877 | E13: 615 | F13: 5390 | G13: - | H13: - | I13: -
A14: 20 | B14: 206 | C14: 諏訪市 | D14: 387 | E14: 679 | F14: 2630 | G14: - | H14: - | I14: -
A15: 20 | B15: 207 | C15: 須坂市 | D15: 226 | E15: 602 | F15: 1360 | G15: - | H15: - | I15: -
A16: 20 | B16: 208 | C16: 小諸市 | D16: 706 | E16: 669 | F16: 4720 | G16: - | H16: - | I16: -
A17: 20 | B17: 209 | C17: 伊那市 | D17: 2230 | E17: 665 | F17: 14800 | G17: - | H17: - | I17: -
A18: 20 | B18: 210 | C18: 駒ヶ根市 | D18: 948 | E18: 652 | F18: 6180 | G18: - | H18: - | I18: -
A19: 20 | B19: 211 | C19: 中野市 | D19: 546 | E19: 590 | F19: 3220 | G19: - | H19: - | I19: -
A20: 20 | B20: 212 | C20: 大町市 | D20: 1640 | E20: 647 | F20: 10600 | G20: - | H20: - | I20: -
... A28: 20 | B28: 303 | C28: 小海町 | D28: 88 | E28: 629 | F28: 554 | G28: - | H28: - | I28: -
A29: 20 | B29: 304 | C29: 川上村 | D29: - | E29: - | F29: - | G29: - | H29: - | I29: -
A30: 20 | B30: 305 | C30: 南牧村 | D30: 22 | E30: 543 | F30: 119 | G30: - | H30: - | I30: -
A31: 20 | B31: 306 | C31: 南相木村 | D31: 2 | E31: 557 | F31: 11 | G31: - | H31: - | I31: -
A32: 20 | B32: 307 | C32: 北相木村 | D32: 6 | E32: 553 | F32: 33 | G32: - | H32: - | I32: -
A33: 20 | B33: 309 | C33: 佐久穂町 | D33: 392 | E33: 647 | F33: 2540 | G33: - | H33: - | I33: -
A34: 20 | B34: 321 | C34: 軽井沢町 | D34: 23 | E34: 639 | F34: 147 | G34: - | H34: - | I34: -
A35: 20 | B35: 323 | C35: 御代田町 | D35: 129 | E35: 653 | F35: 842 | G35: - | H35: - | I35: -
A36: 20 | B36: 324 | C36: 立科町 | D36: 471 | E36: 699 | F36: 3290 | G36: - | H36: - | I36: -
A37: 20 | B37: 349 | C37: 青木村 | D37: 136 | E37: 624 | F37: 849 | G37: - | H37: - | I37: -
A38: 20 | B38: 350 | C38: 長和町 | D38: 276 | E38: 624 | F38: 1720 | G38: - | H38: - | I38: -
A39: 20 | B39: 361 | C39: 下諏訪町 | D39: 21 | E39: 671 | F39: 141 | G39: - | H39: - | I39: -
A40: 20 | B40: 362 | C40: 富士見町 | D40: 475 | E40: 660 | F40: 3140 | G40: - | H40: - | I40: -
A41: 20 | B41: 363 | C41: 原村 | D41: 413 | E41: 654 | F41: 2700 | G41: - | H41: - | I41: -
... A89: 20 | B89: 602 | C89: 栄村 | D89: 251 | E89: 528 | F89: 1330 | G89: - | H89: - | I89: -
A91: 利用上の注意 | D91: =SUM(D9:D89) -> 36710 | E91: =SUM(E9:E89) -> 49211 | F91: =SUM(F9:F89) -> 237423
A92: この市町村別データは、『作物統計調査』の県計値を当該市町村における調査結果、関係機関・団体からの情報等により加工したものである。

Sheet 水稲H18（長野）2006
A1: 農林水産関係市町村別データ
A2: 平成18年産
A3: 水陸稲
A4: 長野県 | D4: 1.水稲 | G4: 2.陸稲
A5: 都道 | B5: 市町 | D5: 作付面積 | E5: 10a当たり | F5: 収穫量 | G5: 作付面積 | H5: 10a当たり | I5: 収穫量
A6: 府県 | B6: 村 | C6: 市町村名 | E6: 収量 | H6: 収量
A7: ｺｰﾄﾞ | B7: ｺｰﾄﾞ
D8: ha | E8: kg | F8: t | G8: ha | H8: kg | I8: t
A9: 20 | B9: 201 | C9: 長野市 | D9: 1800 | E9: 543 | F9: 9770 | G9: - | H9: - | I9: -
A10: 20 | B10: 202 | C10: 松本市 | D10: 2720 | E10: 639 | F10: 17400 | G10: - | H10: - | I10: -
A11: 20 | B11: 203 | C11: 上田市 | D11: 1800 | E11: 599 | F11: 10800 | G11: - | H11: - | I11: -
A12: 20 | B12: 204 | C12: 岡谷市 | D12: 65 | E12: 607 | F12: 395 | G12: - | H12: - | I12: -
A13: 20 | B13: 205 | C13: 飯田市 | D13: 865 | E13: 578 | F13: 5000 | G13: - | H13: - | I13: -
A14: 20 | B14: 206 | C14: 諏訪市 | D14: 387 | E14: 635 | F14: 2460 | G14: - | H14: - | I14: -
A15: 20 | B15: 207 | C15: 須坂市 | D15: 227 | E15: 568 | F15: 1290 | G15: - | H15: - | I15: -
A16: 20 | B16: 208 | C16: 小諸市 | D16: 706 | E16: 638 | F16: 4500 | G16: - | H16: - | I16: -
A17: 20 | B17: 209 | C17: 伊那市 | D17: 2220 | E17: 657 | F17: 14600 | G17: - | H17: - | I17: -
A18: 20 | B18: 210 | C18: 駒ヶ根市 | D18: 936 | E18: 644 | F18: 6030 | G18: - | H18: - | I18: -
A19: 20 | B19: 211 | C19: 中野市 | D19: 545 | E19: 568 | F19: 3100 | G19: - | H19: - | I19: -
A20: 20 | B20: 212 | C20: 大町市 | D20: 1650 | E20: 601 | F20: 9940 | G20: - | H20: - | I20: -
... A28: 20 | B28: 303 | C28: 小海町 | D28: 88 | E28: 590 | F28: 519 | G28: - | H28: - | I28: -
A29: 20 | B29: 304 | C29: 川上村 | D29: - | E29: - | F29: - | G29: - | H29: - | I29: -
A30: 20 | B30: 305 | C30: 南牧村 | D30: 22 | E30: 512 | F30: 113 | G30: - | H30: - | I30: -
A31: 20 | B31: 306 | C31: 南相木村 | D31: 2 | E31: 526 | F31: 11 | G31: - | H31: - | I31: -
A32: 20 | B32: 307 | C32: 北相木村 | D32: 6 | E32: 521 | F32: 31 | G32: - | H32: - | I32: -
A33: 20 | B33: 309 | C33: 佐久穂町 | D33: 392 | E33: 612 | F33: 2400 | G33: - | H33: - | I33: -
A34: 20 | B34: 321 | C34: 軽井沢町 | D34: 23 | E34: 604 | F34: 139 | G34: - | H34: - | I34: -
A35: 20 | B35: 323 | C35: 御代田町 | D35: 129 | E35: 615 | F35: 793 | G35: - | H35: - | I35: -
A36: 20 | B36: 324 | C36: 立科町 | D36: 469 | E36: 649 | F36: 3040 | G36: - | H36: - | I36: -
A37: 20 | B37: 349 | C37: 青木村 | D37: 120 | E37: 574 | F37: 689 | G37: - | H37: - | I37: -
A38: 20 | B38: 350 | C38: 長和町 | D38: 276 | E38: 581 | F38: 1600 | G38: - | H38: - | I38: -
A39: 20 | B39: 361 | C39: 下諏訪町 | D39: 21 | E39: 611 | F39: 128 | G39: - | H39: - | I39: -
A40: 20 | B40: 362 | C40: 富士見町 | D40: 450 | E40: 578 | F40: 2600 | G40: - | H40: - | I40: -
A41: 20 | B41: 363 | C41: 原村 | D41: 403 | E41: 578 | F41: 2330 | G41: - | H41: - | I41: -
... A89: 20 | B89: 602 | C89: 栄村 | D89: 251 | E89: 512 | F89: 1290 | G89: - | H89: - | I89: -
A91: 利用上の注意 | D91: =SUM(D9:D89) -> 36411 | E91: =SUM(E9:E89) -> 46223 | F91: =SUM(F9:F89) -> 222053
A92: この市町村別データは、「作付面積調査」及び「稲調査」の県計値を当該市町村における調査結果、関係機関
A93: からの情報等により加工したものである。

Sheet 水稲H19（長野）2007
A1: 農林水産関係市町村別データ
A2: 平成19年産
A3: 水稲
A4: 長野県 | D4: 水稲
A5: 都道 | B5: 市町 | D5: 作付面積 | E5: 10a当たり | F5: 収穫量
A6: 府県 | B6: 村 | C6: 市町村名 | E6: 収量
A7: ｺｰﾄﾞ | B7: ｺｰﾄﾞ
D8: ha | E8: kg | F8: t
A9: 20 | B9: 201 | C9: 長野市 | D9: 1780 | E9: 549 | F9: 9780
A10: 20 | B10: 202 | C10: 松本市 | D10: 2700 | E10: 655 | F10: 17700
A11: 20 | B11: 203 | C11: 上田市 | D11: 1780 | E11: 606 | F11: 10800
A12: 20 | B12: 204 | C12: 岡谷市 | D12: 65 | E12: 618 | F12: 402
A13: 20 | B13: 205 | C13: 飯田市 | D13: 861 | E13: 605 | F13: 5210
A14: 20 | B14: 206 | C14: 諏訪市 | D14: 391 | E14: 642 | F14: 2510
A15: 20 | B15: 207 | C15: 須坂市 | D15: 225 | E15: 566 | F15: 1270
A16: 20 | B16: 208 | C16: 小諸市 | D16: 706 | E16: 629 | F16: 4440
A17: 20 | B17: 209 | C17: 伊那市 | D17: 2200 | E17: 656 | F17: 14400
A18: 20 | B18: 210 | C18: 駒ヶ根市 | D18: 916 | E18: 640 | F18: 5860
A19: 20 | B19: 211 | C19: 中野市 | D19: 546 | E19: 571 | F19: 3120
A20: 20 | B20: 212 | C20: 大町市 | D20: 1650 | E20: 639 | F20: 10500
... A28: 20 | B28: 303 | C28: 小海町 | D28: 87 | E28: 577 | F28: 502
A29: 20 | B29: 304 | C29: 川上村 | D29: - | E29: - | F29: -
A30: 20 | B30: 305 | C30: 南牧村 | D30: 22 | E30: 518 | F30: 114
A31: 20 | B31: 306 | C31: 南相木村 | D31: 2 | E31: 526 | F31: 11
A32: 20 | B32: 307 | C32: 北相木村 | D32: 6 | E32: 528 | F32: 32
A33: 20 | B33: 309 | C33: 佐久穂町 | D33: 392 | E33: 602 | F33: 2360
A34: 20 | B34: 321 | C34: 軽井沢町 | D34: 22 | E34: 564 | F34: 124
A35: 20 | B35: 323 | C35: 御代田町 | D35: 129 | E35: 606 | F35: 782
A36: 20 | B36: 324 | C36: 立科町 | D36: 472 | E36: 670 | F36: 3160
A37: 20 | B37: 349 | C37: 青木村 | D37: 113 | E37: 578 | F37: 653
A38: 20 | B38: 350 | C38: 長和町 | D38: 276 | E38: 591 | F38: 1630
A39: 20 | B39: 361 | C39: 下諏訪町 | D39: 19 | E39: 612 | F39: 116
A40: 20 | B40: 362 | C40: 富士見町 | D40: 454 | E40: 597 | F40: 2710
A41: 20 | B41: 363 | C41: 原村 | D41: 408 | E41: 596 | F41: 2430
... A89: 20 | B89: 602 | C89: 栄村 | D89: 251 | E89: 523 | F89: 1310
A91: 利用上の注意 | D91: =SUM(D9:D89) -> 36200 | E91: =SUM(E9:E89) -> 46973 | F91: =SUM(F9:F89) -> 224411
A92: １ この市町村別データは、「作物統計調査」を実施する上で把握した地域における標本調査及び現地見積りの結果、
A93: 関係機関からの情報等をもとに都道府県計値の内訳として市町村別に作成した加工統計であり、作成するうえで
A94: 精度を設定しているものではない。
A95: なお、「作物統計調査」は都道府県計値を求めるために設計されている。
A96: ２ 市町村間の出作・入作を考慮していない（属地統計）。
A97: ３ 数値については、四捨五入しており、都道府県計値と市町村別の内訳の計が一致しないことがある。

Sheet 水稲H20（長野）2008
A1: 農林水産関係市町村別データ
A2: 平成20年産
A3: 水稲
A4: 長野県 | D4: 水稲
A5: 都道 | B5: 市町 | D5: 作付面積 | E5: 10a当たり | F5: 収穫量
A6: 府県 | B6: 村 | C6: 市町村名 | E6: 収量
A7: ｺｰﾄﾞ | B7: ｺｰﾄﾞ
D8: ha | E8: kg | F8: t
A9: 20 | B9: 201 | C9: 長野市 | D9: 1710 | E9: 563 | F9: 9630
A10: 20 | B10: 202 | C10: 松本市 | D10: 2540 | E10: 646 | F10: 16400
A11: 20 | B11: 203 | C11: 上田市 | D11: 1720 | E11: 639 | F11: 11000
A12: 20 | B12: 204 | C12: 岡谷市 | D12: 53 | E12: 648 | F12: 343
A13: 20 | B13: 205 | C13: 飯田市 | D13: 835 | E13: 623 | F13: 5200
A14: 20 | B14: 206 | C14: 諏訪市 | D14: 383 | E14: 675 | F14: 2590
A15: 20 | B15: 207 | C15: 須坂市 | D15: 213 | E15: 583 | F15: 1240
A16: 20 | B16: 208 | C16: 小諸市 | D16: 617 | E16: 662 | F16: 4090
A17: 20 | B17: 209 | C17: 伊那市 | D17: 2020 | E17: 661 | F17: 13400
A18: 20 | B18: 210 | C18: 駒ヶ根市 | D18: 854 | E18: 648 | F18: 5530
A19: 20 | B19: 211 | C19: 中野市 | D19: 474 | E19: 589 | F19: 2790
A20: 20 | B20: 212 | C20: 大町市 | D20: 1510 | E20: 640 | F20: 9650
... A28: 20 | B28: 303 | C28: 小海町 | D28: 66 | E28: 597 | F28: 394
A29: 20 | B29: 304 | C29: 川上村 | D29: - | E29: - | F29: -
A30: 20 | B30: 305 | C30: 南牧村 | D30: 20 | E30: 521 | F30: 104
A31: 20 | B31: 306 | C31: 南相木村 | D31: 2 | E31: 532 | F31: 11
A32: 20 | B32: 307 | C32: 北相木村 | D32: 4 | E32: 530 | F32: 21
A33: 20 | B33: 309 | C33: 佐久穂町 | D33: 341 | E33: 618 | F33: 2110
A34: 20 | B34: 321 | C34: 軽井沢町 | D34: 16 | E34: 570 | F34: 91
A35: 20 | B35: 323 | C35: 御代田町 | D35: 124 | E35: 621 | F35: 770
A36: 20 | B36: 324 | C36: 立科町 | D36: 518 | E36: 690 | F36: 3570
A37: 20 | B37: 349 | C37: 青木村 | D37: 125 | E37: 614 | F37: 768
A38: 20 | B38: 350 | C38: 長和町 | D38: 265 | E38: 615 | F38: 1630
A39: 20 | B39: 361 | C39: 下諏訪町 | D39: 15 | E39: 643 | F39: 96
A40: 20 | B40: 362 | C40: 富士見町 | D40: 459 | E40: 633 | F40: 2910
A41: 20 | B41: 363 | C41: 原村 | D41: 349 | E41: 629 | F41: 2200
... A89: 20 | B89: 602 | C89: 栄村 | D89: 229 | E89: 533 | F89: 1220
A91: 利用上の注意 | D91: =SUM(D9:D89) -> 34610 | E91: =SUM(E9:E89) -> 48140 | F91: =SUM(F9:F89) -> 219464
A92: １ この市町村別データは、「作物統計調査」を実施する上で把握した地域における標本調査及び現地見積りの結果、
A93: 関係機関からの情報等をもとに都道府県計値の内訳として市町村別に作成した加工統計であり、作成するうえで
A94: 精度を設定しているものではない。
A95: なお、「作物統計調査」は都道府県計値を求めるために設計されている。
A96: ２ 市町村間の出作・入作を考慮していない（属地統計）。
A97: ３ 数値については、四捨五入しており、都道府県計値と市町村別の内訳の計が一致しないことがある。

Sheet 水稲H21（長野）2009
A1: 農林水産関係市町村別データ
A2: 平成21年産
A3: 水稲
A4: 長野県
A5: 都道 | B5: 市町 | D5: 作付面積 | E5: 10a当たり | F5: 収穫量
A6: 府県 | B6: 村 | C6: 市町村名 | E6: 収量
A7: ｺｰﾄﾞ | B7: ｺｰﾄﾞ
D8: ha | E8: kg | F8: t
A9: 20 | B9: 201 | C9: 長野市 | D9: 1720 | E9: 535 | F9: 9200
A10: 20 | B10: 202 | C10: 松本市 | D10: 2550 | E10: 628 | F10: 16000
A11: 20 | B11: 203 | C11: 上田市 | D11: 1720 | E11: 592 | F11: 10200
A12: 20 | B12: 204 | C12: 岡谷市 | D12: 53 | E12: 584 | F12: 310
A13: 20 | B13: 205 | C13: 飯田市 | D13: 834 | E13: 600 | F13: 5000
A14: 20 | B14: 206 | C14: 諏訪市 | D14: 383 | E14: 615 | F14: 2360
A15: 20 | B15: 207 | C15: 須坂市 | D15: 213 | E15: 561 | F15: 1200
A16: 20 | B16: 208 | C16: 小諸市 | D16: 617 | E16: 569 | F16: 3510
A17: 20 | B17: 209 | C17: 伊那市 | D17: 2020 | E17: 610 | F17: 12300
A18: 20 | B18: 210 | C18: 駒ヶ根市 | D18: 854 | E18: 592 | F18: 5060
A19: 20 | B19: 211 | C19: 中野市 | D19: 481 | E19: 556 | F19: 2670
A20: 20 | B20: 212 | C20: 大町市 | D20: 1510 | E20: 583 | F20: 8830
... A28: 20 | B28: 303 | C28: 小海町 | D28: 63 | E28: 497 | F28: 313
A29: 20 | B29: 304 | C29: 川上村 | D29: - | E29: - | F29: -
A30: 20 | B30: 305 | C30: 南牧村 | D30: 18 | E30: 435 | F30: 78
A31: 20 | B31: 306 | C31: 南相木村 | D31: 2 | E31: 448 | F31: 9
A32: 20 | B32: 307 | C32: 北相木村 | D32: 4 | E32: 447 | F32: 18
A33: 20 | B33: 309 | C33: 佐久穂町 | D33: 332 | E33: 534 | F33: 1770
A34: 20 | B34: 321 | C34: 軽井沢町 | D34: 16 | E34: 495 | F34: 79
A35: 20 | B35: 323 | C35: 御代田町 | D35: 129 | E35: 554 | F35: 715
A36: 20 | B36: 324 | C36: 立科町 | D36: 493 | E36: 661 | F36: 3260
A37: 20 | B37: 349 | C37: 青木村 | D37: 121 | E37: 577 | F37: 698
A38: 20 | B38: 350 | C38: 長和町 | D38: 260 | E38: 566 | F38: 1470
A39: 20 | B39: 361 | C39: 下諏訪町 | D39: 15 | E39: 585 | F39: 88
A40: 20 | B40: 362 | C40: 富士見町 | D40: 467 | E40: 563 | F40: 2630
A41: 20 | B41: 363 | C41: 原村 | D41: 352 | E41: 561 | F41: 1980
... A88: 20 | B88: 602 | C88: 栄村 | D88: 217 | E88: 514 | F88: 1120
A90: 利用上の注意 | D90: =SUM(D8:D88) -> 34599 | E90: =SUM(E8:E88) -> 44501 | F90: =SUM(F8:F88) -> 205932
A91: １ この市町村別データは、「作物統計調査」を実施する上で把握した地域における標本調査及び現地見積りの結果、
A92: 関係機関からの情報等をもとに都道府県計値の内訳として市町村別に作成した加工統計であり、作成するうえで
A93: 精度を設定しているものではない。
A94: なお、「作物統計調査」は都道府県計値を求めるために設計されている。
A95: ２ 市町村間の出作・入作を考慮していない（属地統計）。
A96: ３ 数値については、四捨五入しており、都道府県計値と市町村別の内訳の計が一致しないことがある。

Sheet 水稲H22（長野）2010
A1: 農林水産関係市町村別統計
A2: 平成22年産
A3: 水稲
A4: 長野県
A5: 都道 | B5: 市町 | D5: 作付面積 | E5: 10a当たり | F5: 収穫量
A6: 府県 | B6: 村 | C6: 市町村名 | E6: 収量
A7: ｺｰﾄﾞ | B7: ｺｰﾄﾞ
D8: ha | E8: kg | F8: t
A9: 20 | B9: 201 | C9: 長野市 | D9: 1840 | E9: 547 | F9: 10100
A10: 20 | B10: 202 | C10: 松本市 | D10: 2880 | E10: 632 | F10: 18200
A11: 20 | B11: 203 | C11: 上田市 | D11: 1740 | E11: 603 | F11: 10500
A12: 20 | B12: 204 | C12: 岡谷市 | D12: 53 | E12: 623 | F12: 330
A13: 20 | B13: 205 | C13: 飯田市 | D13: 837 | E13: 614 | F13: 5140
A14: 20 | B14: 206 | C14: 諏訪市 | D14: 382 | E14: 647 | F14: 2470
A15: 20 | B15: 207 | C15: 須坂市 | D15: 212 | E15: 586 | F15: 1240
A16: 20 | B16: 208 | C16: 小諸市 | D16: 610 | E16: 664 | F16: 4050
A17: 20 | B17: 209 | C17: 伊那市 | D17: 1990 | E17: 627 | F17: 12500
A18: 20 | B18: 210 | C18: 駒ヶ根市 | D18: 829 | E18: 617 | F18: 5120
A19: 20 | B19: 211 | C19: 中野市 | D19: 469 | E19: 565 | F19: 2650
A20: 20 | B20: 212 | C20: 大町市 | D20: 1520 | E20: 613 | F20: 9300
... A28: 20 | B28: 303 | C28: 小海町 | D28: 59 | E28: 610 | F28: 360
A29: 20 | B29: 304 | C29: 川上村 | D29: - | E29: - | F29: -
A30: 20 | B30: 305 | C30: 南牧村 | D30: 16 | E30: 542 | F30: 87
A31: 20 | B31: 306 | C31: 南相木村 | D31: 2 | E31: 548 | F31: 11
A32: 20 | B32: 307 | C32: 北相木村 | D32: 3 | E32: 548 | F32: 16
A33: 20 | B33: 309 | C33: 佐久穂町 | D33: 330 | E33: 644 | F33: 2130
A34: 20 | B34: 321 | C34: 軽井沢町 | D34: 15 | E34: 604 | F34: 91
A35: 20 | B35: 323 | C35: 御代田町 | D35: 145 | E35: 633 | F35: 918
A36: 20 | B36: 324 | C36: 立科町 | D36: 504 | E36: 657 | F36: 3310
A37: 20 | B37: 349 | C37: 青木村 | D37: 118 | E37: 603 | F37: 712
A38: 20 | B38: 350 | C38: 長和町 | D38: 259 | E38: 604 | F38: 1560
A39: 20 | B39: 361 | C39: 下諏訪町 | D39: 13 | E39: 616 | F39: 80
A40: 20 | B40: 362 | C40: 富士見町 | D40: 469 | E40: 614 | F40: 2880
A41: 20 | B41: 363 | C41: 原村 | D41: 344 | E41: 610 | F41: 2100
... A85: 20 | B85: 602 | C85: 栄村 | D85: 228 | E85: 508 | F85: 1160
A87: 利用上の注意 | D87: =SUM(D5:D85) -> 34583 | E87: =SUM(E5:E85) -> 44829 | F87: =SUM(F5:F85) -> 211657
A88: １ この市町村別統計は、「作物統計調査」を実施する上で把握した地域における標本調査及び現地見積りの結果、
A89: 関係機関からの情報等を踏まえ、都道府県計値の内訳として市町村別に作成した加工統計であり、作成するうえで
A90: 精度を設定しているものではない。
A91: なお、「作物統計調査」は都道府県計値を求めるために設計されている。
A92: ２ 耕作者の市町村間の出作・入作を考慮していない（属地統計）。
A93: ３ 数値は四捨五入しており、市町村値の計が都道府県値と一致しないことがある。

Sheet 水稲H23（長野）2011
A1: 農林水産関係市町村別統計
A2: 平成23年産
A3: 水稲
A4: 長野県
A5: 都道 | B5: 市町 | D5: 作付面積 | E5: 10a当たり | F5: 収穫量
A6: 府県 | B6: 村 | C6: 市町村名 | E6: 収量
A7: ｺｰﾄﾞ | B7: ｺｰﾄﾞ
D8: ha | E8: kg | F8: t
A9: 20 | B9: 201 | C9: 長野市 | D9: 1820 | E9: 529 | F9: 9620
A10: 20 | B10: 202 | C10: 松本市 | D10: 2880 | E10: 611 | F10: 17600
A11: 20 | B11: 203 | C11: 上田市 | D11: 1720 | E11: 613 | F11: 10600
A12: 20 | B12: 204 | C12: 岡谷市 | D12: 53 | E12: 628 | F12: 333
A13: 20 | B13: 205 | C13: 飯田市 | D13: 827 | E13: 619 | F13: 5120
A14: 20 | B14: 206 | C14: 諏訪市 | D14: 382 | E14: 653 | F14: 2490
A15: 20 | B15: 207 | C15: 須坂市 | D15: 211 | E15: 582 | F15: 1230
A16: 20 | B16: 208 | C16: 小諸市 | D16: 603 | E16: 648 | F16: 3910
A17: 20 | B17: 209 | C17: 伊那市 | D17: 1950 | E17: 638 | F17: 12500
A18: 20 | B18: 210 | C18: 駒ヶ根市 | D18: 819 | E18: 624 | F18: 5110
A19: 20 | B19: 211 | C19: 中野市 | D19: 469 | E19: 550 | F19: 2580
A20: 20 | B20: 212 | C20: 大町市 | D20: 1500 | E20: 546 | F20: 8210
... A28: 20 | B28: 303 | C28: 小海町 | D28: 60 | E28: 598 | F28: 359
A29: 20 | B29: 304 | C29: 川上村 | D29: - | E29: - | F29: -
A30: 20 | B30: 305 | C30: 南牧村 | D30: 15 | E30: 515 | F30: 77
A31: 20 | B31: 306 | C31: 南相木村 | D31: 1 | E31: 527 | F31: 5
A32: 20 | B32: 307 | C32: 北相木村 | D32: 2 | E32: 526 | F32: 11
A33: 20 | B33: 309 | C33: 佐久穂町 | D33: 329 | E33: 622 | F33: 2050
A34: 20 | B34: 321 | C34: 軽井沢町 | D34: 15 | E34: 592 | F34: 89
A35: 20 | B35: 323 | C35: 御代田町 | D35: 143 | E35: 623 | F35: 891
A36: 20 | B36: 324 | C36: 立科町 | D36: 494 | E36: 658 | F36: 3250
A37: 20 | B37: 349 | C37: 青木村 | D37: 104 | E37: 593 | F37: 617
A38: 20 | B38: 350 | C38: 長和町 | D38: 251 | E38: 595 | F38: 1490
A39: 20 | B39: 361 | C39: 下諏訪町 | D39: 13 | E39: 623 | F39: 81
A40: 20 | B40: 362 | C40: 富士見町 | D40: 456 | E40: 613 | F40: 2800
A41: 20 | B41: 363 | C41: 原村 | D41: 341 | E41: 610 | F41: 2080
... A85: 20 | B85: 602 | C85: 栄村 | D85: 181 | E85: 475 | F85: 860
C87: 計 | D87: 34200 | E87: 604 | F87: 206600
A89: 利用上の注意 | D89: =SUM(D7:D85) -> 34155 | E89: =SUM(E7:E85) -> 44460 | F89: =SUM(F7:F85) -> 206493
A90: １ この市町村別統計は、「作物統計調査」を実施する上で把握した地域における標本調査及び現地見積りの結果、
A91: 関係機関からの情報等を踏まえ、都道府県計値の内訳として市町村別に作成した加工統計であり、作成するうえで
A92: 精度を設定しているものではない。
A93: なお、「作物統計調査」は都道府県計値を求めるために設計されている。
A94: ２ 耕作者の市町村間の出作・入作を考慮していない（属地統計）。
A95: ３ 数値は四捨五入しており、市町村値の計が都道府県値と一致しないことがある。

Sheet 水稲H24（長野）2012
A1: 農林水産関係市町村別統計
A2: 平成24年産
A3: 水稲
A4: 長野県
A5: 都道 | B5: 市町 | D5: 作付面積 | E5: 10a当たり | F5: 収穫量
A6: 府県 | B6: 村 | C6: 市町村名 | E6: 収量
A7: ｺｰﾄﾞ | B7: ｺｰﾄﾞ
D8: ha | E8: kg | F8: t
A9: 20 | B9: 201 | C9: 長野市 | D9: 1830 | E9: 563 | F9: 10300
A10: 20 | B10: 202 | C10: 松本市 | D10: 2830 | E10: 635 | F10: 18000
A11: 20 | B11: 203 | C11: 上田市 | D11: 1760 | E11: 604 | F11: 10600
A12: 20 | B12: 204 | C12: 岡谷市 | D12: 54 | E12: 622 | F12: 336
A13: 20 | B13: 205 | C13: 飯田市 | D13: 826 | E13: 620 | F13: 5120
A14: 20 | B14: 206 | C14: 諏訪市 | D14: 380 | E14: 653 | F14: 2480
A15: 20 | B15: 207 | C15: 須坂市 | D15: 211 | E15: 576 | F15: 1220
A16: 20 | B16: 208 | C16: 小諸市 | D16: 610 | E16: 599 | F16: 3650
A17: 20 | B17: 209 | C17: 伊那市 | D17: 1960 | E17: 641 | F17: 12600
A18: 20 | B18: 210 | C18: 駒ヶ根市 | D18: 813 | E18: 634 | F18: 5150
A19: 20 | B19: 211 | C19: 中野市 | D19: 476 | E19: 547 | F19: 2600
A20: 20 | B20: 212 | C20: 大町市 | D20: 1490 | E20: 604 | F20: 9020
... A28: 20 | B28: 303 | C28: 小海町 | D28: 59 | E28: 564 | F28: 333
A29: 20 | B29: 304 | C29: 川上村 | D29: - | E29: - | F29: -
A30: 20 | B30: 305 | C30: 南牧村 | D30: 14 | E30: 496 | F30: 69
A31: 20 | B31: 306 | C31: 南相木村 | D31: 1 | E31: 505 | F31: 5
A32: 20 | B32: 307 | C32: 北相木村 | D32: 2 | E32: 504 | F32: 10
A33: 20 | B33: 309 | C33: 佐久穂町 | D33: 320 | E33: 564 | F33: 1810
A34: 20 | B34: 321 | C34: 軽井沢町 | D34: 14 | E34: 505 | F34: 71
A35: 20 | B35: 323 | C35: 御代田町 | D35: 138 | E35: 603 | F35: 832
A36: 20 | B36: 324 | C36: 立科町 | D36: 488 | E36: 654 | F36: 3190
A37: 20 | B37: 349 | C37: 青木村 | D37: 123 | E37: 539 | F37: 663
A38: 20 | B38: 350 | C38: 長和町 | D38: 252 | E38: 556 | F38: 1400
A39: 20 | B39: 361 | C39: 下諏訪町 | D39: 12 | E39: 625 | F39: 75
A40: 20 | B40: 362 | C40: 富士見町 | D40: 451 | E40: 622 | F40: 2810
A41: 20 | B41: 363 | C41: 原村 | D41: 350 | E41: 623 | F41: 2180
... A85: 20 | B85: 602 | C85: 栄村 | D85: 208 | E85: 489 | F85: 1020
C87: 計 | D87: 34200 | E87: 610 | F87: 208600
A89: 利用上の注意 | D89: =SUM(D7:D85) -> 34150 | E89: =SUM(E7:E85) -> 44355 | F89: =SUM(F7:F85) -> 208538
A90: １ この市町村別統計は、「作物統計調査」を実施する上で把握した地域における標本調査及び現地見積りの結果、
A91: 関係機関からの情報等を踏まえ、都道府県計値の内訳として市町村別に作成した加工統計であり、作成する上で
A92: 精度を設定しているものではない。
A93: なお、「作物統計調査」は都道府県計値を求めるために設計されている。
A94: ２ 耕作者の市町村間の出作・入作を考慮していない（属地統計）。
A95: ３ 数値は四捨五入しており、市町村値の計が都道府県値と一致しないことがある。

Sheet 水稲H25（長野）2013
A1: 農林水産関係市町村別統計
A2: 平成25年産
A3: 水稲
A4: 長野県
A5: 都道 | B5: 市町 | D5: 作付面積 | E5: 10a当たり | F5: 収穫量
A6: 府県 | B6: 村 | C6: 市町村名 | E6: 収量
A7: ｺｰﾄﾞ | B7: ｺｰﾄﾞ
D8: ha | E8: kg | F8: t
A9: 20 | B9: 201 | C9: 長野市 | D9: 1800 | E9: 603 | F9: 10900
A10: 20 | B10: 202 | C10: 松本市 | D10: 2860 | E10: 656 | F10: 18700
A11: 20 | B11: 203 | C11: 上田市 | D11: 1750 | E11: 606 | F11: 10600
A12: 20 | B12: 204 | C12: 岡谷市 | D12: 54 | E12: 626 | F12: 338
A13: 20 | B13: 205 | C13: 飯田市 | D13: 821 | E13: 614 | F13: 5040
A14: 20 | B14: 206 | C14: 諏訪市 | D14: 380 | E14: 654 | F14: 2490
A15: 20 | B15: 207 | C15: 須坂市 | D15: 208 | E15: 605 | F15: 1260
A16: 20 | B16: 208 | C16: 小諸市 | D16: 604 | E16: 666 | F16: 4020
A17: 20 | B17: 209 | C17: 伊那市 | D17: 1990 | E17: 655 | F17: 13000
A18: 20 | B18: 210 | C18: 駒ヶ根市 | D18: 815 | E18: 637 | F18: 5190
A19: 20 | B19: 211 | C19: 中野市 | D19: 478 | E19: 584 | F19: 2790
A20: 20 | B20: 212 | C20: 大町市 | D20: 1510 | E20: 641 | F20: 9690
... A28: 20 | B28: 303 | C28: 小海町 | D28: 59 | E28: 611 | F28: 360
A29: 20 | B29: 304 | C29: 川上村 | D29: - | E29: - | F29: -
A30: 20 | B30: 305 | C30: 南牧村 | D30: 14 | E30: 532 | F30: 74
A31: 20 | B31: 306 | C31: 南相木村 | D31: 1 | E31: 537 | F31: 5
A32: 20 | B32: 307 | C32: 北相木村 | D32: 2 | E32: 535 | F32: 11
A33: 20 | B33: 309 | C33: 佐久穂町 | D33: 321 | E33: 636 | F33: 2040
A34: 20 | B34: 321 | C34: 軽井沢町 | D34: 16 | E34: 610 | F34: 98
A35: 20 | B35: 323 | C35: 御代田町 | D35: 130 | E35: 640 | F35: 832
A36: 20 | B36: 324 | C36: 立科町 | D36: 482 | E36: 678 | F36: 3270
A37: 20 | B37: 349 | C37: 青木村 | D37: 117 | E37: 589 | F37: 689
A38: 20 | B38: 350 | C38: 長和町 | D38: 257 | E38: 589 | F38: 1510
A39: 20 | B39: 361 | C39: 下諏訪町 | D39: 12 | E39: 625 | F39: 75
A40: 20 | B40: 362 | C40: 富士見町 | D40: 449 | E40: 620 | F40: 2780
A41: 20 | B41: 363 | C41: 原村 | D41: 350 | E41: 613 | F41: 2150
... A85: 20 | B85: 602 | C85: 栄村 | D85: 221 | E85: 538 | F85: 1190
C87: 計 | D87: 34400 | E87: 632 | F87: 217400
A89: 利用上の注意 | D89: =SUM(D7:D85) -> 34371 | E89: =SUM(E7:E85) -> 45848 | F89: =SUM(F7:F85) -> 217295
A90: １ この市町村別統計は、「作物統計調査」を実施する上で把握した地域における標本調査及び現地見積りの結果、
A91: 関係機関からの情報等を踏まえ、都道府県計値の内訳として市町村別に作成した加工統計であり、作成するうえで
A92: 精度を設定しているものではない。
A93: なお、「作物統計調査」は都道府県計値を求めるために設計されている。
A94: ２ 耕作者の市町村間の出作・入作を考慮していない（属地統計）。
A95: ３ 数値は四捨五入しており、市町村値の計が都道府県値と一致しないことがある。

Sheet 水稲H26（長野）2014
A1: 農林水産関係市町村別統計
A2: 平成26年産
A3: 水稲
A4: 長野県
A5: 都道 | B5: 市町 | D5: 作付面積 | E5: 10a当たり | F5: 収穫量
A6: 府県 | B6: 村 | C6: 市町村名 | E6: 収量
A7: ｺｰﾄﾞ | B7: ｺｰﾄﾞ
D8: ha | E8: kg | F8: t
A9: 20 | B9: 201 | C9: 長野市 | D9: 1750 | E9: 554 | F9: 9670
A10: 20 | B10: 202 | C10: 松本市 | D10: 2800 | E10: 621 | F10: 17400
A11: 20 | B11: 203 | C11: 上田市 | D11: 1740 | E11: 573 | F11: 9950
A12: 20 | B12: 204 | C12: 岡谷市 | D12: 53 | E12: 598 | F12: 317
A13: 20 | B13: 205 | C13: 飯田市 | D13: 793 | E13: 577 | F13: 4580
A14: 20 | B14: 206 | C14: 諏訪市 | D14: 374 | E14: 622 | F14: 2330
A15: 20 | B15: 207 | C15: 須坂市 | D15: 199 | E15: 590 | F15: 1170
A16: 20 | B16: 208 | C16: 小諸市 | D16: 603 | E16: 612 | F16: 3690
A17: 20 | B17: 209 | C17: 伊那市 | D17: 1980 | E17: 618 | F17: 12200
A18: 20 | B18: 210 | C18: 駒ヶ根市 | D18: 813 | E18: 603 | F18: 4900
A19: 20 | B19: 211 | C19: 中野市 | D19: 470 | E19: 579 | F19: 2720
A20: 20 | B20: 212 | C20: 大町市 | D20: 1520 | E20: 604 | F20: 9200
... A28: 20 | B28: 303 | C28: 小海町 | D28: 55 | E28: 563 | F28: 310
A29: 20 | B29: 304 | C29: 川上村 | D29: - | E29: - | F29: -
A30: 20 | B30: 305 | C30: 南牧村 | D30: 14 | E30: 493 | F30: 69
A31: 20 | B31: 306 | C31: 南相木村 | D31: 1 | E31: 501 | F31: 5
A32: 20 | B32: 307 | C32: 北相木村 | D32: 2 | E32: 500 | F32: 10
A33: 20 | B33: 309 | C33: 佐久穂町 | D33: 312 | E33: 582 | F33: 1820
A34: 20 | B34: 321 | C34: 軽井沢町 | D34: 18 | E34: 572 | F34: 103
A35: 20 | B35: 323 | C35: 御代田町 | D35: 126 | E35: 590 | F35: 743
A36: 20 | B36: 324 | C36: 立科町 | D36: 470 | E36: 639 | F36: 3000
A37: 20 | B37: 349 | C37: 青木村 | D37: 117 | E37: 554 | F37: 648
A38: 20 | B38: 350 | C38: 長和町 | D38: 255 | E38: 555 | F38: 1420
A39: 20 | B39: 361 | C39: 下諏訪町 | D39: 11 | E39: 591 | F39: 65
A40: 20 | B40: 362 | C40: 富士見町 | D40: 436 | E40: 583 | F40: 2540
A41: 20 | B41: 363 | C41: 原村 | D41: 342 | E41: 579 | F41: 1980
... A85: 20 | B85: 602 | C85: 栄村 | D85: 219 | E85: 533 | F85: 1170
C87: 計 | D87: 33900 | E87: 597 | F87: 202400
A89: 利用上の注意 | D89: =SUM(D7:D85) -> 33938 | E89: =SUM(E7:E85) -> 43458 | F89: =SUM(F7:F85) -> 202736
A90: １ この市町村別統計は、「作物統計調査」を実施する上で把握した地域における標本調査及び現地見積りの結果、
A91: 関係機関からの情報等を踏まえ、都道府県計値の内訳として市町村別に作成した加工統計であり、作成する上で
A92: 精度を設定しているものではない。
A93: なお、「作物統計調査」は都道府県計値を求めるために設計されている。
A94: ２ 耕作者の市町村間の出作・入作を考慮していない（属地統計）。
A95: ３ 数値は四捨五入しており、市町村値の計が都道府県値と一致しないことがある。

Sheet 水稲H27（長野）2015
A1: 農林水産関係市町村別統計
A2: 平成27年産
A3: 水稲
A4: 長野県
A5: 都道 | B5: 市町 | D5: 作付面積 | E5: 10a当たり | F5: 収穫量
A6: 府県 | B6: 村 | C6: 市町村名 | E6: 収量
A7: ｺｰﾄﾞ | B7: ｺｰﾄﾞ
D8: ha | E8: kg | F8: t
A9: 20 | B9: 201 | C9: 長野市 | D9: 1670 | E9: 545 | F9: 9110
A10: 20 | B10: 202 | C10: 松本市 | D10: 2780 | E10: 631 | F10: 17600
A11: 20 | B11: 203 | C11: 上田市 | D11: 1690 | E11: 572 | F11: 9640
A12: 20 | B12: 204 | C12: 岡谷市 | D12: 50 | E12: 617 | F12: 309
A13: 20 | B13: 205 | C13: 飯田市 | D13: 772 | E13: 589 | F13: 4550
A14: 20 | B14: 206 | C14: 諏訪市 | D14: 372 | E14: 641 | F14: 2390
A15: 20 | B15: 207 | C15: 須坂市 | D15: 189 | E15: 579 | F15: 1090
A16: 20 | B16: 208 | C16: 小諸市 | D16: 585 | E16: 643 | F16: 3760
A17: 20 | B17: 209 | C17: 伊那市 | D17: 1950 | E17: 648 | F17: 12600
A18: 20 | B18: 210 | C18: 駒ヶ根市 | D18: 808 | E18: 632 | F18: 5110
A19: 20 | B19: 211 | C19: 中野市 | D19: 464 | E19: 533 | F19: 2470
A20: 20 | B20: 212 | C20: 大町市 | D20: 1500 | E20: 598 | F20: 8980
... A28: 20 | B28: 303 | C28: 小海町 | D28: 51 | E28: 577 | F28: 294
A29: 20 | B29: 304 | C29: 川上村 | D29: - | E29: - | F29: -
A30: 20 | B30: 305 | C30: 南牧村 | D30: 14 | E30: 519 | F30: 73
A31: 20 | B31: 306 | C31: 南相木村 | D31: 1 | E31: 513 | F31: 5
A32: 20 | B32: 307 | C32: 北相木村 | D32: 2 | E32: 512 | F32: 10
A33: 20 | B33: 309 | C33: 佐久穂町 | D33: 294 | E33: 595 | F33: 1750
A34: 20 | B34: 321 | C34: 軽井沢町 | D34: 17 | E34: 573 | F34: 97
A35: 20 | B35: 323 | C35: 御代田町 | D35: 115 | E35: 582 | F35: 669
A36: 20 | B36: 324 | C36: 立科町 | D36: 469 | E36: 667 | F36: 3130
A37: 20 | B37: 349 | C37: 青木村 | D37: 95 | E37: 565 | F37: 537
A38: 20 | B38: 350 | C38: 長和町 | D38: 241 | E38: 562 | F38: 1350
A39: 20 | B39: 361 | C39: 下諏訪町 | D39: 11 | E39: 618 | F39: 68
A40: 20 | B40: 362 | C40: 富士見町 | D40: 432 | E40: 601 | F40: 2600
A41: 20 | B41: 363 | C41: 原村 | D41: 332 | E41: 598 | F41: 1990
... A85: 20 | B85: 602 | C85: 栄村 | D85: 218 | E85: 500 | F85: 1090
C87: 計 | D87: 33200 | E87: 604 | F87: 200500
A89: 利用上の注意 | D89: =SUM(D7:D85) -> 33217 | E89: =SUM(E7:E85) -> 43930 | F89: =SUM(F7:F85) -> 200725
A90: １ この市町村別統計は、「作物統計調査」を実施する上で把握した地域における標本調査及び現地見積りの結果、
A91: 関係機関からの情報等を踏まえ、都道府県計値の内訳として市町村別に作成した加工統計であり、作成するうえで
A92: 精度を設定しているものではない。
A93: なお、「作物統計調査」は都道府県計値を求めるために設計されている。
A94: ２ 耕作者の市町村間の出作・入作を考慮していない（属地統計）。
A95: ３ 数値は四捨五入しており、市町村値の計が都道府県値と一致しないことがある。

Sheet 水稲H28（長野）2016
A1: 農林水産関係市町村別統計
A2: 平成28年産
A3: 水稲
A4: 長野県
A5: 都道 | B5: 市町 | D5: 作付面積 | E5: 10a当たり | F5: 収穫量
A6: 府県 | B6: 村 | C6: 市町村名 | E6: 収量
A7: ｺｰﾄﾞ | B7: ｺｰﾄﾞ
D8: ha | E8: kg | F8: t
A9: 20 | B9: 201 | C9: 長野市 | D9: 1650 | E9: 591 | F9: 9750
A10: 20 | B10: 202 | C10: 松本市 | D10: 2750 | E10: 656 | F10: 18100
A11: 20 | B11: 203 | C11: 上田市 | D11: 1670 | E11: 584 | F11: 9740
A12: 20 | B12: 204 | C12: 岡谷市 | D12: 49 | E12: 626 | F12: 307
A13: 20 | B13: 205 | C13: 飯田市 | D13: 745 | E13: 585 | F13: 4360
A14: 20 | B14: 206 | C14: 諏訪市 | D14: 367 | E14: 655 | F14: 2400
A15: 20 | B15: 207 | C15: 須坂市 | D15: 185 | E15: 613 | F15: 1130
A16: 20 | B16: 208 | C16: 小諸市 | D16: 585 | E16: 640 | F16: 3740
A17: 20 | B17: 209 | C17: 伊那市 | D17: 1920 | E17: 653 | F17: 12500
A18: 20 | B18: 210 | C18: 駒ヶ根市 | D18: 785 | E18: 642 | F18: 5040
A19: 20 | B19: 211 | C19: 中野市 | D19: 456 | E19: 599 | F19: 2730
A20: 20 | B20: 212 | C20: 大町市 | D20: 1480 | E20: 617 | F20: 9140
... A28: 20 | B28: 303 | C28: 小海町 | D28: 50 | E28: 613 | F28: 307
A29: 20 | B29: 304 | C29: 川上村 | D29: - | E29: - | F29: -
A30: 20 | B30: 305 | C30: 南牧村 | D30: 13 | E30: 557 | F30: 72
A31: 20 | B31: 306 | C31: 南相木村 | D31: 1 | E31: 547 | F31: 5
A32: 20 | B32: 307 | C32: 北相木村 | D32: 2 | E32: 545 | F32: 11
A33: 20 | B33: 309 | C33: 佐久穂町 | D33: 286 | E33: 633 | F33: 1810
A34: 20 | B34: 321 | C34: 軽井沢町 | D34: 18 | E34: 588 | F34: 106
A35: 20 | B35: 323 | C35: 御代田町 | D35: 96 | E35: 619 | F35: 594
A36: 20 | B36: 324 | C36: 立科町 | D36: 460 | E36: 655 | F36: 3010
A37: 20 | B37: 349 | C37: 青木村 | D37: 112 | E37: 599 | F37: 671
A38: 20 | B38: 350 | C38: 長和町 | D38: 237 | E38: 603 | F38: 1430
A39: 20 | B39: 361 | C39: 下諏訪町 | D39: 11 | E39: 623 | F39: 69
A40: 20 | B40: 362 | C40: 富士見町 | D40: 412 | E40: 614 | F40: 2530
A41: 20 | B41: 363 | C41: 原村 | D41: 333 | E41: 612 | F41: 2040
... A85: 20 | B85: 602 | C85: 栄村 | D85: 208 | E85: 546 | F85: 1140
C87: 計 | D87: 32700 | E87: 624 | F87: 204000
A89: 利用上の注意 | D89: =SUM(D7:D85) -> 32738 | E89: =SUM(E7:E85) -> 45357 | F89: =SUM(F7:F85) -> 204359
A90: １ この市町村別統計は、「作物統計調査」を実施する上で把握した地域における標本調査及び現地見積りの結果、
A91: 関係機関からの情報等を踏まえ、都道府県計値の内訳として市町村別に作成した加工統計であり、作成するうえで
A92: 精度を設定しているものではない。
A93: なお、「作物統計調査」は都道府県計値を求めるために設計されている。
A94: ２ 耕作者の市町村間の出作・入作を考慮していない（属地統計）。
A95: ３ 数値は四捨五入しており、市町村値の計が都道府県値と一致しないことがある。

Sheet 水稲H29（長野）2017
A1: 農林水産関係市町村別統計
A2: 平成29年産
A3: 水稲
A4: 長野県
A5: 都道 | B5: 市町 | D5: 作付面積 | E5: 10a当たり | F5: 収穫量
A6: 府県 | B6: 村 | C6: 市町村名 | E6: 収量
A7: ｺｰﾄﾞ | B7: ｺｰﾄﾞ
D8: ha | E8: kg | F8: t
A9: 20 | B9: 201 | C9: 長野市 | D9: 1600 | E9: 579 | F9: 9260
A10: 20 | B10: 202 | C10: 松本市 | D10: 2720 | E10: 669 | F10: 18200
A11: 20 | B11: 203 | C11: 上田市 | D11: 1650 | E11: 607 | F11: 10000
A12: 20 | B12: 204 | C12: 岡谷市 | D12: 43 | E12: 640 | F12: 275
A13: 20 | B13: 205 | C13: 飯田市 | D13: 728 | E13: 634 | F13: 4620
A14: 20 | B14: 206 | C14: 諏訪市 | D14: 366 | E14: 667 | F14: 2440
A15: 20 | B15: 207 | C15: 須坂市 | D15: 183 | E15: 601 | F15: 1100
A16: 20 | B16: 208 | C16: 小諸市 | D16: 585 | E16: 635 | F16: 3720
A17: 20 | B17: 209 | C17: 伊那市 | D17: 1950 | E17: 654 | F17: 12800
A18: 20 | B18: 210 | C18: 駒ヶ根市 | D18: 783 | E18: 638 | F18: 5000
A19: 20 | B19: 211 | C19: 中野市 | D19: 451 | E19: 579 | F19: 2610
A20: 20 | B20: 212 | C20: 大町市 | D20: 1460 | E20: 603 | F20: 8820
... A28: 20 | B28: 303 | C28: 小海町 | D28: 49 | E28: 598 | F28: 293
A29: 20 | B29: 304 | C29: 川上村 | D29: - | E29: - | F29: -
A30: 20 | B30: 305 | C30: 南牧村 | D30: 12 | E30: 537 | F30: 64
A31: 20 | B31: 306 | C31: 南相木村 | D31: 1 | E31: 531 | F31: 5
A32: 20 | B32: 307 | C32: 北相木村 | D32: 2 | E32: 529 | F32: 11
A33: 20 | B33: 309 | C33: 佐久穂町 | D33: 277 | E33: 627 | F33: 1740
A34: 20 | B34: 321 | C34: 軽井沢町 | D34: 13 | E34: 580 | F34: 75
A35: 20 | B35: 323 | C35: 御代田町 | D35: 85 | E35: 633 | F35: 538
A36: 20 | B36: 324 | C36: 立科町 | D36: 456 | E36: 676 | F36: 3080
A37: 20 | B37: 349 | C37: 青木村 | D37: 106 | E37: 600 | F37: 636
A38: 20 | B38: 350 | C38: 長和町 | D38: 239 | E38: 589 | F38: 1410
A39: 20 | B39: 361 | C39: 下諏訪町 | D39: 11 | E39: 633 | F39: 70
A40: 20 | B40: 362 | C40: 富士見町 | D40: 395 | E40: 624 | F40: 2470
A41: 20 | B41: 363 | C41: 原村 | D41: 332 | E41: 621 | F41: 2060
... A85: 20 | B85: 602 | C85: 栄村 | D85: 201 | E85: 512 | F85: 1030
C87: 計 | D87: 32300 | E87: 629 | F87: 203200
A89: 利用上の注意 | D89: =SUM(D7:D85) -> 32333 | E89: =SUM(E7:E85) -> 45822 | F89: =SUM(F7:F85) -> 203507
A90: １ この市町村別統計は、「作物統計調査」を実施する上で把握した地域における標本調査及び現地見積りの結果、
A91: 関係機関からの情報等を踏まえ、都道府県計値の内訳として市町村別に作成した加工統計であり、作成するうえで
A92: 精度を設定しているものではない。
A93: なお、「作物統計調査」は都道府県計値を求めるために設計されている。
A94: ２ 耕作者の市町村間の出作・入作を考慮していない（属地統計）。
A95: ３ 数値は四捨五入しており、市町村値の計が都道府県値と一致しないことがある。

Sheet 水稲H30（長野）2018
A1: 農林水産関係市町村別統計
A2: 平成30年産
A3: 水稲
A4: 長野県
A5: 都道 | B5: 市町 | D5: 作付面積 | E5: 10a当たり | F5: 収穫量
A6: 府県 | B6: 村 | C6: 市町村名 | E6: 収量
A7: ｺｰﾄﾞ | B7: ｺｰﾄﾞ
D8: ha | E8: kg | F8: t
A9: 20 | B9: 201 | C9: 長野市 | D9: 1550 | E9: 557 | F9: 8640
A10: 20 | B10: 202 | C10: 松本市 | D10: 2690 | E10: 652 | F10: 17600
A11: 20 | B11: 203 | C11: 上田市 | D11: 1650 | E11: 587 | F11: 9660
A12: 20 | B12: 204 | C12: 岡谷市 | D12: 42 | E12: 628 | F12: 264
A13: 20 | B13: 205 | C13: 飯田市 | D13: 707 | E13: 608 | F13: 4300
A14: 20 | B14: 206 | C14: 諏訪市 | D14: 366 | E14: 653 | F14: 2390
A15: 20 | B15: 207 | C15: 須坂市 | D15: 175 | E15: 582 | F15: 1020
A16: 20 | B16: 208 | C16: 小諸市 | D16: 607 | E16: 616 | F16: 3740
A17: 20 | B17: 209 | C17: 伊那市 | D17: 1950 | E17: 646 | F17: 12600
A18: 20 | B18: 210 | C18: 駒ヶ根市 | D18: 779 | E18: 631 | F18: 4920
A19: 20 | B19: 211 | C19: 中野市 | D19: 451 | E19: 541 | F19: 2440
A20: 20 | B20: 212 | C20: 大町市 | D20: 1450 | E20: 604 | F20: 8780
... A28: 20 | B28: 303 | C28: 小海町 | D28: 48 | E28: 593 | F28: 285
A29: 20 | B29: 304 | C29: 川上村 | D29: - | E29: - | F29: -
A30: 20 | B30: 305 | C30: 南牧村 | D30: 12 | E30: 526 | F30: 63
A31: 20 | B31: 306 | C31: 南相木村 | D31: 1 | E31: 529 | F31: 5
A32: 20 | B32: 307 | C32: 北相木村 | D32: 1 | E32: 527 | F32: 5
A33: 20 | B33: 309 | C33: 佐久穂町 | D33: 272 | E33: 615 | F33: 1670
A34: 20 | B34: 321 | C34: 軽井沢町 | D34: 14 | E34: 578 | F34: 81
A35: 20 | B35: 323 | C35: 御代田町 | D35: 82 | E35: 605 | F35: 496
A36: 20 | B36: 324 | C36: 立科町 | D36: 450 | E36: 698 | F36: 3140
A37: 20 | B37: 349 | C37: 青木村 | D37: 104 | E37: 613 | F37: 638
A38: 20 | B38: 350 | C38: 長和町 | D38: 245 | E38: 615 | F38: 1510
A39: 20 | B39: 361 | C39: 下諏訪町 | D39: 9 | E39: 622 | F39: 56
A40: 20 | B40: 362 | C40: 富士見町 | D40: 394 | E40: 625 | F40: 2460
A41: 20 | B41: 363 | C41: 原村 | D41: 321 | E41: 620 | F41: 1990
... A85: 20 | B85: 602 | C85: 栄村 | D85: 199 | E85: 487 | F85: 969
C87: 計 | D87: 32200 | E87: 618 | F87: 199000
A89: 利用上の注意 | D89: =SUM(D7:D85) -> 32185 | E89: =SUM(E7:E85) -> 44854 | F89: =SUM(F7:F85) -> 198910
A90: １ この市町村別統計は、「作物統計調査」を実施する上で把握した地域における標本調査及び現地見積りの結果、
A91: 関係機関からの情報等を踏まえ、都道府県計値の内訳として市町村別に作成した加工統計であり、作成するうえで
A92: 精度を設定しているものではない。
A93: なお、「作物統計調査」は都道府県計値を求めるために設計されている。
A94: ２ 耕作者の市町村間の出作・入作を考慮していない（属地統計）。
A95: ３ 数値は四捨五入しており、市町村値の計が都道府県値と一致しないことがある。

Sheet 水稲R1（長野）2019
A1: 農林水産関係市町村別統計
A2: 令和元年産
A3: 水稲
A4: 長野県
A5: 都道 | B5: 市町 | D5: 作付面積 | E5: 10a当たり | F5: 収穫量
A6: 府県 | B6: 村 | C6: 市町村名 | E6: 収量
A7: ｺｰﾄﾞ | B7: ｺｰﾄﾞ
D8: ha | E8: kg | F8: t
A9: 20 | B9: 201 | C9: 長野市 | D9: 1510 | E9: 578 | F9: 8740
A10: 20 | B10: 202 | C10: 松本市 | D10: 2700 | E10: 645 | F10: 17400
A11: 20 | B11: 203 | C11: 上田市 | D11: 1650 | E11: 591 | F11: 9770
A12: 20 | B12: 204 | C12: 岡谷市 | D12: 40 | E12: 642 | F12: 257
A13: 20 | B13: 205 | C13: 飯田市 | D13: 680 | E13: 593 | F13: 4030
A14: 20 | B14: 206 | C14: 諏訪市 | D14: 359 | E14: 663 | F14: 2380
A15: 20 | B15: 207 | C15: 須坂市 | D15: 174 | E15: 601 | F15: 1050
A16: 20 | B16: 208 | C16: 小諸市 | D16: 583 | E16: 603 | F16: 3520
A17: 20 | B17: 209 | C17: 伊那市 | D17: 1960 | E17: 656 | F17: 12900
A18: 20 | B18: 210 | C18: 駒ヶ根市 | D18: 767 | E18: 641 | F18: 4920
A19: 20 | B19: 211 | C19: 中野市 | D19: 451 | E19: 554 | F19: 2500
A20: 20 | B20: 212 | C20: 大町市 | D20: 1460 | E20: 629 | F20: 9150
... A28: 20 | B28: 303 | C28: 小海町 | D28: 32 | E28: 561 | F28: 180
A29: 20 | B29: 304 | C29: 川上村 | D29: - | E29: - | F29: -
A30: 20 | B30: 305 | C30: 南牧村 | D30: 12 | E30: 522 | F30: 63
A31: 20 | B31: 306 | C31: 南相木村 | D31: 1 | E31: 523 | F31: 5
A32: 20 | B32: 307 | C32: 北相木村 | D32: 1 | E32: 519 | F32: 5
A33: 20 | B33: 309 | C33: 佐久穂町 | D33: 259 | E33: 561 | F33: 1450
A34: 20 | B34: 321 | C34: 軽井沢町 | D34: 13 | E34: 545 | F34: 71
A35: 20 | B35: 323 | C35: 御代田町 | D35: 80 | E35: 570 | F35: 456
A36: 20 | B36: 324 | C36: 立科町 | D36: 453 | E36: 664 | F36: 3010
A37: 20 | B37: 349 | C37: 青木村 | D37: 74 | E37: 568 | F37: 420
A38: 20 | B38: 350 | C38: 長和町 | D38: 243 | E38: 576 | F38: 1400
A39: 20 | B39: 361 | C39: 下諏訪町 | D39: 9 | E39: 617 | F39: 56
A40: 20 | B40: 362 | C40: 富士見町 | D40: 392 | E40: 639 | F40: 2510
A41: 20 | B41: 363 | C41: 原村 | D41: 333 | E41: 643 | F41: 2140
... A85: 20 | B85: 602 | C85: 栄村 | D85: 199 | E85: 507 | F85: 1010
C87: 計 | D87: 32000 | E87: 620 | F87: 198400
A89: 利用上の注意 | D89: =SUM(D7:D85) -> 32007 | E89: =SUM(E7:E85) -> 44843 | F89: =SUM(F7:F85) -> 198232
A90: １ この市町村別統計は、「作物統計調査」を実施する上で把握した地域における標本調査及び現地見積りの結果、
A91: 関係機関からの情報等を踏まえ、都道府県計値の内訳として市町村別に作成した加工統計であり、作成するうえで
A92: 精度を設定しているものではない。
A93: なお、「作物統計調査」は都道府県計値を求めるために設計されている。
A94: ２ 耕作者の市町村間の出作・入作を考慮していない（属地統計）。
A95: ３ 数値は四捨五入しており、市町村値の計が都道府県値と一致しないことがある。

Sheet 水稲R2（長野）2020
A1: 農林水産関係市町村別統計
A2: 令和2年産
A3: 水稲
A4: 長野県
A5: 都道 | B5: 市町 | D5: 作付面積 | E5: 10a当たり | F5: 収穫量
A6: 府県 | B6: 村 | C6: 市町村名 | E6: 収量
A7: ｺｰﾄﾞ | B7: ｺｰﾄﾞ
D8: ha | E8: kg | F8: t
A9: 20 | B9: 201 | C9: 長野市 | D9: 1510 | E9: 565 | F9: 8530
A10: 20 | B10: 202 | C10: 松本市 | D10: 2690 | E10: 636 | F10: 17100
A11: 20 | B11: 203 | C11: 上田市 | D11: 1630 | E11: 584 | F11: 9540
A12: 20 | B12: 204 | C12: 岡谷市 | D12: 39 | E12: 617 | F12: 241
A13: 20 | B13: 205 | C13: 飯田市 | D13: 665 | E13: 566 | F13: 3760
A14: 20 | B14: 206 | C14: 諏訪市 | D14: 357 | E14: 641 | F14: 2290
A15: 20 | B15: 207 | C15: 須坂市 | D15: 175 | E15: 598 | F15: 1050
A16: 20 | B16: 208 | C16: 小諸市 | D16: 577 | E16: 576 | F16: 3320
A17: 20 | B17: 209 | C17: 伊那市 | D17: 1960 | E17: 650 | F17: 12800
A18: 20 | B18: 210 | C18: 駒ヶ根市 | D18: 769 | E18: 633 | F18: 4870
A19: 20 | B19: 211 | C19: 中野市 | D19: 456 | E19: 553 | F19: 2520
A20: 20 | B20: 212 | C20: 大町市 | D20: 1450 | E20: 595 | F20: 8620
... A28: 20 | B28: 303 | C28: 小海町 | D28: 32 | E28: 535 | F28: 171
A29: 20 | B29: 304 | C29: 川上村 | D29: - | E29: - | F29: -
A30: 20 | B30: 305 | C30: 南牧村 | D30: 12 | E30: 511 | F30: 61
A31: 20 | B31: 306 | C31: 南相木村 | D31: 1 | E31: 510 | F31: 5
A32: 20 | B32: 307 | C32: 北相木村 | D32: 1 | E32: 505 | F32: 5
A33: 20 | B33: 309 | C33: 佐久穂町 | D33: 258 | E33: 546 | F33: 1410
A34: 20 | B34: 321 | C34: 軽井沢町 | D34: 12 | E34: 531 | F34: 64
A35: 20 | B35: 323 | C35: 御代田町 | D35: 79 | E35: 553 | F35: 437
A36: 20 | B36: 324 | C36: 立科町 | D36: 454 | E36: 651 | F36: 2960
A37: 20 | B37: 349 | C37: 青木村 | D37: 93 | E37: 564 | F37: 525
A38: 20 | B38: 350 | C38: 長和町 | D38: 248 | E38: 566 | F38: 1400
A39: 20 | B39: 361 | C39: 下諏訪町 | D39: 9 | E39: 602 | F39: 54
A40: 20 | B40: 362 | C40: 富士見町 | D40: 383 | E40: 590 | F40: 2260
A41: 20 | B41: 363 | C41: 原村 | D41: 325 | E41: 592 | F41: 1920
... A85: 20 | B85: 602 | C85: 栄村 | D85: 199 | E85: 501 | F85: 997
C87: 計 | D87: 31800 | E87: 606 | F87: 192700
A89: 利用上の注意 | D89: =SUM(D7:D85) -> 31803 | E89: =SUM(E7:E85) -> 43659 | F89: =SUM(F7:F85) -> 192757
A90: １ この市町村別統計は、「作物統計調査」を実施する上で把握した地域における標本調査及び現地見積りの結果、
A91: 関係機関からの情報等を踏まえ、都道府県計値の内訳として市町村別に作成した加工統計であり、作成するうえで
A92: 精度を設定しているものではない。
A93: なお、「作物統計調査」は都道府県計値を求めるために設計されている。
A94: ２ 耕作者の市町村間の出作・入作を考慮していない（属地統計）。
A95: ３ 数値は四捨五入しており、市町村値の計が都道府県値と一致しないことがある。

Sheet 水稲R3（長野）2021
A1: 農林水産関係市町村別統計
A2: 令和3年産
A3: 水稲
A4: 長野県
A5: 都道 | B5: 市町 | C5: 市町村名 | D5: 作付面積 | E5: 10a当たり | F5: 収穫量
A6: 府県 | B6: 村 | E6: 収量
A7: ｺｰﾄﾞ | B7: ｺｰﾄﾞ
D8: ha | E8: kg | F8: t
A9: 20 | B9: 201 | C9: 長野市 | D9: 1480 | E9: 551 | F9: 8180
A10: 20 | B10: 202 | C10: 松本市 | D10: 2690 | E10: 637 | F10: 17100
A11: 20 | B11: 203 | C11: 上田市 | D11: 1620 | E11: 567 | F11: 9180
A12: 20 | B12: 204 | C12: 岡谷市 | D12: 37 | E12: 625 | F12: 231
A13: 20 | B13: 205 | C13: 飯田市 | D13: 649 | E13: 591 | F13: 3840
A14: 20 | B14: 206 | C14: 諏訪市 | D14: 353 | E14: 652 | F14: 2300
A15: 20 | B15: 207 | C15: 須坂市 | D15: 175 | E15: 588 | F15: 1030
A16: 20 | B16: 208 | C16: 小諸市 | D16: 571 | E16: 572 | F16: 3270
A17: 20 | B17: 209 | C17: 伊那市 | D17: 1960 | E17: 608 | F17: 11900
A18: 20 | B18: 210 | C18: 駒ヶ根市 | D18: 764 | E18: 587 | F18: 4490
A19: 20 | B19: 211 | C19: 中野市 | D19: 445 | E19: 540 | F19: 2400
A20: 20 | B20: 212 | C20: 大町市 | D20: 1430 | E20: 627 | F20: 8960
... A28: 20 | B28: 303 | C28: 小海町 | D28: 30 | E28: 532 | F28: 160
A29: 20 | B29: 304 | C29: 川上村 | D29: - | E29: - | F29: -
A30: 20 | B30: 305 | C30: 南牧村 | D30: 12 | E30: 509 | F30: 61
A31: 20 | B31: 306 | C31: 南相木村 | D31: 1 | E31: 508 | F31: 5
A32: 20 | B32: 307 | C32: 北相木村 | D32: 1 | E32: 506 | F32: 5
A33: 20 | B33: 309 | C33: 佐久穂町 | D33: 252 | E33: 547 | F33: 1380
A34: 20 | B34: 321 | C34: 軽井沢町 | D34: 14 | E34: 532 | F34: 74
A35: 20 | B35: 323 | C35: 御代田町 | D35: 82 | E35: 555 | F35: 455
A36: 20 | B36: 324 | C36: 立科町 | D36: 448 | E36: 644 | F36: 2890
A37: 20 | B37: 349 | C37: 青木村 | D37: 94 | E37: 543 | F37: 510
A38: 20 | B38: 350 | C38: 長和町 | D38: 220 | E38: 554 | F38: 1220
A39: 20 | B39: 361 | C39: 下諏訪町 | D39: 8 | E39: 617 | F39: 49
A40: 20 | B40: 362 | C40: 富士見町 | D40: 379 | E40: 610 | F40: 2310
A41: 20 | B41: 363 | C41: 原村 | D41: 331 | E41: 600 | F41: 1990
... A85: 20 | B85: 602 | C85: 栄村 | D85: 195 | E85: 494 | F85: 963
C87: 計 | D87: 31500 | E87: 603 | F87: 189900
A89: 利用上の注意 | D89: =SUM(D7:D85) -> 31473 | E89: =SUM(E7:E85) -> 43471 | F89: =SUM(F7:F85) -> 189832
A90: １ この市町村別統計は、「作物統計調査」を実施する上で把握した地域における標本調査、現地見積りの結果、関係機関
A91: からの情報等を踏まえ、都道府県計値の内訳として市町村別に配分することにより作成した加工統計であり、市町村別の
A92: 値を目的として設計された調査に基づいて直接得られたものではない。
A93: なお、「作物統計調査」は、都道府県計値を求めるために目標精度を設定し、調査の設計がされている。
A94: ２ 面積、収穫量ともに耕地の存在する市町村に計上しており（属地統計）、耕作者の市町村間の出作・入作を考慮していない。
A95: ３ 数値は四捨五入しており、市町村値の計が都道府県値と一致しないことがある。

Sheet 水稲R4（長野）2022
A1: 農林水産関係市町村別統計
A2: 令和4年産
A3: 水稲
A4: 長野県
A5: 都道 | B5: 市町 | C5: 市町村名 | D5: 作付面積 | E5: 10a当たり | F5: 収穫量
A6: 府県 | B6: 村 | E6: 収量
A7: ｺｰﾄﾞ | B7: ｺｰﾄﾞ
D8: ha | E8: kg | F8: t
A9: 20 | B9: 201 | C9: 長野市 | D9: 1470 | E9: 550 | F9: 8100
A10: 20 | B10: 202 | C10: 松本市 | D10: 2630 | E10: 648 | F10: 17000
A11: 20 | B11: 203 | C11: 上田市 | D11: 1580 | E11: 584 | F11: 9250
A12: 20 | B12: 204 | C12: 岡谷市 | D12: 35 | E12: 623 | F12: 218
A13: 20 | B13: 205 | C13: 飯田市 | D13: 643 | E13: 580 | F13: 3730
A14: 20 | B14: 206 | C14: 諏訪市 | D14: 351 | E14: 652 | F14: 2290
A15: 20 | B15: 207 | C15: 須坂市 | D15: 157 | E15: 574 | F15: 901
A16: 20 | B16: 208 | C16: 小諸市 | D16: 560 | E16: 605 | F16: 3390
A17: 20 | B17: 209 | C17: 伊那市 | D17: 1880 | E17: 643 | F17: 12100
A18: 20 | B18: 210 | C18: 駒ヶ根市 | D18: 746 | E18: 631 | F18: 4710
A19: 20 | B19: 211 | C19: 中野市 | D19: 429 | E19: 570 | F19: 2450
A20: 20 | B20: 212 | C20: 大町市 | D20: 1410 | E20: 607 | F20: 8530
... A28: 20 | B28: 303 | C28: 小海町 | D28: 29 | E28: 561 | F28: 163
A29: 20 | B29: 304 | C29: 川上村 | D29: - | E29: - | F29: -
A30: 20 | B30: 305 | C30: 南牧村 | D30: 12 | E30: 511 | F30: 61
A31: 20 | B31: 306 | C31: 南相木村 | D31: 1 | E31: 510 | F31: 5
A32: 20 | B32: 307 | C32: 北相木村 | D32: 1 | E32: 509 | F32: 5
A33: 20 | B33: 309 | C33: 佐久穂町 | D33: 253 | E33: 579 | F33: 1470
A34: 20 | B34: 321 | C34: 軽井沢町 | D34: 12 | E34: 554 | F34: 66
A35: 20 | B35: 323 | C35: 御代田町 | D35: 88 | E35: 584 | F35: 514
A36: 20 | B36: 324 | C36: 立科町 | D36: 446 | E36: 641 | F36: 2860
A37: 20 | B37: 349 | C37: 青木村 | D37: 92 | E37: 567 | F37: 522
A38: 20 | B38: 350 | C38: 長和町 | D38: 215 | E38: 570 | F38: 1230
A39: 20 | B39: 361 | C39: 下諏訪町 | D39: 8 | E39: 614 | F39: 49
A40: 20 | B40: 362 | C40: 富士見町 | D40: 375 | E40: 609 | F40: 2280
A41: 20 | B41: 363 | C41: 原村 | D41: 326 | E41: 604 | F41: 1970
... A85: 20 | B85: 602 | C85: 栄村 | D85: 196 | E85: 500 | F85: 980
C87: 計 | D87: 30800 | E87: 608 | F87: 187300
A89: 利用上の注意 | D89: =SUM(D7:D85) -> 30841 | E89: =SUM(E7:E85) -> 43978 | F89: =SUM(F7:F85) -> 187345
A90: １ この市町村別統計は、「作物統計調査」を実施する上で把握した地域における標本調査、現地見積りの結果、関係機関
A91: からの情報等を踏まえ、都道府県計値の内訳として市町村別に配分することにより作成した加工統計であり、市町村別の
A92: 値を目的として設計された調査に基づいて直接得られたものではない。
A93: なお、「作物統計調査」は、都道府県計値を求めるために目標精度を設定し、調査の設計がされている。
A94: ２ 面積、収穫量ともに耕地の存在する市町村に計上しており（属地統計）、耕作者の市町村間の出作・入作を考慮していない。
A95: ３ 数値は四捨五入しており、市町村値の計が都道府県値と一致しないことがある。

Sheet 水稲R5（長野）2023
A1: 農林水産関係市町村別統計
A2: 令和5年産
A3: 水稲
A4: 長野県
A5: 都道府県ｺｰﾄﾞ | B5: 市町村 ｺｰﾄﾞ | C5: 市町村名 | D5: 作付面積 | E5: 10a当たり 収量 | F5: 収穫量
D8: ha | E8: kg | F8: t
A9: 20 | B9: 201 | C9: 長野市 | D9: 1440 | E9: 554 | F9: 7990
A10: 20 | B10: 202 | C10: 松本市 | D10: 2590 | E10: 653 | F10: 16900
A11: 20 | B11: 203 | C11: 上田市 | D11: 1640 | E11: 585 | F11: 9570
A12: 20 | B12: 204 | C12: 岡谷市 | D12: 40 | E12: 645 | F12: 258
A13: 20 | B13: 205 | C13: 飯田市 | D13: 628 | E13: 575 | F13: 3610
A14: 20 | B14: 206 | C14: 諏訪市 | D14: 341 | E14: 665 | F14: 2270
A15: 20 | B15: 207 | C15: 須坂市 | D15: 156 | E15: 582 | F15: 908
A16: 20 | B16: 208 | C16: 小諸市 | D16: 551 | E16: 648 | F16: 3570
A17: 20 | B17: 209 | C17: 伊那市 | D17: 1860 | E17: 639 | F17: 11900
A18: 20 | B18: 210 | C18: 駒ヶ根市 | D18: 738 | E18: 625 | F18: 4610
A19: 20 | B19: 211 | C19: 中野市 | D19: 419 | E19: 552 | F19: 2310
A20: 20 | B20: 212 | C20: 大町市 | D20: 1400 | E20: 608 | F20: 8520
... A28: 20 | B28: 303 | C28: 小海町 | D28: 28 | E28: 592 | F28: 166
A29: 20 | B29: 304 | C29: 川上村 | D29: - | E29: - | F29: -
A30: 20 | B30: 305 | C30: 南牧村 | D30: 12 | E30: 525 | F30: 63
A31: 20 | B31: 306 | C31: 南相木村 | D31: 0 | E31: 524 | F31: 2
A32: 20 | B32: 307 | C32: 北相木村 | D32: 1 | E32: 522 | F32: 5
A33: 20 | B33: 309 | C33: 佐久穂町 | D33: 241 | E33: 625 | F33: 1510
A34: 20 | B34: 321 | C34: 軽井沢町 | D34: 12 | E34: 578 | F34: 69
A35: 20 | B35: 323 | C35: 御代田町 | D35: 84 | E35: 627 | F35: 527
A36: 20 | B36: 324 | C36: 立科町 | D36: 441 | E36: 668 | F36: 2950
A37: 20 | B37: 349 | C37: 青木村 | D37: 74 | E37: 561 | F37: 415
A38: 20 | B38: 350 | C38: 長和町 | D38: 223 | E38: 570 | F38: 1270
A39: 20 | B39: 361 | C39: 下諏訪町 | D39: 8 | E39: 638 | F39: 51
A40: 20 | B40: 362 | C40: 富士見町 | D40: 374 | E40: 630 | F40: 2360
A41: 20 | B41: 363 | C41: 原村 | D41: 324 | E41: 626 | F41: 2030
... A85: 20 | B85: 602 | C85: 栄村 | D85: 194 | E85: 494 | F85: 958
C87: 計 | D87: 30600 | E87: 614 | F87: 187900
A89: 利用上の注意 | D89: =SUM(D7:D85) -> 30552 | E89: =SUM(E7:E85) -> 44382 | F89: =SUM(F7:F85) -> 187638
A90: １ この市町村別統計は、「作物統計調査」を実施する上で把握した地域における標本調査及び現地見積りの結果、関係機関
A91: からの情報等を踏まえ、都道府県計値の内訳として市町村別に配分することにより作成した加工統計であり、市町村別の値
A92: を目的として設計された調査に基づいて直接得られたものではない。
A93: なお、「作物統計調査」は、都道府県計値を求めるために目標精度を設定し、調査の設計がされている。
A94: ２ 面積、収穫量ともに耕地の存在する市町村に計上しており（属地統計）、耕作者の市町村間の出作・入作を考慮していない。
A95: ３ 数値は四捨五入しており、市町村値の計が都道府県値と一致しないことがある。

Sheet 水稲R6（長野）2024
A1: 農林水産関係市町村別統計
A2: 令和6年産
A3: 水稲
A4: 長野県
A5: 都道府県ｺｰﾄﾞ | B5: 市町村 ｺｰﾄﾞ | C5: 市町村名 | D5: 作付面積 | E5: 10a当たり 収量 | F5: 収穫量
D8: ha | E8: kg | F8: t
A9: 20 | B9: 201 | C9: 長野市 | D9: 1410 | E9: 541 | F9: 7640
A10: 20 | B10: 202 | C10: 松本市 | D10: 2600 | E10: 649 | F10: 16800
A11: 20 | B11: 203 | C11: 上田市 | D11: 1560 | E11: 580 | F11: 9030
A12: 20 | B12: 204 | C12: 岡谷市 | D12: 36 | E12: 640 | F12: 230
A13: 20 | B13: 205 | C13: 飯田市 | D13: 584 | E13: 565 | F13: 3300
A14: 20 | B14: 206 | C14: 諏訪市 | D14: 343 | E14: 663 | F14: 2270
A15: 20 | B15: 207 | C15: 須坂市 | D15: 149 | E15: 591 | F15: 881
A16: 20 | B16: 208 | C16: 小諸市 | D16: 541 | E16: 664 | F16: 3590
A17: 20 | B17: 209 | C17: 伊那市 | D17: 1840 | E17: 638 | F17: 11700
A18: 20 | B18: 210 | C18: 駒ヶ根市 | D18: 732 | E18: 624 | F18: 4570
A19: 20 | B19: 211 | C19: 中野市 | D19: 412 | E19: 582 | F19: 2400
A20: 20 | B20: 212 | C20: 大町市 | D20: 1410 | E20: 628 | F20: 8820
... A28: 20 | B28: 303 | C28: 小海町 | D28: 23 | E28: 612 | F28: 141
A29: 20 | B29: 304 | C29: 川上村 | D29: - | E29: - | F29: -
A30: 20 | B30: 305 | C30: 南牧村 | D30: 12 | E30: 528 | F30: 63
A31: 20 | B31: 306 | C31: 南相木村 | D31: 0 | E31: 540 | F31: 2
A32: 20 | B32: 307 | C32: 北相木村 | D32: 1 | E32: 538 | F32: 5
A33: 20 | B33: 309 | C33: 佐久穂町 | D33: 239 | E33: 643 | F33: 1540
A34: 20 | B34: 321 | C34: 軽井沢町 | D34: 11 | E34: 592 | F34: 65
A35: 20 | B35: 323 | C35: 御代田町 | D35: 77 | E35: 647 | F35: 498
A36: 20 | B36: 324 | C36: 立科町 | D36: 439 | E36: 676 | F36: 2970
A37: 20 | B37: 349 | C37: 青木村 | D37: 88 | E37: 569 | F37: 501
A38: 20 | B38: 350 | C38: 長和町 | D38: 229 | E38: 568 | F38: 1300
A39: 20 | B39: 361 | C39: 下諏訪町 | D39: 7 | E39: 629 | F39: 44
A40: 20 | B40: 362 | C40: 富士見町 | D40: 374 | E40: 628 | F40: 2350
A41: 20 | B41: 363 | C41: 原村 | D41: 322 | E41: 623 | F41: 2010
... A85: 20 | B85: 602 | C85: 栄村 | D85: 194 | E85: 515 | F85: 999
C87: 計 | D87: 30300 | E87: 620 | F87: 187900
A89: 利用上の注意 | D89: =SUM(D7:D85) -> 30317 | E89: =SUM(E7:E85) -> 44623 | F89: =SUM(F7:F85) -> 187713
A90: １ この市町村別統計は、「作物統計調査」を実施する上で把握した地域における標本調査結果及び現地見積りの結果、関係機関
A91: からの情報等を踏まえ、都道府県計値の内訳として市町村別に配分することにより作成した加工統計であり、市町村別の値
A92: を目的として設計された調査に基づいて直接得られたものではない。
A93: なお、「作物統計調査」は、都道府県計値を求めるために目標精度を設定し、調査の設計がされている。
A94: ２ 面積、収穫量ともに耕地の存在する市町村に計上しており（属地統計）、耕作者の市町村間の出作・入作を考慮していない。
A95: ３ 数値は四捨五入しており、市町村値の計が都道府県値と一致しないことがある。

Sheet 水稲累年統計（長野県）
A1: 作物統計
A2: 収穫量累年統計
A3: 水稲
A4: 長野
A5: 年次 | B5: 作付面積 （子実用） | C5: 主食用作付面積 | D5: 10a当たり平年収量 | E5: 平年収量 | F5: 8月15日現在 | H5: 9月1日現在 | I5: 9月10日現在 | J5: 9月15日現在 | K5: 9月25日現在 | L5: 10月1日現在 | O5: 10月15日現在 | R5: 10月25日現在 | U5: 収穫期
F6: 作柄の良否(早場地帯） | G6: 作況指数 | H6: 作況指数 | I6: 作況指数 | J6: 作況指数 | K6: 作況指数 | L6: 10a当たり予想収量 | M6: 作況指数 | N6: 予想収穫量 （子実用） | O6: 10a当たり予想収量 | P6: 作況指数 | Q6: 予想収穫量 （子実用） | R6: 10a当たり予想収量 | S6: 作況指数 | T6: 予想収穫量 （子実用） | U6: 10a当たり収量 | V6: 作況指数 | W6: 収穫量 （子実用） | X6: 収穫量_x000D_ （主食用）
B7: ha | C7: ha | D7: kg | E7: t | L7: kg | N7: t | O7: kg | Q7: t | R7: kg | T7: t | U7: kg | W7: t | X7: t
A8: 昭.33(1958) | B8: 73000 | C8: … | D8: 431 | E8: 315000 | F8: … | G8: 118 | H8: … | I8: … | J8: 118 | K8: … | L8: … | M8: … | N8: … | O8: 489 | P8: 113 | Q8: 357000 | R8: … | S8: … | T8: … | U8: 492 | V8: 114 | W8: 359400 | X8: …
A9: 昭.34(1959) | B9: 74500 | C9: … | D9: 461 | E9: 343400 | F9: … | G9: 102 | H9: … | I9: … | J9: 108 | K9: … | L9: … | M9: … | N9: … | O9: 492 | P9: 107 | Q9: 366700 | R9: … | S9: … | T9: … | U9: 496 | V9: 108 | W9: 369700 | X9: …
A10: 昭.35(1960) | B10: 75700 | C10: … | D10: 481 | E10: 364300 | F10: … | G10: 107 | H10: … | I10: … | J10: 107 | K10: … | L10: … | M10: … | N10: … | O10: 503 | P10: 105 | Q10: 381100 | R10: … | S10: … | T10: … | U10: 493 | V10: 103 | W10: 373400 | X10: …
A11: 昭.36(1961) | B11: 75900 | C11: … | D11: 484 | E11: 367200 | F11: … | G11: 107 | H11: … | I11: … | J11: … | K11: 107 | L11: … | M11: … | N11: … | O11: 516 | P11: 107 | Q11: 391700 | R11: … | S11: … | T11: … | U11: 515 | V11: 106 | W11: 390900 | X11: …
A12: 昭.37(1962) | B12: 75500 | C12: … | D12: 495 | E12: 373600 | F12: … | G12: 104 | H12: … | I12: … | J12: 108 | K12: … | L12: … | M12: … | N12: … | O12: 519 | P12: 105 | Q12: 391900 | R12: … | S12: … | T12: … | U12: 518 | V12: 105 | W12: 391100 | X12: …
A13: 昭.38(1963) | B13: 75000 | C13: … | D13: 498 | E13: 373700 | F13: … | G13: 101 | H13: … | I13: … | J13: 103 | K13: … | L13: … | M13: … | N13: … | O13: 509 | P13: 102 | Q13: 382100 | R13: … | S13: … | T13: … | U13: 504 | V13: 101 | W13: 378300 | X13: …
A14: 昭.39(1964) | B14: 74900 | C14: … | D14: 502 | E14: 375900 | F14: … | G14: 104 | H14: … | I14: … | J14: 105 | K14: … | L14: … | M14: … | N14: … | O14: 510 | P14: 102 | Q14: 381800 | R14: … | S14: … | T14: … | U14: 506 | V14: 101 | W14: 378800 | X14: …
A15: 昭.40(1965) | B15: 75000 | C15: … | D15: 506 | E15: 379500 | F15: … | G15: 98 | H15: … | I15: … | J15: … | K15: … | L15: 480 | M15: 95 | N15: 360000 | O15: … | P15: … | Q15: … | R15: … | S15: … | T15: … | U15: 471 | V15: 93 | W15: 353300 | X15: …
A16: 昭.41(1966) | B16: 75200 | C16: … | D16: 506 | E16: 380500 | F16: … | G16: 99 | H16: … | I16: … | J16: 102 | K16: … | L16: … | M16: … | N16: … | O16: 509 | P16: 101 | Q16: 382800 | R16: … | S16: … | T16: … | U16: 507 | V16: 100 | W16: 381300 | X16: …
A17: 昭.42(1967) | B17: 75200 | C17: … | D17: 506 | E17: 380500 | F17: … | G17: 103 | H17: … | I17: … | J17: 104 | K17: … | L17: … | M17: … | N17: … | O17: 528 | P17: 104 | Q17: 397100 | R17: … | S17: … | T17: … | U17: 531 | V17: 105 | W17: 399300 | X17: …
A18: 昭.43(1968) | B18: 75100 | C18: … | D18: 508 | E18: 381500 | F18: … | G18: 103 | H18: … | I18: … | J18: 102 | K18: … | L18: … | M18: … | N18: … | O18: 525 | P18: 103 | Q18: 394300 | R18: … | S18: … | T18: … | U18: 535 | V18: 105 | W18: 401800 | X18: …
A19: 昭.44(1969) | B19: 75000 | C19: … | D19: 513 | E19: 384800 | F19: … | G19: 100 | H19: … | I19: … | J19: 102 | K19: … | L19: … | M19: … | N19: … | O19: 516 | P19: 101 | Q19: 387000 | R19: … | S19: … | T19: … | U19: 508 | V19: 99 | W19: 381000 | X19: …
A20: 昭.45(1970) | B20: 67600 | C20: … | D20: 513 | E20: 346800 | F20: … | G20: 102 | H20: … | I20: … | J20: 103 | K20: … | L20: … | M20: … | N20: … | O20: 522 | P20: 102 | Q20: 352900 | R20: … | S20: … | T20: … | U20: 528 | V20: 103 | W20: 356900 | X20: …
A21: 昭.46(1971) | B21: 62200 | C21: … | D21: 517 | E21: 321600 | F21: … | G21: 101 | H21: … | I21: … | J21: 99 | K21: … | L21: … | M21: … | N21: … | O21: 495 | P21: 96 | Q21: 307900 | R21: … | S21: … | T21: … | U21: 501 | V21: 97 | W21: 311600 | X21: …
A22: 昭.47(1972) | B22: 61900 | C22: … | D22: 517 | E22: 320000 | F22: … | G22: 103 | H22: … | I22: … | J22: 103 | K22: … | L22: … | M22: … | N22: … | O22: 520 | P22: 101 | Q22: 321900 | R22: … | S22: … | T22: … | U22: 516 | V22: 100 | W22: 319400 | X22: …
A23: 昭.48(1973) | B23: 61700 | C23: … | D23: 517 | E23: 319000 | F23: … | G23: 103 | H23: … | I23: … | J23: 104 | K23: … | L23: … | M23: … | N23: … | O23: 545 | P23: 105 | Q23: 336300 | R23: … | S23: … | T23: … | U23: 545 | V23: 105 | W23: 336300 | X23: …
A24: 昭.49(1974) | B24: 63700 | C24: … | D24: 517 | E24: 329300 | F24: … | G24: 99 | H24: … | I24: … | J24: 96 | K24: … | L24: … | M24: … | N24: … | O24: 487 | P24: 94 | Q24: 310200 | R24: … | S24: … | T24: … | U24: 484 | V24: 94 | W24: 308300 | X24: …
A25: 昭.50(1975) | B25: 64600 | C25: … | D25: 517 | E25: 334000 | F25: … | G25: 100 | H25: … | I25: … | J25: 102 | K25: … | L25: … | M25: … | N25: … | O25: 549 | P25: 106 | Q25: 354700 | R25: … | S25: … | T25: … | U25: 563 | V25: 109 | W25: 363700 | X25: …
A26: 昭.51(1976) | B26: 64700 | C26: … | D26: 522 | E26: 337700 | F26: … | G26: 98 | H26: … | I26: … | J26: 95 | K26: … | L26: … | M26: … | N26: … | O26: 492 | P26: 94 | Q26: 318300 | R26: … | S26: … | T26: … | U26: 489 | V26: 94 | W26: 316400 | X26: …
A27: 昭.52(1977) | B27: 64700 | C27: … | D27: 522 | E27: 337700 | F27: … | G27: 104 | H27: … | I27: … | J27: 106 | K27: … | L27: … | M27: … | N27: … | O27: 570 | P27: 109 | Q27: 368800 | R27: … | S27: … | T27: … | U27: 570 | V27: 109 | W27: 368800 | X27: …
... A49: 平.11(1999) | B49: 37300 | C49: … | D49: 592 | E49: 220800 | F49: … | G49: 104 | H49: … | I49: … | J49: 105 | K49: … | L49: … | M49: … | N49: … | O49: 624 | P49: 105 | Q49: 232800 | R49: … | S49: … | T49: … | U49: 624 | V49: 105 | W49: 232800 | X49: …
A50: 平.12(2000) | B50: 37000 | C50: … | D50: 603 | E50: 223100 | F50: やや良 | G50: … | H50: 104 | I50: … | J50: 104 | K50: … | L50: … | M50: … | N50: … | O50: 628 | P50: 104 | Q50: 232400 | R50: … | S50: … | T50: … | U50: 628 | V50: 104 | W50: 232400 | X50: …
A51: 平.13(2001) | B51: 36200 | C51: … | D51: 603 | E51: 218300 | F51: やや良 | G51: … | H51: … | I51: … | J51: 105 | K51: … | L51: … | M51: … | N51: … | O51: 633 | P51: 105 | Q51: 229100 | R51: … | S51: … | T51: … | U51: 633 | V51: 105 | W51: 229100 | X51: …
A52: 平.14(2002) | B52: 35800 | C52: … | D52: 609 | E52: 218000 | F52: やや良 | G52: … | H52: … | I52: … | J52: 103 | K52: … | L52: … | M52: … | N52: … | O52: 630 | P52: 103 | Q52: 225500 | R52: … | S52: … | T52: … | U52: 630 | V52: 103 | W52: 225500 | X52: …
A53: 平.15(2003) | B53: 35500 | C53: … | D53: 611 | E53: 216900 | F53: やや不良 | G53: … | H53: … | I53: … | J53: 96 | K53: … | L53: … | M53: … | N53: … | O53: 587 | P53: 96 | Q53: 208400 | R53: … | S53: … | T53: … | U53: 587 | V53: 96 | W53: 208400 | X53: …
A54: 平.16(2004) | B54: 36400 | C54: … | D54: 614 | E54: 223500 | F54: やや良 | G54: … | H54: … | I54: 103 | J54: … | K54: … | L54: … | M54: … | N54: … | O54: 634 | P54: 103 | Q54: 230800 | R54: … | S54: … | T54: … | U54: 634 | V54: 103 | W54: 230800 | X54: …
A55: 平.17(2005) | B55: 36700 | C55: … | D55: 617 | E55: 226400 | F55: やや良 | G55: … | H55: … | I55: … | J55: 105 | K55: … | L55: … | M55: … | N55: … | O55: 647 | P55: 105 | Q55: 237400 | R55: … | S55: … | T55: … | U55: 647 | V55: 105 | W55: 237400 | X55: …
A56: 平.18(2006) | B56: 36400 | C56: … | D56: 620 | E56: 225700 | F56: 平年並み | G56: … | H56: … | I56: … | J56: 98 | K56: … | L56: … | M56: … | N56: … | O56: 610 | P56: 98 | Q56: 222000 | R56: … | S56: … | T56: … | U56: 610 | V56: 98 | W56: 222000 | X56: …
A57: 平.19(2007) | B57: 36200 | C57: … | D57: 623 | E57: 225500 | F57: 平年並み | G57: … | H57: … | I57: … | J57: 100 | K57: … | L57: … | M57: … | N57: … | O57: 620 | P57: 100 | Q57: 224400 | R57: … | S57: … | T57: … | U57: 620 | V57: 100 | W57: 224400 | X57: …
A58: 平.20(2008) | B58: 34600 | C58: 34100 | D58: 623 | E58: 215600 | F58: 平年並み | G58: … | H58: … | I58: … | J58: 102 | K58: … | L58: … | M58: … | N58: … | O58: 634 | P58: 102 | Q58: 219400 | R58: … | S58: … | T58: … | U58: 634 | V58: 102 | W58: 219400 | X58: 216200
A59: 平.21(2009) | B59: 34600 | C59: 34200 | D59: 623 | E59: 215600 | F59: やや不良 | G59: … | H59: … | I59: … | J59: 97 | K59: … | L59: … | M59: … | N59: … | O59: 595 | P59: 96 | Q59: 205900 | R59: … | S59: … | T59: … | U59: 595 | V59: 96 | W59: 205900 | X59: 203500
A60: 平.22(2010) | B60: 34600 | C60: 34000 | D60: 623 | E60: 215600 | F60: 平年並み | G60: … | H60: … | I60: … | J60: 99 | K60: … | L60: … | M60: … | N60: … | O60: 612 | P60: 98 | Q60: 211800 | R60: … | S60: … | T60: … | U60: 612 | V60: 98 | W60: 211800 | X60: 208100
A61: 平.23(2011) | B61: 34200 | C61: 33700 | D61: 623 | E61: 213100 | F61: 平年並み | G61: … | H61: … | I61: … | J61: 97 | K61: … | L61: … | M61: … | N61: … | O61: 604 | P61: 97 | Q61: 206600 | R61: … | S61: … | T61: … | U61: 604 | V61: 97 | W61: 206600 | X61: 203500
A62: 平.24(2012) | B62: 34200 | C62: 33600 | D62: 623 | E62: 213100 | F62: 平年並み | G62: … | H62: … | I62: … | J62: 98 | K62: … | L62: … | M62: … | N62: … | O62: 610 | P62: 98 | Q62: 208600 | R62: … | S62: … | T62: … | U62: 610 | V62: 98 | W62: 208600 | X62: 205000
A63: 平.25(2013) | B63: 34400 | C63: 33700 | D63: 623 | E63: 214300 | F63: 平年並み | G63: … | H63: … | I63: … | J63: 101 | K63: … | L63: … | M63: … | N63: … | O63: 632 | P63: 101 | Q63: 217400 | R63: … | S63: … | T63: … | U63: 632 | V63: 101 | W63: 217400 | X63: 213000
A64: 平.26(2014) | B64: 33900 | C64: 32800 | D64: 621 | E64: 210500 | F64: や や 良 | G64: … | H64: … | I64: … | J64: 99 | K64: … | L64: … | M64: … | N64: … | O64: 597 | P64: 96 | Q64: 202400 | R64: … | S64: … | T64: … | U64: 597 | V64: 96 | W64: 202400 | X64: 195800
A65: 平.27(2015) | B65: 33200 | C65: 32200 | D65: 621 | E65: 206200 | F65: 平年並み | G65: … | H65: … | I65: … | J65: 99 | K65: … | L65: … | M65: … | N65: … | O65: 604 | P65: 97 | Q65: 200500 | R65: … | S65: … | T65: … | U65: 604 | V65: 97 | W65: 200500 | X65: 194500
A66: 平.28(2016) | B66: 32700 | C66: 31700 | D66: 621 | E66: 203100 | F66: 平年並み | G66: … | H66: … | I66: … | J66: 100 | K66: … | L66: … | M66: … | N66: … | O66: 624 | P66: 101 | Q66: 204000 | R66: … | S66: … | T66: … | U66: 624 | V66: 101 | W66: 204000 | X66: 197800
A67: 平.29(2017) | B67: 32300 | C67: 31300 | D67: 619 | E67: 199900 | F67: 平年並み | G67: … | H67: … | I67: … | J67: 101 | K67: … | L67: … | M67: … | N67: … | O67: 629 | P67: 101 | Q67: 203200 | R67: … | S67: … | T67: … | U67: 629 | V67: 101 | W67: 203200 | X67: 196900
A68: 平.30(2018) | B68: 32200 | C68: 31300 | D68: 619 | E68: 199300 | F68: や や 良 | G68: … | H68: … | I68: … | J68: 101 | K68: … | L68: … | M68: … | N68: … | O68: 618 | P68: 100 | Q68: 199000 | R68: … | S68: … | T68: … | U68: 618 | V68: 100 | W68: 199000 | X68: 193400
A69: 令.元(2019) | B69: 32000 | C69: 30900 | D69: 619 | E69: 198100 | F69: 平年並み | G69: … | H69: … | I69: … | J69: 101 | K69: … | L69: … | M69: … | N69: … | O69: 620 | P69: 100 | Q69: 198400 | R69: … | S69: … | T69: … | U69: 620 | V69: 100 | W69: 198400 | X69: 191600
A70: 令.2(2020) | B70: 31800 | C70: 30700 | D70: 619 | E70: 196800 | F70: やや不良 | G70: … | H70: … | I70: … | J70: 100 | K70: … | L70: … | M70: … | N70: … | O70: 606 | P70: 99 | Q70: 192700 | R70: … | S70: … | T70: … | U70: 606 | V70: 99 | W70: 192700 | X70: 186000
A71: 令.3(2021) | B71: 31500 | C71: 30400 | D71: 619 | E71: 195000 | F71: … | G71: … | H71: … | I71: … | J71: … | K71: 98 | L71: … | M71: … | N71: … | O71: … | P71: … | Q71: … | R71: 603 | S71: 97 | T71: 189900 | U71: 603 | V71: 97 | W71: 189900 | X71: 183300
A72: 令.4(2022) | B72: 30800 | C72: 29800 | D72: 619 | E72: 190700 | F72: … | G72: … | H72: … | I72: … | J72: … | K72: 98 | L72: … | M72: … | N72: … | O72: … | P72: … | Q72: … | R72: 608 | S72: 98 | T72: 187300 | U72: 608 | V72: 98 | W72: 187300 | X72: 181200
A73: 令.5(2023) | B73: 30600 | C73: 29300 | D73: 619 | E73: 189400 | F73: … | G73: … | H73: … | I73: … | J73: … | K73: 99 | L73: … | M73: … | N73: … | O73: … | P73: … | Q73: … | R73: 614 | S73: 100 | T73: 187900 | U73: 614 | V73: 100 | W73: 187900 | X73: 179900
A74: 令.6(2024) | B74: 30300 | C74: 29000 | D74: 619 | E74: 187600 | F74: … | G74: … | H74: … | I74: … | J74: … | K74: 101 | L74: … | M74: … | N74: … | O74: … | P74: … | Q74: … | R74: 620 | S74: 101 | T74: 187900 | U74: 620 | V74: 101 | W74: 187900 | X74: 179800
A75: 注：１ 作付面積（子実用）とは、青刈り面積を含めた水稲全体の作付面積から青刈り面積（飼料用米・WCS用稲等を含む。）を除いた面積である。
A76: ２ 平成16年産から平成19年産までの主食用作付面積及び収穫量（主食用）は、農林水産省生産局資料から、平成20年産以降は『作物統計』から作成した。
A77: ３ 平成20年産以降の主食用作付面積は、青刈り面積を含めた水稲全体の作付面積から、備蓄米、加工用米、新規需要米等の作付面積を除いた面積である。
A78: ４ 10ａ当たり平年収量、平年収量、10ａ当たり（予想）収量、予想収穫量（子実用）、収穫量（子実用）及び収穫量（主食用）は、1.70㎜のふるい目幅で選別された玄米の重量である。
A79: ５ 作況指数は、10ａ当たり平年収量に対する10ａ当たり（予想）収量の比率であり、昭和33年産から平成26年産までの水稲の作況指数は1.70mmのふるい目幅で選別された玄米を基に算出し、平成27年産以降の作況指数は農家等が使用しているふるい目幅 ベースで算出した数値である。

Sheet 水稲累年統計（全国）
A1: 作物統計
A2: 収穫量累年統計
A3: 水稲
A4: 全国
A5: 年次 | B5: 作付面積 （子実用） | C5: 主食用作付面積 | D5: 10a当たり平年収量 | E5: 平年収量 | F5: 8月15日現在 | H5: 9月1日現在 | I5: 9月10日現在 | J5: 9月15日現在 | K5: 9月25日現在 | L5: 10月1日現在 | O5: 10月15日現在 | R5: 10月25日現在 | U5: 収穫期
F6: 作柄の良否(早場地帯） | G6: 作況指数 | H6: 作況指数 | I6: 作況指数 | J6: 作況指数 | K6: 作況指数 | L6: 10a当たり予想収量 | M6: 作況指数 | N6: 予想収穫量 （子実用） | O6: 10a当たり予想収量 | P6: 作況指数 | Q6: 予想収穫量 （子実用） | R6: 10a当たり予想収量 | S6: 作況指数 | T6: 予想収穫量 （子実用） | U6: 10a当たり収量 | V6: 作況指数 | W6: 収穫量 （子実用） | X6: 収穫量_x000D_ （主食用）
B7: ha | C7: ha | D7: kg | E7: t | L7: kg | N7: t | O7: kg | Q7: t | R7: kg | T7: t | U7: kg | W7: t | X7: t
A8: 明.16(1883) | B8: 2565000 | C8: … | D8: … | E8: … | F8: … | G8: … | H8: … | I8: … | J8: … | K8: … | L8: … | M8: … | N8: … | O8: … | P8: … | Q8: … | R8: … | S8: … | T8: … | U8: 178 | V8: … | W8: 4566000 | X8: …
A9: 明.17(1884) | B9: 2551000 | C9: … | D9: … | E9: … | F9: … | G9: … | H9: … | I9: … | J9: … | K9: … | L9: … | M9: … | N9: … | O9: … | P9: … | Q9: … | R9: … | S9: … | T9: … | U9: 158 | V9: … | W9: 4041000 | X9: …
A10: 明.18(1885) | B10: 2552000 | C10: … | D10: … | E10: … | F10: … | G10: … | H10: … | I10: … | J10: … | K10: … | L10: … | M10: … | N10: … | O10: … | P10: … | Q10: … | R10: … | S10: … | T10: … | U10: 198 | V10: … | W10: 5063000 | X10: …
A11: 明.19(1886) | B11: 2576000 | C11: … | D11: … | E11: … | F11: … | G11: … | H11: … | I11: … | J11: … | K11: … | L11: … | M11: … | N11: … | O11: … | P11: … | Q11: … | R11: … | S11: … | T11: … | U11: 216 | V11: … | W11: 5557000 | X11: …
A12: 明.20(1887) | B12: 2591000 | C12: … | D12: … | E12: … | F12: … | G12: … | H12: … | I12: … | J12: … | K12: … | L12: … | M12: … | N12: … | O12: … | P12: … | Q12: … | R12: … | S12: … | T12: … | U12: 230 | V12: … | W12: 5970000 | X12: …
A13: 明.21(1888) | B13: 2643000 | C13: … | D13: … | E13: … | F13: … | G13: … | H13: … | I13: … | J13: … | K13: … | L13: … | M13: … | N13: … | O13: … | P13: … | Q13: … | R13: … | S13: … | T13: … | U13: 218 | V13: … | W13: 5772000 | X13: …
A14: 明.22(1889) | B14: 2678000 | C14: … | D14: … | E14: … | F14: … | G14: … | H14: … | I14: … | J14: … | K14: … | L14: … | M14: … | N14: … | O14: … | P14: … | Q14: … | R14: … | S14: … | T14: … | U14: 184 | V14: … | W14: 4926000 | X14: …
A15: 明.23(1890) | B15: 2694000 | C15: … | D15: … | E15: … | F15: … | G15: … | H15: … | I15: … | J15: … | K15: … | L15: … | M15: … | N15: … | O15: … | P15: … | Q15: … | R15: … | S15: … | T15: … | U15: 238 | V15: … | W15: 6422000 | X15: …
A16: 明.24(1891) | B16: 2701000 | C16: … | D16: … | E16: … | F16: … | G16: … | H16: … | I16: … | J16: … | K16: … | L16: … | M16: … | N16: … | O16: … | P16: … | Q16: … | R16: … | S16: … | T16: … | U16: 211 | V16: … | W16: 5686000 | X16: …
A17: 明.25(1892) | B17: 2692000 | C17: … | D17: … | E17: … | F17: … | G17: … | H17: … | I17: … | J17: … | K17: … | L17: … | M17: … | N17: … | O17: … | P17: … | Q17: … | R17: … | S17: … | T17: … | U17: 229 | V17: … | W17: 6160000 | X17: …
A18: 明.26(1893) | B18: 2707000 | C18: … | D18: … | E18: … | F18: … | G18: … | H18: … | I18: … | J18: … | K18: … | L18: … | M18: … | N18: … | O18: … | P18: … | Q18: … | R18: … | S18: … | T18: … | U18: 205 | V18: … | W18: 5545000 | X18: …
A19: 明.27(1894) | B19: 2664000 | C19: … | D19: … | E19: … | F19: … | G19: … | H19: … | I19: … | J19: … | K19: … | L19: … | M19: … | N19: … | O19: … | P19: … | Q19: … | R19: … | S19: … | T19: … | U19: 234 | V19: … | W19: 6236000 | X19: …
... A50: 大.14(1925) | B50: 2992000 | C50: … | D50: … | E50: … | F50: … | G50: … | H50: … | I50: … | J50: … | K50: … | L50: … | M50: … | N50: … | O50: … | P50: … | Q50: … | R50: … | S50: … | T50: … | U50: 291 | V50: … | W50: 8717000 | X50: …
A51: 昭.元(1926) | B51: 2996000 | C51: … | D51: … | E51: … | F51: … | G51: … | H51: … | I51: … | J51: … | K51: … | L51: … | M51: … | N51: … | O51: … | P51: … | Q51: … | R51: … | S51: … | T51: … | U51: 272 | V51: 94 | W51: 8150000 | X51: …
A52: 昭.2(1927) | B52: 3013000 | C52: … | D52: … | E52: … | F52: … | G52: … | H52: … | I52: … | J52: … | K52: … | L52: … | M52: … | N52: … | O52: … | P52: … | Q52: … | R52: … | S52: … | T52: … | U52: 301 | V52: 106 | W52: 9083000 | X52: …
A53: 昭.3(1928) | B53: 3030000 | C53: … | D53: … | E53: … | F53: … | G53: … | H53: … | I53: … | J53: … | K53: … | L53: … | M53: … | N53: … | O53: … | P53: … | Q53: … | R53: … | S53: … | T53: … | U53: 291 | V53: 102 | W53: 8812000 | X53: …
A54: 昭.4(1929) | B54: 3049000 | C54: … | D54: … | E54: … | F54: … | G54: … | H54: … | I54: … | J54: … | K54: … | L54: … | M54: … | N54: … | O54: … | P54: … | Q54: … | R54: … | S54: … | T54: … | U54: 289 | V54: 101 | W54: 8802000 | X54: …
A55: 昭.5(1930) | B55: 3079000 | C55: … | D55: … | E55: … | F55: … | G55: … | H55: … | I55: … | J55: … | K55: … | L55: … | M55: … | N55: … | O55: … | P55: … | Q55: … | R55: … | S55: … | T55: … | U55: 318 | V55: 112 | W55: 9790000 | X55: …
A56: 昭.6(1931) | B56: 3089000 | C56: … | D56: … | E56: … | F56: … | G56: … | H56: … | I56: … | J56: … | K56: … | L56: … | M56: … | N56: … | O56: … | P56: … | Q56: … | R56: … | S56: … | T56: … | U56: 262 | V56: 90 | W56: 8098000 | X56: …
A57: 昭.7(1932) | B57: 3097000 | C57: … | D57: … | E57: … | F57: … | G57: … | H57: … | I57: … | J57: … | K57: … | L57: … | M57: … | N57: … | O57: … | P57: … | Q57: … | R57: … | S57: … | T57: … | U57: 286 | V57: 99 | W57: 8852000 | X57: …
A58: 昭.8(1933) | B58: 3022000 | C58: … | D58: … | E58: … | F58: … | G58: … | H58: … | I58: … | J58: … | K58: … | L58: … | M58: … | N58: … | O58: … | P58: … | Q58: … | R58: … | S58: … | T58: … | U58: 345 | V58: 120 | W58: 10439000 | X58: …
A59: 昭.9(1934) | B59: 3022000 | C59: … | D59: … | E59: … | F59: … | G59: … | H59: … | I59: … | J59: … | K59: … | L59: … | M59: … | N59: … | O59: … | P59: … | Q59: … | R59: … | S59: … | T59: … | U59: 253 | V59: 85 | W59: 7634000 | X59: …
A60: 昭.10(1935) | B60: 3044000 | C60: … | D60: … | E60: … | F60: … | G60: … | H60: … | I60: … | J60: … | K60: … | L60: … | M60: … | N60: … | O60: … | P60: … | Q60: … | R60: … | S60: … | T60: … | U60: 276 | V60: 96 | W60: 8414000 | X60: …
A61: 昭.11(1936) | B61: 3042000 | C61: … | D61: … | E61: … | F61: … | G61: … | H61: … | I61: … | J61: … | K61: … | L61: … | M61: … | N61: … | O61: … | P61: … | Q61: … | R61: … | S61: … | T61: … | U61: 323 | V61: 113 | W61: 9836000 | X61: …
A62: 昭.12(1937) | B62: 3044000 | C62: … | D62: … | E62: … | F62: … | G62: … | H62: … | I62: … | J62: … | K62: … | L62: … | M62: … | N62: … | O62: … | P62: … | Q62: … | R62: … | S62: … | T62: … | U62: 321 | V62: 110 | W62: 9766000 | X62: …
... A82: 昭.32(1957) | B82: 3075000 | C82: … | D82: … | E82: … | F82: … | G82: … | H82: … | I82: … | J82: … | K82: … | L82: … | M82: … | N82: … | O82: … | P82: … | Q82: … | R82: … | S82: … | T82: … | U82: 364 | V82: 107 | W82: 11188000 | X82: …
A83: 昭.33(1958) | B83: 3080000 | C83: … | D83: 350 | E83: 10775000 | F83: … | G83: 112 | H83: … | I83: … | J83: 112 | K83: … | L83: … | M83: … | N83: … | O83: 383 | P83: 110 | Q83: 11798000 | R83: … | S83: … | T83: … | U83: 379 | V83: 108 | W83: 11689000 | X83: …
A84: 昭.34(1959) | B84: 3105000 | C84: … | D84: 360 | E84: 11179000 | F84: … | G84: 106 | H84: … | I84: … | J84: 110 | K84: … | L84: … | M84: … | N84: … | O84: 387 | P84: 108 | Q84: 12013000 | R84: … | S84: … | T84: … | U84: 391 | V84: 109 | W84: 12158000 | X84: …
A85: 昭.35(1960) | B85: 3124000 | C85: … | D85: 371 | E85: 11594000 | F85: … | G85: 109 | H85: … | I85: … | J85: 109 | K85: … | L85: … | M85: … | N85: … | O85: 401 | P85: 108 | Q85: 12540000 | R85: … | S85: … | T85: … | U85: 401 | V85: 108 | W85: 12539000 | X85: …
A86: 昭.36(1961) | B86: 3134000 | C86: … | D86: 380 | E86: 11915000 | F86: … | G86: 107 | H86: … | I86: … | J86: … | K86: 106 | L86: … | M86: … | N86: … | O86: 392 | P86: 103 | Q86: 12294000 | R86: … | S86: … | T86: … | U86: 387 | V86: 102 | W86: 12138000 | X86: …
A87: 昭.37(1962) | B87: 3134000 | C87: … | D87: 389 | E87: 12200000 | F87: … | G87: 102 | H87: … | I87: … | J87: 105 | K87: … | L87: … | M87: … | N87: … | O87: 410 | P87: 105 | Q87: 12848000 | R87: … | S87: … | T87: … | U87: 407 | V87: 105 | W87: 12762000 | X87: …
A88: 昭.38(1963) | B88: 3133000 | C88: … | D88: 395 | E88: 12384000 | F88: … | G88: 101 | H88: … | I88: … | J88: 103 | K88: … | L88: … | M88: … | N88: … | O88: 402 | P88: 102 | Q88: 12591000 | R88: … | S88: … | T88: … | U88: 400 | V88: 101 | W88: 12529000 | X88: …
A89: 昭.39(1964) | B89: 3126000 | C89: … | D89: 398 | E89: 12440000 | F89: … | G89: 105 | H89: … | I89: … | J89: 105 | K89: … | L89: … | M89: … | N89: … | O89: 401 | P89: 101 | Q89: 12538000 | R89: … | S89: … | T89: … | U89: 396 | V89: 99 | W89: 12362000 | X89: …
A90: 昭.40(1965) | B90: 3123000 | C90: … | D90: 403 | E90: 12586000 | F90: … | G90: 99 | H90: … | I90: … | J90: … | K90: … | L90: 395 | M90: 98 | N90: 12321000 | O90: … | P90: … | Q90: … | R90: … | S90: … | T90: … | U90: 390 | V90: 97 | W90: 12181000 | X90: …
A91: 昭.41(1966) | B91: 3129000 | C91: … | D91: 403 | E91: 12610000 | F91: … | G91: 101 | H91: … | I91: … | J91: 102 | K91: … | L91: … | M91: … | N91: … | O91: 404 | P91: 100 | Q91: 12640000 | R91: … | S91: … | T91: … | U91: 400 | V91: 99 | W91: 12526000 | X91: …
A92: 昭.42(1967) | B92: 3149000 | C92: … | D92: 403 | E92: 12690000 | F92: … | G92: 107 | H92: … | I92: … | J92: 109 | K92: … | L92: … | M92: … | N92: … | O92: 448 | P92: 111 | Q92: 14119000 | R92: … | S92: … | T92: … | U92: 453 | V92: 112 | W92: 14257000 | X92: …
A93: 昭.43(1968) | B93: 3171000 | C93: … | D93: 413 | E93: 13096000 | F93: … | G93: 107 | H93: … | I93: … | J93: 107 | K93: … | L93: … | M93: … | N93: … | O93: 448 | P93: 108 | Q93: 14202000 | R93: … | S93: … | T93: … | U93: 449 | V93: 109 | W93: 14223000 | X93: …
A94: 昭.44(1969) | B94: 3173000 | C94: … | D94: 425 | E94: 13489000 | F94: … | G94: 102 | H94: … | I94: … | J94: 104 | K94: … | L94: … | M94: … | N94: … | O94: 436 | P94: 103 | Q94: 13846000 | R94: … | S94: … | T94: … | U94: 435 | V94: 102 | W94: 13797000 | X94: …
A95: 昭.45(1970) | B95: 2836000 | C95: … | D95: 431 | E95: 12223000 | F95: … | G95: 104 | H95: … | I95: … | J95: 105 | K95: … | L95: … | M95: … | N95: … | O95: 447 | P95: 104 | Q95: 12689000 | R95: … | S95: … | T95: … | U95: 442 | V95: 103 | W95: 12528000 | X95: …
A96: 昭.46(1971) | B96: 2626000 | C96: … | D96: 440 | E96: 11554000 | F96: … | G96: 98 | H96: … | I96: … | J96: 95 | K96: … | L96: … | M96: … | N96: … | O96: 409 | P96: 93 | Q96: 10751000 | R96: … | S96: … | T96: … | U96: 411 | V96: 93 | W96: 10782000 | X96: …
A97: 昭.47(1972) | B97: 2581000 | C97: … | D97: 442 | E97: 11408000 | F97: … | G97: 103 | H97: … | I97: … | J97: 103 | K97: … | L97: … | M97: … | N97: … | O97: 452 | P97: 102 | Q97: 11674000 | R97: … | S97: … | T97: … | U97: 456 | V97: 103 | W97: 11766000 | X97: …
A98: 昭.48(1973) | B98: 2568000 | C98: … | D98: 444 | E98: 11402000 | F98: … | G98: 105 | H98: … | I98: … | J98: 107 | K98: … | L98: … | M98: … | N98: … | O98: 470 | P98: 106 | Q98: 12066000 | R98: … | S98: … | T98: … | U98: 470 | V98: 106 | W98: 12068000 | X98: …
A99: 昭.49(1974) | B99: 2675000 | C99: … | D99: 446 | E99: 11931000 | F99: … | G99: 102 | H99: … | I99: … | J99: 103 | K99: … | L99: … | M99: … | N99: … | O99: 455 | P99: 102 | Q99: 12174000 | R99: … | S99: … | T99: … | U99: 455 | V99: 102 | W99: 12182000 | X99: …
A100: 昭.50(1975) | B100: 2719000 | C100: … | D100: 450 | E100: 12236000 | F100: … | G100: 104 | H100: … | I100: … | J100: 105 | K100: … | L100: … | M100: … | N100: … | O100: 479 | P100: 106 | Q100: 13020000 | R100: … | S100: … | T100: … | U100: 481 | V100: 107 | W100: 13085000 | X100: …
A101: 昭.51(1976) | B101: 2741000 | C101: … | D101: 455 | E101: 12472000 | F101: … | G101: 100 | H101: … | I101: … | J101: 95 | K101: … | L101: … | M101: … | N101: … | O101: 427 | P101: 94 | Q101: 11707000 | R101: … | S101: … | T101: … | U101: 427 | V101: 94 | W101: 11699000 | X101: …
A102: 昭.52(1977) | B102: 2723000 | C102: … | D102: 455 | E102: 12390000 | F102: … | G102: 104 | H102: … | I102: … | J102: 104 | K102: … | L102: … | M102: … | N102: … | O102: 478 | P102: 105 | Q102: 13017000 | R102: … | S102: … | T102: … | U102: 478 | V102: 105 | W102: 13022000 | X102: …
... A124: 平.11(1999) | B124: 1780000 | C124: … | D124: 512 | E124: 9114000 | F124: … | G124: 103 | H124: … | I124: … | J124: 102 | K124: … | L124: … | M124: … | N124: … | O124: 516 | P124: 101 | Q124: 9181000 | R124: … | S124: … | T124: … | U124: 515 | V124: 101 | W124: 9159000 | X124: …
A125: 平.12(2000) | B125: 1763000 | C125: … | D125: 518 | E125: 9132000 | F125: … | G125: … | H125: 103 | I125: … | J125: 103 | K125: … | L125: … | M125: … | N125: … | O125: 537 | P125: 104 | Q125: 9474000 | R125: … | S125: … | T125: … | U125: 537 | V125: 104 | W125: 9472000 | X125: …
A126: 平.13(2001) | B126: 1700000 | C126: … | D126: 518 | E126: 8799000 | F126: … | G126: … | H126: … | I126: … | J126: 103 | K126: … | L126: … | M126: … | N126: … | O126: 532 | P126: 103 | Q126: 9047000 | R126: … | S126: … | T126: … | U126: 532 | V126: 103 | W126: 9048000 | X126: …
A127: 平.14(2002) | B127: 1683000 | C127: … | D127: 522 | E127: 8785000 | F127: … | G127: … | H127: … | I127: … | J127: 101 | K127: … | L127: … | M127: … | N127: … | O127: 527 | P127: 101 | Q127: 8875000 | R127: … | S127: … | T127: … | U127: 527 | V127: 101 | W127: 8876000 | X127: …
A128: 平.15(2003) | B128: 1660000 | C128: … | D128: 524 | E128: 8703000 | F128: … | G128: … | H128: … | I128: … | J128: 92 | K128: … | L128: … | M128: … | N128: … | O128: 469 | P128: 90 | Q128: 7781000 | R128: … | S128: … | T128: … | U128: 469 | V128: 90 | W128: 7779000 | X128: …
A129: 平.16(2004) | B129: 1697000 | C129: 1658000 | D129: 525 | E129: 8918000 | F129: … | G129: … | H129: … | I129: 101 | J129: … | K129: … | L129: … | M129: … | N129: … | O129: 514 | P129: 98 | Q129: 8727000 | R129: … | S129: … | T129: … | U129: 514 | V129: 98 | W129: 8721000 | X129: …
A130: 平.17(2005) | B130: 1702000 | C130: 1652000 | D130: 527 | E130: 8977000 | F130: … | G130: … | H130: … | I130: … | J130: 102 | K130: … | L130: … | M130: … | N130: … | O130: 532 | P130: 101 | Q130: 9063000 | R130: … | S130: … | T130: … | U130: 532 | V130: 101 | W130: 9062000 | X130: …
A131: 平.18(2006) | B131: 1684000 | C131: 1643000 | D131: 529 | E131: 8907000 | F131: … | G131: … | H131: … | I131: … | J131: 97 | K131: … | L131: … | M131: … | N131: … | O131: 508 | P131: 96 | Q131: 8547000 | R131: … | S131: … | T131: … | U131: 507 | V131: 96 | W131: 8546000 | X131: …
A132: 平.19(2007) | B132: 1669000 | C132: 1637000 | D132: 529 | E132: 8836000 | F132: … | G132: … | H132: … | I132: … | J132: 99 | K132: … | L132: … | M132: … | N132: … | O132: 522 | P132: 99 | Q132: 8705000 | R132: … | S132: … | T132: … | U132: 522 | V132: 99 | W132: 8705000 | X132: …
A133: 平.20(2008) | B133: 1624000 | C133: 1596000 | D133: 530 | E133: 8593000 | F133: … | G133: … | H133: … | I133: … | J133: 102 | K133: … | L133: … | M133: … | N133: … | O133: 543 | P133: 102 | Q133: 8815000 | R133: … | S133: … | T133: … | U133: 543 | V133: 102 | W133: 8815000 | X133: 8658000
A134: 平.21(2009) | B134: 1621000 | C134: 1592000 | D134: 530 | E134: 8581000 | F134: … | G134: … | H134: … | I134: … | J134: 98 | K134: … | L134: … | M134: … | N134: … | O134: 522 | P134: 98 | Q134: 8466000 | R134: … | S134: … | T134: … | U134: 522 | V134: 98 | W134: 8466000 | X134: 8309000
A135: 平.22(2010) | B135: 1625000 | C135: 1580000 | D135: 530 | E135: 8605000 | F135: … | G135: … | H135: … | I135: … | J135: 99 | K135: … | L135: … | M135: … | N135: … | O135: 522 | P135: 98 | Q135: 8478000 | R135: … | S135: … | T135: … | U135: 522 | V135: 98 | W135: 8478000 | X135: 8239000
A136: 平.23(2011) | B136: 1574000 | C136: 1526000 | D136: 530 | E136: 8334000 | F136: … | G136: … | H136: … | I136: … | J136: 101 | K136: … | L136: … | M136: … | N136: … | O136: 533 | P136: 101 | Q136: 8397000 | R136: … | S136: … | T136: … | U136: 533 | V136: 101 | W136: 8397000 | X136: 8133000
A137: 平.24(2012) | B137: 1579000 | C137: 1524000 | D137: 530 | E137: 8366000 | F137: … | G137: … | H137: … | I137: … | J137: 102 | K137: … | L137: … | M137: … | N137: … | O137: 540 | P137: 102 | Q137: 8519000 | R137: … | S137: … | T137: … | U137: 540 | V137: 102 | W137: 8519000 | X137: 8210000
A138: 平.25(2013) | B138: 1597000 | C138: 1522000 | D138: 530 | E138: 8466000 | F138: … | G138: … | H138: … | I138: … | J138: 102 | K138: … | L138: … | M138: … | N138: … | O138: 539 | P138: 102 | Q138: 8604000 | R138: … | S138: … | T138: … | U138: 539 | V138: 102 | W138: 8603000 | X138: 8182000
A139: 平.26(2014) | B139: 1573000 | C139: 1474000 | D139: 530 | E139: 8344000 | F139: … | G139: … | H139: … | I139: … | J139: 101 | K139: … | L139: … | M139: … | N139: … | O139: 536 | P139: 101 | Q139: 8438000 | R139: … | S139: … | T139: … | U139: 536 | V139: 101 | W139: 8435000 | X139: 7882000
A140: 平.27(2015) | B140: 1505000 | C140: 1406000 | D140: 531 | E140: 7986000 | F140: … | G140: … | H140: … | I140: … | J140: 100 | K140: … | L140: … | M140: … | N140: … | O140: 531 | P140: 100 | Q140: 7988000 | R140: … | S140: … | T140: … | U140: 531 | V140: 100 | W140: 7986000 | X140: 7442000
A141: 平.28(2016) | B141: 1478000 | C141: 1381000 | D141: 531 | E141: 7850000 | F141: … | G141: … | H141: … | I141: … | J141: 103 | K141: … | L141: … | M141: … | N141: … | O141: 544 | P141: 103 | Q141: 8044000 | R141: … | S141: … | T141: … | U141: 544 | V141: 103 | W141: 8042000 | X141: 7496000
A142: 平.29(2017) | B142: 1465000 | C142: 1370000 | D142: 532 | E142: 7794000 | F142: … | G142: … | H142: … | I142: … | J142: 100 | K142: … | L142: … | M142: … | N142: … | O142: 534 | P142: 100 | Q142: 7825000 | R142: … | S142: … | T142: … | U142: 534 | V142: 100 | W142: 7822000 | X142: 7306000
A143: 平.30(2018) | B143: 1470000 | C143: 1386000 | D143: 532 | E143: 7820000 | F143: … | G143: … | H143: … | I143: … | J143: 100 | K143: … | L143: … | M143: … | N143: … | O143: 529 | P143: 99 | Q143: 7782000 | R143: … | S143: … | T143: … | U143: 529 | V143: 98 | W143: 7780000 | X143: 7327000
A144: 令.元(2019) | B144: 1469000 | C144: 1379000 | D144: 533 | E144: 7830000 | F144: … | G144: … | H144: … | I144: … | J144: 101 | K144: … | L144: … | M144: … | N144: … | O144: 529 | P144: 99 | Q144: 7771000 | R144: … | S144: … | T144: … | U144: 528 | V144: 99 | W144: 7762000 | X144: 7261000
A145: 令.2(2020) | B145: 1462000 | C145: 1366000 | D145: 535 | E145: 7822000 | F145: … | G145: … | H145: … | I145: … | J145: 101 | K145: … | L145: … | M145: … | N145: … | O145: 531 | P145: 99 | Q145: 7767000 | R145: … | S145: … | T145: … | U145: 531 | V145: 99 | W145: 7763000 | X145: 7226000
A146: 令.3(2021) | B146: 1403000 | C146: 1303000 | D146: 535 | E146: 7506000 | F146: … | G146: … | H146: … | I146: … | J146: … | K146: 100 | L146: … | M146: … | N146: … | O146: … | P146: … | Q146: … | R146: 539 | S146: 101 | T146: 7563000 | U146: 539 | V146: 101 | W146: 7563000 | X146: 7007000
A147: 令.4(2022) | B147: 1355000 | C147: 1251000 | D147: 536 | E147: 7263000 | F147: … | G147: … | H147: … | I147: … | J147: … | K147: 100 | L147: … | M147: … | N147: … | O147: … | P147: … | Q147: … | R147: 537 | S147: 100 | T147: 7270000 | U147: 536 | V147: 100 | W147: 7269000 | X147: 6701000
A148: 令.5(2023) | B148: 1344000 | C148: 1242000 | D148: 536 | E148: 7204000 | F148: … | G148: … | H148: … | I148: … | J148: … | K148: 100 | L148: … | M148: … | N148: … | O148: … | P148: … | Q148: … | R148: 533 | S148: 101 | T148: 7165000 | U148: 533 | V148: 101 | W148: 7165000 | X148: 6610000
A149: 令.6(2024) | B149: 1359000 | C149: 1259000 | D149: 537 | E149: 7298000 | F149: … | G149: … | H149: … | I149: … | J149: … | K149: 102 | L149: … | M149: … | N149: … | O149: … | P149: … | Q149: … | R149: 540 | S149: 101 | T149: 7345000 | U149: 540 | V149: 101 | W149: 7345000 | X149: 6792000
A150: 注：１ この統計表は、明治16年産から大正12年産までは『農商務統計表』から、大正13年産から昭和32年産までは『農林省統計表』（昭和17年及び昭和18年産のみ『農商省統計表』）から、昭和33年産以降は『作物統計』から作成した。
A151: ２ 昭和29年産までの数値は農作物累年統計表・稲（農林省統計調査部編）の全国数値を ha あるいは t に換算した。また、昭和29年産以降は『農林省統計表』から作成した。
A152: ３ 作付面積（子実用）とは、青刈り面積を含めた水稲全体の作付面積から青刈り面積（飼料用米・WCS用稲等を含む。）を除いた面積である。
A153: ４ 平成16年産から平成19年産までの主食用作付面積及び収穫量（主食用）は、農林水産省生産局資料から、平成20年産以降は『作物統計』から作成した。
A154: ５ 平成20年産以降の主食用作付面積は、青刈り面積を含めた水稲全体の作付面積から、備蓄米、加工用米、新規需要米等の作付面積を除いた面積である。
A155: ６ 10ａ当たり平年収量、平年収量、10ａ当たり（予想）収量、予想収穫量（子実用）、収穫量（子実用）及び収穫量（主食用）は、1.70㎜のふるい目幅で選別された玄米の重量である。
A156: ７ 作況指数は、10ａ当たり平年収量に対する10ａ当たり（予想）収量の比率であり、昭和元年産から昭和22年産までの水稲の作況指数は、過去７か年の実績値のうち、最高及び最低を除いた５か年の平均値を10ａ当たり平年収量とみなして算出した。
A157: また、昭和23年産から平成26年産までの水稲の作況指数は1.70mmのふるい目幅で選別された玄米を基に算出し、平成27年産以降の作況指数は農家等が使用しているふるい目幅 ベースで算出した数値である。
A158: ８ 明治17年産及び明治18年産並びに昭和19年産から昭和48年産までは沖縄県を含まない。

Sheet データ水稲面積（長野）2004～
A1: データ水稲面積 | D1: 2004 | E1: 2005 | F1: 2006 | G1: 2007 | H1: 2008 | I1: 2009 | J1: 2010 | K1: 2011 | L1: 2012 | M1: 2013 | N1: 2014 | O1: 2015 | P1: 2016 | Q1: 2017 | R1: 2018 | S1: 2019 | T1: 2020 | U1: 2021 | V1: 2022 | W1: 2023 | X1: 2024
J2: 34600 | K2: 34200 | L2: 34200 | M2: 34400 | N2: 33900 | O2: 33200 | P2: 32700 | Q2: 32300 | R2: 32200 | S2: 32000 | T2: 31800 | U2: 31500 | V2: 30800 | W2: 30600 | X2: 30300
D3: =SUM(D4:D131) -> 36278 | E3: =SUM(E4:E131) -> 36710 | F3: =SUM(F4:F131) -> 36411 | G3: =SUM(G4:G131) -> 36200 | H3: =SUM(H4:H131) -> 34610 | I3: =SUM(I4:I131) -> 34599 | J3: =SUM(J4:J131) -> 34583 | K3: =SUM(K4:K131) -> 34155 | ... X3: =SUM(X4:X131) -> 30317
A4: 1000 | B4: 201 | C4: 長野市 | J4: ='水稲H22（長野）2010'!$D9 -> 1840 | K4: ='水稲H23（長野）2011'!$D9 -> 1820 | L4: ='水稲H24（長野）2012'!$D9 -> 1830 | M4: ='水稲H25（長野）2013'!$D9 -> 1800 | N4: ='水稲H26（長野）2014'!$D9 -> 1750 | O4: ='水稲H27（長野）2015'!$D9 -> 1670 | P4: ='水稲H28（長野）2016'!$D9 -> 1650 | Q4: ='水稲H29（長野）2017'!$D9 -> 1600 | R4: ='水稲H30（長野）2018'!$D9 -> 1550 | S4: ='水稲R1（長野）2019'!$D9 -> 1510 | T4: ='水稲R2（長野）2020'!$D9 -> 1510 | U4: ='水稲R3（長野）2021'!$D9 -> 1480 | V4: ='水稲R4（長野）2022'!$D9 -> 1470 | W4: ='水稲R5（長野）2023'!$D9 -> 1440 | X4: ='水稲R6（長野）2024'!$D9 -> 1410
B5: 201 | C5: 長野市 | D5: ='水稲H16（長野）2004'!D9 -> 1910 | E5: ='水稲H17（長野）2005'!D9 -> 1870 | F5: ='水稲H18（長野）2006'!$D9 -> 1800 | G5: ='水稲H19（長野）2007'!$D9 -> 1780 | H5: ='水稲H20（長野）2008'!$D9 -> 1710 | I5: ='水稲H21（長野）2009'!$D9 -> 1720
B6: 581 | C6: 信州新町 | D6: ='水稲H16（長野）2004'!D112 -> 86 | E6: ='水稲H17（長野）2005'!D84 -> 84 | F6: ='水稲H18（長野）2006'!$D84 -> 84 | G6: ='水稲H19（長野）2007'!$D84 -> 84 | H6: ='水稲H20（長野）2008'!$D84 -> 84 | I6: ='水稲H21（長野）2009'!D83 -> 83
B7: 589 | C7: 中条村 | D7: ='水稲H16（長野）2004'!D117 -> 38 | E7: ='水稲H17（長野）2005'!D87 -> 36 | F7: ='水稲H18（長野）2006'!$D87 -> 36 | G7: ='水稲H19（長野）2007'!$D87 -> 36 | H7: ='水稲H20（長野）2008'!$D87 -> 36 | I7: ='水稲H21（長野）2009'!D86 -> 36
A8: 2000 | B8: 202 | C8: 松本市 | J8: ='水稲H22（長野）2010'!$D10 -> 2880 | K8: ='水稲H23（長野）2011'!$D10 -> 2880 | L8: ='水稲H24（長野）2012'!$D10 -> 2830 | M8: ='水稲H25（長野）2013'!$D10 -> 2860 | N8: ='水稲H26（長野）2014'!$D10 -> 2800 | O8: ='水稲H27（長野）2015'!$D10 -> 2780 | P8: ='水稲H28（長野）2016'!$D10 -> 2750 | Q8: ='水稲H29（長野）2017'!$D10 -> 2720 | R8: ='水稲H30（長野）2018'!$D10 -> 2690 | S8: ='水稲R1（長野）2019'!$D10 -> 2700 | T8: ='水稲R2（長野）2020'!$D10 -> 2690 | U8: ='水稲R3（長野）2021'!$D10 -> 2690 | V8: ='水稲R4（長野）2022'!$D10 -> 2630 | W8: ='水稲R5（長野）2023'!$D10 -> 2590 | X8: ='水稲R6（長野）2024'!$D10 -> 2600
B9: 202 | C9: 松本市
B10: 202 | C10: 松本市 | D10: ='水稲H16（長野）2004'!D10 -> 2100 | E10: ='水稲H17（長野）2005'!D10 -> 2700 | F10: ='水稲H18（長野）2006'!D10 -> 2720 | G10: ='水稲H19（長野）2007'!D10 -> 2700 | H10: ='水稲H20（長野）2008'!D10 -> 2540 | I10: ='水稲H21（長野）2009'!D10 -> 2550
B11: 443 | C11: 四賀村 | D11: ='水稲H16（長野）2004'!D84 -> 157
B12: 449 | C12: 波田町 | D12: ='水稲H16（長野）2004'!D90 -> 281 | E12: ='水稲H17（長野）2005'!D70 -> 282 | F12: ='水稲H18（長野）2006'!$D70 -> 282 | G12: ='水稲H19（長野）2007'!$D70 -> 285 | H12: ='水稲H20（長野）2008'!$D70 -> 290 | I12: ='水稲H21（長野）2009'!D69 -> 301
B13: 463 | C13: 奈川村 | D13: ='水稲H16（長野）2004'!D95 -> 9
B14: 464 | C14: 安曇村 | D14: ='水稲H16（長野）2004'!D96 -> -
B15: 465 | C15: 梓川村 | D15: ='水稲H16（長野）2004'!D97 -> 414
A16: 3000 | B16: 203 | C16: 上田市 | E16: ='水稲H17（長野）2005'!D11 -> 1820 | F16: ='水稲H18（長野）2006'!$D11 -> 1800 | G16: ='水稲H19（長野）2007'!$D11 -> 1780 | H16: ='水稲H20（長野）2008'!$D11 -> 1720 | I16: ='水稲H21（長野）2009'!$D11 -> 1720 | J16: ='水稲H22（長野）2010'!$D11 -> 1740 | K16: ='水稲H23（長野）2011'!$D11 -> 1720 | L16: ='水稲H24（長野）2012'!$D11 -> 1760 | M16: ='水稲H25（長野）2013'!$D11 -> 1750 | N16: ='水稲H26（長野）2014'!$D11 -> 1740 | O16: ='水稲H27（長野）2015'!$D11 -> 1690 | P16: ='水稲H28（長野）2016'!$D11 -> 1670 | Q16: ='水稲H29（長野）2017'!$D11 -> 1650 | R16: ='水稲H30（長野）2018'!$D11 -> 1650 | S16: ='水稲R1（長野）2019'!$D11 -> 1650 | T16: ='水稲R2（長野）2020'!$D11 -> 1630 | U16: ='水稲R3（長野）2021'!$D11 -> 1620 | V16: ='水稲R4（長野）2022'!$D11 -> 1580 | W16: ='水稲R5（長野）2023'!$D11 -> 1640 | X16: ='水稲R6（長野）2024'!$D11 -> 1560
B17: 203 | C17: 上田市 | D17: ='水稲H16（長野）2004'!D11 -> 1160
B18: 341 | C18: 丸子町 | D18: ='水稲H16（長野）2004'!D39 -> 356
B19: 345 | C19: 真田町 | D19: ='水稲H16（長野）2004'!D41 -> 150
B20: 346 | C20: 武石村 | D20: ='水稲H16（長野）2004'!D42 -> 158
A21: 4000 | B21: 204 | C21: 岡谷市 | D21: ='水稲H16（長野）2004'!D12 -> 66 | E21: ='水稲H17（長野）2005'!D12 -> 65 | F21: ='水稲H18（長野）2006'!$D12 -> 65 | G21: ='水稲H19（長野）2007'!$D12 -> 65 | H21: ='水稲H20（長野）2008'!$D12 -> 53 | I21: ='水稲H21（長野）2009'!$D12 -> 53 | J21: ='水稲H22（長野）2010'!$D12 -> 53 | K21: ='水稲H23（長野）2011'!$D12 -> 53 | L21: ='水稲H24（長野）2012'!$D12 -> 54 | M21: ='水稲H25（長野）2013'!$D12 -> 54 | N21: ='水稲H26（長野）2014'!$D12 -> 53 | O21: ='水稲H27（長野）2015'!$D12 -> 50 | P21: ='水稲H28（長野）2016'!$D12 -> 49 | Q21: ='水稲H29（長野）2017'!$D12 -> 43 | R21: ='水稲H30（長野）2018'!$D12 -> 42 | S21: ='水稲R1（長野）2019'!$D12 -> 40 | T21: ='水稲R2（長野）2020'!$D12 -> 39 | U21: ='水稲R3（長野）2021'!$D12 -> 37 | V21: ='水稲R4（長野）2022'!$D12 -> 35 | W21: ='水稲R5（長野）2023'!$D12 -> 40 | X21: ='水稲R6（長野）2024'!$D12 -> 36
A22: 5000 | B22: 205 | C22: 飯田市 | E22: ='水稲H17（長野）2005'!D13 -> 877 | F22: ='水稲H18（長野）2006'!$D13 -> 865 | G22: ='水稲H19（長野）2007'!$D13 -> 861 | H22: ='水稲H20（長野）2008'!$D13 -> 835 | I22: ='水稲H21（長野）2009'!$D13 -> 834 | J22: ='水稲H22（長野）2010'!$D13 -> 837 | K22: ='水稲H23（長野）2011'!$D13 -> 827 | L22: ='水稲H24（長野）2012'!$D13 -> 826 | M22: ='水稲H25（長野）2013'!$D13 -> 821 | N22: ='水稲H26（長野）2014'!$D13 -> 793 | O22: ='水稲H27（長野）2015'!$D13 -> 772 | P22: ='水稲H28（長野）2016'!$D13 -> 745 | Q22: ='水稲H29（長野）2017'!$D13 -> 728 | R22: ='水稲H30（長野）2018'!$D13 -> 707 | S22: ='水稲R1（長野）2019'!$D13 -> 680 | T22: ='水稲R2（長野）2020'!$D13 -> 665 | U22: ='水稲R3（長野）2021'!$D13 -> 649 | V22: ='水稲R4（長野）2022'!$D13 -> 643 | W22: ='水稲R5（長野）2023'!$D13 -> 628 | X22: ='水稲R6（長野）2024'!$D13 -> 584
B23: 205 | C23: 飯田市 | D23: ='水稲H16（長野）2004'!D13 -> 873
B24: 418 | C24: 上村 | D24: ='水稲H16（長野）2004'!D71 -> 3
B25: 419 | C25: 南信濃村 | D25: ='水稲H16（長野）2004'!D72 -> 13
A26: 6000 | B26: 206 | C26: 諏訪市 | D26: ='水稲H16（長野）2004'!D14 -> 379 | E26: ='水稲H17（長野）2005'!D14 -> 387 | F26: ='水稲H18（長野）2006'!$D14 -> 387 | G26: ='水稲H19（長野）2007'!$D14 -> 391 | H26: ='水稲H20（長野）2008'!$D14 -> 383 | I26: ='水稲H21（長野）2009'!$D14 -> 383 | J26: ='水稲H22（長野）2010'!$D14 -> 382 | K26: ='水稲H23（長野）2011'!$D14 -> 382 | L26: ='水稲H24（長野）2012'!$D14 -> 380 | M26: ='水稲H25（長野）2013'!$D14 -> 380 | N26: ='水稲H26（長野）2014'!$D14 -> 374 | O26: ='水稲H27（長野）2015'!$D14 -> 372 | P26: ='水稲H28（長野）2016'!$D14 -> 367 | Q26: ='水稲H29（長野）2017'!$D14 -> 366 | R26: ='水稲H30（長野）2018'!$D14 -> 366 | S26: ='水稲R1（長野）2019'!$D14 -> 359 | T26: ='水稲R2（長野）2020'!$D14 -> 357 | U26: ='水稲R3（長野）2021'!$D14 -> 353 | V26: ='水稲R4（長野）2022'!$D14 -> 351 | W26: ='水稲R5（長野）2023'!$D14 -> 341 | X26: ='水稲R6（長野）2024'!$D14 -> 343
A27: 7000 | B27: 207 | C27: 須坂市 | D27: ='水稲H16（長野）2004'!D15 -> 232 | E27: ='水稲H17（長野）2005'!D15 -> 226 | F27: ='水稲H18（長野）2006'!$D15 -> 227 | G27: ='水稲H19（長野）2007'!$D15 -> 225 | H27: ='水稲H20（長野）2008'!$D15 -> 213 | I27: ='水稲H21（長野）2009'!$D15 -> 213 | J27: ='水稲H22（長野）2010'!$D15 -> 212 | K27: ='水稲H23（長野）2011'!$D15 -> 211 | L27: ='水稲H24（長野）2012'!$D15 -> 211 | M27: ='水稲H25（長野）2013'!$D15 -> 208 | N27: ='水稲H26（長野）2014'!$D15 -> 199 | O27: ='水稲H27（長野）2015'!$D15 -> 189 | P27: ='水稲H28（長野）2016'!$D15 -> 185 | Q27: ='水稲H29（長野）2017'!$D15 -> 183 | R27: ='水稲H30（長野）2018'!$D15 -> 175 | S27: ='水稲R1（長野）2019'!$D15 -> 174 | T27: ='水稲R2（長野）2020'!$D15 -> 175 | U27: ='水稲R3（長野）2021'!$D15 -> 175 | V27: ='水稲R4（長野）2022'!$D15 -> 157 | W27: ='水稲R5（長野）2023'!$D15 -> 156 | X27: ='水稲R6（長野）2024'!$D15 -> 149
A28: 8000 | B28: 208 | C28: 小諸市 | D28: ='水稲H16（長野）2004'!D16 -> 708 | E28: ='水稲H17（長野）2005'!D16 -> 706 | F28: ='水稲H18（長野）2006'!$D16 -> 706 | G28: ='水稲H19（長野）2007'!$D16 -> 706 | H28: ='水稲H20（長野）2008'!$D16 -> 617 | I28: ='水稲H21（長野）2009'!$D16 -> 617 | J28: ='水稲H22（長野）2010'!$D16 -> 610 | K28: ='水稲H23（長野）2011'!$D16 -> 603 | L28: ='水稲H24（長野）2012'!$D16 -> 610 | M28: ='水稲H25（長野）2013'!$D16 -> 604 | N28: ='水稲H26（長野）2014'!$D16 -> 603 | O28: ='水稲H27（長野）2015'!$D16 -> 585 | P28: ='水稲H28（長野）2016'!$D16 -> 585 | Q28: ='水稲H29（長野）2017'!$D16 -> 585 | R28: ='水稲H30（長野）2018'!$D16 -> 607 | S28: ='水稲R1（長野）2019'!$D16 -> 583 | T28: ='水稲R2（長野）2020'!$D16 -> 577 | U28: ='水稲R3（長野）2021'!$D16 -> 571 | V28: ='水稲R4（長野）2022'!$D16 -> 560 | W28: ='水稲R5（長野）2023'!$D16 -> 551 | X28: ='水稲R6（長野）2024'!$D16 -> 541
A29: 9000 | B29: 209 | C29: 伊那市 | E29: ='水稲H17（長野）2005'!D17 -> 2230 | F29: ='水稲H18（長野）2006'!$D17 -> 2220 | G29: ='水稲H19（長野）2007'!$D17 -> 2200 | H29: ='水稲H20（長野）2008'!$D17 -> 2020 | I29: ='水稲H21（長野）2009'!$D17 -> 2020 | J29: ='水稲H22（長野）2010'!$D17 -> 1990 | K29: ='水稲H23（長野）2011'!$D17 -> 1950 | L29: ='水稲H24（長野）2012'!$D17 -> 1960 | M29: ='水稲H25（長野）2013'!$D17 -> 1990 | N29: ='水稲H26（長野）2014'!$D17 -> 1980 | O29: ='水稲H27（長野）2015'!$D17 -> 1950 | P29: ='水稲H28（長野）2016'!$D17 -> 1920 | Q29: ='水稲H29（長野）2017'!$D17 -> 1950 | R29: ='水稲H30（長野）2018'!$D17 -> 1950 | S29: ='水稲R1（長野）2019'!$D17 -> 1960 | T29: ='水稲R2（長野）2020'!$D17 -> 1960 | U29: ='水稲R3（長野）2021'!$D17 -> 1960 | V29: ='水稲R4（長野）2022'!$D17 -> 1880 | W29: ='水稲R5（長野）2023'!$D17 -> 1860 | X29: ='水稲R6（長野）2024'!$D17 -> 1840
B30: 209 | C30: 伊那市 | D30: ='水稲H16（長野）2004'!D17 -> 1870
B31: 381 | C31: 高遠町 | D31: ='水稲H16（長野）2004'!D48 -> 233
B32: 387 | C32: 長谷村 | D32: ='水稲H16（長野）2004'!D54 -> 99
A33: 10000 | B33: 210 | C33: 駒ヶ根市 | D33: ='水稲H16（長野）2004'!D18 -> 926 | E33: ='水稲H17（長野）2005'!D18 -> 948 | F33: ='水稲H18（長野）2006'!$D18 -> 936 | G33: ='水稲H19（長野）2007'!$D18 -> 916 | H33: ='水稲H20（長野）2008'!$D18 -> 854 | I33: ='水稲H21（長野）2009'!$D18 -> 854 | J33: ='水稲H22（長野）2010'!$D18 -> 829 | K33: ='水稲H23（長野）2011'!$D18 -> 819 | L33: ='水稲H24（長野）2012'!$D18 -> 813 | M33: ='水稲H25（長野）2013'!$D18 -> 815 | N33: ='水稲H26（長野）2014'!$D18 -> 813 | O33: ='水稲H27（長野）2015'!$D18 -> 808 | P33: ='水稲H28（長野）2016'!$D18 -> 785 | Q33: ='水稲H29（長野）2017'!$D18 -> 783 | R33: ='水稲H30（長野）2018'!$D18 -> 779 | S33: ='水稲R1（長野）2019'!$D18 -> 767 | T33: ='水稲R2（長野）2020'!$D18 -> 769 | U33: ='水稲R3（長野）2021'!$D18 -> 764 | V33: ='水稲R4（長野）2022'!$D18 -> 746 | W33: ='水稲R5（長野）2023'!$D18 -> 738 | X33: ='水稲R6（長野）2024'!$D18 -> 732
A34: 11000 | B34: 211 | C34: 中野市 | E34: ='水稲H17（長野）2005'!D19 -> 546 | F34: ='水稲H18（長野）2006'!$D19 -> 545 | G34: ='水稲H19（長野）2007'!$D19 -> 546 | H34: ='水稲H20（長野）2008'!$D19 -> 474 | I34: ='水稲H21（長野）2009'!$D19 -> 481 | J34: ='水稲H22（長野）2010'!$D19 -> 469 | K34: ='水稲H23（長野）2011'!$D19 -> 469 | L34: ='水稲H24（長野）2012'!$D19 -> 476 | M34: ='水稲H25（長野）2013'!$D19 -> 478 | N34: ='水稲H26（長野）2014'!$D19 -> 470 | O34: ='水稲H27（長野）2015'!$D19 -> 464 | P34: ='水稲H28（長野）2016'!$D19 -> 456 | Q34: ='水稲H29（長野）2017'!$D19 -> 451 | R34: ='水稲H30（長野）2018'!$D19 -> 451 | S34: ='水稲R1（長野）2019'!$D19 -> 451 | T34: ='水稲R2（長野）2020'!$D19 -> 456 | U34: ='水稲R3（長野）2021'!$D19 -> 445 | V34: ='水稲R4（長野）2022'!$D19 -> 429 | W34: ='水稲R5（長野）2023'!$D19 -> 419 | X34: ='水稲R6（長野）2024'!$D19 -> 412
B35: 211 | C35: 中野市 | D35: ='水稲H16（長野）2004'!D19 -> 394
B36: 601 | C36: 豊田村 | D36: ='水稲H16（長野）2004'!D118 -> 153
A37: 12000 | B37: 212 | C37: 大町市 | E37: ='水稲H17（長野）2005'!D20 -> 1640 | F37: ='水稲H18（長野）2006'!$D20 -> 1650 | G37: ='水稲H19（長野）2007'!$D20 -> 1650 | H37: ='水稲H20（長野）2008'!$D20 -> 1510 | I37: ='水稲H21（長野）2009'!$D20 -> 1510 | J37: ='水稲H22（長野）2010'!$D20 -> 1520 | K37: ='水稲H23（長野）2011'!$D20 -> 1500 | L37: ='水稲H24（長野）2012'!$D20 -> 1490 | M37: ='水稲H25（長野）2013'!$D20 -> 1510 | N37: ='水稲H26（長野）2014'!$D20 -> 1520 | O37: ='水稲H27（長野）2015'!$D20 -> 1500 | P37: ='水稲H28（長野）2016'!$D20 -> 1480 | Q37: ='水稲H29（長野）2017'!$D20 -> 1460 | R37: ='水稲H30（長野）2018'!$D20 -> 1450 | S37: ='水稲R1（長野）2019'!$D20 -> 1460 | T37: ='水稲R2（長野）2020'!$D20 -> 1450 | U37: ='水稲R3（長野）2021'!$D20 -> 1430 | V37: ='水稲R4（長野）2022'!$D20 -> 1410 | W37: ='水稲R5（長野）2023'!$D20 -> 1400 | X37: ='水稲R6（長野）2024'!$D20 -> 1410
B38: 212 | C38: 大町市 | D38: ='水稲H16（長野）2004'!D20 -> 1430
B39: 483 | C39: 八坂村 | D39: ='水稲H16（長野）2004'!D102 -> 33
B40: 484 | C40: 美麻村 | D40: ='水稲H16（長野）2004'!D103 -> 55
A41: 13000 | B41: 213 | C41: 飯山市 | D41: ='水稲H16（長野）2004'!D21 -> 1460 | E41: ='水稲H17（長野）2005'!D21 -> 1450 | F41: ='水稲H18（長野）2006'!$D21 -> 1370 | G41: ='水稲H19（長野）2007'!$D21 -> 1400 | H41: ='水稲H20（長野）2008'!$D21 -> 1330 | I41: ='水稲H21（長野）2009'!$D21 -> 1350 | J41: ='水稲H22（長野）2010'!$D21 -> 1360 | K41: ='水稲H23（長野）2011'!$D21 -> 1360 | L41: ='水稲H24（長野）2012'!$D21 -> 1360 | M41: ='水稲H25（長野）2013'!$D21 -> 1370 | N41: ='水稲H26（長野）2014'!$D21 -> 1370 | O41: ='水稲H27（長野）2015'!$D21 -> 1370 | P41: ='水稲H28（長野）2016'!$D21 -> 1350 | Q41: ='水稲H29（長野）2017'!$D21 -> 1340 | R41: ='水稲H30（長野）2018'!$D21 -> 1330 | S41: ='水稲R1（長野）2019'!$D21 -> 1330 | T41: ='水稲R2（長野）2020'!$D21 -> 1310 | U41: ='水稲R3（長野）2021'!$D21 -> 1300 | V41: ='水稲R4（長野）2022'!$D21 -> 1290 | W41: ='水稲R5（長野）2023'!$D21 -> 1280 | X41: ='水稲R6（長野）2024'!$D21 -> 1280
A42: 14000 | B42: 214 | C42: 茅野市 | D42: ='水稲H16（長野）2004'!D22 -> 874 | E42: ='水稲H17（長野）2005'!D22 -> 902 | F42: ='水稲H18（長野）2006'!$D22 -> 900 | G42: ='水稲H19（長野）2007'!$D22 -> 894 | H42: ='水稲H20（長野）2008'!$D22 -> 921 | I42: ='水稲H21（長野）2009'!$D22 -> 925 | J42: ='水稲H22（長野）2010'!$D22 -> 939 | K42: ='水稲H23（長野）2011'!$D22 -> 935 | L42: ='水稲H24（長野）2012'!$D22 -> 936 | M42: ='水稲H25（長野）2013'!$D22 -> 941 | N42: ='水稲H26（長野）2014'!$D22 -> 932 | O42: ='水稲H27（長野）2015'!$D22 -> 907 | P42: ='水稲H28（長野）2016'!$D22 -> 885 | Q42: ='水稲H29（長野）2017'!$D22 -> 864 | R42: ='水稲H30（長野）2018'!$D22 -> 863 | S42: ='水稲R1（長野）2019'!$D22 -> 875 | T42: ='水稲R2（長野）2020'!$D22 -> 885 | U42: ='水稲R3（長野）2021'!$D22 -> 885 | V42: ='水稲R4（長野）2022'!$D22 -> 883 | W42: ='水稲R5（長野）2023'!$D22 -> 876 | X42: ='水稲R6（長野）2024'!$D22 -> 872
A43: 15000 | B43: 215 | C43: 塩尻市 | E43: ='水稲H17（長野）2005'!D23 -> 694 | F43: ='水稲H18（長野）2006'!$D23 -> 693 | G43: ='水稲H19（長野）2007'!$D23 -> 690 | H43: ='水稲H20（長野）2008'!$D23 -> 659 | I43: ='水稲H21（長野）2009'!$D23 -> 647 | J43: ='水稲H22（長野）2010'!$D23 -> 665 | K43: ='水稲H23（長野）2011'!$D23 -> 669 | L43: ='水稲H24（長野）2012'!$D23 -> 662 | M43: ='水稲H25（長野）2013'!$D23 -> 669 | N43: ='水稲H26（長野）2014'!$D23 -> 652 | O43: ='水稲H27（長野）2015'!$D23 -> 644 | P43: ='水稲H28（長野）2016'!$D23 -> 634 | Q43: ='水稲H29（長野）2017'!$D23 -> 626 | R43: ='水稲H30（長野）2018'!$D23 -> 613 | S43: ='水稲R1（長野）2019'!$D23 -> 617 | T43: ='水稲R2（長野）2020'!$D23 -> 609 | U43: ='水稲R3（長野）2021'!$D23 -> 608 | V43: ='水稲R4（長野）2022'!$D23 -> 593 | W43: ='水稲R5（長野）2023'!$D23 -> 587 | X43: ='水稲R6（長野）2024'!$D23 -> 585
B44: 215 | C44: 塩尻市 | D44: ='水稲H16（長野）2004'!D23 -> 694
B45: 424 | C45: 楢川村 | D45: ='水稲H16（長野）2004'!D76 -> 1
A46: 16000 | B46: 217 | C46: 佐久市 | E46: ='水稲H17（長野）2005'!D24 -> 2970 | F46: ='水稲H18（長野）2006'!$D24 -> 2970 | G46: ='水稲H19（長野）2007'!$D24 -> 2980 | H46: ='水稲H20（長野）2008'!$D24 -> 2990 | I46: ='水稲H21（長野）2009'!$D24 -> 3030 | J46: ='水稲H22（長野）2010'!$D24 -> 2990 | K46: ='水稲H23（長野）2011'!$D24 -> 2960 | L46: ='水稲H24（長野）2012'!$D24 -> 2950 | M46: ='水稲H25（長野）2013'!$D24 -> 3020 | N46: ='水稲H26（長野）2014'!$D24 -> 3020 | O46: ='水稲H27（長野）2015'!$D24 -> 2980 | P46: ='水稲H28（長野）2016'!$D24 -> 2940 | Q46: ='水稲H29（長野）2017'!$D24 -> 2860 | R46: ='水稲H30（長野）2018'!$D24 -> 2870 | S46: ='水稲R1（長野）2019'!$D24 -> 2860 | T46: ='水稲R2（長野）2020'!$D24 -> 2840 | U46: ='水稲R3（長野）2021'!$D24 -> 2760 | V46: ='水稲R4（長野）2022'!$D24 -> 2750 | W46: ='水稲R5（長野）2023'!$D24 -> 2760 | X46: ='水稲R6（長野）2024'!$D24 -> 2790
B47: 217 | C47: 佐久市 | D47: ='水稲H16（長野）2004'!D24 -> 1640
B48: 301 | C48: 臼田町 | D48: ='水稲H16（長野）2004'!D27 -> 372
B49: 322 | C49: 望月町 | D49: ='水稲H16（長野）2004'!D35 -> 538
B50: 325 | C50: 浅科村 | D50: ='水稲H16（長野）2004'!D38 -> 399
A51: 17000 | B51: 218 | C51: 千曲市 | D51: ='水稲H16（長野）2004'!D25 -> 565 | E51: ='水稲H17（長野）2005'!D25 -> 565 | F51: ='水稲H18（長野）2006'!$D25 -> 553 | G51: ='水稲H19（長野）2007'!$D25 -> 553 | H51: ='水稲H20（長野）2008'!$D25 -> 532 | I51: ='水稲H21（長野）2009'!$D25 -> 523 | J51: ='水稲H22（長野）2010'!$D25 -> 529 | K51: ='水稲H23（長野）2011'!$D25 -> 529 | L51: ='水稲H24（長野）2012'!$D25 -> 525 | M51: ='水稲H25（長野）2013'!$D25 -> 530 | N51: ='水稲H26（長野）2014'!$D25 -> 510 | O51: ='水稲H27（長野）2015'!$D25 -> 494 | P51: ='水稲H28（長野）2016'!$D25 -> 489 | Q51: ='水稲H29（長野）2017'!$D25 -> 478 | R51: ='水稲H30（長野）2018'!$D25 -> 476 | S51: ='水稲R1（長野）2019'!$D25 -> 477 | T51: ='水稲R2（長野）2020'!$D25 -> 475 | U51: ='水稲R3（長野）2021'!$D25 -> 460 | V51: ='水稲R4（長野）2022'!$D25 -> 438 | W51: ='水稲R5（長野）2023'!$D25 -> 425 | X51: ='水稲R6（長野）2024'!$D25 -> 418
A52: 18000 | B52: 219 | C52: 東御市 | D52: ='水稲H16（長野）2004'!D26 -> 723 | E52: ='水稲H17（長野）2005'!D26 -> 729 | F52: ='水稲H18（長野）2006'!$D26 -> 728 | G52: ='水稲H19（長野）2007'!$D26 -> 724 | H52: ='水稲H20（長野）2008'!$D26 -> 728 | I52: ='水稲H21（長野）2009'!$D26 -> 736 | J52: ='水稲H22（長野）2010'!$D26 -> 723 | K52: ='水稲H23（長野）2011'!$D26 -> 717 | L52: ='水稲H24（長野）2012'!$D26 -> 736 | M52: ='水稲H25（長野）2013'!$D26 -> 753 | N52: ='水稲H26（長野）2014'!$D26 -> 755 | O52: ='水稲H27（長野）2015'!$D26 -> 735 | P52: ='水稲H28（長野）2016'!$D26 -> 745 | Q52: ='水稲H29（長野）2017'!$D26 -> 760 | R52: ='水稲H30（長野）2018'!$D26 -> 763 | S52: ='水稲R1（長野）2019'!$D26 -> 765 | T52: ='水稲R2（長野）2020'!$D26 -> 757 | U52: ='水稲R3（長野）2021'!$D26 -> 764 | V52: ='水稲R4（長野）2022'!$D26 -> 768 | W52: ='水稲R5（長野）2023'!$D26 -> 750 | X52: ='水稲R6（長野）2024'!$D26 -> 744
A53: 19000 | B53: 220 | C53: 安曇野市 | E53: ='水稲H17（長野）2005'!D27 -> 3390 | F53: ='水稲H18（長野）2006'!D$27 -> 3390 | G53: ='水稲H19（長野）2007'!D$27 -> 3350 | H53: ='水稲H20（長野）2008'!D$27 -> 3260 | I53: ='水稲H21（長野）2009'!D$27 -> 3250 | J53: ='水稲H22（長野）2010'!$D27 -> 3270 | K53: ='水稲H23（長野）2011'!$D27 -> 3220 | L53: ='水稲H24（長野）2012'!$D27 -> 3180 | M53: ='水稲H25（長野）2013'!$D27 -> 3230 | N53: ='水稲H26（長野）2014'!$D27 -> 3200 | O53: ='水稲H27（長野）2015'!$D27 -> 3130 | P53: ='水稲H28（長野）2016'!$D27 -> 3080 | Q53: ='水稲H29（長野）2017'!$D27 -> 3060 | R53: ='水稲H30（長野）2018'!$D27 -> 3080 | S53: ='水稲R1（長野）2019'!$D27 -> 3080 | T53: ='水稲R2（長野）2020'!$D27 -> 3070 | U53: ='水稲R3（長野）2021'!$D27 -> 3040 | V53: ='水稲R4（長野）2022'!$D27 -> 3010 | W53: ='水稲R5（長野）2023'!$D27 -> 2990 | X53: ='水稲R6（長野）2024'!$D27 -> 2980
B54: 441 | C54: 明科町 | D54: ='水稲H16（長野）2004'!D83 -> 244
B55: 461 | C55: 豊科町 | D55: ='水稲H16（長野）2004'!D93 -> 850
B56: 462 | C56: 穂高町 | D56: ='水稲H16（長野）2004'!D94 -> 1180
B57: 466 | C57: 三郷村 | D57: ='水稲H16（長野）2004'!D98 -> 520
B58: 467 | C58: 堀金村 | D58: ='水稲H16（長野）2004'!D99 -> 509
A59: 20000 | B59: 303 | C59: 小海町 | D59: ='水稲H16（長野）2004'!D28 -> 89 | E59: ='水稲H17（長野）2005'!D28 -> 88 | F59: ='水稲H18（長野）2006'!D$28 -> 88 | G59: ='水稲H19（長野）2007'!D$28 -> 87 | H59: ='水稲H20（長野）2008'!D$28 -> 66 | I59: ='水稲H21（長野）2009'!D$28 -> 63 | J59: ='水稲H22（長野）2010'!$D28 -> 59 | K59: ='水稲H23（長野）2011'!$D28 -> 60 | L59: ='水稲H24（長野）2012'!$D28 -> 59 | M59: ='水稲H25（長野）2013'!$D28 -> 59 | N59: ='水稲H26（長野）2014'!$D28 -> 55 | O59: ='水稲H27（長野）2015'!$D28 -> 51 | P59: ='水稲H28（長野）2016'!$D28 -> 50 | Q59: ='水稲H29（長野）2017'!$D28 -> 49 | R59: ='水稲H30（長野）2018'!$D28 -> 48 | S59: ='水稲R1（長野）2019'!$D28 -> 32 | T59: ='水稲R2（長野）2020'!$D28 -> 32 | U59: ='水稲R3（長野）2021'!$D28 -> 30 | V59: ='水稲R4（長野）2022'!$D28 -> 29 | W59: ='水稲R5（長野）2023'!$D28 -> 28 | X59: ='水稲R6（長野）2024'!$D28 -> 23
A60: 21000 | B60: 304 | C60: 川上村 | D60: ='水稲H16（長野）2004'!D29 -> - | E60: ='水稲H17（長野）2005'!D29 -> - | F60: ='水稲H18（長野）2006'!$D29 -> - | G60: ='水稲H19（長野）2007'!$D29 -> - | H60: ='水稲H20（長野）2008'!$D29 -> - | I60: ='水稲H21（長野）2009'!$D29 -> - | J60: ='水稲H22（長野）2010'!$D29 -> - | K60: ='水稲H23（長野）2011'!$D29 -> - | L60: ='水稲H24（長野）2012'!$D29 -> - | M60: ='水稲H25（長野）2013'!$D29 -> - | N60: ='水稲H26（長野）2014'!$D29 -> - | O60: ='水稲H27（長野）2015'!$D29 -> - | P60: ='水稲H28（長野）2016'!$D29 -> - | Q60: ='水稲H29（長野）2017'!$D29 -> - | R60: ='水稲H30（長野）2018'!$D29 -> - | S60: ='水稲R1（長野）2019'!$D29 -> - | T60: ='水稲R2（長野）2020'!$D29 -> - | U60: ='水稲R3（長野）2021'!$D29 -> - | V60: ='水稲R4（長野）2022'!$D29 -> - | W60: ='水稲R5（長野）2023'!$D29 -> - | X60: ='水稲R6（長野）2024'!$D29 -> -
A61: 22000 | B61: 305 | C61: 南牧村 | D61: ='水稲H16（長野）2004'!D30 -> 22 | E61: ='水稲H17（長野）2005'!D30 -> 22 | F61: ='水稲H18（長野）2006'!$D30 -> 22 | G61: ='水稲H19（長野）2007'!$D30 -> 22 | H61: ='水稲H20（長野）2008'!$D30 -> 20 | I61: ='水稲H21（長野）2009'!$D30 -> 18 | J61: ='水稲H22（長野）2010'!$D30 -> 16 | K61: ='水稲H23（長野）2011'!$D30 -> 15 | L61: ='水稲H24（長野）2012'!$D30 -> 14 | M61: ='水稲H25（長野）2013'!$D30 -> 14 | N61: ='水稲H26（長野）2014'!$D30 -> 14 | O61: ='水稲H27（長野）2015'!$D30 -> 14 | P61: ='水稲H28（長野）2016'!$D30 -> 13 | Q61: ='水稲H29（長野）2017'!$D30 -> 12 | R61: ='水稲H30（長野）2018'!$D30 -> 12 | S61: ='水稲R1（長野）2019'!$D30 -> 12 | T61: ='水稲R2（長野）2020'!$D30 -> 12 | U61: ='水稲R3（長野）2021'!$D30 -> 12 | V61: ='水稲R4（長野）2022'!$D30 -> 12 | W61: ='水稲R5（長野）2023'!$D30 -> 12 | X61: ='水稲R6（長野）2024'!$D30 -> 12
A62: 23000 | B62: 306 | C62: 南相木村 | D62: ='水稲H16（長野）2004'!D31 -> 2 | E62: ='水稲H17（長野）2005'!D31 -> 2 | F62: ='水稲H18（長野）2006'!$D31 -> 2 | G62: ='水稲H19（長野）2007'!$D31 -> 2 | H62: ='水稲H20（長野）2008'!$D31 -> 2 | I62: ='水稲H21（長野）2009'!$D31 -> 2 | J62: ='水稲H22（長野）2010'!$D31 -> 2 | K62: ='水稲H23（長野）2011'!$D31 -> 1 | L62: ='水稲H24（長野）2012'!$D31 -> 1 | M62: ='水稲H25（長野）2013'!$D31 -> 1 | N62: ='水稲H26（長野）2014'!$D31 -> 1 | O62: ='水稲H27（長野）2015'!$D31 -> 1 | P62: ='水稲H28（長野）2016'!$D31 -> 1 | Q62: ='水稲H29（長野）2017'!$D31 -> 1 | R62: ='水稲H30（長野）2018'!$D31 -> 1 | S62: ='水稲R1（長野）2019'!$D31 -> 1 | T62: ='水稲R2（長野）2020'!$D31 -> 1 | U62: ='水稲R3（長野）2021'!$D31 -> 1 | V62: ='水稲R4（長野）2022'!$D31 -> 1 | W62: ='水稲R5（長野）2023'!$D31 -> 0 | X62: ='水稲R6（長野）2024'!$D31 -> 0
A63: 24000 | B63: 307 | C63: 北相木村 | D63: ='水稲H16（長野）2004'!D32 -> 6 | E63: ='水稲H17（長野）2005'!D32 -> 6 | F63: ='水稲H18（長野）2006'!$D32 -> 6 | G63: ='水稲H19（長野）2007'!$D32 -> 6 | H63: ='水稲H20（長野）2008'!$D32 -> 4 | I63: ='水稲H21（長野）2009'!$D32 -> 4 | J63: ='水稲H22（長野）2010'!$D32 -> 3 | K63: ='水稲H23（長野）2011'!$D32 -> 2 | L63: ='水稲H24（長野）2012'!$D32 -> 2 | M63: ='水稲H25（長野）2013'!$D32 -> 2 | N63: ='水稲H26（長野）2014'!$D32 -> 2 | O63: ='水稲H27（長野）2015'!$D32 -> 2 | P63: ='水稲H28（長野）2016'!$D32 -> 2 | Q63: ='水稲H29（長野）2017'!$D32 -> 2 | R63: ='水稲H30（長野）2018'!$D32 -> 1 | S63: ='水稲R1（長野）2019'!$D32 -> 1 | T63: ='水稲R2（長野）2020'!$D32 -> 1 | U63: ='水稲R3（長野）2021'!$D32 -> 1 | V63: ='水稲R4（長野）2022'!$D32 -> 1 | W63: ='水稲R5（長野）2023'!$D32 -> 1 | X63: ='水稲R6（長野）2024'!$D32 -> 1
A64: 25000 | B64: 309 | C64: 佐久穂町 | D64: ='水稲H16（長野）2004'!D33 -> 384 | E64: ='水稲H17（長野）2005'!D33 -> 392 | F64: ='水稲H18（長野）2006'!$D33 -> 392 | G64: ='水稲H19（長野）2007'!$D33 -> 392 | H64: ='水稲H20（長野）2008'!$D33 -> 341 | I64: ='水稲H21（長野）2009'!$D33 -> 332 | J64: ='水稲H22（長野）2010'!$D33 -> 330 | K64: ='水稲H23（長野）2011'!$D33 -> 329 | L64: ='水稲H24（長野）2012'!$D33 -> 320 | M64: ='水稲H25（長野）2013'!$D33 -> 321 | N64: ='水稲H26（長野）2014'!$D33 -> 312 | O64: ='水稲H27（長野）2015'!$D33 -> 294 | P64: ='水稲H28（長野）2016'!$D33 -> 286 | Q64: ='水稲H29（長野）2017'!$D33 -> 277 | R64: ='水稲H30（長野）2018'!$D33 -> 272 | S64: ='水稲R1（長野）2019'!$D33 -> 259 | T64: ='水稲R2（長野）2020'!$D33 -> 258 | U64: ='水稲R3（長野）2021'!$D33 -> 252 | V64: ='水稲R4（長野）2022'!$D33 -> 253 | W64: ='水稲R5（長野）2023'!$D33 -> 241 | X64: ='水稲R6（長野）2024'!$D33 -> 239
A65: 26000 | B65: 321 | C65: 軽井沢町 | D65: ='水稲H16（長野）2004'!D34 -> 24 | E65: ='水稲H17（長野）2005'!D34 -> 23 | F65: ='水稲H18（長野）2006'!$D34 -> 23 | G65: ='水稲H19（長野）2007'!$D34 -> 22 | H65: ='水稲H20（長野）2008'!$D34 -> 16 | I65: ='水稲H21（長野）2009'!$D34 -> 16 | J65: ='水稲H22（長野）2010'!$D34 -> 15 | K65: ='水稲H23（長野）2011'!$D34 -> 15 | L65: ='水稲H24（長野）2012'!$D34 -> 14 | M65: ='水稲H25（長野）2013'!$D34 -> 16 | N65: ='水稲H26（長野）2014'!$D34 -> 18 | O65: ='水稲H27（長野）2015'!$D34 -> 17 | P65: ='水稲H28（長野）2016'!$D34 -> 18 | Q65: ='水稲H29（長野）2017'!$D34 -> 13 | R65: ='水稲H30（長野）2018'!$D34 -> 14 | S65: ='水稲R1（長野）2019'!$D34 -> 13 | T65: ='水稲R2（長野）2020'!$D34 -> 12 | U65: ='水稲R3（長野）2021'!$D34 -> 14 | V65: ='水稲R4（長野）2022'!$D34 -> 12 | W65: ='水稲R5（長野）2023'!$D34 -> 12 | X65: ='水稲R6（長野）2024'!$D34 -> 11
A66: 27000 | B66: 323 | C66: 御代田町 | D66: ='水稲H16（長野）2004'!D36 -> 131 | E66: ='水稲H17（長野）2005'!D35 -> 129 | F66: ='水稲H18（長野）2006'!$D35 -> 129 | G66: ='水稲H19（長野）2007'!$D35 -> 129 | H66: ='水稲H20（長野）2008'!$D35 -> 124 | I66: ='水稲H21（長野）2009'!$D35 -> 129 | J66: ='水稲H22（長野）2010'!$D35 -> 145 | K66: ='水稲H23（長野）2011'!$D35 -> 143 | L66: ='水稲H24（長野）2012'!$D35 -> 138 | M66: ='水稲H25（長野）2013'!$D35 -> 130 | N66: ='水稲H26（長野）2014'!$D35 -> 126 | O66: ='水稲H27（長野）2015'!$D35 -> 115 | P66: ='水稲H28（長野）2016'!$D35 -> 96 | Q66: ='水稲H29（長野）2017'!$D35 -> 85 | R66: ='水稲H30（長野）2018'!$D35 -> 82 | S66: ='水稲R1（長野）2019'!$D35 -> 80 | T66: ='水稲R2（長野）2020'!$D35 -> 79 | U66: ='水稲R3（長野）2021'!$D35 -> 82 | V66: ='水稲R4（長野）2022'!$D35 -> 88 | W66: ='水稲R5（長野）2023'!$D35 -> 84 | X66: ='水稲R6（長野）2024'!$D35 -> 77
A67: 28000 | B67: 324 | C67: 立科町 | D67: ='水稲H16（長野）2004'!D37 -> 470 | E67: ='水稲H17（長野）2005'!D36 -> 471 | F67: ='水稲H18（長野）2006'!$D36 -> 469 | G67: ='水稲H19（長野）2007'!$D36 -> 472 | H67: ='水稲H20（長野）2008'!$D36 -> 518 | I67: ='水稲H21（長野）2009'!$D36 -> 493 | J67: ='水稲H22（長野）2010'!$D36 -> 504 | K67: ='水稲H23（長野）2011'!$D36 -> 494 | L67: ='水稲H24（長野）2012'!$D36 -> 488 | M67: ='水稲H25（長野）2013'!$D36 -> 482 | N67: ='水稲H26（長野）2014'!$D36 -> 470 | O67: ='水稲H27（長野）2015'!$D36 -> 469 | P67: ='水稲H28（長野）2016'!$D36 -> 460 | Q67: ='水稲H29（長野）2017'!$D36 -> 456 | R67: ='水稲H30（長野）2018'!$D36 -> 450 | S67: ='水稲R1（長野）2019'!$D36 -> 453 | T67: ='水稲R2（長野）2020'!$D36 -> 454 | U67: ='水稲R3（長野）2021'!$D36 -> 448 | V67: ='水稲R4（長野）2022'!$D36 -> 446 | W67: ='水稲R5（長野）2023'!$D36 -> 441 | X67: ='水稲R6（長野）2024'!$D36 -> 439
A68: 29000 | B68: 349 | C68: 青木村 | D68: ='水稲H16（長野）2004'!D44 -> 138 | E68: ='水稲H17（長野）2005'!D37 -> 136 | F68: ='水稲H18（長野）2006'!$D37 -> 120 | G68: ='水稲H19（長野）2007'!$D37 -> 113 | H68: ='水稲H20（長野）2008'!$D37 -> 125 | I68: ='水稲H21（長野）2009'!$D37 -> 121 | J68: ='水稲H22（長野）2010'!$D37 -> 118 | K68: ='水稲H23（長野）2011'!$D37 -> 104 | L68: ='水稲H24（長野）2012'!$D37 -> 123 | M68: ='水稲H25（長野）2013'!$D37 -> 117 | N68: ='水稲H26（長野）2014'!$D37 -> 117 | O68: ='水稲H27（長野）2015'!$D37 -> 95 | P68: ='水稲H28（長野）2016'!$D37 -> 112 | Q68: ='水稲H29（長野）2017'!$D37 -> 106 | R68: ='水稲H30（長野）2018'!$D37 -> 104 | S68: ='水稲R1（長野）2019'!$D37 -> 74 | T68: ='水稲R2（長野）2020'!$D37 -> 93 | U68: ='水稲R3（長野）2021'!$D37 -> 94 | V68: ='水稲R4（長野）2022'!$D37 -> 92 | W68: ='水稲R5（長野）2023'!$D37 -> 74 | X68: ='水稲R6（長野）2024'!$D37 -> 88
A69: 30000 | B69: 350 | C69: 長和町 | E69: ='水稲H17（長野）2005'!D38 -> 276 | F69: ='水稲H18（長野）2006'!$D38 -> 276 | G69: ='水稲H19（長野）2007'!$D38 -> 276 | H69: ='水稲H20（長野）2008'!$D38 -> 265 | I69: ='水稲H21（長野）2009'!$D38 -> 260 | J69: ='水稲H22（長野）2010'!$D38 -> 259 | K69: ='水稲H23（長野）2011'!$D38 -> 251 | L69: ='水稲H24（長野）2012'!$D38 -> 252 | M69: ='水稲H25（長野）2013'!$D38 -> 257 | N69: ='水稲H26（長野）2014'!$D38 -> 255 | O69: ='水稲H27（長野）2015'!$D38 -> 241 | P69: ='水稲H28（長野）2016'!$D38 -> 237 | Q69: ='水稲H29（長野）2017'!$D38 -> 239 | R69: ='水稲H30（長野）2018'!$D38 -> 245 | S69: ='水稲R1（長野）2019'!$D38 -> 243 | T69: ='水稲R2（長野）2020'!$D38 -> 248 | U69: ='水稲R3（長野）2021'!$D38 -> 220 | V69: ='水稲R4（長野）2022'!$D38 -> 215 | W69: ='水稲R5（長野）2023'!$D38 -> 223 | X69: ='水稲R6（長野）2024'!$D38 -> 229
B70: 342 | C70: 長門町 | D70: ='水稲H16（長野）2004'!D40 -> 179
B71: 347 | C71: 和田村 | D71: ='水稲H16（長野）2004'!D43 -> 101
A72: 31000 | B72: 361 | C72: 下諏訪町 | D72: ='水稲H16（長野）2004'!D45 -> 21 | E72: ='水稲H17（長野）2005'!D39 -> 21 | F72: ='水稲H18（長野）2006'!$D39 -> 21 | G72: ='水稲H19（長野）2007'!$D39 -> 19 | H72: ='水稲H20（長野）2008'!$D39 -> 15 | I72: ='水稲H21（長野）2009'!$D39 -> 15 | J72: ='水稲H22（長野）2010'!$D39 -> 13 | K72: ='水稲H23（長野）2011'!$D39 -> 13 | L72: ='水稲H24（長野）2012'!$D39 -> 12 | M72: ='水稲H25（長野）2013'!$D39 -> 12 | N72: ='水稲H26（長野）2014'!$D39 -> 11 | O72: ='水稲H27（長野）2015'!$D39 -> 11 | P72: ='水稲H28（長野）2016'!$D39 -> 11 | Q72: ='水稲H29（長野）2017'!$D39 -> 11 | R72: ='水稲H30（長野）2018'!$D39 -> 9 | S72: ='水稲R1（長野）2019'!$D39 -> 9 | T72: ='水稲R2（長野）2020'!$D39 -> 9 | U72: ='水稲R3（長野）2021'!$D39 -> 8 | V72: ='水稲R4（長野）2022'!$D39 -> 8 | W72: ='水稲R5（長野）2023'!$D39 -> 8 | X72: ='水稲R6（長野）2024'!$D39 -> 7
A73: 32000 | B73: 362 | C73: 富士見町 | D73: ='水稲H16（長野）2004'!D46 -> 534 | E73: ='水稲H17（長野）2005'!D40 -> 475 | F73: ='水稲H18（長野）2006'!$D40 -> 450 | G73: ='水稲H19（長野）2007'!$D40 -> 454 | H73: ='水稲H20（長野）2008'!$D40 -> 459 | I73: ='水稲H21（長野）2009'!$D40 -> 467 | J73: ='水稲H22（長野）2010'!$D40 -> 469 | K73: ='水稲H23（長野）2011'!$D40 -> 456 | L73: ='水稲H24（長野）2012'!$D40 -> 451 | M73: ='水稲H25（長野）2013'!$D40 -> 449 | N73: ='水稲H26（長野）2014'!$D40 -> 436 | O73: ='水稲H27（長野）2015'!$D40 -> 432 | P73: ='水稲H28（長野）2016'!$D40 -> 412 | Q73: ='水稲H29（長野）2017'!$D40 -> 395 | R73: ='水稲H30（長野）2018'!$D40 -> 394 | S73: ='水稲R1（長野）2019'!$D40 -> 392 | T73: ='水稲R2（長野）2020'!$D40 -> 383 | U73: ='水稲R3（長野）2021'!$D40 -> 379 | V73: ='水稲R4（長野）2022'!$D40 -> 375 | W73: ='水稲R5（長野）2023'!$D40 -> 374 | X73: ='水稲R6（長野）2024'!$D40 -> 374
A74: 33000 | B74: 363 | C74: 原村 | D74: ='水稲H16（長野）2004'!D47 -> 386 | E74: ='水稲H17（長野）2005'!D41 -> 413 | F74: ='水稲H18（長野）2006'!$D41 -> 403 | G74: ='水稲H19（長野）2007'!$D41 -> 408 | H74: ='水稲H20（長野）2008'!$D41 -> 349 | I74: ='水稲H21（長野）2009'!$D41 -> 352 | J74: ='水稲H22（長野）2010'!$D41 -> 344 | K74: ='水稲H23（長野）2011'!$D41 -> 341 | L74: ='水稲H24（長野）2012'!$D41 -> 350 | M74: ='水稲H25（長野）2013'!$D41 -> 350 | N74: ='水稲H26（長野）2014'!$D41 -> 342 | O74: ='水稲H27（長野）2015'!$D41 -> 332 | P74: ='水稲H28（長野）2016'!$D41 -> 333 | Q74: ='水稲H29（長野）2017'!$D41 -> 332 | R74: ='水稲H30（長野）2018'!$D41 -> 321 | S74: ='水稲R1（長野）2019'!$D41 -> 333 | T74: ='水稲R2（長野）2020'!$D41 -> 325 | U74: ='水稲R3（長野）2021'!$D41 -> 331 | V74: ='水稲R4（長野）2022'!$D41 -> 326 | W74: ='水稲R5（長野）2023'!$D41 -> 324 | X74: ='水稲R6（長野）2024'!$D41 -> 322
A75: 34000 | B75: 382 | C75: 辰野町 | D75: ='水稲H16（長野）2004'!D49 -> 315 | E75: ='水稲H17（長野）2005'!D42 -> 317 | F75: ='水稲H18（長野）2006'!$D42 -> 311 | G75: ='水稲H19（長野）2007'!$D42 -> 303 | H75: ='水稲H20（長野）2008'!$D42 -> 296 | I75: ='水稲H21（長野）2009'!$D42 -> 297 | J75: ='水稲H22（長野）2010'!$D42 -> 293 | K75: ='水稲H23（長野）2011'!$D42 -> 294 | L75: ='水稲H24（長野）2012'!$D42 -> 295 | M75: ='水稲H25（長野）2013'!$D42 -> 300 | N75: ='水稲H26（長野）2014'!$D42 -> 306 | O75: ='水稲H27（長野）2015'!$D42 -> 292 | P75: ='水稲H28（長野）2016'!$D42 -> 283 | Q75: ='水稲H29（長野）2017'!$D42 -> 286 | R75: ='水稲H30（長野）2018'!$D42 -> 279 | S75: ='水稲R1（長野）2019'!$D42 -> 282 | T75: ='水稲R2（長野）2020'!$D42 -> 278 | U75: ='水稲R3（長野）2021'!$D42 -> 281 | V75: ='水稲R4（長野）2022'!$D42 -> 273 | W75: ='水稲R5（長野）2023'!$D42 -> 272 | X75: ='水稲R6（長野）2024'!$D42 -> 285
A76: 35000 | B76: 383 | C76: 箕輪町 | D76: ='水稲H16（長野）2004'!D50 -> 467 | E76: ='水稲H17（長野）2005'!D43 -> 465 | F76: ='水稲H18（長野）2006'!$D43 -> 452 | G76: ='水稲H19（長野）2007'!$D43 -> 451 | H76: ='水稲H20（長野）2008'!$D43 -> 411 | I76: ='水稲H21（長野）2009'!$D43 -> 410 | J76: ='水稲H22（長野）2010'!$D43 -> 420 | K76: ='水稲H23（長野）2011'!$D43 -> 391 | L76: ='水稲H24（長野）2012'!$D43 -> 388 | M76: ='水稲H25（長野）2013'!$D43 -> 386 | N76: ='水稲H26（長野）2014'!$D43 -> 381 | O76: ='水稲H27（長野）2015'!$D43 -> 351 | P76: ='水稲H28（長野）2016'!$D43 -> 355 | Q76: ='水稲H29（長野）2017'!$D43 -> 361 | R76: ='水稲H30（長野）2018'!$D43 -> 366 | S76: ='水稲R1（長野）2019'!$D43 -> 372 | T76: ='水稲R2（長野）2020'!$D43 -> 376 | U76: ='水稲R3（長野）2021'!$D43 -> 375 | V76: ='水稲R4（長野）2022'!$D43 -> 359 | W76: ='水稲R5（長野）2023'!$D43 -> 352 | X76: ='水稲R6（長野）2024'!$D43 -> 355
A77: 36000 | B77: 384 | C77: 飯島町 | D77: ='水稲H16（長野）2004'!D51 -> 536 | E77: ='水稲H17（長野）2005'!D44 -> 574 | F77: ='水稲H18（長野）2006'!$D44 -> 567 | G77: ='水稲H19（長野）2007'!$D44 -> 565 | H77: ='水稲H20（長野）2008'!$D44 -> 531 | I77: ='水稲H21（長野）2009'!$D44 -> 530 | J77: ='水稲H22（長野）2010'!$D44 -> 513 | K77: ='水稲H23（長野）2011'!$D44 -> 504 | L77: ='水稲H24（長野）2012'!$D44 -> 508 | M77: ='水稲H25（長野）2013'!$D44 -> 509 | N77: ='水稲H26（長野）2014'!$D44 -> 511 | O77: ='水稲H27（長野）2015'!$D44 -> 494 | P77: ='水稲H28（長野）2016'!$D44 -> 501 | Q77: ='水稲H29（長野）2017'!$D44 -> 502 | R77: ='水稲H30（長野）2018'!$D44 -> 506 | S77: ='水稲R1（長野）2019'!$D44 -> 507 | T77: ='水稲R2（長野）2020'!$D44 -> 506 | U77: ='水稲R3（長野）2021'!$D44 -> 500 | V77: ='水稲R4（長野）2022'!$D44 -> 483 | W77: ='水稲R5（長野）2023'!$D44 -> 475 | X77: ='水稲R6（長野）2024'!$D44 -> 471
A78: 37000 | B78: 385 | C78: 南箕輪村 | D78: ='水稲H16（長野）2004'!D52 -> 304 | E78: ='水稲H17（長野）2005'!D45 -> 302 | F78: ='水稲H18（長野）2006'!$D45 -> 299 | G78: ='水稲H19（長野）2007'!$D45 -> 299 | H78: ='水稲H20（長野）2008'!$D45 -> 314 | I78: ='水稲H21（長野）2009'!$D45 -> 315 | J78: ='水稲H22（長野）2010'!$D45 -> 310 | K78: ='水稲H23（長野）2011'!$D45 -> 306 | L78: ='水稲H24（長野）2012'!$D45 -> 305 | M78: ='水稲H25（長野）2013'!$D45 -> 304 | N78: ='水稲H26（長野）2014'!$D45 -> 297 | O78: ='水稲H27（長野）2015'!$D45 -> 294 | P78: ='水稲H28（長野）2016'!$D45 -> 291 | Q78: ='水稲H29（長野）2017'!$D45 -> 286 | R78: ='水稲H30（長野）2018'!$D45 -> 288 | S78: ='水稲R1（長野）2019'!$D45 -> 284 | T78: ='水稲R2（長野）2020'!$D45 -> 287 | U78: ='水稲R3（長野）2021'!$D45 -> 288 | V78: ='水稲R4（長野）2022'!$D45 -> 281 | W78: ='水稲R5（長野）2023'!$D45 -> 277 | X78: ='水稲R6（長野）2024'!$D45 -> 273
A79: 38000 | B79: 386 | C79: 中川村 | D79: ='水稲H16（長野）2004'!D53 -> 269 | E79: ='水稲H17（長野）2005'!D46 -> 265 | F79: ='水稲H18（長野）2006'!$D46 -> 261 | G79: ='水稲H19（長野）2007'!$D46 -> 260 | H79: ='水稲H20（長野）2008'!$D46 -> 256 | I79: ='水稲H21（長野）2009'!$D46 -> 256 | J79: ='水稲H22（長野）2010'!$D46 -> 248 | K79: ='水稲H23（長野）2011'!$D46 -> 239 | L79: ='水稲H24（長野）2012'!$D46 -> 242 | M79: ='水稲H25（長野）2013'!$D46 -> 244 | N79: ='水稲H26（長野）2014'!$D46 -> 231 | O79: ='水稲H27（長野）2015'!$D46 -> 225 | P79: ='水稲H28（長野）2016'!$D46 -> 220 | Q79: ='水稲H29（長野）2017'!$D46 -> 217 | R79: ='水稲H30（長野）2018'!$D46 -> 218 | S79: ='水稲R1（長野）2019'!$D46 -> 219 | T79: ='水稲R2（長野）2020'!$D46 -> 220 | U79: ='水稲R3（長野）2021'!$D46 -> 215 | V79: ='水稲R4（長野）2022'!$D46 -> 210 | W79: ='水稲R5（長野）2023'!$D46 -> 210 | X79: ='水稲R6（長野）2024'!$D46 -> 207
A80: 39000 | B80: 388 | C80: 宮田村 | D80: ='水稲H16（長野）2004'!D55 -> 261 | E80: ='水稲H17（長野）2005'!D47 -> 277 | F80: ='水稲H18（長野）2006'!$D47 -> 271 | G80: ='水稲H19（長野）2007'!$D47 -> 249 | H80: ='水稲H20（長野）2008'!$D47 -> 247 | I80: ='水稲H21（長野）2009'!$D47 -> 247 | J80: ='水稲H22（長野）2010'!$D47 -> 245 | K80: ='水稲H23（長野）2011'!$D47 -> 236 | L80: ='水稲H24（長野）2012'!$D47 -> 236 | M80: ='水稲H25（長野）2013'!$D47 -> 242 | N80: ='水稲H26（長野）2014'!$D47 -> 230 | O80: ='水稲H27（長野）2015'!$D47 -> 235 | P80: ='水稲H28（長野）2016'!$D47 -> 231 | Q80: ='水稲H29（長野）2017'!$D47 -> 230 | R80: ='水稲H30（長野）2018'!$D47 -> 227 | S80: ='水稲R1（長野）2019'!$D47 -> 226 | T80: ='水稲R2（長野）2020'!$D47 -> 226 | U80: ='水稲R3（長野）2021'!$D47 -> 222 | V80: ='水稲R4（長野）2022'!$D47 -> 218 | W80: ='水稲R5（長野）2023'!$D47 -> 218 | X80: ='水稲R6（長野）2024'!$D47 -> 217
A81: 40000 | B81: 402 | C81: 松川町 | D81: ='水稲H16（長野）2004'!D56 -> 192 | E81: ='水稲H17（長野）2005'!D48 -> 191 | F81: ='水稲H18（長野）2006'!$D48 -> 198 | G81: ='水稲H19（長野）2007'!$D48 -> 198 | H81: ='水稲H20（長野）2008'!$D48 -> 183 | I81: ='水稲H21（長野）2009'!$D48 -> 181 | J81: ='水稲H22（長野）2010'!$D48 -> 185 | K81: ='水稲H23（長野）2011'!$D48 -> 182 | L81: ='水稲H24（長野）2012'!$D48 -> 180 | M81: ='水稲H25（長野）2013'!$D48 -> 180 | N81: ='水稲H26（長野）2014'!$D48 -> 174 | O81: ='水稲H27（長野）2015'!$D48 -> 173 | P81: ='水稲H28（長野）2016'!$D48 -> 169 | Q81: ='水稲H29（長野）2017'!$D48 -> 165 | R81: ='水稲H30（長野）2018'!$D48 -> 166 | S81: ='水稲R1（長野）2019'!$D48 -> 164 | T81: ='水稲R2（長野）2020'!$D48 -> 161 | U81: ='水稲R3（長野）2021'!$D48 -> 156 | V81: ='水稲R4（長野）2022'!$D48 -> 156 | W81: ='水稲R5（長野）2023'!$D48 -> 154 | X81: ='水稲R6（長野）2024'!$D48 -> 149
A82: 41000 | B82: 403 | C82: 高森町 | D82: ='水稲H16（長野）2004'!D57 -> 230 | E82: ='水稲H17（長野）2005'!D49 -> 230 | F82: ='水稲H18（長野）2006'!$D49 -> 221 | G82: ='水稲H19（長野）2007'!$D49 -> 219 | H82: ='水稲H20（長野）2008'!$D49 -> 216 | I82: ='水稲H21（長野）2009'!$D49 -> 216 | J82: ='水稲H22（長野）2010'!$D49 -> 217 | K82: ='水稲H23（長野）2011'!$D49 -> 212 | L82: ='水稲H24（長野）2012'!$D49 -> 213 | M82: ='水稲H25（長野）2013'!$D49 -> 212 | N82: ='水稲H26（長野）2014'!$D49 -> 207 | O82: ='水稲H27（長野）2015'!$D49 -> 206 | P82: ='水稲H28（長野）2016'!$D49 -> 204 | Q82: ='水稲H29（長野）2017'!$D49 -> 199 | R82: ='水稲H30（長野）2018'!$D49 -> 194 | S82: ='水稲R1（長野）2019'!$D49 -> 186 | T82: ='水稲R2（長野）2020'!$D49 -> 175 | U82: ='水稲R3（長野）2021'!$D49 -> 170 | V82: ='水稲R4（長野）2022'!$D49 -> 169 | W82: ='水稲R5（長野）2023'!$D49 -> 163 | X82: ='水稲R6（長野）2024'!$D49 -> 154
A83: 42000 | B83: 404 | C83: 阿南町 | D83: ='水稲H16（長野）2004'!D58 -> 184 | E83: ='水稲H17（長野）2005'!D50 -> 184 | F83: ='水稲H18（長野）2006'!$D50 -> 174 | G83: ='水稲H19（長野）2007'!$D50 -> 171 | H83: ='水稲H20（長野）2008'!$D50 -> 169 | I83: ='水稲H21（長野）2009'!$D50 -> 168 | J83: ='水稲H22（長野）2010'!$D50 -> 168 | K83: ='水稲H23（長野）2011'!$D50 -> 163 | L83: ='水稲H24（長野）2012'!$D50 -> 162 | M83: ='水稲H25（長野）2013'!$D50 -> 162 | N83: ='水稲H26（長野）2014'!$D50 -> 157 | O83: ='水稲H27（長野）2015'!$D50 -> 150 | P83: ='水稲H28（長野）2016'!$D50 -> 141 | Q83: ='水稲H29（長野）2017'!$D50 -> 136 | R83: ='水稲H30（長野）2018'!$D50 -> 134 | S83: ='水稲R1（長野）2019'!$D50 -> 130 | T83: ='水稲R2（長野）2020'!$D50 -> 124 | U83: ='水稲R3（長野）2021'!$D50 -> 140 | V83: ='水稲R4（長野）2022'!$D50 -> 127 | W83: ='水稲R5（長野）2023'!$D50 -> 122 | X83: ='水稲R6（長野）2024'!$D50 -> 119
A84: 43000 | B84: 407 | C84: 阿智村 | I84: ='水稲H21（長野）2009'!D51 -> 153 | J84: ='水稲H22（長野）2010'!$D51 -> 155 | K84: ='水稲H23（長野）2011'!$D51 -> 156 | L84: ='水稲H24（長野）2012'!$D51 -> 158 | M84: ='水稲H25（長野）2013'!$D51 -> 158 | N84: ='水稲H26（長野）2014'!$D51 -> 152 | O84: ='水稲H27（長野）2015'!$D51 -> 145 | P84: ='水稲H28（長野）2016'!$D51 -> 143 | Q84: ='水稲H29（長野）2017'!$D51 -> 137 | R84: ='水稲H30（長野）2018'!$D51 -> 133 | S84: ='水稲R1（長野）2019'!$D51 -> 127 | T84: ='水稲R2（長野）2020'!$D51 -> 123 | U84: ='水稲R3（長野）2021'!$D51 -> 120 | V84: ='水稲R4（長野）2022'!$D51 -> 118 | W84: ='水稲R5（長野）2023'!$D51 -> 115 | X84: ='水稲R6（長野）2024'!$D51 -> 113
B85: 407 | C85: 阿智村 | E85: ='水稲H17（長野）2005'!D52 -> 170 | F85: ='水稲H18（長野）2006'!D52 -> 171 | G85: ='水稲H19（長野）2007'!D52 -> 170 | H85: ='水稲H20（長野）2008'!D52 -> 155
B86: 407 | C86: 阿智村 | D86: ='水稲H16（長野）2004'!D60 -> 166
B87: 408 | C87: 浪合村 | D87: ='水稲H16（長野）2004'!D61 -> 5
B88: 406 | C88: 清内路村 | D88: ='水稲H16（長野）2004'!D59 -> 2 | E88: ='水稲H17（長野）2005'!D51 -> 2 | F88: ='水稲H18（長野）2006'!D51 -> 2 | G88: ='水稲H19（長野）2007'!D51 -> 1 | H88: ='水稲H20（長野）2008'!D51 -> 1
A89: 44000 | B89: 409 | C89: 平谷村 | D89: ='水稲H16（長野）2004'!D62 -> 4 | E89: ='水稲H17（長野）2005'!D53 -> 4 | F89: ='水稲H18（長野）2006'!$D53 -> 4 | G89: ='水稲H19（長野）2007'!$D53 -> 3 | H89: ='水稲H20（長野）2008'!$D53 -> 2 | I89: ='水稲H21（長野）2009'!D52 -> 2 | J89: ='水稲H22（長野）2010'!$D52 -> 2 | K89: ='水稲H23（長野）2011'!$D52 -> 2 | L89: ='水稲H24（長野）2012'!$D52 -> 2 | M89: ='水稲H25（長野）2013'!$D52 -> 2 | N89: ='水稲H26（長野）2014'!$D52 -> 2 | O89: ='水稲H27（長野）2015'!$D52 -> 2 | P89: ='水稲H28（長野）2016'!$D52 -> 2 | Q89: ='水稲H29（長野）2017'!$D52 -> 2 | R89: ='水稲H30（長野）2018'!$D52 -> 2 | S89: ='水稲R1（長野）2019'!$D52 -> 2 | T89: ='水稲R2（長野）2020'!$D52 -> 2 | U89: ='水稲R3（長野）2021'!$D52 -> 2 | V89: ='水稲R4（長野）2022'!$D52 -> 2 | W89: ='水稲R5（長野）2023'!$D52 -> 2 | X89: ='水稲R6（長野）2024'!$D52 -> 2
A90: 45000 | B90: 410 | C90: 根羽村 | D90: ='水稲H16（長野）2004'!D63 -> 36 | E90: ='水稲H17（長野）2005'!D54 -> 35 | F90: ='水稲H18（長野）2006'!$D54 -> 32 | G90: ='水稲H19（長野）2007'!$D54 -> 32 | H90: ='水稲H20（長野）2008'!$D54 -> 25 | I90: ='水稲H21（長野）2009'!D53 -> 24 | J90: ='水稲H22（長野）2010'!$D53 -> 24 | K90: ='水稲H23（長野）2011'!$D53 -> 24 | L90: ='水稲H24（長野）2012'!$D53 -> 24 | M90: ='水稲H25（長野）2013'!$D53 -> 23 | N90: ='水稲H26（長野）2014'!$D53 -> 23 | O90: ='水稲H27（長野）2015'!$D53 -> 21 | P90: ='水稲H28（長野）2016'!$D53 -> 23 | Q90: ='水稲H29（長野）2017'!$D53 -> 22 | R90: ='水稲H30（長野）2018'!$D53 -> 20 | S90: ='水稲R1（長野）2019'!$D53 -> 20 | T90: ='水稲R2（長野）2020'!$D53 -> 20 | U90: ='水稲R3（長野）2021'!$D53 -> 20 | V90: ='水稲R4（長野）2022'!$D53 -> 20 | W90: ='水稲R5（長野）2023'!$D53 -> 20 | X90: ='水稲R6（長野）2024'!$D53 -> 20
A91: 46000 | B91: 411 | C91: 下條村 | D91: ='水稲H16（長野）2004'!D64 -> 125 | E91: ='水稲H17（長野）2005'!D55 -> 125 | F91: ='水稲H18（長野）2006'!$D55 -> 128 | G91: ='水稲H19（長野）2007'!$D55 -> 125 | H91: ='水稲H20（長野）2008'!$D55 -> 111 | I91: ='水稲H21（長野）2009'!D54 -> 114 | J91: ='水稲H22（長野）2010'!$D54 -> 115 | K91: ='水稲H23（長野）2011'!$D54 -> 115 | L91: ='水稲H24（長野）2012'!$D54 -> 115 | M91: ='水稲H25（長野）2013'!$D54 -> 116 | N91: ='水稲H26（長野）2014'!$D54 -> 112 | O91: ='水稲H27（長野）2015'!$D54 -> 110 | P91: ='水稲H28（長野）2016'!$D54 -> 107 | Q91: ='水稲H29（長野）2017'!$D54 -> 103 | R91: ='水稲H30（長野）2018'!$D54 -> 100 | S91: ='水稲R1（長野）2019'!$D54 -> 98 | T91: ='水稲R2（長野）2020'!$D54 -> 95 | U91: ='水稲R3（長野）2021'!$D54 -> 93 | V91: ='水稲R4（長野）2022'!$D54 -> 92 | W91: ='水稲R5（長野）2023'!$D54 -> 90 | X91: ='水稲R6（長野）2024'!$D54 -> 90
A92: 47000 | B92: 412 | C92: 売木村 | D92: ='水稲H16（長野）2004'!D65 -> 46 | E92: ='水稲H17（長野）2005'!D56 -> 45 | F92: ='水稲H18（長野）2006'!$D56 -> 44 | G92: ='水稲H19（長野）2007'!$D56 -> 44 | H92: ='水稲H20（長野）2008'!$D56 -> 39 | I92: ='水稲H21（長野）2009'!D55 -> 39 | J92: ='水稲H22（長野）2010'!$D55 -> 39 | K92: ='水稲H23（長野）2011'!$D55 -> 38 | L92: ='水稲H24（長野）2012'!$D55 -> 38 | M92: ='水稲H25（長野）2013'!$D55 -> 38 | N92: ='水稲H26（長野）2014'!$D55 -> 35 | O92: ='水稲H27（長野）2015'!$D55 -> 34 | P92: ='水稲H28（長野）2016'!$D55 -> 33 | Q92: ='水稲H29（長野）2017'!$D55 -> 32 | R92: ='水稲H30（長野）2018'!$D55 -> 32 | S92: ='水稲R1（長野）2019'!$D55 -> 31 | T92: ='水稲R2（長野）2020'!$D55 -> 30 | U92: ='水稲R3（長野）2021'!$D55 -> 27 | V92: ='水稲R4（長野）2022'!$D55 -> 28 | W92: ='水稲R5（長野）2023'!$D55 -> 26 | X92: ='水稲R6（長野）2024'!$D55 -> 24
A93: 48000 | B93: 413 | C93: 天龍村 | D93: ='水稲H16（長野）2004'!D66 -> 21 | E93: ='水稲H17（長野）2005'!D57 -> 20 | F93: ='水稲H18（長野）2006'!$D57 -> 20 | G93: ='水稲H19（長野）2007'!$D57 -> 16 | H93: ='水稲H20（長野）2008'!$D57 -> 13 | I93: ='水稲H21（長野）2009'!D56 -> 12 | J93: ='水稲H22（長野）2010'!$D56 -> 13 | K93: ='水稲H23（長野）2011'!$D56 -> 12 | L93: ='水稲H24（長野）2012'!$D56 -> 12 | M93: ='水稲H25（長野）2013'!$D56 -> 11 | N93: ='水稲H26（長野）2014'!$D56 -> 11 | O93: ='水稲H27（長野）2015'!$D56 -> 9 | P93: ='水稲H28（長野）2016'!$D56 -> 9 | Q93: ='水稲H29（長野）2017'!$D56 -> 9 | R93: ='水稲H30（長野）2018'!$D56 -> 9 | S93: ='水稲R1（長野）2019'!$D56 -> 7 | T93: ='水稲R2（長野）2020'!$D56 -> 8 | U93: ='水稲R3（長野）2021'!$D56 -> 8 | V93: ='水稲R4（長野）2022'!$D56 -> 8 | W93: ='水稲R5（長野）2023'!$D56 -> 9 | X93: ='水稲R6（長野）2024'!$D56 -> 9
A94: 49000 | B94: 414 | C94: 泰阜村 | D94: ='水稲H16（長野）2004'!D67 -> 52 | E94: ='水稲H17（長野）2005'!D58 -> 52 | F94: ='水稲H18（長野）2006'!$D58 -> 50 | G94: ='水稲H19（長野）2007'!$D58 -> 49 | H94: ='水稲H20（長野）2008'!$D58 -> 41 | I94: ='水稲H21（長野）2009'!D57 -> 41 | J94: ='水稲H22（長野）2010'!$D57 -> 42 | K94: ='水稲H23（長野）2011'!$D57 -> 44 | L94: ='水稲H24（長野）2012'!$D57 -> 44 | M94: ='水稲H25（長野）2013'!$D57 -> 44 | N94: ='水稲H26（長野）2014'!$D57 -> 44 | O94: ='水稲H27（長野）2015'!$D57 -> 43 | P94: ='水稲H28（長野）2016'!$D57 -> 41 | Q94: ='水稲H29（長野）2017'!$D57 -> 42 | R94: ='水稲H30（長野）2018'!$D57 -> 41 | S94: ='水稲R1（長野）2019'!$D57 -> 40 | T94: ='水稲R2（長野）2020'!$D57 -> 39 | U94: ='水稲R3（長野）2021'!$D57 -> 39 | V94: ='水稲R4（長野）2022'!$D57 -> 39 | W94: ='水稲R5（長野）2023'!$D57 -> 38 | X94: ='水稲R6（長野）2024'!$D57 -> 34
A95: 50000 | B95: 415 | C95: 喬木村 | D95: ='水稲H16（長野）2004'!D68 -> 131 | E95: ='水稲H17（長野）2005'!D59 -> 130 | F95: ='水稲H18（長野）2006'!$D59 -> 127 | G95: ='水稲H19（長野）2007'!$D59 -> 127 | H95: ='水稲H20（長野）2008'!$D59 -> 128 | I95: ='水稲H21（長野）2009'!D58 -> 125 | J95: ='水稲H22（長野）2010'!$D58 -> 126 | K95: ='水稲H23（長野）2011'!$D58 -> 125 | L95: ='水稲H24（長野）2012'!$D58 -> 126 | M95: ='水稲H25（長野）2013'!$D58 -> 125 | N95: ='水稲H26（長野）2014'!$D58 -> 120 | O95: ='水稲H27（長野）2015'!$D58 -> 115 | P95: ='水稲H28（長野）2016'!$D58 -> 113 | Q95: ='水稲H29（長野）2017'!$D58 -> 111 | R95: ='水稲H30（長野）2018'!$D58 -> 106 | S95: ='水稲R1（長野）2019'!$D58 -> 101 | T95: ='水稲R2（長野）2020'!$D58 -> 100 | U95: ='水稲R3（長野）2021'!$D58 -> 94 | V95: ='水稲R4（長野）2022'!$D58 -> 90 | W95: ='水稲R5（長野）2023'!$D58 -> 90 | X95: ='水稲R6（長野）2024'!$D58 -> 88
A96: 51000 | B96: 416 | C96: 豊丘村 | D96: ='水稲H16（長野）2004'!D69 -> 153 | E96: ='水稲H17（長野）2005'!D60 -> 153 | F96: ='水稲H18（長野）2006'!$D60 -> 150 | G96: ='水稲H19（長野）2007'!$D60 -> 149 | H96: ='水稲H20（長野）2008'!$D60 -> 143 | I96: ='水稲H21（長野）2009'!D59 -> 147 | J96: ='水稲H22（長野）2010'!$D59 -> 147 | K96: ='水稲H23（長野）2011'!$D59 -> 143 | L96: ='水稲H24（長野）2012'!$D59 -> 140 | M96: ='水稲H25（長野）2013'!$D59 -> 138 | N96: ='水稲H26（長野）2014'!$D59 -> 135 | O96: ='水稲H27（長野）2015'!$D59 -> 128 | P96: ='水稲H28（長野）2016'!$D59 -> 121 | Q96: ='水稲H29（長野）2017'!$D59 -> 120 | R96: ='水稲H30（長野）2018'!$D59 -> 116 | S96: ='水稲R1（長野）2019'!$D59 -> 114 | T96: ='水稲R2（長野）2020'!$D59 -> 113 | U96: ='水稲R3（長野）2021'!$D59 -> 108 | V96: ='水稲R4（長野）2022'!$D59 -> 105 | W96: ='水稲R5（長野）2023'!$D59 -> 103 | X96: ='水稲R6（長野）2024'!$D59 -> 103
A97: 52000 | B97: 417 | C97: 大鹿村 | D97: ='水稲H16（長野）2004'!D70 -> 43 | E97: ='水稲H17（長野）2005'!D61 -> 42 | F97: ='水稲H18（長野）2006'!$D61 -> 40 | G97: ='水稲H19（長野）2007'!$D61 -> 40 | H97: ='水稲H20（長野）2008'!$D61 -> 38 | I97: ='水稲H21（長野）2009'!D60 -> 39 | J97: ='水稲H22（長野）2010'!$D60 -> 39 | K97: ='水稲H23（長野）2011'!$D60 -> 39 | L97: ='水稲H24（長野）2012'!$D60 -> 39 | M97: ='水稲H25（長野）2013'!$D60 -> 38 | N97: ='水稲H26（長野）2014'!$D60 -> 37 | O97: ='水稲H27（長野）2015'!$D60 -> 33 | P97: ='水稲H28（長野）2016'!$D60 -> 32 | Q97: ='水稲H29（長野）2017'!$D60 -> 32 | R97: ='水稲H30（長野）2018'!$D60 -> 31 | S97: ='水稲R1（長野）2019'!$D60 -> 30 | T97: ='水稲R2（長野）2020'!$D60 -> 30 | U97: ='水稲R3（長野）2021'!$D60 -> 30 | V97: ='水稲R4（長野）2022'!$D60 -> 29 | W97: ='水稲R5（長野）2023'!$D60 -> 29 | X97: ='水稲R6（長野）2024'!$D60 -> 29
A98: 53000 | B98: 422 | C98: 上松町 | D98: ='水稲H16（長野）2004'!D74 -> 52 | E98: ='水稲H17（長野）2005'!D62 -> 54 | F98: ='水稲H18（長野）2006'!$D62 -> 57 | G98: ='水稲H19（長野）2007'!$D62 -> 55 | H98: ='水稲H20（長野）2008'!$D62 -> 50 | I98: ='水稲H21（長野）2009'!D61 -> 51 | J98: ='水稲H22（長野）2010'!$D61 -> 56 | K98: ='水稲H23（長野）2011'!$D61 -> 43 | L98: ='水稲H24（長野）2012'!$D61 -> 52 | M98: ='水稲H25（長野）2013'!$D61 -> 52 | N98: ='水稲H26（長野）2014'!$D61 -> 52 | O98: ='水稲H27（長野）2015'!$D61 -> 52 | P98: ='水稲H28（長野）2016'!$D61 -> 48 | Q98: ='水稲H29（長野）2017'!$D61 -> 48 | R98: ='水稲H30（長野）2018'!$D61 -> 50 | S98: ='水稲R1（長野）2019'!$D61 -> 50 | T98: ='水稲R2（長野）2020'!$D61 -> 50 | U98: ='水稲R3（長野）2021'!$D61 -> 50 | V98: ='水稲R4（長野）2022'!$D61 -> 45 | W98: ='水稲R5（長野）2023'!$D61 -> 43 | X98: ='水稲R6（長野）2024'!$D61 -> 43
A99: 54000 | B99: 423 | C99: 南木曽町 | D99: ='水稲H16（長野）2004'!D75 -> 105 | E99: ='水稲H17（長野）2005'!D63 -> 105 | F99: ='水稲H18（長野）2006'!$D63 -> 105 | G99: ='水稲H19（長野）2007'!$D63 -> 105 | H99: ='水稲H20（長野）2008'!$D63 -> 99 | I99: ='水稲H21（長野）2009'!D62 -> 98 | J99: ='水稲H22（長野）2010'!$D62 -> 96 | K99: ='水稲H23（長野）2011'!$D62 -> 98 | L99: ='水稲H24（長野）2012'!$D62 -> 93 | M99: ='水稲H25（長野）2013'!$D62 -> 92 | N99: ='水稲H26（長野）2014'!$D62 -> 97 | O99: ='水稲H27（長野）2015'!$D62 -> 95 | P99: ='水稲H28（長野）2016'!$D62 -> 92 | Q99: ='水稲H29（長野）2017'!$D62 -> 90 | R99: ='水稲H30（長野）2018'!$D62 -> 88 | S99: ='水稲R1（長野）2019'!$D62 -> 87 | T99: ='水稲R2（長野）2020'!$D62 -> 88 | U99: ='水稲R3（長野）2021'!$D62 -> 87 | V99: ='水稲R4（長野）2022'!$D62 -> 83 | W99: ='水稲R5（長野）2023'!$D62 -> 81 | X99: ='水稲R6（長野）2024'!$D62 -> 80
A100: 55000 | B100: 425 | C100: 木祖村 | D100: ='水稲H16（長野）2004'!D77 -> 35 | E100: ='水稲H17（長野）2005'!D64 -> 35 | F100: ='水稲H18（長野）2006'!$D64 -> 34 | G100: ='水稲H19（長野）2007'!$D64 -> 32 | H100: ='水稲H20（長野）2008'!$D64 -> 27 | I100: ='水稲H21（長野）2009'!D63 -> 24 | J100: ='水稲H22（長野）2010'!$D63 -> 24 | K100: ='水稲H23（長野）2011'!$D63 -> 24 | L100: ='水稲H24（長野）2012'!$D63 -> 24 | M100: ='水稲H25（長野）2013'!$D63 -> 24 | N100: ='水稲H26（長野）2014'!$D63 -> 21 | O100: ='水稲H27（長野）2015'!$D63 -> 21 | P100: ='水稲H28（長野）2016'!$D63 -> 18 | Q100: ='水稲H29（長野）2017'!$D63 -> 17 | R100: ='水稲H30（長野）2018'!$D63 -> 16 | S100: ='水稲R1（長野）2019'!$D63 -> 11 | T100: ='水稲R2（長野）2020'!$D63 -> 17 | U100: ='水稲R3（長野）2021'!$D63 -> 12 | V100: ='水稲R4（長野）2022'!$D63 -> 13 | W100: ='水稲R5（長野）2023'!$D63 -> 11 | X100: ='水稲R6（長野）2024'!$D63 -> 11
...

Sheet 水稲面積 (長野)2010～
A1: データ水稲面積 | D1: 2010 | E1: 2011 | F1: 2012 | G1: 2013 | H1: 2014 | I1: 2015 | J1: 2016 | K1: 2017 | L1: 2018 | M1: 2019 | N1: 2020 | O1: 2021 | P1: 2022 | Q1: 2023 | R1: 2024
A2: 1000 | B2: 201 | C2: 長野市 | D2: 1840 | E2: 1820 | F2: 1830 | G2: 1800 | H2: 1750 | I2: 1670 | J2: 1650 | K2: 1600 | L2: 1550 | M2: 1510 | N2: 1510 | O2: 1480 | P2: 1470 | Q2: 1440 | R2: 1410
A3: 2000 | B3: 202 | C3: 松本市 | D3: 2880 | E3: 2880 | F3: 2830 | G3: 2860 | H3: 2800 | I3: 2780 | J3: 2750 | K3: 2720 | L3: 2690 | M3: 2700 | N3: 2690 | O3: 2690 | P3: 2630 | Q3: 2590 | R3: 2600
A4: 3000 | B4: 203 | C4: 上田市 | D4: 1740 | E4: 1720 | F4: 1760 | G4: 1750 | H4: 1740 | I4: 1690 | J4: 1670 | K4: 1650 | L4: 1650 | M4: 1650 | N4: 1630 | O4: 1620 | P4: 1580 | Q4: 1640 | R4: 1560
A5: 4000 | B5: 204 | C5: 岡谷市 | D5: 53 | E5: 53 | F5: 54 | G5: 54 | H5: 53 | I5: 50 | J5: 49 | K5: 43 | L5: 42 | M5: 40 | N5: 39 | O5: 37 | P5: 35 | Q5: 40 | R5: 36
A6: 5000 | B6: 205 | C6: 飯田市 | D6: 837 | E6: 827 | F6: 826 | G6: 821 | H6: 793 | I6: 772 | J6: 745 | K6: 728 | L6: 707 | M6: 680 | N6: 665 | O6: 649 | P6: 643 | Q6: 628 | R6: 584
A7: 6000 | B7: 206 | C7: 諏訪市 | D7: 382 | E7: 382 | F7: 380 | G7: 380 | H7: 374 | I7: 372 | J7: 367 | K7: 366 | L7: 366 | M7: 359 | N7: 357 | O7: 353 | P7: 351 | Q7: 341 | R7: 343
A8: 7000 | B8: 207 | C8: 須坂市 | D8: 212 | E8: 211 | F8: 211 | G8: 208 | H8: 199 | I8: 189 | J8: 185 | K8: 183 | L8: 175 | M8: 174 | N8: 175 | O8: 175 | P8: 157 | Q8: 156 | R8: 149
A9: 8000 | B9: 208 | C9: 小諸市 | D9: 610 | E9: 603 | F9: 610 | G9: 604 | H9: 603 | I9: 585 | J9: 585 | K9: 585 | L9: 607 | M9: 583 | N9: 577 | O9: 571 | P9: 560 | Q9: 551 | R9: 541
A10: 9000 | B10: 209 | C10: 伊那市 | D10: 1990 | E10: 1950 | F10: 1960 | G10: 1990 | H10: 1980 | I10: 1950 | J10: 1920 | K10: 1950 | L10: 1950 | M10: 1960 | N10: 1960 | O10: 1960 | P10: 1880 | Q10: 1860 | R10: 1840
A11: 10000 | B11: 210 | C11: 駒ヶ根市 | D11: 829 | E11: 819 | F11: 813 | G11: 815 | H11: 813 | I11: 808 | J11: 785 | K11: 783 | L11: 779 | M11: 767 | N11: 769 | O11: 764 | P11: 746 | Q11: 738 | R11: 732
A12: 11000 | B12: 211 | C12: 中野市 | D12: 469 | E12: 469 | F12: 476 | G12: 478 | H12: 470 | I12: 464 | J12: 456 | K12: 451 | L12: 451 | M12: 451 | N12: 456 | O12: 445 | P12: 429 | Q12: 419 | R12: 412
A13: 12000 | B13: 212 | C13: 大町市 | D13: 1520 | E13: 1500 | F13: 1490 | G13: 1510 | H13: 1520 | I13: 1500 | J13: 1480 | K13: 1460 | L13: 1450 | M13: 1460 | N13: 1450 | O13: 1430 | P13: 1410 | Q13: 1400 | R13: 1410
... A21: 20000 | B21: 303 | C21: 小海町 | D21: 59 | E21: 60 | F21: 59 | G21: 59 | H21: 55 | I21: 51 | J21: 50 | K21: 49 | L21: 48 | M21: 32 | N21: 32 | O21: 30 | P21: 29 | Q21: 28 | R21: 23
A22: 21000 | B22: 304 | C22: 川上村 | D22: - | E22: - | F22: - | G22: - | H22: - | I22: - | J22: - | K22: - | L22: - | M22: - | N22: - | O22: - | P22: - | Q22: - | R22: -
A23: 22000 | B23: 305 | C23: 南牧村 | D23: 16 | E23: 15 | F23: 14 | G23: 14 | H23: 14 | I23: 14 | J23: 13 | K23: 12 | L23: 12 | M23: 12 | N23: 12 | O23: 12 | P23: 12 | Q23: 12 | R23: 12
A24: 23000 | B24: 306 | C24: 南相木村 | D24: 2 | E24: 1 | F24: 1 | G24: 1 | H24: 1 | I24: 1 | J24: 1 | K24: 1 | L24: 1 | M24: 1 | N24: 1 | O24: 1 | P24: 1 | Q24: 0 | R24: 0
A25: 24000 | B25: 307 | C25: 北相木村 | D25: 3 | E25: 2 | F25: 2 | G25: 2 | H25: 2 | I25: 2 | J25: 2 | K25: 2 | L25: 1 | M25: 1 | N25: 1 | O25: 1 | P25: 1 | Q25: 1 | R25: 1
A26: 25000 | B26: 309 | C26: 佐久穂町 | D26: 330 | E26: 329 | F26: 320 | G26: 321 | H26: 312 | I26: 294 | J26: 286 | K26: 277 | L26: 272 | M26: 259 | N26: 258 | O26: 252 | P26: 253 | Q26: 241 | R26: 239
A27: 26000 | B27: 321 | C27: 軽井沢町 | D27: 15 | E27: 15 | F27: 14 | G27: 16 | H27: 18 | I27: 17 | J27: 18 | K27: 13 | L27: 14 | M27: 13 | N27: 12 | O27: 14 | P27: 12 | Q27: 12 | R27: 11
A28: 27000 | B28: 323 | C28: 御代田町 | D28: 145 | E28: 143 | F28: 138 | G28: 130 | H28: 126 | I28: 115 | J28: 96 | K28: 85 | L28: 82 | M28: 80 | N28: 79 | O28: 82 | P28: 88 | Q28: 84 | R28: 77
A29: 28000 | B29: 324 | C29: 立科町 | D29: 504 | E29: 494 | F29: 488 | G29: 482 | H29: 470 | I29: 469 | J29: 460 | K29: 456 | L29: 450 | M29: 453 | N29: 454 | O29: 448 | P29: 446 | Q29: 441 | R29: 439
A30: 29000 | B30: 349 | C30: 青木村 | D30: 118 | E30: 104 | F30: 123 | G30: 117 | H30: 117 | I30: 95 | J30: 112 | K30: 106 | L30: 104 | M30: 74 | N30: 93 | O30: 94 | P30: 92 | Q30: 74 | R30: 88
A31: 30000 | B31: 350 | C31: 長和町 | D31: 259 | E31: 251 | F31: 252 | G31: 257 | H31: 255 | I31: 241 | J31: 237 | K31: 239 | L31: 245 | M31: 243 | N31: 248 | O31: 220 | P31: 215 | Q31: 223 | R31: 229
A32: 31000 | B32: 361 | C32: 下諏訪町 | D32: 13 | E32: 13 | F32: 12 | G32: 12 | H32: 11 | I32: 11 | J32: 11 | K32: 11 | L32: 9 | M32: 9 | N32: 9 | O32: 8 | P32: 8 | Q32: 8 | R32: 7
A33: 32000 | B33: 362 | C33: 富士見町 | D33: 469 | E33: 456 | F33: 451 | G33: 449 | H33: 436 | I33: 432 | J33: 412 | K33: 395 | L33: 394 | M33: 392 | N33: 383 | O33: 379 | P33: 375 | Q33: 374 | R33: 374
A34: 33000 | B34: 363 | C34: 原村 | D34: 344 | E34: 341 | F34: 350 | G34: 350 | H34: 342 | I34: 332 | J34: 333 | K34: 332 | L34: 321 | M34: 333 | N34: 325 | O34: 331 | P34: 326 | Q34: 324 | R34: 322
... A78: 77000 | B78: 602 | C78: 栄村 | D78: 228 | E78: 181 | F78: 208 | G78: 221 | H78: 219 | I78: 218 | J78: 208 | K78: 201 | L78: 199 | M78: 199 | N78: 199 | O78: 195 | P78: 196 | Q78: 194 | R78: 194
C79: 長野県 | D79: 34600 | E79: 34200 | F79: 34200 | G79: 34400 | H79: 33900 | I79: 33200 | J79: 32700 | K79: 32300 | L79: 32200 | M79: 32000 | N79: 31800 | O79: 31500 | P79: 30800 | Q79: 30600 | R79: 30300
D85: 2010 | E85: 2011 | F85: 2012 | G85: 2013 | H85: 2014 | I85: 2015 | J85: 2016 | K85: 2017 | L85: 2018 | M85: 2019 | N85: 2020 | O85: 2021 | P85: 2022 | Q85: 2023 | R85: 2024
C86: 長野市 | D86: =_xlfn.XLOOKUP($C$86,$C$2:$C$79,D$2:D$79) -> 1840 | E86: =_xlfn.XLOOKUP($C$86,$C$2:$C$79,E$2:E$79) -> 1820 | F86: =_xlfn.XLOOKUP($C$86,$C$2:$C$79,F$2:F$79) -> 1830 | G86: =_xlfn.XLOOKUP($C$86,$C$2:$C$79,G$2:G$79) -> 1800 | H86: =_xlfn.XLOOKUP($C$86,$C$2:$C$79,H$2:H$79) -> 1750 | I86: =_xlfn.XLOOKUP($C$86,$C$2:$C$79,I$2:I$79) -> 1670 | J86: =_xlfn.XLOOKUP($C$86,$C$2:$C$79,J$2:J$79) -> 1650 | K86: =_xlfn.XLOOKUP($C$86,$C$2:$C$79,K$2:K$79) -> 1600 | ... R86: =_xlfn.XLOOKUP($C$86,$C$2:$C$79,R$2:R$79) -> 1410

Sheet グラフ水稲面積2010～（長野）
D1: ↓こちらのタブからご覧になりたい市町村を選択してください。
D2: 小諸市
B3: (ha） | R3: 県計(ha)
N23: 出典：農林水産省「作況調査（稲）」
R24: =B3 -> (ha）
C25: 年産 | D25: 2010 | E25: 2011 | F25: 2012 | G25: 2013 | H25: 2014 | I25: 2015 | J25: 2016 | K25: 2017 | L25: 2018 | M25: 2019 | N25: 2020 | O25: 2021 | P25: 2022 | Q25: 2023 | R25: 2024
C26: =D2 -> 小諸市 | D26: =_xlfn.XLOOKUP($D$2,'水稲面積 (長野)2010～'!$C$2:$C$79,'水稲面積 (長野)2010～'!D$2:D$79) -> 610 | E26: =_xlfn.XLOOKUP($D$2,'水稲面積 (長野)2010～'!$C$2:$C$79,'水稲面積 (長野)2010～'!E$2:E$79) -> 603 | F26: =_xlfn.XLOOKUP($D$2,'水稲面積 (長野)2010～'!$C$2:$C$79,'水稲面積 (長野)2010～'!F$2:F$79) -> 610 | G26: =_xlfn.XLOOKUP($D$2,'水稲面積 (長野)2010～'!$C$2:$C$79,'水稲面積 (長野)2010～'!G$2:G$79) -> 604 | H26: =_xlfn.XLOOKUP($D$2,'水稲面積 (長野)2010～'!$C$2:$C$79,'水稲面積 (長野)2010～'!H$2:H$79) -> 603 | I26: =_xlfn.XLOOKUP($D$2,'水稲面積 (長野)2010～'!$C$2:$C$79,'水稲面積 (長野)2010～'!I$2:I$79) -> 585 | J26: =_xlfn.XLOOKUP($D$2,'水稲面積 (長野)2010～'!$C$2:$C$79,'水稲面積 (長野)2010～'!J$2:J$79) -> 585 | K26: =_xlfn.XLOOKUP($D$2,'水稲面積 (長野)2010～'!$C$2:$C$79,'水稲面積 (長野)2010～'!K$2:K$79) -> 585 | ... R26: =_xlfn.XLOOKUP($D$2,'水稲面積 (長野)2010～'!$C$2:$C$79,'水稲面積 (長野)2010～'!R$2:R$79) -> 541
C27: 県計 | D27: 34600 | E27: 34200 | F27: 34200 | G27: 34400 | H27: 33900 | I27: 33200 | J27: 32700 | K27: 32300 | L27: 32200 | M27: 32000 | N27: 31800 | O27: 31500 | P27: 30800 | Q27: 30600 | R27: 30300

Sheet データ10a当たり収量2004（長野）2004～
A1: データ10a当たり収量 | D1: 2004 | E1: 2005 | F1: 2006 | G1: 2007 | H1: 2008 | I1: 2009 | J1: 2010 | K1: 2011 | L1: 2012 | M1: 2013 | N1: 2014 | O1: 2015 | P1: 2016 | Q1: 2017 | R1: 2018 | S1: 2019 | T1: 2020 | U1: 2021 | V1: 2022 | W1: 2023 | X1: 2024
J2: 111200 | K2: 111000 | L2: 110900 | M2: 110400 | N2: 109900 | O2: 108900 | P2: 108000 | Q2: 107300 | R2: 106700 | S2: 106100 | T2: 105300 | U2: 105200 | V2: 104800 | W2: 104400 | X2: 103800
D3: =SUM(D4:D131) -> 66113 | E3: =SUM(E4:E131) -> 49211 | F3: =SUM(F4:F131) -> 46223 | G3: =SUM(G4:G131) -> 46973 | H3: =SUM(H4:H131) -> 48140 | I3: =SUM(I4:I131) -> 44501 | J3: =SUM(J4:J131) -> 44829 | K3: =SUM(K4:K131) -> 44460 | ... X3: =SUM(X4:X131) -> 44623
A4: 1000 | B4: 201 | C4: 長野市 | J4: ='水稲H22（長野）2010'!$E9 -> 547 | K4: ='水稲H23（長野）2011'!$E9 -> 529 | L4: ='水稲H24（長野）2012'!$E9 -> 563 | M4: ='水稲H25（長野）2013'!$E9 -> 603 | N4: ='水稲H26（長野）2014'!$E9 -> 554 | O4: ='水稲H27（長野）2015'!$E9 -> 545 | P4: ='水稲H28（長野）2016'!$E9 -> 591 | Q4: ='水稲H29（長野）2017'!$E9 -> 579 | R4: ='水稲H30（長野）2018'!$E9 -> 557 | S4: ='水稲R1（長野）2019'!$E9 -> 578 | T4: ='水稲R2（長野）2020'!$E9 -> 565 | U4: ='水稲R3（長野）2021'!$E9 -> 551 | V4: ='水稲R4（長野）2022'!$E9 -> 550 | W4: ='水稲R5（長野）2023'!$E9 -> 554 | X4: ='水稲R6（長野）2024'!$E9 -> 541
B5: 201 | C5: 長野市 | D5: ='水稲H16（長野）2004'!E9 -> 537 | E5: ='水稲H17（長野）2005'!E9 -> 599 | F5: ='水稲H18（長野）2006'!$E9 -> 543 | G5: ='水稲H19（長野）2007'!$E9 -> 549 | H5: ='水稲H20（長野）2008'!$E9 -> 563 | I5: ='水稲H21（長野）2009'!$E9 -> 535
B6: 581 | C6: 信州新町 | D6: ='水稲H16（長野）2004'!E112 -> 529 | E6: ='水稲H17（長野）2005'!E84 -> 575 | F6: ='水稲H18（長野）2006'!$E84 -> 518 | G6: ='水稲H19（長野）2007'!$E84 -> 540 | H6: ='水稲H20（長野）2008'!$E84 -> 548 | I6: ='水稲H21（長野）2009'!E83 -> 514
B7: 589 | C7: 中条村 | D7: ='水稲H16（長野）2004'!E117 -> 503 | E7: ='水稲H17（長野）2005'!E87 -> 553 | F7: ='水稲H18（長野）2006'!$E87 -> 496 | G7: ='水稲H19（長野）2007'!$E87 -> 518 | H7: ='水稲H20（長野）2008'!$E87 -> 530 | I7: ='水稲H21（長野）2009'!E86 -> 500
A8: 2000 | B8: 202 | C8: 松本市 | J8: ='水稲H22（長野）2010'!$E10 -> 632 | K8: ='水稲H23（長野）2011'!$E10 -> 611 | L8: ='水稲H24（長野）2012'!$E10 -> 635 | M8: ='水稲H25（長野）2013'!$E10 -> 656 | N8: ='水稲H26（長野）2014'!$E10 -> 621 | O8: ='水稲H27（長野）2015'!$E10 -> 631 | P8: ='水稲H28（長野）2016'!$E10 -> 656 | Q8: ='水稲H29（長野）2017'!$E10 -> 669 | R8: ='水稲H30（長野）2018'!$E10 -> 652 | S8: ='水稲R1（長野）2019'!$E10 -> 645 | T8: ='水稲R2（長野）2020'!$E10 -> 636 | U8: ='水稲R3（長野）2021'!$E10 -> 637 | V8: ='水稲R4（長野）2022'!$E10 -> 648 | W8: ='水稲R5（長野）2023'!$E10 -> 653 | X8: ='水稲R6（長野）2024'!$E10 -> 649
B9: 202 | C9: 松本市
B10: 202 | C10: 松本市 | D10: ='水稲H16（長野）2004'!E10 -> 643 | E10: ='水稲H17（長野）2005'!E10 -> 661 | F10: ='水稲H18（長野）2006'!E10 -> 639 | G10: ='水稲H19（長野）2007'!E10 -> 655 | H10: ='水稲H20（長野）2008'!E10 -> 646 | I10: ='水稲H21（長野）2009'!E10 -> 628
B11: 443 | C11: 四賀村 | D11: ='水稲H16（長野）2004'!E84 -> 626
B12: 449 | C12: 波田町 | D12: ='水稲H16（長野）2004'!E90 -> 652 | E12: ='水稲H17（長野）2005'!E70 -> 665 | F12: ='水稲H18（長野）2006'!$E70 -> 642 | G12: ='水稲H19（長野）2007'!$E70 -> 653 | H12: ='水稲H20（長野）2008'!$E70 -> 645 | I12: ='水稲H21（長野）2009'!E69 -> 622
B13: 463 | C13: 奈川村 | D13: ='水稲H16（長野）2004'!E95 -> 543
B14: 464 | C14: 安曇村 | D14: ='水稲H16（長野）2004'!E96 -> -
B15: 465 | C15: 梓川村 | D15: ='水稲H16（長野）2004'!E97 -> 666
A16: 3000 | B16: 203 | C16: 上田市 | E16: ='水稲H17（長野）2005'!E11 -> 644 | F16: ='水稲H18（長野）2006'!$E11 -> 599 | G16: ='水稲H19（長野）2007'!$E11 -> 606 | H16: ='水稲H20（長野）2008'!$E11 -> 639 | I16: ='水稲H21（長野）2009'!$E11 -> 592 | J16: ='水稲H22（長野）2010'!$E11 -> 603 | K16: ='水稲H23（長野）2011'!$E11 -> 613 | L16: ='水稲H24（長野）2012'!$E11 -> 604 | M16: ='水稲H25（長野）2013'!$E11 -> 606 | N16: ='水稲H26（長野）2014'!$E11 -> 573 | O16: ='水稲H27（長野）2015'!$E11 -> 572 | P16: ='水稲H28（長野）2016'!$E11 -> 584 | Q16: ='水稲H29（長野）2017'!$E11 -> 607 | R16: ='水稲H30（長野）2018'!$E11 -> 587 | S16: ='水稲R1（長野）2019'!$E11 -> 591 | T16: ='水稲R2（長野）2020'!$E11 -> 584 | U16: ='水稲R3（長野）2021'!$E11 -> 567 | V16: ='水稲R4（長野）2022'!$E11 -> 584 | W16: ='水稲R5（長野）2023'!$E11 -> 585 | X16: ='水稲R6（長野）2024'!$E11 -> 580
B17: 203 | C17: 上田市 | D17: ='水稲H16（長野）2004'!E11 -> 630
B18: 341 | C18: 丸子町 | D18: ='水稲H16（長野）2004'!E39 -> 641
B19: 345 | C19: 真田町 | D19: ='水稲H16（長野）2004'!E41 -> 620
B20: 346 | C20: 武石村 | D20: ='水稲H16（長野）2004'!E42 -> 611
A21: 4000 | B21: 204 | C21: 岡谷市 | D21: ='水稲H16（長野）2004'!E12 -> 658 | E21: ='水稲H17（長野）2005'!E12 -> 673 | F21: ='水稲H18（長野）2006'!$E12 -> 607 | G21: ='水稲H19（長野）2007'!$E12 -> 618 | H21: ='水稲H20（長野）2008'!$E12 -> 648 | I21: ='水稲H21（長野）2009'!$E12 -> 584 | J21: ='水稲H22（長野）2010'!$E12 -> 623 | K21: ='水稲H23（長野）2011'!$E12 -> 628 | L21: ='水稲H24（長野）2012'!$E12 -> 622 | M21: ='水稲H25（長野）2013'!$E12 -> 626 | N21: ='水稲H26（長野）2014'!$E12 -> 598 | O21: ='水稲H27（長野）2015'!$E12 -> 617 | P21: ='水稲H28（長野）2016'!$E12 -> 626 | Q21: ='水稲H29（長野）2017'!$E12 -> 640 | R21: ='水稲H30（長野）2018'!$E12 -> 628 | S21: ='水稲R1（長野）2019'!$E12 -> 642 | T21: ='水稲R2（長野）2020'!$E12 -> 617 | U21: ='水稲R3（長野）2021'!$E12 -> 625 | V21: ='水稲R4（長野）2022'!$E12 -> 623 | W21: ='水稲R5（長野）2023'!$E12 -> 645 | X21: ='水稲R6（長野）2024'!$E12 -> 640
A22: 5000 | B22: 205 | C22: 飯田市 | E22: ='水稲H17（長野）2005'!E13 -> 615 | F22: ='水稲H18（長野）2006'!$E13 -> 578 | G22: ='水稲H19（長野）2007'!$E13 -> 605 | H22: ='水稲H20（長野）2008'!$E13 -> 623 | I22: ='水稲H21（長野）2009'!$E13 -> 600 | J22: ='水稲H22（長野）2010'!$E13 -> 614 | K22: ='水稲H23（長野）2011'!$E13 -> 619 | L22: ='水稲H24（長野）2012'!$E13 -> 620 | M22: ='水稲H25（長野）2013'!$E13 -> 614 | N22: ='水稲H26（長野）2014'!$E13 -> 577 | O22: ='水稲H27（長野）2015'!$E13 -> 589 | P22: ='水稲H28（長野）2016'!$E13 -> 585 | Q22: ='水稲H29（長野）2017'!$E13 -> 634 | R22: ='水稲H30（長野）2018'!$E13 -> 608 | S22: ='水稲R1（長野）2019'!$E13 -> 593 | T22: ='水稲R2（長野）2020'!$E13 -> 566 | U22: ='水稲R3（長野）2021'!$E13 -> 591 | V22: ='水稲R4（長野）2022'!$E13 -> 580 | W22: ='水稲R5（長野）2023'!$E13 -> 575 | X22: ='水稲R6（長野）2024'!$E13 -> 565
B23: 205 | C23: 飯田市 | D23: ='水稲H16（長野）2004'!E13 -> 647
B24: 418 | C24: 上村 | D24: ='水稲H16（長野）2004'!E71 -> 515
B25: 419 | C25: 南信濃村 | D25: ='水稲H16（長野）2004'!E72 -> 577
A26: 6000 | B26: 206 | C26: 諏訪市 | D26: ='水稲H16（長野）2004'!E14 -> 678 | E26: ='水稲H17（長野）2005'!E14 -> 679 | F26: ='水稲H18（長野）2006'!$E14 -> 635 | G26: ='水稲H19（長野）2007'!$E14 -> 642 | H26: ='水稲H20（長野）2008'!$E14 -> 675 | I26: ='水稲H21（長野）2009'!$E14 -> 615 | J26: ='水稲H22（長野）2010'!$E14 -> 647 | K26: ='水稲H23（長野）2011'!$E14 -> 653 | L26: ='水稲H24（長野）2012'!$E14 -> 653 | M26: ='水稲H25（長野）2013'!$E14 -> 654 | N26: ='水稲H26（長野）2014'!$E14 -> 622 | O26: ='水稲H27（長野）2015'!$E14 -> 641 | P26: ='水稲H28（長野）2016'!$E14 -> 655 | Q26: ='水稲H29（長野）2017'!$E14 -> 667 | R26: ='水稲H30（長野）2018'!$E14 -> 653 | S26: ='水稲R1（長野）2019'!$E14 -> 663 | T26: ='水稲R2（長野）2020'!$E14 -> 641 | U26: ='水稲R3（長野）2021'!$E14 -> 652 | V26: ='水稲R4（長野）2022'!$E14 -> 652 | W26: ='水稲R5（長野）2023'!$E14 -> 665 | X26: ='水稲R6（長野）2024'!$E14 -> 663
A27: 7000 | B27: 207 | C27: 須坂市 | D27: ='水稲H16（長野）2004'!E15 -> 560 | E27: ='水稲H17（長野）2005'!E15 -> 602 | F27: ='水稲H18（長野）2006'!$E15 -> 568 | G27: ='水稲H19（長野）2007'!$E15 -> 566 | H27: ='水稲H20（長野）2008'!$E15 -> 583 | I27: ='水稲H21（長野）2009'!$E15 -> 561 | J27: ='水稲H22（長野）2010'!$E15 -> 586 | K27: ='水稲H23（長野）2011'!$E15 -> 582 | L27: ='水稲H24（長野）2012'!$E15 -> 576 | M27: ='水稲H25（長野）2013'!$E15 -> 605 | N27: ='水稲H26（長野）2014'!$E15 -> 590 | O27: ='水稲H27（長野）2015'!$E15 -> 579 | P27: ='水稲H28（長野）2016'!$E15 -> 613 | Q27: ='水稲H29（長野）2017'!$E15 -> 601 | R27: ='水稲H30（長野）2018'!$E15 -> 582 | S27: ='水稲R1（長野）2019'!$E15 -> 601 | T27: ='水稲R2（長野）2020'!$E15 -> 598 | U27: ='水稲R3（長野）2021'!$E15 -> 588 | V27: ='水稲R4（長野）2022'!$E15 -> 574 | W27: ='水稲R5（長野）2023'!$E15 -> 582 | X27: ='水稲R6（長野）2024'!$E15 -> 591
A28: 8000 | B28: 208 | C28: 小諸市 | D28: ='水稲H16（長野）2004'!E16 -> 659 | E28: ='水稲H17（長野）2005'!E16 -> 669 | F28: ='水稲H18（長野）2006'!$E16 -> 638 | G28: ='水稲H19（長野）2007'!$E16 -> 629 | H28: ='水稲H20（長野）2008'!$E16 -> 662 | I28: ='水稲H21（長野）2009'!$E16 -> 569 | J28: ='水稲H22（長野）2010'!$E16 -> 664 | K28: ='水稲H23（長野）2011'!$E16 -> 648 | L28: ='水稲H24（長野）2012'!$E16 -> 599 | M28: ='水稲H25（長野）2013'!$E16 -> 666 | N28: ='水稲H26（長野）2014'!$E16 -> 612 | O28: ='水稲H27（長野）2015'!$E16 -> 643 | P28: ='水稲H28（長野）2016'!$E16 -> 640 | Q28: ='水稲H29（長野）2017'!$E16 -> 635 | R28: ='水稲H30（長野）2018'!$E16 -> 616 | S28: ='水稲R1（長野）2019'!$E16 -> 603 | T28: ='水稲R2（長野）2020'!$E16 -> 576 | U28: ='水稲R3（長野）2021'!$E16 -> 572 | V28: ='水稲R4（長野）2022'!$E16 -> 605 | W28: ='水稲R5（長野）2023'!$E16 -> 648 | X28: ='水稲R6（長野）2024'!$E16 -> 664
A29: 9000 | B29: 209 | C29: 伊那市 | E29: ='水稲H17（長野）2005'!E17 -> 665 | F29: ='水稲H18（長野）2006'!$E17 -> 657 | G29: ='水稲H19（長野）2007'!$E17 -> 656 | H29: ='水稲H20（長野）2008'!$E17 -> 661 | I29: ='水稲H21（長野）2009'!$E17 -> 610 | J29: ='水稲H22（長野）2010'!$E17 -> 627 | K29: ='水稲H23（長野）2011'!$E17 -> 638 | L29: ='水稲H24（長野）2012'!$E17 -> 641 | M29: ='水稲H25（長野）2013'!$E17 -> 655 | N29: ='水稲H26（長野）2014'!$E17 -> 618 | O29: ='水稲H27（長野）2015'!$E17 -> 648 | P29: ='水稲H28（長野）2016'!$E17 -> 653 | Q29: ='水稲H29（長野）2017'!$E17 -> 654 | R29: ='水稲H30（長野）2018'!$E17 -> 646 | S29: ='水稲R1（長野）2019'!$E17 -> 656 | T29: ='水稲R2（長野）2020'!$E17 -> 650 | U29: ='水稲R3（長野）2021'!$E17 -> 608 | V29: ='水稲R4（長野）2022'!$E17 -> 643 | W29: ='水稲R5（長野）2023'!$E17 -> 639 | X29: ='水稲R6（長野）2024'!$E17 -> 638
B30: 209 | C30: 伊那市 | D30: ='水稲H16（長野）2004'!E17 -> 663
B31: 381 | C31: 高遠町 | D31: ='水稲H16（長野）2004'!E48 -> 659
B32: 387 | C32: 長谷村 | D32: ='水稲H16（長野）2004'!E54 -> 639
A33: 10000 | B33: 210 | C33: 駒ヶ根市 | D33: ='水稲H16（長野）2004'!E18 -> 650 | E33: ='水稲H17（長野）2005'!E18 -> 652 | F33: ='水稲H18（長野）2006'!$E18 -> 644 | G33: ='水稲H19（長野）2007'!$E18 -> 640 | H33: ='水稲H20（長野）2008'!$E18 -> 648 | I33: ='水稲H21（長野）2009'!$E18 -> 592 | J33: ='水稲H22（長野）2010'!$E18 -> 617 | K33: ='水稲H23（長野）2011'!$E18 -> 624 | L33: ='水稲H24（長野）2012'!$E18 -> 634 | M33: ='水稲H25（長野）2013'!$E18 -> 637 | N33: ='水稲H26（長野）2014'!$E18 -> 603 | O33: ='水稲H27（長野）2015'!$E18 -> 632 | P33: ='水稲H28（長野）2016'!$E18 -> 642 | Q33: ='水稲H29（長野）2017'!$E18 -> 638 | R33: ='水稲H30（長野）2018'!$E18 -> 631 | S33: ='水稲R1（長野）2019'!$E18 -> 641 | T33: ='水稲R2（長野）2020'!$E18 -> 633 | U33: ='水稲R3（長野）2021'!$E18 -> 587 | V33: ='水稲R4（長野）2022'!$E18 -> 631 | W33: ='水稲R5（長野）2023'!$E18 -> 625 | X33: ='水稲R6（長野）2024'!$E18 -> 624
A34: 11000 | B34: 211 | C34: 中野市 | E34: ='水稲H17（長野）2005'!E19 -> 590 | F34: ='水稲H18（長野）2006'!$E19 -> 568 | G34: ='水稲H19（長野）2007'!$E19 -> 571 | H34: ='水稲H20（長野）2008'!$E19 -> 589 | I34: ='水稲H21（長野）2009'!$E19 -> 556 | J34: ='水稲H22（長野）2010'!$E19 -> 565 | K34: ='水稲H23（長野）2011'!$E19 -> 550 | L34: ='水稲H24（長野）2012'!$E19 -> 547 | M34: ='水稲H25（長野）2013'!$E19 -> 584 | N34: ='水稲H26（長野）2014'!$E19 -> 579 | O34: ='水稲H27（長野）2015'!$E19 -> 533 | P34: ='水稲H28（長野）2016'!$E19 -> 599 | Q34: ='水稲H29（長野）2017'!$E19 -> 579 | R34: ='水稲H30（長野）2018'!$E19 -> 541 | S34: ='水稲R1（長野）2019'!$E19 -> 554 | T34: ='水稲R2（長野）2020'!$E19 -> 553 | U34: ='水稲R3（長野）2021'!$E19 -> 540 | V34: ='水稲R4（長野）2022'!$E19 -> 570 | W34: ='水稲R5（長野）2023'!$E19 -> 552 | X34: ='水稲R6（長野）2024'!$E19 -> 582
B35: 211 | C35: 中野市 | D35: ='水稲H16（長野）2004'!E19 -> 562
B36: 601 | C36: 豊田村 | D36: ='水稲H16（長野）2004'!E118 -> 561
A37: 12000 | B37: 212 | C37: 大町市 | E37: ='水稲H17（長野）2005'!E20 -> 647 | F37: ='水稲H18（長野）2006'!$E20 -> 601 | G37: ='水稲H19（長野）2007'!$E20 -> 639 | H37: ='水稲H20（長野）2008'!$E20 -> 640 | I37: ='水稲H21（長野）2009'!$E20 -> 583 | J37: ='水稲H22（長野）2010'!$E20 -> 613 | K37: ='水稲H23（長野）2011'!$E20 -> 546 | L37: ='水稲H24（長野）2012'!$E20 -> 604 | M37: ='水稲H25（長野）2013'!$E20 -> 641 | N37: ='水稲H26（長野）2014'!$E20 -> 604 | O37: ='水稲H27（長野）2015'!$E20 -> 598 | P37: ='水稲H28（長野）2016'!$E20 -> 617 | Q37: ='水稲H29（長野）2017'!$E20 -> 603 | R37: ='水稲H30（長野）2018'!$E20 -> 604 | S37: ='水稲R1（長野）2019'!$E20 -> 629 | T37: ='水稲R2（長野）2020'!$E20 -> 595 | U37: ='水稲R3（長野）2021'!$E20 -> 627 | V37: ='水稲R4（長野）2022'!$E20 -> 607 | W37: ='水稲R5（長野）2023'!$E20 -> 608 | X37: ='水稲R6（長野）2024'!$E20 -> 628
B38: 212 | C38: 大町市 | D38: ='水稲H16（長野）2004'!E20 -> 656
B39: 483 | C39: 八坂村 | D39: ='水稲H16（長野）2004'!E102 -> 601
B40: 484 | C40: 美麻村 | D40: ='水稲H16（長野）2004'!E103 -> 601
A41: 13000 | B41: 213 | C41: 飯山市 | D41: ='水稲H16（長野）2004'!E21 -> 581 | E41: ='水稲H17（長野）2005'!E21 -> 618 | F41: ='水稲H18（長野）2006'!$E21 -> 597 | G41: ='水稲H19（長野）2007'!$E21 -> 554 | H41: ='水稲H20（長野）2008'!$E21 -> 605 | I41: ='水稲H21（長野）2009'!$E21 -> 572 | J41: ='水稲H22（長野）2010'!$E21 -> 573 | K41: ='水稲H23（長野）2011'!$E21 -> 542 | L41: ='水稲H24（長野）2012'!$E21 -> 540 | M41: ='水稲H25（長野）2013'!$E21 -> 599 | N41: ='水稲H26（長野）2014'!$E21 -> 584 | O41: ='水稲H27（長野）2015'!$E21 -> 537 | P41: ='水稲H28（長野）2016'!$E21 -> 605 | Q41: ='水稲H29（長野）2017'!$E21 -> 578 | R41: ='水稲H30（長野）2018'!$E21 -> 543 | S41: ='水稲R1（長野）2019'!$E21 -> 552 | T41: ='水稲R2（長野）2020'!$E21 -> 558 | U41: ='水稲R3（長野）2021'!$E21 -> 542 | V41: ='水稲R4（長野）2022'!$E21 -> 571 | W41: ='水稲R5（長野）2023'!$E21 -> 560 | X41: ='水稲R6（長野）2024'!$E21 -> 590
A42: 14000 | B42: 214 | C42: 茅野市 | D42: ='水稲H16（長野）2004'!E22 -> 659 | E42: ='水稲H17（長野）2005'!E22 -> 671 | F42: ='水稲H18（長野）2006'!$E22 -> 638 | G42: ='水稲H19（長野）2007'!$E22 -> 636 | H42: ='水稲H20（長野）2008'!$E22 -> 670 | I42: ='水稲H21（長野）2009'!$E22 -> 602 | J42: ='水稲H22（長野）2010'!$E22 -> 639 | K42: ='水稲H23（長野）2011'!$E22 -> 642 | L42: ='水稲H24（長野）2012'!$E22 -> 649 | M42: ='水稲H25（長野）2013'!$E22 -> 642 | N42: ='水稲H26（長野）2014'!$E22 -> 611 | O42: ='水稲H27（長野）2015'!$E22 -> 631 | P42: ='水稲H28（長野）2016'!$E22 -> 636 | Q42: ='水稲H29（長野）2017'!$E22 -> 655 | R42: ='水稲H30（長野）2018'!$E22 -> 653 | S42: ='水稲R1（長野）2019'!$E22 -> 649 | T42: ='水稲R2（長野）2020'!$E22 -> 614 | U42: ='水稲R3（長野）2021'!$E22 -> 629 | V42: ='水稲R4（長野）2022'!$E22 -> 633 | W42: ='水稲R5（長野）2023'!$E22 -> 656 | X42: ='水稲R6（長野）2024'!$E22 -> 653
A43: 15000 | B43: 215 | C43: 塩尻市 | E43: ='水稲H17（長野）2005'!E23 -> 653 | F43: ='水稲H18（長野）2006'!$E23 -> 641 | G43: ='水稲H19（長野）2007'!$E23 -> 639 | H43: ='水稲H20（長野）2008'!$E23 -> 641 | I43: ='水稲H21（長野）2009'!$E23 -> 620 | J43: ='水稲H22（長野）2010'!$E23 -> 623 | K43: ='水稲H23（長野）2011'!$E23 -> 606 | L43: ='水稲H24（長野）2012'!$E23 -> 627 | M43: ='水稲H25（長野）2013'!$E23 -> 650 | N43: ='水稲H26（長野）2014'!$E23 -> 617 | O43: ='水稲H27（長野）2015'!$E23 -> 626 | P43: ='水稲H28（長野）2016'!$E23 -> 641 | Q43: ='水稲H29（長野）2017'!$E23 -> 653 | R43: ='水稲H30（長野）2018'!$E23 -> 636 | S43: ='水稲R1（長野）2019'!$E23 -> 643 | T43: ='水稲R2（長野）2020'!$E23 -> 635 | U43: ='水稲R3（長野）2021'!$E23 -> 635 | V43: ='水稲R4（長野）2022'!$E23 -> 641 | W43: ='水稲R5（長野）2023'!$E23 -> 649 | X43: ='水稲R6（長野）2024'!$E23 -> 644
B44: 215 | C44: 塩尻市 | D44: ='水稲H16（長野）2004'!E23 -> 641
B45: 424 | C45: 楢川村 | D45: ='水稲H16（長野）2004'!E76 -> 500
A46: 16000 | B46: 217 | C46: 佐久市 | E46: ='水稲H17（長野）2005'!E24 -> 698 | F46: ='水稲H18（長野）2006'!$E24 -> 647 | G46: ='水稲H19（長野）2007'!$E24 -> 666 | H46: ='水稲H20（長野）2008'!$E24 -> 678 | I46: ='水稲H21（長野）2009'!$E24 -> 650 | J46: ='水稲H22（長野）2010'!$E24 -> 647 | K46: ='水稲H23（長野）2011'!$E24 -> 653 | L46: ='水稲H24（長野）2012'!$E24 -> 647 | M46: ='水稲H25（長野）2013'!$E24 -> 670 | N46: ='水稲H26（長野）2014'!$E24 -> 632 | O46: ='水稲H27（長野）2015'!$E24 -> 662 | P46: ='水稲H28（長野）2016'!$E24 -> 654 | Q46: ='水稲H29（長野）2017'!$E24 -> 683 | R46: ='水稲H30（長野）2018'!$E24 -> 688 | S46: ='水稲R1（長野）2019'!$E24 -> 663 | T46: ='水稲R2（長野）2020'!$E24 -> 648 | U46: ='水稲R3（長野）2021'!$E24 -> 643 | V46: ='水稲R4（長野）2022'!$E24 -> 639 | W46: ='水稲R5（長野）2023'!$E24 -> 659 | X46: ='水稲R6（長野）2024'!$E24 -> 673
B47: 217 | C47: 佐久市 | D47: ='水稲H16（長野）2004'!E24 -> 696
B48: 301 | C48: 臼田町 | D48: ='水稲H16（長野）2004'!E27 -> 692
B49: 322 | C49: 望月町 | D49: ='水稲H16（長野）2004'!E35 -> 679
B50: 325 | C50: 浅科村 | D50: ='水稲H16（長野）2004'!E38 -> 677
A51: 17000 | B51: 218 | C51: 千曲市 | D51: ='水稲H16（長野）2004'!E25 -> 552 | E51: ='水稲H17（長野）2005'!E25 -> 611 | F51: ='水稲H18（長野）2006'!$E25 -> 541 | G51: ='水稲H19（長野）2007'!$E25 -> 545 | H51: ='水稲H20（長野）2008'!$E25 -> 540 | I51: ='水稲H21（長野）2009'!$E25 -> 531 | J51: ='水稲H22（長野）2010'!$E25 -> 544 | K51: ='水稲H23（長野）2011'!$E25 -> 501 | L51: ='水稲H24（長野）2012'!$E25 -> 529 | M51: ='水稲H25（長野）2013'!$E25 -> 583 | N51: ='水稲H26（長野）2014'!$E25 -> 540 | O51: ='水稲H27（長野）2015'!$E25 -> 525 | P51: ='水稲H28（長野）2016'!$E25 -> 567 | Q51: ='水稲H29（長野）2017'!$E25 -> 568 | R51: ='水稲H30（長野）2018'!$E25 -> 546 | S51: ='水稲R1（長野）2019'!$E25 -> 555 | T51: ='水稲R2（長野）2020'!$E25 -> 552 | U51: ='水稲R3（長野）2021'!$E25 -> 524 | V51: ='水稲R4（長野）2022'!$E25 -> 523 | W51: ='水稲R5（長野）2023'!$E25 -> 535 | X51: ='水稲R6（長野）2024'!$E25 -> 524
A52: 18000 | B52: 219 | C52: 東御市 | D52: ='水稲H16（長野）2004'!E26 -> 660 | E52: ='水稲H17（長野）2005'!E26 -> 675 | F52: ='水稲H18（長野）2006'!$E26 -> 626 | G52: ='水稲H19（長野）2007'!$E26 -> 640 | H52: ='水稲H20（長野）2008'!$E26 -> 660 | I52: ='水稲H21（長野）2009'!$E26 -> 632 | J52: ='水稲H22（長野）2010'!$E26 -> 630 | K52: ='水稲H23（長野）2011'!$E26 -> 643 | L52: ='水稲H24（長野）2012'!$E26 -> 597 | M52: ='水稲H25（長野）2013'!$E26 -> 636 | N52: ='水稲H26（長野）2014'!$E26 -> 597 | O52: ='水稲H27（長野）2015'!$E26 -> 590 | P52: ='水稲H28（長野）2016'!$E26 -> 613 | Q52: ='水稲H29（長野）2017'!$E26 -> 649 | R52: ='水稲H30（長野）2018'!$E26 -> 645 | S52: ='水稲R1（長野）2019'!$E26 -> 614 | T52: ='水稲R2（長野）2020'!$E26 -> 597 | U52: ='水稲R3（長野）2021'!$E26 -> 576 | V52: ='水稲R4（長野）2022'!$E26 -> 606 | W52: ='水稲R5（長野）2023'!$E26 -> 607 | X52: ='水稲R6（長野）2024'!$E26 -> 608
A53: 19000 | B53: 220 | C53: 安曇野市 | E53: ='水稲H17（長野）2005'!E27 -> 669 | F53: ='水稲H18（長野）2006'!E$27 -> 627 | G53: ='水稲H19（長野）2007'!E$27 -> 658 | H53: ='水稲H20（長野）2008'!E$27 -> 650 | I53: ='水稲H21（長野）2009'!E$27 -> 616 | J53: ='水稲H22（長野）2010'!$E27 -> 622 | K53: ='水稲H23（長野）2011'!$E27 -> 620 | L53: ='水稲H24（長野）2012'!$E27 -> 638 | M53: ='水稲H25（長野）2013'!$E27 -> 650 | N53: ='水稲H26（長野）2014'!$E27 -> 602 | O53: ='水稲H27（長野）2015'!$E27 -> 614 | P53: ='水稲H28（長野）2016'!$E27 -> 644 | Q53: ='水稲H29（長野）2017'!$E27 -> 649 | R53: ='水稲H30（長野）2018'!$E27 -> 634 | S53: ='水稲R1（長野）2019'!$E27 -> 634 | T53: ='水稲R2（長野）2020'!$E27 -> 631 | U53: ='水稲R3（長野）2021'!$E27 -> 670 | V53: ='水稲R4（長野）2022'!$E27 -> 625 | W53: ='水稲R5（長野）2023'!$E27 -> 640 | X53: ='水稲R6（長野）2024'!$E27 -> 650
B54: 441 | C54: 明科町 | D54: ='水稲H16（長野）2004'!E83 -> 649
B55: 461 | C55: 豊科町 | D55: ='水稲H16（長野）2004'!E93 -> 665
B56: 462 | C56: 穂高町 | D56: ='水稲H16（長野）2004'!E94 -> 674
B57: 466 | C57: 三郷村 | D57: ='水稲H16（長野）2004'!E98 -> 666
B58: 467 | C58: 堀金村 | D58: ='水稲H16（長野）2004'!E99 -> 667
A59: 20000 | B59: 303 | C59: 小海町 | D59: ='水稲H16（長野）2004'!E28 -> 615 | E59: ='水稲H17（長野）2005'!E28 -> 629 | F59: ='水稲H18（長野）2006'!E$28 -> 590 | G59: ='水稲H19（長野）2007'!E$28 -> 577 | H59: ='水稲H20（長野）2008'!E$28 -> 597 | I59: ='水稲H21（長野）2009'!E$28 -> 497 | J59: ='水稲H22（長野）2010'!$E28 -> 610 | K59: ='水稲H23（長野）2011'!$E28 -> 598 | L59: ='水稲H24（長野）2012'!$E28 -> 564 | M59: ='水稲H25（長野）2013'!$E28 -> 611 | N59: ='水稲H26（長野）2014'!$E28 -> 563 | O59: ='水稲H27（長野）2015'!$E28 -> 577 | P59: ='水稲H28（長野）2016'!$E28 -> 613 | Q59: ='水稲H29（長野）2017'!$E28 -> 598 | R59: ='水稲H30（長野）2018'!$E28 -> 593 | S59: ='水稲R1（長野）2019'!$E28 -> 561 | T59: ='水稲R2（長野）2020'!$E28 -> 535 | U59: ='水稲R3（長野）2021'!$E28 -> 532 | V59: ='水稲R4（長野）2022'!$E28 -> 561 | W59: ='水稲R5（長野）2023'!$E28 -> 592 | X59: ='水稲R6（長野）2024'!$E28 -> 612
A60: 21000 | B60: 304 | C60: 川上村 | D60: ='水稲H16（長野）2004'!E29 -> - | E60: ='水稲H17（長野）2005'!E29 -> - | F60: ='水稲H18（長野）2006'!$E29 -> - | G60: ='水稲H19（長野）2007'!$E29 -> - | H60: ='水稲H20（長野）2008'!$E29 -> - | I60: ='水稲H21（長野）2009'!$E29 -> - | J60: ='水稲H22（長野）2010'!$E29 -> - | K60: ='水稲H23（長野）2011'!$E29 -> - | L60: ='水稲H24（長野）2012'!$E29 -> - | M60: ='水稲H25（長野）2013'!$E29 -> - | N60: ='水稲H26（長野）2014'!$E29 -> - | O60: ='水稲H27（長野）2015'!$E29 -> - | P60: ='水稲H28（長野）2016'!$E29 -> - | Q60: ='水稲H29（長野）2017'!$E29 -> - | R60: ='水稲H30（長野）2018'!$E29 -> - | S60: ='水稲R1（長野）2019'!$E29 -> - | T60: ='水稲R2（長野）2020'!$E29 -> - | U60: ='水稲R3（長野）2021'!$E29 -> - | V60: ='水稲R4（長野）2022'!$E29 -> - | W60: ='水稲R5（長野）2023'!$E29 -> - | X60: ='水稲R6（長野）2024'!$E29 -> -
A61: 22000 | B61: 305 | C61: 南牧村 | D61: ='水稲H16（長野）2004'!E30 -> 536 | E61: ='水稲H17（長野）2005'!E30 -> 543 | F61: ='水稲H18（長野）2006'!$E30 -> 512 | G61: ='水稲H19（長野）2007'!$E30 -> 518 | H61: ='水稲H20（長野）2008'!$E30 -> 521 | I61: ='水稲H21（長野）2009'!$E30 -> 435 | J61: ='水稲H22（長野）2010'!$E30 -> 542 | K61: ='水稲H23（長野）2011'!$E30 -> 515 | L61: ='水稲H24（長野）2012'!$E30 -> 496 | M61: ='水稲H25（長野）2013'!$E30 -> 532 | N61: ='水稲H26（長野）2014'!$E30 -> 493 | O61: ='水稲H27（長野）2015'!$E30 -> 519 | P61: ='水稲H28（長野）2016'!$E30 -> 557 | Q61: ='水稲H29（長野）2017'!$E30 -> 537 | R61: ='水稲H30（長野）2018'!$E30 -> 526 | S61: ='水稲R1（長野）2019'!$E30 -> 522 | T61: ='水稲R2（長野）2020'!$E30 -> 511 | U61: ='水稲R3（長野）2021'!$E30 -> 509 | V61: ='水稲R4（長野）2022'!$E30 -> 511 | W61: ='水稲R5（長野）2023'!$E30 -> 525 | X61: ='水稲R6（長野）2024'!$E30 -> 528
A62: 23000 | B62: 306 | C62: 南相木村 | D62: ='水稲H16（長野）2004'!E31 -> 551 | E62: ='水稲H17（長野）2005'!E31 -> 557 | F62: ='水稲H18（長野）2006'!$E31 -> 526 | G62: ='水稲H19（長野）2007'!$E31 -> 526 | H62: ='水稲H20（長野）2008'!$E31 -> 532 | I62: ='水稲H21（長野）2009'!$E31 -> 448 | J62: ='水稲H22（長野）2010'!$E31 -> 548 | K62: ='水稲H23（長野）2011'!$E31 -> 527 | L62: ='水稲H24（長野）2012'!$E31 -> 505 | M62: ='水稲H25（長野）2013'!$E31 -> 537 | N62: ='水稲H26（長野）2014'!$E31 -> 501 | O62: ='水稲H27（長野）2015'!$E31 -> 513 | P62: ='水稲H28（長野）2016'!$E31 -> 547 | Q62: ='水稲H29（長野）2017'!$E31 -> 531 | R62: ='水稲H30（長野）2018'!$E31 -> 529 | S62: ='水稲R1（長野）2019'!$E31 -> 523 | T62: ='水稲R2（長野）2020'!$E31 -> 510 | U62: ='水稲R3（長野）2021'!$E31 -> 508 | V62: ='水稲R4（長野）2022'!$E31 -> 510 | W62: ='水稲R5（長野）2023'!$E31 -> 524 | X62: ='水稲R6（長野）2024'!$E31 -> 540
A63: 24000 | B63: 307 | C63: 北相木村 | D63: ='水稲H16（長野）2004'!E32 -> 549 | E63: ='水稲H17（長野）2005'!E32 -> 553 | F63: ='水稲H18（長野）2006'!$E32 -> 521 | G63: ='水稲H19（長野）2007'!$E32 -> 528 | H63: ='水稲H20（長野）2008'!$E32 -> 530 | I63: ='水稲H21（長野）2009'!$E32 -> 447 | J63: ='水稲H22（長野）2010'!$E32 -> 548 | K63: ='水稲H23（長野）2011'!$E32 -> 526 | L63: ='水稲H24（長野）2012'!$E32 -> 504 | M63: ='水稲H25（長野）2013'!$E32 -> 535 | N63: ='水稲H26（長野）2014'!$E32 -> 500 | O63: ='水稲H27（長野）2015'!$E32 -> 512 | P63: ='水稲H28（長野）2016'!$E32 -> 545 | Q63: ='水稲H29（長野）2017'!$E32 -> 529 | R63: ='水稲H30（長野）2018'!$E32 -> 527 | S63: ='水稲R1（長野）2019'!$E32 -> 519 | T63: ='水稲R2（長野）2020'!$E32 -> 505 | U63: ='水稲R3（長野）2021'!$E32 -> 506 | V63: ='水稲R4（長野）2022'!$E32 -> 509 | W63: ='水稲R5（長野）2023'!$E32 -> 522 | X63: ='水稲R6（長野）2024'!$E32 -> 538
A64: 25000 | B64: 309 | C64: 佐久穂町 | D64: ='水稲H16（長野）2004'!E33 -> 636 | E64: ='水稲H17（長野）2005'!E33 -> 647 | F64: ='水稲H18（長野）2006'!$E33 -> 612 | G64: ='水稲H19（長野）2007'!$E33 -> 602 | H64: ='水稲H20（長野）2008'!$E33 -> 618 | I64: ='水稲H21（長野）2009'!$E33 -> 534 | J64: ='水稲H22（長野）2010'!$E33 -> 644 | K64: ='水稲H23（長野）2011'!$E33 -> 622 | L64: ='水稲H24（長野）2012'!$E33 -> 564 | M64: ='水稲H25（長野）2013'!$E33 -> 636 | N64: ='水稲H26（長野）2014'!$E33 -> 582 | O64: ='水稲H27（長野）2015'!$E33 -> 595 | P64: ='水稲H28（長野）2016'!$E33 -> 633 | Q64: ='水稲H29（長野）2017'!$E33 -> 627 | R64: ='水稲H30（長野）2018'!$E33 -> 615 | S64: ='水稲R1（長野）2019'!$E33 -> 561 | T64: ='水稲R2（長野）2020'!$E33 -> 546 | U64: ='水稲R3（長野）2021'!$E33 -> 547 | V64: ='水稲R4（長野）2022'!$E33 -> 579 | W64: ='水稲R5（長野）2023'!$E33 -> 625 | X64: ='水稲R6（長野）2024'!$E33 -> 643
A65: 26000 | B65: 321 | C65: 軽井沢町 | D65: ='水稲H16（長野）2004'!E34 -> 619 | E65: ='水稲H17（長野）2005'!E34 -> 639 | F65: ='水稲H18（長野）2006'!$E34 -> 604 | G65: ='水稲H19（長野）2007'!$E34 -> 564 | H65: ='水稲H20（長野）2008'!$E34 -> 570 | I65: ='水稲H21（長野）2009'!$E34 -> 495 | J65: ='水稲H22（長野）2010'!$E34 -> 604 | K65: ='水稲H23（長野）2011'!$E34 -> 592 | L65: ='水稲H24（長野）2012'!$E34 -> 505 | M65: ='水稲H25（長野）2013'!$E34 -> 610 | N65: ='水稲H26（長野）2014'!$E34 -> 572 | O65: ='水稲H27（長野）2015'!$E34 -> 573 | P65: ='水稲H28（長野）2016'!$E34 -> 588 | Q65: ='水稲H29（長野）2017'!$E34 -> 580 | R65: ='水稲H30（長野）2018'!$E34 -> 578 | S65: ='水稲R1（長野）2019'!$E34 -> 545 | T65: ='水稲R2（長野）2020'!$E34 -> 531 | U65: ='水稲R3（長野）2021'!$E34 -> 532 | V65: ='水稲R4（長野）2022'!$E34 -> 554 | W65: ='水稲R5（長野）2023'!$E34 -> 578 | X65: ='水稲R6（長野）2024'!$E34 -> 592
A66: 27000 | B66: 323 | C66: 御代田町 | D66: ='水稲H16（長野）2004'!E36 -> 634 | E66: ='水稲H17（長野）2005'!E35 -> 653 | F66: ='水稲H18（長野）2006'!$E35 -> 615 | G66: ='水稲H19（長野）2007'!$E35 -> 606 | H66: ='水稲H20（長野）2008'!$E35 -> 621 | I66: ='水稲H21（長野）2009'!$E35 -> 554 | J66: ='水稲H22（長野）2010'!$E35 -> 633 | K66: ='水稲H23（長野）2011'!$E35 -> 623 | L66: ='水稲H24（長野）2012'!$E35 -> 603 | M66: ='水稲H25（長野）2013'!$E35 -> 640 | N66: ='水稲H26（長野）2014'!$E35 -> 590 | O66: ='水稲H27（長野）2015'!$E35 -> 582 | P66: ='水稲H28（長野）2016'!$E35 -> 619 | Q66: ='水稲H29（長野）2017'!$E35 -> 633 | R66: ='水稲H30（長野）2018'!$E35 -> 605 | S66: ='水稲R1（長野）2019'!$E35 -> 570 | T66: ='水稲R2（長野）2020'!$E35 -> 553 | U66: ='水稲R3（長野）2021'!$E35 -> 555 | V66: ='水稲R4（長野）2022'!$E35 -> 584 | W66: ='水稲R5（長野）2023'!$E35 -> 627 | X66: ='水稲R6（長野）2024'!$E35 -> 647
A67: 28000 | B67: 324 | C67: 立科町 | D67: ='水稲H16（長野）2004'!E37 -> 682 | E67: ='水稲H17（長野）2005'!E36 -> 699 | F67: ='水稲H18（長野）2006'!$E36 -> 649 | G67: ='水稲H19（長野）2007'!$E36 -> 670 | H67: ='水稲H20（長野）2008'!$E36 -> 690 | I67: ='水稲H21（長野）2009'!$E36 -> 661 | J67: ='水稲H22（長野）2010'!$E36 -> 657 | K67: ='水稲H23（長野）2011'!$E36 -> 658 | L67: ='水稲H24（長野）2012'!$E36 -> 654 | M67: ='水稲H25（長野）2013'!$E36 -> 678 | N67: ='水稲H26（長野）2014'!$E36 -> 639 | O67: ='水稲H27（長野）2015'!$E36 -> 667 | P67: ='水稲H28（長野）2016'!$E36 -> 655 | Q67: ='水稲H29（長野）2017'!$E36 -> 676 | R67: ='水稲H30（長野）2018'!$E36 -> 698 | S67: ='水稲R1（長野）2019'!$E36 -> 664 | T67: ='水稲R2（長野）2020'!$E36 -> 651 | U67: ='水稲R3（長野）2021'!$E36 -> 644 | V67: ='水稲R4（長野）2022'!$E36 -> 641 | W67: ='水稲R5（長野）2023'!$E36 -> 668 | X67: ='水稲R6（長野）2024'!$E36 -> 676
A68: 29000 | B68: 349 | C68: 青木村 | D68: ='水稲H16（長野）2004'!E44 -> 615 | E68: ='水稲H17（長野）2005'!E37 -> 624 | F68: ='水稲H18（長野）2006'!$E37 -> 574 | G68: ='水稲H19（長野）2007'!$E37 -> 578 | H68: ='水稲H20（長野）2008'!$E37 -> 614 | I68: ='水稲H21（長野）2009'!$E37 -> 577 | J68: ='水稲H22（長野）2010'!$E37 -> 603 | K68: ='水稲H23（長野）2011'!$E37 -> 593 | L68: ='水稲H24（長野）2012'!$E37 -> 539 | M68: ='水稲H25（長野）2013'!$E37 -> 589 | N68: ='水稲H26（長野）2014'!$E37 -> 554 | O68: ='水稲H27（長野）2015'!$E37 -> 565 | P68: ='水稲H28（長野）2016'!$E37 -> 599 | Q68: ='水稲H29（長野）2017'!$E37 -> 600 | R68: ='水稲H30（長野）2018'!$E37 -> 613 | S68: ='水稲R1（長野）2019'!$E37 -> 568 | T68: ='水稲R2（長野）2020'!$E37 -> 564 | U68: ='水稲R3（長野）2021'!$E37 -> 543 | V68: ='水稲R4（長野）2022'!$E37 -> 567 | W68: ='水稲R5（長野）2023'!$E37 -> 561 | X68: ='水稲R6（長野）2024'!$E37 -> 569
A69: 30000 | B69: 350 | C69: 長和町 | E69: ='水稲H17（長野）2005'!E38 -> 624 | F69: ='水稲H18（長野）2006'!$E38 -> 581 | G69: ='水稲H19（長野）2007'!$E38 -> 591 | H69: ='水稲H20（長野）2008'!$E38 -> 615 | I69: ='水稲H21（長野）2009'!$E38 -> 566 | J69: ='水稲H22（長野）2010'!$E38 -> 604 | K69: ='水稲H23（長野）2011'!$E38 -> 595 | L69: ='水稲H24（長野）2012'!$E38 -> 556 | M69: ='水稲H25（長野）2013'!$E38 -> 589 | N69: ='水稲H26（長野）2014'!$E38 -> 555 | O69: ='水稲H27（長野）2015'!$E38 -> 562 | P69: ='水稲H28（長野）2016'!$E38 -> 603 | Q69: ='水稲H29（長野）2017'!$E38 -> 589 | R69: ='水稲H30（長野）2018'!$E38 -> 615 | S69: ='水稲R1（長野）2019'!$E38 -> 576 | T69: ='水稲R2（長野）2020'!$E38 -> 566 | U69: ='水稲R3（長野）2021'!$E38 -> 554 | V69: ='水稲R4（長野）2022'!$E38 -> 570 | W69: ='水稲R5（長野）2023'!$E38 -> 570 | X69: ='水稲R6（長野）2024'!$E38 -> 568
B70: 342 | C70: 長門町 | D70: ='水稲H16（長野）2004'!E40 -> 628
B71: 347 | C71: 和田村 | D71: ='水稲H16（長野）2004'!E43 -> 585
A72: 31000 | B72: 361 | C72: 下諏訪町 | D72: ='水稲H16（長野）2004'!E45 -> 646 | E72: ='水稲H17（長野）2005'!E39 -> 671 | F72: ='水稲H18（長野）2006'!$E39 -> 611 | G72: ='水稲H19（長野）2007'!$E39 -> 612 | H72: ='水稲H20（長野）2008'!$E39 -> 643 | I72: ='水稲H21（長野）2009'!$E39 -> 585 | J72: ='水稲H22（長野）2010'!$E39 -> 616 | K72: ='水稲H23（長野）2011'!$E39 -> 623 | L72: ='水稲H24（長野）2012'!$E39 -> 625 | M72: ='水稲H25（長野）2013'!$E39 -> 625 | N72: ='水稲H26（長野）2014'!$E39 -> 591 | O72: ='水稲H27（長野）2015'!$E39 -> 618 | P72: ='水稲H28（長野）2016'!$E39 -> 623 | Q72: ='水稲H29（長野）2017'!$E39 -> 633 | R72: ='水稲H30（長野）2018'!$E39 -> 622 | S72: ='水稲R1（長野）2019'!$E39 -> 617 | T72: ='水稲R2（長野）2020'!$E39 -> 602 | U72: ='水稲R3（長野）2021'!$E39 -> 617 | V72: ='水稲R4（長野）2022'!$E39 -> 614 | W72: ='水稲R5（長野）2023'!$E39 -> 638 | X72: ='水稲R6（長野）2024'!$E39 -> 629
A73: 32000 | B73: 362 | C73: 富士見町 | D73: ='水稲H16（長野）2004'!E46 -> 645 | E73: ='水稲H17（長野）2005'!E40 -> 660 | F73: ='水稲H18（長野）2006'!$E40 -> 578 | G73: ='水稲H19（長野）2007'!$E40 -> 597 | H73: ='水稲H20（長野）2008'!$E40 -> 633 | I73: ='水稲H21（長野）2009'!$E40 -> 563 | J73: ='水稲H22（長野）2010'!$E40 -> 614 | K73: ='水稲H23（長野）2011'!$E40 -> 613 | L73: ='水稲H24（長野）2012'!$E40 -> 622 | M73: ='水稲H25（長野）2013'!$E40 -> 620 | N73: ='水稲H26（長野）2014'!$E40 -> 583 | O73: ='水稲H27（長野）2015'!$E40 -> 601 | P73: ='水稲H28（長野）2016'!$E40 -> 614 | Q73: ='水稲H29（長野）2017'!$E40 -> 624 | R73: ='水稲H30（長野）2018'!$E40 -> 625 | S73: ='水稲R1（長野）2019'!$E40 -> 639 | T73: ='水稲R2（長野）2020'!$E40 -> 590 | U73: ='水稲R3（長野）2021'!$E40 -> 610 | V73: ='水稲R4（長野）2022'!$E40 -> 609 | W73: ='水稲R5（長野）2023'!$E40 -> 630 | X73: ='水稲R6（長野）2024'!$E40 -> 628
A74: 33000 | B74: 363 | C74: 原村 | D74: ='水稲H16（長野）2004'!E47 -> 631 | E74: ='水稲H17（長野）2005'!E41 -> 654 | F74: ='水稲H18（長野）2006'!$E41 -> 578 | G74: ='水稲H19（長野）2007'!$E41 -> 596 | H74: ='水稲H20（長野）2008'!$E41 -> 629 | I74: ='水稲H21（長野）2009'!$E41 -> 561 | J74: ='水稲H22（長野）2010'!$E41 -> 610 | K74: ='水稲H23（長野）2011'!$E41 -> 610 | L74: ='水稲H24（長野）2012'!$E41 -> 623 | M74: ='水稲H25（長野）2013'!$E41 -> 613 | N74: ='水稲H26（長野）2014'!$E41 -> 579 | O74: ='水稲H27（長野）2015'!$E41 -> 598 | P74: ='水稲H28（長野）2016'!$E41 -> 612 | Q74: ='水稲H29（長野）2017'!$E41 -> 621 | R74: ='水稲H30（長野）2018'!$E41 -> 620 | S74: ='水稲R1（長野）2019'!$E41 -> 643 | T74: ='水稲R2（長野）2020'!$E41 -> 592 | U74: ='水稲R3（長野）2021'!$E41 -> 600 | V74: ='水稲R4（長野）2022'!$E41 -> 604 | W74: ='水稲R5（長野）2023'!$E41 -> 626 | X74: ='水稲R6（長野）2024'!$E41 -> 623
A75: 34000 | B75: 382 | C75: 辰野町 | D75: ='水稲H16（長野）2004'!E49 -> 641 | E75: ='水稲H17（長野）2005'!E42 -> 642 | F75: ='水稲H18（長野）2006'!$E42 -> 617 | G75: ='水稲H19（長野）2007'!$E42 -> 629 | H75: ='水稲H20（長野）2008'!$E42 -> 638 | I75: ='水稲H21（長野）2009'!$E42 -> 583 | J75: ='水稲H22（長野）2010'!$E42 -> 606 | K75: ='水稲H23（長野）2011'!$E42 -> 613 | L75: ='水稲H24（長野）2012'!$E42 -> 620 | M75: ='水稲H25（長野）2013'!$E42 -> 626 | N75: ='水稲H26（長野）2014'!$E42 -> 593 | O75: ='水稲H27（長野）2015'!$E42 -> 621 | P75: ='水稲H28（長野）2016'!$E42 -> 626 | Q75: ='水稲H29（長野）2017'!$E42 -> 624 | R75: ='水稲H30（長野）2018'!$E42 -> 618 | S75: ='水稲R1（長野）2019'!$E42 -> 624 | T75: ='水稲R2（長野）2020'!$E42 -> 615 | U75: ='水稲R3（長野）2021'!$E42 -> 579 | V75: ='水稲R4（長野）2022'!$E42 -> 617 | W75: ='水稲R5（長野）2023'!$E42 -> 615 | X75: ='水稲R6（長野）2024'!$E42 -> 610
A76: 35000 | B76: 383 | C76: 箕輪町 | D76: ='水稲H16（長野）2004'!E50 -> 657 | E76: ='水稲H17（長野）2005'!E43 -> 664 | F76: ='水稲H18（長野）2006'!$E43 -> 646 | G76: ='水稲H19（長野）2007'!$E43 -> 648 | H76: ='水稲H20（長野）2008'!$E43 -> 657 | I76: ='水稲H21（長野）2009'!$E43 -> 605 | J76: ='水稲H22（長野）2010'!$E43 -> 626 | K76: ='水稲H23（長野）2011'!$E43 -> 632 | L76: ='水稲H24（長野）2012'!$E43 -> 635 | M76: ='水稲H25（長野）2013'!$E43 -> 646 | N76: ='水稲H26（長野）2014'!$E43 -> 609 | O76: ='水稲H27（長野）2015'!$E43 -> 637 | P76: ='水稲H28（長野）2016'!$E43 -> 650 | Q76: ='水稲H29（長野）2017'!$E43 -> 648 | R76: ='水稲H30（長野）2018'!$E43 -> 640 | S76: ='水稲R1（長野）2019'!$E43 -> 649 | T76: ='水稲R2（長野）2020'!$E43 -> 636 | U76: ='水稲R3（長野）2021'!$E43 -> 600 | V76: ='水稲R4（長野）2022'!$E43 -> 635 | W76: ='水稲R5（長野）2023'!$E43 -> 633 | X76: ='水稲R6（長野）2024'!$E43 -> 630
A77: 36000 | B77: 384 | C77: 飯島町 | D77: ='水稲H16（長野）2004'!E51 -> 645 | E77: ='水稲H17（長野）2005'!E44 -> 650 | F77: ='水稲H18（長野）2006'!$E44 -> 637 | G77: ='水稲H19（長野）2007'!$E44 -> 633 | H77: ='水稲H20（長野）2008'!$E44 -> 641 | I77: ='水稲H21（長野）2009'!$E44 -> 594 | J77: ='水稲H22（長野）2010'!$E44 -> 610 | K77: ='水稲H23（長野）2011'!$E44 -> 619 | L77: ='水稲H24（長野）2012'!$E44 -> 629 | M77: ='水稲H25（長野）2013'!$E44 -> 637 | N77: ='水稲H26（長野）2014'!$E44 -> 598 | O77: ='水稲H27（長野）2015'!$E44 -> 627 | P77: ='水稲H28（長野）2016'!$E44 -> 637 | Q77: ='水稲H29（長野）2017'!$E44 -> 635 | R77: ='水稲H30（長野）2018'!$E44 -> 627 | S77: ='水稲R1（長野）2019'!$E44 -> 640 | T77: ='水稲R2（長野）2020'!$E44 -> 625 | U77: ='水稲R3（長野）2021'!$E44 -> 586 | V77: ='水稲R4（長野）2022'!$E44 -> 625 | W77: ='水稲R5（長野）2023'!$E44 -> 622 | X77: ='水稲R6（長野）2024'!$E44 -> 619
A78: 37000 | B78: 385 | C78: 南箕輪村 | D78: ='水稲H16（長野）2004'!E52 -> 673 | E78: ='水稲H17（長野）2005'!E45 -> 674 | F78: ='水稲H18（長野）2006'!$E45 -> 669 | G78: ='水稲H19（長野）2007'!$E45 -> 667 | H78: ='水稲H20（長野）2008'!$E45 -> 672 | I78: ='水稲H21（長野）2009'!$E45 -> 617 | J78: ='水稲H22（長野）2010'!$E45 -> 639 | K78: ='水稲H23（長野）2011'!$E45 -> 647 | L78: ='水稲H24（長野）2012'!$E45 -> 654 | M78: ='水稲H25（長野）2013'!$E45 -> 658 | N78: ='水稲H26（長野）2014'!$E45 -> 626 | O78: ='水稲H27（長野）2015'!$E45 -> 655 | P78: ='水稲H28（長野）2016'!$E45 -> 663 | Q78: ='水稲H29（長野）2017'!$E45 -> 662 | R78: ='水稲H30（長野）2018'!$E45 -> 656 | S78: ='水稲R1（長野）2019'!$E45 -> 664 | T78: ='水稲R2（長野）2020'!$E45 -> 655 | U78: ='水稲R3（長野）2021'!$E45 -> 611 | V78: ='水稲R4（長野）2022'!$E45 -> 649 | W78: ='水稲R5（長野）2023'!$E45 -> 647 | X78: ='水稲R6（長野）2024'!$E45 -> 646
A79: 38000 | B79: 386 | C79: 中川村 | D79: ='水稲H16（長野）2004'!E53 -> 640 | E79: ='水稲H17（長野）2005'!E46 -> 647 | F79: ='水稲H18（長野）2006'!$E46 -> 621 | G79: ='水稲H19（長野）2007'!$E46 -> 625 | H79: ='水稲H20（長野）2008'!$E46 -> 634 | I79: ='水稲H21（長野）2009'!$E46 -> 592 | J79: ='水稲H22（長野）2010'!$E46 -> 608 | K79: ='水稲H23（長野）2011'!$E46 -> 614 | L79: ='水稲H24（長野）2012'!$E46 -> 628 | M79: ='水稲H25（長野）2013'!$E46 -> 627 | N79: ='水稲H26（長野）2014'!$E46 -> 591 | O79: ='水稲H27（長野）2015'!$E46 -> 620 | P79: ='水稲H28（長野）2016'!$E46 -> 631 | Q79: ='水稲H29（長野）2017'!$E46 -> 630 | R79: ='水稲H30（長野）2018'!$E46 -> 617 | S79: ='水稲R1（長野）2019'!$E46 -> 631 | T79: ='水稲R2（長野）2020'!$E46 -> 617 | U79: ='水稲R3（長野）2021'!$E46 -> 579 | V79: ='水稲R4（長野）2022'!$E46 -> 617 | W79: ='水稲R5（長野）2023'!$E46 -> 614 | X79: ='水稲R6（長野）2024'!$E46 -> 610
A80: 39000 | B80: 388 | C80: 宮田村 | D80: ='水稲H16（長野）2004'!E55 -> 647 | E80: ='水稲H17（長野）2005'!E47 -> 659 | F80: ='水稲H18（長野）2006'!$E47 -> 631 | G80: ='水稲H19（長野）2007'!$E47 -> 636 | H80: ='水稲H20（長野）2008'!$E47 -> 645 | I80: ='水稲H21（長野）2009'!$E47 -> 598 | J80: ='水稲H22（長野）2010'!$E47 -> 614 | K80: ='水稲H23（長野）2011'!$E47 -> 627 | L80: ='水稲H24（長野）2012'!$E47 -> 631 | M80: ='水稲H25（長野）2013'!$E47 -> 632 | N80: ='水稲H26（長野）2014'!$E47 -> 599 | O80: ='水稲H27（長野）2015'!$E47 -> 627 | P80: ='水稲H28（長野）2016'!$E47 -> 639 | Q80: ='水稲H29（長野）2017'!$E47 -> 629 | R80: ='水稲H30（長野）2018'!$E47 -> 628 | S80: ='水稲R1（長野）2019'!$E47 -> 633 | T80: ='水稲R2（長野）2020'!$E47 -> 624 | U80: ='水稲R3（長野）2021'!$E47 -> 586 | V80: ='水稲R4（長野）2022'!$E47 -> 624 | W80: ='水稲R5（長野）2023'!$E47 -> 622 | X80: ='水稲R6（長野）2024'!$E47 -> 617
A81: 40000 | B81: 402 | C81: 松川町 | D81: ='水稲H16（長野）2004'!E56 -> 651 | E81: ='水稲H17（長野）2005'!E48 -> 620 | F81: ='水稲H18（長野）2006'!$E48 -> 574 | G81: ='水稲H19（長野）2007'!$E48 -> 613 | H81: ='水稲H20（長野）2008'!$E48 -> 628 | I81: ='水稲H21（長野）2009'!$E48 -> 607 | J81: ='水稲H22（長野）2010'!$E48 -> 620 | K81: ='水稲H23（長野）2011'!$E48 -> 625 | L81: ='水稲H24（長野）2012'!$E48 -> 626 | M81: ='水稲H25（長野）2013'!$E48 -> 620 | N81: ='水稲H26（長野）2014'!$E48 -> 583 | O81: ='水稲H27（長野）2015'!$E48 -> 595 | P81: ='水稲H28（長野）2016'!$E48 -> 584 | Q81: ='水稲H29（長野）2017'!$E48 -> 638 | R81: ='水稲H30（長野）2018'!$E48 -> 617 | S81: ='水稲R1（長野）2019'!$E48 -> 603 | T81: ='水稲R2（長野）2020'!$E48 -> 575 | U81: ='水稲R3（長野）2021'!$E48 -> 591 | V81: ='水稲R4（長野）2022'!$E48 -> 589 | W81: ='水稲R5（長野）2023'!$E48 -> 581 | X81: ='水稲R6（長野）2024'!$E48 -> 572
A82: 41000 | B82: 403 | C82: 高森町 | D82: ='水稲H16（長野）2004'!E57 -> 657 | E82: ='水稲H17（長野）2005'!E49 -> 623 | F82: ='水稲H18（長野）2006'!$E49 -> 584 | G82: ='水稲H19（長野）2007'!$E49 -> 616 | H82: ='水稲H20（長野）2008'!$E49 -> 630 | I82: ='水稲H21（長野）2009'!$E49 -> 607 | J82: ='水稲H22（長野）2010'!$E49 -> 618 | K82: ='水稲H23（長野）2011'!$E49 -> 625 | L82: ='水稲H24（長野）2012'!$E49 -> 627 | M82: ='水稲H25（長野）2013'!$E49 -> 620 | N82: ='水稲H26（長野）2014'!$E49 -> 583 | O82: ='水稲H27（長野）2015'!$E49 -> 595 | P82: ='水稲H28（長野）2016'!$E49 -> 594 | Q82: ='水稲H29（長野）2017'!$E49 -> 639 | R82: ='水稲H30（長野）2018'!$E49 -> 616 | S82: ='水稲R1（長野）2019'!$E49 -> 612 | T82: ='水稲R2（長野）2020'!$E49 -> 584 | U82: ='水稲R3（長野）2021'!$E49 -> 590 | V82: ='水稲R4（長野）2022'!$E49 -> 588 | W82: ='水稲R5（長野）2023'!$E49 -> 580 | X82: ='水稲R6（長野）2024'!$E49 -> 574
A83: 42000 | B83: 404 | C83: 阿南町 | D83: ='水稲H16（長野）2004'!E58 -> 616 | E83: ='水稲H17（長野）2005'!E50 -> 595 | F83: ='水稲H18（長野）2006'!$E50 -> 561 | G83: ='水稲H19（長野）2007'!$E50 -> 595 | H83: ='水稲H20（長野）2008'!$E50 -> 600 | I83: ='水稲H21（長野）2009'!$E50 -> 575 | J83: ='水稲H22（長野）2010'!$E50 -> 586 | K83: ='水稲H23（長野）2011'!$E50 -> 592 | L83: ='水稲H24（長野）2012'!$E50 -> 595 | M83: ='水稲H25（長野）2013'!$E50 -> 588 | N83: ='水稲H26（長野）2014'!$E50 -> 555 | O83: ='水稲H27（長野）2015'!$E50 -> 564 | P83: ='水稲H28（長野）2016'!$E50 -> 561 | Q83: ='水稲H29（長野）2017'!$E50 -> 600 | R83: ='水稲H30（長野）2018'!$E50 -> 585 | S83: ='水稲R1（長野）2019'!$E50 -> 569 | T83: ='水稲R2（長野）2020'!$E50 -> 538 | U83: ='水稲R3（長野）2021'!$E50 -> 557 | V83: ='水稲R4（長野）2022'!$E50 -> 555 | W83: ='水稲R5（長野）2023'!$E50 -> 552 | X83: ='水稲R6（長野）2024'!$E50 -> 541
A84: 43000 | B84: 407 | C84: 阿智村 | I84: ='水稲H21（長野）2009'!E51 -> 579 | J84: ='水稲H22（長野）2010'!$E51 -> 591 | K84: ='水稲H23（長野）2011'!$E51 -> 598 | L84: ='水稲H24（長野）2012'!$E51 -> 599 | M84: ='水稲H25（長野）2013'!$E51 -> 593 | N84: ='水稲H26（長野）2014'!$E51 -> 558 | O84: ='水稲H27（長野）2015'!$E51 -> 568 | P84: ='水稲H28（長野）2016'!$E51 -> 574 | Q84: ='水稲H29（長野）2017'!$E51 -> 611 | R84: ='水稲H30（長野）2018'!$E51 -> 588 | S84: ='水稲R1（長野）2019'!$E51 -> 571 | T84: ='水稲R2（長野）2020'!$E51 -> 545 | U84: ='水稲R3（長野）2021'!$E51 -> 567 | V84: ='水稲R4（長野）2022'!$E51 -> 561 | W84: ='水稲R5（長野）2023'!$E51 -> 556 | X84: ='水稲R6（長野）2024'!$E51 -> 546
B85: 407 | C85: 阿智村 | E85: ='水稲H17（長野）2005'!E52 -> 602 | F85: ='水稲H18（長野）2006'!E52 -> 560 | G85: ='水稲H19（長野）2007'!E52 -> 586 | H85: ='水稲H20（長野）2008'!E52 -> 601
B86: 407 | C86: 阿智村 | D86: ='水稲H16（長野）2004'!E60 -> 630
B87: 408 | C87: 浪合村 | D87: ='水稲H16（長野）2004'!E61 -> 500
B88: 406 | C88: 清内路村 | D88: ='水稲H16（長野）2004'!E59 -> 490 | E88: ='水稲H17（長野）2005'!E51 -> 460 | F88: ='水稲H18（長野）2006'!E51 -> 450 | G88: ='水稲H19（長野）2007'!E51 -> 460 | H88: ='水稲H20（長野）2008'!E51 -> 470
A89: 44000 | B89: 409 | C89: 平谷村 | D89: ='水稲H16（長野）2004'!E62 -> 500 | E89: ='水稲H17（長野）2005'!E53 -> 470 | F89: ='水稲H18（長野）2006'!$E53 -> 452 | G89: ='水稲H19（長野）2007'!$E53 -> 467 | H89: ='水稲H20（長野）2008'!$E53 -> 476 | I89: ='水稲H21（長野）2009'!E52 -> 439 | J89: ='水稲H22（長野）2010'!$E52 -> 465 | K89: ='水稲H23（長野）2011'!$E52 -> 459 | L89: ='水稲H24（長野）2012'!$E52 -> 471 | M89: ='水稲H25（長野）2013'!$E52 -> 468 | N89: ='水稲H26（長野）2014'!$E52 -> 440 | O89: ='水稲H27（長野）2015'!$E52 -> 448 | P89: ='水稲H28（長野）2016'!$E52 -> 445 | Q89: ='水稲H29（長野）2017'!$E52 -> 470 | R89: ='水稲H30（長野）2018'!$E52 -> 460 | S89: ='水稲R1（長野）2019'!$E52 -> 446 | T89: ='水稲R2（長野）2020'!$E52 -> 435 | U89: ='水稲R3（長野）2021'!$E52 -> 445 | V89: ='水稲R4（長野）2022'!$E52 -> 443 | W89: ='水稲R5（長野）2023'!$E52 -> 435 | X89: ='水稲R6（長野）2024'!$E52 -> 427
A90: 45000 | B90: 410 | C90: 根羽村 | D90: ='水稲H16（長野）2004'!E63 -> 611 | E90: ='水稲H17（長野）2005'!E54 -> 586 | F90: ='水稲H18（長野）2006'!$E54 -> 562 | G90: ='水稲H19（長野）2007'!$E54 -> 572 | H90: ='水稲H20（長野）2008'!$E54 -> 583 | I90: ='水稲H21（長野）2009'!E53 -> 547 | J90: ='水稲H22（長野）2010'!$E53 -> 580 | K90: ='水稲H23（長野）2011'!$E53 -> 571 | L90: ='水稲H24（長野）2012'!$E53 -> 583 | M90: ='水稲H25（長野）2013'!$E53 -> 580 | N90: ='水稲H26（長野）2014'!$E53 -> 544 | O90: ='水稲H27（長野）2015'!$E53 -> 553 | P90: ='水稲H28（長野）2016'!$E53 -> 563 | Q90: ='水稲H29（長野）2017'!$E53 -> 597 | R90: ='水稲H30（長野）2018'!$E53 -> 577 | S90: ='水稲R1（長野）2019'!$E53 -> 562 | T90: ='水稲R2（長野）2020'!$E53 -> 549 | U90: ='水稲R3（長野）2021'!$E53 -> 555 | V90: ='水稲R4（長野）2022'!$E53 -> 547 | W90: ='水稲R5（長野）2023'!$E53 -> 540 | X90: ='水稲R6（長野）2024'!$E53 -> 535
A91: 46000 | B91: 411 | C91: 下條村 | D91: ='水稲H16（長野）2004'!E64 -> 631 | E91: ='水稲H17（長野）2005'!E55 -> 606 | F91: ='水稲H18（長野）2006'!$E55 -> 568 | G91: ='水稲H19（長野）2007'!$E55 -> 600 | H91: ='水稲H20（長野）2008'!$E55 -> 612 | I91: ='水稲H21（長野）2009'!E54 -> 590 | J91: ='水稲H22（長野）2010'!$E54 -> 603 | K91: ='水稲H23（長野）2011'!$E54 -> 608 | L91: ='水稲H24（長野）2012'!$E54 -> 612 | M91: ='水稲H25（長野）2013'!$E54 -> 604 | N91: ='水稲H26（長野）2014'!$E54 -> 569 | O91: ='水稲H27（長野）2015'!$E54 -> 580 | P91: ='水稲H28（長野）2016'!$E54 -> 571 | Q91: ='水稲H29（長野）2017'!$E54 -> 622 | R91: ='水稲H30（長野）2018'!$E54 -> 599 | S91: ='水稲R1（長野）2019'!$E54 -> 595 | T91: ='水稲R2（長野）2020'!$E54 -> 564 | U91: ='水稲R3（長野）2021'!$E54 -> 575 | V91: ='水稲R4（長野）2022'!$E54 -> 572 | W91: ='水稲R5（長野）2023'!$E54 -> 566 | X91: ='水稲R6（長野）2024'!$E54 -> 557
A92: 47000 | B92: 412 | C92: 売木村 | D92: ='水稲H16（長野）2004'!E65 -> 614 | E92: ='水稲H17（長野）2005'!E56 -> 584 | F92: ='水稲H18（長野）2006'!$E56 -> 567 | G92: ='水稲H19（長野）2007'!$E56 -> 577 | H92: ='水稲H20（長野）2008'!$E56 -> 589 | I92: ='水稲H21（長野）2009'!E55 -> 554 | J92: ='水稲H22（長野）2010'!$E55 -> 585 | K92: ='水稲H23（長野）2011'!$E55 -> 574 | L92: ='水稲H24（長野）2012'!$E55 -> 587 | M92: ='水稲H25（長野）2013'!$E55 -> 587 | N92: ='水稲H26（長野）2014'!$E55 -> 549 | O92: ='水稲H27（長野）2015'!$E55 -> 565 | P92: ='水稲H28（長野）2016'!$E55 -> 560 | Q92: ='水稲H29（長野）2017'!$E55 -> 605 | R92: ='水稲H30（長野）2018'!$E55 -> 581 | S92: ='水稲R1（長野）2019'!$E55 -> 564 | T92: ='水稲R2（長野）2020'!$E55 -> 552 | U92: ='水稲R3（長野）2021'!$E55 -> 564 | V92: ='水稲R4（長野）2022'!$E55 -> 554 | W92: ='水稲R5（長野）2023'!$E55 -> 550 | X92: ='水稲R6（長野）2024'!$E55 -> 540
A93: 48000 | B93: 413 | C93: 天龍村 | D93: ='水稲H16（長野）2004'!E66 -> 520 | E93: ='水稲H17（長野）2005'!E57 -> 510 | F93: ='水稲H18（長野）2006'!$E57 -> 500 | G93: ='水稲H19（長野）2007'!$E57 -> 513 | H93: ='水稲H20（長野）2008'!$E57 -> 521 | I93: ='水稲H21（長野）2009'!E56 -> 484 | J93: ='水稲H22（長野）2010'!$E56 -> 511 | K93: ='水稲H23（長野）2011'!$E56 -> 508 | L93: ='水稲H24（長野）2012'!$E56 -> 517 | M93: ='水稲H25（長野）2013'!$E56 -> 515 | N93: ='水稲H26（長野）2014'!$E56 -> 482 | O93: ='水稲H27（長野）2015'!$E56 -> 490 | P93: ='水稲H28（長野）2016'!$E56 -> 500 | Q93: ='水稲H29（長野）2017'!$E56 -> 534 | R93: ='水稲H30（長野）2018'!$E56 -> 511 | S93: ='水稲R1（長野）2019'!$E56 -> 510 | T93: ='水稲R2（長野）2020'!$E56 -> 501 | U93: ='水稲R3（長野）2021'!$E56 -> 499 | V93: ='水稲R4（長野）2022'!$E56 -> 488 | W93: ='水稲R5（長野）2023'!$E56 -> 483 | X93: ='水稲R6（長野）2024'!$E56 -> 483
A94: 49000 | B94: 414 | C94: 泰阜村 | D94: ='水稲H16（長野）2004'!E67 -> 590 | E94: ='水稲H17（長野）2005'!E58 -> 571 | F94: ='水稲H18（長野）2006'!$E58 -> 545 | G94: ='水稲H19（長野）2007'!$E58 -> 573 | H94: ='水稲H20（長野）2008'!$E58 -> 577 | I94: ='水稲H21（長野）2009'!E57 -> 560 | J94: ='水稲H22（長野）2010'!$E57 -> 570 | K94: ='水稲H23（長野）2011'!$E57 -> 577 | L94: ='水稲H24（長野）2012'!$E57 -> 575 | M94: ='水稲H25（長野）2013'!$E57 -> 573 | N94: ='水稲H26（長野）2014'!$E57 -> 541 | O94: ='水稲H27（長野）2015'!$E57 -> 558 | P94: ='水稲H28（長野）2016'!$E57 -> 547 | Q94: ='水稲H29（長野）2017'!$E57 -> 593 | R94: ='水稲H30（長野）2018'!$E57 -> 568 | S94: ='水稲R1（長野）2019'!$E57 -> 555 | T94: ='水稲R2（長野）2020'!$E57 -> 525 | U94: ='水稲R3（長野）2021'!$E57 -> 546 | V94: ='水稲R4（長野）2022'!$E57 -> 546 | W94: ='水稲R5（長野）2023'!$E57 -> 539 | X94: ='水稲R6（長野）2024'!$E57 -> 529
A95: 50000 | B95: 415 | C95: 喬木村 | D95: ='水稲H16（長野）2004'!E68 -> 646 | E95: ='水稲H17（長野）2005'!E59 -> 620 | F95: ='水稲H18（長野）2006'!$E59 -> 586 | G95: ='水稲H19（長野）2007'!$E59 -> 616 | H95: ='水稲H20（長野）2008'!$E59 -> 633 | I95: ='水稲H21（長野）2009'!E58 -> 604 | J95: ='水稲H22（長野）2010'!$E58 -> 618 | K95: ='水稲H23（長野）2011'!$E58 -> 624 | L95: ='水稲H24（長野）2012'!$E58 -> 630 | M95: ='水稲H25（長野）2013'!$E58 -> 620 | N95: ='水稲H26（長野）2014'!$E58 -> 583 | O95: ='水稲H27（長野）2015'!$E58 -> 595 | P95: ='水稲H28（長野）2016'!$E58 -> 585 | Q95: ='水稲H29（長野）2017'!$E58 -> 634 | R95: ='水稲H30（長野）2018'!$E58 -> 618 | S95: ='水稲R1（長野）2019'!$E58 -> 614 | T95: ='水稲R2（長野）2020'!$E58 -> 586 | U95: ='水稲R3（長野）2021'!$E58 -> 595 | V95: ='水稲R4（長野）2022'!$E58 -> 589 | W95: ='水稲R5（長野）2023'!$E58 -> 581 | X95: ='水稲R6（長野）2024'!$E58 -> 578
A96: 51000 | B96: 416 | C96: 豊丘村 | D96: ='水稲H16（長野）2004'!E69 -> 643 | E96: ='水稲H17（長野）2005'!E60 -> 618 | F96: ='水稲H18（長野）2006'!$E60 -> 584 | G96: ='水稲H19（長野）2007'!$E60 -> 613 | H96: ='水稲H20（長野）2008'!$E60 -> 627 | I96: ='水稲H21（長野）2009'!E59 -> 602 | J96: ='水稲H22（長野）2010'!$E59 -> 616 | K96: ='水稲H23（長野）2011'!$E59 -> 623 | L96: ='水稲H24（長野）2012'!$E59 -> 627 | M96: ='水稲H25（長野）2013'!$E59 -> 617 | N96: ='水稲H26（長野）2014'!$E59 -> 581 | O96: ='水稲H27（長野）2015'!$E59 -> 594 | P96: ='水稲H28（長野）2016'!$E59 -> 593 | Q96: ='水稲H29（長野）2017'!$E59 -> 636 | R96: ='水稲H30（長野）2018'!$E59 -> 615 | S96: ='水稲R1（長野）2019'!$E59 -> 613 | T96: ='水稲R2（長野）2020'!$E59 -> 585 | U96: ='水稲R3（長野）2021'!$E59 -> 595 | V96: ='水稲R4（長野）2022'!$E59 -> 586 | W96: ='水稲R5（長野）2023'!$E59 -> 579 | X96: ='水稲R6（長野）2024'!$E59 -> 576
A97: 52000 | B97: 417 | C97: 大鹿村 | D97: ='水稲H16（長野）2004'!E70 -> 574 | E97: ='水稲H17（長野）2005'!E61 -> 550 | F97: ='水稲H18（長野）2006'!$E61 -> 540 | G97: ='水稲H19（長野）2007'!$E61 -> 565 | H97: ='水稲H20（長野）2008'!$E61 -> 564 | I97: ='水稲H21（長野）2009'!E60 -> 526 | J97: ='水稲H22（長野）2010'!$E60 -> 554 | K97: ='水稲H23（長野）2011'!$E60 -> 546 | L97: ='水稲H24（長野）2012'!$E60 -> 556 | M97: ='水稲H25（長野）2013'!$E60 -> 558 | N97: ='水稲H26（長野）2014'!$E60 -> 524 | O97: ='水稲H27（長野）2015'!$E60 -> 535 | P97: ='水稲H28（長野）2016'!$E60 -> 530 | Q97: ='水稲H29（長野）2017'!$E60 -> 573 | R97: ='水稲H30（長野）2018'!$E60 -> 557 | S97: ='水稲R1（長野）2019'!$E60 -> 547 | T97: ='水稲R2（長野）2020'!$E60 -> 531 | U97: ='水稲R3（長野）2021'!$E60 -> 539 | V97: ='水稲R4（長野）2022'!$E60 -> 531 | W97: ='水稲R5（長野）2023'!$E60 -> 524 | X97: ='水稲R6（長野）2024'!$E60 -> 524
A98: 53000 | B98: 422 | C98: 上松町 | D98: ='水稲H16（長野）2004'!E74 -> 542 | E98: ='水稲H17（長野）2005'!E62 -> 557 | F98: ='水稲H18（長野）2006'!$E62 -> 496 | G98: ='水稲H19（長野）2007'!$E62 -> 522 | H98: ='水稲H20（長野）2008'!$E62 -> 527 | I98: ='水稲H21（長野）2009'!E61 -> 509 | J98: ='水稲H22（長野）2010'!$E61 -> 513 | K98: ='水稲H23（長野）2011'!$E61 -> 521 | L98: ='水稲H24（長野）2012'!$E61 -> 523 | M98: ='水稲H25（長野）2013'!$E61 -> 523 | N98: ='水稲H26（長野）2014'!$E61 -> 508 | O98: ='水稲H27（長野）2015'!$E61 -> 514 | P98: ='水稲H28（長野）2016'!$E61 -> 535 | Q98: ='水稲H29（長野）2017'!$E61 -> 541 | R98: ='水稲H30（長野）2018'!$E61 -> 532 | S98: ='水稲R1（長野）2019'!$E61 -> 532 | T98: ='水稲R2（長野）2020'!$E61 -> 519 | U98: ='水稲R3（長野）2021'!$E61 -> 517 | V98: ='水稲R4（長野）2022'!$E61 -> 532 | W98: ='水稲R5（長野）2023'!$E61 -> 533 | X98: ='水稲R6（長野）2024'!$E61 -> 530
A99: 54000 | B99: 423 | C99: 南木曽町 | D99: ='水稲H16（長野）2004'!E75 -> 580 | E99: ='水稲H17（長野）2005'!E63 -> 588 | F99: ='水稲H18（長野）2006'!$E63 -> 547 | G99: ='水稲H19（長野）2007'!$E63 -> 558 | H99: ='水稲H20（長野）2008'!$E63 -> 564 | I99: ='水稲H21（長野）2009'!E62 -> 546 | J99: ='水稲H22（長野）2010'!$E62 -> 552 | K99: ='水稲H23（長野）2011'!$E62 -> 557 | L99: ='水稲H24（長野）2012'!$E62 -> 567 | M99: ='水稲H25（長野）2013'!$E62 -> 564 | N99: ='水稲H26（長野）2014'!$E62 -> 550 | O99: ='水稲H27（長野）2015'!$E62 -> 553 | P99: ='水稲H28（長野）2016'!$E62 -> 575 | Q99: ='水稲H29（長野）2017'!$E62 -> 582 | R99: ='水稲H30（長野）2018'!$E62 -> 565 | S99: ='水稲R1（長野）2019'!$E62 -> 565 | T99: ='水稲R2（長野）2020'!$E62 -> 557 | U99: ='水稲R3（長野）2021'!$E62 -> 555 | V99: ='水稲R4（長野）2022'!$E62 -> 566 | W99: ='水稲R5（長野）2023'!$E62 -> 570 | X99: ='水稲R6（長野）2024'!$E62 -> 562
A100: 55000 | B100: 425 | C100: 木祖村 | D100: ='水稲H16（長野）2004'!E77 -> 566 | E100: ='水稲H17（長野）2005'!E64 -> 580 | F100: ='水稲H18（長野）2006'!$E64 -> 518 | G100: ='水稲H19（長野）2007'!$E64 -> 544 | H100: ='水稲H20（長野）2008'!$E64 -> 550 | I100: ='水稲H21（長野）2009'!E63 -> 525 | J100: ='水稲H22（長野）2010'!$E63 -> 530 | K100: ='水稲H23（長野）2011'!$E63 -> 538 | L100: ='水稲H24（長野）2012'!$E63 -> 540 | M100: ='水稲H25（長野）2013'!$E63 -> 544 | N100: ='水稲H26（長野）2014'!$E63 -> 528 | O100: ='水稲H27（長野）2015'!$E63 -> 533 | P100: ='水稲H28（長野）2016'!$E63 -> 540 | Q100: ='水稲H29（長野）2017'!$E63 -> 554 | R100: ='水稲H30（長野）2018'!$E63 -> 545 | S100: ='水稲R1（長野）2019'!$E63 -> 545 | T100: ='水稲R2（長野）2020'!$E63 -> 532 | U100: ='水稲R3（長野）2021'!$E63 -> 531 | V100: ='水稲R4（長野）2022'!$E63 -> 543 | W100: ='水稲R5（長野）2023'!$E63 -> 544 | X100: ='水稲R6（長野）2024'!$E63 -> 540
...

Sheet 10a当たり収量 (長野)2010～
A1: データ10a当たり収量 | D1: 2010 | E1: 2011 | F1: 2012 | G1: 2013 | H1: 2014 | I1: 2015 | J1: 2016 | K1: 2017 | L1: 2018 | M1: 2019 | N1: 2020 | O1: 2021 | P1: 2022 | Q1: 2023 | R1: 2024
A2: 1000 | B2: 201 | C2: 長野市 | D2: 547 | E2: 529 | F2: 563 | G2: 603 | H2: 554 | I2: 545 | J2: 591 | K2: 579 | L2: 557 | M2: 578 | N2: 565 | O2: 551 | P2: 550 | Q2: 554 | R2: 541
A3: 2000 | B3: 202 | C3: 松本市 | D3: 632 | E3: 611 | F3: 635 | G3: 656 | H3: 621 | I3: 631 | J3: 656 | K3: 669 | L3: 652 | M3: 645 | N3: 636 | O3: 637 | P3: 648 | Q3: 653 | R3: 649
A4: 3000 | B4: 203 | C4: 上田市 | D4: 603 | E4: 613 | F4: 604 | G4: 606 | H4: 573 | I4: 572 | J4: 584 | K4: 607 | L4: 587 | M4: 591 | N4: 584 | O4: 567 | P4: 584 | Q4: 585 | R4: 580
A5: 4000 | B5: 204 | C5: 岡谷市 | D5: 623 | E5: 628 | F5: 622 | G5: 626 | H5: 598 | I5: 617 | J5: 626 | K5: 640 | L5: 628 | M5: 642 | N5: 617 | O5: 625 | P5: 623 | Q5: 645 | R5: 640
A6: 5000 | B6: 205 | C6: 飯田市 | D6: 614 | E6: 619 | F6: 620 | G6: 614 | H6: 577 | I6: 589 | J6: 585 | K6: 634 | L6: 608 | M6: 593 | N6: 566 | O6: 591 | P6: 580 | Q6: 575 | R6: 565
A7: 6000 | B7: 206 | C7: 諏訪市 | D7: 647 | E7: 653 | F7: 653 | G7: 654 | H7: 622 | I7: 641 | J7: 655 | K7: 667 | L7: 653 | M7: 663 | N7: 641 | O7: 652 | P7: 652 | Q7: 665 | R7: 663
A8: 7000 | B8: 207 | C8: 須坂市 | D8: 586 | E8: 582 | F8: 576 | G8: 605 | H8: 590 | I8: 579 | J8: 613 | K8: 601 | L8: 582 | M8: 601 | N8: 598 | O8: 588 | P8: 574 | Q8: 582 | R8: 591
A9: 8000 | B9: 208 | C9: 小諸市 | D9: 664 | E9: 648 | F9: 599 | G9: 666 | H9: 612 | I9: 643 | J9: 640 | K9: 635 | L9: 616 | M9: 603 | N9: 576 | O9: 572 | P9: 605 | Q9: 648 | R9: 664
A10: 9000 | B10: 209 | C10: 伊那市 | D10: 627 | E10: 638 | F10: 641 | G10: 655 | H10: 618 | I10: 648 | J10: 653 | K10: 654 | L10: 646 | M10: 656 | N10: 650 | O10: 608 | P10: 643 | Q10: 639 | R10: 638
A11: 10000 | B11: 210 | C11: 駒ヶ根市 | D11: 617 | E11: 624 | F11: 634 | G11: 637 | H11: 603 | I11: 632 | J11: 642 | K11: 638 | L11: 631 | M11: 641 | N11: 633 | O11: 587 | P11: 631 | Q11: 625 | R11: 624
A12: 11000 | B12: 211 | C12: 中野市 | D12: 565 | E12: 550 | F12: 547 | G12: 584 | H12: 579 | I12: 533 | J12: 599 | K12: 579 | L12: 541 | M12: 554 | N12: 553 | O12: 540 | P12: 570 | Q12: 552 | R12: 582
A13: 12000 | B13: 212 | C13: 大町市 | D13: 613 | E13: 546 | F13: 604 | G13: 641 | H13: 604 | I13: 598 | J13: 617 | K13: 603 | L13: 604 | M13: 629 | N13: 595 | O13: 627 | P13: 607 | Q13: 608 | R13: 628
... A21: 20000 | B21: 303 | C21: 小海町 | D21: 610 | E21: 598 | F21: 564 | G21: 611 | H21: 563 | I21: 577 | J21: 613 | K21: 598 | L21: 593 | M21: 561 | N21: 535 | O21: 532 | P21: 561 | Q21: 592 | R21: 612
A22: 21000 | B22: 304 | C22: 川上村 | D22: - | E22: - | F22: - | G22: - | H22: - | I22: - | J22: - | K22: - | L22: - | M22: - | N22: - | O22: - | P22: - | Q22: - | R22: -
A23: 22000 | B23: 305 | C23: 南牧村 | D23: 542 | E23: 515 | F23: 496 | G23: 532 | H23: 493 | I23: 519 | J23: 557 | K23: 537 | L23: 526 | M23: 522 | N23: 511 | O23: 509 | P23: 511 | Q23: 525 | R23: 528
A24: 23000 | B24: 306 | C24: 南相木村 | D24: 548 | E24: 527 | F24: 505 | G24: 537 | H24: 501 | I24: 513 | J24: 547 | K24: 531 | L24: 529 | M24: 523 | N24: 510 | O24: 508 | P24: 510 | Q24: 524 | R24: 540
A25: 24000 | B25: 307 | C25: 北相木村 | D25: 548 | E25: 526 | F25: 504 | G25: 535 | H25: 500 | I25: 512 | J25: 545 | K25: 529 | L25: 527 | M25: 519 | N25: 505 | O25: 506 | P25: 509 | Q25: 522 | R25: 538
A26: 25000 | B26: 309 | C26: 佐久穂町 | D26: 644 | E26: 622 | F26: 564 | G26: 636 | H26: 582 | I26: 595 | J26: 633 | K26: 627 | L26: 615 | M26: 561 | N26: 546 | O26: 547 | P26: 579 | Q26: 625 | R26: 643
A27: 26000 | B27: 321 | C27: 軽井沢町 | D27: 604 | E27: 592 | F27: 505 | G27: 610 | H27: 572 | I27: 573 | J27: 588 | K27: 580 | L27: 578 | M27: 545 | N27: 531 | O27: 532 | P27: 554 | Q27: 578 | R27: 592
A28: 27000 | B28: 323 | C28: 御代田町 | D28: 633 | E28: 623 | F28: 603 | G28: 640 | H28: 590 | I28: 582 | J28: 619 | K28: 633 | L28: 605 | M28: 570 | N28: 553 | O28: 555 | P28: 584 | Q28: 627 | R28: 647
A29: 28000 | B29: 324 | C29: 立科町 | D29: 657 | E29: 658 | F29: 654 | G29: 678 | H29: 639 | I29: 667 | J29: 655 | K29: 676 | L29: 698 | M29: 664 | N29: 651 | O29: 644 | P29: 641 | Q29: 668 | R29: 676
A30: 29000 | B30: 349 | C30: 青木村 | D30: 603 | E30: 593 | F30: 539 | G30: 589 | H30: 554 | I30: 565 | J30: 599 | K30: 600 | L30: 613 | M30: 568 | N30: 564 | O30: 543 | P30: 567 | Q30: 561 | R30: 569
A31: 30000 | B31: 350 | C31: 長和町 | D31: 604 | E31: 595 | F31: 556 | G31: 589 | H31: 555 | I31: 562 | J31: 603 | K31: 589 | L31: 615 | M31: 576 | N31: 566 | O31: 554 | P31: 570 | Q31: 570 | R31: 568
A32: 31000 | B32: 361 | C32: 下諏訪町 | D32: 616 | E32: 623 | F32: 625 | G32: 625 | H32: 591 | I32: 618 | J32: 623 | K32: 633 | L32: 622 | M32: 617 | N32: 602 | O32: 617 | P32: 614 | Q32: 638 | R32: 629
A33: 32000 | B33: 362 | C33: 富士見町 | D33: 614 | E33: 613 | F33: 622 | G33: 620 | H33: 583 | I33: 601 | J33: 614 | K33: 624 | L33: 625 | M33: 639 | N33: 590 | O33: 610 | P33: 609 | Q33: 630 | R33: 628
A34: 33000 | B34: 363 | C34: 原村 | D34: 610 | E34: 610 | F34: 623 | G34: 613 | H34: 579 | I34: 598 | J34: 612 | K34: 621 | L34: 620 | M34: 643 | N34: 592 | O34: 600 | P34: 604 | Q34: 626 | R34: 623
... A78: 77000 | B78: 602 | C78: 栄村 | D78: 508 | E78: 475 | F78: 489 | G78: 538 | H78: 533 | I78: 500 | J78: 546 | K78: 512 | L78: 487 | M78: 507 | N78: 501 | O78: 494 | P78: 500 | Q78: 494 | R78: 515
C79: 長野県 | D79: 612 | E79: 604 | F79: 610 | G79: 632 | H79: 597 | I79: 604 | J79: 624 | K79: 629 | L79: 618 | M79: 620 | N79: 606 | O79: 603 | P79: 608 | Q79: 614 | R79: 620
D85: 2010 | E85: 2011 | F85: 2012 | G85: 2013 | H85: 2014 | I85: 2015 | J85: 2016 | K85: 2017 | L85: 2018 | M85: 2019 | N85: 2020 | O85: 2021 | P85: 2022 | Q85: 2023 | R85: 2024
C86: 長野市 | D86: =_xlfn.XLOOKUP($C$86,$C$2:$C$79,D$2:D$79) -> 547 | E86: =_xlfn.XLOOKUP($C$86,$C$2:$C$79,E$2:E$79) -> 529 | F86: =_xlfn.XLOOKUP($C$86,$C$2:$C$79,F$2:F$79) -> 563 | G86: =_xlfn.XLOOKUP($C$86,$C$2:$C$79,G$2:G$79) -> 603 | H86: =_xlfn.XLOOKUP($C$86,$C$2:$C$79,H$2:H$79) -> 554 | I86: =_xlfn.XLOOKUP($C$86,$C$2:$C$79,I$2:I$79) -> 545 | J86: =_xlfn.XLOOKUP($C$86,$C$2:$C$79,J$2:J$79) -> 591 | K86: =_xlfn.XLOOKUP($C$86,$C$2:$C$79,K$2:K$79) -> 579 | ... R86: =_xlfn.XLOOKUP($C$86,$C$2:$C$79,R$2:R$79) -> 541

Sheet データ収穫量（長野）2004～
A1: データ収穫量 | D1: 2004 | E1: 2005 | F1: 2006 | G1: 2007 | H1: 2008 | I1: 2009 | J1: 2010 | K1: 2011 | L1: 2012 | M1: 2013 | N1: 2014 | O1: 2015 | P1: 2016 | Q1: 2017 | R1: 2018 | S1: 2019 | T1: 2020 | U1: 2021 | V1: 2022 | W1: 2023 | X1: 2024
J2: 211800 | K2: 206600 | L2: 208600 | M2: 217400 | N2: 202400 | O2: 200500 | P2: 204000 | Q2: 203200 | R2: 199000 | S2: 198400 | T2: 192700 | U2: 189900 | V2: 187300 | W2: 187900 | X2: 187900
D3: =SUM(D4:D131) -> 230172 | E3: =SUM(E4:E131) -> 237423 | F3: =SUM(F4:F131) -> 222053 | G3: =SUM(G4:G131) -> 224411 | H3: =SUM(H4:H131) -> 219464 | I3: =SUM(I4:I131) -> 205932 | J3: =SUM(J4:J131) -> 211657 | K3: =SUM(K4:K131) -> 206493 | ... X3: =SUM(X4:X131) -> 187713
A4: 1000 | B4: 201 | C4: 長野市 | J4: ='水稲H22（長野）2010'!$F9 -> 10100 | K4: ='水稲H23（長野）2011'!$F9 -> 9620 | L4: ='水稲H24（長野）2012'!$F9 -> 10300 | M4: ='水稲H25（長野）2013'!$F9 -> 10900 | N4: ='水稲H26（長野）2014'!$F9 -> 9670 | O4: ='水稲H27（長野）2015'!$F9 -> 9110 | P4: ='水稲H28（長野）2016'!$F9 -> 9750 | Q4: ='水稲H29（長野）2017'!$F9 -> 9260 | R4: ='水稲H30（長野）2018'!$F9 -> 8640 | S4: ='水稲R1（長野）2019'!$F9 -> 8740 | T4: ='水稲R2（長野）2020'!$F9 -> 8530 | U4: ='水稲R3（長野）2021'!$F9 -> 8180 | V4: ='水稲R4（長野）2022'!$F9 -> 8100 | W4: ='水稲R5（長野）2023'!$F9 -> 7990 | X4: ='水稲R6（長野）2024'!$F9 -> 7640
B5: 201 | C5: 長野市 | D5: ='水稲H16（長野）2004'!F9 -> 10200 | E5: ='水稲H17（長野）2005'!F9 -> 11200 | F5: ='水稲H18（長野）2006'!$F9 -> 9770 | G5: ='水稲H19（長野）2007'!$F9 -> 9780 | H5: ='水稲H20（長野）2008'!$F9 -> 9630 | I5: ='水稲H21（長野）2009'!$F9 -> 9200
B6: 581 | C6: 信州新町 | D6: ='水稲H16（長野）2004'!F112 -> 455 | E6: ='水稲H17（長野）2005'!F84 -> 483 | F6: ='水稲H18（長野）2006'!$F84 -> 435 | G6: ='水稲H19（長野）2007'!$F84 -> 454 | H6: ='水稲H20（長野）2008'!$F84 -> 460 | I6: ='水稲H21（長野）2009'!F83 -> 427
B7: 589 | C7: 中条村 | D7: ='水稲H16（長野）2004'!F117 -> 191 | E7: ='水稲H17（長野）2005'!F87 -> 199 | F7: ='水稲H18（長野）2006'!$F87 -> 179 | G7: ='水稲H19（長野）2007'!$F87 -> 186 | H7: ='水稲H20（長野）2008'!$F87 -> 191 | I7: ='水稲H21（長野）2009'!F86 -> 180
A8: 2000 | B8: 202 | C8: 松本市 | J8: ='水稲H22（長野）2010'!$F10 -> 18200 | K8: ='水稲H23（長野）2011'!$F10 -> 17600 | L8: ='水稲H24（長野）2012'!$F10 -> 18000 | M8: ='水稲H25（長野）2013'!$F10 -> 18700 | N8: ='水稲H26（長野）2014'!$F10 -> 17400 | O8: ='水稲H27（長野）2015'!$F10 -> 17600 | P8: ='水稲H28（長野）2016'!$F10 -> 18100 | Q8: ='水稲H29（長野）2017'!$F10 -> 18200 | R8: ='水稲H30（長野）2018'!$F10 -> 17600 | S8: ='水稲R1（長野）2019'!$F10 -> 17400 | T8: ='水稲R2（長野）2020'!$F10 -> 17100 | U8: ='水稲R3（長野）2021'!$F10 -> 17100 | V8: ='水稲R4（長野）2022'!$F10 -> 17000 | W8: ='水稲R5（長野）2023'!$F10 -> 16900 | X8: ='水稲R6（長野）2024'!$F10 -> 16800
B9: 202 | C9: 松本市
B10: 202 | C10: 松本市 | D10: ='水稲H16（長野）2004'!F10 -> 13500 | E10: ='水稲H17（長野）2005'!F10 -> 17800 | F10: ='水稲H18（長野）2006'!F10 -> 17400 | G10: ='水稲H19（長野）2007'!F10 -> 17700 | H10: ='水稲H20（長野）2008'!F10 -> 16400 | I10: ='水稲H21（長野）2009'!F10 -> 16000
B11: 443 | C11: 四賀村 | D11: ='水稲H16（長野）2004'!F84 -> 983
B12: 449 | C12: 波田町 | D12: ='水稲H16（長野）2004'!F90 -> 1830 | E12: ='水稲H17（長野）2005'!F70 -> 1880 | F12: ='水稲H18（長野）2006'!$F70 -> 1810 | G12: ='水稲H19（長野）2007'!$F70 -> 1860 | H12: ='水稲H20（長野）2008'!$F70 -> 1870 | I12: ='水稲H21（長野）2009'!F69 -> 1870
B13: 463 | C13: 奈川村 | D13: ='水稲H16（長野）2004'!F95 -> 49
B14: 464 | C14: 安曇村 | D14: ='水稲H16（長野）2004'!F96 -> -
B15: 465 | C15: 梓川村 | D15: ='水稲H16（長野）2004'!F97 -> 2760
A16: 3000 | B16: 203 | C16: 上田市 | E16: ='水稲H17（長野）2005'!F11 -> 11700 | F16: ='水稲H18（長野）2006'!$F11 -> 10800 | G16: ='水稲H19（長野）2007'!$F11 -> 10800 | H16: ='水稲H20（長野）2008'!$F11 -> 11000 | I16: ='水稲H21（長野）2009'!$F11 -> 10200 | J16: ='水稲H22（長野）2010'!$F11 -> 10500 | K16: ='水稲H23（長野）2011'!$F11 -> 10600 | L16: ='水稲H24（長野）2012'!$F11 -> 10600 | M16: ='水稲H25（長野）2013'!$F11 -> 10600 | N16: ='水稲H26（長野）2014'!$F11 -> 9950 | O16: ='水稲H27（長野）2015'!$F11 -> 9640 | P16: ='水稲H28（長野）2016'!$F11 -> 9740 | Q16: ='水稲H29（長野）2017'!$F11 -> 10000 | R16: ='水稲H30（長野）2018'!$F11 -> 9660 | S16: ='水稲R1（長野）2019'!$F11 -> 9770 | T16: ='水稲R2（長野）2020'!$F11 -> 9540 | U16: ='水稲R3（長野）2021'!$F11 -> 9180 | V16: ='水稲R4（長野）2022'!$F11 -> 9250 | W16: ='水稲R5（長野）2023'!$F11 -> 9570 | X16: ='水稲R6（長野）2024'!$F11 -> 9030
B17: 203 | C17: 上田市 | D17: ='水稲H16（長野）2004'!F11 -> 7330
B18: 341 | C18: 丸子町 | D18: ='水稲H16（長野）2004'!F39 -> 2280
B19: 345 | C19: 真田町 | D19: ='水稲H16（長野）2004'!F41 -> 930
B20: 346 | C20: 武石村 | D20: ='水稲H16（長野）2004'!F42 -> 965
A21: 4000 | B21: 204 | C21: 岡谷市 | D21: ='水稲H16（長野）2004'!F12 -> 434 | E21: ='水稲H17（長野）2005'!F12 -> 437 | F21: ='水稲H18（長野）2006'!$F12 -> 395 | G21: ='水稲H19（長野）2007'!$F12 -> 402 | H21: ='水稲H20（長野）2008'!$F12 -> 343 | I21: ='水稲H21（長野）2009'!$F12 -> 310 | J21: ='水稲H22（長野）2010'!$F12 -> 330 | K21: ='水稲H23（長野）2011'!$F12 -> 333 | L21: ='水稲H24（長野）2012'!$F12 -> 336 | M21: ='水稲H25（長野）2013'!$F12 -> 338 | N21: ='水稲H26（長野）2014'!$F12 -> 317 | O21: ='水稲H27（長野）2015'!$F12 -> 309 | P21: ='水稲H28（長野）2016'!$F12 -> 307 | Q21: ='水稲H29（長野）2017'!$F12 -> 275 | R21: ='水稲H30（長野）2018'!$F12 -> 264 | S21: ='水稲R1（長野）2019'!$F12 -> 257 | T21: ='水稲R2（長野）2020'!$F12 -> 241 | U21: ='水稲R3（長野）2021'!$F12 -> 231 | V21: ='水稲R4（長野）2022'!$F12 -> 218 | W21: ='水稲R5（長野）2023'!$F12 -> 258 | X21: ='水稲R6（長野）2024'!$F12 -> 230
A22: 5000 | B22: 205 | C22: 飯田市 | E22: ='水稲H17（長野）2005'!F13 -> 5390 | F22: ='水稲H18（長野）2006'!$F13 -> 5000 | G22: ='水稲H19（長野）2007'!$F13 -> 5210 | H22: ='水稲H20（長野）2008'!$F13 -> 5200 | I22: ='水稲H21（長野）2009'!$F13 -> 5000 | J22: ='水稲H22（長野）2010'!$F13 -> 5140 | K22: ='水稲H23（長野）2011'!$F13 -> 5120 | L22: ='水稲H24（長野）2012'!$F13 -> 5120 | M22: ='水稲H25（長野）2013'!$F13 -> 5040 | N22: ='水稲H26（長野）2014'!$F13 -> 4580 | O22: ='水稲H27（長野）2015'!$F13 -> 4550 | P22: ='水稲H28（長野）2016'!$F13 -> 4360 | Q22: ='水稲H29（長野）2017'!$F13 -> 4620 | R22: ='水稲H30（長野）2018'!$F13 -> 4300 | S22: ='水稲R1（長野）2019'!$F13 -> 4030 | T22: ='水稲R2（長野）2020'!$F13 -> 3760 | U22: ='水稲R3（長野）2021'!$F13 -> 3840 | V22: ='水稲R4（長野）2022'!$F13 -> 3730 | W22: ='水稲R5（長野）2023'!$F13 -> 3610 | X22: ='水稲R6（長野）2024'!$F13 -> 3300
B23: 205 | C23: 飯田市 | D23: ='水稲H16（長野）2004'!F13 -> 5650
B24: 418 | C24: 上村 | D24: ='水稲H16（長野）2004'!F71 -> 15
B25: 419 | C25: 南信濃村 | D25: ='水稲H16（長野）2004'!F72 -> 75
A26: 6000 | B26: 206 | C26: 諏訪市 | D26: ='水稲H16（長野）2004'!F14 -> 2570 | E26: ='水稲H17（長野）2005'!F14 -> 2630 | F26: ='水稲H18（長野）2006'!$F14 -> 2460 | G26: ='水稲H19（長野）2007'!$F14 -> 2510 | H26: ='水稲H20（長野）2008'!$F14 -> 2590 | I26: ='水稲H21（長野）2009'!$F14 -> 2360 | J26: ='水稲H22（長野）2010'!$F14 -> 2470 | K26: ='水稲H23（長野）2011'!$F14 -> 2490 | L26: ='水稲H24（長野）2012'!$F14 -> 2480 | M26: ='水稲H25（長野）2013'!$F14 -> 2490 | N26: ='水稲H26（長野）2014'!$F14 -> 2330 | O26: ='水稲H27（長野）2015'!$F14 -> 2390 | P26: ='水稲H28（長野）2016'!$F14 -> 2400 | Q26: ='水稲H29（長野）2017'!$F14 -> 2440 | R26: ='水稲H30（長野）2018'!$F14 -> 2390 | S26: ='水稲R1（長野）2019'!$F14 -> 2380 | T26: ='水稲R2（長野）2020'!$F14 -> 2290 | U26: ='水稲R3（長野）2021'!$F14 -> 2300 | V26: ='水稲R4（長野）2022'!$F14 -> 2290 | W26: ='水稲R5（長野）2023'!$F14 -> 2270 | X26: ='水稲R6（長野）2024'!$F14 -> 2270
A27: 7000 | B27: 207 | C27: 須坂市 | D27: ='水稲H16（長野）2004'!F15 -> 1300 | E27: ='水稲H17（長野）2005'!F15 -> 1360 | F27: ='水稲H18（長野）2006'!$F15 -> 1290 | G27: ='水稲H19（長野）2007'!$F15 -> 1270 | H27: ='水稲H20（長野）2008'!$F15 -> 1240 | I27: ='水稲H21（長野）2009'!$F15 -> 1200 | J27: ='水稲H22（長野）2010'!$F15 -> 1240 | K27: ='水稲H23（長野）2011'!$F15 -> 1230 | L27: ='水稲H24（長野）2012'!$F15 -> 1220 | M27: ='水稲H25（長野）2013'!$F15 -> 1260 | N27: ='水稲H26（長野）2014'!$F15 -> 1170 | O27: ='水稲H27（長野）2015'!$F15 -> 1090 | P27: ='水稲H28（長野）2016'!$F15 -> 1130 | Q27: ='水稲H29（長野）2017'!$F15 -> 1100 | R27: ='水稲H30（長野）2018'!$F15 -> 1020 | S27: ='水稲R1（長野）2019'!$F15 -> 1050 | T27: ='水稲R2（長野）2020'!$F15 -> 1050 | U27: ='水稲R3（長野）2021'!$F15 -> 1030 | V27: ='水稲R4（長野）2022'!$F15 -> 901 | W27: ='水稲R5（長野）2023'!$F15 -> 908 | X27: ='水稲R6（長野）2024'!$F15 -> 881
A28: 8000 | B28: 208 | C28: 小諸市 | D28: ='水稲H16（長野）2004'!F16 -> 4670 | E28: ='水稲H17（長野）2005'!F16 -> 4720 | F28: ='水稲H18（長野）2006'!$F16 -> 4500 | G28: ='水稲H19（長野）2007'!$F16 -> 4440 | H28: ='水稲H20（長野）2008'!$F16 -> 4090 | I28: ='水稲H21（長野）2009'!$F16 -> 3510 | J28: ='水稲H22（長野）2010'!$F16 -> 4050 | K28: ='水稲H23（長野）2011'!$F16 -> 3910 | L28: ='水稲H24（長野）2012'!$F16 -> 3650 | M28: ='水稲H25（長野）2013'!$F16 -> 4020 | N28: ='水稲H26（長野）2014'!$F16 -> 3690 | O28: ='水稲H27（長野）2015'!$F16 -> 3760 | P28: ='水稲H28（長野）2016'!$F16 -> 3740 | Q28: ='水稲H29（長野）2017'!$F16 -> 3720 | R28: ='水稲H30（長野）2018'!$F16 -> 3740 | S28: ='水稲R1（長野）2019'!$F16 -> 3520 | T28: ='水稲R2（長野）2020'!$F16 -> 3320 | U28: ='水稲R3（長野）2021'!$F16 -> 3270 | V28: ='水稲R4（長野）2022'!$F16 -> 3390 | W28: ='水稲R5（長野）2023'!$F16 -> 3570 | X28: ='水稲R6（長野）2024'!$F16 -> 3590
A29: 9000 | B29: 209 | C29: 伊那市 | E29: ='水稲H17（長野）2005'!F17 -> 14800 | F29: ='水稲H18（長野）2006'!$F17 -> 14600 | G29: ='水稲H19（長野）2007'!$F17 -> 14400 | H29: ='水稲H20（長野）2008'!$F17 -> 13400 | I29: ='水稲H21（長野）2009'!$F17 -> 12300 | J29: ='水稲H22（長野）2010'!$F17 -> 12500 | K29: ='水稲H23（長野）2011'!$F17 -> 12500 | L29: ='水稲H24（長野）2012'!$F17 -> 12600 | M29: ='水稲H25（長野）2013'!$F17 -> 13000 | N29: ='水稲H26（長野）2014'!$F17 -> 12200 | O29: ='水稲H27（長野）2015'!$F17 -> 12600 | P29: ='水稲H28（長野）2016'!$F17 -> 12500 | Q29: ='水稲H29（長野）2017'!$F17 -> 12800 | R29: ='水稲H30（長野）2018'!$F17 -> 12600 | S29: ='水稲R1（長野）2019'!$F17 -> 12900 | T29: ='水稲R2（長野）2020'!$F17 -> 12800 | U29: ='水稲R3（長野）2021'!$F17 -> 11900 | V29: ='水稲R4（長野）2022'!$F17 -> 12100 | W29: ='水稲R5（長野）2023'!$F17 -> 11900 | X29: ='水稲R6（長野）2024'!$F17 -> 11700
B30: 209 | C30: 伊那市 | D30: ='水稲H16（長野）2004'!F17 -> 12400
B31: 381 | C31: 高遠町 | D31: ='水稲H16（長野）2004'!F48 -> 1540
B32: 387 | C32: 長谷村 | D32: ='水稲H16（長野）2004'!F54 -> 633
