Workbook

Sheet 水稲H16（長野）2004
A1: 農林水産関係市町村別データ
A2: 平成16年産
A3: 水陸稲
A4: 長野県 | D4: 1.水稲 | G4: 2.陸稲
A5: 都道 | B5: 市町 | D5: 作付面積 | E5: 10a当たり | F5: 収穫量 | G5: 作付面積 | H5: 10a当たり | I5: 収穫量
A6: 府県 | B6: 村 | C6: 市町村名 | E6: 収量 | H6: 収量
A7: ｺｰﾄﾞ | B7: ｺｰﾄﾞ
D8: ha | E8: kg | F8: t | G8: ha | H8: kg | I8: t
A9: 20 | B9: 201 | C9: 長野市 | D9: 1910 | E9: 537 | F9: 10200 | G9: - | H9: - | I9: -
A10: 20 | B10: 202 | C10: 松本市 | D10: 2100 | E10: 643 | F10: 13500 | G10: - | H10: - | I10: -
A11: 20 | B11: 203 | C11: 上田市 | D11: 1160 | E11: 630 | F11: 7330 | G11: - | H11: - | I11: -
A12: 20 | B12: 204 | C12: 岡谷市 | D12: 66 | E12: 658 | F12: 434 | G12: - | H12: - | I12: -
A13: 20 | B13: 205 | C13: 飯田市 | D13: 873 | E13: 647 | F13: 5650 | G13: - | H13: - | I13: -
A14: 20 | B14: 206 | C14: 諏訪市 | D14: 379 | E14: 678 | F14: 2570 | G14: - | H14: - | I14: -
A15: 20 | B15: 207 | C15: 須坂市 | D15: 232 | E15: 560 | F15: 1300 | G15: - | H15: - | I15: -
A16: 20 | B16: 208 | C16: 小諸市 | D16: 708 | E16: 659 | F16: 4670 | G16: - | H16: - | I16: -
A17: 20 | B17: 209 | C17: 伊那市 | D17: 1870 | E17: 663 | F17: 12400 | G17: - | H17: - | I17: -
A18: 20 | B18: 210 | C18: 駒ヶ根市 | D18: 926 | E18: 650 | F18: 6020 | G18: - | H18: - | I18: -
A19: 20 | B19: 211 | C19: 中野市 | D19: 394 | E19: 562 | F19: 2210 | G19: - | H19: - | I19: -
A20: 20 | B20: 212 | C20: 大町市 | D20: 1430 | E20: 656 | F20: 9370 | G20: - | H20: - | I20: -
... A28: 20 | B28: 303 | C28: 小海町 | D28: 89 | E28: 615 | F28: 547 | G28: - | H28: - | I28: -
A29: 20 | B29: 304 | C29: 川上村 | D29: - | E29: - | F29: - | G29: - | H29: - | I29: -
A30: 20 | B30: 305 | C30: 南牧村 | D30: 22 | E30: 536 | F30: 118 | G30: - | H30: - | I30: -
A31: 20 | B31: 306 | C31: 南相木村 | D31: 2 | E31: 551 | F31: 11 | G31: - | H31: - | I31: -
A32: 20 | B32: 307 | C32: 北相木村 | D32: 6 | E32: 549 | F32: 33 | G32: - | H32: - | I32: -
A33: 20 | B33: 309 | C33: 佐久穂町 | D33: 384 | E33: 636 | F33: 2440 | G33: - | H33: - | I33: -
A34: 20 | B34: 321 | C34: 軽井沢町 | D34: 24 | E34: 619 | F34: 149 | G34: - | H34: - | I34: -
A35: 20 | B35: 322 | C35: 望月町 | D35: 538 | E35: 679 | F35: 3650 | G35: - | H35: - | I35: -
A36: 20 | B36: 323 | C36: 御代田町 | D36: 131 | E36: 634 | F36: 831 | G36: - | H36: - | I36: -
A37: 20 | B37: 324 | C37: 立科町 | D37: 470 | E37: 682 | F37: 3210 | G37: - | H37: - | I37: -
A38: 20 | B38: 325 | C38: 浅科村 | D38: 399 | E38: 677 | F38: 2700 | G38: - | H38: - | I38: -
A39: 20 | B39: 341 | C39: 丸子町 | D39: 356 | E39: 641 | F39: 2280 | G39: - | H39: - | I39: -
A40: 20 | B40: 342 | C40: 長門町 | D40: 179 | E40: 628 | F40: 1120 | G40: - | H40: - | I40: -
A41: 20 | B41: 345 | C41: 真田町 | D41: 150 | E41: 620 | F41: 930 | G41: - | H41: - | I41: -
... A95: 20 | B95: 463 | C95: 奈川村 | D95: 9 | E95: 543 | F95: 49 | G95: - | H95: - | I95: -
A96: 20 | B96: 464 | C96: 安曇村 | D96: - | E96: - | F96: - | G96: - | H96: - | I96: -
A97: 20 | B97: 465 | C97: 梓川村 | D97: 414 | E97: 666 | F97: 2760 | G97: - | H97: - | I97: -
A98: 20 | B98: 466 | C98: 三郷村 | D98: 520 | E98: 666 | F98: 3460 | G98: - | H98: - | I98: -
A99: 20 | B99: 467 | C99: 堀金村 | D99: 509 | E99: 667 | F99: 3400 | G99: - | H99: - | I99: -
A100: 20 | B100: 481 | C100: 池田町 | D100: 527 | E100: 667 | F100: 3520 | G100: - | H100: - | I100: -
...

Sheet 水稲H17（長野）2005
A1: 農林水産関係市町村別データ
A2: 平成17年産
A3: 水陸稲
A4: 長野県 | D4: 1.水稲 | G4: 2.陸稲
A5: 都道 | B5: 市町 | D5: 作付面積 | E5: 10a当たり | F5: 収穫量 | G5: 作付面積 | H5: 10a当たり | I5: 収穫量
A6: 府県 | B6: 村 | C6: 市町村名 | E6: 収量 | H6: 収量
A7: ｺｰﾄﾞ | B7: ｺｰﾄﾞ
D8: ha | E8: kg | F8: t | G8: ha | H8: kg | I8: t
A9: 20 | B9: 201 | C9: 長野市 | D9: 1870 | E9: 599 | F9: 11200 | G9: - | H9: - | I9: -
A10: 20 | B10: 202 | C10: 松本市 | D10: 2700 | E10: 661 | F10: 17800 | G10: - | H10: - | I10: -
A11: 20 | B11: 203 | C11: 上田市 | D11: 1820 | E11: 644 | F11: 11700 | G11: - | H11: - | I11: -
A12: 20 | B12: 204 | C12: 岡谷市 | D12: 65 | E12: 673 | F12: 437 | G12: - | H12: - | I12: -
A13: 20 | B13: 205 | C13: 飯田市 | D13: 877 | E13: 615 | F13: 5390 | G13: - | H13: - | I13: -
A14: 20 | B14: 206 | C14: 諏訪市 | D14: 387 | E14: 679 | F14: 2630 | G14: - | H14: - | I14: -
A15: 20 | B15: 207 | C15: 須坂市 | D15: 226 | E15: 602 | F15: 1360 | G15: - | H15: - | I15: -
A16: 20 | B16: 208 | C16: 小諸市 | D16: 706 | E16: 669 | F16: 4720 | G16: - | H16: - | I16: -
A17: 20 | B17: 209 | C17: 伊那市 | D17: 2230 | E17: 665 | F17: 14800 | G17: - | H17: - | I17: -
A18: 20 | B18: 210 | C18: 駒ヶ根市 | D18: 948 | E18: 652 | F18: 6180 | G18: - | H18: - | I18: -
A19: 20 | B19: 211 | C19: 中野市 | D19: 546 | E19: 590 | F19: 3220 | G19: - | H19: - | I19: -
A20: 20 | B20: 212 | C20: 大町市 | D20: 1640 | E20: 647 | F20: 10600 | G20: - | H20: - | I20: -
... A28: 20 | B28: 303 | C28: 小海町 | D28: 88 | E28: 629 | F28: 554 | G28: - | H28: - | I28: -
A29: 20 | B29: 304 | C29: 川上村 | D29: - | E29: - | F29: - | G29: - | H29: - | I29: -
A30: 20 | B30: 305 | C30: 南牧村 | D30: 22 | E30: 543 | F30: 119 | G30: - | H30: - | I30: -
A31: 20 | B31: 306 | C31: 南相木村 | D31: 2 | E31: 557 | F31: 11 | G31: - | H31: - | I31: -
A32: 20 | B32: 307 | C32: 北相木村 | D32: 6 | E32: 553 | F32: 33 | G32: - | H32: - | I32: -
A33: 20 | B33: 309 | C33: 佐久穂町 | D33: 392 | E33: 647 | F33: 2540 | G33: - | H33: - | I33: -
A34: 20 | B34: 321 | C34: 軽井沢町 | D34: 23 | E34: 639 | F34: 147 | G34: - | H34: - | I34: -
A35: 20 | B35: 323 | C35: 御代田町 | D35: 129 | E35: 653 | F35: 842 | G35: - | H35: - | I35: -
A36: 20 | B36: 324 | C36: 立科町 | D36: 471 | E36: 699 | F36: 3290 | G36: - | H36: - | I36: -
A37: 20 | B37: 349 | C37: 青木村 | D37: 136 | E37: 624 | F37: 849 | G37: - | H37: - | I37: -
A38: 20 | B38: 350 | C38: 長和町 | D38: 276 | E38: 624 | F38: 1720 | G38: - | H38: - | I38: -
A39: 20 | B39: 361 | C39: 下諏訪町 | D39: 21 | E39: 671 | F39: 141 | G39: - | H39: - | I39: -
A40: 20 | B40: 362 | C40: 富士見町 | D40: 475 | E40: 660 | F40: 3140 | G40: - | H40: - | I40: -
A41: 20 | B41: 363 | C41: 原村 | D41: 413 | E41: 654 | F41: 2700 | G41: - | H41: - | I41: -
... A89: 20 | B89: 602 | C89: 栄村 | D89: 251 | E89: 528 | F89: 1330 | G89: - | H89: - | I89: -
A91: 利用上の注意 | D91: =SUM(D9:D89) -> 36710 | E91: =SUM(E9:E89) -> 49211 | F91: =SUM(F9:F89) -> 237423
A92: この市町村別データは、『作物統計調査』の県計値を当該市町村における調査結果、関係機関・団体からの情報等により加工したものである。

Sheet 水稲H18（長野）2006
A1: 農林水産関係市町村別データ
A2: 平成18年産
A3: 水陸稲
A4: 長野県 | D4: 1.水稲 | G4: 2.陸稲
A5: 都道 | B5: 市町 | D5: 作付面積 | E5: 10a当たり | F5: 収穫量 | G5: 作付面積 | H5: 10a当たり | I5: 収穫量
A6: 府県 | B6: 村 | C6: 市町村名 | E6: 収量 | H6: 収量
A7: ｺｰﾄﾞ | B7: ｺｰﾄﾞ
D8: ha | E8: kg | F8: t | G8: ha | H8: kg | I8: t
A9: 20 | B9: 201 | C9: 長野市 | D9: 1800 | E9: 543 | F9: 9770 | G9: - | H9: - | I9: -
A10: 20 | B10: 202 | C10: 松本市 | D10: 2720 | E10: 639 | F10: 17400 | G10: - | H10: - | I10: -
A11: 20 | B11: 203 | C11: 上田市 | D11: 1800 | E11: 599 | F11: 10800 | G11: - | H11: - | I11: -
A12: 20 | B12: 204 | C12: 岡谷市 | D12: 65 | E12: 607 | F12: 395 | G12: - | H12: - | I12: -
A13: 20 | B13: 205 | C13: 飯田市 | D13: 865 | E13: 578 | F13: 5000 | G13: - | H13: - | I13: -
A14: 20 | B14: 206 | C14: 諏訪市 | D14: 387 | E14: 635 | F14: 2460 | G14: - | H14: - | I14: -
A15: 20 | B15: 207 | C15: 須坂市 | D15: 227 | E15: 568 | F15: 1290 | G15: - | H15: - | I15: -
A16: 20 | B16: 208 | C16: 小諸市 | D16: 706 | E16: 638 | F16: 4500 | G16: - | H16: - | I16: -
A17: 20 | B17: 209 | C17: 伊那市 | D17: 2220 | E17: 657 | F17: 14600 | G17: - | H17: - | I17: -
A18: 20 | B18: 210 | C18: 駒ヶ根市 | D18: 936 | E18: 644 | F18: 6030 | G18: - | H18: - | I18: -
A19: 20 | B19: 211 | C19: 中野市 | D19: 545 | E19: 568 | F19: 3100 | G19: - | H19: - | I19: -
A20: 20 | B20: 212 | C20: 大町市 | D20: 1650 | E20: 601 | F20: 9940 | G20: - | H20: - | I20: -
... A28: 20 | B28: 303 | C28: 小海町 | D28: 88 | E28: 590 | F28: 519 | G28: - | H28: - | I28: -
A29: 20 | B29: 304 | C29: 川上村 | D29: - | E29: - | F29: - | G29: - | H29: - | I29: -
A30: 20 | B30: 305 | C30: 南牧村 | D30: 22 | E30: 512 | F30: 113 | G30: - | H30: - | I30: -
A31: 20 | B31: 306 | C31: 南相木村 | D31: 2 | E31: 526 | F31: 11 | G31: - | H31: - | I31: -
A32: 20 | B32: 307 | C32: 北相木村 | D32: 6 | E32: 521 | F32: 31 | G32: - | H32: - | I32: -
A33: 20 | B33: 309 | C33: 佐久穂町 | D33: 392 | E33: 612 | F33: 2400 | G33: - | H33: - | I33: -
A34: 20 | B34: 321 | C34: 軽井沢町 | D34: 23 | E34: 604 | F34: 139 | G34: - | H34: - | I34: -
A35: 20 | B35: 323 | C35: 御代田町 | D35: 129 | E35: 615 | F35: 793 | G35: - | H35: - | I35: -
A36: 20 | B36: 324 | C36: 立科町 | D36: 469 | E36: 649 | F36: 3040 | G36: - | H36: - | I36: -
A37: 20 | B37: 349 | C37: 青木村 | D37: 120 | E37: 574 | F37: 689 | G37: - | H37: - | I37: -
A38: 20 | B38: 350 | C38: 長和町 | D38: 276 | E38: 581 | F38: 1600 | G38: - | H38: - | I38: -
A39: 20 | B39: 361 | C39: 下諏訪町 | D39: 21 | E39: 611 | F39: 128 | G39: - | H39: - | I39: -
A40: 20 | B40: 362 | C40: 富士見町 | D40: 450 | E40: 578 | F40: 2600 | G40: - | H40: - | I40: -
A41: 20 | B41: 363 | C41: 原村 | D41: 403 | E41: 578 | F41: 2330 | G41: - | H41: - | I41: -
... A89: 20 | B89: 602 | C89: 栄村 | D89: 251 | E89: 512 | F89: 1290 | G89: - | H89: - | I89: -
A91: 利用上の注意 | D91: =SUM(D9:D89) -> 36411 | E91: =SUM(E9:E89) -> 46223 | F91: =SUM(F9:F89) -> 222053
A92: この市町村別データは、「作付面積調査」及び「稲調査」の県計値を当該市町村における調査結果、関係機関
A93: からの情報等により加工したものである。

Sheet 水稲H19（長野）2007
A1: 農林水産関係市町村別データ
A2: 平成19年産
A3: 水稲
A4: 長野県 | D4: 水稲
A5: 都道 | B5: 市町 | D5: 作付面積 | E5: 10a当たり | F5: 収穫量
A6: 府県 | B6: 村 | C6: 市町村名 | E6: 収量
A7: ｺｰﾄﾞ | B7: ｺｰﾄﾞ
D8: ha | E8: kg | F8: t
A9: 20 | B9: 201 | C9: 長野市 | D9: 1780 | E9: 549 | F9: 9780
A10: 20 | B10: 202 | C10: 松本市 | D10: 2700 | E10: 655 | F10: 17700
A11: 20 | B11: 203 | C11: 上田市 | D11: 1780 | E11: 606 | F11: 10800
A12: 20 | B12: 204 | C12: 岡谷市 | D12: 65 | E12: 618 | F12: 402
A13: 20 | B13: 205 | C13: 飯田市 | D13: 861 | E13: 605 | F13: 5210
A14: 20 | B14: 206 | C14: 諏訪市 | D14: 391 | E14: 642 | F14: 2510
A15: 20 | B15: 207 | C15: 須坂市 | D15: 225 | E15: 566 | F15: 1270
A16: 20 | B16: 208 | C16: 小諸市 | D16: 706 | E16: 629 | F16: 4440
A17: 20 | B17: 209 | C17: 伊那市 | D17: 2200 | E17: 656 | F17: 14400
A18: 20 | B18: 210 | C18: 駒ヶ根市 | D18: 916 | E18: 640 | F18: 5860
A19: 20 | B19: 211 | C19: 中野市 | D19: 546 | E19: 571 | F19: 3120
A20: 20 | B20: 212 | C20: 大町市 | D20: 1650 | E20: 639 | F20: 10500
... A28: 20 | B28: 303 | C28: 小海町 | D28: 87 | E28: 577 | F28: 502
A29: 20 | B29: 304 | C29: 川上村 | D29: - | E29: - | F29: -
A30: 20 | B30: 305 | C30: 南牧村 | D30: 22 | E30: 518 | F30: 114
A31: 20 | B31: 306 | C31: 南相木村 | D31: 2 | E31: 526 | F31: 11
A32: 20 | B32: 307 | C32: 北相木村 | D32: 6 | E32: 528 | F32: 32
A33: 20 | B33: 309 | C33: 佐久穂町 | D33: 392 | E33: 602 | F33: 2360
A34: 20 | B34: 321 | C34: 軽井沢町 | D34: 22 | E34: 564 | F34: 124
A35: 20 | B35: 323 | C35: 御代田町 | D35: 129 | E35: 606 | F35: 782
A36: 20 | B36: 324 | C36: 立科町 | D36: 472 | E36: 670 | F36: 3160
A37: 20 | B37: 349 | C37: 青木村 | D37: 113 | E37: 578 | F37: 653
A38: 20 | B38: 350 | C38: 長和町 | D38: 276 | E38: 591 | F38: 1630
A39: 20 | B39: 361 | C39: 下諏訪町 | D39: 19 | E39: 612 | F39: 116
A40: 20 | B40: 362 | C40: 富士見町 | D40: 454 | E40: 597 | F40: 2710
A41: 20 | B41: 363 | C41: 原村 | D41: 408 | E41: 596 | F41: 2430
... A89: 20 | B89: 602 | C89: 栄村 | D89: 251 | E89: 523 | F89: 1310
A91: 利用上の注意 | D91: =SUM(D9:D89) -> 36200 | E91: =SUM(E9:E89) -> 46973 | F91: =SUM(F9:F89) -> 224411
A92: １ この市町村別データは、「作物統計調査」を実施する上で把握した地域における標本調査及び現地見積りの結果、
A93: 関係機関からの情報等をもとに都道府県計値の内訳として市町村別に作成した加工統計であり、作成するうえで
A94: 精度を設定しているものではない。
A95: なお、「作物統計調査」は都道府県計値を求めるために設計されている。
...

Sheet 水稲H20（長野）2008
A1: 農林水産関係市町村別データ
A2: 平成20年産
A3: 水稲
A4: 長野県 | D4: 水稲
A5: 都道 | B5: 市町 | D5: 作付面積 | E5: 10a当たり | F5: 収穫量
A6: 府県 | B6: 村 | C6: 市町村名 | E6: 収量
A7: ｺｰﾄﾞ | B7: ｺｰﾄﾞ
D8: ha | E8: kg | F8: t
A9: 20 | B9: 201 | C9: 長野市 | D9: 1710 | E9: 563 | F9: 9630
A10: 20 | B10: 202 | C10: 松本市 | D10: 2540 | E10: 646 | F10: 16400
A11: 20 | B11: 203 | C11: 上田市 | D11: 1720 | E11: 639 | F11: 11000
A12: 20 | B12: 204 | C12: 岡谷市 | D12: 53 | E12: 648 | F12: 343
A13: 20 | B13: 205 | C13: 飯田市 | D13: 835 | E13: 623 | F13: 5200
A14: 20 | B14: 206 | C14: 諏訪市 | D14: 383 | E14: 675 | F14: 2590
A15: 20 | B15: 207 | C15: 須坂市 | D15: 213 | E15: 583 | F15: 1240
A16: 20 | B16: 208 | C16: 小諸市 | D16: 617 | E16: 662 | F16: 4090
A17: 20 | B17: 209 | C17: 伊那市 | D17: 2020 | E17: 661 | F17: 13400
A18: 20 | B18: 210 | C18: 駒ヶ根市 | D18: 854 | E18: 648 | F18: 5530
A19: 20 | B19: 211 | C19: 中野市 | D19: 474 | E19: 589 | F19: 2790
A20: 20 | B20: 212 | C20: 大町市 | D20: 1510 | E20: 640 | F20: 9650
... A28: 20 | B28: 303 | C28: 小海町 | D28: 66 | E28: 597 | F28: 394
A29: 20 | B29: 304 | C29: 川上村 | D29: - | E29: - | F29: -
A30: 20 | B30: 305 | C30: 南牧村 | D30: 20 | E30: 521 | F30: 104
A31: 20 | B31: 306 | C31: 南相木村 | D31: 2 | E31: 532 | F31: 11
A32: 20 | B32: 307 | C32: 北相木村 | D32: 4 | E32: 530 | F32: 21
A33: 20 | B33: 309 | C33: 佐久穂町 | D33: 341 | E33: 618 | F33: 2110
A34: 20 | B34: 321 | C34: 軽井沢町 | D34: 16 | E34: 570 | F34: 91
A35: 20 | B35: 323 | C35: 御代田町 | D35: 124 | E35: 621 | F35: 770
A36: 20 | B36: 324 | C36: 立科町 | D36: 518 | E36: 690 | F36: 3570
A37: 20 | B37: 349 | C37: 青木村 | D37: 125 | E37: 614 | F37: 768
A38: 20 | B38: 350 | C38: 長和町 | D38: 265 | E38: 615 | F38: 1630
A39: 20 | B39: 361 | C39: 下諏訪町 | D39: 15 | E39: 643 | F39: 96
A40: 20 | B40: 362 | C40: 富士見町 | D40: 459 | E40: 633 | F40: 2910
A41: 20 | B41: 363 | C41: 原村 | D41: 349 | E41: 629 | F41: 2200
... A89: 20 | B89: 602 | C89: 栄村 | D89: 229 | E89: 533 | F89: 1220
A91: 利用上の注意 | D91: =SUM(D9:D89) -> 34610 | E91: =SUM(E9:E89) -> 48140 | F91: =SUM(F9:F89) -> 219464
A92: １ この市町村別データは、「作物統計調査」を実施する上で把握した地域における標本調査及び現地見積りの結果、
A93: 関係機関からの情報等をもとに都道府県計値の内訳として市町村別に作成した加工統計であり、作成するうえで
A94: 精度を設定しているものではない。
A95: なお、「作物統計調査」は都道府県計値を求めるために設計されている。
...

Sheet 水稲H21（長野）2009
A1: 農林水産関係市町村別データ
A2: 平成21年産
A3: 水稲
A4: 長野県
A5: 都道 | B5: 市町 | D5: 作付面積 | E5: 10a当たり | F5: 収穫量
A6: 府県 | B6: 村 | C6: 市町村名 | E6: 収量
A7: ｺｰﾄﾞ | B7: ｺｰﾄﾞ
D8: ha | E8: kg | F8: t
A9: 20 | B9: 201 | C9: 長野市 | D9: 1720 | E9: 535 | F9: 9200
A10: 20 | B10: 202 | C10: 松本市 | D10: 2550 | E10: 628 | F10: 16000
A11: 20 | B11: 203 | C11: 上田市 | D11: 1720 | E11: 592 | F11: 10200
A12: 20 | B12: 204 | C12: 岡谷市 | D12: 53 | E12: 584 | F12: 310
A13: 20 | B13: 205 | C13: 飯田市 | D13: 834 | E13: 600 | F13: 5000
A14: 20 | B14: 206 | C14: 諏訪市 | D14: 383 | E14: 615 | F14: 2360
A15: 20 | B15: 207 | C15: 須坂市 | D15: 213 | E15: 561 | F15: 1200
A16: 20 | B16: 208 | C16: 小諸市 | D16: 617 | E16: 569 | F16: 3510
A17: 20 | B17: 209 | C17: 伊那市 | D17: 2020 | E17: 610 | F17: 12300
A18: 20 | B18: 210 | C18: 駒ヶ根市 | D18: 854 | E18: 592 | F18: 5060
A19: 20 | B19: 211 | C19: 中野市 | D19: 481 | E19: 556 | F19: 2670
A20: 20 | B20: 212 | C20: 大町市 | D20: 1510 | E20: 583 | F20: 8830
... A28: 20 | B28: 303 | C28: 小海町 | D28: 63 | E28: 497 | F28: 313
A29: 20 | B29: 304 | C29: 川上村 | D29: - | E29: - | F29: -
A30: 20 | B30: 305 | C30: 南牧村 | D30: 18 | E30: 435 | F30: 78
A31: 20 | B31: 306 | C31: 南相木村 | D31: 2 | E31: 448 | F31: 9
A32: 20 | B32: 307 | C32: 北相木村 | D32: 4 | E32: 447 | F32: 18
A33: 20 | B33: 309 | C33: 佐久穂町 | D33: 332 | E33: 534 | F33: 1770
A34: 20 | B34: 321 | C34: 軽井沢町 | D34: 16 | E34: 495 | F34: 79
A35: 20 | B35: 323 | C35: 御代田町 | D35: 129 | E35: 554 | F35: 715
A36: 20 | B36: 324 | C36: 立科町 | D36: 493 | E36: 661 | F36: 3260
A37: 20 | B37: 349 | C37: 青木村 | D37: 121 | E37: 577 | F37: 698
A38: 20 | B38: 350 | C38: 長和町 | D38: 260 | E38: 566 | F38: 1470
A39: 20 | B39: 361 | C39: 下諏訪町 | D39: 15 | E39: 585 | F39: 88
A40: 20 | B40: 362 | C40: 富士見町 | D40: 467 | E40: 563 | F40: 2630
A41: 20 | B41: 363 | C41: 原村 | D41: 352 | E41: 561 | F41: 1980
... A88: 20 | B88: 602 | C88: 栄村 | D88: 217 | E88: 514 | F88: 1120
A90: 利用上の注意 | D90: =SUM(D8:D88) -> 34599 | E90: =SUM(E8:E88) -> 44501 | F90: =SUM(F8:F88) -> 205932
A91: １ この市町村別データは、「作物統計調査」を実施する上で把握した地域における標本調査及び現地見積りの結果、
A92: 関係機関からの情報等をもとに都道府県計値の内訳として市町村別に作成した加工統計であり、作成するうえで
A93: 精度を設定しているものではない。
A94: なお、「作物統計調査」は都道府県計値を求めるために設計されている。
...

Sheet 水稲H22（長野）2010
A1: 農林水産関係市町村別統計
A2: 平成22年産
A3: 水稲
A4: 長野県
A5: 都道 | B5: 市町 | D5: 作付面積 | E5: 10a当たり | F5: 収穫量
A6: 府県 | B6: 村 | C6: 市町村名 | E6: 収量
A7: ｺｰﾄﾞ | B7: ｺｰﾄﾞ
D8: ha | E8: kg | F8: t
A9: 20 | B9: 201 | C9: 長野市 | D9: 1840 | E9: 547 | F9: 10100
A10: 20 | B10: 202 | C10: 松本市 | D10: 2880 | E10: 632 | F10: 18200
A11: 20 | B11: 203 | C11: 上田市 | D11: 1740 | E11: 603 | F11: 10500
A12: 20 | B12: 204 | C12: 岡谷市 | D12: 53 | E12: 623 | F12: 330
A13: 20 | B13: 205 | C13: 飯田市 | D13: 837 | E13: 614 | F13: 5140
A14: 20 | B14: 206 | C14: 諏訪市 | D14: 382 | E14: 647 | F14: 2470
A15: 20 | B15: 207 | C15: 須坂市 | D15: 212 | E15: 586 | F15: 1240
A16: 20 | B16: 208 | C16: 小諸市 | D16: 610 | E16: 664 | F16: 4050
A17: 20 | B17: 209 | C17: 伊那市 | D17: 1990 | E17: 627 | F17: 12500
A18: 20 | B18: 210 | C18: 駒ヶ根市 | D18: 829 | E18: 617 | F18: 5120
A19: 20 | B19: 211 | C19: 中野市 | D19: 469 | E19: 565 | F19: 2650
A20: 20 | B20: 212 | C20: 大町市 | D20: 1520 | E20: 613 | F20: 9300
... A28: 20 | B28: 303 | C28: 小海町 | D28: 59 | E28: 610 | F28: 360
A29: 20 | B29: 304 | C29: 川上村 | D29: - | E29: - | F29: -
A30: 20 | B30: 305 | C30: 南牧村 | D30: 16 | E30: 542 | F30: 87
A31: 20 | B31: 306 | C31: 南相木村 | D31: 2 | E31: 548 | F31: 11
A32: 20 | B32: 307 | C32: 北相木村 | D32: 3 | E32: 548 | F32: 16
A33: 20 | B33: 309 | C33: 佐久穂町 | D33: 330 | E33: 644 | F33: 2130
A34: 20 | B34: 321 | C34: 軽井沢町 | D34: 15 | E34: 604 | F34: 91
A35: 20 | B35: 323 | C35: 御代田町 | D35: 145 | E35: 633 | F35: 918
A36: 20 | B36: 324 | C36: 立科町 | D36: 504 | E36: 657 | F36: 3310
A37: 20 | B37: 349 | C37: 青木村 | D37: 118 | E37: 603 | F37: 712
A38: 20 | B38: 350 | C38: 長和町 | D38: 259 | E38: 604 | F38: 1560
A39: 20 | B39: 361 | C39: 下諏訪町 | D39: 13 | E39: 616 | F39: 80
A40: 20 | B40: 362 | C40: 富士見町 | D40: 469 | E40: 614 | F40: 2880
A41: 20 | B41: 363 | C41: 原村 | D41: 344 | E41: 610 | F41: 2100
... A85: 20 | B85: 602 | C85: 栄村 | D85: 228 | E85: 508 | F85: 1160
A87: 利用上の注意 | D87: =SUM(D5:D85) -> 34583 | E87: =SUM(E5:E85) -> 44829 | F87: =SUM(F5:F85) -> 211657
A88: １ この市町村別統計は、「作物統計調査」を実施する上で把握した地域における標本調査及び現地見積りの結果、
A89: 関係機関からの情報等を踏まえ、都道府県計値の内訳として市町村別に作成した加工統計であり、作成するうえで
A90: 精度を設定しているものではない。
A91: なお、「作物統計調査」は都道府県計値を求めるために設計されている。
...

Sheet 水稲H23（長野）2011
A1: 農林水産関係市町村別統計
A2: 平成23年産
A3: 水稲
A4: 長野県
A5: 都道 | B5: 市町 | D5: 作付面積 | E5: 10a当たり | F5: 収穫量
A6: 府県 | B6: 村 | C6: 市町村名 | E6: 収量
A7: ｺｰﾄﾞ | B7: ｺｰﾄﾞ
D8: ha | E8: kg | F8: t
A9: 20 | B9: 201 | C9: 長野市 | D9: 1820 | E9: 529 | F9: 9620
A10: 20 | B10: 202 | C10: 松本市 | D10: 2880 | E10: 611 | F10: 17600
A11: 20 | B11: 203 | C11: 上田市 | D11: 1720 | E11: 613 | F11: 10600
A12: 20 | B12: 204 | C12: 岡谷市 | D12: 53 | E12: 628 | F12: 333
A13: 20 | B13: 205 | C13: 飯田市 | D13: 827 | E13: 619 | F13: 5120
A14: 20 | B14: 206 | C14: 諏訪市 | D14: 382 | E14: 653 | F14: 2490
A15: 20 | B15: 207 | C15: 須坂市 | D15: 211 | E15: 582 | F15: 1230
A16: 20 | B16: 208 | C16: 小諸市 | D16: 603 | E16: 648 | F16: 3910
A17: 20 | B17: 209 | C17: 伊那市 | D17: 1950 | E17: 638 | F17: 12500
A18: 20 | B18: 210 | C18: 駒ヶ根市 | D18: 819 | E18: 624 | F18: 5110
A19: 20 | B19: 211 | C19: 中野市 | D19: 469 | E19: 550 | F19: 2580
A20: 20 | B20: 212 | C20: 大町市 | D20: 1500 | E20: 546 | F20: 8210
... A28: 20 | B28: 303 | C28: 小海町 | D28: 60 | E28: 598 | F28: 359
A29: 20 | B29: 304 | C29: 川上村 | D29: - | E29: - | F29: -
A30: 20 | B30: 305 | C30: 南牧村 | D30: 15 | E30: 515 | F30: 77
A31: 20 | B31: 306 | C31: 南相木村 | D31: 1 | E31: 527 | F31: 5
A32: 20 | B32: 307 | C32: 北相木村 | D32: 2 | E32: 526 | F32: 11
A33: 20 | B33: 309 | C33: 佐久穂町 | D33: 329 | E33: 622 | F33: 2050
A34: 20 | B34: 321 | C34: 軽井沢町 | D34: 15 | E34: 592 | F34: 89
A35: 20 | B35: 323 | C35: 御代田町 | D35: 143 | E35: 623 | F35: 891
A36: 20 | B36: 324 | C36: 立科町 | D36: 494 | E36: 658 | F36: 3250
A37: 20 | B37: 349 | C37: 青木村 | D37: 104 | E37: 593 | F37: 617
A38: 20 | B38: 350 | C38: 長和町 | D38: 251 | E38: 595 | F38: 1490
A39: 20 | B39: 361 | C39: 下諏訪町 | D39: 13 | E39: 623 | F39: 81
A40: 20 | B40: 362 | C40: 富士見町 | D40: 456 | E40: 613 | F40: 2800
A41: 20 | B41: 363 | C41: 原村 | D41: 341 | E41: 610 | F41: 2080
... A85: 20 | B85: 602 | C85: 栄村 | D85: 181 | E85: 475 | F85: 860
C87: 計 | D87: 34200 | E87: 604 | F87: 206600
A89: 利用上の注意 | D89: =SUM(D7:D85) -> 34155 | E89: =SUM(E7:E85) -> 44460 | F89: =SUM(F7:F85) -> 206493
A90: １ この市町村別統計は、「作物統計調査」を実施する上で把握した地域における標本調査及び現地見積りの結果、
A91: 関係機関からの情報等を踏まえ、都道府県計値の内訳として市町村別に作成した加工統計であり、作成するうえで
A92: 精度を設定しているものではない。
...

Sheet 水稲H24（長野）2012
A1: 農林水産関係市町村別統計
A2: 平成24年産
A3: 水稲
A4: 長野県
A5: 都道 | B5: 市町 | D5: 作付面積 | E5: 10a当たり | F5: 収穫量
A6: 府県 | B6: 村 | C6: 市町村名 | E6: 収量
A7: ｺｰﾄﾞ | B7: ｺｰﾄﾞ
D8: ha | E8: kg | F8: t
A9: 20 | B9: 201 | C9: 長野市 | D9: 1830 | E9: 563 | F9: 10300
A10: 20 | B10: 202 | C10: 松本市 | D10: 2830 | E10: 635 | F10: 18000
A11: 20 | B11: 203 | C11: 上田市 | D11: 1760 | E11: 604 | F11: 10600
A12: 20 | B12: 204 | C12: 岡谷市 | D12: 54 | E12: 622 | F12: 336
A13: 20 | B13: 205 | C13: 飯田市 | D13: 826 | E13: 620 | F13: 5120
A14: 20 | B14: 206 | C14: 諏訪市 | D14: 380 | E14: 653 | F14: 2480
A15: 20 | B15: 207 | C15: 須坂市 | D15: 211 | E15: 576 | F15: 1220
A16: 20 | B16: 208 | C16: 小諸市 | D16: 610 | E16: 599 | F16: 3650
A17: 20 | B17: 209 | C17: 伊那市 | D17: 1960 | E17: 641 | F17: 12600
A18: 20 | B18: 210 | C18: 駒ヶ根市 | D18: 813 | E18: 634 | F18: 5150
A19: 20 | B19: 211 | C19: 中野市 | D19: 476 | E19: 547 | F19: 2600
A20: 20 | B20: 212 | C20: 大町市 | D20: 1490 | E20: 604 | F20: 9020
... A28: 20 | B28: 303 | C28: 小海町 | D28: 59 | E28: 564 | F28: 333
A29: 20 | B29: 304 | C29: 川上村 | D29: - | E29: - | F29: -
A30: 20 | B30: 305 | C30: 南牧村 | D30: 14 | E30: 496 | F30: 69
A31: 20 | B31: 306 | C31: 南相木村 | D31: 1 | E31: 505 | F31: 5
A32: 20 | B32: 307 | C32: 北相木村 | D32: 2 | E32: 504 | F32: 10
A33: 20 | B33: 309 | C33: 佐久穂町 | D33: 320 | E33: 564 | F33: 1810
A34: 20 | B34: 321 | C34: 軽井沢町 | D34: 14 | E34: 505 | F34: 71
A35: 20 | B35: 323 | C35: 御代田町 | D35: 138 | E35: 603 | F35: 832
A36: 20 | B36: 324 | C36: 立科町 | D36: 488 | E36: 654 | F36: 3190
A37: 20 | B37: 349 | C37: 青木村 | D37: 123 | E37: 539 | F37: 663
A38: 20 | B38: 350 | C38: 長和町 | D38: 252 | E38: 556 | F38: 1400
A39: 20 | B39: 361 | C39: 下諏訪町 | D39: 12 | E39: 625 | F39: 75
A40: 20 | B40: 362 | C40: 富士見町 | D40: 451 | E40: 622 | F40: 2810
A41: 20 | B41: 363 | C41: 原村 | D41: 350 | E41: 623 | F41: 2180
... A85: 20 | B85: 602 | C85: 栄村 | D85: 208 | E85: 489 | F85: 1020
C87: 計 | D87: 34200 | E87: 610 | F87: 208600
A89: 利用上の注意 | D89: =SUM(D7:D85) -> 34150 | E89: =SUM(E7:E85) -> 44355 | F89: =SUM(F7:F85) -> 208538
A90: １ この市町村別統計は、「作物統計調査」を実施する上で把握した地域における標本調査及び現地見積りの結果、
A91: 関係機関からの情報等を踏まえ、都道府県計値の内訳として市町村別に作成した加工統計であり、作成する上で
A92: 精度を設定しているものではない。
...

Sheet 水稲H25（長野）2013
A1: 農林水産関係市町村別統計
A2: 平成25年産
A3: 水稲
A4: 長野県
A5: 都道 | B5: 市町 | D5: 作付面積 | E5: 10a当たり | F5: 収穫量
A6: 府県 | B6: 村 | C6: 市町村名 | E6: 収量
A7: ｺｰﾄﾞ | B7: ｺｰﾄﾞ
D8: ha | E8: kg | F8: t
A9: 20 | B9: 201 | C9: 長野市 | D9: 1800 | E9: 603 | F9: 10900
A10: 20 | B10: 202 | C10: 松本市 | D10: 2860 | E10: 656 | F10: 18700
A11: 20 | B11: 203 | C11: 上田市 | D11: 1750 | E11: 606 | F11: 10600
A12: 20 | B12: 204 | C12: 岡谷市 | D12: 54 | E12: 626 | F12: 338
A13: 20 | B13: 205 | C13: 飯田市 | D13: 821 | E13: 614 | F13: 5040
A14: 20 | B14: 206 | C14: 諏訪市 | D14: 380 | E14: 654 | F14: 2490
A15: 20 | B15: 207 | C15: 須坂市 | D15: 208 | E15: 605 | F15: 1260
A16: 20 | B16: 208 | C16: 小諸市 | D16: 604 | E16: 666 | F16: 4020
A17: 20 | B17: 209 | C17: 伊那市 | D17: 1990 | E17: 655 | F17: 13000
A18: 20 | B18: 210 | C18: 駒ヶ根市 | D18: 815 | E18: 637 | F18: 5190
A19: 20 | B19: 211 | C19: 中野市 | D19: 478 | E19: 584 | F19: 2790
A20: 20 | B20: 212 | C20: 大町市 | D20: 1510 | E20: 641 | F20: 9690
... A28: 20 | B28: 303 | C28: 小海町 | D28: 59 | E28: 611 | F28: 360
A29: 20 | B29: 304 | C29: 川上村 | D29: - | E29: - | F29: -
A30: 20 | B30: 305 | C30: 南牧村 | D30: 14 | E30: 532 | F30: 74
A31: 20 | B31: 306 | C31: 南相木村 | D31: 1 | E31: 537 | F31: 5
A32: 20 | B32: 307 | C32: 北相木村 | D32: 2 | E32: 535 | F32: 11
A33: 20 | B33: 309 | C33: 佐久穂町 | D33: 321 | E33: 636 | F33: 2040
A34: 20 | B34: 321 | C34: 軽井沢町 | D34: 16 | E34: 610 | F34: 98
A35: 20 | B35: 323 | C35: 御代田町 | D35: 130 | E35: 640 | F35: 832
A36: 20 | B36: 324 | C36: 立科町 | D36: 482 | E36: 678 | F36: 3270
A37: 20 | B37: 349 | C37: 青木村 | D37: 117 | E37: 589 | F37: 689
A38: 20 | B38: 350 | C38: 長和町 | D38: 257 | E38: 589 | F38: 1510
A39: 20 | B39: 361 | C39: 下諏訪町 | D39: 12 | E39: 625 | F39: 75
A40: 20 | B40: 362 | C40: 富士見町 | D40: 449 | E40: 620 | F40: 2780
A41: 20 | B41: 363 | C41: 原村 | D41: 350 | E41: 613 | F41: 2150
... A85: 20 | B85: 602 | C85: 栄村 | D85: 221 | E85: 538 | F85: 1190
C87: 計 | D87: 34400 | E87: 632 | F87: 217400
A89: 利用上の注意 | D89: =SUM(D7:D85) -> 34371 | E89: =SUM(E7:E85) -> 45848 | F89: =SUM(F7:F85) -> 217295
A90: １ この市町村別統計は、「作物統計調査」を実施する上で把握した地域における標本調査及び現地見積りの結果、
A91: 関係機関からの情報等を踏まえ、都道府県計値の内訳として市町村別に作成した加工統計であり、作成するうえで
A92: 精度を設定しているものではない。
...

Sheet 水稲H26（長野）2014
A1: 農林水産関係市町村別統計
A2: 平成26年産
A3: 水稲
A4: 長野県
A5: 都道 | B5: 市町 | D5: 作付面積 | E5: 10a当たり | F5: 収穫量
A6: 府県 | B6: 村 | C6: 市町村名 | E6: 収量
A7: ｺｰﾄﾞ | B7: ｺｰﾄﾞ
D8: ha | E8: kg | F8: t
A9: 20 | B9: 201 | C9: 長野市 | D9: 1750 | E9: 554 | F9: 9670
A10: 20 | B10: 202 | C10: 松本市 | D10: 2800 | E10: 621 | F10: 17400
A11: 20 | B11: 203 | C11: 上田市 | D11: 1740 | E11: 573 | F11: 9950
A12: 20 | B12: 204 | C12: 岡谷市 | D12: 53 | E12: 598 | F12: 317
A13: 20 | B13: 205 | C13: 飯田市 | D13: 793 | E13: 577 | F13: 4580
A14: 20 | B14: 206 | C14: 諏訪市 | D14: 374 | E14: 622 | F14: 2330
A15: 20 | B15: 207 | C15: 須坂市 | D15: 199 | E15: 590 | F15: 1170
A16: 20 | B16: 208 | C16: 小諸市 | D16: 603 | E16: 612 | F16: 3690
A17: 20 | B17: 209 | C17: 伊那市 | D17: 1980 | E17: 618 | F17: 12200
A18: 20 | B18: 210 | C18: 駒ヶ根市 | D18: 813 | E18: 603 | F18: 4900
A19: 20 | B19: 211 | C19: 中野市 | D19: 470 | E19: 579 | F19: 2720
A20: 20 | B20: 212 | C20: 大町市 | D20: 1520 | E20: 604 | F20: 9200
... A28: 20 | B28: 303 | C28: 小海町 | D28: 55 | E28: 563 | F28: 310
A29: 20 | B29: 304 | C29: 川上村 | D29: - | E29: - | F29: -
A30: 20 | B30: 305 | C30: 南牧村 | D30: 14 | E30: 493 | F30: 69
A31: 20 | B31: 306 | C31: 南相木村 | D31: 1 | E31: 501 | F31: 5
A32: 20 | B32: 307 | C32: 北相木村 | D32: 2 | E32: 500 | F32: 10
A33: 20 | B33: 309 | C33: 佐久穂町 | D33: 312 | E33: 582 | F33: 1820
A34: 20 | B34: 321 | C34: 軽井沢町 | D34: 18 | E34: 572 | F34: 103
A35: 20 | B35: 323 | C35: 御代田町 | D35: 126 | E35: 590 | F35: 743
A36: 20 | B36: 324 | C36: 立科町 | D36: 470 | E36: 639 | F36: 3000
A37: 20 | B37: 349 | C37: 青木村 | D37: 117 | E37: 554 | F37: 648
A38: 20 | B38: 350 | C38: 長和町 | D38: 255 | E38: 555 | F38: 1420
A39: 20 | B39: 361 | C39: 下諏訪町 | D39: 11 | E39: 591 | F39: 65
A40: 20 | B40: 362 | C40: 富士見町 | D40: 436 | E40: 583 | F40: 2540
A41: 20 | B41: 363 | C41: 原村 | D41: 342 | E41: 579 | F41: 1980
... A85: 20 | B85: 602 | C85: 栄村 | D85: 219 | E85: 533 | F85: 1170
C87: 計 | D87: 33900 | E87: 597 | F87: 202400
A89: 利用上の注意 | D89: =SUM(D7:D85) -> 33938 | E89: =SUM(E7:E85) -> 43458 | F89: =SUM(F7:F85) -> 202736
A90: １ この市町村別統計は、「作物統計調査」を実施する上で把握した地域における標本調査及び現地見積りの結果、
A91: 関係機関からの情報等を踏まえ、都道府県計値の内訳として市町村別に作成した加工統計であり、作成する上で
A92: 精度を設定しているものではない。
...

Sheet 水稲H27（長野）2015
A1: 農林水産関係市町村別統計
A2: 平成27年産
A3: 水稲
A4: 長野県
A5: 都道 | B5: 市町 | D5: 作付面積 | E5: 10a当たり | F5: 収穫量
A6: 府県 | B6: 村 | C6: 市町村名 | E6: 収量
A7: ｺｰﾄﾞ | B7: ｺｰﾄﾞ
D8: ha | E8: kg | F8: t
A9: 20 | B9: 201 | C9: 長野市 | D9: 1670 | E9: 545 | F9: 9110
A10: 20 | B10: 202 | C10: 松本市 | D10: 2780 | E10: 631 | F10: 17600
A11: 20 | B11: 203 | C11: 上田市 | D11: 1690 | E11: 572 | F11: 9640
A12: 20 | B12: 204 | C12: 岡谷市 | D12: 50 | E12: 617 | F12: 309
A13: 20 | B13: 205 | C13: 飯田市 | D13: 772 | E13: 589 | F13: 4550
A14: 20 | B14: 206 | C14: 諏訪市 | D14: 372 | E14: 641 | F14: 2390
A15: 20 | B15: 207 | C15: 須坂市 | D15: 189 | E15: 579 | F15: 1090
A16: 20 | B16: 208 | C16: 小諸市 | D16: 585 | E16: 643 | F16: 3760
A17: 20 | B17: 209 | C17: 伊那市 | D17: 1950 | E17: 648 | F17: 12600
A18: 20 | B18: 210 | C18: 駒ヶ根市 | D18: 808 | E18: 632 | F18: 5110
A19: 20 | B19: 211 | C19: 中野市 | D19: 464 | E19: 533 | F19: 2470
A20: 20 | B20: 212 | C20: 大町市 | D20: 1500 | E20: 598 | F20: 8980
... A28: 20 | B28: 303 | C28: 小海町 | D28: 51 | E28: 577 | F28: 294
A29: 20 | B29: 304 | C29: 川上村 | D29: - | E29: - | F29: -
A30: 20 | B30: 305 | C30: 南牧村 | D30: 14 | E30: 519 | F30: 73
A31: 20 | B31: 306 | C31: 南相木村 | D31: 1 | E31: 513 | F31: 5
A32: 20 | B32: 307 | C32: 北相木村 | D32: 2 | E32: 512 | F32: 10
A33: 20 | B33: 309 | C33: 佐久穂町 | D33: 294 | E33: 595 | F33: 1750
A34: 20 | B34: 321 | C34: 軽井沢町 | D34: 17 | E34: 573 | F34: 97
A35: 20 | B35: 323 | C35: 御代田町 | D35: 115 | E35: 582 | F35: 669
A36: 20 | B36: 324 | C36: 立科町 | D36: 469 | E36: 667 | F36: 3130
A37: 20 | B37: 349 | C37: 青木村 | D37: 95 | E37: 565 | F37: 537
A38: 20 | B38: 350 | C38: 長和町 | D38: 241 | E38: 562 | F38: 1350
A39: 20 | B39: 361 | C39: 下諏訪町 | D39: 11 | E39: 618 | F39: 68
A40: 20 | B40: 362 | C40: 富士見町 | D40: 432 | E40: 601 | F40: 2600
A41: 20 | B41: 363 | C41: 原村 | D41: 332 | E41: 598 | F41: 1990
... A85: 20 | B85: 602 | C85: 栄村 | D85: 218 | E85: 500 | F85: 1090
C87: 計 | D87: 33200 | E87: 604 | F87: 200500
A89: 利用上の注意 | D89: =SUM(D7:D85) -> 33217 | E89: =SUM(E7:E85) -> 43930 | F89: =SUM(F7:F85) -> 200725
A90: １ この市町村別統計は、「作物統計調査」を実施する上で把握した地域における標本調査及び現地見積りの結果、
A91: 関係機関からの情報等を踏まえ、都道府県計値の内訳として市町村別に作成した加工統計であり、作成するうえで
A92: 精度を設定しているものではない。
...

Sheet 水稲H28（長野）2016
A1: 農林水産関係市町村別統計
A2: 平成28年産
A3: 水稲
A4: 長野県
A5: 都道 | B5: 市町 | D5: 作付面積 | E5: 10a当たり | F5: 収穫量
A6: 府県 | B6: 村 | C6: 市町村名 | E6: 収量
A7: ｺｰﾄﾞ | B7: ｺｰﾄﾞ
D8: ha | E8: kg | F8: t
A9: 20 | B9: 201 | C9: 長野市 | D9: 1650 | E9: 591 | F9: 9750
A10: 20 | B10: 202 | C10: 松本市 | D10: 2750 | E10: 656 | F10: 18100
A11: 20 | B11: 203 | C11: 上田市 | D11: 1670 | E11: 584 | F11: 9740
A12: 20 | B12: 204 | C12: 岡谷市 | D12: 49 | E12: 626 | F12: 307
A13: 20 | B13: 205 | C13: 飯田市 | D13: 745 | E13: 585 | F13: 4360
A14: 20 | B14: 206 | C14: 諏訪市 | D14: 367 | E14: 655 | F14: 2400
A15: 20 | B15: 207 | C15: 須坂市 | D15: 185 | E15: 613 | F15: 1130
A16: 20 | B16: 208 | C16: 小諸市 | D16: 585 | E16: 640 | F16: 3740
A17: 20 | B17: 209 | C17: 伊那市 | D17: 1920 | E17: 653 | F17: 12500
A18: 20 | B18: 210 | C18: 駒ヶ根市 | D18: 785 | E18: 642 | F18: 5040
A19: 20 | B19: 211 | C19: 中野市 | D19: 456 | E19: 599 | F19: 2730
A20: 20 | B20: 212 | C20: 大町市 | D20: 1480 | E20: 617 | F20: 9140
... A28: 20 | B28: 303 | C28: 小海町 | D28: 50 | E28: 613 | F28: 307
A29: 20 | B29: 304 | C29: 川上村 | D29: - | E29: - | F29: -
A30: 20 | B30: 305 | C30: 南牧村 | D30: 13 | E30: 557 | F30: 72
A31: 20 | B31: 306 | C31: 南相木村 | D31: 1 | E31: 547 | F31: 5
A32: 20 | B32: 307 | C32: 北相木村 | D32: 2 | E32: 545 | F32: 11
A33: 20 | B33: 309 | C33: 佐久穂町 | D33: 286 | E33: 633 | F33: 1810
A34: 20 | B34: 321 | C34: 軽井沢町 | D34: 18 | E34: 588 | F34: 106
A35: 20 | B35: 323 | C35: 御代田町 | D35: 96 | E35: 619 | F35: 594
A36: 20 | B36: 324 | C36: 立科町 | D36: 460 | E36: 655 | F36: 3010
A37: 20 | B37: 349 | C37: 青木村 | D37: 112 | E37: 599 | F37: 671
A38: 20 | B38: 350 | C38: 長和町 | D38: 237 | E38: 603 | F38: 1430
A39: 20 | B39: 361 | C39: 下諏訪町 | D39: 11 | E39: 623 | F39: 69
A40: 20 | B40: 362 | C40: 富士見町 | D40: 412 | E40: 614 | F40: 2530
A41: 20 | B41: 363 | C41: 原村 | D41: 333 | E41: 612 | F41: 2040
... A85: 20 | B85: 602 | C85: 栄村 | D85: 208 | E85: 546 | F85: 1140
C87: 計 | D87: 32700 | E87: 624 | F87: 204000
A89: 利用上の注意 | D89: =SUM(D7:D85) -> 32738 | E89: =SUM(E7:E85) -> 45357 | F89: =SUM(F7:F85) -> 204359
A90: １ この市町村別統計は、「作物統計調査」を実施する上で把握した地域における標本調査及び現地見積りの結果、
A91: 関係機関からの情報等を踏まえ、都道府県計値の内訳として市町村別に作成した加工統計であり、作成するうえで
A92: 精度を設定しているものではない。
...

Sheet 水稲H29（長野）2017
A1: 農林水産関係市町村別統計
A2: 平成29年産
A3: 水稲
A4: 長野県
A5: 都道 | B5: 市町 | D5: 作付面積 | E5: 10a当たり | F5: 収穫量
A6: 府県 | B6: 村 | C6: 市町村名 | E6: 収量
A7: ｺｰﾄﾞ | B7: ｺｰﾄﾞ
D8: ha | E8: kg | F8: t
A9: 20 | B9: 201 | C9: 長野市 | D9: 1600 | E9: 579 | F9: 9260
A10: 20 | B10: 202 | C10: 松本市 | D10: 2720 | E10: 669 | F10: 18200
A11: 20 | B11: 203 | C11: 上田市 | D11: 1650 | E11: 607 | F11: 10000
A12: 20 | B12: 204 | C12: 岡谷市 | D12: 43 | E12: 640 | F12: 275
A13: 20 | B13: 205 | C13: 飯田市 | D13: 728 | E13: 634 | F13: 4620
A14: 20 | B14: 206 | C14: 諏訪市 | D14: 366 | E14: 667 | F14: 2440
A15: 20 | B15: 207 | C15: 須坂市 | D15: 183 | E15: 601 | F15: 1100
A16: 20 | B16: 208 | C16: 小諸市 | D16: 585 | E16: 635 | F16: 3720
A17: 20 | B17: 209 | C17: 伊那市 | D17: 1950 | E17: 654 | F17: 12800
A18: 20 | B18: 210 | C18: 駒ヶ根市 | D18: 783 | E18: 638 | F18: 5000
A19: 20 | B19: 211 | C19: 中野市 | D19: 451 | E19: 579 | F19: 2610
A20: 20 | B20: 212 | C20: 大町市 | D20: 1460 | E20: 603 | F20: 8820
... A28: 20 | B28: 303 | C28: 小海町 | D28: 49 | E28: 598 | F28: 293
A29: 20 | B29: 304 | C29: 川上村 | D29: - | E29: - | F29: -
A30: 20 | B30: 305 | C30: 南牧村 | D30: 12 | E30: 537 | F30: 64
A31: 20 | B31: 306 | C31: 南相木村 | D31: 1 | E31: 531 | F31: 5
A32: 20 | B32: 307 | C32: 北相木村 | D32: 2 | E32: 529 | F32: 11
A33: 20 | B33: 309 | C33: 佐久穂町 | D33: 277 | E33: 627 | F33: 1740
A34: 20 | B34: 321 | C34: 軽井沢町 | D34: 13 | E34: 580 | F34: 75
A35: 20 | B35: 323 | C35: 御代田町 | D35: 85 | E35: 633 | F35: 538
A36: 20 | B36: 324 | C36: 立科町 | D36: 456 | E36: 676 | F36: 3080
A37: 20 | B37: 349 | C37: 青木村 | D37: 106 | E37: 600 | F37: 636
A38: 20 | B38: 350 | C38: 長和町 | D38: 239 | E38: 589 | F38: 1410
A39: 20 | B39: 361 | C39: 下諏訪町 | D39: 11 | E39: 633 | F39: 70
A40: 20 | B40: 362 | C40: 富士見町 | D40: 395 | E40: 624 | F40: 2470
A41: 20 | B41: 363 | C41: 原村 | D41: 332 | E41: 621 | F41: 2060
... A85: 20 | B85: 602 | C85: 栄村 | D85: 201 | E85: 512 | F85: 1030
C87: 計 | D87: 32300 | E87: 629 | F87: 203200
A89: 利用上の注意 | D89: =SUM(D7:D85) -> 32333 | E89: =SUM(E7:E85) -> 45822 | F89: =SUM(F7:F85) -> 203507
A90: １ この市町村別統計は、「作物統計調査」を実施する上で把握した地域における標本調査及び現地見積りの結果、
A91: 関係機関からの情報等を踏まえ、都道府県計値の内訳として市町村別に作成した加工統計であり、作成するうえで
A92: 精度を設定しているものではない。
...

Sheet 水稲H30（長野）2018
A1: 農林水産関係市町村別統計
A2: 平成30年産
A3: 水稲
A4: 長野県
A5: 都道 | B5: 市町 | D5: 作付面積 | E5: 10a当たり | F5: 収穫量
A6: 府県 | B6: 村 | C6: 市町村名 | E6: 収量
A7: ｺｰﾄﾞ | B7: ｺｰﾄﾞ
D8: ha | E8: kg | F8: t
A9: 20 | B9: 201 | C9: 長野市 | D9: 1550 | E9: 557 | F9: 8640
A10: 20 | B10: 202 | C10: 松本市 | D10: 2690 | E10: 652 | F10: 17600
A11: 20 | B11: 203 | C11: 上田市 | D11: 1650 | E11: 587 | F11: 9660
A12: 20 | B12: 204 | C12: 岡谷市 | D12: 42 | E12: 628 | F12: 264
A13: 20 | B13: 205 | C13: 飯田市 | D13: 707 | E13: 608 | F13: 4300
A14: 20 | B14: 206 | C14: 諏訪市 | D14: 366 | E14: 653 | F14: 2390
A15: 20 | B15: 207 | C15: 須坂市 | D15: 175 | E15: 582 | F15: 1020
A16: 20 | B16: 208 | C16: 小諸市 | D16: 607 | E16: 616 | F16: 3740
A17: 20 | B17: 209 | C17: 伊那市 | D17: 1950 | E17: 646 | F17: 12600
A18: 20 | B18: 210 | C18: 駒ヶ根市 | D18: 779 | E18: 631 | F18: 4920
A19: 20 | B19: 211 | C19: 中野市 | D19: 451 | E19: 541 | F19: 2440
A20: 20 | B20: 212 | C20: 大町市 | D20: 1450 | E20: 604 | F20: 8780
... A28: 20 | B28: 303 | C28: 小海町 | D28: 48 | E28: 593 | F28: 285
A29: 20 | B29: 304 | C29: 川上村 | D29: - | E29: - | F29: -
A30: 20 | B30: 305 | C30: 南牧村 | D30: 12 | E30: 526 | F30: 63
A31: 20 | B31: 306 | C31: 南相木村 | D31: 1 | E31: 529 | F31: 5
A32: 20 | B32: 307 | C32: 北相木村 | D32: 1 | E32: 527 | F32: 5
A33: 20 | B33: 309 | C33: 佐久穂町 | D33: 272 | E33: 615 | F33: 1670
A34: 20 | B34: 321 | C34: 軽井沢町 | D34: 14 | E34: 578 | F34: 81
A35: 20 | B35: 323 | C35: 御代田町 | D35: 82 | E35: 605 | F35: 496
A36: 20 | B36: 324 | C36: 立科町 | D36: 450 | E36: 698 | F36: 3140
A37: 20 | B37: 349 | C37: 青木村 | D37: 104 | E37: 613 | F37: 638
A38: 20 | B38: 350 | C38: 長和町 | D38: 245 | E38: 615 | F38: 1510
A39: 20 | B39: 361 | C39: 下諏訪町 | D39: 9 | E39: 622 | F39: 56
A40: 20 | B40: 362 | C40: 富士見町 | D40: 394 | E40: 625 | F40: 2460
A41: 20 | B41: 363 | C41: 原村 | D41: 321 | E41: 620 | F41: 1990
... A85: 20 | B85: 602 | C85: 栄村 | D85: 199 | E85: 487 | F85: 969
C87: 計 | D87: 32200 | E87: 618 | F87: 199000
A89: 利用上の注意 | D89: =SUM(D7:D85) -> 32185 | E89: =SUM(E7:E85) -> 44854 | F89: =SUM(F7:F85) -> 198910
A90: １ この市町村別統計は、「作物統計調査」を実施する上で把握した地域における標本調査及び現地見積りの結果、
A91: 関係機関からの情報等を踏まえ、都道府県計値の内訳として市町村別に作成した加工統計であり、作成するうえで
A92: 精度を設定しているものではない。
...

Sheet 水稲R1（長野）2019
A1: 農林水産関係市町村別統計
A2: 令和元年産
A3: 水稲
A4: 長野県
A5: 都道 | B5: 市町 | D5: 作付面積 | E5: 10a当たり | F5: 収穫量
A6: 府県 | B6: 村 | C6: 市町村名 | E6: 収量
A7: ｺｰﾄﾞ | B7: ｺｰﾄﾞ
D8: ha | E8: kg | F8: t
A9: 20 | B9: 201 | C9: 長野市 | D9: 1510 | E9: 578 | F9: 8740
A10: 20 | B10: 202 | C10: 松本市 | D10: 2700 | E10: 645 | F10: 17400
A11: 20 | B11: 203 | C11: 上田市 | D11: 1650 | E11: 591 | F11: 9770
A12: 20 | B12: 204 | C12: 岡谷市 | D12: 40 | E12: 642 | F12: 257
A13: 20 | B13: 205 | C13: 飯田市 | D13: 680 | E13: 593 | F13: 4030
A14: 20 | B14: 206 | C14: 諏訪市 | D14: 359 | E14: 663 | F14: 2380
A15: 20 | B15: 207 | C15: 須坂市 | D15: 174 | E15: 601 | F15: 1050
A16: 20 | B16: 208 | C16: 小諸市 | D16: 583 | E16: 603 | F16: 3520
A17: 20 | B17: 209 | C17: 伊那市 | D17: 1960 | E17: 656 | F17: 12900
A18: 20 | B18: 210 | C18: 駒ヶ根市 | D18: 767 | E18: 641 | F18: 4920
A19: 20 | B19: 211 | C19: 中野市 | D19: 451 | E19: 554 | F19: 2500
A20: 20 | B20: 212 | C20: 大町市 | D20: 1460 | E20: 629 | F20: 9150
... A28: 20 | B28: 303 | C28: 小海町 | D28: 32 | E28: 561 | F28: 180
A29: 20 | B29: 304 | C29: 川上村 | D29: - | E29: - | F29: -
A30: 20 | B30: 305 | C30: 南牧村 | D30: 12 | E30: 522 | F30: 63
A31: 20 | B31: 306 | C31: 南相木村 | D31: 1 | E31: 523 | F31: 5
A32: 20 | B32: 307 | C32: 北相木村 | D32: 1 | E32: 519 | F32: 5
A33: 20 | B33: 309 | C33: 佐久穂町 | D33: 259 | E33: 561 | F33: 1450
A34: 20 | B34: 321 | C34: 軽井沢町 | D34: 13 | E34: 545 | F34: 71
A35: 20 | B35: 323 | C35: 御代田町 | D35: 80 | E35: 570 | F35: 456
A36: 20 | B36: 324 | C36: 立科町 | D36: 453 | E36: 664 | F36: 3010
A37: 20 | B37: 349 | C37: 青木村 | D37: 74 | E37: 568 | F37: 420
A38: 20 | B38: 350 | C38: 長和町 | D38: 243 | E38: 576 | F38: 1400
A39: 20 | B39: 361 | C39: 下諏訪町 | D39: 9 | E39: 617 | F39: 56
A40: 20 | B40: 362 | C40: 富士見町 | D40: 392 | E40: 639 | F40: 2510
A41: 20 | B41: 363 | C41: 原村 | D41: 333 | E41: 643 | F41: 2140
... A85: 20 | B85: 602 | C85: 栄村 | D85: 199 | E85: 507 | F85: 1010
C87: 計 | D87: 32000 | E87: 620 | F87: 198400
A89: 利用上の注意 | D89: =SUM(D7:D85) -> 32007 | E89: =SUM(E7:E85) -> 44843 | F89: =SUM(F7:F85) -> 198232
A90: １ この市町村別統計は、「作物統計調査」を実施する上で把握した地域における標本調査及び現地見積りの結果、
A91: 関係機関からの情報等を踏まえ、都道府県計値の内訳として市町村別に作成した加工統計であり、作成するうえで
A92: 精度を設定しているものではない。
...

Sheet 水稲R2（長野）2020
A1: 農林水産関係市町村別統計
A2: 令和2年産
A3: 水稲
A4: 長野県
A5: 都道 | B5: 市町 | D5: 作付面積 | E5: 10a当たり | F5: 収穫量
A6: 府県 | B6: 村 | C6: 市町村名 | E6: 収量
A7: ｺｰﾄﾞ | B7: ｺｰﾄﾞ
D8: ha | E8: kg | F8: t
A9: 20 | B9: 201 | C9: 長野市 | D9: 1510 | E9: 565 | F9: 8530
A10: 20 | B10: 202 | C10: 松本市 | D10: 2690 | E10: 636 | F10: 17100
A11: 20 | B11: 203 | C11: 上田市 | D11: 1630 | E11: 584 | F11: 9540
A12: 20 | B12: 204 | C12: 岡谷市 | D12: 39 | E12: 617 | F12: 241
A13: 20 | B13: 205 | C13: 飯田市 | D13: 665 | E13: 566 | F13: 3760
A14: 20 | B14: 206 | C14: 諏訪市 | D14: 357 | E14: 641 | F14: 2290
A15: 20 | B15: 207 | C15: 須坂市 | D15: 175 | E15: 598 | F15: 1050
A16: 20 | B16: 208 | C16: 小諸市 | D16: 577 | E16: 576 | F16: 3320
A17: 20 | B17: 209 | C17: 伊那市 | D17: 1960 | E17: 650 | F17: 12800
A18: 20 | B18: 210 | C18: 駒ヶ根市 | D18: 769 | E18: 633 | F18: 4870
A19: 20 | B19: 211 | C19: 中野市 | D19: 456 | E19: 553 | F19: 2520
A20: 20 | B20: 212 | C20: 大町市 | D20: 1450 | E20: 595 | F20: 8620
... A28: 20 | B28: 303 | C28: 小海町 | D28: 32 | E28: 535 | F28: 171
A29: 20 | B29: 304 | C29: 川上村 | D29: - | E29: - | F29: -
A30: 20 | B30: 305 | C30: 南牧村 | D30: 12 | E30: 511 | F30: 61
A31: 20 | B31: 306 | C31: 南相木村 | D31: 1 | E31: 510 | F31: 5
A32: 20 | B32: 307 | C32: 北相木村 | D32: 1 | E32: 505 | F32: 5
A33: 20 | B33: 309 | C33: 佐久穂町 | D33: 258 | E33: 546 | F33: 1410
A34: 20 | B34: 321 | C34: 軽井沢町 | D34: 12 | E34: 531 | F34: 64
A35: 20 | B35: 323 | C35: 御代田町 | D35: 79 | E35: 553 | F35: 437
A36: 20 | B36: 324 | C36: 立科町 | D36: 454 | E36: 651 | F36: 2960
A37: 20 | B37: 349 | C37: 青木村 | D37: 93 | E37: 564 | F37: 525
A38: 20 | B38: 350 | C38: 長和町 | D38: 248 | E38: 566 | F38: 1400
A39: 20 | B39: 361 | C39: 下諏訪町 | D39: 9 | E39: 602 | F39: 54
A40: 20 | B40: 362 | C40: 富士見町 | D40: 383 | E40: 590 | F40: 2260
A41: 20 | B41: 363 | C41: 原村 | D41: 325 | E41: 592 | F41: 1920
... A85: 20 | B85: 602 | C85: 栄村 | D85: 199 | E85: 501 | F85: 997
C87: 計 | D87: 31800 | E87: 606 | F87: 192700
A89: 利用上の注意 | D89: =SUM(D7:D85) -> 31803 | E89: =SUM(E7:E85) -> 43659 | F89: =SUM(F7:F85) -> 192757
A90: １ この市町村別統計は、「作物統計調査」を実施する上で把握した地域における標本調査及び現地見積りの結果、
A91: 関係機関からの情報等を踏まえ、都道府県計値の内訳として市町村別に作成した加工統計であり、作成するうえで
A92: 精度を設定しているものではない。
...

Sheet 水稲R3（長野）2021
A1: 農林水産関係市町村別統計
A2: 令和3年産
A3: 水稲
A4: 長野県
A5: 都道 | B5: 市町 | C5: 市町村名 | D5: 作付面積 | E5: 10a当たり | F5: 収穫量
A6: 府県 | B6: 村 | E6: 収量
A7: ｺｰﾄﾞ | B7: ｺｰﾄﾞ
D8: ha | E8: kg | F8: t
A9: 20 | B9: 201 | C9: 長野市 | D9: 1480 | E9: 551 | F9: 8180
A10: 20 | B10: 202 | C10: 松本市 | D10: 2690 | E10: 637 | F10: 17100
A11: 20 | B11: 203 | C11: 上田市 | D11: 1620 | E11: 567 | F11: 9180
A12: 20 | B12: 204 | C12: 岡谷市 | D12: 37 | E12: 625 | F12: 231
A13: 20 | B13: 205 | C13: 飯田市 | D13: 649 | E13: 591 | F13: 3840
A14: 20 | B14: 206 | C14: 諏訪市 | D14: 353 | E14: 652 | F14: 2300
A15: 20 | B15: 207 | C15: 須坂市 | D15: 175 | E15: 588 | F15: 1030
A16: 20 | B16: 208 | C16: 小諸市 | D16: 571 | E16: 572 | F16: 3270
A17: 20 | B17: 209 | C17: 伊那市 | D17: 1960 | E17: 608 | F17: 11900
A18: 20 | B18: 210 | C18: 駒ヶ根市 | D18: 764 | E18: 587 | F18: 4490
A19: 20 | B19: 211 | C19: 中野市 | D19: 445 | E19: 540 | F19: 2400
A20: 20 | B20: 212 | C20: 大町市 | D20: 1430 | E20: 627 | F20: 8960
... A28: 20 | B28: 303 | C28: 小海町 | D28: 30 | E28: 532 | F28: 160
A29: 20 | B29: 304 | C29: 川上村 | D29: - | E29: - | F29: -
A30: 20 | B30: 305 | C30: 南牧村 | D30: 12 | E30: 509 | F30: 61
A31: 20 | B31: 306 | C31: 南相木村 | D31: 1 | E31: 508 | F31: 5
A32: 20 | B32: 307 | C32: 北相木村 | D32: 1 | E32: 506 | F32: 5
A33: 20 | B33: 309 | C33: 佐久穂町 | D33: 252 | E33: 547 | F33: 1380
A34: 20 | B34: 321 | C34: 軽井沢町 | D34: 14 | E34: 532 | F34: 74
A35: 20 | B35: 323 | C35: 御代田町 | D35: 82 | E35: 555 | F35: 455
A36: 20 | B36: 324 | C36: 立科町 | D36: 448 | E36: 644 | F36: 2890
A37: 20 | B37: 349 | C37: 青木村 | D37: 94 | E37: 543 | F37: 510
A38: 20 | B38: 350 | C38: 長和町 | D38: 220 | E38: 554 | F38: 1220
A39: 20 | B39: 361 | C39: 下諏訪町 | D39: 8 | E39: 617 | F39: 49
A40: 20 | B40: 362 | C40: 富士見町 | D40: 379 | E40: 610 | F40: 2310
A41: 20 | B41: 363 | C41: 原村 | D41: 331 | E41: 600 | F41: 1990
... A85: 20 | B85: 602 | C85: 栄村 | D85: 195 | E85: 494 | F85: 963
C87: 計 | D87: 31500 | E87: 603 | F87: 189900
A89: 利用上の注意 | D89: =SUM(D7:D85) -> 31473 | E89: =SUM(E7:E85) -> 43471 | F89: =SUM(F7:F85) -> 189832
A90: １ この市町村別統計は、「作物統計調査」を実施する上で把握した地域における標本調査、現地見積りの結果、関係機関
A91: からの情報等を踏まえ、都道府県計値の内訳として市町村別に配分することにより作成した加工統計であり、市町村別の
A92: 値を目的として設計された調査に基づいて直接得られたものではない。
...

Sheet 水稲R4（長野）2022
A1: 農林水産関係市町村別統計
A2: 令和4年産
A3: 水稲
A4: 長野県
A5: 都道 | B5: 市町 | C5: 市町村名 | D5: 作付面積 | E5: 10a当たり | F5: 収穫量
A6: 府県 | B6: 村 | E6: 収量
A7: ｺｰﾄﾞ | B7: ｺｰﾄﾞ
D8: ha | E8: kg | F8: t
A9: 20 | B9: 201 | C9: 長野市 | D9: 1470 | E9: 550 | F9: 8100
A10: 20 | B10: 202 | C10: 松本市 | D10: 2630 | E10: 648 | F10: 17000
A11: 20 | B11: 203 | C11: 上田市 | D11: 1580 | E11: 584 | F11: 9250
A12: 20 | B12: 204 | C12: 岡谷市 | D12: 35 | E12: 623 | F12: 218
A13: 20 | B13: 205 | C13: 飯田市 | D13: 643 | E13: 580 | F13: 3730
A14: 20 | B14: 206 | C14: 諏訪市 | D14: 351 | E14: 652 | F14: 2290
A15: 20 | B15: 207 | C15: 須坂市 | D15: 157 | E15: 574 | F15: 901
A16: 20 | B16: 208 | C16: 小諸市 | D16: 560 | E16: 605 | F16: 3390
A17: 20 | B17: 209 | C17: 伊那市 | D17: 1880 | E17: 643 | F17: 12100
A18: 20 | B18: 210 | C18: 駒ヶ根市 | D18: 746 | E18: 631 | F18: 4710
A19: 20 | B19: 211 | C19: 中野市 | D19: 429 | E19: 570 | F19: 2450
A20: 20 | B20: 212 | C20: 大町市 | D20: 1410 | E20: 607 | F20: 8530
... A28: 20 | B28: 303 | C28: 小海町 | D28: 29 | E28: 561 | F28: 163
A29: 20 | B29: 304 | C29: 川上村 | D29: - | E29: - | F29: -
A30: 20 | B30: 305 | C30: 南牧村 | D30: 12 | E30: 511 | F30: 61
A31: 20 | B31: 306 | C31: 南相木村 | D31: 1 | E31: 510 | F31: 5
A32: 20 | B32: 307 | C32: 北相木村 | D32: 1 | E32: 509 | F32: 5
A33: 20 | B33: 309 | C33: 佐久穂町 | D33: 253 | E33: 579 | F33: 1470
A34: 20 | B34: 321 | C34: 軽井沢町 | D34: 12 | E34: 554 | F34: 66
A35: 20 | B35: 323 | C35: 御代田町 | D35: 88 | E35: 584 | F35: 514
A36: 20 | B36: 324 | C36: 立科町 | D36: 446 | E36: 641 | F36: 2860
A37: 20 | B37: 349 | C37: 青木村 | D37: 92 | E37: 567 | F37: 522
A38: 20 | B38: 350 | C38: 長和町 | D38: 215 | E38: 570 | F38: 1230
A39: 20 | B39: 361 | C39: 下諏訪町 | D39: 8 | E39: 614 | F39: 49
A40: 20 | B40: 362 | C40: 富士見町 | D40: 375 | E40: 609 | F40: 2280
A41: 20 | B41: 363 | C41: 原村 | D41: 326 | E41: 604 | F41: 1970
... A85: 20 | B85: 602 | C85: 栄村 | D85: 196 | E85: 500 | F85: 980
C87: 計 | D87: 30800 | E87: 608 | F87: 187300
A89: 利用上の注意 | D89: =SUM(D7:D85) -> 30841 | E89: =SUM(E7:E85) -> 43978 | F89: =SUM(F7:F85) -> 187345
A90: １ この市町村別統計は、「作物統計調査」を実施する上で把握した地域における標本調査、現地見積りの結果、関係機関
A91: からの情報等を踏まえ、都道府県計値の内訳として市町村別に配分することにより作成した加工統計であり、市町村別の
A92: 値を目的として設計された調査に基づいて直接得られたものではない。
...

Sheet 水稲R5（長野）2023
A1: 農林水産関係市町村別統計
A2: 令和5年産
A3: 水稲
A4: 長野県
A5: 都道府県ｺｰﾄﾞ | B5: 市町村 ｺｰﾄﾞ | C5: 市町村名 | D5: 作付面積 | E5: 10a当たり 収量 | F5: 収穫量
D8: ha | E8: kg | F8: t
A9: 20 | B9: 201 | C9: 長野市 | D9: 1440 | E9: 554 | F9: 7990
A10: 20 | B10: 202 | C10: 松本市 | D10: 2590 | E10: 653 | F10: 16900
A11: 20 | B11: 203 | C11: 上田市 | D11: 1640 | E11: 585 | F11: 9570
A12: 20 | B12: 204 | C12: 岡谷市 | D12: 40 | E12: 645 | F12: 258
A13: 20 | B13: 205 | C13: 飯田市 | D13: 628 | E13: 575 | F13: 3610
A14: 20 | B14: 206 | C14: 諏訪市 | D14: 341 | E14: 665 | F14: 2270
A15: 20 | B15: 207 | C15: 須坂市 | D15: 156 | E15: 582 | F15: 908
A16: 20 | B16: 208 | C16: 小諸市 | D16: 551 | E16: 648 | F16: 3570
A17: 20 | B17: 209 | C17: 伊那市 | D17: 1860 | E17: 639 | F17: 11900
A18: 20 | B18: 210 | C18: 駒ヶ根市 | D18: 738 | E18: 625 | F18: 4610
A19: 20 | B19: 211 | C19: 中野市 | D19: 419 | E19: 552 | F19: 2310
A20: 20 | B20: 212 | C20: 大町市 | D20: 1400 | E20: 608 | F20: 8520
... A28: 20 | B28: 303 | C28: 小海町 | D28: 28 | E28: 592 | F28: 166
A29: 20 | B29: 304 | C29: 川上村 | D29: - | E29: - | F29: -
A30: 20 | B30: 305 | C30: 南牧村 | D30: 12 | E30: 525 | F30: 63
A31: 20 | B31: 306 | C31: 南相木村 | D31: 0 | E31: 524 | F31: 2
A32: 20 | B32: 307 | C32: 北相木村 | D32: 1 | E32: 522 | F32: 5
A33: 20 | B33: 309 | C33: 佐久穂町 | D33: 241 | E33: 625 | F33: 1510
A34: 20 | B34: 321 | C34: 軽井沢町 | D34: 12 | E34: 578 | F34: 69
A35: 20 | B35: 323 | C35: 御代田町 | D35: 84 | E35: 627 | F35: 527
A36: 20 | B36: 324 | C36: 立科町 | D36: 441 | E36: 668 | F36: 2950
A37: 20 | B37: 349 | C37: 青木村 | D37: 74 | E37: 561 | F37: 415
A38: 20 | B38: 350 | C38: 長和町 | D38: 223 | E38: 570 | F38: 1270
A39: 20 | B39: 361 | C39: 下諏訪町 | D39: 8 | E39: 638 | F39: 51
A40: 20 | B40: 362 | C40: 富士見町 | D40: 374 | E40: 630 | F40: 2360
A41: 20 | B41: 363 | C41: 原村 | D41: 324 | E41: 626 | F41: 2030
... A85: 20 | B85: 602 | C85: 栄村 | D85: 194 | E85: 494 | F85: 958
C87: 計 | D87: 30600 | E87: 614 | F87: 187900
A89: 利用上の注意 | D89: =SUM(D7:D85) -> 30552 | E89: =SUM(E7:E85) -> 44382 | F89: =SUM(F7:F85) -> 187638
A90: １ この市町村別統計は、「作物統計調査」を実施する上で把握した地域における標本調査及び現地見積りの結果、関係機関
A91: からの情報等を踏まえ、都道府県計値の内訳として市町村別に配分することにより作成した加工統計であり、市町村別の値
A92: を目的として設計された調査に基づいて直接得られたものではない。
A93: なお、「作物統計調査」は、都道府県計値を求めるために目標精度を設定し、調査の設計がされている。
A94: ２ 面積、収穫量ともに耕地の存在する市町村に計上しており（属地統計）、耕作者の市町村間の出作・入作を考慮していない。
...

Sheet 水稲R6（長野）2024
A1: 農林水産関係市町村別統計
A2: 令和6年産
A3: 水稲
A4: 長野県
A5: 都道府県ｺｰﾄﾞ | B5: 市町村 ｺｰﾄﾞ | C5: 市町村名 | D5: 作付面積 | E5: 10a当たり 収量 | F5: 収穫量
D8: ha | E8: kg | F8: t
A9: 20 | B9: 201 | C9: 長野市 | D9: 1410 | E9: 541 | F9: 7640
A10: 20 | B10: 202 | C10: 松本市 | D10: 2600 | E10: 649 | F10: 16800
A11: 20 | B11: 203 | C11: 上田市 | D11: 1560 | E11: 580 | F11: 9030
A12: 20 | B12: 204 | C12: 岡谷市 | D12: 36 | E12: 640 | F12: 230
A13: 20 | B13: 205 | C13: 飯田市 | D13: 584 | E13: 565 | F13: 3300
A14: 20 | B14: 206 | C14: 諏訪市 | D14: 343 | E14: 663 | F14: 2270
A15: 20 | B15: 207 | C15: 須坂市 | D15: 149 | E15: 591 | F15: 881
A16: 20 | B16: 208 | C16: 小諸市 | D16: 541 | E16: 664 | F16: 3590
A17: 20 | B17: 209 | C17: 伊那市 | D17: 1840 | E17: 638 | F17: 11700
A18: 20 | B18: 210 | C18: 駒ヶ根市 | D18: 732 | E18: 624 | F18: 4570
A19: 20 | B19: 211 | C19: 中野市 | D19: 412 | E19: 582 | F19: 2400
A20: 20 | B20: 212 | C20: 大町市 | D20: 1410 | E20: 628 | F20: 8820
... A28: 20 | B28: 303 | C28: 小海町 | D28: 23 | E28: 612 | F28: 141
A29: 20 | B29: 304 | C29: 川上村 | D29: - | E29: - | F29: -
A30: 20 | B30: 305 | C30: 南牧村 | D30: 12 | E30: 528 | F30: 63
A31: 20 | B31: 306 | C31: 南相木村 | D31: 0 | E31: 540 | F31: 2
A32: 20 | B32: 307 | C32: 北相木村 | D32: 1 | E32: 538 | F32: 5
A33: 20 | B33: 309 | C33: 佐久穂町 | D33: 239 | E33: 643 | F33: 1540
A34: 20 | B34: 321 | C34: 軽井沢町 | D34: 11 | E34: 592 | F34: 65
A35: 20 | B35: 323 | C35: 御代田町 | D35: 77 | E35: 647 | F35: 498
A36: 20 | B36: 324 | C36: 立科町 | D36: 439 | E36: 676 | F36: 2970
A37: 20 | B37: 349 | C37: 青木村 | D37: 88 | E37: 569 | F37: 501
A38: 20 | B38: 350 | C38: 長和町 | D38: 229 | E38: 568 | F38: 1300
A39: 20 | B39: 361 | C39: 下諏訪町 | D39: 7 | E39: 629 | F39: 44
A40: 20 | B40: 362 | C40: 富士見町 | D40: 374 | E40: 628 | F40: 2350
A41: 20 | B41: 363 | C41: 原村 | D41: 322 | E41: 623 | F41: 2010
... A85: 20 | B85: 602 | C85: 栄村 | D85: 194 | E85: 515 | F85: 999
C87: 計 | D87: 30300 | E87: 620 | F87: 187900
A89: 利用上の注意 | D89: =SUM(D7:D85) -> 30317 | E89: =SUM(E7:E85) -> 44623 | F89: =SUM(F7:F85) -> 187713
A90: １ この市町村別統計は、「作物統計調査」を実施する上で把握した地域における標本調査結果及び現地見積りの結果、関係機関
A91: からの情報等を踏まえ、都道府県計値の内訳として市町村別に配分することにより作成した加工統計であり、市町村別の値
A92: を目的として設計された調査に基づいて直接得られたものではない。
A93: なお、「作物統計調査」は、都道府県計値を求めるために目標精度を設定し、調査の設計がされている。
A94: ２ 面積、収穫量ともに耕地の存在する市町村に計上しており（属地統計）、耕作者の市町村間の出作・入作を考慮していない。
...

Sheet 水稲累年統計（長野県）
A1: 作物統計
A2: 収穫量累年統計
A3: 水稲
A4: 長野
A5: 年次 | B5: 作付面積 （子実用） | C5: 主食用作付面積 | D5: 10a当たり平年収量 | E5: 平年収量 | F5: 8月15日現在 | H5: 9月1日現在 | I5: 9月10日現在 | J5: 9月15日現在 | K5: 9月25日現在 | L5: 10月1日現在 | O5: 10月15日現在 | R5: 10月25日現在 | U5: 収穫期
F6: 作柄の良否(早場地帯） | G6: 作況指数 | H6: 作況指数 | I6: 作況指数 | J6: 作況指数 | K6: 作況指数 | L6: 10a当たり予想収量 | M6: 作況指数 | N6: 予想収穫量 （子実用） | O6: 10a当たり予想収量 | P6: 作況指数 | Q6: 予想収穫量 （子実用） | R6: 10a当たり予想収量 | S6: 作況指数 | T6: 予想収穫量 （子実用） | U6: 10a当たり収量 | V6: 作況指数 | W6: 収穫量 （子実用） | X6: 収穫量_x000D_ （主食用）
B7: ha | C7: ha | D7: kg | E7: t | L7: kg | N7: t | O7: kg | Q7: t | R7: kg | T7: t | U7: kg | W7: t | X7: t
A8: 昭.33(1958) | B8: 73000 | C8: … | D8: 431 | E8: 315000 | F8: … | G8: 118 | H8: … | I8: … | J8: 118 | K8: … | L8: … | M8: … | N8: … | O8: 489 | P8: 113 | Q8: 357000 | R8: … | S8: … | T8: … | U8: 492 | V8: 114 | W8: 359400 | X8: …
A9: 昭.34(1959) | B9: 74500 | C9: … | D9: 461 | E9: 343400 | F9: … | G9: 102 | H9: … | I9: … | J9: 108 | K9: … | L9: … | M9: … | N9: … | O9: 492 | P9: 107 | Q9: 366700 | R9: … | S9: … | T9: … | U9: 496 | V9: 108 | W9: 369700 | X9: …
A10: 昭.35(1960) | B10: 75700 | C10: … | D10: 481 | E10: 364300 | F10: … | G10: 107 | H10: … | I10: … | J10: 107 | K10: … | L10: … | M10: … | N10: … | O10: 503 | P10: 105 | Q10: 381100 | R10: … | S10: … | T10: … | U10: 493 | V10: 103 | W10: 373400 | X10: …
A11: 昭.36(1961) | B11: 75900 | C11: … | D11: 484 | E11: 367200 | F11: … | G11: 107 | H11: … | I11: … | J11: … | K11: 107 | L11: … | M11: … | N11: … | O11: 516 | P11: 107 | Q11: 391700 | R11: … | S11: … | T11: … | U11: 515 | V11: 106 | W11: 390900 | X11: …
A12: 昭.37(1962) | B12: 75500 | C12: … | D12: 495 | E12: 373600 | F12: … | G12: 104 | H12: … | I12: … | J12: 108 | K12: … | L12: … | M12: … | N12: … | O12: 519 | P12: 105 | Q12: 391900 | R12: … | S12: … | T12: … | U12: 518 | V12: 105 | W12: 391100 | X12: …
A13: 昭.38(1963) | B13: 75000 | C13: … | D13: 498 | E13: 373700 | F13: … | G13: 101 | H13: … | I13: … | J13: 103 | K13: … | L13: … | M13: … | N13: … | O13: 509 | P13: 102 | Q13: 382100 | R13: … | S13: … | T13: … | U13: 504 | V13: 101 | W13: 378300 | X13: …
A14: 昭.39(1964) | B14: 74900 | C14: … | D14: 502 | E14: 375900 | F14: … | G14: 104 | H14: … | I14: … | J14: 105 | K14: … | L14: … | M14: … | N14: … | O14: 510 | P14: 102 | Q14: 381800 | R14: … | S14: … | T14: … | U14: 506 | V14: 101 | W14: 378800 | X14: …
A15: 昭.40(1965) | B15: 75000 | C15: … | D15: 506 | E15: 379500 | F15: … | G15: 98 | H15: … | I15: … | J15: … | K15: … | L15: 480 | M15: 95 | N15: 360000 | O15: … | P15: … | Q15: … | R15: … | S15: … | T15: … | U15: 471 | V15: 93 | W15: 353300 | X15: …
A16: 昭.41(1966) | B16: 75200 | C16: … | D16: 506 | E16: 380500 | F16: … | G16: 99 | H16: … | I16: … | J16: 102 | K16: … | L16: … | M16: … | N16: … | O16: 509 | P16: 101 | Q16: 382800 | R16: … | S16: … | T16: … | U16: 507 | V16: 100 | W16: 381300 | X16: …
A17: 昭.42(1967) | B17: 75200 | C17: … | D17: 506 | E17: 380500 | F17: … | G17: 103 | H17: … | I17: … | J17: 104 | K17: … | L17: … | M17: … | N17: … | O17: 528 | P17: 104 | Q17: 397100 | R17: … | S17: … | T17: … | U17: 531 | V17: 105 | W17: 399300 | X17: …
A18: 昭.43(1968) | B18: 75100 | C18: … | D18: 508 | E18: 381500 | F18: … | G18: 103 | H18: … | I18: … | J18: 102 | K18: … | L18: … | M18: … | N18: … | O18: 525 | P18: 103 | Q18: 394300 | R18: … | S18: … | T18: … | U18: 535 | V18: 105 | W18: 401800 | X18: …
A19: 昭.44(1969) | B19: 75000 | C19: … | D19: 513 | E19: 384800 | F19: … | G19: 100 | H19: … | I19: … | J19: 102 | K19: … | L19: … | M19: … | N19: … | O19: 516 | P19: 101 | Q19: 387000 | R19: … | S19: … | T19: … | U19: 508 | V19: 99 | W19: 381000 | X19: …
A20: 昭.45(1970) | B20: 67600 | C20: … | D20: 513 | E20: 346800 | F20: … | G20: 102 | H20: … | I20: … | J20: 103 | K20: … | L20: … | M20: … | N20: … | O20: 522 | P20: 102 | Q20: 352900 | R20: … | S20: … | T20: … | U20: 528 | V20: 103 | W20: 356900 | X20: …
A21: 昭.46(1971) | B21: 62200 | C21: … | D21: 517 | E21: 321600 | F21: … | G21: 101 | H21: … | I21: … | J21: 99 | K21: … | L21: … | M21: … | N21: … | O21: 495 | P21: 96 | Q21: 307900 | R21: … | S21: … | T21: … | U21: 501 | V21: 97 | W21: 311600 | X21: …
A22: 昭.47(1972) | B22: 61900 | C22: … | D22: 517 | E22: 320000 | F22: … | G22: 103 | H22: … | I22: … | J22: 103 | K22: … | L22: … | M22: … | N22: … | O22: 520 | P22: 101 | Q22: 321900 | R22: … | S22: … | T22: … | U22: 516 | V22: 100 | W22: 319400 | X22: …
A23: 昭.48(1973) | B23: 61700 | C23: … | D23: 517 | E23: 319000 | F23: … | G23: 103 | H23: … | I23: … | J23: 104 | K23: … | L23: … | M23: … | N23: … | O23: 545 | P23: 105 | Q23: 336300 | R23: … | S23: … | T23: … | U23: 545 | V23: 105 | W23: 336300 | X23: …
A24: 昭.49(1974) | B24: 63700 | C24: … | D24: 517 | E24: 329300 | F24: … | G24: 99 | H24: … | I24: … | J24: 96 | K24: … | L24: … | M24: … | N24: … | O24: 487 | P24: 94 | Q24: 310200 | R24: … | S24: … | T24: … | U24: 484 | V24: 94 | W24: 308300 | X24: …
A25: 昭.50(1975) | B25: 64600 | C25: … | D25: 517 | E25: 334000 | F25: … | G25: 100 | H25: … | I25: … | J25: 102 | K25: … | L25: … | M25: … | N25: … | O25: 549 | P25: 106 | Q25: 354700 | R25: … | S25: … | T25: … | U25: 563 | V25: 109 | W25: 363700 | X25: …
A26: 昭.51(1976) | B26: 64700 | C26: … | D26: 522 | E26: 337700 | F26: … | G26: 98 | H26: … | I26: … | J26: 95 | K26: … | L26: … | M26: … | N26: … | O26: 492 | P26: 94 | Q26: 318300 | R26: … | S26: … | T26: … | U26: 489 | V26: 94 | W26: 316400 | X26: …
A27: 昭.52(1977) | B27: 64700 | C27: … | D27: 522 | E27: 337700 | F27: … | G27: 104 | H27: … | I27: … | J27: 106 | K27: … | L27: … | M27: … | N27: … | O27: 570 | P27: 109 | Q27: 368800 | R27: … | S27: … | T27: … | U27: 570 | V27: 109 | W27: 368800 | X27: …
... A49: 平.11(1999) | B49: 37300 | C49: … | D49: 592 | E49: 220800 | F49: … | G49: 104 | H49: … | I49: … | J49: 105 | K49: … | L49: … | M49: … | N49: … | O49: 624 | P49: 105 | Q49: 232800 | R49: … | S49: … | T49: … | U49: 624 | V49: 105 | W49: 232800 | X49: …
A50: 平.12(2000) | B50: 37000 | C50: … | D50: 603 | E50: 223100 | F50: やや良 | G50: … | H50: 104 | I50: … | J50: 104 | K50: … | L50: … | M50: … | N50: … | O50: 628 | P50: 104 | Q50: 232400 | R50: … | S50: … | T50: … | U50: 628 | V50: 104 | W50: 232400 | X50: …
A51: 平.13(2001) | B51: 36200 | C51: … | D51: 603 | E51: 218300 | F51: やや良 | G51: … | H51: … | I51: … | J51: 105 | K51: … | L51: … | M51: … | N51: … | O51: 633 | P51: 105 | Q51: 229100 | R51: … | S51: … | T51: … | U51: 633 | V51: 105 | W51: 229100 | X51: …
A52: 平.14(2002) | B52: 35800 | C52: … | D52: 609 | E52: 218000 | F52: やや良 | G52: … | H52: … | I52: … | J52: 103 | K52: … | L52: … | M52: … | N52: … | O52: 630 | P52: 103 | Q52: 225500 | R52: … | S52: … | T52: … | U52: 630 | V52: 103 | W52: 225500 | X52: …
A53: 平.15(2003) | B53: 35500 | C53: … | D53: 611 | E53: 216900 | F53: やや不良 | G53: … | H53: … | I53: … | J53: 96 | K53: … | L53: … | M53: … | N53: … | O53: 587 | P53: 96 | Q53: 208400 | R53: … | S53: … | T53: … | U53: 587 | V53: 96 | W53: 208400 | X53: …
A54: 平.16(2004) | B54: 36400 | C54: … | D54: 614 | E54: 223500 | F54: やや良 | G54: … | H54: … | I54: 103 | J54: … | K54: … | L54: … | M54: … | N54: … | O54: 634 | P54: 103 | Q54: 230800 | R54: … | S54: … | T54: … | U54: 634 | V54: 103 | W54: 230800 | X54: …
A55: 平.17(2005) | B55: 36700 | C55: … | D55: 617 | E55: 226400 | F55: やや良 | G55: … | H55: … | I55: … | J55: 105 | K55: … | L55: … | M55: … | N55: … | O55: 647 | P55: 105 | Q55: 237400 | R55: … | S55: … | T55: … | U55: 647 | V55: 105 | W55: 237400 | X55: …
A56: 平.18(2006) | B56: 36400 | C56: … | D56: 620 | E56: 225700 | F56: 平年並み | G56: … | H56: … | I56: … | J56: 98 | K56: … | L56: … | M56: … | N56: … | O56: 610 | P56: 98 | Q56: 222000 | R56: … | S56: … | T56: … | U56: 610 | V56: 98 | W56: 222000 | X56: …
A57: 平.19(2007) | B57: 36200 | C57: … | D57: 623 | E57: 225500 | F57: 平年並み | G57: … | H57: … | I57: … | J57: 100 | K57: … | L57: … | M57: … | N57: … | O57: 620 | P57: 100 | Q57: 224400 | R57: … | S57: … | T57: … | U57: 620 | V57: 100 | W57: 224400 | X57: …
A58: 平.20(2008) | B58: 34600 | C58: 34100 | D58: 623 | E58: 215600 | F58: 平年並み | G58: … | H58: … | I58: … | J58: 102 | K58: … | L58: … | M58: … | N58: … | O58: 634 | P58: 102 | Q58: 219400 | R58: … | S58: … | T58: … | U58: 634 | V58: 102 | W58: 219400 | X58: 216200
A59: 平.21(2009) | B59: 34600 | C59: 34200 | D59: 623 | E59: 215600 | F59: やや不良 | G59: … | H59: … | I59: … | J59: 97 | K59: … | L59: … | M59: … | N59: … | O59: 595 | P59: 96 | Q59: 205900 | R59: … | S59: … | T59: … | U59: 595 | V59: 96 | W59: 205900 | X59: 203500
A60: 平.22(2010) | B60: 34600 | C60: 34000 | D60: 623 | E60: 215600 | F60: 平年並み | G60: … | H60: … | I60: … | J60: 99 | K60: … | L60: … | M60: … | N60: … | O60: 612 | P60: 98 | Q60: 211800 | R60: … | S60: … | T60: … | U60: 612 | V60: 98 | W60: 211800 | X60: 208100
A61: 平.23(2011) | B61: 34200 | C61: 33700 | D61: 623 | E61: 213100 | F61: 平年並み | G61: … | H61: … | I61: … | J61: 97 | K61: … | L61: … | M61: … | N61: … | O61: 604 | P61: 97 | Q61: 206600 | R61: … | S61: … | T61: … | U61: 604 | V61: 97 | W61: 206600 | X61: 203500
...

Sheet 水稲累年統計（全国）
A1: 作物統計
A2: 収穫量累年統計
A3: 水稲
A4: 全国
A5: 年次 | B5: 作付面積 （子実用） | C5: 主食用作付面積 | D5: 10a当たり平年収量 | E5: 平年収量 | F5: 8月15日現在 | H5: 9月1日現在 | I5: 9月10日現在 | J5: 9月15日現在 | K5: 9月25日現在 | L5: 10月1日現在 | O5: 10月15日現在 | R5: 10月25日現在 | U5: 収穫期
F6: 作柄の良否(早場地帯） | G6: 作況指数 | H6: 作況指数 | I6: 作況指数 | J6: 作況指数 | K6: 作況指数 | L6: 10a当たり予想収量 | M6: 作況指数 | N6: 予想収穫量 （子実用） | O6: 10a当たり予想収量 | P6: 作況指数 | Q6: 予想収穫量 （子実用） | R6: 10a当たり予想収量 | S6: 作況指数 | T6: 予想収穫量 （子実用） | U6: 10a当たり収量 | V6: 作況指数 | W6: 収穫量 （子実用） | X6: 収穫量_x000D_ （主食用）
B7: ha | C7: ha | D7: kg | E7: t | L7: kg | N7: t | O7: kg | Q7: t | R7: kg | T7: t | U7: kg | W7: t | X7: t
A8: 明.16(1883) | B8: 2565000 | C8: … | D8: … | E8: … | F8: … | G8: … | H8: … | I8: … | J8: … | K8: … | L8: … | M8: … | N8: … | O8: … | P8: … | Q8: … | R8: … | S8: … | T8: … | U8: 178 | V8: … | W8: 4566000 | X8: …
A9: 明.17(1884) | B9: 2551000 | C9: … | D9: … | E9: … | F9: … | G9: … | H9: … | I9: … | J9: … | K9: … | L9: … | M9: … | N9: … | O9: … | P9: … | Q9: … | R9: … | S9: … | T9: … | U9: 158 | V9: … | W9: 4041000 | X9: …
A10: 明.18(1885) | B10: 2552000 | C10: … | D10: … | E10: … | F10: … | G10: … | H10: … | I10: … | J10: … | K10: … | L10: … | M10: … | N10: … | O10: … | P10: … | Q10: … | R10: … | S10: … | T10: … | U10: 198 | V10: … | W10: 5063000 | X10: …
A11: 明.19(1886) | B11: 2576000 | C11: … | D11: … | E11: … | F11: … | G11: … | H11: … | I11: … | J11: … | K11: … | L11: … | M11: … | N11: … | O11: … | P11: … | Q11: … | R11: … | S11: … | T11: … | U11: 216 | V11: … | W11: 5557000 | X11: …
A12: 明.20(1887) | B12: 2591000 | C12: … | D12: … | E12: … | F12: … | G12: … | H12: … | I12: … | J12: … | K12: … | L12: … | M12: … | N12: … | O12: … | P12: … | Q12: … | R12: … | S12: … | T12: … | U12: 230 | V12: … | W12: 5970000 | X12: …
A13: 明.21(1888) | B13: 2643000 | C13: … | D13: … | E13: … | F13: … | G13: … | H13: … | I13: … | J13: … | K13: … | L13: … | M13: … | N13: … | O13: … | P13: … | Q13: … | R13: … | S13: … | T13: … | U13: 218 | V13: … | W13: 5772000 | X13: …
A14: 明.22(1889) | B14: 2678000 | C14: … | D14: … | E14: … | F14: … | G14: … | H14: … | I14: … | J14: … | K14: … | L14: … | M14: … | N14: … | O14: … | P14: … | Q14: … | R14: … | S14: … | T14: … | U14: 184 | V14: … | W14: 4926000 | X14: …
