Workbook

Sheet きく
A1: ２ 令和６年産都道府県別の作付（収穫）面積及び出荷量
A2: (1) 切り花類
A3: イ きく
A5: 全国 ・ 都道府県 | B5: 作付面積 | C5: 出荷量 | D5: 対前年産比
D6: 作付面積 | E6: 出荷量
B7: ａ | C7: 千本 | D7: ％ | E7: ％
A8: 全国 | B8: 382100 | C8: 1111000 | D8: 96 | E8: 94
A9: (都道府県)
A10: 北海道 | B10: … | C10: … | D10: nc | E10: nc | G10: =RANK(C10,$C$10:$C$56) -> #VALUE!
A11: 青森 | B11: … | C11: … | D11: nc | E11: nc | G11: =RANK(C11,$C$10:$C$56) -> #VALUE!
A12: 岩手 | B12: … | C12: … | D12: nc | E12: nc | G12: =RANK(C12,$C$10:$C$56) -> #VALUE!
A13: 宮城 | B13: … | C13: … | D13: nc | E13: nc | G13: =RANK(C13,$C$10:$C$56) -> #VALUE!
A14: 秋田 | B14: 9640 | C14: 18600 | D14: 97 | E14: 102 | G14: =RANK(C14,$C$10:$C$56) -> 13
A15: 山形 | B15: … | C15: … | D15: nc | E15: nc | G15: =RANK(C15,$C$10:$C$56) -> #VALUE!
A16: 福島 | B16: 8610 | C16: 22200 | D16: 96 | E16: 97 | G16: =RANK(C16,$C$10:$C$56) -> 9
A17: 茨城 | B17: 10800 | C17: 24800 | D17: 100 | E17: 98 | G17: =RANK(C17,$C$10:$C$56) -> 8
A18: 栃木 | B18: 9240 | C18: 22200 | D18: 96 | E18: 103 | G18: =RANK(C18,$C$10:$C$56) -> 9
A19: 群馬 | B19: … | C19: … | D19: nc | E19: nc | G19: =RANK(C19,$C$10:$C$56) -> #VALUE!
A20: 埼玉 | B20: … | C20: … | D20: nc | E20: nc | G20: =RANK(C20,$C$10:$C$56) -> #VALUE!
A21: 千葉 | B21: … | C21: … | D21: nc | E21: nc | G21: =RANK(C21,$C$10:$C$56) -> #VALUE!
A22: 東京 | B22: … | C22: … | D22: nc | E22: nc | G22: =RANK(C22,$C$10:$C$56) -> #VALUE!
A23: 神奈川 | B23: … | C23: … | D23: nc | E23: nc | G23: =RANK(C23,$C$10:$C$56) -> #VALUE!
A24: 新潟 | B24: … | C24: … | D24: nc | E24: nc | G24: =RANK(C24,$C$10:$C$56) -> #VALUE!
A25: 富山 | B25: … | C25: … | D25: nc | E25: nc | G25: =RANK(C25,$C$10:$C$56) -> #VALUE!
A26: 石川 | B26: … | C26: … | D26: nc | E26: nc | G26: =RANK(C26,$C$10:$C$56) -> #VALUE!
A27: 福井 | B27: … | C27: … | D27: nc | E27: nc | G27: =RANK(C27,$C$10:$C$56) -> #VALUE!
A28: 山梨 | B28: … | C28: … | D28: nc | E28: nc | G28: =RANK(C28,$C$10:$C$56) -> #VALUE!
A29: 長野 | B29: 8120 | C29: 20500 | D29: 92 | E29: 94 | G29: =RANK(C29,$C$10:$C$56) -> 11
A30: 岐阜 | B30: … | C30: … | D30: nc | E30: nc | G30: =RANK(C30,$C$10:$C$56) -> #VALUE!
A31: 静岡 | B31: 14100 | C31: 38100 | D31: 96 | E31: 92 | G31: =RANK(C31,$C$10:$C$56) -> 7
A32: 愛知 | B32: 124300 | C32: 399000 | D32: 98 | E32: 95 | G32: =RANK(C32,$C$10:$C$56) -> 1
A33: 三重 | B33: … | C33: … | D33: nc | E33: nc | G33: =RANK(C33,$C$10:$C$56) -> #VALUE!
A34: 滋賀 | B34: … | C34: … | D34: nc | E34: nc | G34: =RANK(C34,$C$10:$C$56) -> #VALUE!
A35: 京都 | B35: … | C35: … | D35: nc | E35: nc | G35: =RANK(C35,$C$10:$C$56) -> #VALUE!
A36: 大阪 | B36: … | C36: … | D36: nc | E36: nc | G36: =RANK(C36,$C$10:$C$56) -> #VALUE!
A37: 兵庫 | B37: … | C37: … | D37: nc | E37: nc | G37: =RANK(C37,$C$10:$C$56) -> #VALUE!
A38: 奈良 | B38: 9480 | C38: 40700 | D38: 100 | E38: 94 | G38: =RANK(C38,$C$10:$C$56) -> 6
A39: 和歌山 | B39: … | C39: … | D39: nc | E39: nc | G39: =RANK(C39,$C$10:$C$56) -> #VALUE!
A40: 鳥取 | B40: … | C40: … | D40: nc | E40: nc | G40: =RANK(C40,$C$10:$C$56) -> #VALUE!
A41: 島根 | B41: … | C41: … | D41: nc | E41: nc | G41: =RANK(C41,$C$10:$C$56) -> #VALUE!
A42: 岡山 | B42: … | C42: … | D42: nc | E42: nc | G42: =RANK(C42,$C$10:$C$56) -> #VALUE!
A43: 広島 | B43: … | C43: … | D43: nc | E43: nc | G43: =RANK(C43,$C$10:$C$56) -> #VALUE!
A44: 山口 | B44: … | C44: … | D44: nc | E44: nc | G44: =RANK(C44,$C$10:$C$56) -> #VALUE!
A45: 徳島 | B45: … | C45: … | D45: nc | E45: nc | G45: =RANK(C45,$C$10:$C$56) -> #VALUE!
A46: 香川 | B46: … | C46: … | D46: nc | E46: nc | G46: =RANK(C46,$C$10:$C$56) -> #VALUE!
A47: 愛媛 | B47: … | C47: … | D47: nc | E47: nc | G47: =RANK(C47,$C$10:$C$56) -> #VALUE!
A48: 高知 | B48: … | C48: … | D48: nc | E48: nc | G48: =RANK(C48,$C$10:$C$56) -> #VALUE!
A49: 福岡 | B49: 17600 | C49: 62300 | D49: 92 | E49: 93 | G49: =RANK(C49,$C$10:$C$56) -> 3
A50: 佐賀 | B50: … | C50: … | D50: nc | E50: nc | G50: =RANK(C50,$C$10:$C$56) -> #VALUE!
A51: 長崎 | B51: 15300 | C51: 47100 | D51: 98 | E51: 95 | G51: =RANK(C51,$C$10:$C$56) -> 5
A52: 熊本 | B52: … | C52: … | D52: nc | E52: nc | G52: =RANK(C52,$C$10:$C$56) -> #VALUE!
A53: 大分 | B53: 8260 | C53: 20200 | D53: 97 | E53: 94 | G53: =RANK(C53,$C$10:$C$56) -> 12
A54: 宮崎 | B54: … | C54: … | D54: nc | E54: nc | G54: =RANK(C54,$C$10:$C$56) -> #VALUE!
A55: 鹿児島 | B55: 18000 | C55: 54400 | D55: 95 | E55: 94 | G55: =RANK(C55,$C$10:$C$56) -> 4
A56: 沖縄 | B56: 56100 | C56: 177300 | D56: 91 | E56: 87 | G56: =RANK(C56,$C$10:$C$56) -> 2
A59: 注：本年産は主産県を対象に調査を実施しており、全国値については主産県の結果を基に推計した。

Sheet カーネーション
A1: ２ 令和６年産都道府県別の作付（収穫）面積及び出荷量
A2: (1) 切り花類
A3: ウ カーネーション
A5: 全国 ・ 都道府県 | B5: 作付面積 | C5: 出荷量 | D5: 対前年産比
D6: 作付面積 | E6: 出荷量
B7: ａ | C7: 千本 | D7: ％ | E7: ％
A8: 全国 | B8: 21500 | C8: 170800 | D8: 94 | E8: 94
A9: (都道府県)
A10: 北海道 | B10: 2350 | C10: 14800 | D10: 96 | E10: 95 | G10: =RANK(C10,$C$10:$C$56) -> 5
A11: 青森 | B11: … | C11: … | D11: nc | E11: nc | G11: =RANK(C11,$C$10:$C$56) -> #VALUE!
A12: 岩手 | B12: … | C12: … | D12: nc | E12: nc | G12: =RANK(C12,$C$10:$C$56) -> #VALUE!
A13: 宮城 | B13: … | C13: … | D13: nc | E13: nc | G13: =RANK(C13,$C$10:$C$56) -> #VALUE!
A14: 秋田 | B14: … | C14: … | D14: nc | E14: nc | G14: =RANK(C14,$C$10:$C$56) -> #VALUE!
A15: 山形 | B15: … | C15: … | D15: nc | E15: nc | G15: =RANK(C15,$C$10:$C$56) -> #VALUE!
A16: 福島 | B16: … | C16: … | D16: nc | E16: nc | G16: =RANK(C16,$C$10:$C$56) -> #VALUE!
A17: 茨城 | B17: … | C17: … | D17: nc | E17: nc | G17: =RANK(C17,$C$10:$C$56) -> #VALUE!
A18: 栃木 | B18: … | C18: … | D18: nc | E18: nc | G18: =RANK(C18,$C$10:$C$56) -> #VALUE!
A19: 群馬 | B19: … | C19: … | D19: nc | E19: nc | G19: =RANK(C19,$C$10:$C$56) -> #VALUE!
A20: 埼玉 | B20: … | C20: … | D20: nc | E20: nc | G20: =RANK(C20,$C$10:$C$56) -> #VALUE!
A21: 千葉 | B21: 1500 | C21: 16700 | D21: 96 | E21: 97 | G21: =RANK(C21,$C$10:$C$56) -> 3
A22: 東京 | B22: … | C22: … | D22: nc | E22: nc | G22: =RANK(C22,$C$10:$C$56) -> #VALUE!
A23: 神奈川 | B23: … | C23: … | D23: nc | E23: nc | G23: =RANK(C23,$C$10:$C$56) -> #VALUE!
A24: 新潟 | B24: … | C24: … | D24: nc | E24: nc | G24: =RANK(C24,$C$10:$C$56) -> #VALUE!
A25: 富山 | B25: … | C25: … | D25: nc | E25: nc | G25: =RANK(C25,$C$10:$C$56) -> #VALUE!
A26: 石川 | B26: … | C26: … | D26: nc | E26: nc | G26: =RANK(C26,$C$10:$C$56) -> #VALUE!
A27: 福井 | B27: … | C27: … | D27: nc | E27: nc | G27: =RANK(C27,$C$10:$C$56) -> #VALUE!
A28: 山梨 | B28: … | C28: … | D28: nc | E28: nc | G28: =RANK(C28,$C$10:$C$56) -> #VALUE!
A29: 長野 | B29: 5880 | C29: 36500 | D29: 89 | E29: 94 | G29: =RANK(C29,$C$10:$C$56) -> 1
A30: 岐阜 | B30: … | C30: … | D30: nc | E30: nc | G30: =RANK(C30,$C$10:$C$56) -> #VALUE!
A31: 静岡 | B31: 643 | C31: 6820 | D31: 91 | E31: 83 | G31: =RANK(C31,$C$10:$C$56) -> 7
A32: 愛知 | B32: 3680 | C32: 31600 | D32: 96 | E32: 93 | G32: =RANK(C32,$C$10:$C$56) -> 2
A33: 三重 | B33: … | C33: … | D33: nc | E33: nc | G33: =RANK(C33,$C$10:$C$56) -> #VALUE!
A34: 滋賀 | B34: … | C34: … | D34: nc | E34: nc | G34: =RANK(C34,$C$10:$C$56) -> #VALUE!
A35: 京都 | B35: … | C35: … | D35: nc | E35: nc | G35: =RANK(C35,$C$10:$C$56) -> #VALUE!
A36: 大阪 | B36: … | C36: … | D36: nc | E36: nc | G36: =RANK(C36,$C$10:$C$56) -> #VALUE!
A37: 兵庫 | B37: 1340 | C37: 15400 | D37: 100 | E37: 95 | G37: =RANK(C37,$C$10:$C$56) -> 4
A38: 奈良 | B38: … | C38: … | D38: nc | E38: nc | G38: =RANK(C38,$C$10:$C$56) -> #VALUE!
A39: 和歌山 | B39: … | C39: … | D39: nc | E39: nc | G39: =RANK(C39,$C$10:$C$56) -> #VALUE!
A40: 鳥取 | B40: … | C40: … | D40: nc | E40: nc | G40: =RANK(C40,$C$10:$C$56) -> #VALUE!
A41: 島根 | B41: … | C41: … | D41: nc | E41: nc | G41: =RANK(C41,$C$10:$C$56) -> #VALUE!
A42: 岡山 | B42: … | C42: … | D42: nc | E42: nc | G42: =RANK(C42,$C$10:$C$56) -> #VALUE!
A43: 広島 | B43: … | C43: … | D43: nc | E43: nc | G43: =RANK(C43,$C$10:$C$56) -> #VALUE!
A44: 山口 | B44: … | C44: … | D44: nc | E44: nc | G44: =RANK(C44,$C$10:$C$56) -> #VALUE!
A45: 徳島 | B45: … | C45: … | D45: nc | E45: nc | G45: =RANK(C45,$C$10:$C$56) -> #VALUE!
A46: 香川 | B46: … | C46: … | D46: nc | E46: nc | G46: =RANK(C46,$C$10:$C$56) -> #VALUE!
A47: 愛媛 | B47: … | C47: … | D47: nc | E47: nc | G47: =RANK(C47,$C$10:$C$56) -> #VALUE!
A48: 高知 | B48: … | C48: … | D48: nc | E48: nc | G48: =RANK(C48,$C$10:$C$56) -> #VALUE!
A49: 福岡 | B49: 710 | C49: 5970 | D49: 95 | E49: 95 | G49: =RANK(C49,$C$10:$C$56) -> 8
A50: 佐賀 | B50: … | C50: … | D50: nc | E50: nc | G50: =RANK(C50,$C$10:$C$56) -> #VALUE!
A51: 長崎 | B51: 1360 | C51: 12300 | D51: 97 | E51: 92 | G51: =RANK(C51,$C$10:$C$56) -> 6
A52: 熊本 | B52: … | C52: … | D52: nc | E52: nc | G52: =RANK(C52,$C$10:$C$56) -> #VALUE!
A53: 大分 | B53: … | C53: … | D53: nc | E53: nc | G53: =RANK(C53,$C$10:$C$56) -> #VALUE!
A54: 宮崎 | B54: … | C54: … | D54: nc | E54: nc | G54: =RANK(C54,$C$10:$C$56) -> #VALUE!
A55: 鹿児島 | B55: … | C55: … | D55: nc | E55: nc | G55: =RANK(C55,$C$10:$C$56) -> #VALUE!
A56: 沖縄 | B56: … | C56: … | D56: nc | E56: nc | G56: =RANK(C56,$C$10:$C$56) -> #VALUE!
A59: 注：本年産は主産県を対象に調査を実施しており、全国値については主産県の結果を基に推計した。

Sheet ばら
A1: ２ 令和６年産都道府県別の作付（収穫）面積及び出荷量
A2: (1) 切り花類
A3: エ ばら
A5: 全国 ・ 都道府県 | B5: 作付面積 | C5: 出荷量 | D5: 対前年産比
D6: 作付面積 | E6: 出荷量
B7: ａ | C7: 千本 | D7: ％ | E7: ％
A8: 全国 | B8: 25400 | C8: 171300 | D8: 97 | E8: 93
A9: (都道府県)
A10: 北海道 | B10: … | C10: … | D10: nc | E10: nc | G10: =RANK(C10,$C$10:$C$56) -> #VALUE!
A11: 青森 | B11: … | C11: … | D11: nc | E11: nc | G11: =RANK(C11,$C$10:$C$56) -> #VALUE!
A12: 岩手 | B12: … | C12: … | D12: nc | E12: nc | G12: =RANK(C12,$C$10:$C$56) -> #VALUE!
A13: 宮城 | B13: … | C13: … | D13: nc | E13: nc | G13: =RANK(C13,$C$10:$C$56) -> #VALUE!
A14: 秋田 | B14: … | C14: … | D14: nc | E14: nc | G14: =RANK(C14,$C$10:$C$56) -> #VALUE!
A15: 山形 | B15: 1400 | C15: 12600 | D15: 100 | E15: 101 | G15: =RANK(C15,$C$10:$C$56) -> 3
A16: 福島 | B16: … | C16: … | D16: nc | E16: nc | G16: =RANK(C16,$C$10:$C$56) -> #VALUE!
A17: 茨城 | B17: 706 | C17: 3950 | D17: 103 | E17: 99 | G17: =RANK(C17,$C$10:$C$56) -> 12
A18: 栃木 | B18: 889 | C18: 5830 | D18: 103 | E18: 97 | G18: =RANK(C18,$C$10:$C$56) -> 9
A19: 群馬 | B19: 1320 | C19: 9660 | D19: 99 | E19: 103 | G19: =RANK(C19,$C$10:$C$56) -> 5
A20: 埼玉 | B20: 454 | C20: 3110 | D20: 98 | E20: 95 | G20: =RANK(C20,$C$10:$C$56) -> 16
A21: 千葉 | B21: 648 | C21: 4210 | D21: 99 | E21: 96 | G21: =RANK(C21,$C$10:$C$56) -> 10
A22: 東京 | B22: … | C22: … | D22: nc | E22: nc | G22: =RANK(C22,$C$10:$C$56) -> #VALUE!
A23: 神奈川 | B23: 1180 | C23: 8380 | D23: 98 | E23: 92 | G23: =RANK(C23,$C$10:$C$56) -> 6
A24: 新潟 | B24: … | C24: … | D24: nc | E24: nc | G24: =RANK(C24,$C$10:$C$56) -> #VALUE!
A25: 富山 | B25: … | C25: … | D25: nc | E25: nc | G25: =RANK(C25,$C$10:$C$56) -> #VALUE!
A26: 石川 | B26: … | C26: … | D26: nc | E26: nc | G26: =RANK(C26,$C$10:$C$56) -> #VALUE!
A27: 福井 | B27: … | C27: … | D27: nc | E27: nc | G27: =RANK(C27,$C$10:$C$56) -> #VALUE!
A28: 山梨 | B28: … | C28: … | D28: nc | E28: nc | G28: =RANK(C28,$C$10:$C$56) -> #VALUE!
A29: 長野 | B29: 450 | C29: 3280 | D29: 75 | E29: 89 | G29: =RANK(C29,$C$10:$C$56) -> 14
A30: 岐阜 | B30: 444 | C30: 2870 | D30: 95 | E30: 86 | G30: =RANK(C30,$C$10:$C$56) -> 17
A31: 静岡 | B31: 2600 | C31: 15800 | D31: 94 | E31: 91 | G31: =RANK(C31,$C$10:$C$56) -> 2
A32: 愛知 | B32: 4270 | C32: 29900 | D32: 98 | E32: 87 | G32: =RANK(C32,$C$10:$C$56) -> 1
A33: 三重 | B33: … | C33: … | D33: nc | E33: nc | G33: =RANK(C33,$C$10:$C$56) -> #VALUE!
A34: 滋賀 | B34: 538 | C34: 4160 | D34: 90 | E34: 93 | G34: =RANK(C34,$C$10:$C$56) -> 11
A35: 京都 | B35: … | C35: … | D35: nc | E35: nc | G35: =RANK(C35,$C$10:$C$56) -> #VALUE!
A36: 大阪 | B36: … | C36: … | D36: nc | E36: nc | G36: =RANK(C36,$C$10:$C$56) -> #VALUE!
A37: 兵庫 | B37: 440 | C37: 2530 | D37: 98 | E37: 95 | G37: =RANK(C37,$C$10:$C$56) -> 19
A38: 奈良 | B38: … | C38: … | D38: nc | E38: nc | G38: =RANK(C38,$C$10:$C$56) -> #VALUE!
A39: 和歌山 | B39: 550 | C39: 2870 | D39: 90 | E39: 99 | G39: =RANK(C39,$C$10:$C$56) -> 17
A40: 鳥取 | B40: … | C40: … | D40: nc | E40: nc | G40: =RANK(C40,$C$10:$C$56) -> #VALUE!
A41: 島根 | B41: … | C41: … | D41: nc | E41: nc | G41: =RANK(C41,$C$10:$C$56) -> #VALUE!
A42: 岡山 | B42: 702 | C42: 3950 | D42: 95 | E42: 96 | G42: =RANK(C42,$C$10:$C$56) -> 12
A43: 広島 | B43: … | C43: … | D43: nc | E43: nc | G43: =RANK(C43,$C$10:$C$56) -> #VALUE!
A44: 山口 | B44: … | C44: … | D44: nc | E44: nc | G44: =RANK(C44,$C$10:$C$56) -> #VALUE!
A45: 徳島 | B45: … | C45: … | D45: nc | E45: nc | G45: =RANK(C45,$C$10:$C$56) -> #VALUE!
A46: 香川 | B46: … | C46: … | D46: nc | E46: nc | G46: =RANK(C46,$C$10:$C$56) -> #VALUE!
A47: 愛媛 | B47: 865 | C47: 7470 | D47: 100 | E47: 95 | G47: =RANK(C47,$C$10:$C$56) -> 7
A48: 高知 | B48: … | C48: … | D48: nc | E48: nc | G48: =RANK(C48,$C$10:$C$56) -> #VALUE!
A49: 福岡 | B49: 1460 | C49: 10900 | D49: 98 | E49: 92 | G49: =RANK(C49,$C$10:$C$56) -> 4
A50: 佐賀 | B50: 930 | C50: 6180 | D50: 100 | E50: 98 | G50: =RANK(C50,$C$10:$C$56) -> 8
A51: 長崎 | B51: … | C51: … | D51: nc | E51: nc | G51: =RANK(C51,$C$10:$C$56) -> #VALUE!
A52: 熊本 | B52: 560 | C52: 3140 | D52: 100 | E52: 92 | G52: =RANK(C52,$C$10:$C$56) -> 15
A53: 大分 | B53: … | C53: … | D53: nc | E53: nc | G53: =RANK(C53,$C$10:$C$56) -> #VALUE!
A54: 宮崎 | B54: … | C54: … | D54: nc | E54: nc | G54: =RANK(C54,$C$10:$C$56) -> #VALUE!
A55: 鹿児島 | B55: … | C55: … | D55: nc | E55: nc | G55: =RANK(C55,$C$10:$C$56) -> #VALUE!
A56: 沖縄 | B56: … | C56: … | D56: nc | E56: nc | G56: =RANK(C56,$C$10:$C$56) -> #VALUE!
A59: 注：本年産は主産県を対象に調査を実施しており、全国値については主産県の結果を基に推計した。

Sheet ガーベラ
A1: ２ 令和６年産都道府県別の作付（収穫）面積及び出荷量
A2: (1) 切り花類
A3: ク ガーベラ
A5: 全国 ・ 都道府県 | B5: 作付面積 | C5: 出荷量 | D5: 対前年産比
D6: 作付面積 | E6: 出荷量
B7: ａ | C7: 千本 | D7: ％ | E7: ％
A8: 全国 | B8: 7020 | C8: 116100 | D8: 95 | E8: 97
A9: (都道府県)
A10: 北海道 | B10: … | C10: … | D10: nc | E10: nc | G10: =RANK(C10,$C$10:$C$56) -> #VALUE!
A11: 青森 | B11: … | C11: … | D11: nc | E11: nc | G11: =RANK(C11,$C$10:$C$56) -> #VALUE!
A12: 岩手 | B12: … | C12: … | D12: nc | E12: nc | G12: =RANK(C12,$C$10:$C$56) -> #VALUE!
A13: 宮城 | B13: … | C13: … | D13: nc | E13: nc | G13: =RANK(C13,$C$10:$C$56) -> #VALUE!
A14: 秋田 | B14: … | C14: … | D14: nc | E14: nc | G14: =RANK(C14,$C$10:$C$56) -> #VALUE!
A15: 山形 | B15: … | C15: … | D15: nc | E15: nc | G15: =RANK(C15,$C$10:$C$56) -> #VALUE!
A16: 福島 | B16: … | C16: … | D16: nc | E16: nc | G16: =RANK(C16,$C$10:$C$56) -> #VALUE!
A17: 茨城 | B17: … | C17: … | D17: nc | E17: nc | G17: =RANK(C17,$C$10:$C$56) -> #VALUE!
A18: 栃木 | B18: … | C18: … | D18: nc | E18: nc | G18: =RANK(C18,$C$10:$C$56) -> #VALUE!
A19: 群馬 | B19: … | C19: … | D19: nc | E19: nc | G19: =RANK(C19,$C$10:$C$56) -> #VALUE!
A20: 埼玉 | B20: … | C20: … | D20: nc | E20: nc | G20: =RANK(C20,$C$10:$C$56) -> #VALUE!
A21: 千葉 | B21: 727 | C21: 6590 | D21: 84 | E21: 105 | G21: =RANK(C21,$C$10:$C$56) -> 5
A22: 東京 | B22: … | C22: … | D22: nc | E22: nc | G22: =RANK(C22,$C$10:$C$56) -> #VALUE!
A23: 神奈川 | B23: … | C23: … | D23: nc | E23: nc | G23: =RANK(C23,$C$10:$C$56) -> #VALUE!
A24: 新潟 | B24: … | C24: … | D24: nc | E24: nc | G24: =RANK(C24,$C$10:$C$56) -> #VALUE!
A25: 富山 | B25: … | C25: … | D25: nc | E25: nc | G25: =RANK(C25,$C$10:$C$56) -> #VALUE!
A26: 石川 | B26: … | C26: … | D26: nc | E26: nc | G26: =RANK(C26,$C$10:$C$56) -> #VALUE!
A27: 福井 | B27: … | C27: … | D27: nc | E27: nc | G27: =RANK(C27,$C$10:$C$56) -> #VALUE!
A28: 山梨 | B28: … | C28: … | D28: nc | E28: nc | G28: =RANK(C28,$C$10:$C$56) -> #VALUE!
A29: 長野 | B29: … | C29: … | D29: nc | E29: nc | G29: =RANK(C29,$C$10:$C$56) -> #VALUE!
A30: 岐阜 | B30: … | C30: … | D30: nc | E30: nc | G30: =RANK(C30,$C$10:$C$56) -> #VALUE!
A31: 静岡 | B31: 2200 | C31: 45800 | D31: 95 | E31: 93 | G31: =RANK(C31,$C$10:$C$56) -> 1
A32: 愛知 | B32: 713 | C32: 7630 | D32: 93 | E32: 92 | G32: =RANK(C32,$C$10:$C$56) -> 4
A33: 三重 | B33: … | C33: … | D33: nc | E33: nc | G33: =RANK(C33,$C$10:$C$56) -> #VALUE!
A34: 滋賀 | B34: … | C34: … | D34: nc | E34: nc | G34: =RANK(C34,$C$10:$C$56) -> #VALUE!
A35: 京都 | B35: … | C35: … | D35: nc | E35: nc | G35: =RANK(C35,$C$10:$C$56) -> #VALUE!
A36: 大阪 | B36: … | C36: … | D36: nc | E36: nc | G36: =RANK(C36,$C$10:$C$56) -> #VALUE!
A37: 兵庫 | B37: … | C37: … | D37: nc | E37: nc | G37: =RANK(C37,$C$10:$C$56) -> #VALUE!
A38: 奈良 | B38: … | C38: … | D38: nc | E38: nc | G38: =RANK(C38,$C$10:$C$56) -> #VALUE!
A39: 和歌山 | B39: 498 | C39: 10100 | D39: 96 | E39: 101 | G39: =RANK(C39,$C$10:$C$56) -> 3
A40: 鳥取 | B40: … | C40: … | D40: nc | E40: nc | G40: =RANK(C40,$C$10:$C$56) -> #VALUE!
A41: 島根 | B41: … | C41: … | D41: nc | E41: nc | G41: =RANK(C41,$C$10:$C$56) -> #VALUE!
A42: 岡山 | B42: … | C42: … | D42: nc | E42: nc | G42: =RANK(C42,$C$10:$C$56) -> #VALUE!
A43: 広島 | B43: … | C43: … | D43: nc | E43: nc | G43: =RANK(C43,$C$10:$C$56) -> #VALUE!
A44: 山口 | B44: … | C44: … | D44: nc | E44: nc | G44: =RANK(C44,$C$10:$C$56) -> #VALUE!
A45: 徳島 | B45: … | C45: … | D45: nc | E45: nc | G45: =RANK(C45,$C$10:$C$56) -> #VALUE!
A46: 香川 | B46: … | C46: … | D46: nc | E46: nc | G46: =RANK(C46,$C$10:$C$56) -> #VALUE!
A47: 愛媛 | B47: … | C47: … | D47: nc | E47: nc | G47: =RANK(C47,$C$10:$C$56) -> #VALUE!
A48: 高知 | B48: … | C48: … | D48: nc | E48: nc | G48: =RANK(C48,$C$10:$C$56) -> #VALUE!
A49: 福岡 | B49: 1060 | C49: 18000 | D49: 101 | E49: 103 | G49: =RANK(C49,$C$10:$C$56) -> 2
A50: 佐賀 | B50: … | C50: … | D50: nc | E50: nc | G50: =RANK(C50,$C$10:$C$56) -> #VALUE!
A51: 長崎 | B51: 496 | C51: 6550 | D51: 100 | E51: 102 | G51: =RANK(C51,$C$10:$C$56) -> 6
A52: 熊本 | B52: … | C52: … | D52: nc | E52: nc | G52: =RANK(C52,$C$10:$C$56) -> #VALUE!
A53: 大分 | B53: … | C53: … | D53: nc | E53: nc | G53: =RANK(C53,$C$10:$C$56) -> #VALUE!
A54: 宮崎 | B54: … | C54: … | D54: nc | E54: nc | G54: =RANK(C54,$C$10:$C$56) -> #VALUE!
A55: 鹿児島 | B55: … | C55: … | D55: nc | E55: nc | G55: =RANK(C55,$C$10:$C$56) -> #VALUE!
A56: 沖縄 | B56: … | C56: … | D56: nc | E56: nc | G56: =RANK(C56,$C$10:$C$56) -> #VALUE!
A59: 注：本年産は主産県を対象に調査を実施しており、全国値については主産県の結果を基に推計した。

Sheet トルコギキョウ
A1: ２ 令和６年産都道府県別の作付（収穫）面積及び出荷量
A2: (1) 切り花類
A3: ケ トルコギキョウ
A5: 全国 ・ 都道府県 | B5: 作付面積 | C5: 出荷量 | D5: 対前年産比
D6: 作付面積 | E6: 出荷量
B7: ａ | C7: 千本 | D7: ％ | E7: ％
A8: 全国 | B8: 38000 | C8: 78300 | D8: 98 | E8: 93
A9: (都道府県)
A10: 北海道 | B10: 1650 | C10: 2720 | D10: 99 | E10: 96 | G10: =RANK(C10,$C$10:$C$56) -> 11
A11: 青森 | B11: 829 | C11: 1110 | D11: 101 | E11: 81 | G11: =RANK(C11,$C$10:$C$56) -> 17
A12: 岩手 | B12: … | C12: … | D12: nc | E12: nc | G12: =RANK(C12,$C$10:$C$56) -> #VALUE!
A13: 宮城 | B13: 807 | C13: 1140 | D13: 104 | E13: 94 | G13: =RANK(C13,$C$10:$C$56) -> 16
A14: 秋田 | B14: 1840 | C14: 2410 | D14: 98 | E14: 105 | G14: =RANK(C14,$C$10:$C$56) -> 12
A15: 山形 | B15: 2020 | C15: 3050 | D15: 97 | E15: 91 | G15: =RANK(C15,$C$10:$C$56) -> 6
A16: 福島 | B16: 1740 | C16: 2820 | D16: 89 | E16: 87 | G16: =RANK(C16,$C$10:$C$56) -> 9
A17: 茨城 | B17: … | C17: … | D17: nc | E17: nc | G17: =RANK(C17,$C$10:$C$56) -> #VALUE!
A18: 栃木 | B18: 854 | C18: 2900 | D18: 102 | E18: 99 | G18: =RANK(C18,$C$10:$C$56) -> 7
A19: 群馬 | B19: … | C19: … | D19: nc | E19: nc | G19: =RANK(C19,$C$10:$C$56) -> #VALUE!
A20: 埼玉 | B20: … | C20: … | D20: nc | E20: nc | G20: =RANK(C20,$C$10:$C$56) -> #VALUE!
A21: 千葉 | B21: 1090 | C21: 2840 | D21: 94 | E21: 93 | G21: =RANK(C21,$C$10:$C$56) -> 8
A22: 東京 | B22: … | C22: … | D22: nc | E22: nc | G22: =RANK(C22,$C$10:$C$56) -> #VALUE!
A23: 神奈川 | B23: … | C23: … | D23: nc | E23: nc | G23: =RANK(C23,$C$10:$C$56) -> #VALUE!
A24: 新潟 | B24: … | C24: … | D24: nc | E24: nc | G24: =RANK(C24,$C$10:$C$56) -> #VALUE!
A25: 富山 | B25: … | C25: … | D25: nc | E25: nc | G25: =RANK(C25,$C$10:$C$56) -> #VALUE!
A26: 石川 | B26: … | C26: … | D26: nc | E26: nc | G26: =RANK(C26,$C$10:$C$56) -> #VALUE!
A27: 福井 | B27: … | C27: … | D27: nc | E27: nc | G27: =RANK(C27,$C$10:$C$56) -> #VALUE!
A28: 山梨 | B28: … | C28: … | D28: nc | E28: nc | G28: =RANK(C28,$C$10:$C$56) -> #VALUE!
A29: 長野 | B29: 4180 | C29: 11200 | D29: 97 | E29: 88 | G29: =RANK(C29,$C$10:$C$56) -> 1
A30: 岐阜 | B30: … | C30: … | D30: nc | E30: nc | G30: =RANK(C30,$C$10:$C$56) -> #VALUE!
A31: 静岡 | B31: 1570 | C31: 3610 | D31: 98 | E31: 91 | G31: =RANK(C31,$C$10:$C$56) -> 4
A32: 愛知 | B32: 1180 | C32: 2770 | D32: 97 | E32: 96 | G32: =RANK(C32,$C$10:$C$56) -> 10
A33: 三重 | B33: … | C33: … | D33: nc | E33: nc | G33: =RANK(C33,$C$10:$C$56) -> #VALUE!
A34: 滋賀 | B34: … | C34: … | D34: nc | E34: nc | G34: =RANK(C34,$C$10:$C$56) -> #VALUE!
A35: 京都 | B35: … | C35: … | D35: nc | E35: nc | G35: =RANK(C35,$C$10:$C$56) -> #VALUE!
A36: 大阪 | B36: … | C36: … | D36: nc | E36: nc | G36: =RANK(C36,$C$10:$C$56) -> #VALUE!
A37: 兵庫 | B37: … | C37: … | D37: nc | E37: nc | G37: =RANK(C37,$C$10:$C$56) -> #VALUE!
A38: 奈良 | B38: … | C38: … | D38: nc | E38: nc | G38: =RANK(C38,$C$10:$C$56) -> #VALUE!
A39: 和歌山 | B39: … | C39: … | D39: nc | E39: nc | G39: =RANK(C39,$C$10:$C$56) -> #VALUE!
A40: 鳥取 | B40: … | C40: … | D40: nc | E40: nc | G40: =RANK(C40,$C$10:$C$56) -> #VALUE!
A41: 島根 | B41: … | C41: … | D41: nc | E41: nc | G41: =RANK(C41,$C$10:$C$56) -> #VALUE!
A42: 岡山 | B42: … | C42: … | D42: nc | E42: nc | G42: =RANK(C42,$C$10:$C$56) -> #VALUE!
A43: 広島 | B43: … | C43: … | D43: nc | E43: nc | G43: =RANK(C43,$C$10:$C$56) -> #VALUE!
A44: 山口 | B44: … | C44: … | D44: nc | E44: nc | G44: =RANK(C44,$C$10:$C$56) -> #VALUE!
... A47: 愛媛 | B47: … | C47: … | D47: nc | E47: nc | G47: =RANK(C47,$C$10:$C$56) -> #VALUE!
A48: 高知 | B48: 1520 | C48: 3310 | D48: 95 | E48: 91 | G48: =RANK(C48,$C$10:$C$56) -> 5
A49: 福岡 | B49: 3440 | C49: 7500 | D49: 101 | E49: 100 | G49: =RANK(C49,$C$10:$C$56) -> 3
A50: 佐賀 | B50: 960 | C50: 2150 | D50: 102 | E50: 100 | G50: =RANK(C50,$C$10:$C$56) -> 14
A51: 長崎 | B51: 837 | C51: 1620 | D51: 100 | E51: 98 | G51: =RANK(C51,$C$10:$C$56) -> 15
A52: 熊本 | B52: 4850 | C52: 9510 | D52: 99 | E52: 92 | G52: =RANK(C52,$C$10:$C$56) -> 2
A53: 大分 | B53: … | C53: … | D53: nc | E53: nc | G53: =RANK(C53,$C$10:$C$56) -> #VALUE!
A54: 宮崎 | B54: … | C54: … | D54: nc | E54: nc | G54: =RANK(C54,$C$10:$C$56) -> #VALUE!
A55: 鹿児島 | B55: … | C55: … | D55: nc | E55: nc | G55: =RANK(C55,$C$10:$C$56) -> #VALUE!
A56: 沖縄 | B56: 1550 | C56: 2290 | D56: 101 | E56: 85 | G56: =RANK(C56,$C$10:$C$56) -> 13
A59: 注：本年産は主産県を対象に調査を実施しており、全国値については主産県の結果を基に推計した。

Sheet 切り枝
A1: ２ 令和６年産都道府県別の作付（収穫）面積及び出荷量
A2: (1) 切り花類
A3: ス 切り枝
A5: 全国 ・ 都道府県 | B5: 作付面積 | C5: 出荷量 | D5: 対前年産比
D6: 作付面積 | E6: 出荷量
B7: ａ | C7: 千本 | D7: ％ | E7: ％
A8: 全国 | B8: 350000 | C8: 194600 | D8: 98 | E8: 95
A9: (都道府県)
A10: 北海道 | B10: … | C10: … | D10: nc | E10: nc | G10: =RANK(C10,$C$10:$C$56) -> #VALUE!
A11: 青森 | B11: … | C11: … | D11: nc | E11: nc | G11: =RANK(C11,$C$10:$C$56) -> #VALUE!
A12: 岩手 | B12: … | C12: … | D12: nc | E12: nc | G12: =RANK(C12,$C$10:$C$56) -> #VALUE!
A13: 宮城 | B13: … | C13: … | D13: nc | E13: nc | G13: =RANK(C13,$C$10:$C$56) -> #VALUE!
A14: 秋田 | B14: … | C14: … | D14: nc | E14: nc | G14: =RANK(C14,$C$10:$C$56) -> #VALUE!
A15: 山形 | B15: 27100 | C15: 5960 | D15: 98 | E15: 134 | G15: =RANK(C15,$C$10:$C$56) -> 9
A16: 福島 | B16: 13100 | C16: 6380 | D16: 104 | E16: 105 | G16: =RANK(C16,$C$10:$C$56) -> 7
A17: 茨城 | B17: 39100 | C17: 30800 | D17: 99 | E17: 98 | G17: =RANK(C17,$C$10:$C$56) -> 2
A18: 栃木 | B18: … | C18: … | D18: nc | E18: nc | G18: =RANK(C18,$C$10:$C$56) -> #VALUE!
A19: 群馬 | B19: 10900 | C19: 4120 | D19: 101 | E19: 94 | G19: =RANK(C19,$C$10:$C$56) -> 14 | H19: 県 | I19: 出荷量
A20: 埼玉 | B20: … | C20: … | D20: nc | E20: nc | G20: =RANK(C20,$C$10:$C$56) -> #VALUE! | H20: =A31 -> 静岡 | I20: =C31 -> 31300
A21: 千葉 | B21: 9120 | C21: 5720 | D21: 97 | E21: 94 | G21: =RANK(C21,$C$10:$C$56) -> 10 | H21: =A17 -> 茨城 | I21: =C17 -> 30800
A22: 東京 | B22: … | C22: … | D22: nc | E22: nc | G22: =RANK(C22,$C$10:$C$56) -> #VALUE! | H22: =A54 -> 宮崎 | I22: =C54 -> 10200
A23: 神奈川 | B23: … | C23: … | D23: nc | E23: nc | G23: =RANK(C23,$C$10:$C$56) -> #VALUE! | H23: =A47 -> 愛媛 | I23: =C47 -> 10100
A24: 新潟 | B24: … | C24: … | D24: nc | E24: nc | G24: =RANK(C24,$C$10:$C$56) -> #VALUE! | H24: =A39 -> 和歌山 | I24: =C39 -> 8080
A25: 富山 | B25: … | C25: … | D25: nc | E25: nc | G25: =RANK(C25,$C$10:$C$56) -> #VALUE! | H25: その他 | I25: =C8-SUM(I20:I24) -> 104120
A26: 石川 | B26: … | C26: … | D26: nc | E26: nc | G26: =RANK(C26,$C$10:$C$56) -> #VALUE!
A27: 福井 | B27: … | C27: … | D27: nc | E27: nc | G27: =RANK(C27,$C$10:$C$56) -> #VALUE!
A28: 山梨 | B28: … | C28: … | D28: nc | E28: nc | G28: =RANK(C28,$C$10:$C$56) -> #VALUE!
A29: 長野 | B29: 7930 | C29: 7300 | D29: 94 | E29: 100 | G29: =RANK(C29,$C$10:$C$56) -> 6
A30: 岐阜 | B30: … | C30: … | D30: nc | E30: nc | G30: =RANK(C30,$C$10:$C$56) -> #VALUE!
A31: 静岡 | B31: 42800 | C31: 31300 | D31: 100 | E31: 94 | G31: =RANK(C31,$C$10:$C$56) -> 1
A32: 愛知 | B32: … | C32: … | D32: nc | E32: nc | G32: =RANK(C32,$C$10:$C$56) -> #VALUE!
A33: 三重 | B33: … | C33: … | D33: nc | E33: nc | G33: =RANK(C33,$C$10:$C$56) -> #VALUE!
A34: 滋賀 | B34: … | C34: … | D34: nc | E34: nc | G34: =RANK(C34,$C$10:$C$56) -> #VALUE!
A35: 京都 | B35: … | C35: … | D35: nc | E35: nc | G35: =RANK(C35,$C$10:$C$56) -> #VALUE!
A36: 大阪 | B36: … | C36: … | D36: nc | E36: nc | G36: =RANK(C36,$C$10:$C$56) -> #VALUE!
A37: 兵庫 | B37: … | C37: … | D37: nc | E37: nc | G37: =RANK(C37,$C$10:$C$56) -> #VALUE!
A38: 奈良 | B38: 11000 | C38: 6250 | D38: 102 | E38: 99 | G38: =RANK(C38,$C$10:$C$56) -> 8
A39: 和歌山 | B39: 36400 | C39: 8080 | D39: 91 | E39: 76 | G39: =RANK(C39,$C$10:$C$56) -> 5
A40: 鳥取 | B40: … | C40: … | D40: nc | E40: nc | G40: =RANK(C40,$C$10:$C$56) -> #VALUE!
A41: 島根 | B41: … | C41: … | D41: nc | E41: nc | G41: =RANK(C41,$C$10:$C$56) -> #VALUE!
A42: 岡山 | B42: … | C42: … | D42: nc | E42: nc | G42: =RANK(C42,$C$10:$C$56) -> #VALUE!
A43: 広島 | B43: … | C43: … | D43: nc | E43: nc | G43: =RANK(C43,$C$10:$C$56) -> #VALUE!
A44: 山口 | B44: … | C44: … | D44: nc | E44: nc | G44: =RANK(C44,$C$10:$C$56) -> #VALUE!
A45: 徳島 | B45: 9800 | C45: 4740 | D45: 98 | E45: 96 | G45: =RANK(C45,$C$10:$C$56) -> 12
A46: 香川 | B46: … | C46: … | D46: nc | E46: nc | G46: =RANK(C46,$C$10:$C$56) -> #VALUE!
A47: 愛媛 | B47: 20500 | C47: 10100 | D47: 100 | E47: 81 | G47: =RANK(C47,$C$10:$C$56) -> 4
A48: 高知 | B48: 15800 | C48: 5230 | D48: 98 | E48: 97 | G48: =RANK(C48,$C$10:$C$56) -> 11
A49: 福岡 | B49: 8120 | C49: 2840 | D49: 99 | E49: 99 | G49: =RANK(C49,$C$10:$C$56) -> 15
A50: 佐賀 | B50: … | C50: … | D50: nc | E50: nc | G50: =RANK(C50,$C$10:$C$56) -> #VALUE!
A51: 長崎 | B51: … | C51: … | D51: nc | E51: nc | G51: =RANK(C51,$C$10:$C$56) -> #VALUE!
A52: 熊本 | B52: … | C52: … | D52: nc | E52: nc | G52: =RANK(C52,$C$10:$C$56) -> #VALUE!
A53: 大分 | B53: … | C53: … | D53: nc | E53: nc | G53: =RANK(C53,$C$10:$C$56) -> #VALUE!
A54: 宮崎 | B54: 16500 | C54: 10200 | D54: 92 | E54: 94 | G54: =RANK(C54,$C$10:$C$56) -> 3
A55: 鹿児島 | B55: 15100 | C55: 4530 | D55: 99 | E55: 90 | G55: =RANK(C55,$C$10:$C$56) -> 13
A56: 沖縄 | B56: … | C56: … | D56: nc | E56: nc | G56: =RANK(C56,$C$10:$C$56) -> #VALUE!
A59: 注：本年産は主産県を対象に調査を実施しており、全国値については主産県の結果を基に推計した。

Sheet 洋ラン類（鉢もの）
A1: ２ 令和６年産都道府県別の作付（収穫）面積及び出荷量
A2: (3) 鉢もの類
A3: ウ 洋ラン類
A5: 全国 ・ 都道府県 | B5: 収穫面積 | C5: 出荷量 | D5: 対前年産比
D6: 収穫面積 | E6: 出荷量
B7: ａ | C7: 千鉢 | D7: ％ | E7: ％
A8: 全国 | B8: 15600 | C8: 10900 | D8: 96 | E8: 96
A9: (都道府県)
A10: 北海道 | B10: … | C10: … | D10: nc | E10: nc | G10: =RANK(C10,$C$10:$C$56) -> #VALUE!
A11: 青森 | B11: … | C11: … | D11: nc | E11: nc | G11: =RANK(C11,$C$10:$C$56) -> #VALUE!
A12: 岩手 | B12: … | C12: … | D12: nc | E12: nc | G12: =RANK(C12,$C$10:$C$56) -> #VALUE!
A13: 宮城 | B13: … | C13: … | D13: nc | E13: nc | G13: =RANK(C13,$C$10:$C$56) -> #VALUE!
A14: 秋田 | B14: … | C14: … | D14: nc | E14: nc | G14: =RANK(C14,$C$10:$C$56) -> #VALUE!
A15: 山形 | B15: … | C15: … | D15: nc | E15: nc | G15: =RANK(C15,$C$10:$C$56) -> #VALUE!
A16: 福島 | B16: … | C16: … | D16: nc | E16: nc | G16: =RANK(C16,$C$10:$C$56) -> #VALUE!
A17: 茨城 | B17: … | C17: … | D17: nc | E17: nc | G17: =RANK(C17,$C$10:$C$56) -> #VALUE!
A18: 栃木 | B18: 656 | C18: 396 | D18: 97 | E18: 89 | G18: =RANK(C18,$C$10:$C$56) -> 7
A19: 群馬 | B19: … | C19: … | D19: nc | E19: nc | G19: =RANK(C19,$C$10:$C$56) -> #VALUE!
A20: 埼玉 | B20: 714 | C20: 533 | D20: 99 | E20: 102 | G20: =RANK(C20,$C$10:$C$56) -> 6
A21: 千葉 | B21: 535 | C21: 984 | D21: 99 | E21: 127 | G21: =RANK(C21,$C$10:$C$56) -> 3
A22: 東京 | B22: … | C22: … | D22: nc | E22: nc | G22: =RANK(C22,$C$10:$C$56) -> #VALUE!
A23: 神奈川 | B23: … | C23: … | D23: nc | E23: nc | G23: =RANK(C23,$C$10:$C$56) -> #VALUE!
A24: 新潟 | B24: … | C24: … | D24: nc | E24: nc | G24: =RANK(C24,$C$10:$C$56) -> #VALUE!
A25: 富山 | B25: … | C25: … | D25: nc | E25: nc | G25: =RANK(C25,$C$10:$C$56) -> #VALUE!
A26: 石川 | B26: … | C26: … | D26: nc | E26: nc | G26: =RANK(C26,$C$10:$C$56) -> #VALUE!
A27: 福井 | B27: … | C27: … | D27: nc | E27: nc | G27: =RANK(C27,$C$10:$C$56) -> #VALUE!
A28: 山梨 | B28: 887 | C28: 676 | D28: 100 | E28: 99 | G28: =RANK(C28,$C$10:$C$56) -> 5
A29: 長野 | B29: 429 | C29: 227 | D29: 98 | E29: 90 | G29: =RANK(C29,$C$10:$C$56) -> 10
A30: 岐阜 | B30: … | C30: … | D30: nc | E30: nc | G30: =RANK(C30,$C$10:$C$56) -> #VALUE!
A31: 静岡 | B31: 748 | C31: 365 | D31: 98 | E31: 81 | G31: =RANK(C31,$C$10:$C$56) -> 8
A32: 愛知 | B32: 4000 | C32: 2520 | D32: 96 | E32: 89 | G32: =RANK(C32,$C$10:$C$56) -> 1
A33: 三重 | B33: … | C33: … | D33: nc | E33: nc | G33: =RANK(C33,$C$10:$C$56) -> #VALUE!
A34: 滋賀 | B34: … | C34: … | D34: nc | E34: nc | G34: =RANK(C34,$C$10:$C$56) -> #VALUE!
A35: 京都 | B35: … | C35: … | D35: nc | E35: nc | G35: =RANK(C35,$C$10:$C$56) -> #VALUE!
A36: 大阪 | B36: … | C36: … | D36: nc | E36: nc | G36: =RANK(C36,$C$10:$C$56) -> #VALUE!
A37: 兵庫 | B37: … | C37: … | D37: nc | E37: nc | G37: =RANK(C37,$C$10:$C$56) -> #VALUE!
A38: 奈良 | B38: … | C38: … | D38: nc | E38: nc | G38: =RANK(C38,$C$10:$C$56) -> #VALUE!
A39: 和歌山 | B39: … | C39: … | D39: nc | E39: nc | G39: =RANK(C39,$C$10:$C$56) -> #VALUE!
A40: 鳥取 | B40: … | C40: … | D40: nc | E40: nc | G40: =RANK(C40,$C$10:$C$56) -> #VALUE!
A41: 島根 | B41: … | C41: … | D41: nc | E41: nc | G41: =RANK(C41,$C$10:$C$56) -> #VALUE!
A42: 岡山 | B42: 368 | C42: 200 | D42: 95 | E42: 96 | G42: =RANK(C42,$C$10:$C$56) -> 11
A43: 広島 | B43: … | C43: … | D43: nc | E43: nc | G43: =RANK(C43,$C$10:$C$56) -> #VALUE!
A44: 山口 | B44: … | C44: … | D44: nc | E44: nc | G44: =RANK(C44,$C$10:$C$56) -> #VALUE!
A45: 徳島 | B45: 740 | C45: 281 | D45: 100 | E45: 101 | G45: =RANK(C45,$C$10:$C$56) -> 9
A46: 香川 | B46: … | C46: … | D46: nc | E46: nc | G46: =RANK(C46,$C$10:$C$56) -> #VALUE!
A47: 愛媛 | B47: … | C47: … | D47: nc | E47: nc | G47: =RANK(C47,$C$10:$C$56) -> #VALUE!
A48: 高知 | B48: 320 | C48: 104 | D48: 97 | E48: 95 | G48: =RANK(C48,$C$10:$C$56) -> 13
A49: 福岡 | B49: 1350 | C49: 857 | D49: 91 | E49: 91 | G49: =RANK(C49,$C$10:$C$56) -> 4
A50: 佐賀 | B50: … | C50: … | D50: nc | E50: nc | G50: =RANK(C50,$C$10:$C$56) -> #VALUE!
A51: 長崎 | B51: … | C51: … | D51: nc | E51: nc | G51: =RANK(C51,$C$10:$C$56) -> #VALUE!
A52: 熊本 | B52: 1190 | C52: 1160 | D52: 97 | E52: 101 | G52: =RANK(C52,$C$10:$C$56) -> 2
A53: 大分 | B53: … | C53: … | D53: nc | E53: nc | G53: =RANK(C53,$C$10:$C$56) -> #VALUE!
A54: 宮崎 | B54: 723 | C54: 199 | D54: 80 | E54: 85 | G54: =RANK(C54,$C$10:$C$56) -> 12
A55: 鹿児島 | B55: … | C55: … | D55: nc | E55: nc | G55: =RANK(C55,$C$10:$C$56) -> #VALUE!
A56: 沖縄 | B56: … | C56: … | D56: nc | E56: nc | G56: =RANK(C56,$C$10:$C$56) -> #VALUE!
A59: 注：本年産は主産県を対象に調査を実施しており、全国値については主産県の結果を基に推計した。

Sheet 観葉植物
A1: ２ 令和６年産都道府県別の作付（収穫）面積及び出荷量
A2: (3) 鉢もの類
A3: エ 観葉植物
A5: 全国 ・ 都道府県 | B5: 収穫面積 | C5: 出荷量 | D5: 対前年産比
D6: 収穫面積 | E6: 出荷量
B7: ａ | C7: 千鉢 | D7: ％ | E7: ％
A8: 全国 | B8: 24400 | C8: 37900 | D8: 96 | E8: 93
A9: (都道府県)
A10: 北海道 | B10: … | C10: … | D10: nc | E10: nc | G10: =RANK(C10,$C$10:$C$56) -> #VALUE!
A11: 青森 | B11: … | C11: … | D11: nc | E11: nc | G11: =RANK(C11,$C$10:$C$56) -> #VALUE!
A12: 岩手 | B12: … | C12: … | D12: nc | E12: nc | G12: =RANK(C12,$C$10:$C$56) -> #VALUE!
A13: 宮城 | B13: … | C13: … | D13: nc | E13: nc | G13: =RANK(C13,$C$10:$C$56) -> #VALUE!
A14: 秋田 | B14: … | C14: … | D14: nc | E14: nc | G14: =RANK(C14,$C$10:$C$56) -> #VALUE!
A15: 山形 | B15: … | C15: … | D15: nc | E15: nc | G15: =RANK(C15,$C$10:$C$56) -> #VALUE!
A16: 福島 | B16: … | C16: … | D16: nc | E16: nc | G16: =RANK(C16,$C$10:$C$56) -> #VALUE!
A17: 茨城 | B17: … | C17: … | D17: nc | E17: nc | G17: =RANK(C17,$C$10:$C$56) -> #VALUE!
A18: 栃木 | B18: … | C18: … | D18: nc | E18: nc | G18: =RANK(C18,$C$10:$C$56) -> #VALUE!
A19: 群馬 | B19: … | C19: … | D19: nc | E19: nc | G19: =RANK(C19,$C$10:$C$56) -> #VALUE!
A20: 埼玉 | B20: … | C20: … | D20: nc | E20: nc | G20: =RANK(C20,$C$10:$C$56) -> #VALUE!
A21: 千葉 | B21: 1260 | C21: 1220 | D21: 95 | E21: 95 | G21: =RANK(C21,$C$10:$C$56) -> 5
A22: 東京 | B22: 1490 | C22: 210 | D22: 99 | E22: 99 | G22: =RANK(C22,$C$10:$C$56) -> 7
A23: 神奈川 | B23: … | C23: … | D23: nc | E23: nc | G23: =RANK(C23,$C$10:$C$56) -> #VALUE!
A24: 新潟 | B24: … | C24: … | D24: nc | E24: nc | G24: =RANK(C24,$C$10:$C$56) -> #VALUE!
A25: 富山 | B25: … | C25: … | D25: nc | E25: nc | G25: =RANK(C25,$C$10:$C$56) -> #VALUE!
A26: 石川 | B26: … | C26: … | D26: nc | E26: nc | G26: =RANK(C26,$C$10:$C$56) -> #VALUE!
A27: 福井 | B27: … | C27: … | D27: nc | E27: nc | G27: =RANK(C27,$C$10:$C$56) -> #VALUE!
A28: 山梨 | B28: … | C28: … | D28: nc | E28: nc | G28: =RANK(C28,$C$10:$C$56) -> #VALUE!
A29: 長野 | B29: … | C29: … | D29: nc | E29: nc | G29: =RANK(C29,$C$10:$C$56) -> #VALUE!
A30: 岐阜 | B30: … | C30: … | D30: nc | E30: nc | G30: =RANK(C30,$C$10:$C$56) -> #VALUE!
A31: 静岡 | B31: 2210 | C31: 5040 | D31: 98 | E31: 95 | G31: =RANK(C31,$C$10:$C$56) -> 2
A32: 愛知 | B32: 8530 | C32: 18200 | D32: 97 | E32: 92 | G32: =RANK(C32,$C$10:$C$56) -> 1
A33: 三重 | B33: 1130 | C33: 3290 | D33: 98 | E33: 92 | G33: =RANK(C33,$C$10:$C$56) -> 3
A34: 滋賀 | B34: … | C34: … | D34: nc | E34: nc | G34: =RANK(C34,$C$10:$C$56) -> #VALUE!
A35: 京都 | B35: … | C35: … | D35: nc | E35: nc | G35: =RANK(C35,$C$10:$C$56) -> #VALUE!
A36: 大阪 | B36: … | C36: … | D36: nc | E36: nc | G36: =RANK(C36,$C$10:$C$56) -> #VALUE!
A37: 兵庫 | B37: … | C37: … | D37: nc | E37: nc | G37: =RANK(C37,$C$10:$C$56) -> #VALUE!
A38: 奈良 | B38: … | C38: … | D38: nc | E38: nc | G38: =RANK(C38,$C$10:$C$56) -> #VALUE!
A39: 和歌山 | B39: … | C39: … | D39: nc | E39: nc | G39: =RANK(C39,$C$10:$C$56) -> #VALUE!
A40: 鳥取 | B40: … | C40: … | D40: nc | E40: nc | G40: =RANK(C40,$C$10:$C$56) -> #VALUE!
A41: 島根 | B41: … | C41: … | D41: nc | E41: nc | G41: =RANK(C41,$C$10:$C$56) -> #VALUE!
A42: 岡山 | B42: … | C42: … | D42: nc | E42: nc | G42: =RANK(C42,$C$10:$C$56) -> #VALUE!
A43: 広島 | B43: … | C43: … | D43: nc | E43: nc | G43: =RANK(C43,$C$10:$C$56) -> #VALUE!
A44: 山口 | B44: … | C44: … | D44: nc | E44: nc | G44: =RANK(C44,$C$10:$C$56) -> #VALUE!
A45: 徳島 | B45: … | C45: … | D45: nc | E45: nc | G45: =RANK(C45,$C$10:$C$56) -> #VALUE!
... A54: 宮崎 | B54: … | C54: … | D54: nc | E54: nc | G54: =RANK(C54,$C$10:$C$56) -> #VALUE!
A55: 鹿児島 | B55: 4400 | C55: 1580 | D55: 100 | E55: 100 | G55: =RANK(C55,$C$10:$C$56) -> 4
A56: 沖縄 | B56: 1270 | C56: 427 | D56: 76 | E56: 60 | G56: =RANK(C56,$C$10:$C$56) -> 6
A59: 注：本年産は主産県を対象に調査を実施しており、全国値については主産県の結果を基に推計した。

Sheet 花木類
A1: ２ 令和６年産都道府県別の作付（収穫）面積及び出荷量
A2: (3) 鉢もの類
A3: オ 花木類
A5: 全国 ・ 都道府県 | B5: 収穫面積 | C5: 出荷量 | D5: 対前年産比
D6: 収穫面積 | E6: 出荷量
B7: ａ | C7: 千鉢 | D7: ％ | E7: ％
A8: 全国 | B8: 27000 | C8: 27200 | D8: 98 | E8: 94
A9: (都道府県)
A10: 北海道 | B10: … | C10: … | D10: nc | E10: nc | G10: =RANK(C10,$C$10:$C$56) -> #VALUE!
A11: 青森 | B11: … | C11: … | D11: nc | E11: nc | G11: =RANK(C11,$C$10:$C$56) -> #VALUE!
A12: 岩手 | B12: … | C12: … | D12: nc | E12: nc | G12: =RANK(C12,$C$10:$C$56) -> #VALUE!
A13: 宮城 | B13: … | C13: … | D13: nc | E13: nc | G13: =RANK(C13,$C$10:$C$56) -> #VALUE!
A14: 秋田 | B14: … | C14: … | D14: nc | E14: nc | G14: =RANK(C14,$C$10:$C$56) -> #VALUE!
A15: 山形 | B15: … | C15: … | D15: nc | E15: nc | G15: =RANK(C15,$C$10:$C$56) -> #VALUE!
A16: 福島 | B16: … | C16: … | D16: nc | E16: nc | G16: =RANK(C16,$C$10:$C$56) -> #VALUE!
A17: 茨城 | B17: 1810 | C17: 1310 | D17: 99 | E17: 98 | G17: =RANK(C17,$C$10:$C$56) -> 7
A18: 栃木 | B18: 613 | C18: 591 | D18: 99 | E18: 102 | G18: =RANK(C18,$C$10:$C$56) -> 9
A19: 群馬 | B19: … | C19: … | D19: nc | E19: nc | G19: =RANK(C19,$C$10:$C$56) -> #VALUE!
A20: 埼玉 | B20: 4180 | C20: 2150 | D20: 99 | E20: 96 | G20: =RANK(C20,$C$10:$C$56) -> 4
A21: 千葉 | B21: 905 | C21: 959 | D21: 99 | E21: 99 | G21: =RANK(C21,$C$10:$C$56) -> 8
A22: 東京 | B22: … | C22: … | D22: nc | E22: nc | G22: =RANK(C22,$C$10:$C$56) -> #VALUE!
A23: 神奈川 | B23: … | C23: … | D23: nc | E23: nc | G23: =RANK(C23,$C$10:$C$56) -> #VALUE!
A24: 新潟 | B24: 5000 | C24: 4090 | D24: 100 | E24: 91 | G24: =RANK(C24,$C$10:$C$56) -> 2
A25: 富山 | B25: … | C25: … | D25: nc | E25: nc | G25: =RANK(C25,$C$10:$C$56) -> #VALUE!
A26: 石川 | B26: … | C26: … | D26: nc | E26: nc | G26: =RANK(C26,$C$10:$C$56) -> #VALUE!
A27: 福井 | B27: … | C27: … | D27: nc | E27: nc | G27: =RANK(C27,$C$10:$C$56) -> #VALUE!
A28: 山梨 | B28: … | C28: … | D28: nc | E28: nc | G28: =RANK(C28,$C$10:$C$56) -> #VALUE!
A29: 長野 | B29: 721 | C29: 576 | D29: 102 | E29: 102 | G29: =RANK(C29,$C$10:$C$56) -> 10
A30: 岐阜 | B30: 1260 | C30: 3860 | D30: 99 | E30: 99 | G30: =RANK(C30,$C$10:$C$56) -> 3
A31: 静岡 | B31: 1230 | C31: 1930 | D31: 97 | E31: 94 | G31: =RANK(C31,$C$10:$C$56) -> 5
A32: 愛知 | B32: 4090 | C32: 6050 | D32: 99 | E32: 89 | G32: =RANK(C32,$C$10:$C$56) -> 1
A33: 三重 | B33: … | C33: … | D33: nc | E33: nc | G33: =RANK(C33,$C$10:$C$56) -> #VALUE!
A34: 滋賀 | B34: … | C34: … | D34: nc | E34: nc | G34: =RANK(C34,$C$10:$C$56) -> #VALUE!
A35: 京都 | B35: … | C35: … | D35: nc | E35: nc | G35: =RANK(C35,$C$10:$C$56) -> #VALUE!
A36: 大阪 | B36: … | C36: … | D36: nc | E36: nc | G36: =RANK(C36,$C$10:$C$56) -> #VALUE!
A37: 兵庫 | B37: … | C37: … | D37: nc | E37: nc | G37: =RANK(C37,$C$10:$C$56) -> #VALUE!
A38: 奈良 | B38: … | C38: … | D38: nc | E38: nc | G38: =RANK(C38,$C$10:$C$56) -> #VALUE!
A39: 和歌山 | B39: … | C39: … | D39: nc | E39: nc | G39: =RANK(C39,$C$10:$C$56) -> #VALUE!
A40: 鳥取 | B40: … | C40: … | D40: nc | E40: nc | G40: =RANK(C40,$C$10:$C$56) -> #VALUE!
A41: 島根 | B41: … | C41: … | D41: nc | E41: nc | G41: =RANK(C41,$C$10:$C$56) -> #VALUE!
A42: 岡山 | B42: … | C42: … | D42: nc | E42: nc | G42: =RANK(C42,$C$10:$C$56) -> #VALUE!
A43: 広島 | B43: … | C43: … | D43: nc | E43: nc | G43: =RANK(C43,$C$10:$C$56) -> #VALUE!
A44: 山口 | B44: … | C44: … | D44: nc | E44: nc | G44: =RANK(C44,$C$10:$C$56) -> #VALUE!
... A48: 高知 | B48: … | C48: … | D48: nc | E48: nc | G48: =RANK(C48,$C$10:$C$56) -> #VALUE!
A49: 福岡 | B49: 2170 | C49: 1410 | D49: 90 | E49: 96 | G49: =RANK(C49,$C$10:$C$56) -> 6
A50: 佐賀 | B50: … | C50: … | D50: nc | E50: nc | G50: =RANK(C50,$C$10:$C$56) -> #VALUE!
A51: 長崎 | B51: … | C51: … | D51: nc | E51: nc | G51: =RANK(C51,$C$10:$C$56) -> #VALUE!
A52: 熊本 | B52: … | C52: … | D52: nc | E52: nc | G52: =RANK(C52,$C$10:$C$56) -> #VALUE!
A53: 大分 | B53: … | C53: … | D53: nc | E53: nc | G53: =RANK(C53,$C$10:$C$56) -> #VALUE!
A54: 宮崎 | B54: … | C54: … | D54: nc | E54: nc | G54: =RANK(C54,$C$10:$C$56) -> #VALUE!
A55: 鹿児島 | B55: … | C55: … | D55: nc | E55: nc | G55: =RANK(C55,$C$10:$C$56) -> #VALUE!
A56: 沖縄 | B56: … | C56: … | D56: nc | E56: nc | G56: =RANK(C56,$C$10:$C$56) -> #VALUE!
A59: 注：本年産は主産県を対象に調査を実施しており、全国値については主産県の結果を基に推計した。

Sheet パンジー
A1: ２ 令和６年産都道府県別の作付（収穫）面積及び出荷量
A2: (4) 花壇用苗もの類
A3: イ パンジー
A5: 全国 ・ 都道府県 | B5: 作付面積 | C5: 出荷量 | D5: 対前年産比
D6: 作付面積 | E6: 出荷量
B7: ａ | C7: 千本 | D7: ％ | E7: ％
A8: 全国 | B8: 22700 | C8: 96900 | D8: 99 | E8: 98
A9: (都道府県)
A10: 北海道 | B10: … | C10: … | D10: nc | E10: nc | G10: =RANK(C10,$C$10:$C$56) -> #VALUE!
A11: 青森 | B11: … | C11: … | D11: nc | E11: nc | G11: =RANK(C11,$C$10:$C$56) -> #VALUE!
A12: 岩手 | B12: … | C12: … | D12: nc | E12: nc | G12: =RANK(C12,$C$10:$C$56) -> #VALUE!
A13: 宮城 | B13: … | C13: … | D13: nc | E13: nc | G13: =RANK(C13,$C$10:$C$56) -> #VALUE!
A14: 秋田 | B14: … | C14: … | D14: nc | E14: nc | G14: =RANK(C14,$C$10:$C$56) -> #VALUE!
A15: 山形 | B15: 595 | C15: 2080 | D15: 100 | E15: 102 | G15: =RANK(C15,$C$10:$C$56) -> 16
A16: 福島 | B16: … | C16: … | D16: nc | E16: nc | G16: =RANK(C16,$C$10:$C$56) -> #VALUE!
A17: 茨城 | B17: 1350 | C17: 4980 | D17: 107 | E17: 107 | G17: =RANK(C17,$C$10:$C$56) -> 5
A18: 栃木 | B18: 432 | C18: 2120 | D18: 100 | E18: 100 | G18: =RANK(C18,$C$10:$C$56) -> 15
A19: 群馬 | B19: 724 | C19: 2660 | D19: 100 | E19: 104 | G19: =RANK(C19,$C$10:$C$56) -> 13
A20: 埼玉 | B20: 1880 | C20: 7520 | D20: 99 | E20: 98 | G20: =RANK(C20,$C$10:$C$56) -> 1
A21: 千葉 | B21: 978 | C21: 3440 | D21: 100 | E21: 98 | G21: =RANK(C21,$C$10:$C$56) -> 11
A22: 東京 | B22: 612 | C22: 2030 | D22: 99 | E22: 101 | G22: =RANK(C22,$C$10:$C$56) -> 18
A23: 神奈川 | B23: 1470 | C23: 5440 | D23: 97 | E23: 96 | G23: =RANK(C23,$C$10:$C$56) -> 2
A24: 新潟 | B24: … | C24: … | D24: nc | E24: nc | G24: =RANK(C24,$C$10:$C$56) -> #VALUE!
A25: 富山 | B25: … | C25: … | D25: nc | E25: nc | G25: =RANK(C25,$C$10:$C$56) -> #VALUE!
A26: 石川 | B26: … | C26: … | D26: nc | E26: nc | G26: =RANK(C26,$C$10:$C$56) -> #VALUE!
A27: 福井 | B27: … | C27: … | D27: nc | E27: nc | G27: =RANK(C27,$C$10:$C$56) -> #VALUE!
A28: 山梨 | B28: … | C28: … | D28: nc | E28: nc | G28: =RANK(C28,$C$10:$C$56) -> #VALUE!
A29: 長野 | B29: … | C29: … | D29: nc | E29: nc | G29: =RANK(C29,$C$10:$C$56) -> #VALUE!
A30: 岐阜 | B30: 405 | C30: 1690 | D30: 99 | E30: 97 | G30: =RANK(C30,$C$10:$C$56) -> 22
A31: 静岡 | B31: 966 | C31: 3790 | D31: 97 | E31: 86 | G31: =RANK(C31,$C$10:$C$56) -> 9
A32: 愛知 | B32: 1660 | C32: 5400 | D32: 96 | E32: 93 | G32: =RANK(C32,$C$10:$C$56) -> 3
A33: 三重 | B33: 801 | C33: 3550 | D33: 100 | E33: 99 | G33: =RANK(C33,$C$10:$C$56) -> 10
A34: 滋賀 | B34: … | C34: … | D34: nc | E34: nc | G34: =RANK(C34,$C$10:$C$56) -> #VALUE!
A35: 京都 | B35: … | C35: … | D35: nc | E35: nc | G35: =RANK(C35,$C$10:$C$56) -> #VALUE!
A36: 大阪 | B36: 480 | C36: 2040 | D36: 100 | E36: 85 | G36: =RANK(C36,$C$10:$C$56) -> 17
A37: 兵庫 | B37: 645 | C37: 4210 | D37: 98 | E37: 100 | G37: =RANK(C37,$C$10:$C$56) -> 7
A38: 奈良 | B38: 738 | C38: 4930 | D38: 92 | E38: 91 | G38: =RANK(C38,$C$10:$C$56) -> 6
A39: 和歌山 | B39: … | C39: … | D39: nc | E39: nc | G39: =RANK(C39,$C$10:$C$56) -> #VALUE!
A40: 鳥取 | B40: 470 | C40: 1690 | D40: 98 | E40: 108 | G40: =RANK(C40,$C$10:$C$56) -> 22
A41: 島根 | B41: … | C41: … | D41: nc | E41: nc | G41: =RANK(C41,$C$10:$C$56) -> #VALUE!
A42: 岡山 | B42: 586 | C42: 1880 | D42: 102 | E42: 104 | G42: =RANK(C42,$C$10:$C$56) -> 21
A43: 広島 | B43: 650 | C43: 3250 | D43: 100 | E43: 107 | G43: =RANK(C43,$C$10:$C$56) -> 12
A44: 山口 | B44: 374 | C44: 2000 | D44: 99 | E44: 105 | G44: =RANK(C44,$C$10:$C$56) -> 20
A45: 徳島 | B45: … | C45: … | D45: nc | E45: nc | G45: =RANK(C45,$C$10:$C$56) -> #VALUE!
A46: 香川 | B46: … | C46: … | D46: nc | E46: nc | G46: =RANK(C46,$C$10:$C$56) -> #VALUE!
A47: 愛媛 | B47: … | C47: … | D47: nc | E47: nc | G47: =RANK(C47,$C$10:$C$56) -> #VALUE!
A48: 高知 | B48: … | C48: … | D48: nc | E48: nc | G48: =RANK(C48,$C$10:$C$56) -> #VALUE!
A49: 福岡 | B49: 910 | C49: 5370 | D49: 95 | E49: 103 | G49: =RANK(C49,$C$10:$C$56) -> 4
A50: 佐賀 | B50: 460 | C50: 4040 | D50: 100 | E50: 100 | G50: =RANK(C50,$C$10:$C$56) -> 8
A51: 長崎 | B51: … | C51: … | D51: nc | E51: nc | G51: =RANK(C51,$C$10:$C$56) -> #VALUE!
A52: 熊本 | B52: 527 | C52: 2010 | D52: 99 | E52: 93 | G52: =RANK(C52,$C$10:$C$56) -> 19
A53: 大分 | B53: … | C53: … | D53: nc | E53: nc | G53: =RANK(C53,$C$10:$C$56) -> #VALUE!
A54: 宮崎 | B54: 591 | C54: 2420 | D54: 103 | E54: 98 | G54: =RANK(C54,$C$10:$C$56) -> 14
A55: 鹿児島 | B55: … | C55: … | D55: nc | E55: nc | G55: =RANK(C55,$C$10:$C$56) -> #VALUE!
A56: 沖縄 | B56: … | C56: … | D56: nc | E56: nc | G56: =RANK(C56,$C$10:$C$56) -> #VALUE!
A59: 注：本年産は主産県を対象に調査を実施しており、全国値については主産県の結果を基に推計した。

Sheet グラフ
B3: ガーベラ | C3: 千本 | G3: 切り枝 | H3: 千本 | L3: ばら | M3: 千本 | Q3: 観葉植物 | R3: 千鉢 | V3: トルコギキョウ | W3: 千本
B4: 県 | C4: 出荷量 | G4: 県 | H4: 出荷量 | L4: 県 | M4: 出荷量 | Q4: 県 | R4: 出荷量 | V4: 県 | W4: 出荷量
A5: 1 | B5: =ガーベラ!A31 -> 静岡 | C5: =ガーベラ!C31 -> 45800 | F5: 1 | G5: =切り枝!A31 -> 静岡 | H5: =切り枝!C31 -> 31300 | K5: 1 | L5: =ばら!A32 -> 愛知 | M5: =ばら!C32 -> 29900 | P5: 1 | Q5: =観葉植物!A32 -> 愛知 | R5: =観葉植物!C32 -> 18200 | U5: 1 | V5: =トルコギキョウ!A29 -> 長野 | W5: =トルコギキョウ!C29 -> 11200
A6: 2 | B6: =ガーベラ!A49 -> 福岡 | C6: =ガーベラ!C49 -> 18000 | F6: 2 | G6: =切り枝!A17 -> 茨城 | H6: =切り枝!C17 -> 30800 | K6: 2 | L6: =ばら!A31 -> 静岡 | M6: =ばら!C31 -> 15800 | P6: 2 | Q6: =観葉植物!A31 -> 静岡 | R6: =観葉植物!C31 -> 5040 | U6: 2 | V6: =トルコギキョウ!A52 -> 熊本 | W6: =トルコギキョウ!C52 -> 9510
A7: 3 | B7: =ガーベラ!A39 -> 和歌山 | C7: =ガーベラ!C39 -> 10100 | F7: 3 | G7: =切り枝!A54 -> 宮崎 | H7: =切り枝!C54 -> 10200 | K7: 3 | L7: =ばら!A15 -> 山形 | M7: =ばら!C15 -> 12600 | P7: 3 | Q7: =観葉植物!A33 -> 三重 | R7: =観葉植物!C33 -> 3290 | U7: 3 | V7: =トルコギキョウ!A49 -> 福岡 | W7: =トルコギキョウ!C49 -> 7500
A8: 4 | B8: =ガーベラ!A32 -> 愛知 | C8: =ガーベラ!C32 -> 7630 | F8: 4 | G8: =切り枝!A47 -> 愛媛 | H8: =切り枝!C47 -> 10100 | K8: 4 | L8: =ばら!A49 -> 福岡 | M8: =ばら!C49 -> 10900 | P8: 4 | Q8: =観葉植物!A55 -> 鹿児島 | R8: =観葉植物!C55 -> 1580 | U8: 4 | V8: =トルコギキョウ!A31 -> 静岡 | W8: =トルコギキョウ!C31 -> 3610
A9: 5 | B9: =ガーベラ!A21 -> 千葉 | C9: =ガーベラ!C21 -> 6590 | F9: 5 | G9: =切り枝!A39 -> 和歌山 | H9: =切り枝!C39 -> 8080 | K9: 5 | L9: =ばら!A19 -> 群馬 | M9: =ばら!C19 -> 9660 | P9: 5 | Q9: =観葉植物!A21 -> 千葉 | R9: =観葉植物!C21 -> 1220 | U9: 5 | V9: =トルコギキョウ!A48 -> 高知 | W9: =トルコギキョウ!C48 -> 3310
B10: その他 | C10: =ガーベラ!C8-SUM(C5:C9) -> 27980 | G10: その他 | H10: =H11-SUM(H5:H9) -> 104120 | L10: その他 | M10: =M11-SUM(M5:M9) -> 92440 | Q10: その他 | R10: =R11-SUM(R5:R9) -> 8570 | V10: その他 | W10: =W11-SUM(W5:W9) -> 43170
B11: 全国 | C11: =ガーベラ!C8 -> 116100 | G11: 全国 | H11: =切り枝!C8 -> 194600 | L11: 全国 | M11: =ばら!C8 -> 171300 | Q11: 全国 | R11: =観葉植物!C8 -> 37900 | V11: 全国 | W11: =トルコギキョウ!C8 -> 78300
B16: 全国1位 | G16: =B16 -> 全国1位 | L16: 全国２位 | Q16: 全国２位 | V16: 全国４位
C24: =B11 -> 全国 | H24: =G11 -> 全国 | M24: =L11 -> 全国 | R24: =Q11 -> 全国 | W24: =V11 -> 全国
C25: =C11 -> 116100 | H25: =H11 -> 194600 | M25: =M11 -> 171300 | R25: =R11 -> 37900 | W25: =W11 -> 78300
C26: =C3 -> 千本 | H26: =H3 -> 千本 | M26: =M3 -> 千本 | R26: =R3 -> 千鉢 | W26: =W3 -> 千本
C27: (100%) | H27: (100%) | M27: (100%) | R27: (100%) | W27: (100%)
