Workbook

Sheet 全国
A1: 果樹生産出荷統計
A2: 品目別結果樹面積、収穫量及び出荷量累年統計
A3: みかん
A4: 全国
A5: 年次 | B5: みかん | E5: 早生温州 | H5: 早生温州うちハウスみかん | K5: 早生温州うち極早生みかん | N5: 普通温州
B6: 結果樹面積 | C6: 収穫量 | D6: 出荷量 | E6: 結果樹面積 | F6: 収穫量 | G6: 出荷量 | H6: 結果樹面積 | I6: 収穫量 | J6: 出荷量 | K6: 結果樹面積 | L6: 収穫量 | M6: 出荷量 | N6: 結果樹面積 | O6: 収穫量 | P6: 出荷量
B7: ha | C7: t | D7: t | E7: ha | F7: t | G7: t | H7: ha | I7: t | J7: t | K7: ha | L7: t | M7: t | N7: ha | O7: t | P7: t
A8: 昭.48(1973) | B8: 156300 | C8: 3389000 | D8: 3052000 | E8: 46900 | F8: 1012000 | G8: 942200 | H8: … | I8: … | J8: … | K8: … | L8: … | M8: … | N8: 109500 | O8: 2377000 | P8: 2110000
A9: 昭.49(1974) | B9: 160300 | C9: 3383000 | D9: 3015000 | E9: 49800 | F9: 1053000 | G9: 967200 | H9: … | I9: … | J9: … | K9: … | L9: … | M9: … | N9: 110500 | O9: 2330000 | P9: 2048000
A10: 昭.50(1975) | B10: 160700 | C10: 3665000 | D10: 3270000 | E10: 51500 | F10: 1192000 | G10: 1103000 | H10: … | I10: … | J10: … | K10: … | L10: … | M10: … | N10: 109200 | O10: 2473000 | P10: 2167000
A11: 昭.51(1976) | B11: 157700 | C11: 3089000 | D11: 2752000 | E11: 52400 | F11: 1039000 | G11: 957400 | H11: … | I11: … | J11: … | K11: … | L11: … | M11: … | N11: 105300 | O11: 2050000 | P11: 1794000
A12: 昭.52(1977) | B12: 153900 | C12: 3539000 | D12: 3164000 | E12: 52800 | F12: 1241000 | G12: 1148000 | H12: … | I12: … | J12: … | K12: … | L12: … | M12: … | N12: 101100 | O12: 2298000 | P12: 2016000
A13: 昭.53(1978) | B13: 149400 | C13: 3026000 | D13: 2723000 | E13: 52900 | F13: 1100000 | G13: 1023000 | H13: … | I13: … | J13: … | K13: … | L13: … | M13: … | N13: 96400 | O13: 1927000 | P13: 1700000
A14: 昭.54(1979) | B14: 143400 | C14: 3618000 | D14: 3264000 | E14: 52900 | F14: 1354000 | G14: 1263000 | H14: … | I14: … | J14: … | K14: … | L14: … | M14: … | N14: 90400 | O14: 2264000 | P14: 2002000
A15: 昭.55(1980) | B15: 135000 | C15: 2892000 | D15: 2598000 | E15: 52400 | F15: 1140000 | G15: 1058000 | H15: … | I15: … | J15: … | K15: … | L15: … | M15: … | N15: 82600 | O15: 1752000 | P15: 1540000
A16: 昭.56(1981) | B16: 128000 | C16: 2819000 | D16: 2533000 | E16: 51900 | F16: 1210000 | G16: 1119000 | H16: … | I16: … | J16: … | K16: … | L16: … | M16: … | N16: 76100 | O16: 1610000 | P16: 1415000
A17: 昭.57(1982) | B17: 120900 | C17: 2864000 | D17: 2581000 | E17: 50900 | F17: 1221000 | G17: 1135000 | H17: … | I17: … | J17: … | K17: … | L17: … | M17: … | N17: 69900 | O17: 1643000 | P17: 1446000
A18: 昭.58(1983) | B18: 115900 | C18: 2859000 | D18: 2568000 | E18: 49900 | F18: 1274000 | G18: 1181000 | H18: … | I18: … | J18: … | K18: … | L18: … | M18: … | N18: 66000 | O18: 1586000 | P18: 1387000
A19: 昭.59(1984) | B19: 111100 | C19: 2005000 | D19: 1807000 | E19: 49100 | F19: 892000 | G19: 829000 | H19: … | I19: … | J19: … | K19: … | L19: … | M19: … | N19: 62100 | O19: 1113000 | P19: 977700
... A25: 平.2(1990) | B25: 74100 | C25: 1653000 | D25: 1479000 | E25: 37300 | F25: 878900 | G25: 805200 | H25: … | I25: … | J25: … | K25: … | L25: … | M25: … | N25: 36900 | O25: 773900 | P25: 673500
A26: 平.3(1991) | B26: 71700 | C26: 1579000 | D26: 1411000 | E26: 36700 | F26: 869000 | G26: 793500 | H26: 1340 | I26: 64400 | J26: 61200 | K26: 7000 | L26: 137800 | M26: 127200 | N26: 35000 | O26: 710500 | P26: 617300
A27: 平.4(1992) | B27: 69300 | C27: 1683000 | D27: 1495000 | E27: 36100 | F27: 925900 | G27: 838400 | H27: 1410 | I27: 66800 | J27: 63500 | K27: 7460 | L27: 171700 | M27: 158700 | N27: 33200 | O27: 757400 | P27: 656200
A28: 平.5(1993) | B28: 68500 | C28: 1490000 | D28: 1313000 | E28: 36200 | F28: 837800 | G28: 754000 | H28: 1430 | I28: 70800 | J28: 67400 | K28: 7860 | L28: 157800 | M28: 144700 | N28: 32400 | O28: 652500 | P28: 559000
A29: 平.6(1994) | B29: 67000 | C29: 1247000 | D29: 1104000 | E29: 35700 | F29: 711500 | G29: 643600 | H29: 1410 | I29: 68900 | J29: 65800 | K29: 8200 | L29: 150600 | M29: 138100 | N29: 31200 | O29: 535100 | P29: 460400
A30: 平.7(1995) | B30: 65400 | C30: 1378000 | D30: 1222000 | E30: 35300 | F30: 801900 | G30: 724700 | H30: 1380 | I30: 67500 | J30: 64100 | K30: 8500 | L30: 184200 | M30: 169100 | N30: 30000 | O30: 575800 | P30: 498100
A31: 平.8(1996) | B31: 63500 | C31: 1153000 | D31: 1029000 | E31: 34700 | F31: 679500 | G31: 617200 | H31: 1360 | I31: 65900 | J31: 62900 | K31: 8670 | L31: 155400 | M31: 142700 | N31: 28800 | O31: 474100 | P31: 411100
A32: 平.9(1997) | B32: 62000 | C32: 1555000 | D32: 1376000 | E32: 34200 | F32: 892700 | G32: 805000 | H32: 1350 | I32: 66700 | J32: 63600 | K32: 8860 | L32: 212600 | M32: 193700 | N32: 27800 | O32: 661800 | P32: 571500
A33: 平.10(1998) | B33: 60600 | C33: 1194000 | D33: 1064000 | E33: 33600 | F33: 710600 | G33: 644800 | H33: 1320 | I33: 62900 | J33: 59600 | K33: 9020 | L33: 186000 | M33: 171100 | N33: 26900 | O33: 483800 | P33: 419400
A34: 平.11(1999) | B34: 59700 | C34: 1447000 | D34: 1287000 | E34: 33300 | F34: 841000 | G34: 760800 | H34: 1300 | I34: 63100 | J34: 60000 | K34: 9100 | L34: 212100 | M34: 193200 | N34: 26400 | O34: 606900 | P34: 526900
A35: 平.12(2000) | B35: 58400 | C35: 1143000 | D35: 1019000 | E35: 32800 | F35: 705300 | G35: 640000 | H35: 1270 | I35: 62300 | J35: 59500 | K35: 9950 | L35: 213600 | M35: 195800 | N35: 25700 | O35: 436800 | P35: 378300
A36: 平.13(2001) | B36: 56300 | C36: 1282000 | D36: 1134000 | E36: 31700 | F36: 749900 | G36: 676200 | H36: 1250 | I36: 61500 | J36: 58600 | K36: 9680 | L36: 207000 | M36: 188200 | N36: 24600 | O36: 532100 | P36: 458300
A37: 平.14(2002) | B37: 55000 | C37: 1131000 | D37: 996500 | E37: 31000 | F37: 677500 | G37: 613600 | H37: 1220 | I37: 58000 | J37: 55000 | K37: 9280 | L37: 196200 | M37: 179000 | N37: 24000 | O37: 453100 | P37: 382900
... A59: 令.6(2024) | B59: 34500 | C59: 559600 | D59: 510900 | E59: 19400 | F59: 325800 | G59: 299900 | H59: 307 | I59: 14400 | J59: 13900 | K59: 5430 | L59: 87600 | M59: 81100 | N59: 15200 | O59: 233800 | P59: 211000
D66: =F6 -> 収穫量 | E66: =D66 -> 収穫量
C67: =E5 -> 早生温州 | D67: =F59 -> 325800 | E67: =D67/D71 -> 0.58220157 | F67: =D67/D71 -> 0.58220157
C68: うちハウス | E68: =I59 -> 14400 | F68: =E68/D71 -> 0.025732666
C69: うち極早生 | E69: =L59 -> 87600 | F69: =E69/D71 -> 0.15654039
C70: =N5 -> 普通温州 | D70: =O59 -> 233800 | F70: =D70/D71 -> 0.41779843
D71: =C59 -> 559600

Sheet 静岡
A1: 果樹生産出荷統計
A2: 品目別結果樹面積、収穫量及び出荷量累年統計
A3: みかん
A4: 静岡
A5: 年次 | B5: みかん | E5: 早生温州 | H5: 早生温州うちハウスみかん | K5: 早生温州うち極早生みかん | N5: 普通温州
B6: 結果樹面積 | C6: 収穫量 | D6: 出荷量 | E6: 結果樹面積 | F6: 収穫量 | G6: 出荷量 | H6: 結果樹面積 | I6: 収穫量 | J6: 出荷量 | K6: 結果樹面積 | L6: 収穫量 | M6: 出荷量 | N6: 結果樹面積 | O6: 収穫量 | P6: 出荷量
B7: ha | C7: t | D7: t | E7: ha | F7: t | G7: t | H7: ha | I7: t | J7: t | K7: ha | L7: t | M7: t | N7: ha | O7: t | P7: t
A8: 昭.48(1973) | B8: 16500 | C8: 424300 | D8: 380961 | E8: 2780 | F8: 65100 | G8: 60651 | H8: … | I8: … | J8: … | K8: … | L8: … | M8: … | N8: 13700 | O8: 359200 | P8: 320310
A9: 昭.49(1974) | B9: 16900 | C9: 408200 | D9: 358957 | E9: 3080 | F9: 72100 | G9: 67220 | H9: … | I9: … | J9: … | K9: … | L9: … | M9: … | N9: 13800 | O9: 336100 | P9: 291737
A10: 昭.50(1975) | B10: 16500 | C10: 424700 | D10: 373737 | E10: 3140 | F10: 79900 | G10: 73637 | H10: … | I10: … | J10: … | K10: … | L10: … | M10: … | N10: 13400 | O10: 344800 | P10: 300100
A11: 昭.51(1976) | B11: 16400 | C11: 347500 | D11: 302396 | E11: 3240 | F11: 73800 | G11: 67711 | H11: … | I11: … | J11: … | K11: … | L11: … | M11: … | N11: 13200 | O11: 273700 | P11: 234685
A12: 昭.52(1977) | B12: 16200 | C12: 413700 | D12: 365451 | E12: 3260 | F12: 84300 | G12: 77976 | H12: … | I12: … | J12: … | K12: … | L12: … | M12: … | N12: 12900 | O12: 329400 | P12: 287475
A13: 昭.53(1978) | B13: 15600 | C13: 330600 | D13: 289806 | E13: 3300 | F13: 72800 | G13: 67211 | H13: … | I13: … | J13: … | K13: … | L13: … | M13: … | N13: 12300 | O13: 257800 | P13: 222595
A14: 昭.54(1979) | B14: 14700 | C14: 393100 | D14: 359388 | E14: 3300 | F14: 89200 | G14: 83892 | H14: … | I14: … | J14: … | K14: … | L14: … | M14: … | N14: 11400 | O14: 303900 | P14: 275496
A15: 昭.55(1980) | B15: 13600 | C15: 295300 | D15: 263704 | E15: 3290 | F15: 73600 | G15: 68634 | H15: … | I15: … | J15: … | K15: … | L15: … | M15: … | N15: 10400 | O15: 221700 | P15: 195070
A16: 昭.56(1981) | B16: 12900 | C16: 339600 | D16: 305679 | E16: 3270 | F16: 88600 | G16: 82322 | H16: … | I16: … | J16: … | K16: … | L16: … | M16: … | N16: 9590 | O16: 251000 | P16: 223357
A17: 昭.57(1982) | B17: 12300 | C17: 307500 | D17: 273067 | E17: 3290 | F17: 83900 | G17: 78836 | H17: … | I17: … | J17: … | K17: … | L17: … | M17: … | N17: 9020 | O17: 223600 | P17: 194231
A18: 昭.58(1983) | B18: 12000 | C18: 306600 | D18: 271786 | E18: 3270 | F18: 90300 | G18: 84908 | H18: … | I18: … | J18: … | K18: … | L18: … | M18: … | N18: 8680 | O18: 216400 | P18: 186878
A19: 昭.59(1984) | B19: 11400 | C19: 213100 | D19: 189057 | E19: 3160 | F19: 54100 | G19: 50625 | H19: … | I19: … | J19: … | K19: … | L19: … | M19: … | N19: 8280 | O19: 159100 | P19: 138432
... A25: 平.2(1990) | B25: 7750 | C25: 173600 | D25: 154700 | E25: 2290 | F25: 55100 | G25: 52000 | H25: … | I25: … | J25: … | K25: … | L25: … | M25: … | N25: 5460 | O25: 118400 | P25: 102700
A26: 平.3(1991) | B26: 7670 | C26: 179700 | D26: 160400 | E26: 2250 | F26: 58400 | G26: 55100 | H26: 67 | I26: 3310 | J26: 3070 | K26: … | L26: … | M26: … | N26: 5430 | O26: 121300 | P26: 105400
A27: 平.4(1992) | B27: 7430 | C27: 181400 | D27: 161700 | E27: 2190 | F27: 57900 | G27: 54100 | H27: 69 | I27: 3410 | J27: 3160 | K27: … | L27: … | M27: … | N27: 5240 | O27: 123500 | P27: 107600
A28: 平.5(1993) | B28: 7240 | C28: 162200 | D28: 145100 | E28: 2170 | F28: 54900 | G28: 51400 | H28: 70 | I28: 3610 | J28: 3370 | K28: … | L28: … | M28: … | N28: 5070 | O28: 107300 | P28: 93700
A29: 平.6(1994) | B29: 7090 | C29: 147000 | D29: 132500 | E29: 2160 | F29: 47400 | G29: 44500 | H29: 70 | I29: 3440 | J29: 3220 | K29: … | L29: … | M29: … | N29: 4920 | O29: 99700 | P29: 88000
A30: 平.7(1995) | B30: 6930 | C30: 131800 | D30: 118200 | E30: 2110 | F30: 43600 | G30: 40800 | H30: 70 | I30: 3320 | J30: 3100 | K30: - | L30: - | M30: - | N30: 4810 | O30: 88100 | P30: 77400
A31: 平.8(1996) | B31: 6470 | C31: 140600 | D31: 126300 | E31: 2020 | F31: 45000 | G31: 42100 | H31: 68 | I31: 3400 | J31: 3170 | K31: - | L31: - | M31: - | N31: 4450 | O31: 95600 | P31: 84300
A32: 平.9(1997) | B32: 6360 | C32: 152700 | D32: 134000 | E32: 1980 | F32: 50800 | G32: 46400 | H32: 68 | I32: 3400 | J32: 3170 | K32: … | L32: … | M32: … | N32: 4380 | O32: 101900 | P32: 87600
A33: 平.10(1998) | B33: 6250 | C33: 149600 | D33: 131100 | E33: 1940 | F33: 49500 | G33: 45200 | H33: 65 | I33: 3010 | J33: 2820 | K33: - | L33: - | M33: - | N33: 4310 | O33: 100100 | P33: 85900
A34: 平.11(1999) | B34: 6210 | C34: 156900 | D34: 138200 | E34: 1920 | F34: 51300 | G34: 47000 | H34: 65 | I34: 2870 | J34: 2710 | K34: - | L34: - | M34: - | N34: 4290 | O34: 105600 | P34: 91200
A35: 平.12(2000) | B35: 6160 | C35: 136600 | D35: 120500 | E35: 1860 | F35: 46800 | G35: 42900 | H35: 63 | I35: 2840 | J35: 2690 | K35: - | L35: - | M35: - | N35: 4300 | O35: 89800 | P35: 77700
A36: 平.13(2001) | B36: 6120 | C36: 149100 | D36: 130800 | E36: 1820 | F36: 48300 | G36: 44200 | H36: 63 | I36: 2690 | J36: 2550 | K36: … | L36: … | M36: … | N36: 4310 | O36: 100800 | P36: 86600
A37: 平.14(2002) | B37: 6140 | C37: 143100 | D37: 117600 | E37: 1790 | F37: 47300 | G37: 42500 | H37: 62 | I37: 2640 | J37: 2500 | K37: … | L37: … | M37: … | N37: 4350 | O37: 95900 | P37: 75200
A38: 平.15(2003) | B38: 5970 | C38: 130700 | D38: 113700 | E38: 1740 | F38: 41700 | G38: 37700 | H38: 62 | I38: 2630 | J38: 2490 | K38: … | L38: … | M38: … | N38: 4230 | O38: 89000 | P38: 76000
A39: 平.16(2004) | B39: 5950 | C39: 141700 | D39: 123200 | E39: 1730 | F39: 42800 | G39: 38600 | H39: 62 | I39: 2440 | J39: 2310 | K39: 278 | L39: 5910 | M39: 5290 | N39: 4220 | O39: 98900 | P39: 84600
A40: 平.17(2005) | B40: 5890 | C40: 141300 | D40: 123600 | E40: 1720 | F40: 45500 | G40: 41100 | H40: 60 | I40: 2510 | J40: 2370 | K40: 278 | L40: 5990 | M40: 5350 | N40: 4170 | O40: 95800 | P40: 82500
A41: 平.18(2006) | B41: 5860 | C41: 118100 | D41: 99900 | E41: 1700 | F41: 34300 | G41: 30200 | H41: 57 | I41: 2340 | J41: 2210 | K41: 276 | L41: 4800 | M41: 4210 | N41: 4150 | O41: 83800 | P41: 69700
A42: 平.19(2007) | B42: 5780 | C42: 146200 | D42: 130000 | E42: 1680 | F42: 46200 | G42: 42000 | H42: 54 | I42: 2280 | J42: 2160 | K42: 263 | L42: 5860 | M42: 5050 | N42: 4100 | O42: 100000 | P42: 88000
A43: 平.20(2008) | B43: 5720 | C43: 115500 | D43: 99700 | E43: 1660 | F43: 34700 | G43: 30700 | H43: 45 | I43: 2070 | J43: 1990 | K43: 245 | L43: 4480 | M43: 3890 | N43: 4060 | O43: 80800 | P43: 69000
A44: 平.21(2009) | B44: 5550 | C44: 122100 | D44: 107300 | E44: 1600 | F44: 34400 | G44: 30500 | H44: 33 | I44: 1640 | J44: 1580 | K44: 228 | L44: 3880 | M44: 3420 | N44: 3950 | O44: 87700 | P44: 76800
A45: 平.22(2010) | B45: 5470 | C45: 106100 | D45: 93400 | E45: 1550 | F45: 29300 | G45: 26100 | H45: 33 | I45: 1490 | J45: 1440 | K45: 220 | L45: 3320 | M45: 2970 | N45: 3920 | O45: 76800 | P45: 67300
A46: 平.23(2011) | B46: 5480 | C46: 128200 | D46: 113100 | E46: 1540 | F46: 39900 | G46: 35700 | H46: 31 | I46: 1450 | J46: 1400 | K46: 217 | L46: 4560 | M46: 4080 | N46: 3940 | O46: 88300 | P46: 77400
A47: 平.24(2012) | B47: 5490 | C47: 122400 | D47: 108400 | E47: 1540 | F47: 35100 | G47: 31300 | H47: 29 | I47: 1360 | J47: 1310 | K47: 229 | L47: 4400 | M47: 3930 | N47: 3950 | O47: 87300 | P47: 77100
A48: 平.25(2013) | B48: 5460 | C48: 121800 | D48: 108000 | E48: 1540 | F48: 35600 | G48: 31800 | H48: 26 | I48: 1150 | J48: 1100 | K48: 227 | L48: 4650 | M48: 4230 | N48: 3920 | O48: 86200 | P48: 76200
A49: 平.26(2014) | B49: 5360 | C49: 124900 | D49: 110200 | E49: 1450 | F49: 35800 | G49: 31900 | H49: 24 | I49: 1040 | J49: 991 | K49: 222 | L49: 4680 | M49: 4250 | N49: 3910 | O49: 89100 | P49: 78300
A50: 平.27(2015) | B50: 5320 | C50: 101200 | D50: 86300 | E50: 1420 | F50: 31800 | G50: 28000 | H50: 21 | I50: 882 | J50: 840 | K50: 216 | L50: 4490 | M50: 4000 | N50: 3900 | O50: 69400 | P50: 58300
... A59: 令.6(2024) | B59: 4730 | C59: 88500 | D59: 80200 | E59: 1310 | F59: 24400 | G59: 22400 | H59: 10 | I59: 402 | J59: 386 | K59: 244 | L59: 4710 | M59: 4370 | N59: 3420 | O59: 64000 | P59: 57800
D66: =F6 -> 収穫量 | E66: =D66 -> 収穫量 | F66: 全国 | G66: 静岡県
C67: =E5 -> 早生温州 | D67: =F59 -> 24400 | E67: =D67/D71 -> 0.27570621 | F67: =全国!F67-F68-F69 -> 0.39992852 | G67: =D67/D71-G68-G69 -> 0.2179435
C68: うちハウス | E68: =I59 -> 402 | F68: =全国!F68 -> 0.025732666 | G68: =E68/D71 -> 0.0045423729
C69: うち極早生 | E69: =L59 -> 4710 | F69: =全国!F69 -> 0.15654039 | G69: =E69/D71 -> 0.053220339
C70: =N5 -> 普通温州 | D70: =O59 -> 64000 | F70: =全国!F70 -> 0.41779843 | G70: =D70/D71 -> 0.72316384
D71: =C59 -> 88500
F72: =全国!E67 -> 0.58220157 | G72: =D67/D71 -> 0.27570621

Sheet 静岡 (2)
A1: 果樹生産出荷統計
A2: 品目別結果樹面積、収穫量及び出荷量累年統計
A3: みかん
A4: 静岡
A5: 年次 | B5: みかん | C5: 早生温州 | D5: 普通温州 | E5: みかん | F5: 早生温州 | G5: 普通温州
B6: 収穫量 | C6: 収穫量 | D6: 収穫量 | E6: 収穫量 | F6: 収穫量 | G6: 収穫量
B7: t | C7: t | D7: t | E7: 千t | F7: 千t | G7: 千t
A8: 昭.48(1973) | B8: 424300 | C8: 65100 | D8: 359200 | E8: =B8/1000 -> 424.3 | F8: =C8/1000 -> 65.1 | G8: =D8/1000 -> 359.2
A9: 昭.49(1974) | B9: 408200 | C9: 72100 | D9: 336100 | E9: =B9/1000 -> 408.2 | F9: =C9/1000 -> 72.1 | G9: =D9/1000 -> 336.1
A10: 昭.50(1975) | B10: 424700 | C10: 79900 | D10: 344800 | E10: =B10/1000 -> 424.7 | F10: =C10/1000 -> 79.9 | G10: =D10/1000 -> 344.8
A11: 昭.51(1976) | B11: 347500 | C11: 73800 | D11: 273700 | E11: =B11/1000 -> 347.5 | F11: =C11/1000 -> 73.8 | G11: =D11/1000 -> 273.7
A12: 昭.52(1977) | B12: 413700 | C12: 84300 | D12: 329400 | E12: =B12/1000 -> 413.7 | F12: =C12/1000 -> 84.3 | G12: =D12/1000 -> 329.4
A13: 昭.53(1978) | B13: 330600 | C13: 72800 | D13: 257800 | E13: =B13/1000 -> 330.6 | F13: =C13/1000 -> 72.8 | G13: =D13/1000 -> 257.8
A14: 昭.54(1979) | B14: 393100 | C14: 89200 | D14: 303900 | E14: =B14/1000 -> 393.1 | F14: =C14/1000 -> 89.2 | G14: =D14/1000 -> 303.9
A15: 昭.55(1980) | B15: 295300 | C15: 73600 | D15: 221700 | E15: =B15/1000 -> 295.3 | F15: =C15/1000 -> 73.6 | G15: =D15/1000 -> 221.7
A16: 昭.56(1981) | B16: 339600 | C16: 88600 | D16: 251000 | E16: =B16/1000 -> 339.6 | F16: =C16/1000 -> 88.6 | G16: =D16/1000 -> 251
A17: 昭.57(1982) | B17: 307500 | C17: 83900 | D17: 223600 | E17: =B17/1000 -> 307.5 | F17: =C17/1000 -> 83.9 | G17: =D17/1000 -> 223.6
A18: 昭.58(1983) | B18: 306600 | C18: 90300 | D18: 216400 | E18: =B18/1000 -> 306.6 | F18: =C18/1000 -> 90.3 | G18: =D18/1000 -> 216.4
A19: 昭.59(1984) | B19: 213100 | C19: 54100 | D19: 159100 | E19: =B19/1000 -> 213.1 | F19: =C19/1000 -> 54.1 | G19: =D19/1000 -> 159.1
... A58: 令.5(2023) | B58: 99800 | C58: 30100 | D58: 69900 | E58: =B58/1000 -> 99.8 | F58: =C58/1000 -> 30.1 | G58: =D58/1000 -> 69.9
A59: =静岡!A59 -> 令.6(2024) | B59: =静岡!C59 -> 88500

Sheet R5統計表（みかん（計）)
A3: ３ 令和５年産都道府県別の結果樹面積・10ａ当たり収量・収穫量・出荷量
A5: (1) みかん
A6: ア 計
B8: 全国 ・ 都道府県 | E8: 結果樹 面積 | F8: 10ａ当たり 収量 | G8: 収穫量 | H8: 出荷量 | I8: 対前年産比
I9: 結果樹 面積 | J9: 10ａ当たり 収量 | K9: 収穫量 | L9: 出荷量
E11: ha | F11: kg | G11: ｔ | H11: ｔ | I11: ％ | J11: ％ | K11: ％ | L11: ％
B12: 全国 | E12: 35400 | F12: 1930 | G12: 681600 | H12: 617100 | I12: 98 | J12: 103 | K12: 100 | L12: 101
B14: うち | C14: 千葉 | E14: 85 | F14: 1160 | G14: 986 | H14: 920 | I14: 89 | J14: 109 | K14: 98 | L14: 98
C15: 神奈川 | E15: 1010 | F15: 1300 | G15: 13100 | H15: 12000 | I15: 98 | J15: 107 | K15: 104 | L15: 101
C16: 静岡 | E16: 4800 | F16: 2080 | G16: 99800 | H16: 90600 | I16: 98 | J16: 99 | K16: 97 | L16: 102
C17: 愛知 | E17: 1060 | F17: 2060 | G17: 21800 | H17: 19900 | I17: 99 | J17: 91 | K17: 90 | L17: 90
C18: 三重 | E18: 931 | F18: 1750 | G18: 16300 | H18: 14600 | I18: 98 | J18: 109 | K18: 107 | L18: 107
C19: 大阪 | E19: 675 | F19: 1700 | G19: 11500 | H19: 10300 | I19: 99 | J19: 92 | K19: 92 | L19: 92
C20: 和歌山 | E20: 6630 | F20: 2170 | G20: 143900 | H20: 129900 | I20: 99 | J20: 96 | K20: 94 | L20: 94
C21: 広島 | E21: 1480 | F21: 1050 | G21: 15600 | H21: 13300 | I21: 95 | J21: 99 | K21: 95 | L21: 95
C22: 山口 | E22: 618 | F22: 845 | G22: 5220 | H22: 4630 | I22: 97 | J22: 81 | K22: 79 | L22: 79
C23: 徳島 | E23: 649 | F23: 1460 | G23: 9470 | H23: 8540 | I23: 100 | J23: 105 | K23: 105 | L23: 104
C24: 香川 | E24: 899 | F24: 1100 | G24: 9890 | H24: 8880 | I24: 96 | J24: 103 | K24: 99 | L24: 99
C25: 愛媛 | E25: 5190 | F25: 2140 | G25: 111100 | H25: 103800 | I25: 97 | J25: 104 | K25: 102 | L25: 103
C26: 高知 | E26: 266 | F26: 2380 | G26: 6330 | H26: 5720 | I26: 97 | J26: 117 | K26: 114 | L26: 115
... C33: 鹿児島 | E33: 767 | F33: 1620 | G33: 12400 | H33: 10700 | I33: 99 | J33: 130 | K33: 128 | L33: 133

Sheet R6統計表（計早生普通）) 
A3: ３ 令和６年産都道府県別の結果樹面積・10ａ当たり収量・収穫量・出荷量 | N3: ３ 令和６年産都道府県別の結果樹面積・10ａ当たり収量・収穫量・出荷量 | AA3: ３ 令和６年産都道府県別の結果樹面積・10ａ当たり収量・収穫量・出荷量
A5: (1) みかん | N5: (1) みかん | AA5: (1) みかん
A6: ア 計 | N6: イ 早生温州 | AA6: オ 普通温州
B8: 全国 ・ 都道府県 | E8: 結果樹 面積 | F8: 10ａ当たり 収量 | G8: 収穫量 | H8: 出荷量 | I8: 対前年産比 | O8: 全国 ・ 都道府県 | R8: 結果樹 面積 | S8: 10ａ当たり 収量 | T8: 収穫量 | U8: 出荷量 | V8: 対前年産比 | AB8: 全国 ・ 都道府県 | AE8: 結果樹 面積 | AF8: 10ａ当たり 収量 | AG8: 収穫量 | AH8: 出荷量 | AI8: 対前年産比
I9: 結果樹 面積 | J9: 10ａ当たり 収量 | K9: 収穫量 | L9: 出荷量 | V9: 結果樹 面積 | W9: 10ａ当たり 収量 | X9: 収穫量 | Y9: 出荷量 | AI9: 結果樹 面積 | AJ9: 10ａ当たり 収量 | AK9: 収穫量 | AL9: 出荷量
E11: ha | F11: kg | G11: ｔ | H11: ｔ | I11: ％ | J11: ％ | K11: ％ | L11: ％ | R11: ha | S11: kg | T11: ｔ | U11: ｔ | V11: ％ | W11: ％ | X11: ％ | Y11: ％ | AE11: ha | AF11: kg | AG11: ｔ | AH11: ｔ | AI11: ％ | AJ11: ％ | AK11: ％ | AL11: ％
B12: 全国 | E12: 34500 | F12: 1620 | G12: 559600 | H12: 510900 | I12: 97 | J12: 84 | K12: 82 | L12: 83 | O12: 全国 | R12: 19400 | S12: 1680 | T12: 325800 | U12: 299900 | V12: 98 | W12: 82 | X12: 81 | Y12: 81 | AB12: 全国 | AE12: 15200 | AF12: 1540 | AG12: 233800 | AH12: 211000 | AI12: 98 | AJ12: 86 | AK12: 84 | AL12: 85
B14: うち | C14: 千葉 | E14: 78 | F14: 965 | G14: 753 | H14: 694 | I14: 92 | J14: 83 | K14: 76 | L14: 75 | O14: うち | P14: 千葉 | R14: 42 | S14: 990 | T14: 416 | U14: 383 | V14: 91 | W14: 84 | X14: 77 | Y14: 75 | AB14: うち | AC14: 千葉 | AE14: 36 | AF14: 936 | AG14: 337 | AH14: 311 | AI14: 92 | AJ14: 82 | AK14: 76 | AL14: 76
C15: 神奈川 | E15: 980 | F15: 953 | G15: 9340 | H15: 8400 | I15: 97 | J15: 73 | K15: 71 | L15: 70 | P15: 神奈川 | R15: 184 | S15: 1170 | T15: 2150 | U15: 1980 | V15: 97 | W15: 78 | X15: 76 | Y15: 76 | AC15: 神奈川 | AE15: 796 | AF15: 903 | AG15: 7190 | AH15: 6420 | AI15: 97 | AJ15: 72 | AK15: 70 | AL15: 69
C16: 静岡 | E16: 4730 | F16: 1870 | G16: 88500 | H16: 80200 | I16: 99 | J16: 90 | K16: 89 | L16: 89 | P16: 静岡 | R16: 1310 | S16: 1860 | T16: 24400 | U16: 22400 | V16: 99 | W16: 82 | X16: 81 | Y16: 81 | AC16: 静岡 | AE16: 3420 | AF16: 1870 | AG16: 64000 | AH16: 57800 | AI16: 98 | AJ16: 93 | AK16: 92 | AL16: 92
C17: 愛知 | E17: 1040 | F17: 1880 | G17: 19600 | H17: 17700 | I17: 98 | J17: 91 | K17: 90 | L17: 89 | P17: 愛知 | R17: 723 | S17: 1970 | T17: 14200 | U17: 12900 | V17: 98 | W17: 89 | X17: 87 | Y17: 86 | AC17: 愛知 | AE17: 318 | AF17: 1670 | AG17: 5310 | AH17: 4750 | AI17: 98 | AJ17: 99 | AK17: 97 | AL17: 98
C18: 三重 | E18: 927 | F18: 1320 | G18: 12200 | H18: 10800 | I18: 100 | J18: 75 | K18: 75 | L18: 74 | P18: 三重 | R18: 694 | S18: 1400 | T18: 9720 | U18: 8650 | V18: 100 | W18: 74 | X18: 74 | Y18: 73 | AC18: 三重 | AE18: 233 | AF18: 1090 | AG18: 2540 | AH18: 2120 | AI18: 98 | AJ18: 82 | AK18: 80 | AL18: 79
C19: 大阪 | E19: 640 | F19: 1610 | G19: 10300 | H19: 9440 | I19: 95 | J19: 95 | K19: 90 | L19: 92 | P19: 大阪 | R19: 461 | S19: 1680 | T19: 7740 | U19: 7190 | V19: 94 | W19: 97 | X19: 91 | Y19: 93 | AC19: 大阪 | AE19: 179 | AF19: 1430 | AG19: 2560 | AH19: 2250 | AI19: 97 | AJ19: 86 | AK19: 84 | AL19: 86
C20: 和歌山 | E20: 6560 | F20: 2160 | G20: 141700 | H20: 130600 | I20: 99 | J20: 100 | K20: 98 | L20: 101 | P20: 和歌山 | R20: 3970 | S20: 2180 | T20: 86500 | U20: 80300 | V20: 99 | W20: 96 | X20: 95 | Y20: 97 | AC20: 和歌山 | AE20: 2590 | AF20: 2130 | AG20: 55200 | AH20: 50300 | AI20: 99 | AJ20: 105 | AK20: 104 | AL20: 106
C21: 広島 | E21: 1420 | F21: 780 | G21: 11100 | H21: 9460 | I21: 96 | J21: 74 | K21: 71 | L21: 71 | P21: 広島 | R21: 837 | S21: 820 | T21: 6860 | U21: 5800 | V21: 96 | W21: 76 | X21: 73 | Y21: 73 | AC21: 広島 | AE21: 586 | AF21: 721 | AG21: 4230 | AH21: 3660 | AI21: 97 | AJ21: 71 | AK21: 68 | AL21: 68
C22: 山口 | E22: 598 | F22: 773 | G22: 4620 | H22: 4100 | I22: 97 | J22: 91 | K22: 89 | L22: 89 | P22: 山口 | R22: 150 | S22: 749 | T22: 1120 | U22: 990 | V22: 94 | W22: 88 | X22: 82 | Y22: 83 | AC22: 山口 | AE22: 448 | AF22: 781 | AG22: 3500 | AH22: 3110 | AI22: 98 | AJ22: 93 | AK22: 91 | AL22: 91
C23: 徳島 | E23: 640 | F23: 1240 | G23: 7940 | H23: 7230 | I23: 99 | J23: 85 | K23: 84 | L23: 85 | P23: 徳島 | R23: 222 | S23: 1710 | T23: 3800 | U23: 3460 | V23: 99 | W23: 87 | X23: 86 | Y23: 88 | AC23: 徳島 | AE23: 418 | AF23: 990 | AG23: 4140 | AH23: 3770 | AI23: 98 | AJ23: 83 | AK23: 82 | AL23: 82
C24: 香川 | E24: 858 | F24: 1060 | G24: 9090 | H24: 8140 | I24: 95 | J24: 96 | K24: 92 | L24: 92 | P24: 香川 | R24: 491 | S24: 1090 | T24: 5350 | U24: 4820 | V24: 98 | W24: 96 | X24: 95 | Y24: 95 | AC24: 香川 | AE24: 367 | AF24: 1010 | AG24: 3710 | AH24: 3320 | AI24: 92 | AJ24: 95 | AK24: 88 | AL24: 87
C25: 愛媛 | E25: 5060 | F25: 1500 | G25: 76100 | H25: 71400 | I25: 97 | J25: 70 | K25: 68 | L25: 69 | P25: 愛媛 | R25: 3010 | S25: 1580 | T25: 47600 | U25: 44600 | V25: 97 | W25: 69 | X25: 67 | Y25: 67 | AC25: 愛媛 | AE25: 2050 | AF25: 1390 | AG25: 28500 | AH25: 26800 | AI25: 98 | AJ25: 73 | AK25: 71 | AL25: 72
C26: 高知 | E26: 257 | F26: 1810 | G26: 4650 | H26: 4190 | I26: 97 | J26: 76 | K26: 73 | L26: 73 | P26: 高知 | R26: 218 | S26: 1880 | T26: 4100 | U26: 3680 | V26: 96 | W26: 77 | X26: 75 | Y26: 74 | AC26: 高知 | AE26: 39 | AF26: 1430 | AG26: 558 | AH26: 510 | AI26: 98 | AJ26: 68 | AK26: 66 | AL26: 66
... C33: 鹿児島 | E33: 754 | F33: 1260 | G33: 9500 | H33: 8150 | I33: 98 | J33: 78 | K33: 77 | L33: 76 | P33: 鹿児島 | R33: 690 | S33: 1290 | T33: 8900 | U33: 7640 | V33: 98 | W33: 79 | X33: 77 | Y33: 77 | AC33: 鹿児島 | AE33: 64 | AF33: 972 | AG33: 622 | AH33: 510 | AI33: 97 | AJ33: 68 | AK33: 66 | AL33: 66
N36: ３ 令和６年産都道府県別の結果樹面積・10ａ当たり収量・収穫量・出荷量
N38: (1) みかん
N39: ウ 早生温州のうち極早生みかん
O41: 全国 ・ 都道府県 | R41: 結果樹 面積 | S41: 10ａ当たり 収量 | T41: 収穫量 | U41: 出荷量 | V41: 対前年産比
V42: 結果樹 面積 | W42: 10ａ当たり 収量 | X42: 収穫量 | Y42: 出荷量
R44: ha | S44: kg | T44: ｔ | U44: ｔ | V44: ％ | W44: ％ | X44: ％ | Y44: ％
O45: 全国 | R45: 5430 | S45: 1610 | T45: 87600 | U45: 81100 | V45: 97 | W45: 81 | X45: 79 | Y45: 79
O47: うち | P47: 千葉 | R47: - | S47: - | T47: - | U47: - | V47: nc | W47: nc | X47: nc | Y47: nc
P48: 神奈川 | R48: 24 | S48: 1160 | T48: 278 | U48: 243 | V48: 96 | W48: 84 | X48: 81 | Y48: 80
P49: 静岡 | R49: 244 | S49: 1930 | T49: 4710 | U49: 4370 | V49: 101 | W49: 81 | X49: 82 | Y49: 82
P50: 愛知 | R50: 24 | S50: 1520 | T50: 365 | U50: 339 | V50: 109 | W50: 88 | X50: 96 | Y50: 95
P51: 三重 | R51: 314 | S51: 1530 | T51: 4800 | U51: 4360 | V51: 101 | W51: 71 | X51: 71 | Y51: 70
P52: 大阪 | R52: 9 | S52: 1590 | T52: 143 | U52: 130 | V52: 100 | W52: 97 | X52: 97 | Y52: 100
P53: 和歌山 | R53: 844 | S53: 2140 | T53: 18100 | U53: 17000 | V53: 99 | W53: 93 | X53: 92 | Y53: 93
P54: 広島 | R54: 231 | S54: 1260 | T54: 2910 | U54: 2510 | V54: 96 | W54: 94 | X54: 90 | Y54: 90
P55: 山口 | R55: 3 | S55: 1000 | T55: 30 | U55: 29 | V55: 100 | W55: 111 | X55: 111 | Y55: 112
P56: 徳島 | R56: - | S56: - | T56: - | U56: - | V56: nc | W56: nc | X56: nc | Y56: nc
P57: 香川 | R57: 141 | S57: 1350 | T57: 1900 | U57: 1720 | V57: 99 | W57: 97 | X57: 96 | Y57: 97
P58: 愛媛 | R58: 850 | S58: 1490 | T58: 12700 | U58: 12000 | V58: 98 | W58: 66 | X58: 65 | Y58: 65
P59: 高知 | R59: - | S59: - | T59: - | U59: - | V59: nc | W59: nc | X59: nc | Y59: nc
P60: 福岡 | R60: 275 | S60: 1240 | T60: 3410 | U60: 3230 | V60: 98 | W60: 86 | X60: 83 | Y60: 83
P61: 佐賀 | R61: 539 | S61: 1620 | T61: 8730 | U61: 8080 | V61: 93 | W61: 83 | X61: 77 | Y61: 77
P62: 長崎 | R62: 380 | S62: 1570 | T62: 5970 | U62: 5600 | V62: 94 | W62: 75 | X62: 71 | Y62: 73
P63: 熊本 | R63: 753 | S63: 1890 | T63: 14200 | U63: 13200 | V63: 98 | W63: 88 | X63: 85 | Y63: 85
P64: 大分 | R64: 123 | S64: 1370 | T64: 1690 | U64: 1530 | V64: 98 | W64: 84 | X64: 83 | Y64: 83
P65: 宮崎 | R65: 319 | S65: 1190 | T65: 3800 | U65: 3380 | V65: 100 | W65: 80 | X65: 80 | Y65: 80
P66: 鹿児島 | R66: 327 | S66: 1110 | T66: 3630 | U66: 3160 | V66: 97 | W66: 69 | X66: 67 | Y66: 67
N71: ３ 令和６年産都道府県別の結果樹面積・10ａ当たり収量・収穫量・出荷量
N73: (1) みかん
N74: エ 早生温州のうちハウスみかん
O76: 全国 ・ 都道府県 | R76: 結果樹 面積 | S76: 10ａ当たり 収量 | T76: 収穫量 | U76: 出荷量 | V76: 対前年産比
V77: 結果樹 面積 | W77: 10ａ当たり 収量 | X77: 収穫量 | Y77: 出荷量
R79: ha | S79: kg | T79: ｔ | U79: ｔ | V79: ％ | W79: ％ | X79: ％ | Y79: ％
O80: 全国 | R80: 307 | S80: 4690 | T80: 14400 | U80: 13900 | V80: 94 | W80: 93 | X80: 88 | Y80: 88
O82: うち | P82: 千葉 | R82: - | S82: - | T82: - | U82: - | V82: nc | W82: nc | X82: nc | Y82: nc
P83: 神奈川 | R83: 3 | S83: 3670 | T83: 110 | U83: 107 | V83: 75 | W83: 90 | X83: 67 | Y83: 67
P84: 静岡 | R84: 10 | S84: 4020 | T84: 402 | U84: 386 | V84: 91 | W84: 98 | X84: 89 | Y84: 89
P85: 愛知 | R85: 76 | S85: 5090 | T85: 3870 | U85: 3700 | V85: 97 | W85: 97 | X85: 94 | Y85: 94
P86: 三重 | R86: 5 | S86: 3300 | T86: 165 | U86: 157 | V86: 83 | W86: 75 | X86: 63 | Y86: 63
P87: 大阪 | R87: - | S87: - | T87: - | U87: - | V87: nc | W87: nc | X87: nc | Y87: nc
P88: 和歌山 | R88: 11 | S88: 4320 | T88: 475 | U88: 456 | V88: 100 | W88: 99 | X88: 99 | Y88: 99
P89: 広島 | R89: x | S89: x | T89: x | U89: x | V89: x | W89: x | X89: x | Y89: x
P90: 山口 | R90: - | S90: - | T90: - | U90: - | V90: nc | W90: nc | X90: nc | Y90: nc
P91: 徳島 | R91: 13 | S91: 4020 | T91: 523 | U91: 515 | V91: 100 | W91: 91 | X91: 91 | Y91: 91
P92: 香川 | R92: 2 | S92: 3950 | T92: 79 | U92: 69 | V92: 100 | W92: 96 | X92: 96 | Y92: 96
P93: 愛媛 | R93: 11 | S93: 3800 | T93: 418 | U93: 402 | V93: 85 | W93: 101 | X93: 86 | Y93: 86
P94: 高知 | R94: 17 | S94: 5340 | T94: 908 | U94: 881 | V94: 94 | W94: 100 | X94: 95 | Y94: 95
P95: 福岡 | R95: 2 | S95: 4380 | T95: 92 | U95: 88 | V95: 100 | W95: 86 | X95: 86 | Y95: 86
P96: 佐賀 | R96: 94 | S96: 5170 | T96: 4860 | U96: 4680 | V96: 90 | W96: 91 | X96: 82 | Y96: 82
P97: 長崎 | R97: 17 | S97: 3250 | T97: 553 | U97: 526 | V97: 113 | W97: 80 | X97: 90 | Y97: 89
P98: 熊本 | R98: 8 | S98: 5410 | T98: 433 | U98: 405 | V98: 89 | W98: 104 | X98: 92 | Y98: 92
P99: 大分 | R99: 27 | S99: 4180 | T99: 1130 | U99: 1080 | V99: 100 | W99: 92 | X99: 92 | Y99: 92
P100: 宮崎 | R100: 4 | S100: 3800 | T100: 152 | U100: 143 | V100: 100 | W100: 90 | X100: 90 | Y100: 89
P101: 鹿児島 | R101: 7 | S101: 3530 | T101: 247 | U101: 236 | V101: 70 | W101: 104 | X101: 73 | Y101: 73

Sheet みかん計（全国・静岡）
A1: 果樹生産出荷統計 | G1: 果樹生産出荷統計
A2: 品目別結果樹面積、収穫量及び出荷量累年統計 | G2: 品目別結果樹面積、収穫量及び出荷量累年統計
A3: みかん計 | G3: みかん計
A4: 全国 | G4: 静岡
A5: 年次 | B5: みかん計 | G5: 年次 | H5: みかん計
B6: 結果樹面積 | C6: 収穫量 | D6: 出荷量 | H6: 結果樹面積 | I6: 収穫量 | J6: 出荷量
B7: ha | C7: t | D7: t | H7: ha | I7: t | J7: t
A8: 平.29(2017) | B8: =全国!B52 -> 40600 | C8: =全国!C52 -> 741300 | D8: =全国!D52 -> 661300 | G8: 平.29(2017) | H8: =静岡!B52 -> 5170 | I8: =静岡!C52 -> 81700 | J8: =静岡!D52 -> 71700
A9: 平.30(2018) | B9: =全国!B53 -> 39600 | C9: =全国!C53 -> 773700 | D9: =全国!D53 -> 691200 | G9: 平.30(2018) | H9: =静岡!B53 -> 5110 | I9: =静岡!C53 -> 114500 | J9: =静岡!D53 -> 100500
A10: 令.元(2019) | B10: =全国!B54 -> 38700 | C10: =全国!C54 -> 746700 | D10: =全国!D54 -> 668400 | G10: 令.元(2019) | H10: =静岡!B54 -> 5080 | I10: =静岡!C54 -> 85900 | J10: =静岡!D54 -> 75500
A11: 令.2(2020) | B11: =全国!B55 -> 37800 | C11: =全国!C55 -> 765800 | D11: =全国!D55 -> 690000 | G11: 令.2(2020) | H11: =静岡!B55 -> 4990 | I11: =静岡!C55 -> 119800 | J11: =静岡!D55 -> 108600
A12: 令.3(2021) | B12: =全国!B56 -> 37000 | C12: =全国!C56 -> 749000 | D12: =全国!D56 -> 676900 | G12: 令.3(2021) | H12: =静岡!B56 -> 4920 | I12: =静岡!C56 -> 99700 | J12: =静岡!D56 -> 90400
A13: 令.4(2022) | B13: =全国!B57 -> 36200 | C13: =全国!C57 -> 682200 | D13: =全国!D57 -> 613000 | G13: 令.4(2022) | H13: =静岡!B57 -> 4880 | I13: =静岡!C57 -> 103000 | J13: =静岡!D57 -> 88900
A14: 令.5(2023) | B14: =全国!B58 -> 35400 | C14: =全国!C58 -> 681600 | D14: =全国!D58 -> 617100 | G14: 令.5(2023) | H14: =静岡!B58 -> 4800 | I14: =静岡!C58 -> 99800 | J14: =静岡!D58 -> 90600
A15: 令.6(2024) | B15: =全国!B59 -> 34500 | C15: =全国!C59 -> 559600 | D15: =全国!D59 -> 510900 | G15: 令.6(2024) | H15: =静岡!B59 -> 4730 | I15: =静岡!C59 -> 88500 | J15: =静岡!D59 -> 80200
