Workbook

Sheet 切き類グラフ（静岡）
A1: 花き生産出荷統計
A2: 切り花類+鉢もの類+花壇用苗もの類の主な品目
A3: 品目別作付面積及び出荷量累年統計
A4: 静岡
A5: 年次 | B5: きく | C5: きく | D5: カーネーション | E5: カーネーション | F5: ばら | G5: ばら | H5: ガーベラ | I5: ガーベラ | J5: トルコギキョウ | K5: トルコギキョウ | L5: 切り枝 | M5: 切り枝 | N5: 洋ラン類 | O5: 洋ラン類 | P5: 観葉植物 | Q5: 観葉植物 | R5: 花木類 | S5: 花木類 | T5: パンジー | U5: パンジー
B6: 作付面積 | C6: 出荷量 | D6: 作付面積 | E6: 出荷量 | F6: 作付面積 | G6: 出荷量 | H6: 作付面積 | I6: 出荷量 | J6: 作付面積 | K6: 出荷量 | L6: 作付面積 | M6: 出荷量 | N6: 収穫面積 | O6: 出荷量 | P6: 収穫面積 | Q6: 出荷量 | R6: 収穫面積 | S6: 出荷量 | T6: 作付面積 | U6: 出荷量
B7: 計 | C7: 計 | D7: 計 | E7: 計 | F7: 計 | G7: 計 | H7: 計 | I7: 計 | J7: 計 | K7: 計 | L7: 計 | M7: 計 | N7: 計 | O7: 計 | P7: 計 | Q7: 計 | R7: 計 | S7: 計 | T7: 計 | U7: 計
B8: ha | C8: 1000本 | D8: ha | E8: 1000本 | F8: ha | G8: 1000本 | H8: ha | I8: 1000本 | J8: ha | K8: 1000本 | L8: ha | M8: 1000本 | N8: a | O8: 1000鉢 | P8: a | Q8: 1000鉢 | R8: a | S8: 1000鉢 | T8: a | U8: 1000本
A9: ='切り花類（静岡）'!A3 -> 品目別作付面積及び出荷量累年統計
A11: ='切り花類（静岡）'!A23 -> 平.2(1990) | B11: ='切り花類（静岡）'!N23*100 -> 26000 | C11: ='切り花類（静岡）'!Q23 -> 96900 | D11: ='切り花類（静岡） (2)'!F23*100 -> 2800 | E11: ='切り花類（静岡） (2)'!G23 -> 33700 | F11: ='切り花類（静岡） (2)'!H23*100 -> 4900 | G11: ='切り花類（静岡） (2)'!I23 -> 43000 | H11: ='切り花類（静岡） (2)'!J23*100 -> 1100 | I11: ='切り花類（静岡） (2)'!K23 -> 12600 | J11: ='切り花類（静岡） (2)'!L23*100 -> 900 | K11: ='切り花類（静岡） (2)'!M23 -> 3680 | L11: ='切り花類（静岡） (2)'!N23*100 -> 36400 | M11: ='切り花類（静岡） (2)'!O23 -> 29700 | N11: ='鉢もの類（静岡） (2)'!D23 -> 976 | O11: ='鉢もの類（静岡） (2)'!E23 -> 873 | P11: ='鉢もの類（静岡） (2)'!F23 -> 1800 | Q11: ='鉢もの類（静岡） (2)'!G23 -> 1980 | R11: ='鉢もの類（静岡） (2)'!H23 -> 285 | S11: ='鉢もの類（静岡） (2)'!I23 -> 411 | T11: ='花壇用苗もの類（静岡） (2)'!D23 -> 234 | U11: ='花壇用苗もの類（静岡） (2)'!E23 -> 1190
A12: ='切り花類（静岡）'!A33 -> 平.12(2000) | B12: ='切り花類（静岡）'!N33*100 -> 29700 | C12: ='切り花類（静岡）'!Q33 -> 90600 | D12: ='切り花類（静岡） (2)'!F33*100 -> 1800 | E12: ='切り花類（静岡） (2)'!G33 -> 21900 | F12: ='切り花類（静岡） (2)'!H33*100 -> 6400 | G12: ='切り花類（静岡） (2)'!I33 -> 54100 | H12: ='切り花類（静岡） (2)'!J33*100 -> 2800 | I12: ='切り花類（静岡） (2)'!K33 -> 62700 | J12: ='切り花類（静岡） (2)'!L33*100 -> 2100 | K12: ='切り花類（静岡） (2)'!M33 -> 8450 | L12: ='切り花類（静岡） (2)'!N33*100 -> 54600 | M12: ='切り花類（静岡） (2)'!O33 -> 46600 | N12: ='鉢もの類（静岡） (2)'!D33 -> 1740 | O12: ='鉢もの類（静岡） (2)'!E33 -> 1480 | P12: ='鉢もの類（静岡） (2)'!F33 -> 2340 | Q12: ='鉢もの類（静岡） (2)'!G33 -> 4510 | R12: ='鉢もの類（静岡） (2)'!H33 -> 2080 | S12: ='鉢もの類（静岡） (2)'!I33 -> 2310 | T12: ='花壇用苗もの類（静岡） (2)'!D33 -> 2240 | U12: ='花壇用苗もの類（静岡） (2)'!E33 -> 7670
A13: 平.22(2010) | B13: 17200 | C13: 50800 | D13: 979 | E13: 12500 | F13: 4330 | G13: 29400 | H13: 2700 | I13: 61100 | J13: 1900 | K13: 5980 | L13: 43000 | M13: 33500 | N13: 1110 | O13: 1020 | P13: 2110 | Q13: 3950 | R13: 1380 | S13: 2480 | T13: 1260 | U13: 5510
A14: 平.23(2011) | B14: 16900 | C14: 49700 | D14: 947 | E14: 12000 | F14: 4050 | G14: 26100 | H14: 2690 | I14: 60900 | J14: 1910 | K14: 5740 | L14: 42500 | M14: 33300 | N14: 1100 | O14: 1000 | P14: 1960 | Q14: 3480 | R14: 1410 | S14: 2540 | T14: 1290 | U14: 5800
A15: 平.24(2012) | B15: 16600 | C15: 48000 | D15: 895 | E15: 11600 | F15: 3960 | G15: 24400 | H15: 2730 | I15: 61400 | J15: 1870 | K15: 5720 | L15: 43000 | M15: 33500 | N15: 914 | O15: 929 | P15: 2030 | Q15: 3510 | R15: 1530 | S15: 2600 | T15: 1220 | U15: 5550
A16: 平.25(2013) | B16: 16500 | C16: 48400 | D16: 861 | E16: 11300 | F16: 3790 | G16: 24800 | H16: 2850 | I16: 62800 | J16: 1920 | K16: 5680 | L16: 43200 | M16: 31900 | N16: 896 | O16: 830 | P16: 2110 | Q16: 3730 | R16: 1490 | S16: 2690 | T16: 1210 | U16: 5400
A17: 平.26(2014) | B17: 16500 | C17: 48700 | D17: 795 | E17: 10500 | F17: 3690 | G17: 23800 | H17: 2870 | I17: 63000 | J17: 1850 | K17: 5300 | L17: 43500 | M17: 32300 | N17: 899 | O17: 828 | P17: 2150 | Q17: 3760 | R17: 1490 | S17: 2590 | T17: 1170 | U17: 5340
A18: 平.27(2015) | B18: 16100 | C18: 47300 | D18: 788 | E18: 10200 | F18: 3640 | G18: 22900 | H18: 2850 | I18: 62500 | J18: 1850 | K18: 4960 | L18: 43500 | M18: 32300 | N18: 879 | O18: 768 | P18: 2060 | Q18: 3570 | R18: 1280 | S18: 2370 | T18: 1090 | U18: 5000
A19: 平.28(2016) | B19: 16000 | C19: 46500 | D19: 787 | E19: 10200 | F19: 3530 | G19: 22300 | H19: 2860 | I19: 62900 | J19: 1900 | K19: 4940 | L19: 42700 | M19: 32000 | N19: 895 | O19: 791 | P19: 2180 | Q19: 3620 | R19: 1290 | S19: 2400 | T19: 1110 | U19: 5310
A20: 平.29(2017) | B20: 15900 | C20: 45300 | D20: 780 | E20: 10100 | F20: 3430 | G20: 21500 | H20: 2820 | I20: 62000 | J20: 1800 | K20: 4810 | L20: 42100 | M20: 31300 | N20: 886 | O20: 717 | P20: 2180 | Q20: 4210 | R20: 1290 | S20: 2330 | T20: 1100 | U20: 5310
A21: 平.30(2018) | B21: 15600 | C21: 43700 | D21: 780 | E21: 9670 | F21: 3400 | G21: 20500 | H21: 2730 | I21: 59000 | J21: 1750 | K21: 4670 | L21: 42700 | M21: 31800 | N21: 882 | O21: 687 | P21: 2180 | Q21: 4400 | R21: 1290 | S21: 2220 | T21: 1100 | U21: 5190
A22: 令.元(2019) | B22: 15500 | C22: 45300 | D22: 768 | E22: 9370 | F22: 3000 | G22: 20000 | H22: 2560 | I22: 56300 | J22: 1650 | K22: 4410 | L22: 41900 | M22: 31500 | N22: 867 | O22: 746 | P22: 2180 | Q22: 4880 | R22: 1290 | S22: 2220 | T22: 1100 | U22: 5120
A23: 令.2(2020) | B23: 15200 | C23: 44400 | D23: 742 | E23: 9050 | F23: 2940 | G23: 19200 | H23: 2450 | I23: 52900 | J23: 1630 | K23: 4140 | L23: 42100 | M23: 31200 | N23: 833 | O23: 593 | P23: 2180 | Q23: 4970 | R23: 1290 | S23: 2140 | T23: 1060 | U23: 4990
A24: 令.3(2021) | B24: 15100 | C24: 44100 | D24: 710 | E24: 8660 | F24: 2920 | G24: 19200 | H24: 2410 | I24: 52300 | J24: 1630 | K24: 4120 | L24: 42400 | M24: 31500 | N24: 804 | O24: 525 | P24: 2220 | Q24: 5190 | R24: 1290 | S24: 2090 | T24: 1040 | U24: 4880
... A27: 令.6(2024) | B27: 14100 | C27: 38100 | D27: 643 | E27: 6820 | F27: 2600 | G27: 15800 | H27: 2200 | I27: 45800 | J27: 1570 | K27: 3610 | L27: 42800 | M27: 31300 | N27: 748 | O27: 365 | P27: 2210 | Q27: 5040 | R27: 1230 | S27: 1930 | T27: 966 | U27: 3790

Sheet 切り花類（静岡）
A1: 花き生産出荷統計
A2: 切り花類
A3: 品目別作付面積及び出荷量累年統計
A4: 静岡
A5: 年次 | B5: 切り花類 | K5: きく | T5: 大・中輪ぎく | AC5: スプレイぎく | AL5: 小ぎく | AU5: カーネーション | BD5: ばら | BM5: ストック | BV5: りんどう | CE5: 宿根かすみそう | CN5: 洋ラン類 | CW5: スターチス | DF5: ガーベラ | DO5: トルコギキョウ | DX5: ゆり | EG5: アルストロメリア | EP5: 切り葉 | EY5: 切り枝
B6: 栽培農家数 | E6: 作付面積 | H6: 出荷量 | K6: 栽培農家数 | N6: 作付面積 | Q6: 出荷量 | T6: 栽培農家数 | W6: 作付面積 | Z6: 出荷量 | AC6: 栽培農家数 | AF6: 作付面積 | AI6: 出荷量 | AL6: 栽培農家数 | AO6: 作付面積 | AR6: 出荷量 | AU6: 栽培農家数 | AX6: 作付面積 | BA6: 出荷量 | BD6: 栽培農家数 | BG6: 作付面積 | BJ6: 出荷量 | BM6: 栽培農家数 | BP6: 作付面積 | BS6: 出荷量 | BV6: 栽培農家数 | BY6: 作付面積 | CB6: 出荷量 | CE6: 栽培農家数 | CH6: 作付面積 | CK6: 出荷量 | CN6: 栽培農家数 | CQ6: 作付面積 | CT6: 出荷量 | CW6: 栽培農家数 | CZ6: 作付面積 | DC6: 出荷量 | DF6: 栽培農家数 | DI6: 作付面積 | DL6: 出荷量 | DO6: 栽培農家数 | DR6: 作付面積 | DU6: 出荷量 | DX6: 栽培農家数 | EA6: 作付面積 | ED6: 出荷量 | EG6: 栽培農家数 | EJ6: 作付面積 | EM6: 出荷量 | EP6: 栽培農家数 | ES6: 作付面積 | EV6: 出荷量 | EY6: 栽培農家数 | FB6: 作付面積 | FE6: 出荷量
B7: 計 | C7: 露地 | D7: 施設 | E7: 計 | F7: 露地 | G7: 施設 | H7: 計 | I7: 露地 | J7: 施設 | K7: 計 | L7: 露地 | M7: 施設 | N7: 計 | O7: 露地 | P7: 施設 | Q7: 計 | R7: 露地 | S7: 施設 | T7: 計 | U7: 露地 | V7: 施設 | W7: 計 | X7: 露地 | Y7: 施設 | Z7: 計 | AA7: 露地 | AB7: 施設 | AC7: 計 | AD7: 露地 | AE7: 施設 | AF7: 計 | AG7: 露地 | AH7: 施設 | AI7: 計 | AJ7: 露地 | AK7: 施設 | AL7: 計 | AM7: 露地 | AN7: 施設 | AO7: 計 | AP7: 露地 | AQ7: 施設 | AR7: 計 | AS7: 露地 | AT7: 施設 | AU7: 計 | AV7: 露地 | AW7: 施設 | AX7: 計 | AY7: 露地 | AZ7: 施設 | BA7: 計 | BB7: 露地 | BC7: 施設 | BD7: 計 | BE7: 露地 | BF7: 施設 | BG7: 計 | BH7: 露地 | BI7: 施設 | BJ7: 計 | BK7: 露地 | BL7: 施設 | BM7: 計 | BN7: 露地 | BO7: 施設 | BP7: 計 | BQ7: 露地 | BR7: 施設 | BS7: 計 | BT7: 露地 | BU7: 施設 | BV7: 計 | BW7: 露地 | BX7: 施設 | BY7: 計 | BZ7: 露地 | CA7: 施設 | CB7: 計 | CC7: 露地 | CD7: 施設 | CE7: 計 | CF7: 露地 | CG7: 施設 | CH7: 計 | CI7: 露地 | CJ7: 施設 | CK7: 計 | CL7: 露地 | CM7: 施設 | CN7: 計 | CO7: 露地 | CP7: 施設 | CQ7: 計 | CR7: 露地 | CS7: 施設 | CT7: 計 | CU7: 露地 | CV7: 施設 | CW7: 計 | CX7: 露地 | CY7: 施設 | CZ7: 計 | DA7: 露地 | DB7: 施設 | DC7: 計 | DD7: 露地 | DE7: 施設 | DF7: 計 | DG7: 露地 | DH7: 施設 | DI7: 計 | DJ7: 露地 | DK7: 施設 | DL7: 計 | DM7: 露地 | DN7: 施設 | DO7: 計 | DP7: 露地 | DQ7: 施設 | DR7: 計 | DS7: 露地 | DT7: 施設 | DU7: 計 | DV7: 露地 | DW7: 施設 | DX7: 計 | DY7: 露地 | DZ7: 施設 | EA7: 計 | EB7: 露地 | EC7: 施設 | ED7: 計 | EE7: 露地 | EF7: 施設 | EG7: 計 | EH7: 露地 | EI7: 施設 | EJ7: 計 | EK7: 露地 | EL7: 施設 | EM7: 計 | EN7: 露地 | EO7: 施設 | EP7: 計 | EQ7: 露地 | ER7: 施設 | ES7: 計 | ET7: 露地 | EU7: 施設 | EV7: 計 | EW7: 露地 | EX7: 施設 | EY7: 計 | EZ7: 露地 | FA7: 施設 | FB7: 計 | FC7: 露地 | FD7: 施設 | FE7: 計 | FF7: 露地 | FG7: 施設
B8: 戸 | C8: 戸 | D8: 戸 | E8: ha | F8: ha | G8: ha | H8: 1000本 | I8: 1000本 | J8: 1000本 | K8: 戸 | L8: 戸 | M8: 戸 | N8: ha | O8: ha | P8: ha | Q8: 1000本 | R8: 1000本 | S8: 1000本 | T8: 戸 | U8: 戸 | V8: 戸 | W8: ha | X8: ha | Y8: ha | Z8: 1000本 | AA8: 1000本 | AB8: 1000本 | AC8: 戸 | AD8: 戸 | AE8: 戸 | AF8: ha | AG8: ha | AH8: ha | AI8: 1000本 | AJ8: 1000本 | AK8: 1000本 | AL8: 戸 | AM8: 戸 | AN8: 戸 | AO8: ha | AP8: ha | AQ8: ha | AR8: 1000本 | AS8: 1000本 | AT8: 1000本 | AU8: 戸 | AV8: 戸 | AW8: 戸 | AX8: ha | AY8: ha | AZ8: ha | BA8: 1000本 | BB8: 1000本 | BC8: 1000本 | BD8: 戸 | BE8: 戸 | BF8: 戸 | BG8: ha | BH8: ha | BI8: ha | BJ8: 1000本 | BK8: 1000本 | BL8: 1000本 | BM8: 戸 | BN8: 戸 | BO8: 戸 | BP8: ha | BQ8: ha | BR8: ha | BS8: 1000本 | BT8: 1000本 | BU8: 1000本 | BV8: 戸 | BW8: 戸 | BX8: 戸 | BY8: ha | BZ8: ha | CA8: ha | CB8: 1000本 | CC8: 1000本 | CD8: 1000本 | CE8: 戸 | CF8: 戸 | CG8: 戸 | CH8: ha | CI8: ha | CJ8: ha | CK8: 1000本 | CL8: 1000本 | CM8: 1000本 | CN8: 戸 | CO8: 戸 | CP8: 戸 | CQ8: ha | CR8: ha | CS8: ha | CT8: 1000本 | CU8: 1000本 | CV8: 1000本 | CW8: 戸 | CX8: 戸 | CY8: 戸 | CZ8: ha | DA8: ha | DB8: ha | DC8: 1000本 | DD8: 1000本 | DE8: 1000本 | DF8: 戸 | DG8: 戸 | DH8: 戸 | DI8: ha | DJ8: ha | DK8: ha | DL8: 1000本 | DM8: 1000本 | DN8: 1000本 | DO8: 戸 | DP8: 戸 | DQ8: 戸 | DR8: ha | DS8: ha | DT8: ha | DU8: 1000本 | DV8: 1000本 | DW8: 1000本 | DX8: 戸 | DY8: 戸 | DZ8: 戸 | EA8: ha | EB8: ha | EC8: ha | ED8: 1000本 | EE8: 1000本 | EF8: 1000本 | EG8: 戸 | EH8: 戸 | EI8: 戸 | EJ8: ha | EK8: ha | EL8: ha | EM8: 1000本 | EN8: 1000本 | EO8: 1000本 | EP8: 戸 | EQ8: 戸 | ER8: 戸 | ES8: ha | ET8: ha | EU8: ha | EV8: 1000本 | EW8: 1000本 | EX8: 1000本 | EY8: 戸 | EZ8: 戸 | FA8: 戸 | FB8: ha | FC8: ha | FD8: ha | FE8: 1000本 | FF8: 1000本 | FG8: 1000本
A9: 昭.51(1976) | B9: … | C9: … | D9: … | E9: … | F9: … | G9: … | H9: … | I9: … | J9: … | K9: 2710 | L9: 2040 | M9: 935 | N9: 229 | O9: 154 | P9: 75 | Q9: 98800 | R9: 62700 | S9: 36100 | T9: … | U9: … | V9: … | W9: … | X9: … | Y9: … | Z9: … | AA9: … | AB9: … | AC9: … | AD9: … | AE9: … | AF9: … | AG9: … | AH9: … | AI9: … | AJ9: … | AK9: … | AL9: … | AM9: … | AN9: … | AO9: … | AP9: … | AQ9: … | AR9: … | AS9: … | AT9: … | AU9: 243 | AV9: - | AW9: 243 | AX9: 23 | AY9: - | AZ9: 23 | BA9: 37900 | BB9: - | BC9: 37900 | BD9: 153 | BE9: - | BF9: 153 | BG9: 24 | BH9: - | BI9: 24 | BJ9: 26700 | BK9: - | BL9: 26700 | BM9: … | BN9: … | BO9: … | BP9: … | BQ9: … | BR9: … | BS9: … | BT9: … | BU9: … | BV9: … | BW9: … | BX9: … | BY9: … | BZ9: … | CA9: … | CB9: … | CC9: … | CD9: … | CE9: … | CF9: … | CG9: … | CH9: … | CI9: … | CJ9: … | CK9: … | CL9: … | CM9: … | CN9: … | CO9: … | CP9: … | CQ9: … | CR9: … | CS9: … | CT9: … | CU9: … | CV9: … | CW9: … | CX9: … | CY9: … | CZ9: … | DA9: … | DB9: … | DC9: … | DD9: … | DE9: … | DF9: … | DG9: … | DH9: … | DI9: … | DJ9: … | DK9: … | DL9: … | DM9: … | DN9: … | DO9: … | DP9: … | DQ9: … | DR9: … | DS9: … | DT9: … | DU9: … | DV9: … | DW9: … | DX9: 87 | DY9: 12 | DZ9: 76 | EA9: 2 | EB9: 0 | EC9: 2 | ED9: 1170 | EE9: 171 | EF9: 997 | EG9: … | EH9: … | EI9: … | EJ9: … | EK9: … | EL9: … | EM9: … | EN9: … | EO9: … | EP9: … | EQ9: … | ER9: … | ES9: … | ET9: … | EU9: … | EV9: … | EW9: … | EX9: … | EY9: … | EZ9: … | FA9: … | FB9: … | FC9: … | FD9: … | FE9: … | FF9: … | FG9: …
A10: 昭.52(1977) | B10: … | C10: … | D10: … | E10: … | F10: … | G10: … | H10: … | I10: … | J10: … | K10: 2860 | L10: 2210 | M10: 950 | N10: 237 | O10: 159 | P10: 78 | Q10: 102900 | R10: 65900 | S10: 37000 | T10: … | U10: … | V10: … | W10: … | X10: … | Y10: … | Z10: … | AA10: … | AB10: … | AC10: … | AD10: … | AE10: … | AF10: … | AG10: … | AH10: … | AI10: … | AJ10: … | AK10: … | AL10: … | AM10: … | AN10: … | AO10: … | AP10: … | AQ10: … | AR10: … | AS10: … | AT10: … | AU10: 242 | AV10: - | AW10: 242 | AX10: 24 | AY10: - | AZ10: 24 | BA10: 41800 | BB10: - | BC10: 41800 | BD10: 161 | BE10: - | BF10: 161 | BG10: 24 | BH10: - | BI10: 24 | BJ10: 25000 | BK10: - | BL10: 25000 | BM10: 43 | BN10: 40 | BO10: 37 | BP10: 1 | BQ10: 1 | BR10: 0 | BS10: 689 | BT10: 325 | BU10: 364 | BV10: … | BW10: … | BX10: … | BY10: … | BZ10: … | CA10: … | CB10: … | CC10: … | CD10: … | CE10: … | CF10: … | CG10: … | CH10: … | CI10: … | CJ10: … | CK10: … | CL10: … | CM10: … | CN10: … | CO10: … | CP10: … | CQ10: … | CR10: … | CS10: … | CT10: … | CU10: … | CV10: … | CW10: … | CX10: … | CY10: … | CZ10: … | DA10: … | DB10: … | DC10: … | DD10: … | DE10: … | DF10: … | DG10: … | DH10: … | DI10: … | DJ10: … | DK10: … | DL10: … | DM10: … | DN10: … | DO10: … | DP10: … | DQ10: … | DR10: … | DS10: … | DT10: … | DU10: … | DV10: … | DW10: … | DX10: 84 | DY10: 10 | DZ10: 75 | EA10: 2 | EB10: 0 | EC10: 2 | ED10: 1210 | EE10: 155 | EF10: 1050 | EG10: … | EH10: … | EI10: … | EJ10: … | EK10: … | EL10: … | EM10: … | EN10: … | EO10: … | EP10: … | EQ10: … | ER10: … | ES10: … | ET10: … | EU10: … | EV10: … | EW10: … | EX10: … | EY10: … | EZ10: … | FA10: … | FB10: … | FC10: … | FD10: … | FE10: … | FF10: … | FG10: …
A11: 昭.53(1978) | B11: … | C11: … | D11: … | E11: … | F11: … | G11: … | H11: … | I11: … | J11: … | K11: 3400 | L11: 2590 | M11: 1010 | N11: 249 | O11: 179 | P11: 70 | Q11: 117300 | R11: 84800 | S11: 32500 | T11: … | U11: … | V11: … | W11: … | X11: … | Y11: … | Z11: … | AA11: … | AB11: … | AC11: … | AD11: … | AE11: … | AF11: … | AG11: … | AH11: … | AI11: … | AJ11: … | AK11: … | AL11: … | AM11: … | AN11: … | AO11: … | AP11: … | AQ11: … | AR11: … | AS11: … | AT11: … | AU11: 237 | AV11: 1 | AW11: 237 | AX11: 25 | AY11: x | AZ11: 25 | BA11: 41700 | BB11: x | BC11: 41600 | BD11: 161 | BE11: - | BF11: 161 | BG11: 27 | BH11: - | BI11: 27 | BJ11: 24900 | BK11: - | BL11: 24900 | BM11: 37 | BN11: 30 | BO11: 37 | BP11: 1 | BQ11: 0 | BR11: 1 | BS11: 810 | BT11: 280 | BU11: 530 | BV11: … | BW11: … | BX11: … | BY11: … | BZ11: … | CA11: … | CB11: … | CC11: … | CD11: … | CE11: … | CF11: … | CG11: … | CH11: … | CI11: … | CJ11: … | CK11: … | CL11: … | CM11: … | CN11: … | CO11: … | CP11: … | CQ11: … | CR11: … | CS11: … | CT11: … | CU11: … | CV11: … | CW11: … | CX11: … | CY11: … | CZ11: … | DA11: … | DB11: … | DC11: … | DD11: … | DE11: … | DF11: … | DG11: … | DH11: … | DI11: … | DJ11: … | DK11: … | DL11: … | DM11: … | DN11: … | DO11: … | DP11: … | DQ11: … | DR11: … | DS11: … | DT11: … | DU11: … | DV11: … | DW11: … | DX11: 56 | DY11: 17 | DZ11: 39 | EA11: 2 | EB11: 0 | EC11: 2 | ED11: 973 | EE11: 130 | EF11: 835 | EG11: … | EH11: … | EI11: … | EJ11: … | EK11: … | EL11: … | EM11: … | EN11: … | EO11: … | EP11: … | EQ11: … | ER11: … | ES11: … | ET11: … | EU11: … | EV11: … | EW11: … | EX11: … | EY11: … | EZ11: … | FA11: … | FB11: … | FC11: … | FD11: … | FE11: … | FF11: … | FG11: …
A12: 昭.54(1979) | B12: … | C12: … | D12: … | E12: … | F12: … | G12: … | H12: … | I12: … | J12: … | K12: 3690 | L12: 2770 | M12: 1020 | N12: 248 | O12: 176 | P12: 72 | Q12: 113500 | R12: 80000 | S12: 33500 | T12: … | U12: … | V12: … | W12: … | X12: … | Y12: … | Z12: … | AA12: … | AB12: … | AC12: … | AD12: … | AE12: … | AF12: … | AG12: … | AH12: … | AI12: … | AJ12: … | AK12: … | AL12: … | AM12: … | AN12: … | AO12: … | AP12: … | AQ12: … | AR12: … | AS12: … | AT12: … | AU12: 228 | AV12: 39 | AW12: 228 | AX12: 27 | AY12: 1 | AZ12: 26 | BA12: 38100 | BB12: 858 | BC12: 37300 | BD12: 168 | BE12: - | BF12: 168 | BG12: 28 | BH12: - | BI12: 28 | BJ12: 24700 | BK12: - | BL12: 24700 | BM12: 38 | BN12: 30 | BO12: 38 | BP12: 1 | BQ12: 0 | BR12: 1 | BS12: 781 | BT12: 280 | BU12: 501 | BV12: … | BW12: … | BX12: … | BY12: … | BZ12: … | CA12: … | CB12: … | CC12: … | CD12: … | CE12: … | CF12: … | CG12: … | CH12: … | CI12: … | CJ12: … | CK12: … | CL12: … | CM12: … | CN12: … | CO12: … | CP12: … | CQ12: … | CR12: … | CS12: … | CT12: … | CU12: … | CV12: … | CW12: … | CX12: … | CY12: … | CZ12: … | DA12: … | DB12: … | DC12: … | DD12: … | DE12: … | DF12: … | DG12: … | DH12: … | DI12: … | DJ12: … | DK12: … | DL12: … | DM12: … | DN12: … | DO12: … | DP12: … | DQ12: … | DR12: … | DS12: … | DT12: … | DU12: … | DV12: … | DW12: … | DX12: 53 | DY12: 17 | DZ12: 36 | EA12: 3 | EB12: 0 | EC12: 2 | ED12: 1240 | EE12: 120 | EF12: 1120 | EG12: … | EH12: … | EI12: … | EJ12: … | EK12: … | EL12: … | EM12: … | EN12: … | EO12: … | EP12: … | EQ12: … | ER12: … | ES12: … | ET12: … | EU12: … | EV12: … | EW12: … | EX12: … | EY12: … | EZ12: … | FA12: … | FB12: … | FC12: … | FD12: … | FE12: … | FF12: … | FG12: …
A13: 昭.55(1980) | B13: … | C13: … | D13: … | E13: … | F13: … | G13: … | H13: … | I13: … | J13: … | K13: … | L13: 2400 | M13: 856 | N13: 254 | O13: 182 | P13: 72 | Q13: 115000 | R13: 82500 | S13: 32500 | T13: … | U13: … | V13: … | W13: … | X13: … | Y13: … | Z13: … | AA13: … | AB13: … | AC13: … | AD13: … | AE13: … | AF13: … | AG13: … | AH13: … | AI13: … | AJ13: … | AK13: … | AL13: … | AM13: … | AN13: … | AO13: … | AP13: … | AQ13: … | AR13: … | AS13: … | AT13: … | AU13: … | AV13: … | AW13: 231 | AX13: 27 | AY13: … | AZ13: 26 | BA13: 36900 | BB13: … | BC13: 36000 | BD13: … | BE13: … | BF13: 171 | BG13: 29 | BH13: … | BI13: 29 | BJ13: 27100 | BK13: … | BL13: 27100 | BM13: … | BN13: 30 | BO13: 43 | BP13: 1 | BQ13: 0 | BR13: 1 | BS13: 728 | BT13: 240 | BU13: 488 | BV13: … | BW13: - | BX13: … | BY13: - | BZ13: - | CA13: … | CB13: - | CC13: - | CD13: … | CE13: … | CF13: … | CG13: … | CH13: … | CI13: … | CJ13: … | CK13: … | CL13: … | CM13: … | CN13: … | CO13: … | CP13: … | CQ13: … | CR13: … | CS13: … | CT13: … | CU13: … | CV13: … | CW13: … | CX13: … | CY13: … | CZ13: … | DA13: … | DB13: … | DC13: … | DD13: … | DE13: … | DF13: … | DG13: … | DH13: … | DI13: … | DJ13: … | DK13: … | DL13: … | DM13: … | DN13: … | DO13: … | DP13: … | DQ13: … | DR13: … | DS13: … | DT13: … | DU13: … | DV13: … | DW13: … | DX13: … | DY13: 19 | DZ13: 36 | EA13: 3 | EB13: 0 | EC13: 3 | ED13: 1190 | EE13: 124 | EF13: 1060 | EG13: … | EH13: … | EI13: … | EJ13: … | EK13: … | EL13: … | EM13: … | EN13: … | EO13: … | EP13: … | EQ13: 88 | ER13: … | ES13: 8 | ET13: 2 | EU13: … | EV13: 951 | EW13: 287 | EX13: … | EY13: … | EZ13: 2500 | FA13: … | FB13: 299 | FC13: 280 | FD13: … | FE13: 33100 | FF13: 28500 | FG13: …
A14: 昭.56(1981) | B14: … | C14: … | D14: … | E14: … | F14: … | G14: … | H14: … | I14: … | J14: … | K14: … | L14: 2380 | M14: 891 | N14: 265 | O14: 189 | P14: 76 | Q14: 122000 | R14: 87100 | S14: 34900 | T14: … | U14: … | V14: … | W14: … | X14: … | Y14: … | Z14: … | AA14: … | AB14: … | AC14: … | AD14: … | AE14: … | AF14: … | AG14: … | AH14: … | AI14: … | AJ14: … | AK14: … | AL14: … | AM14: … | AN14: … | AO14: … | AP14: … | AQ14: … | AR14: … | AS14: … | AT14: … | AU14: … | AV14: … | AW14: 213 | AX14: 24 | AY14: … | AZ14: 23 | BA14: 33800 | BB14: … | BC14: 33000 | BD14: … | BE14: … | BF14: 177 | BG14: 31 | BH14: … | BI14: 31 | BJ14: 29900 | BK14: … | BL14: 29900 | BM14: … | BN14: 15 | BO14: 27 | BP14: 1 | BQ14: 0 | BR14: 1 | BS14: 678 | BT14: 240 | BU14: 438 | BV14: … | BW14: - | BX14: … | BY14: - | BZ14: - | CA14: … | CB14: - | CC14: - | CD14: … | CE14: … | CF14: … | CG14: … | CH14: … | CI14: … | CJ14: … | CK14: … | CL14: … | CM14: … | CN14: … | CO14: … | CP14: … | CQ14: … | CR14: … | CS14: … | CT14: … | CU14: … | CV14: … | CW14: … | CX14: … | CY14: … | CZ14: … | DA14: … | DB14: … | DC14: … | DD14: … | DE14: … | DF14: … | DG14: … | DH14: … | DI14: … | DJ14: … | DK14: … | DL14: … | DM14: … | DN14: … | DO14: … | DP14: … | DQ14: … | DR14: … | DS14: … | DT14: … | DU14: … | DV14: … | DW14: … | DX14: … | DY14: 23 | DZ14: 31 | EA14: 1 | EB14: 0 | EC14: 1 | ED14: 810 | EE14: 99 | EF14: 714 | EG14: … | EH14: … | EI14: … | EJ14: … | EK14: … | EL14: … | EM14: … | EN14: … | EO14: … | EP14: … | EQ14: 33 | ER14: … | ES14: 7 | ET14: 0 | EU14: … | EV14: 881 | EW14: 257 | EX14: … | EY14: … | EZ14: 2050 | FA14: … | FB14: 272 | FC14: 256 | FD14: … | FE14: 36900 | FF14: 33200 | FG14: …
A15: 昭.57(1982) | B15: … | C15: … | D15: … | E15: … | F15: … | G15: … | H15: … | I15: … | J15: … | K15: … | L15: 2440 | M15: 910 | N15: 259 | O15: 183 | P15: 76 | Q15: 113800 | R15: 78900 | S15: 34900 | T15: … | U15: … | V15: … | W15: … | X15: … | Y15: … | Z15: … | AA15: … | AB15: … | AC15: … | AD15: … | AE15: … | AF15: … | AG15: … | AH15: … | AI15: … | AJ15: … | AK15: … | AL15: … | AM15: … | AN15: … | AO15: … | AP15: … | AQ15: … | AR15: … | AS15: … | AT15: … | AU15: … | AV15: 33 | AW15: 207 | AX15: 24 | AY15: 1 | AZ15: 23 | BA15: 33200 | BB15: 682 | BC15: 32500 | BD15: … | BE15: - | BF15: 174 | BG15: 31 | BH15: - | BI15: 31 | BJ15: 30500 | BK15: - | BL15: 30500 | BM15: … | BN15: 15 | BO15: 23 | BP15: 1 | BQ15: 0 | BR15: 1 | BS15: 563 | BT15: 240 | BU15: 323 | BV15: … | BW15: - | BX15: - | BY15: - | BZ15: - | CA15: - | CB15: - | CC15: - | CD15: - | CE15: … | CF15: … | CG15: … | CH15: … | CI15: … | CJ15: … | CK15: … | CL15: … | CM15: … | CN15: … | CO15: … | CP15: … | CQ15: … | CR15: … | CS15: … | CT15: … | CU15: … | CV15: … | CW15: … | CX15: … | CY15: … | CZ15: … | DA15: … | DB15: … | DC15: … | DD15: … | DE15: … | DF15: … | DG15: … | DH15: … | DI15: … | DJ15: … | DK15: … | DL15: … | DM15: … | DN15: … | DO15: … | DP15: … | DQ15: … | DR15: … | DS15: … | DT15: … | DU15: … | DV15: … | DW15: … | DX15: … | DY15: 23 | DZ15: 32 | EA15: 2 | EB15: 0 | EC15: 2 | ED15: 812 | EE15: 111 | EF15: 701 | EG15: … | EH15: … | EI15: … | EJ15: … | EK15: … | EL15: … | EM15: … | EN15: … | EO15: … | EP15: … | EQ15: 18 | ER15: 30 | ES15: 1 | ET15: 0 | EU15: 1 | EV15: 379 | EW15: 181 | EX15: 198 | EY15: … | EZ15: 2690 | FA15: 122 | FB15: 282 | FC15: 265 | FD15: 17 | FE15: 34500 | FF15: 30600 | FG15: 3940
A16: 昭.58(1983) | B16: … | C16: … | D16: … | E16: … | F16: … | G16: … | H16: … | I16: … | J16: … | K16: … | L16: 2340 | M16: 835 | N16: 261 | O16: 180 | P16: 81 | Q16: 109500 | R16: 75200 | S16: 34300 | T16: … | U16: … | V16: … | W16: … | X16: … | Y16: … | Z16: … | AA16: … | AB16: … | AC16: … | AD16: … | AE16: … | AF16: … | AG16: … | AH16: … | AI16: … | AJ16: … | AK16: … | AL16: … | AM16: … | AN16: … | AO16: … | AP16: … | AQ16: … | AR16: … | AS16: … | AT16: … | AU16: … | AV16: 34 | AW16: 221 | AX16: 25 | AY16: 1 | AZ16: 24 | BA16: 31300 | BB16: 661 | BC16: 30600 | BD16: … | BE16: - | BF16: 165 | BG16: 31 | BH16: - | BI16: 31 | BJ16: 28300 | BK16: - | BL16: 28300 | BM16: … | BN16: … | BO16: … | BP16: … | BQ16: … | BR16: … | BS16: … | BT16: … | BU16: … | BV16: … | BW16: … | BX16: … | BY16: … | BZ16: … | CA16: … | CB16: … | CC16: … | CD16: … | CE16: … | CF16: … | CG16: … | CH16: … | CI16: … | CJ16: … | CK16: … | CL16: … | CM16: … | CN16: … | CO16: … | CP16: … | CQ16: … | CR16: … | CS16: … | CT16: … | CU16: … | CV16: … | CW16: … | CX16: … | CY16: … | CZ16: … | DA16: … | DB16: … | DC16: … | DD16: … | DE16: … | DF16: … | DG16: … | DH16: … | DI16: … | DJ16: … | DK16: … | DL16: … | DM16: … | DN16: … | DO16: … | DP16: … | DQ16: … | DR16: … | DS16: … | DT16: … | DU16: … | DV16: … | DW16: … | DX16: … | DY16: … | DZ16: … | EA16: … | EB16: … | EC16: … | ED16: … | EE16: … | EF16: … | EG16: … | EH16: … | EI16: … | EJ16: … | EK16: … | EL16: … | EM16: … | EN16: … | EO16: … | EP16: … | EQ16: … | ER16: … | ES16: … | ET16: … | EU16: … | EV16: … | EW16: … | EX16: … | EY16: … | EZ16: 2540 | FA16: 182 | FB16: 288 | FC16: 263 | FD16: 25 | FE16: 40000 | FF16: 35400 | FG16: 4550
A17: 昭.59(1984) | B17: … | C17: … | D17: … | E17: … | F17: … | G17: … | H17: … | I17: … | J17: … | K17: … | L17: 2230 | M17: 825 | N17: 248 | O17: 167 | P17: 81 | Q17: 104000 | R17: 71000 | S17: 33000 | T17: … | U17: … | V17: … | W17: … | X17: … | Y17: … | Z17: … | AA17: … | AB17: … | AC17: … | AD17: … | AE17: … | AF17: … | AG17: … | AH17: … | AI17: … | AJ17: … | AK17: … | AL17: … | AM17: … | AN17: … | AO17: … | AP17: … | AQ17: … | AR17: … | AS17: … | AT17: … | AU17: … | AV17: 34 | AW17: 210 | AX17: 23 | AY17: 1 | AZ17: 22 | BA17: 29200 | BB17: 720 | BC17: 28500 | BD17: … | BE17: - | BF17: 160 | BG17: 31 | BH17: - | BI17: 31 | BJ17: 31500 | BK17: - | BL17: 31500 | BM17: … | BN17: … | BO17: … | BP17: … | BQ17: … | BR17: … | BS17: … | BT17: … | BU17: … | BV17: … | BW17: … | BX17: … | BY17: … | BZ17: … | CA17: … | CB17: … | CC17: … | CD17: … | CE17: … | CF17: … | CG17: … | CH17: … | CI17: … | CJ17: … | CK17: … | CL17: … | CM17: … | CN17: … | CO17: … | CP17: … | CQ17: … | CR17: … | CS17: … | CT17: … | CU17: … | CV17: … | CW17: … | CX17: … | CY17: … | CZ17: … | DA17: … | DB17: … | DC17: … | DD17: … | DE17: … | DF17: … | DG17: … | DH17: … | DI17: … | DJ17: … | DK17: … | DL17: … | DM17: … | DN17: … | DO17: … | DP17: … | DQ17: … | DR17: … | DS17: … | DT17: … | DU17: … | DV17: … | DW17: … | DX17: … | DY17: … | DZ17: … | EA17: … | EB17: … | EC17: … | ED17: … | EE17: … | EF17: … | EG17: … | EH17: … | EI17: … | EJ17: … | EK17: … | EL17: … | EM17: … | EN17: … | EO17: … | EP17: … | EQ17: … | ER17: … | ES17: … | ET17: … | EU17: … | EV17: … | EW17: … | EX17: … | EY17: … | EZ17: 2510 | FA17: 178 | FB17: 296 | FC17: 271 | FD17: 25 | FE17: 32300 | FF17: 27700 | FG17: 4570
A18: 昭.60(1985) | B18: … | C18: … | D18: … | E18: … | F18: … | G18: … | H18: … | I18: … | J18: … | K18: … | L18: … | M18: … | N18: 244 | O18: 158 | P18: 86 | Q18: 103300 | R18: 67700 | S18: 35600 | T18: … | U18: … | V18: … | W18: … | X18: … | Y18: … | Z18: … | AA18: … | AB18: … | AC18: … | AD18: … | AE18: … | AF18: … | AG18: … | AH18: … | AI18: … | AJ18: … | AK18: … | AL18: … | AM18: … | AN18: … | AO18: … | AP18: … | AQ18: … | AR18: … | AS18: … | AT18: … | AU18: … | AV18: … | AW18: … | AX18: 24 | AY18: 1 | AZ18: 23 | BA18: 30000 | BB18: 752 | BC18: 29200 | BD18: … | BE18: … | BF18: … | BG18: 37 | BH18: - | BI18: 37 | BJ18: 36700 | BK18: - | BL18: 36700 | BM18: … | BN18: … | BO18: … | BP18: 0 | BQ18: - | BR18: 0 | BS18: 85 | BT18: - | BU18: 85 | BV18: … | BW18: … | BX18: … | BY18: - | BZ18: - | CA18: - | CB18: - | CC18: - | CD18: - | CE18: … | CF18: … | CG18: … | CH18: … | CI18: … | CJ18: … | CK18: … | CL18: … | CM18: … | CN18: … | CO18: … | CP18: … | CQ18: … | CR18: … | CS18: … | CT18: … | CU18: … | CV18: … | CW18: … | CX18: … | CY18: … | CZ18: … | DA18: … | DB18: … | DC18: … | DD18: … | DE18: … | DF18: … | DG18: … | DH18: … | DI18: … | DJ18: … | DK18: … | DL18: … | DM18: … | DN18: … | DO18: … | DP18: … | DQ18: … | DR18: … | DS18: … | DT18: … | DU18: … | DV18: … | DW18: … | DX18: … | DY18: … | DZ18: … | EA18: 1 | EB18: - | EC18: 1 | ED18: 325 | EE18: - | EF18: 325 | EG18: … | EH18: … | EI18: … | EJ18: … | EK18: … | EL18: … | EM18: … | EN18: … | EO18: … | EP18: … | EQ18: … | ER18: … | ES18: 4 | ET18: 1 | EU18: 3 | EV18: 713 | EW18: 180 | EX18: 533 | EY18: … | EZ18: … | FA18: … | FB18: 298 | FC18: 272 | FD18: 26 | FE18: 31900 | FF18: 27100 | FG18: 4820
A19: 昭.61(1986) | B19: … | C19: … | D19: … | E19: … | F19: … | G19: … | H19: … | I19: … | J19: … | K19: … | L19: 2070 | M19: 936 | N19: 258 | O19: 149 | P19: 109 | Q19: 110200 | R19: 65300 | S19: 45000 | T19: … | U19: … | V19: … | W19: … | X19: … | Y19: … | Z19: … | AA19: … | AB19: … | AC19: … | AD19: … | AE19: … | AF19: … | AG19: … | AH19: … | AI19: … | AJ19: … | AK19: … | AL19: … | AM19: … | AN19: … | AO19: … | AP19: … | AQ19: … | AR19: … | AS19: … | AT19: … | AU19: … | AV19: 25 | AW19: 229 | AX19: 28 | AY19: 1 | AZ19: 27 | BA19: 34800 | BB19: 558 | BC19: 34200 | BD19: … | BE19: - | BF19: 182 | BG19: 39 | BH19: - | BI19: 39 | BJ19: 38900 | BK19: - | BL19: 38900 | BM19: … | BN19: … | BO19: … | BP19: … | BQ19: … | BR19: … | BS19: … | BT19: … | BU19: … | BV19: … | BW19: … | BX19: … | BY19: … | BZ19: … | CA19: … | CB19: … | CC19: … | CD19: … | CE19: … | CF19: … | CG19: … | CH19: … | CI19: … | CJ19: … | CK19: … | CL19: … | CM19: … | CN19: … | CO19: … | CP19: … | CQ19: … | CR19: … | CS19: … | CT19: … | CU19: … | CV19: … | CW19: … | CX19: … | CY19: … | CZ19: … | DA19: … | DB19: … | DC19: … | DD19: … | DE19: … | DF19: … | DG19: … | DH19: … | DI19: … | DJ19: … | DK19: … | DL19: … | DM19: … | DN19: … | DO19: … | DP19: … | DQ19: … | DR19: … | DS19: … | DT19: … | DU19: … | DV19: … | DW19: … | DX19: … | DY19: … | DZ19: … | EA19: … | EB19: … | EC19: … | ED19: … | EE19: … | EF19: … | EG19: … | EH19: … | EI19: … | EJ19: … | EK19: … | EL19: … | EM19: … | EN19: … | EO19: … | EP19: … | EQ19: … | ER19: … | ES19: … | ET19: … | EU19: … | EV19: … | EW19: … | EX19: … | EY19: … | EZ19: 2500 | FA19: 189 | FB19: 298 | FC19: 271 | FD19: 27 | FE19: 32400 | FF19: 27500 | FG19: 4880
A20: 昭.62(1987) | B20: … | C20: … | D20: … | E20: … | F20: … | G20: … | H20: … | I20: … | J20: … | K20: … | L20: 1970 | M20: 1000 | N20: 255 | O20: 142 | P20: 113 | Q20: 101700 | R20: 55900 | S20: 45800 | T20: … | U20: … | V20: … | W20: … | X20: … | Y20: … | Z20: … | AA20: … | AB20: … | AC20: … | AD20: … | AE20: … | AF20: … | AG20: … | AH20: … | AI20: … | AJ20: … | AK20: … | AL20: … | AM20: … | AN20: … | AO20: … | AP20: … | AQ20: … | AR20: … | AS20: … | AT20: … | AU20: … | AV20: 23 | AW20: 222 | AX20: 30 | AY20: 1 | AZ20: 29 | BA20: 36900 | BB20: 662 | BC20: 36200 | BD20: … | BE20: - | BF20: 183 | BG20: 40 | BH20: - | BI20: 40 | BJ20: 39500 | BK20: - | BL20: 39500 | BM20: … | BN20: … | BO20: … | BP20: … | BQ20: … | BR20: … | BS20: … | BT20: … | BU20: … | BV20: … | BW20: … | BX20: … | BY20: … | BZ20: … | CA20: … | CB20: … | CC20: … | CD20: … | CE20: … | CF20: … | CG20: … | CH20: … | CI20: … | CJ20: … | CK20: … | CL20: … | CM20: … | CN20: … | CO20: … | CP20: … | CQ20: … | CR20: … | CS20: … | CT20: … | CU20: … | CV20: … | CW20: … | CX20: … | CY20: … | CZ20: … | DA20: … | DB20: … | DC20: … | DD20: … | DE20: … | DF20: … | DG20: … | DH20: … | DI20: … | DJ20: … | DK20: … | DL20: … | DM20: … | DN20: … | DO20: … | DP20: … | DQ20: … | DR20: … | DS20: … | DT20: … | DU20: … | DV20: … | DW20: … | DX20: … | DY20: … | DZ20: … | EA20: … | EB20: … | EC20: … | ED20: … | EE20: … | EF20: … | EG20: … | EH20: … | EI20: … | EJ20: … | EK20: … | EL20: … | EM20: … | EN20: … | EO20: … | EP20: … | EQ20: … | ER20: … | ES20: … | ET20: … | EU20: … | EV20: … | EW20: … | EX20: … | EY20: … | EZ20: … | FA20: … | FB20: … | FC20: … | FD20: … | FE20: … | FF20: … | FG20: …
A21: 昭.63(1988) | B21: … | C21: … | D21: … | E21: … | F21: … | G21: … | H21: … | I21: … | J21: … | K21: … | L21: 1860 | M21: 1010 | N21: 251 | O21: 133 | P21: 118 | Q21: 96000 | R21: 50700 | S21: 45300 | T21: … | U21: … | V21: … | W21: … | X21: … | Y21: … | Z21: … | AA21: … | AB21: … | AC21: … | AD21: … | AE21: … | AF21: … | AG21: … | AH21: … | AI21: … | AJ21: … | AK21: … | AL21: … | AM21: … | AN21: … | AO21: … | AP21: … | AQ21: … | AR21: … | AS21: … | AT21: … | AU21: … | AV21: 22 | AW21: 227 | AX21: 30 | AY21: 1 | AZ21: 29 | BA21: 37500 | BB21: 530 | BC21: 37000 | BD21: … | BE21: - | BF21: 189 | BG21: 45 | BH21: - | BI21: 45 | BJ21: 43900 | BK21: - | BL21: 43900 | BM21: … | BN21: 15 | BO21: 13 | BP21: 1 | BQ21: 0 | BR21: 1 | BS21: 209 | BT21: 50 | BU21: 159 | BV21: … | BW21: - | BX21: - | BY21: - | BZ21: - | CA21: - | CB21: - | CC21: - | CD21: - | CE21: … | CF21: … | CG21: … | CH21: … | CI21: … | CJ21: … | CK21: … | CL21: … | CM21: … | CN21: … | CO21: … | CP21: … | CQ21: … | CR21: … | CS21: … | CT21: … | CU21: … | CV21: … | CW21: … | CX21: … | CY21: … | CZ21: … | DA21: … | DB21: … | DC21: … | DD21: … | DE21: … | DF21: … | DG21: … | DH21: … | DI21: … | DJ21: … | DK21: … | DL21: … | DM21: … | DN21: … | DO21: … | DP21: … | DQ21: … | DR21: … | DS21: … | DT21: … | DU21: … | DV21: … | DW21: … | DX21: … | DY21: - | DZ21: 18 | EA21: 2 | EB21: - | EC21: 2 | ED21: 895 | EE21: - | EF21: 895 | EG21: … | EH21: … | EI21: … | EJ21: … | EK21: … | EL21: … | EM21: … | EN21: … | EO21: … | EP21: … | EQ21: … | ER21: … | ES21: … | ET21: … | EU21: … | EV21: … | EW21: … | EX21: … | EY21: … | EZ21: … | FA21: … | FB21: … | FC21: … | FD21: … | FE21: … | FF21: … | FG21: …
A22: 平.元(1989) | B22: … | C22: … | D22: … | E22: … | F22: … | G22: … | H22: … | I22: … | J22: … | K22: … | L22: 1900 | M22: 1010 | N22: 249 | O22: 130 | P22: 119 | Q22: 94900 | R22: 49600 | S22: 45300 | T22: … | U22: … | V22: … | W22: … | X22: … | Y22: … | Z22: … | AA22: … | AB22: … | AC22: … | AD22: … | AE22: … | AF22: … | AG22: … | AH22: … | AI22: … | AJ22: … | AK22: … | AL22: … | AM22: … | AN22: … | AO22: … | AP22: … | AQ22: … | AR22: … | AS22: … | AT22: … | AU22: … | AV22: 11 | AW22: 212 | AX22: 29 | AY22: 0 | AZ22: 29 | BA22: 36900 | BB22: 282 | BC22: 36600 | BD22: … | BE22: - | BF22: 204 | BG22: 48 | BH22: - | BI22: 48 | BJ22: 45600 | BK22: - | BL22: 45600 | BM22: … | BN22: … | BO22: … | BP22: … | BQ22: … | BR22: … | BS22: … | BT22: … | BU22: … | BV22: … | BW22: … | BX22: … | BY22: … | BZ22: … | CA22: … | CB22: … | CC22: … | CD22: … | CE22: … | CF22: … | CG22: … | CH22: … | CI22: … | CJ22: … | CK22: … | CL22: … | CM22: … | CN22: … | CO22: … | CP22: … | CQ22: … | CR22: … | CS22: … | CT22: … | CU22: … | CV22: … | CW22: … | CX22: … | CY22: … | CZ22: … | DA22: … | DB22: … | DC22: … | DD22: … | DE22: … | DF22: … | DG22: … | DH22: … | DI22: … | DJ22: … | DK22: … | DL22: … | DM22: … | DN22: … | DO22: … | DP22: … | DQ22: … | DR22: … | DS22: … | DT22: … | DU22: … | DV22: … | DW22: … | DX22: … | DY22: … | DZ22: … | EA22: … | EB22: … | EC22: … | ED22: … | EE22: … | EF22: … | EG22: … | EH22: … | EI22: … | EJ22: … | EK22: … | EL22: … | EM22: … | EN22: … | EO22: … | EP22: … | EQ22: … | ER22: … | ES22: … | ET22: … | EU22: … | EV22: … | EW22: … | EX22: … | EY22: … | EZ22: … | FA22: … | FB22: … | FC22: … | FD22: … | FE22: … | FF22: … | FG22: …
A23: 平.2(1990) | B23: 6120 | C23: … | D23: … | E23: 903 | F23: 547 | G23: 356 | H23: 293500 | I23: 98900 | J23: 194600 | K23: … | L23: … | M23: … | N23: 260 | O23: 138 | P23: 122 | Q23: 96900 | R23: 51800 | S23: 45200 | T23: 1380 | U23: … | V23: … | W23: 169 | X23: 61 | Y23: 108 | Z23: 62400 | AA23: 22700 | AB23: 39700 | AC23: 63 | AD23: … | AE23: … | AF23: 8 | AG23: 1 | AH23: 8 | AI23: 3220 | AJ23: 359 | AK23: 2860 | AL23: 1200 | AM23: … | AN23: … | AO23: 82 | AP23: 76 | AQ23: 7 | AR23: 31300 | AS23: 28700 | AT23: 2560 | AU23: 208 | AV23: … | AW23: … | AX23: 28 | AY23: 0 | AZ23: 28 | BA23: 33700 | BB23: 136 | BC23: 33600 | BD23: 215 | BE23: … | BF23: … | BG23: 49 | BH23: 0 | BI23: 48 | BJ23: 43000 | BK23: 60 | BL23: 43000 | BM23: 17 | BN23: … | BO23: … | BP23: 1 | BQ23: 0 | BR23: 0 | BS23: 337 | BT23: 197 | BU23: 140 | BV23: - | BW23: … | BX23: … | BY23: - | BZ23: - | CA23: - | CB23: - | CC23: - | CD23: - | CE23: 150 | CF23: … | CG23: … | CH23: 12 | CI23: 0 | CJ23: 11 | CK23: 4510 | CL23: 109 | CM23: 4410 | CN23: 48 | CO23: … | CP23: … | CQ23: 5 | CR23: - | CS23: 5 | CT23: 988 | CU23: - | CV23: 988 | CW23: 91 | CX23: … | CY23: … | CZ23: 5 | DA23: 0 | DB23: 5 | DC23: 2130 | DD23: 15 | DE23: 2110 | DF23: 90 | DG23: … | DH23: … | DI23: 11 | DJ23: - | DK23: 11 | DL23: 12600 | DM23: - | DN23: 12600 | DO23: 155 | DP23: … | DQ23: … | DR23: 9 | DS23: - | DT23: 9 | DU23: 3680 | DV23: 45 | DW23: 3640 | DX23: 24 | DY23: … | DZ23: … | EA23: 2 | EB23: - | EC23: 2 | ED23: 917 | EE23: - | EF23: 917 | EG23: … | EH23: … | EI23: … | EJ23: … | EK23: … | EL23: … | EM23: … | EN23: … | EO23: … | EP23: … | EQ23: … | ER23: … | ES23: 16 | ET23: 8 | EU23: 8 | EV23: 10600 | EW23: 5030 | EX23: 5580 | EY23: 2330 | EZ23: … | FA23: … | FB23: 364 | FC23: 334 | FD23: 31 | FE23: 29700 | FF23: 23000 | FG23: 6730
A24: 平.3(1991) | B24: 5260 | C24: … | D24: … | E24: 961 | F24: 581 | G24: 380 | H24: 309000 | I24: 102600 | J24: 206400 | K24: … | L24: … | M24: … | N24: 262 | O24: 135 | P24: 127 | Q24: 98300 | R24: 51100 | S24: 47200 | T24: 1200 | U24: … | V24: … | W24: 169 | X24: 59 | Y24: 110 | Z24: 62500 | AA24: 21500 | AB24: 41000 | AC24: 87 | AD24: … | AE24: … | AF24: 11 | AG24: 1 | AH24: 10 | AI24: 3820 | AJ24: 466 | AK24: 3360 | AL24: 1220 | AM24: … | AN24: … | AO24: 81 | AP24: 74 | AQ24: 7 | AR24: 32000 | AS24: 29200 | AT24: 2810 | AU24: 203 | AV24: … | AW24: … | AX24: 29 | AY24: 0 | AZ24: 29 | BA24: 34700 | BB24: 99 | BC24: 34600 | BD24: 226 | BE24: … | BF24: … | BG24: 53 | BH24: 0 | BI24: 53 | BJ24: 45200 | BK24: 7 | BL24: 45200 | BM24: 20 | BN24: … | BO24: … | BP24: 1 | BQ24: 0 | BR24: 0 | BS24: 319 | BT24: 210 | BU24: 109 | BV24: - | BW24: … | BX24: … | BY24: - | BZ24: - | CA24: - | CB24: - | CC24: - | CD24: - | CE24: 137 | CF24: … | CG24: … | CH24: 12 | CI24: 0 | CJ24: 12 | CK24: 4360 | CL24: 59 | CM24: 4300 | CN24: 46 | CO24: … | CP24: … | CQ24: 6 | CR24: 0 | CS24: 6 | CT24: 1010 | CU24: 50 | CV24: 962 | CW24: 94 | CX24: … | CY24: … | CZ24: 6 | DA24: 0 | DB24: 6 | DC24: 2590 | DD24: 15 | DE24: 2570 | DF24: 122 | DG24: … | DH24: … | DI24: 14 | DJ24: - | DK24: 14 | DL24: 15300 | DM24: - | DN24: 15300 | DO24: 165 | DP24: … | DQ24: … | DR24: 12 | DS24: 0 | DT24: 12 | DU24: 4350 | DV24: 27 | DW24: 4330 | DX24: x | DY24: … | DZ24: … | EA24: 1 | EB24: - | EC24: 1 | ED24: 748 | EE24: - | EF24: 748 | EG24: … | EH24: … | EI24: … | EJ24: … | EK24: … | EL24: … | EM24: … | EN24: … | EO24: … | EP24: … | EQ24: … | ER24: … | ES24: 19 | ET24: 8 | EU24: 10 | EV24: 13100 | EW24: 5370 | EX24: 7680 | EY24: 2380 | EZ24: … | FA24: … | FB24: 404 | FC24: 365 | FD24: 39 | FE24: 33600 | FF24: 25500 | FG24: 8080
A25: 平.4(1992) | B25: 5430 | C25: … | D25: … | E25: 1010 | F25: 603 | G25: 405 | H25: 324100 | I25: 107800 | J25: 216300 | K25: … | L25: … | M25: … | N25: 278 | O25: 148 | P25: 130 | Q25: 103400 | R25: 55500 | S25: 47900 | T25: 1190 | U25: … | V25: … | W25: 188 | X25: 78 | Y25: 111 | Z25: 66800 | AA25: 26900 | AB25: 39800 | AC25: 116 | AD25: … | AE25: … | AF25: 20 | AG25: 1 | AH25: 18 | AI25: 8180 | AJ25: 482 | AK25: 7690 | AL25: 1100 | AM25: … | AN25: … | AO25: 70 | AP25: 69 | AQ25: 1 | AR25: 28500 | AS25: 28000 | AT25: 407 | AU25: 195 | AV25: … | AW25: … | AX25: 27 | AY25: 0 | AZ25: 27 | BA25: 33500 | BB25: 104 | BC25: 33400 | BD25: 240 | BE25: … | BF25: … | BG25: 61 | BH25: 0 | BI25: 61 | BJ25: 47400 | BK25: 7 | BL25: 47400 | BM25: 19 | BN25: … | BO25: … | BP25: 1 | BQ25: 0 | BR25: 0 | BS25: 304 | BT25: 145 | BU25: 159 | BV25: - | BW25: … | BX25: … | BY25: - | BZ25: - | CA25: - | CB25: - | CC25: - | CD25: - | CE25: 115 | CF25: … | CG25: … | CH25: 9 | CI25: 0 | CJ25: 9 | CK25: 3860 | CL25: 31 | CM25: 3830 | CN25: 59 | CO25: … | CP25: … | CQ25: 9 | CR25: - | CS25: 9 | CT25: 1270 | CU25: - | CV25: 1270 | CW25: 88 | CX25: … | CY25: … | CZ25: 5 | DA25: 0 | DB25: 5 | DC25: 2540 | DD25: 19 | DE25: 2520 | DF25: 160 | DG25: … | DH25: … | DI25: 19 | DJ25: - | DK25: 19 | DL25: 21400 | DM25: - | DN25: 21400 | DO25: 185 | DP25: … | DQ25: … | DR25: 13 | DS25: - | DT25: 13 | DU25: 4370 | DV25: - | DW25: 4370 | DX25: 30 | DY25: … | DZ25: … | EA25: 3 | EB25: 0 | EC25: 3 | ED25: 1080 | EE25: 45 | EF25: 1040 | EG25: … | EH25: … | EI25: … | EJ25: … | EK25: … | EL25: … | EM25: … | EN25: … | EO25: … | EP25: … | EQ25: … | ER25: … | ES25: 22 | ET25: 11 | EU25: 11 | EV25: 12500 | EW25: 4910 | EX25: 7590 | EY25: 2530 | EZ25: … | FA25: … | FB25: 427 | FC25: 380 | FD25: 47 | FE25: 36800 | FF25: 27400 | FG25: 9380
A26: 平.5(1993) | B26: 5830 | C26: … | D26: … | E26: 1060 | F26: 626 | G26: 432 | H26: 340800 | I26: 116700 | J26: 224200 | K26: … | L26: … | M26: … | N26: 268 | O26: 145 | P26: 123 | Q26: 102400 | R26: 56800 | S26: 45600 | T26: 1120 | U26: … | V26: … | W26: 176 | X26: 74 | Y26: 102 | Z26: 63000 | AA26: 26100 | AB26: 37000 | AC26: 115 | AD26: … | AE26: … | AF26: 22 | AG26: 2 | AH26: 20 | AI26: 8910 | AJ26: 568 | AK26: 8340 | AL26: 1120 | AM26: … | AN26: … | AO26: 70 | AP26: 69 | AQ26: 1 | AR26: 30500 | AS26: 30200 | AT26: 305 | AU26: 188 | AV26: … | AW26: … | AX26: 26 | AY26: 0 | AZ26: 26 | BA26: 30300 | BB26: 100 | BC26: 30200 | BD26: 242 | BE26: … | BF26: … | BG26: 63 | BH26: 0 | BI26: 63 | BJ26: 50600 | BK26: 7 | BL26: 50600 | BM26: 21 | BN26: … | BO26: … | BP26: 1 | BQ26: 0 | BR26: 1 | BS26: 303 | BT26: 115 | BU26: 188 | BV26: - | BW26: … | BX26: … | BY26: - | BZ26: - | CA26: - | CB26: - | CC26: - | CD26: - | CE26: 118 | CF26: … | CG26: … | CH26: 9 | CI26: 0 | CJ26: 9 | CK26: 3950 | CL26: 33 | CM26: 3910 | CN26: 67 | CO26: … | CP26: … | CQ26: 9 | CR26: - | CS26: 9 | CT26: 1310 | CU26: - | CV26: 1310 | CW26: 90 | CX26: … | CY26: … | CZ26: 5 | DA26: 0 | DB26: 5 | DC26: 2110 | DD26: 17 | DE26: 2100 | DF26: 163 | DG26: … | DH26: … | DI26: 21 | DJ26: - | DK26: 21 | DL26: 25300 | DM26: - | DN26: 25300 | DO26: 246 | DP26: … | DQ26: … | DR26: 17 | DS26: - | DT26: 17 | DU26: 5820 | DV26: - | DW26: 5820 | DX26: 39 | DY26: … | DZ26: … | EA26: 3 | EB26: 0 | EC26: 3 | ED26: 1220 | EE26: 22 | EF26: 1200 | EG26: … | EH26: … | EI26: … | EJ26: … | EK26: … | EL26: … | EM26: … | EN26: … | EO26: … | EP26: … | EQ26: … | ER26: … | ES26: 26 | ET26: 8 | EU26: 18 | EV26: 11200 | EW26: 3270 | EX26: 7920 | EY26: 2590 | EZ26: … | FA26: … | FB26: 452 | FC26: 397 | FD26: 55 | FE26: 46100 | FF26: 36400 | FG26: 9660
A27: 平.6(1994) | B27: 5830 | C27: … | D27: … | E27: 1140 | F27: 699 | G27: 436 | H27: 339900 | I27: 111500 | J27: 228400 | K27: … | L27: … | M27: … | N27: 285 | O27: 148 | P27: 137 | Q27: 102200 | R27: 50900 | S27: 51300 | T27: 1130 | U27: … | V27: … | W27: 183 | X27: 74 | Y27: 109 | Z27: 65600 | AA27: 26200 | AB27: 39400 | AC27: 123 | AD27: … | AE27: … | AF27: 30 | AG27: 3 | AH27: 27 | AI27: 12300 | AJ27: 1010 | AK27: 11300 | AL27: 1200 | AM27: … | AN27: … | AO27: 72 | AP27: 70 | AQ27: 2 | AR27: 24300 | AS27: 23700 | AT27: 613 | AU27: 175 | AV27: … | AW27: … | AX27: 24 | AY27: - | AZ27: 24 | BA27: 26200 | BB27: - | BC27: 26200 | BD27: 233 | BE27: … | BF27: … | BG27: 61 | BH27: 0 | BI27: 60 | BJ27: 49400 | BK27: 7 | BL27: 49400 | BM27: 15 | BN27: … | BO27: … | BP27: 1 | BQ27: 0 | BR27: 0 | BS27: 172 | BT27: 39 | BU27: 133 | BV27: - | BW27: … | BX27: … | BY27: - | BZ27: - | CA27: - | CB27: - | CC27: - | CD27: - | CE27: 97 | CF27: … | CG27: … | CH27: 8 | CI27: 0 | CJ27: 8 | CK27: 3160 | CL27: 28 | CM27: 3140 | CN27: 78 | CO27: … | CP27: … | CQ27: 10 | CR27: - | CS27: 10 | CT27: 1360 | CU27: - | CV27: 1360 | CW27: 106 | CX27: … | CY27: … | CZ27: 6 | DA27: - | DB27: 6 | DC27: 2580 | DD27: - | DE27: 2580 | DF27: 158 | DG27: … | DH27: … | DI27: 23 | DJ27: - | DK27: 23 | DL27: 35100 | DM27: - | DN27: 35100 | DO27: 214 | DP27: … | DQ27: … | DR27: 18 | DS27: - | DT27: 18 | DU27: 6600 | DV27: - | DW27: 6600 | DX27: 40 | DY27: … | DZ27: … | EA27: 3 | EB27: 1 | EC27: 2 | ED27: 1400 | EE27: 272 | EF27: 1130 | EG27: … | EH27: … | EI27: … | EJ27: … | EK27: … | EL27: … | EM27: … | EN27: … | EO27: … | EP27: … | EQ27: … | ER27: … | ES27: 23 | ET27: 8 | EU27: 15 | EV27: 10800 | EW27: 4150 | EX27: 6610 | EY27: 2680 | EZ27: … | FA27: … | FB27: 513 | FC27: 462 | FD27: 51 | FE27: 42500 | FF27: 37100 | FG27: 5380
A28: 平.7(1995) | B28: … | C28: … | D28: … | E28: … | F28: … | G28: … | H28: … | I28: … | J28: … | K28: … | L28: … | M28: … | N28: 284 | O28: 148 | P28: 136 | Q28: 97900 | R28: 50300 | S28: 47500 | T28: 1140 | U28: … | V28: … | W28: 185 | X28: 76 | Y28: 109 | Z28: 65400 | AA28: 26200 | AB28: 39200 | AC28: 136 | AD28: … | AE28: … | AF28: 29 | AG28: 3 | AH28: 26 | AI28: 9130 | AJ28: 1160 | AK28: 7970 | AL28: 1090 | AM28: … | AN28: … | AO28: 70 | AP28: 69 | AQ28: 1 | AR28: 23300 | AS28: 22900 | AT28: 395 | AU28: 161 | AV28: … | AW28: … | AX28: 23 | AY28: - | AZ28: 23 | BA28: 26800 | BB28: - | BC28: 26800 | BD28: 232 | BE28: … | BF28: … | BG28: 59 | BH28: 0 | BI28: 59 | BJ28: 46000 | BK28: 2 | BL28: 46000 | BM28: 14 | BN28: … | BO28: … | BP28: 1 | BQ28: 0 | BR28: 0 | BS28: 151 | BT28: 17 | BU28: 134 | BV28: 8 | BW28: … | BX28: … | BY28: 0 | BZ28: - | CA28: 0 | CB28: 60 | CC28: - | CD28: 60 | CE28: 77 | CF28: … | CG28: … | CH28: 7 | CI28: 0 | CJ28: 7 | CK28: 2460 | CL28: 28 | CM28: 2430 | CN28: 83 | CO28: … | CP28: … | CQ28: 11 | CR28: - | CS28: 11 | CT28: 1430 | CU28: - | CV28: 1430 | CW28: 105 | CX28: … | CY28: … | CZ28: 7 | DA28: 0 | DB28: 7 | DC28: 6610 | DD28: 38 | DE28: 6570 | DF28: 145 | DG28: … | DH28: … | DI28: 21 | DJ28: - | DK28: 21 | DL28: 33000 | DM28: - | DN28: 33000 | DO28: 221 | DP28: … | DQ28: … | DR28: 22 | DS28: - | DT28: 22 | DU28: 7230 | DV28: - | DW28: 7230 | DX28: 47 | DY28: … | DZ28: … | EA28: 4 | EB28: 0 | EC28: 4 | ED28: 1590 | EE28: 29 | EF28: 1560 | EG28: … | EH28: … | EI28: … | EJ28: … | EK28: … | EL28: … | EM28: … | EN28: … | EO28: … | EP28: … | EQ28: … | ER28: … | ES28: 35 | ET28: 19 | EU28: 16 | EV28: 15200 | EW28: 7830 | EX28: 7420 | EY28: 2690 | EZ28: … | FA28: … | FB28: 508 | FC28: 462 | FD28: 46 | FE28: 46700 | FF28: 39600 | FG28: 7090
A29: 平.8(1996) | B29: … | C29: … | D29: … | E29: … | F29: … | G29: … | H29: … | I29: … | J29: … | K29: … | L29: … | M29: … | N29: 296 | O29: 143 | P29: 153 | Q29: 100300 | R29: 48100 | S29: 52300 | T29: 1150 | U29: … | V29: … | W29: 184 | X29: 67 | Y29: 117 | Z29: 64000 | AA29: 23000 | AB29: 40900 | AC29: 143 | AD29: … | AE29: … | AF29: 35 | AG29: 3 | AH29: 32 | AI29: 10700 | AJ29: 756 | AK29: 9930 | AL29: 1020 | AM29: … | AN29: … | AO29: 77 | AP29: 73 | AQ29: 4 | AR29: 25700 | AS29: 24300 | AT29: 1400 | AU29: 151 | AV29: … | AW29: … | AX29: 21 | AY29: - | AZ29: 21 | BA29: 25500 | BB29: - | BC29: 25500 | BD29: 232 | BE29: … | BF29: … | BG29: 65 | BH29: 0 | BI29: 65 | BJ29: 48600 | BK29: 2 | BL29: 48600 | BM29: 16 | BN29: … | BO29: … | BP29: 1 | BQ29: 0 | BR29: 1 | BS29: 219 | BT29: 17 | BU29: 202 | BV29: … | BW29: … | BX29: … | BY29: … | BZ29: … | CA29: … | CB29: … | CC29: … | CD29: … | CE29: 83 | CF29: … | CG29: … | CH29: 8 | CI29: 0 | CJ29: 8 | CK29: 2970 | CL29: 28 | CM29: 2940 | CN29: 89 | CO29: … | CP29: … | CQ29: 13 | CR29: - | CS29: 13 | CT29: 1680 | CU29: - | CV29: 1680 | CW29: 94 | CX29: … | CY29: … | CZ29: 6 | DA29: - | DB29: 6 | DC29: 2500 | DD29: - | DE29: 2500 | DF29: 150 | DG29: … | DH29: … | DI29: 24 | DJ29: - | DK29: 24 | DL29: 38600 | DM29: - | DN29: 38600 | DO29: 208 | DP29: … | DQ29: … | DR29: 21 | DS29: - | DT29: 21 | DU29: 7860 | DV29: - | DW29: 7860 | DX29: 47 | DY29: … | DZ29: … | EA29: 6 | EB29: 0 | EC29: 6 | ED29: 2120 | EE29: 2 | EF29: 2120 | EG29: … | EH29: … | EI29: … | EJ29: … | EK29: … | EL29: … | EM29: … | EN29: … | EO29: … | EP29: … | EQ29: … | ER29: … | ES29: 29 | ET29: 13 | EU29: 16 | EV29: 16500 | EW29: 6100 | EX29: 10400 | EY29: 2670 | EZ29: … | FA29: … | FB29: 519 | FC29: 474 | FD29: 46 | FE29: 50200 | FF29: 41200 | FG29: 9040
A30: 平.9(1997) | B30: 5720 | C30: … | D30: … | E30: 1190 | F30: 701 | G30: 487 | H30: 356200 | I30: 110100 | J30: 246100 | K30: … | L30: … | M30: … | N30: 313 | O30: 133 | P30: 180 | Q30: 104600 | R30: 43600 | S30: 61000 | T30: 1000 | U30: … | V30: … | W30: 198 | X30: 53 | Y30: 145 | Z30: 68800 | AA30: 18500 | AB30: 50300 | AC30: 153 | AD30: … | AE30: … | AF30: 34 | AG30: 2 | AH30: 32 | AI30: 9970 | AJ30: 634 | AK30: 9330 | AL30: 1040 | AM30: … | AN30: … | AO30: 81 | AP30: 78 | AQ30: 3 | AR30: 25800 | AS30: 24500 | AT30: 1380 | AU30: 147 | AV30: … | AW30: … | AX30: 20 | AY30: - | AZ30: 20 | BA30: 24300 | BB30: - | BC30: 24300 | BD30: 238 | BE30: … | BF30: … | BG30: 70 | BH30: 0 | BI30: 69 | BJ30: 52700 | BK30: 149 | BL30: 52500 | BM30: 14 | BN30: … | BO30: … | BP30: 0 | BQ30: 0 | BR30: 0 | BS30: 182 | BT30: 12 | BU30: 170 | BV30: - | BW30: … | BX30: … | BY30: - | BZ30: - | CA30: - | CB30: - | CC30: - | CD30: - | CE30: 79 | CF30: … | CG30: … | CH30: 8 | CI30: - | CJ30: 8 | CK30: 2410 | CL30: - | CM30: 2410 | CN30: 90 | CO30: … | CP30: … | CQ30: 13 | CR30: - | CS30: 13 | CT30: 1790 | CU30: - | CV30: 1790 | CW30: 75 | CX30: … | CY30: … | CZ30: 4 | DA30: 0 | DB30: 4 | DC30: 2030 | DD30: 3 | DE30: 2030 | DF30: 151 | DG30: … | DH30: … | DI30: 24 | DJ30: - | DK30: 24 | DL30: 37000 | DM30: - | DN30: 37000 | DO30: 169 | DP30: … | DQ30: … | DR30: 21 | DS30: - | DT30: 21 | DU30: 6900 | DV30: - | DW30: 6900 | DX30: 52 | DY30: … | DZ30: … | EA30: 5 | EB30: 0 | EC30: 5 | ED30: 2400 | EE30: 9 | EF30: 2390 | EG30: … | EH30: … | EI30: … | EJ30: … | EK30: … | EL30: … | EM30: … | EN30: … | EO30: … | EP30: … | EQ30: … | ER30: … | ES30: 28 | ET30: 11 | EU30: 16 | EV30: 14000 | EW30: 4810 | EX30: 9230 | EY30: 2640 | EZ30: … | FA30: … | FB30: 512 | FC30: 472 | FD30: 40 | FE30: 47500 | FF30: 39700 | FG30: 7740
A31: 平.10(1998) | B31: … | C31: … | D31: … | E31: … | F31: … | G31: … | H31: … | I31: … | J31: … | K31: … | L31: … | M31: … | N31: 320 | O31: 122 | P31: 198 | Q31: 99800 | R31: 37000 | S31: 62900 | T31: 908 | U31: … | V31: … | W31: 210 | X31: 49 | Y31: 161 | Z31: 66500 | AA31: 15200 | AB31: 51300 | AC31: 136 | AD31: … | AE31: … | AF31: 35 | AG31: 2 | AH31: 32 | AI31: 10400 | AJ31: 698 | AK31: 9660 | AL31: 956 | AM31: … | AN31: … | AO31: 76 | AP31: 72 | AQ31: 5 | AR31: 23000 | AS31: 21100 | AT31: 1880 | AU31: 134 | AV31: … | AW31: … | AX31: 19 | AY31: - | AZ31: 19 | BA31: 23000 | BB31: - | BC31: 23000 | BD31: 237 | BE31: … | BF31: … | BG31: 71 | BH31: 0 | BI31: 71 | BJ31: 51900 | BK31: 3 | BL31: 51800 | BM31: 13 | BN31: … | BO31: … | BP31: 0 | BQ31: 0 | BR31: 0 | BS31: 160 | BT31: 8 | BU31: 152 | BV31: … | BW31: … | BX31: … | BY31: … | BZ31: … | CA31: … | CB31: … | CC31: … | CD31: … | CE31: 73 | CF31: … | CG31: … | CH31: 7 | CI31: - | CJ31: 7 | CK31: 1910 | CL31: - | CM31: 1910 | CN31: 90 | CO31: … | CP31: … | CQ31: 14 | CR31: - | CS31: 14 | CT31: 2490 | CU31: - | CV31: 2490 | CW31: 68 | CX31: … | CY31: … | CZ31: 4 | DA31: 0 | DB31: 4 | DC31: 1610 | DD31: 3 | DE31: 1600 | DF31: 153 | DG31: … | DH31: … | DI31: 29 | DJ31: - | DK31: 29 | DL31: 43500 | DM31: - | DN31: 43500 | DO31: 163 | DP31: … | DQ31: … | DR31: 21 | DS31: - | DT31: 21 | DU31: 7040 | DV31: - | DW31: 7040 | DX31: 51 | DY31: … | DZ31: … | EA31: 6 | EB31: 0 | EC31: 6 | ED31: 2110 | EE31: 7 | EF31: 2100 | EG31: … | EH31: … | EI31: … | EJ31: … | EK31: … | EL31: … | EM31: … | EN31: … | EO31: … | EP31: … | EQ31: … | ER31: … | ES31: 27 | ET31: 11 | EU31: 16 | EV31: 12200 | EW31: 4660 | EX31: 7520 | EY31: 2580 | EZ31: … | FA31: … | FB31: 520 | FC31: 482 | FD31: 39 | FE31: 47000 | FF31: 39600 | FG31: 7340
A32: 平.11(1999) | B32: 540 | C32: … | D32: … | E32: 1190 | F32: 697 | G32: 507 | H32: 356900 | I32: 100200 | J32: 256700 | K32: … | L32: … | M32: … | N32: 320 | O32: 121 | P32: 199 | Q32: 106000 | R32: 42000 | S32: 64000 | T32: 93 | U32: … | V32: … | W32: 212 | X32: 50 | Y32: 163 | Z32: 69100 | AA32: 16800 | AB32: 52300 | AC32: 13 | AD32: … | AE32: … | AF32: 35 | AG32: 2 | AH32: 34 | AI32: 11100 | AJ32: 615 | AK32: 10500 | AL32: 91 | AM32: … | AN32: … | AO32: 73 | AP32: 70 | AQ32: 3 | AR32: 25800 | AS32: 24600 | AT32: 1210 | AU32: 13 | AV32: … | AW32: … | AX32: 18 | AY32: - | AZ32: 18 | BA32: 22900 | BB32: - | BC32: 22900 | BD32: 23 | BE32: … | BF32: … | BG32: 71 | BH32: 0 | BI32: 71 | BJ32: 56900 | BK32: 3 | BL32: 56900 | BM32: … | BN32: … | BO32: … | BP32: … | BQ32: … | BR32: … | BS32: … | BT32: … | BU32: … | BV32: - | BW32: … | BX32: … | BY32: - | BZ32: - | CA32: - | CB32: - | CC32: - | CD32: - | CE32: 7 | CF32: … | CG32: … | CH32: 8 | CI32: - | CJ32: 8 | CK32: 2090 | CL32: - | CM32: 2090 | CN32: 9 | CO32: … | CP32: … | CQ32: 13 | CR32: - | CS32: 13 | CT32: 2220 | CU32: - | CV32: 2220 | CW32: 6 | CX32: … | CY32: … | CZ32: 3 | DA32: - | DB32: 3 | DC32: 1120 | DD32: - | DE32: 1120 | DF32: 16 | DG32: … | DH32: … | DI32: 28 | DJ32: - | DK32: 28 | DL32: 46000 | DM32: - | DN32: 46000 | DO32: 17 | DP32: … | DQ32: … | DR32: 21 | DS32: - | DT32: 21 | DU32: 7280 | DV32: - | DW32: 7280 | DX32: 5 | DY32: … | DZ32: … | EA32: 6 | EB32: 0 | EC32: 6 | ED32: 2140 | EE32: 25 | EF32: 2110 | EG32: 0 | EH32: … | EI32: … | EJ32: 1 | EK32: - | EL32: 1 | EM32: 252 | EN32: - | EO32: 252 | EP32: 50 | EQ32: … | ER32: … | ES32: 26 | ET32: 10 | EU32: 16 | EV32: 11100 | EW32: 4090 | EX32: 7030 | EY32: 257 | EZ32: … | FA32: … | FB32: 521 | FC32: 483 | FD32: 38 | FE32: 46100 | FF32: 39000 | FG32: 7080
A33: 平.12(2000) | B33: 525 | C33: … | D33: … | E33: 1170 | F33: 687 | G33: 481 | H33: 349300 | I33: 84600 | J33: 264800 | K33: … | L33: … | M33: … | N33: 297 | O33: 100 | P33: 197 | Q33: 90600 | R33: 28900 | S33: 61700 | T33: 77 | U33: … | V33: … | W33: 200 | X33: 40 | Y33: 160 | Z33: 63300 | AA33: 13500 | AB33: 49700 | AC33: 16 | AD33: … | AE33: … | AF33: 35 | AG33: 1 | AH33: 34 | AI33: 11100 | AJ33: 356 | AK33: 10800 | AL33: 85 | AM33: … | AN33: … | AO33: 62 | AP33: 59 | AQ33: 3 | AR33: 16200 | AS33: 15000 | AT33: 1240 | AU33: 12 | AV33: … | AW33: … | AX33: 18 | AY33: - | AZ33: 18 | BA33: 21900 | BB33: - | BC33: 21900 | BD33: 22 | BE33: … | BF33: … | BG33: 64 | BH33: 0 | BI33: 64 | BJ33: 54100 | BK33: 3 | BL33: 54100 | BM33: … | BN33: … | BO33: … | BP33: … | BQ33: … | BR33: … | BS33: … | BT33: … | BU33: … | BV33: - | BW33: … | BX33: … | BY33: - | BZ33: - | CA33: - | CB33: - | CC33: - | CD33: - | CE33: 6 | CF33: … | CG33: … | CH33: 7 | CI33: - | CJ33: 7 | CK33: 1880 | CL33: - | CM33: 1880 | CN33: 9 | CO33: … | CP33: … | CQ33: 12 | CR33: - | CS33: 12 | CT33: 1810 | CU33: - | CV33: 1810 | CW33: 5 | CX33: … | CY33: … | CZ33: 3 | DA33: - | DB33: 3 | DC33: 1050 | DD33: - | DE33: 1050 | DF33: 15 | DG33: … | DH33: … | DI33: 28 | DJ33: - | DK33: 28 | DL33: 62700 | DM33: - | DN33: 62700 | DO33: 16 | DP33: … | DQ33: … | DR33: 21 | DS33: - | DT33: 21 | DU33: 8450 | DV33: - | DW33: 8450 | DX33: 6 | DY33: … | DZ33: … | EA33: 6 | EB33: 0 | EC33: 6 | ED33: 2490 | EE33: 15 | EF33: 2480 | EG33: 1 | EH33: … | EI33: … | EJ33: 1 | EK33: - | EL33: 1 | EM33: 419 | EN33: - | EO33: 419 | EP33: 44 | EQ33: … | ER33: … | ES33: 25 | ET33: 10 | EU33: 15 | EV33: 9740 | EW33: 3900 | EX33: 5850 | EY33: 258 | EZ33: … | FA33: … | FB33: 546 | FC33: 508 | FD33: 38 | FE33: 46600 | FF33: 39500 | FG33: 7110
A34: 平.13(2001) | B34: 513 | C34: … | D34: … | E34: 1140 | F34: 675 | G34: 468 | H34: 337300 | I34: 81600 | J34: 255700 | K34: … | L34: … | M34: … | N34: 291 | O34: 96 | P34: 195 | Q34: 87200 | R34: 26400 | S34: 60800 | T34: 72 | U34: … | V34: … | W34: 196 | X34: 39 | Y34: 158 | Z34: 60700 | AA34: 11900 | AB34: 48700 | AC34: 15 | AD34: … | AE34: … | AF34: 35 | AG34: 1 | AH34: 33 | AI34: 10900 | AJ34: 382 | AK34: 10500 | AL34: 80 | AM34: … | AN34: … | AO34: 60 | AP34: 56 | AQ34: 4 | AR34: 15600 | AS34: 14000 | AT34: 1540 | AU34: 10 | AV34: … | AW34: … | AX34: 15 | AY34: - | AZ34: 15 | BA34: 18800 | BB34: - | BC34: 18800 | BD34: 22 | BE34: … | BF34: … | BG34: 61 | BH34: 0 | BI34: 61 | BJ34: 51100 | BK34: 3 | BL34: 51100 | BM34: … | BN34: … | BO34: … | BP34: … | BQ34: … | BR34: … | BS34: … | BT34: … | BU34: … | BV34: - | BW34: … | BX34: … | BY34: - | BZ34: - | CA34: - | CB34: - | CC34: - | CD34: - | CE34: 5 | CF34: … | CG34: … | CH34: x | CI34: - | CJ34: x | CK34: x | CL34: - | CM34: x | CN34: 8 | CO34: … | CP34: … | CQ34: 11 | CR34: - | CS34: 11 | CT34: 1620 | CU34: - | CV34: 1620 | CW34: 4 | CX34: … | CY34: … | CZ34: 3 | DA34: - | DB34: 3 | DC34: 940 | DD34: - | DE34: 940 | DF34: 16 | DG34: … | DH34: … | DI34: 29 | DJ34: - | DK34: 29 | DL34: 64000 | DM34: - | DN34: 64000 | DO34: 16 | DP34: … | DQ34: … | DR34: 21 | DS34: - | DT34: 21 | DU34: 7230 | DV34: - | DW34: 7230 | DX34: 6 | DY34: … | DZ34: … | EA34: x | EB34: - | EC34: x | ED34: x | EE34: - | EF34: x | EG34: 1 | EH34: … | EI34: … | EJ34: 1 | EK34: - | EL34: 1 | EM34: 301 | EN34: - | EO34: 301 | EP34: 46 | EQ34: … | ER34: … | ES34: 24 | ET34: 11 | EU34: 13 | EV34: 9460 | EW34: 4370 | EX34: 5090 | EY34: 250 | EZ34: … | FA34: … | FB34: 537 | FC34: 500 | FD34: 37 | FE34: 45800 | FF34: 38900 | FG34: 6900
A35: 平.14(2002) | B35: 5000 | C35: … | D35: … | E35: 110000 | F35: … | G35: … | H35: 327700 | I35: … | J35: 250800 | K35: … | L35: … | M35: … | N35: 27700 | O35: … | P35: … | Q35: 83000 | R35: … | S35: 61100 | T35: 681 | U35: … | V35: … | W35: 18700 | X35: … | Y35: … | Z35: 58600 | AA35: … | AB35: 49600 | AC35: 148 | AD35: … | AE35: … | AF35: 3320 | AG35: … | AH35: … | AI35: 10400 | AJ35: … | AK35: 10100 | AL35: 712 | AM35: … | AN35: … | AO35: 5600 | AP35: … | AQ35: … | AR35: 14000 | AS35: … | AT35: 1390 | AU35: 98 | AV35: … | AW35: … | AX35: 1470 | AY35: … | AZ35: … | BA35: 18100 | BB35: … | BC35: 18100 | BD35: 213 | BE35: … | BF35: … | BG35: 6000 | BH35: … | BI35: … | BJ35: 47200 | BK35: … | BL35: 47200 | BM35: … | BN35: … | BO35: … | BP35: … | BQ35: … | BR35: … | BS35: … | BT35: … | BU35: … | BV35: - | BW35: … | BX35: … | BY35: - | BZ35: … | CA35: … | CB35: - | CC35: … | CD35: - | CE35: 38 | CF35: … | CG35: … | CH35: 379 | CI35: … | CJ35: … | CK35: 1360 | CL35: … | CM35: 1360 | CN35: 73 | CO35: … | CP35: … | CQ35: 1180 | CR35: … | CS35: … | CT35: 1780 | CU35: … | CV35: 1780 | CW35: 32 | CX35: … | CY35: … | CZ35: 221 | DA35: … | DB35: … | DC35: 814 | DD35: … | DE35: 814 | DF35: 152 | DG35: … | DH35: … | DI35: 2920 | DJ35: … | DK35: … | DL35: 64300 | DM35: … | DN35: 64300 | DO35: 159 | DP35: … | DQ35: … | DR35: 2170 | DS35: … | DT35: … | DU35: 7850 | DV35: … | DW35: 7850 | DX35: 57 | DY35: … | DZ35: … | EA35: 765 | EB35: … | EC35: … | ED35: 2550 | EE35: … | EF35: 2550 | EG35: 5 | EH35: … | EI35: … | EJ35: 88 | EK35: … | EL35: … | EM35: 296 | EN35: … | EO35: 296 | EP35: 476 | EQ35: … | ER35: … | ES35: 2310 | ET35: … | EU35: … | EV35: 11700 | EW35: … | EX35: 5510 | EY35: 2430 | EZ35: … | FA35: … | FB35: 52000 | FC35: … | FD35: … | FE35: 44900 | FF35: … | FG35: 7040
A36: 平.15(2003) | B36: 4790 | C36: … | D36: … | E36: 106000 | F36: … | G36: … | H36: 314300 | I36: … | J36: 243000 | K36: … | L36: … | M36: … | N36: 25300 | O36: … | P36: … | Q36: 76900 | R36: … | S36: 57600 | T36: 632 | U36: … | V36: … | W36: 17000 | X36: … | Y36: … | Z36: 52700 | AA36: … | AB36: 45000 | AC36: 123 | AD36: … | AE36: … | AF36: 3560 | AG36: … | AH36: … | AI36: 11600 | AJ36: … | AK36: 11300 | AL36: 633 | AM36: … | AN36: … | AO36: 4730 | AP36: … | AQ36: … | AR36: 12700 | AS36: … | AT36: 1340 | AU36: 94 | AV36: … | AW36: … | AX36: 1660 | AY36: … | AZ36: … | BA36: 20100 | BB36: … | BC36: 20100 | BD36: 205 | BE36: … | BF36: … | BG36: 5920 | BH36: … | BI36: … | BJ36: 45300 | BK36: … | BL36: 45300 | BM36: … | BN36: … | BO36: … | BP36: … | BQ36: … | BR36: … | BS36: … | BT36: … | BU36: … | BV36: - | BW36: … | BX36: … | BY36: - | BZ36: … | CA36: … | CB36: - | CC36: … | CD36: - | CE36: 32 | CF36: … | CG36: … | CH36: 336 | CI36: … | CJ36: … | CK36: 1130 | CL36: … | CM36: 1130 | CN36: 72 | CO36: … | CP36: … | CQ36: 1200 | CR36: … | CS36: … | CT36: 1750 | CU36: … | CV36: 1750 | CW36: 40 | CX36: … | CY36: … | CZ36: 271 | DA36: … | DB36: … | DC36: 1010 | DD36: … | DE36: 1010 | DF36: 147 | DG36: … | DH36: … | DI36: 2840 | DJ36: … | DK36: … | DL36: 64100 | DM36: … | DN36: 64100 | DO36: 162 | DP36: … | DQ36: … | DR36: 2190 | DS36: … | DT36: … | DU36: 7740 | DV36: … | DW36: 7740 | DX36: 48 | DY36: … | DZ36: … | EA36: 768 | EB36: … | EC36: … | ED36: 2310 | EE36: … | EF36: 2310 | EG36: 4 | EH36: … | EI36: … | EJ36: 55 | EK36: … | EL36: … | EM36: 252 | EN36: … | EO36: 252 | EP36: 454 | EQ36: … | ER36: … | ES36: 2290 | ET36: … | EU36: … | EV36: 11800 | EW36: … | EX36: 5380 | EY36: 2410 | EZ36: … | FA36: … | FB36: 51300 | FC36: … | FD36: … | FE36: 42200 | FF36: … | FG36: 5990
