Workbook

Sheet 切き類グラフ（静岡）
A1: 花き生産出荷統計
A2: 切り花類+鉢もの類+花壇用苗もの類の主な品目
A3: 品目別作付面積及び出荷量累年統計
A4: 静岡
A5: 年次 | B5: きく | C5: きく | D5: カーネーション | E5: カーネーション | F5: ばら | G5: ばら | H5: ガーベラ | I5: ガーベラ | J5: トルコギキョウ | K5: トルコギキョウ | L5: 切り枝 | M5: 切り枝 | N5: 洋ラン類 | O5: 洋ラン類 | P5: 観葉植物 | Q5: 観葉植物 | R5: 花木類 | S5: 花木類 | T5: パンジー | U5: パンジー
B6: 作付面積 | C6: 出荷量 | D6: 作付面積 | E6: 出荷量 | F6: 作付面積 | G6: 出荷量 | H6: 作付面積 | I6: 出荷量 | J6: 作付面積 | K6: 出荷量 | L6: 作付面積 | M6: 出荷量 | N6: 収穫面積 | O6: 出荷量 | P6: 収穫面積 | Q6: 出荷量 | R6: 収穫面積 | S6: 出荷量 | T6: 作付面積 | U6: 出荷量
B7: 計 | C7: 計 | D7: 計 | E7: 計 | F7: 計 | G7: 計 | H7: 計 | I7: 計 | J7: 計 | K7: 計 | L7: 計 | M7: 計 | N7: 計 | O7: 計 | P7: 計 | Q7: 計 | R7: 計 | S7: 計 | T7: 計 | U7: 計
B8: ha | C8: 1000本 | D8: ha | E8: 1000本 | F8: ha | G8: 1000本 | H8: ha | I8: 1000本 | J8: ha | K8: 1000本 | L8: ha | M8: 1000本 | N8: a | O8: 1000鉢 | P8: a | Q8: 1000鉢 | R8: a | S8: 1000鉢 | T8: a | U8: 1000本
A9: ='切り花類（静岡）'!A3 -> 品目別作付面積及び出荷量累年統計
A11: ='切り花類（静岡）'!A23 -> 平.2(1990) | B11: ='切り花類（静岡）'!N23*100 -> 26000 | C11: ='切り花類（静岡）'!Q23 -> 96900 | D11: ='切り花類（静岡） (2)'!F23*100 -> 2800 | E11: ='切り花類（静岡） (2)'!G23 -> 33700 | F11: ='切り花類（静岡） (2)'!H23*100 -> 4900 | G11: ='切り花類（静岡） (2)'!I23 -> 43000 | H11: ='切り花類（静岡） (2)'!J23*100 -> 1100 | I11: ='切り花類（静岡） (2)'!K23 -> 12600 | J11: ='切り花類（静岡） (2)'!L23*100 -> 900 | K11: ='切り花類（静岡） (2)'!M23 -> 3680 | L11: ='切り花類（静岡） (2)'!N23*100 -> 36400 | M11: ='切り花類（静岡） (2)'!O23 -> 29700 | N11: ='鉢もの類（静岡） (2)'!D23 -> 976 | O11: ='鉢もの類（静岡） (2)'!E23 -> 873 | P11: ='鉢もの類（静岡） (2)'!F23 -> 1800 | Q11: ='鉢もの類（静岡） (2)'!G23 -> 1980 | R11: ='鉢もの類（静岡） (2)'!H23 -> 285 | S11: ='鉢もの類（静岡） (2)'!I23 -> 411 | T11: ='花壇用苗もの類（静岡） (2)'!D23 -> 234 | U11: ='花壇用苗もの類（静岡） (2)'!E23 -> 1190
A12: ='切り花類（静岡）'!A33 -> 平.12(2000) | B12: ='切り花類（静岡）'!N33*100 -> 29700 | C12: ='切り花類（静岡）'!Q33 -> 90600 | D12: ='切り花類（静岡） (2)'!F33*100 -> 1800 | E12: ='切り花類（静岡） (2)'!G33 -> 21900 | F12: ='切り花類（静岡） (2)'!H33*100 -> 6400 | G12: ='切り花類（静岡） (2)'!I33 -> 54100 | H12: ='切り花類（静岡） (2)'!J33*100 -> 2800 | I12: ='切り花類（静岡） (2)'!K33 -> 62700 | J12: ='切り花類（静岡） (2)'!L33*100 -> 2100 | K12: ='切り花類（静岡） (2)'!M33 -> 8450 | L12: ='切り花類（静岡） (2)'!N33*100 -> 54600 | M12: ='切り花類（静岡） (2)'!O33 -> 46600 | N12: ='鉢もの類（静岡） (2)'!D33 -> 1740 | O12: ='鉢もの類（静岡） (2)'!E33 -> 1480 | P12: ='鉢もの類（静岡） (2)'!F33 -> 2340 | Q12: ='鉢もの類（静岡） (2)'!G33 -> 4510 | R12: ='鉢もの類（静岡） (2)'!H33 -> 2080 | S12: ='鉢もの類（静岡） (2)'!I33 -> 2310 | T12: ='花壇用苗もの類（静岡） (2)'!D33 -> 2240 | U12: ='花壇用苗もの類（静岡） (2)'!E33 -> 7670
A13: 平.22(2010) | B13: 17200 | C13: 50800 | D13: 979 | E13: 12500 | F13: 4330 | G13: 29400 | H13: 2700 | I13: 61100 | J13: 1900 | K13: 5980 | L13: 43000 | M13: 33500 | N13: 1110 | O13: 1020 | P13: 2110 | Q13: 3950 | R13: 1380 | S13: 2480 | T13: 1260 | U13: 5510
A14: 平.23(2011) | B14: 16900 | C14: 49700 | D14: 947 | E14: 12000 | F14: 4050 | G14: 26100 | H14: 2690 | I14: 60900 | J14: 1910 | K14: 5740 | L14: 42500 | M14: 33300 | N14: 1100 | O14: 1000 | P14: 1960 | Q14: 3480 | R14: 1410 | S14: 2540 | T14: 1290 | U14: 5800
A15: 平.24(2012) | B15: 16600 | C15: 48000 | D15: 895 | E15: 11600 | F15: 3960 | G15: 24400 | H15: 2730 | I15: 61400 | J15: 1870 | K15: 5720 | L15: 43000 | M15: 33500 | N15: 914 | O15: 929 | P15: 2030 | Q15: 3510 | R15: 1530 | S15: 2600 | T15: 1220 | U15: 5550
A16: 平.25(2013) | B16: 16500 | C16: 48400 | D16: 861 | E16: 11300 | F16: 3790 | G16: 24800 | H16: 2850 | I16: 62800 | J16: 1920 | K16: 5680 | L16: 43200 | M16: 31900 | N16: 896 | O16: 830 | P16: 2110 | Q16: 3730 | R16: 1490 | S16: 2690 | T16: 1210 | U16: 5400
A17: 平.26(2014) | B17: 16500 | C17: 48700 | D17: 795 | E17: 10500 | F17: 3690 | G17: 23800 | H17: 2870 | I17: 63000 | J17: 1850 | K17: 5300 | L17: 43500 | M17: 32300 | N17: 899 | O17: 828 | P17: 2150 | Q17: 3760 | R17: 1490 | S17: 2590 | T17: 1170 | U17: 5340
A18: 平.27(2015) | B18: 16100 | C18: 47300 | D18: 788 | E18: 10200 | F18: 3640 | G18: 22900 | H18: 2850 | I18: 62500 | J18: 1850 | K18: 4960 | L18: 43500 | M18: 32300 | N18: 879 | O18: 768 | P18: 2060 | Q18: 3570 | R18: 1280 | S18: 2370 | T18: 1090 | U18: 5000
A19: 平.28(2016) | B19: 16000 | C19: 46500 | D19: 787 | E19: 10200 | F19: 3530 | G19: 22300 | H19: 2860 | I19: 62900 | J19: 1900 | K19: 4940 | L19: 42700 | M19: 32000 | N19: 895 | O19: 791 | P19: 2180 | Q19: 3620 | R19: 1290 | S19: 2400 | T19: 1110 | U19: 5310
A20: 平.29(2017) | B20: 15900 | C20: 45300 | D20: 780 | E20: 10100 | F20: 3430 | G20: 21500 | H20: 2820 | I20: 62000 | J20: 1800 | K20: 4810 | L20: 42100 | M20: 31300 | N20: 886 | O20: 717 | P20: 2180 | Q20: 4210 | R20: 1290 | S20: 2330 | T20: 1100 | U20: 5310
A21: 平.30(2018) | B21: 15600 | C21: 43700 | D21: 780 | E21: 9670 | F21: 3400 | G21: 20500 | H21: 2730 | I21: 59000 | J21: 1750 | K21: 4670 | L21: 42700 | M21: 31800 | N21: 882 | O21: 687 | P21: 2180 | Q21: 4400 | R21: 1290 | S21: 2220 | T21: 1100 | U21: 5190
A22: 令.元(2019) | B22: 15500 | C22: 45300 | D22: 768 | E22: 9370 | F22: 3000 | G22: 20000 | H22: 2560 | I22: 56300 | J22: 1650 | K22: 4410 | L22: 41900 | M22: 31500 | N22: 867 | O22: 746 | P22: 2180 | Q22: 4880 | R22: 1290 | S22: 2220 | T22: 1100 | U22: 5120
A23: 令.2(2020) | B23: 15200 | C23: 44400 | D23: 742 | E23: 9050 | F23: 2940 | G23: 19200 | H23: 2450 | I23: 52900 | J23: 1630 | K23: 4140 | L23: 42100 | M23: 31200 | N23: 833 | O23: 593 | P23: 2180 | Q23: 4970 | R23: 1290 | S23: 2140 | T23: 1060 | U23: 4990
A24: 令.3(2021) | B24: 15100 | C24: 44100 | D24: 710 | E24: 8660 | F24: 2920 | G24: 19200 | H24: 2410 | I24: 52300 | J24: 1630 | K24: 4120 | L24: 42400 | M24: 31500 | N24: 804 | O24: 525 | P24: 2220 | Q24: 5190 | R24: 1290 | S24: 2090 | T24: 1040 | U24: 4880
... A27: 令.6(2024) | B27: 14100 | C27: 38100 | D27: 643 | E27: 6820 | F27: 2600 | G27: 15800 | H27: 2200 | I27: 45800 | J27: 1570 | K27: 3610 | L27: 42800 | M27: 31300 | N27: 748 | O27: 365 | P27: 2210 | Q27: 5040 | R27: 1230 | S27: 1930 | T27: 966 | U27: 3790

Sheet 切り花類（静岡）
A1: 花き生産出荷統計
A2: 切り花類
A3: 品目別作付面積及び出荷量累年統計
A4: 静岡
A5: 年次 | B5: 切り花類 | K5: きく | T5: 大・中輪ぎく | AC5: スプレイぎく | AL5: 小ぎく | AU5: カーネーション | BD5: ばら | BM5: ストック | BV5: りんどう | CE5: 宿根かすみそう | CN5: 洋ラン類 | CW5: スターチス | DF5: ガーベラ | DO5: トルコギキョウ | DX5: ゆり | EG5: アルストロメリア | EP5: 切り葉 | EY5: 切り枝
B6: 栽培農家数 | E6: 作付面積 | H6: 出荷量 | K6: 栽培農家数 | N6: 作付面積 | Q6: 出荷量 | T6: 栽培農家数 | W6: 作付面積 | Z6: 出荷量 | AC6: 栽培農家数 | AF6: 作付面積 | AI6: 出荷量 | AL6: 栽培農家数 | AO6: 作付面積 | AR6: 出荷量 | AU6: 栽培農家数 | AX6: 作付面積 | BA6: 出荷量 | BD6: 栽培農家数 | BG6: 作付面積 | BJ6: 出荷量 | BM6: 栽培農家数 | BP6: 作付面積 | BS6: 出荷量 | BV6: 栽培農家数 | BY6: 作付面積 | CB6: 出荷量 | CE6: 栽培農家数 | CH6: 作付面積 | CK6: 出荷量 | CN6: 栽培農家数 | CQ6: 作付面積 | CT6: 出荷量 | CW6: 栽培農家数 | CZ6: 作付面積 | DC6: 出荷量 | DF6: 栽培農家数 | DI6: 作付面積 | DL6: 出荷量 | DO6: 栽培農家数 | DR6: 作付面積 | DU6: 出荷量 | DX6: 栽培農家数 | EA6: 作付面積 | ED6: 出荷量 | EG6: 栽培農家数 | EJ6: 作付面積 | EM6: 出荷量 | EP6: 栽培農家数 | ES6: 作付面積 | EV6: 出荷量 | EY6: 栽培農家数 | FB6: 作付面積 | FE6: 出荷量
B7: 計 | C7: 露地 | D7: 施設 | E7: 計 | F7: 露地 | G7: 施設 | H7: 計 | I7: 露地 | J7: 施設 | K7: 計 | L7: 露地 | M7: 施設 | N7: 計 | O7: 露地 | P7: 施設 | Q7: 計 | R7: 露地 | S7: 施設 | T7: 計 | U7: 露地 | V7: 施設 | W7: 計 | X7: 露地 | Y7: 施設 | Z7: 計 | AA7: 露地 | AB7: 施設 | AC7: 計 | AD7: 露地 | AE7: 施設 | AF7: 計 | AG7: 露地 | AH7: 施設 | AI7: 計 | AJ7: 露地 | AK7: 施設 | AL7: 計 | AM7: 露地 | AN7: 施設 | AO7: 計 | AP7: 露地 | AQ7: 施設 | AR7: 計 | AS7: 露地 | AT7: 施設 | AU7: 計 | AV7: 露地 | AW7: 施設 | AX7: 計 | AY7: 露地 | AZ7: 施設 | BA7: 計 | BB7: 露地 | BC7: 施設 | BD7: 計 | BE7: 露地 | BF7: 施設 | BG7: 計 | BH7: 露地 | BI7: 施設 | BJ7: 計 | BK7: 露地 | BL7: 施設 | BM7: 計 | BN7: 露地 | BO7: 施設 | BP7: 計 | BQ7: 露地 | BR7: 施設 | BS7: 計 | BT7: 露地 | BU7: 施設 | BV7: 計 | BW7: 露地 | BX7: 施設 | BY7: 計 | BZ7: 露地 | CA7: 施設 | CB7: 計 | CC7: 露地 | CD7: 施設 | CE7: 計 | CF7: 露地 | CG7: 施設 | CH7: 計 | CI7: 露地 | CJ7: 施設 | CK7: 計 | CL7: 露地 | CM7: 施設 | CN7: 計 | CO7: 露地 | CP7: 施設 | CQ7: 計 | CR7: 露地 | CS7: 施設 | CT7: 計 | CU7: 露地 | CV7: 施設 | CW7: 計 | CX7: 露地 | CY7: 施設 | CZ7: 計 | DA7: 露地 | DB7: 施設 | DC7: 計 | DD7: 露地 | DE7: 施設 | DF7: 計 | DG7: 露地 | DH7: 施設 | DI7: 計 | DJ7: 露地 | DK7: 施設 | DL7: 計 | DM7: 露地 | DN7: 施設 | DO7: 計 | DP7: 露地 | DQ7: 施設 | DR7: 計 | DS7: 露地 | DT7: 施設 | DU7: 計 | DV7: 露地 | DW7: 施設 | DX7: 計 | DY7: 露地 | DZ7: 施設 | EA7: 計 | EB7: 露地 | EC7: 施設 | ED7: 計 | EE7: 露地 | EF7: 施設 | EG7: 計 | EH7: 露地 | EI7: 施設 | EJ7: 計 | EK7: 露地 | EL7: 施設 | EM7: 計 | EN7: 露地 | EO7: 施設 | EP7: 計 | EQ7: 露地 | ER7: 施設 | ES7: 計 | ET7: 露地 | EU7: 施設 | EV7: 計 | EW7: 露地 | EX7: 施設 | EY7: 計 | EZ7: 露地 | FA7: 施設 | FB7: 計 | FC7: 露地 | FD7: 施設 | FE7: 計 | FF7: 露地 | FG7: 施設
B8: 戸 | C8: 戸 | D8: 戸 | E8: ha | F8: ha | G8: ha | H8: 1000本 | I8: 1000本 | J8: 1000本 | K8: 戸 | L8: 戸 | M8: 戸 | N8: ha | O8: ha | P8: ha | Q8: 1000本 | R8: 1000本 | S8: 1000本 | T8: 戸 | U8: 戸 | V8: 戸 | W8: ha | X8: ha | Y8: ha | Z8: 1000本 | AA8: 1000本 | AB8: 1000本 | AC8: 戸 | AD8: 戸 | AE8: 戸 | AF8: ha | AG8: ha | AH8: ha | AI8: 1000本 | AJ8: 1000本 | AK8: 1000本 | AL8: 戸 | AM8: 戸 | AN8: 戸 | AO8: ha | AP8: ha | AQ8: ha | AR8: 1000本 | AS8: 1000本 | AT8: 1000本 | AU8: 戸 | AV8: 戸 | AW8: 戸 | AX8: ha | AY8: ha | AZ8: ha | BA8: 1000本 | BB8: 1000本 | BC8: 1000本 | BD8: 戸 | BE8: 戸 | BF8: 戸 | BG8: ha | BH8: ha | BI8: ha | BJ8: 1000本 | BK8: 1000本 | BL8: 1000本 | BM8: 戸 | BN8: 戸 | BO8: 戸 | BP8: ha | BQ8: ha | BR8: ha | BS8: 1000本 | BT8: 1000本 | BU8: 1000本 | BV8: 戸 | BW8: 戸 | BX8: 戸 | BY8: ha | BZ8: ha | CA8: ha | CB8: 1000本 | CC8: 1000本 | CD8: 1000本 | CE8: 戸 | CF8: 戸 | CG8: 戸 | CH8: ha | CI8: ha | CJ8: ha | CK8: 1000本 | CL8: 1000本 | CM8: 1000本 | CN8: 戸 | CO8: 戸 | CP8: 戸 | CQ8: ha | CR8: ha | CS8: ha | CT8: 1000本 | CU8: 1000本 | CV8: 1000本 | CW8: 戸 | CX8: 戸 | CY8: 戸 | CZ8: ha | DA8: ha | DB8: ha | DC8: 1000本 | DD8: 1000本 | DE8: 1000本 | DF8: 戸 | DG8: 戸 | DH8: 戸 | DI8: ha | DJ8: ha | DK8: ha | DL8: 1000本 | DM8: 1000本 | DN8: 1000本 | DO8: 戸 | DP8: 戸 | DQ8: 戸 | DR8: ha | DS8: ha | DT8: ha | DU8: 1000本 | DV8: 1000本 | DW8: 1000本 | DX8: 戸 | DY8: 戸 | DZ8: 戸 | EA8: ha | EB8: ha | EC8: ha | ED8: 1000本 | EE8: 1000本 | EF8: 1000本 | EG8: 戸 | EH8: 戸 | EI8: 戸 | EJ8: ha | EK8: ha | EL8: ha | EM8: 1000本 | EN8: 1000本 | EO8: 1000本 | EP8: 戸 | EQ8: 戸 | ER8: 戸 | ES8: ha | ET8: ha | EU8: ha | EV8: 1000本 | EW8: 1000本 | EX8: 1000本 | EY8: 戸 | EZ8: 戸 | FA8: 戸 | FB8: ha | FC8: ha | FD8: ha | FE8: 1000本 | FF8: 1000本 | FG8: 1000本
A9: 昭.51(1976) | B9: … | C9: … | D9: … | E9: … | F9: … | G9: … | H9: … | I9: … | J9: … | K9: 2710 | L9: 2040 | M9: 935 | N9: 229 | O9: 154 | P9: 75 | Q9: 98800 | R9: 62700 | S9: 36100 | T9: … | U9: … | V9: … | W9: … | X9: … | Y9: … | Z9: … | AA9: … | AB9: … | AC9: … | AD9: … | AE9: … | AF9: … | AG9: … | AH9: … | AI9: … | AJ9: … | AK9: … | AL9: … | AM9: … | AN9: … | AO9: … | AP9: … | AQ9: … | AR9: … | AS9: … | AT9: … | AU9: 243 | AV9: - | AW9: 243 | AX9: 23 | AY9: - | AZ9: 23 | BA9: 37900 | BB9: - | BC9: 37900 | BD9: 153 | BE9: - | BF9: 153 | BG9: 24 | BH9: - | BI9: 24 | BJ9: 26700 | BK9: - | BL9: 26700 | BM9: … | BN9: … | BO9: … | BP9: … | BQ9: … | BR9: … | BS9: … | BT9: … | BU9: … | BV9: … | BW9: … | BX9: … | BY9: … | BZ9: … | CA9: … | CB9: … | CC9: … | CD9: … | CE9: … | CF9: … | CG9: … | CH9: … | CI9: … | CJ9: … | CK9: … | CL9: … | CM9: … | CN9: … | CO9: … | CP9: … | CQ9: … | CR9: … | CS9: … | CT9: … | CU9: … | CV9: … | CW9: … | CX9: … | CY9: … | CZ9: … | DA9: … | DB9: … | DC9: … | DD9: … | DE9: … | DF9: … | DG9: … | DH9: … | DI9: … | DJ9: … | DK9: … | DL9: … | DM9: … | DN9: … | DO9: … | DP9: … | DQ9: … | DR9: … | DS9: … | DT9: … | DU9: … | DV9: … | DW9: … | DX9: 87 | DY9: 12 | DZ9: 76 | EA9: 2 | EB9: 0 | EC9: 2 | ED9: 1170 | EE9: 171 | EF9: 997 | EG9: … | EH9: … | EI9: … | EJ9: … | EK9: … | EL9: … | EM9: … | EN9: … | EO9: … | EP9: … | EQ9: … | ER9: … | ES9: … | ET9: … | EU9: … | EV9: … | EW9: … | EX9: … | EY9: … | EZ9: … | FA9: … | FB9: … | FC9: … | FD9: … | FE9: … | FF9: … | FG9: …
A10: 昭.52(1977) | B10: … | C10: … | D10: … | E10: … | F10: … | G10: … | H10: … | I10: … | J10: … | K10: 2860 | L10: 2210 | M10: 950 | N10: 237 | O10: 159 | P10: 78 | Q10: 102900 | R10: 65900 | S10: 37000 | T10: … | U10: … | V10: … | W10: … | X10: … | Y10: … | Z10: … | AA10: … | AB10: … | AC10: … | AD10: … | AE10: … | AF10: … | AG10: … | AH10: … | AI10: … | AJ10: … | AK10: … | AL10: … | AM10: … | AN10: … | AO10: … | AP10: … | AQ10: … | AR10: … | AS10: … | AT10: … | AU10: 242 | AV10: - | AW10: 242 | AX10: 24 | AY10: - | AZ10: 24 | BA10: 41800 | BB10: - | BC10: 41800 | BD10: 161 | BE10: - | BF10: 161 | BG10: 24 | BH10: - | BI10: 24 | BJ10: 25000 | BK10: - | BL10: 25000 | BM10: 43 | BN10: 40 | BO10: 37 | BP10: 1 | BQ10: 1 | BR10: 0 | BS10: 689 | BT10: 325 | BU10: 364 | BV10: … | BW10: … | BX10: … | BY10: … | BZ10: … | CA10: … | CB10: … | CC10: … | CD10: … | CE10: … | CF10: … | CG10: … | CH10: … | CI10: … | CJ10: … | CK10: … | CL10: … | CM10: … | CN10: … | CO10: … | CP10: … | CQ10: … | CR10: … | CS10: … | CT10: … | CU10: … | CV10: … | CW10: … | CX10: … | CY10: … | CZ10: … | DA10: … | DB10: … | DC10: … | DD10: … | DE10: … | DF10: … | DG10: … | DH10: … | DI10: … | DJ10: … | DK10: … | DL10: … | DM10: … | DN10: … | DO10: … | DP10: … | DQ10: … | DR10: … | DS10: … | DT10: … | DU10: … | DV10: … | DW10: … | DX10: 84 | DY10: 10 | DZ10: 75 | EA10: 2 | EB10: 0 | EC10: 2 | ED10: 1210 | EE10: 155 | EF10: 1050 | EG10: … | EH10: … | EI10: … | EJ10: … | EK10: … | EL10: … | EM10: … | EN10: … | EO10: … | EP10: … | EQ10: … | ER10: … | ES10: … | ET10: … | EU10: … | EV10: … | EW10: … | EX10: … | EY10: … | EZ10: … | FA10: … | FB10: … | FC10: … | FD10: … | FE10: … | FF10: … | FG10: …
A11: 昭.53(1978) | B11: … | C11: … | D11: … | E11: … | F11: … | G11: … | H11: … | I11: … | J11: … | K11: 3400 | L11: 2590 | M11: 1010 | N11: 249 | O11: 179 | P11: 70 | Q11: 117300 | R11: 84800 | S11: 32500 | T11: … | U11: … | V11: … | W11: … | X11: … | Y11: … | Z11: … | AA11: … | AB11: … | AC11: … | AD11: … | AE11: … | AF11: … | AG11: … | AH11: … | AI11: … | AJ11: … | AK11: … | AL11: … | AM11: … | AN11: … | AO11: … | AP11: … | AQ11: … | AR11: … | AS11: … | AT11: … | AU11: 237 | AV11: 1 | AW11: 237 | AX11: 25 | AY11: x | AZ11: 25 | BA11: 41700 | BB11: x | BC11: 41600 | BD11: 161 | BE11: - | BF11: 161 | BG11: 27 | BH11: - | BI11: 27 | BJ11: 24900 | BK11: - | BL11: 24900 | BM11: 37 | BN11: 30 | BO11: 37 | BP11: 1 | BQ11: 0 | BR11: 1 | BS11: 810 | BT11: 280 | BU11: 530 | BV11: … | BW11: … | BX11: … | BY11: … | BZ11: … | CA11: … | CB11: … | CC11: … | CD11: … | CE11: … | CF11: … | CG11: … | CH11: … | CI11: … | CJ11: … | CK11: … | CL11: … | CM11: … | CN11: … | CO11: … | CP11: … | CQ11: … | CR11: … | CS11: … | CT11: … | CU11: … | CV11: … | CW11: … | CX11: … | CY11: … | CZ11: … | DA11: … | DB11: … | DC11: … | DD11: … | DE11: … | DF11: … | DG11: … | DH11: … | DI11: … | DJ11: … | DK11: … | DL11: … | DM11: … | DN11: … | DO11: … | DP11: … | DQ11: … | DR11: … | DS11: … | DT11: … | DU11: … | DV11: … | DW11: … | DX11: 56 | DY11: 17 | DZ11: 39 | EA11: 2 | EB11: 0 | EC11: 2 | ED11: 973 | EE11: 130 | EF11: 835 | EG11: … | EH11: … | EI11: … | EJ11: … | EK11: … | EL11: … | EM11: … | EN11: … | EO11: … | EP11: … | EQ11: … | ER11: … | ES11: … | ET11: … | EU11: … | EV11: … | EW11: … | EX11: … | EY11: … | EZ11: … | FA11: … | FB11: … | FC11: … | FD11: … | FE11: … | FF11: … | FG11: …
A12: 昭.54(1979) | B12: … | C12: … | D12: … | E12: … | F12: … | G12: … | H12: … | I12: … | J12: … | K12: 3690 | L12: 2770 | M12: 1020 | N12: 248 | O12: 176 | P12: 72 | Q12: 113500 | R12: 80000 | S12: 33500 | T12: … | U12: … | V12: … | W12: … | X12: … | Y12: … | Z12: … | AA12: … | AB12: … | AC12: … | AD12: … | AE12: … | AF12: … | AG12: … | AH12: … | AI12: … | AJ12: … | AK12: … | AL12: … | AM12: … | AN12: … | AO12: … | AP12: … | AQ12: … | AR12: … | AS12: … | AT12: … | AU12: 228 | AV12: 39 | AW12: 228 | AX12: 27 | AY12: 1 | AZ12: 26 | BA12: 38100 | BB12: 858 | BC12: 37300 | BD12: 168 | BE12: - | BF12: 168 | BG12: 28 | BH12: - | BI12: 28 | BJ12: 24700 | BK12: - | BL12: 24700 | BM12: 38 | BN12: 30 | BO12: 38 | BP12: 1 | BQ12: 0 | BR12: 1 | BS12: 781 | BT12: 280 | BU12: 501 | BV12: … | BW12: … | BX12: … | BY12: … | BZ12: … | CA12: … | CB12: … | CC12: … | CD12: … | CE12: … | CF12: … | CG12: … | CH12: … | CI12: … | CJ12: … | CK12: … | CL12: … | CM12: … | CN12: … | CO12: … | CP12: … | CQ12: … | CR12: … | CS12: … | CT12: … | CU12: … | CV12: … | CW12: … | CX12: … | CY12: … | CZ12: … | DA12: … | DB12: … | DC12: … | DD12: … | DE12: … | DF12: … | DG12: … | DH12: … | DI12: … | DJ12: … | DK12: … | DL12: … | DM12: … | DN12: … | DO12: … | DP12: … | DQ12: … | DR12: … | DS12: … | DT12: … | DU12: … | DV12: … | DW12: … | DX12: 53 | DY12: 17 | DZ12: 36 | EA12: 3 | EB12: 0 | EC12: 2 | ED12: 1240 | EE12: 120 | EF12: 1120 | EG12: … | EH12: … | EI12: … | EJ12: … | EK12: … | EL12: … | EM12: … | EN12: … | EO12: … | EP12: … | EQ12: … | ER12: … | ES12: … | ET12: … | EU12: … | EV12: … | EW12: … | EX12: … | EY12: … | EZ12: … | FA12: … | FB12: … | FC12: … | FD12: … | FE12: … | FF12: … | FG12: …
A13: 昭.55(1980) | B13: … | C13: … | D13: … | E13: … | F13: … | G13: … | H13: … | I13: … | J13: … | K13: … | L13: 2400 | M13: 856 | N13: 254 | O13: 182 | P13: 72 | Q13: 115000 | R13: 82500 | S13: 32500 | T13: … | U13: … | V13: … | W13: … | X13: … | Y13: … | Z13: … | AA13: … | AB13: … | AC13: … | AD13: … | AE13: … | AF13: … | AG13: … | AH13: … | AI13: … | AJ13: … | AK13: … | AL13: … | AM13: … | AN13: … | AO13: … | AP13: … | AQ13: … | AR13: … | AS13: … | AT13: … | AU13: … | AV13: … | AW13: 231 | AX13: 27 | AY13: … | AZ13: 26 | BA13: 36900 | BB13: … | BC13: 36000 | BD13: … | BE13: … | BF13: 171 | BG13: 29 | BH13: … | BI13: 29 | BJ13: 27100 | BK13: … | BL13: 27100 | BM13: … | BN13: 30 | BO13: 43 | BP13: 1 | BQ13: 0 | BR13: 1 | BS13: 728 | BT13: 240 | BU13: 488 | BV13: … | BW13: - | BX13: … | BY13: - | BZ13: - | CA13: … | CB13: - | CC13: - | CD13: … | CE13: … | CF13: … | CG13: … | CH13: … | CI13: … | CJ13: … | CK13: … | CL13: … | CM13: … | CN13: … | CO13: … | CP13: … | CQ13: … | CR13: … | CS13: … | CT13: … | CU13: … | CV13: … | CW13: … | CX13: … | CY13: … | CZ13: … | DA13: … | DB13: … | DC13: … | DD13: … | DE13: … | DF13: … | DG13: … | DH13: … | DI13: … | DJ13: … | DK13: … | DL13: … | DM13: … | DN13: … | DO13: … | DP13: … | DQ13: … | DR13: … | DS13: … | DT13: … | DU13: … | DV13: … | DW13: … | DX13: … | DY13: 19 | DZ13: 36 | EA13: 3 | EB13: 0 | EC13: 3 | ED13: 1190 | EE13: 124 | EF13: 1060 | EG13: … | EH13: … | EI13: … | EJ13: … | EK13: … | EL13: … | EM13: … | EN13: … | EO13: … | EP13: … | EQ13: 88 | ER13: … | ES13: 8 | ET13: 2 | EU13: … | EV13: 951 | EW13: 287 | EX13: … | EY13: … | EZ13: 2500 | FA13: … | FB13: 299 | FC13: 280 | FD13: … | FE13: 33100 | FF13: 28500 | FG13: …
A14: 昭.56(1981) | B14: … | C14: … | D14: … | E14: … | F14: … | G14: … | H14: … | I14: … | J14: … | K14: … | L14: 2380 | M14: 891 | N14: 265 | O14: 189 | P14: 76 | Q14: 122000 | R14: 87100 | S14: 34900 | T14: … | U14: … | V14: … | W14: … | X14: … | Y14: … | Z14: … | AA14: … | AB14: … | AC14: … | AD14: … | AE14: … | AF14: … | AG14: … | AH14: … | AI14: … | AJ14: … | AK14: … | AL14: … | AM14: … | AN14: … | AO14: … | AP14: … | AQ14: … | AR14: … | AS14: … | AT14: … | AU14: … | AV14: … | AW14: 213 | AX14: 24 | AY14: … | AZ14: 23 | BA14: 33800 | BB14: … | BC14: 33000 | BD14: … | BE14: … | BF14: 177 | BG14: 31 | BH14: … | BI14: 31 | BJ14: 29900 | BK14: … | BL14: 29900 | BM14: … | BN14: 15 | BO14: 27 | BP14: 1 | BQ14: 0 | BR14: 1 | BS14: 678 | BT14: 240 | BU14: 438 | BV14: … | BW14: - | BX14: … | BY14: - | BZ14: - | CA14: … | CB14: - | CC14: - | CD14: … | CE14: … | CF14: … | CG14: … | CH14: … | CI14: … | CJ14: … | CK14: … | CL14: … | CM14: … | CN14: … | CO14: … | CP14: … | CQ14: … | CR14: … | CS14: … | CT14: … | CU14: … | CV14: … | CW14: … | CX14: … | CY14: … | CZ14: … | DA14: … | DB14: … | DC14: … | DD14: … | DE14: … | DF14: … | DG14: … | DH14: … | DI14: … | DJ14: … | DK14: … | DL14: … | DM14: … | DN14: … | DO14: … | DP14: … | DQ14: … | DR14: … | DS14: … | DT14: … | DU14: … | DV14: … | DW14: … | DX14: … | DY14: 23 | DZ14: 31 | EA14: 1 | EB14: 0 | EC14: 1 | ED14: 810 | EE14: 99 | EF14: 714 | EG14: … | EH14: … | EI14: … | EJ14: … | EK14: … | EL14: … | EM14: … | EN14: … | EO14: … | EP14: … | EQ14: 33 | ER14: … | ES14: 7 | ET14: 0 | EU14: … | EV14: 881 | EW14: 257 | EX14: … | EY14: … | EZ14: 2050 | FA14: … | FB14: 272 | FC14: 256 | FD14: … | FE14: 36900 | FF14: 33200 | FG14: …
A15: 昭.57(1982) | B15: … | C15: … | D15: … | E15: … | F15: … | G15: … | H15: … | I15: … | J15: … | K15: … | L15: 2440 | M15: 910 | N15: 259 | O15: 183 | P15: 76 | Q15: 113800 | R15: 78900 | S15: 34900 | T15: … | U15: … | V15: … | W15: … | X15: … | Y15: … | Z15: … | AA15: … | AB15: … | AC15: … | AD15: … | AE15: … | AF15: … | AG15: … | AH15: … | AI15: … | AJ15: … | AK15: … | AL15: … | AM15: … | AN15: … | AO15: … | AP15: … | AQ15: … | AR15: … | AS15: … | AT15: … | AU15: … | AV15: 33 | AW15: 207 | AX15: 24 | AY15: 1 | AZ15: 23 | BA15: 33200 | BB15: 682 | BC15: 32500 | BD15: … | BE15: - | BF15: 174 | BG15: 31 | BH15: - | BI15: 31 | BJ15: 30500 | BK15: - | BL15: 30500 | BM15: … | BN15: 15 | BO15: 23 | BP15: 1 | BQ15: 0 | BR15: 1 | BS15: 563 | BT15: 240 | BU15: 323 | BV15: … | BW15: - | BX15: - | BY15: - | BZ15: - | CA15: - | CB15: - | CC15: - | CD15: - | CE15: … | CF15: … | CG15: … | CH15: … | CI15: … | CJ15: … | CK15: … | CL15: … | CM15: … | CN15: … | CO15: … | CP15: … | CQ15: … | CR15: … | CS15: … | CT15: … | CU15: … | CV15: … | CW15: … | CX15: … | CY15: … | CZ15: … | DA15: … | DB15: … | DC15: … | DD15: … | DE15: … | DF15: … | DG15: … | DH15: … | DI15: … | DJ15: … | DK15: … | DL15: … | DM15: … | DN15: … | DO15: … | DP15: … | DQ15: … | DR15: … | DS15: … | DT15: … | DU15: … | DV15: … | DW15: … | DX15: … | DY15: 23 | DZ15: 32 | EA15: 2 | EB15: 0 | EC15: 2 | ED15: 812 | EE15: 111 | EF15: 701 | EG15: … | EH15: … | EI15: … | EJ15: … | EK15: … | EL15: … | EM15: … | EN15: … | EO15: … | EP15: … | EQ15: 18 | ER15: 30 | ES15: 1 | ET15: 0 | EU15: 1 | EV15: 379 | EW15: 181 | EX15: 198 | EY15: … | EZ15: 2690 | FA15: 122 | FB15: 282 | FC15: 265 | FD15: 17 | FE15: 34500 | FF15: 30600 | FG15: 3940
A16: 昭.58(1983) | B16: … | C16: … | D16: … | E16: … | F16: … | G16: … | H16: … | I16: … | J16: … | K16: … | L16: 2340 | M16: 835 | N16: 261 | O16: 180 | P16: 81 | Q16: 109500 | R16: 75200 | S16: 34300 | T16: … | U16: … | V16: … | W16: … | X16: … | Y16: … | Z16: … | AA16: … | AB16: … | AC16: … | AD16: … | AE16: … | AF16: … | AG16: … | AH16: … | AI16: … | AJ16: … | AK16: … | AL16: … | AM16: … | AN16: … | AO16: … | AP16: … | AQ16: … | AR16: … | AS16: … | AT16: … | AU16: … | AV16: 34 | AW16: 221 | AX16: 25 | AY16: 1 | AZ16: 24 | BA16: 31300 | BB16: 661 | BC16: 30600 | BD16: … | BE16: - | BF16: 165 | BG16: 31 | BH16: - | BI16: 31 | BJ16: 28300 | BK16: - | BL16: 28300 | BM16: … | BN16: … | BO16: … | BP16: … | BQ16: … | BR16: … | BS16: … | BT16: … | BU16: … | BV16: … | BW16: … | BX16: … | BY16: … | BZ16: … | CA16: … | CB16: … | CC16: … | CD16: … | CE16: … | CF16: … | CG16: … | CH16: … | CI16: … | CJ16: … | CK16: … | CL16: … | CM16: … | CN16: … | CO16: … | CP16: … | CQ16: … | CR16: … | CS16: … | CT16: … | CU16: … | CV16: … | CW16: … | CX16: … | CY16: … | CZ16: … | DA16: … | DB16: … | DC16: … | DD16: … | DE16: … | DF16: … | DG16: … | DH16: … | DI16: … | DJ16: … | DK16: … | DL16: … | DM16: … | DN16: … | DO16: … | DP16: … | DQ16: … | DR16: … | DS16: … | DT16: … | DU16: … | DV16: … | DW16: … | DX16: … | DY16: … | DZ16: … | EA16: … | EB16: … | EC16: … | ED16: … | EE16: … | EF16: … | EG16: … | EH16: … | EI16: … | EJ16: … | EK16: … | EL16: … | EM16: … | EN16: … | EO16: … | EP16: … | EQ16: … | ER16: … | ES16: … | ET16: … | EU16: … | EV16: … | EW16: … | EX16: … | EY16: … | EZ16: 2540 | FA16: 182 | FB16: 288 | FC16: 263 | FD16: 25 | FE16: 40000 | FF16: 35400 | FG16: 4550
A17: 昭.59(1984) | B17: … | C17: … | D17: … | E17: … | F17: … | G17: … | H17: … | I17: … | J17: … | K17: … | L17: 2230 | M17: 825 | N17: 248 | O17: 167 | P17: 81 | Q17: 104000 | R17: 71000 | S17: 33000 | T17: … | U17: … | V17: … | W17: … | X17: … | Y17: … | Z17: … | AA17: … | AB17: … | AC17: … | AD17: … | AE17: … | AF17: … | AG17: … | AH17: … | AI17: … | AJ17: … | AK17: … | AL17: … | AM17: … | AN17: … | AO17: … | AP17: … | AQ17: … | AR17: … | AS17: … | AT17: … | AU17: … | AV17: 34 | AW17: 210 | AX17: 23 | AY17: 1 | AZ17: 22 | BA17: 29200 | BB17: 720 | BC17: 28500 | BD17: … | BE17: - | BF17: 160 | BG17: 31 | BH17: - | BI17: 31 | BJ17: 31500 | BK17: - | BL17: 31500 | BM17: … | BN17: … | BO17: … | BP17: … | BQ17: … | BR17: … | BS17: … | BT17: … | BU17: … | BV17: … | BW17: … | BX17: … | BY17: … | BZ17: … | CA17: … | CB17: … | CC17: … | CD17: … | CE17: … | CF17: … | CG17: … | CH17: … | CI17: … | CJ17: … | CK17: … | CL17: … | CM17: … | CN17: … | CO17: … | CP17: … | CQ17: … | CR17: … | CS17: … | CT17: … | CU17: … | CV17: … | CW17: … | CX17: … | CY17: … | CZ17: … | DA17: … | DB17: … | DC17: … | DD17: … | DE17: … | DF17: … | DG17: … | DH17: … | DI17: … | DJ17: … | DK17: … | DL17: … | DM17: … | DN17: … | DO17: … | DP17: … | DQ17: … | DR17: … | DS17: … | DT17: … | DU17: … | DV17: … | DW17: … | DX17: … | DY17: … | DZ17: … | EA17: … | EB17: … | EC17: … | ED17: … | EE17: … | EF17: … | EG17: … | EH17: … | EI17: … | EJ17: … | EK17: … | EL17: … | EM17: … | EN17: … | EO17: … | EP17: … | EQ17: … | ER17: … | ES17: … | ET17: … | EU17: … | EV17: … | EW17: … | EX17: … | EY17: … | EZ17: 2510 | FA17: 178 | FB17: 296 | FC17: 271 | FD17: 25 | FE17: 32300 | FF17: 27700 | FG17: 4570
A18: 昭.60(1985) | B18: … | C18: … | D18: … | E18: … | F18: … | G18: … | H18: … | I18: … | J18: … | K18: … | L18: … | M18: … | N18: 244 | O18: 158 | P18: 86 | Q18: 103300 | R18: 67700 | S18: 35600 | T18: … | U18: … | V18: … | W18: … | X18: … | Y18: … | Z18: … | AA18: … | AB18: … | AC18: … | AD18: … | AE18: … | AF18: … | AG18: … | AH18: … | AI18: … | AJ18: … | AK18: … | AL18: … | AM18: … | AN18: … | AO18: … | AP18: … | AQ18: … | AR18: … | AS18: … | AT18: … | AU18: … | AV18: … | AW18: … | AX18: 24 | AY18: 1 | AZ18: 23 | BA18: 30000 | BB18: 752 | BC18: 29200 | BD18: … | BE18: … | BF18: … | BG18: 37 | BH18: - | BI18: 37 | BJ18: 36700 | BK18: - | BL18: 36700 | BM18: … | BN18: … | BO18: … | BP18: 0 | BQ18: - | BR18: 0 | BS18: 85 | BT18: - | BU18: 85 | BV18: … | BW18: … | BX18: … | BY18: - | BZ18: - | CA18: - | CB18: - | CC18: - | CD18: - | CE18: … | CF18: … | CG18: … | CH18: … | CI18: … | CJ18: … | CK18: … | CL18: … | CM18: … | CN18: … | CO18: … | CP18: … | CQ18: … | CR18: … | CS18: … | CT18: … | CU18: … | CV18: … | CW18: … | CX18: … | CY18: … | CZ18: … | DA18: … | DB18: … | DC18: … | DD18: … | DE18: … | DF18: … | DG18: … | DH18: … | DI18: … | DJ18: … | DK18: … | DL18: … | DM18: … | DN18: … | DO18: … | DP18: … | DQ18: … | DR18: … | DS18: … | DT18: … | DU18: … | DV18: … | DW18: … | DX18: … | DY18: … | DZ18: … | EA18: 1 | EB18: - | EC18: 1 | ED18: 325 | EE18: - | EF18: 325 | EG18: … | EH18: … | EI18: … | EJ18: … | EK18: … | EL18: … | EM18: … | EN18: … | EO18: … | EP18: … | EQ18: … | ER18: … | ES18: 4 | ET18: 1 | EU18: 3 | EV18: 713 | EW18: 180 | EX18: 533 | EY18: … | EZ18: … | FA18: … | FB18: 298 | FC18: 272 | FD18: 26 | FE18: 31900 | FF18: 27100 | FG18: 4820
A19: 昭.61(1986) | B19: … | C19: … | D19: … | E19: … | F19: … | G19: … | H19: … | I19: … | J19: … | K19: … | L19: 2070 | M19: 936 | N19: 258 | O19: 149 | P19: 109 | Q19: 110200 | R19: 65300 | S19: 45000 | T19: … | U19: … | V19: … | W19: … | X19: … | Y19: … | Z19: … | AA19: … | AB19: … | AC19: … | AD19: … | AE19: … | AF19: … | AG19: … | AH19: … | AI19: … | AJ19: … | AK19: … | AL19: … | AM19: … | AN19: … | AO19: … | AP19: … | AQ19: … | AR19: … | AS19: … | AT19: … | AU19: … | AV19: 25 | AW19: 229 | AX19: 28 | AY19: 1 | AZ19: 27 | BA19: 34800 | BB19: 558 | BC19: 34200 | BD19: … | BE19: - | BF19: 182 | BG19: 39 | BH19: - | BI19: 39 | BJ19: 38900 | BK19: - | BL19: 38900 | BM19: … | BN19: … | BO19: … | BP19: … | BQ19: … | BR19: … | BS19: … | BT19: … | BU19: … | BV19: … | BW19: … | BX19: … | BY19: … | BZ19: … | CA19: … | CB19: … | CC19: … | CD19: … | CE19: … | CF19: … | CG19: … | CH19: … | CI19: … | CJ19: … | CK19: … | CL19: … | CM19: … | CN19: … | CO19: … | CP19: … | CQ19: … | CR19: … | CS19: … | CT19: … | CU19: … | CV19: … | CW19: … | CX19: … | CY19: … | CZ19: … | DA19: … | DB19: … | DC19: … | DD19: … | DE19: … | DF19: … | DG19: … | DH19: … | DI19: … | DJ19: … | DK19: … | DL19: … | DM19: … | DN19: … | DO19: … | DP19: … | DQ19: … | DR19: … | DS19: … | DT19: … | DU19: … | DV19: … | DW19: … | DX19: … | DY19: … | DZ19: … | EA19: … | EB19: … | EC19: … | ED19: … | EE19: … | EF19: … | EG19: … | EH19: … | EI19: … | EJ19: … | EK19: … | EL19: … | EM19: … | EN19: … | EO19: … | EP19: … | EQ19: … | ER19: … | ES19: … | ET19: … | EU19: … | EV19: … | EW19: … | EX19: … | EY19: … | EZ19: 2500 | FA19: 189 | FB19: 298 | FC19: 271 | FD19: 27 | FE19: 32400 | FF19: 27500 | FG19: 4880
A20: 昭.62(1987) | B20: … | C20: … | D20: … | E20: … | F20: … | G20: … | H20: … | I20: … | J20: … | K20: … | L20: 1970 | M20: 1000 | N20: 255 | O20: 142 | P20: 113 | Q20: 101700 | R20: 55900 | S20: 45800 | T20: … | U20: … | V20: … | W20: … | X20: … | Y20: … | Z20: … | AA20: … | AB20: … | AC20: … | AD20: … | AE20: … | AF20: … | AG20: … | AH20: … | AI20: … | AJ20: … | AK20: … | AL20: … | AM20: … | AN20: … | AO20: … | AP20: … | AQ20: … | AR20: … | AS20: … | AT20: … | AU20: … | AV20: 23 | AW20: 222 | AX20: 30 | AY20: 1 | AZ20: 29 | BA20: 36900 | BB20: 662 | BC20: 36200 | BD20: … | BE20: - | BF20: 183 | BG20: 40 | BH20: - | BI20: 40 | BJ20: 39500 | BK20: - | BL20: 39500 | BM20: … | BN20: … | BO20: … | BP20: … | BQ20: … | BR20: … | BS20: … | BT20: … | BU20: … | BV20: … | BW20: … | BX20: … | BY20: … | BZ20: … | CA20: … | CB20: … | CC20: … | CD20: … | CE20: … | CF20: … | CG20: … | CH20: … | CI20: … | CJ20: … | CK20: … | CL20: … | CM20: … | CN20: … | CO20: … | CP20: … | CQ20: … | CR20: … | CS20: … | CT20: … | CU20: … | CV20: … | CW20: … | CX20: … | CY20: … | CZ20: … | DA20: … | DB20: … | DC20: … | DD20: … | DE20: … | DF20: … | DG20: … | DH20: … | DI20: … | DJ20: … | DK20: … | DL20: … | DM20: … | DN20: … | DO20: … | DP20: … | DQ20: … | DR20: … | DS20: … | DT20: … | DU20: … | DV20: … | DW20: … | DX20: … | DY20: … | DZ20: … | EA20: … | EB20: … | EC20: … | ED20: … | EE20: … | EF20: … | EG20: … | EH20: … | EI20: … | EJ20: … | EK20: … | EL20: … | EM20: … | EN20: … | EO20: … | EP20: … | EQ20: … | ER20: … | ES20: … | ET20: … | EU20: … | EV20: … | EW20: … | EX20: … | EY20: … | EZ20: … | FA20: … | FB20: … | FC20: … | FD20: … | FE20: … | FF20: … | FG20: …
A21: 昭.63(1988) | B21: … | C21: … | D21: … | E21: … | F21: … | G21: … | H21: … | I21: … | J21: … | K21: … | L21: 1860 | M21: 1010 | N21: 251 | O21: 133 | P21: 118 | Q21: 96000 | R21: 50700 | S21: 45300 | T21: … | U21: … | V21: … | W21: … | X21: … | Y21: … | Z21: … | AA21: … | AB21: … | AC21: … | AD21: … | AE21: … | AF21: … | AG21: … | AH21: … | AI21: … | AJ21: … | AK21: … | AL21: … | AM21: … | AN21: … | AO21: … | AP21: … | AQ21: … | AR21: … | AS21: … | AT21: … | AU21: … | AV21: 22 | AW21: 227 | AX21: 30 | AY21: 1 | AZ21: 29 | BA21: 37500 | BB21: 530 | BC21: 37000 | BD21: … | BE21: - | BF21: 189 | BG21: 45 | BH21: - | BI21: 45 | BJ21: 43900 | BK21: - | BL21: 43900 | BM21: … | BN21: 15 | BO21: 13 | BP21: 1 | BQ21: 0 | BR21: 1 | BS21: 209 | BT21: 50 | BU21: 159 | BV21: … | BW21: - | BX21: - | BY21: - | BZ21: - | CA21: - | CB21: - | CC21: - | CD21: - | CE21: … | CF21: … | CG21: … | CH21: … | CI21: … | CJ21: … | CK21: … | CL21: … | CM21: … | CN21: … | CO21: … | CP21: … | CQ21: … | CR21: … | CS21: … | CT21: … | CU21: … | CV21: … | CW21: … | CX21: … | CY21: … | CZ21: … | DA21: … | DB21: … | DC21: … | DD21: … | DE21: … | DF21: … | DG21: … | DH21: … | DI21: … | DJ21: … | DK21: … | DL21: … | DM21: … | DN21: … | DO21: … | DP21: … | DQ21: … | DR21: … | DS21: … | DT21: … | DU21: … | DV21: … | DW21: … | DX21: … | DY21: - | DZ21: 18 | EA21: 2 | EB21: - | EC21: 2 | ED21: 895 | EE21: - | EF21: 895 | EG21: … | EH21: … | EI21: … | EJ21: … | EK21: … | EL21: … | EM21: … | EN21: … | EO21: … | EP21: … | EQ21: … | ER21: … | ES21: … | ET21: … | EU21: … | EV21: … | EW21: … | EX21: … | EY21: … | EZ21: … | FA21: … | FB21: … | FC21: … | FD21: … | FE21: … | FF21: … | FG21: …
A22: 平.元(1989) | B22: … | C22: … | D22: … | E22: … | F22: … | G22: … | H22: … | I22: … | J22: … | K22: … | L22: 1900 | M22: 1010 | N22: 249 | O22: 130 | P22: 119 | Q22: 94900 | R22: 49600 | S22: 45300 | T22: … | U22: … | V22: … | W22: … | X22: … | Y22: … | Z22: … | AA22: … | AB22: … | AC22: … | AD22: … | AE22: … | AF22: … | AG22: … | AH22: … | AI22: … | AJ22: … | AK22: … | AL22: … | AM22: … | AN22: … | AO22: … | AP22: … | AQ22: … | AR22: … | AS22: … | AT22: … | AU22: … | AV22: 11 | AW22: 212 | AX22: 29 | AY22: 0 | AZ22: 29 | BA22: 36900 | BB22: 282 | BC22: 36600 | BD22: … | BE22: - | BF22: 204 | BG22: 48 | BH22: - | BI22: 48 | BJ22: 45600 | BK22: - | BL22: 45600 | BM22: … | BN22: … | BO22: … | BP22: … | BQ22: … | BR22: … | BS22: … | BT22: … | BU22: … | BV22: … | BW22: … | BX22: … | BY22: … | BZ22: … | CA22: … | CB22: … | CC22: … | CD22: … | CE22: … | CF22: … | CG22: … | CH22: … | CI22: … | CJ22: … | CK22: … | CL22: … | CM22: … | CN22: … | CO22: … | CP22: … | CQ22: … | CR22: … | CS22: … | CT22: … | CU22: … | CV22: … | CW22: … | CX22: … | CY22: … | CZ22: … | DA22: … | DB22: … | DC22: … | DD22: … | DE22: … | DF22: … | DG22: … | DH22: … | DI22: … | DJ22: … | DK22: … | DL22: … | DM22: … | DN22: … | DO22: … | DP22: … | DQ22: … | DR22: … | DS22: … | DT22: … | DU22: … | DV22: … | DW22: … | DX22: … | DY22: … | DZ22: … | EA22: … | EB22: … | EC22: … | ED22: … | EE22: … | EF22: … | EG22: … | EH22: … | EI22: … | EJ22: … | EK22: … | EL22: … | EM22: … | EN22: … | EO22: … | EP22: … | EQ22: … | ER22: … | ES22: … | ET22: … | EU22: … | EV22: … | EW22: … | EX22: … | EY22: … | EZ22: … | FA22: … | FB22: … | FC22: … | FD22: … | FE22: … | FF22: … | FG22: …
A23: 平.2(1990) | B23: 6120 | C23: … | D23: … | E23: 903 | F23: 547 | G23: 356 | H23: 293500 | I23: 98900 | J23: 194600 | K23: … | L23: … | M23: … | N23: 260 | O23: 138 | P23: 122 | Q23: 96900 | R23: 51800 | S23: 45200 | T23: 1380 | U23: … | V23: … | W23: 169 | X23: 61 | Y23: 108 | Z23: 62400 | AA23: 22700 | AB23: 39700 | AC23: 63 | AD23: … | AE23: … | AF23: 8 | AG23: 1 | AH23: 8 | AI23: 3220 | AJ23: 359 | AK23: 2860 | AL23: 1200 | AM23: … | AN23: … | AO23: 82 | AP23: 76 | AQ23: 7 | AR23: 31300 | AS23: 28700 | AT23: 2560 | AU23: 208 | AV23: … | AW23: … | AX23: 28 | AY23: 0 | AZ23: 28 | BA23: 33700 | BB23: 136 | BC23: 33600 | BD23: 215 | BE23: … | BF23: … | BG23: 49 | BH23: 0 | BI23: 48 | BJ23: 43000 | BK23: 60 | BL23: 43000 | BM23: 17 | BN23: … | BO23: … | BP23: 1 | BQ23: 0 | BR23: 0 | BS23: 337 | BT23: 197 | BU23: 140 | BV23: - | BW23: … | BX23: … | BY23: - | BZ23: - | CA23: - | CB23: - | CC23: - | CD23: - | CE23: 150 | CF23: … | CG23: … | CH23: 12 | CI23: 0 | CJ23: 11 | CK23: 4510 | CL23: 109 | CM23: 4410 | CN23: 48 | CO23: … | CP23: … | CQ23: 5 | CR23: - | CS23: 5 | CT23: 988 | CU23: - | CV23: 988 | CW23: 91 | CX23: … | CY23: … | CZ23: 5 | DA23: 0 | DB23: 5 | DC23: 2130 | DD23: 15 | DE23: 2110 | DF23: 90 | DG23: … | DH23: … | DI23: 11 | DJ23: - | DK23: 11 | DL23: 12600 | DM23: - | DN23: 12600 | DO23: 155 | DP23: … | DQ23: … | DR23: 9 | DS23: - | DT23: 9 | DU23: 3680 | DV23: 45 | DW23: 3640 | DX23: 24 | DY23: … | DZ23: … | EA23: 2 | EB23: - | EC23: 2 | ED23: 917 | EE23: - | EF23: 917 | EG23: … | EH23: … | EI23: … | EJ23: … | EK23: … | EL23: … | EM23: … | EN23: … | EO23: … | EP23: … | EQ23: … | ER23: … | ES23: 16 | ET23: 8 | EU23: 8 | EV23: 10600 | EW23: 5030 | EX23: 5580 | EY23: 2330 | EZ23: … | FA23: … | FB23: 364 | FC23: 334 | FD23: 31 | FE23: 29700 | FF23: 23000 | FG23: 6730
A24: 平.3(1991) | B24: 5260 | C24: … | D24: … | E24: 961 | F24: 581 | G24: 380 | H24: 309000 | I24: 102600 | J24: 206400 | K24: … | L24: … | M24: … | N24: 262 | O24: 135 | P24: 127 | Q24: 98300 | R24: 51100 | S24: 47200 | T24: 1200 | U24: … | V24: … | W24: 169 | X24: 59 | Y24: 110 | Z24: 62500 | AA24: 21500 | AB24: 41000 | AC24: 87 | AD24: … | AE24: … | AF24: 11 | AG24: 1 | AH24: 10 | AI24: 3820 | AJ24: 466 | AK24: 3360 | AL24: 1220 | AM24: … | AN24: … | AO24: 81 | AP24: 74 | AQ24: 7 | AR24: 32000 | AS24: 29200 | AT24: 2810 | AU24: 203 | AV24: … | AW24: … | AX24: 29 | AY24: 0 | AZ24: 29 | BA24: 34700 | BB24: 99 | BC24: 34600 | BD24: 226 | BE24: … | BF24: … | BG24: 53 | BH24: 0 | BI24: 53 | BJ24: 45200 | BK24: 7 | BL24: 45200 | BM24: 20 | BN24: … | BO24: … | BP24: 1 | BQ24: 0 | BR24: 0 | BS24: 319 | BT24: 210 | BU24: 109 | BV24: - | BW24: … | BX24: … | BY24: - | BZ24: - | CA24: - | CB24: - | CC24: - | CD24: - | CE24: 137 | CF24: … | CG24: … | CH24: 12 | CI24: 0 | CJ24: 12 | CK24: 4360 | CL24: 59 | CM24: 4300 | CN24: 46 | CO24: … | CP24: … | CQ24: 6 | CR24: 0 | CS24: 6 | CT24: 1010 | CU24: 50 | CV24: 962 | CW24: 94 | CX24: … | CY24: … | CZ24: 6 | DA24: 0 | DB24: 6 | DC24: 2590 | DD24: 15 | DE24: 2570 | DF24: 122 | DG24: … | DH24: … | DI24: 14 | DJ24: - | DK24: 14 | DL24: 15300 | DM24: - | DN24: 15300 | DO24: 165 | DP24: … | DQ24: … | DR24: 12 | DS24: 0 | DT24: 12 | DU24: 4350 | DV24: 27 | DW24: 4330 | DX24: x | DY24: … | DZ24: … | EA24: 1 | EB24: - | EC24: 1 | ED24: 748 | EE24: - | EF24: 748 | EG24: … | EH24: … | EI24: … | EJ24: … | EK24: … | EL24: … | EM24: … | EN24: … | EO24: … | EP24: … | EQ24: … | ER24: … | ES24: 19 | ET24: 8 | EU24: 10 | EV24: 13100 | EW24: 5370 | EX24: 7680 | EY24: 2380 | EZ24: … | FA24: … | FB24: 404 | FC24: 365 | FD24: 39 | FE24: 33600 | FF24: 25500 | FG24: 8080
A25: 平.4(1992) | B25: 5430 | C25: … | D25: … | E25: 1010 | F25: 603 | G25: 405 | H25: 324100 | I25: 107800 | J25: 216300 | K25: … | L25: … | M25: … | N25: 278 | O25: 148 | P25: 130 | Q25: 103400 | R25: 55500 | S25: 47900 | T25: 1190 | U25: … | V25: … | W25: 188 | X25: 78 | Y25: 111 | Z25: 66800 | AA25: 26900 | AB25: 39800 | AC25: 116 | AD25: … | AE25: … | AF25: 20 | AG25: 1 | AH25: 18 | AI25: 8180 | AJ25: 482 | AK25: 7690 | AL25: 1100 | AM25: … | AN25: … | AO25: 70 | AP25: 69 | AQ25: 1 | AR25: 28500 | AS25: 28000 | AT25: 407 | AU25: 195 | AV25: … | AW25: … | AX25: 27 | AY25: 0 | AZ25: 27 | BA25: 33500 | BB25: 104 | BC25: 33400 | BD25: 240 | BE25: … | BF25: … | BG25: 61 | BH25: 0 | BI25: 61 | BJ25: 47400 | BK25: 7 | BL25: 47400 | BM25: 19 | BN25: … | BO25: … | BP25: 1 | BQ25: 0 | BR25: 0 | BS25: 304 | BT25: 145 | BU25: 159 | BV25: - | BW25: … | BX25: … | BY25: - | BZ25: - | CA25: - | CB25: - | CC25: - | CD25: - | CE25: 115 | CF25: … | CG25: … | CH25: 9 | CI25: 0 | CJ25: 9 | CK25: 3860 | CL25: 31 | CM25: 3830 | CN25: 59 | CO25: … | CP25: … | CQ25: 9 | CR25: - | CS25: 9 | CT25: 1270 | CU25: - | CV25: 1270 | CW25: 88 | CX25: … | CY25: … | CZ25: 5 | DA25: 0 | DB25: 5 | DC25: 2540 | DD25: 19 | DE25: 2520 | DF25: 160 | DG25: … | DH25: … | DI25: 19 | DJ25: - | DK25: 19 | DL25: 21400 | DM25: - | DN25: 21400 | DO25: 185 | DP25: … | DQ25: … | DR25: 13 | DS25: - | DT25: 13 | DU25: 4370 | DV25: - | DW25: 4370 | DX25: 30 | DY25: … | DZ25: … | EA25: 3 | EB25: 0 | EC25: 3 | ED25: 1080 | EE25: 45 | EF25: 1040 | EG25: … | EH25: … | EI25: … | EJ25: … | EK25: … | EL25: … | EM25: … | EN25: … | EO25: … | EP25: … | EQ25: … | ER25: … | ES25: 22 | ET25: 11 | EU25: 11 | EV25: 12500 | EW25: 4910 | EX25: 7590 | EY25: 2530 | EZ25: … | FA25: … | FB25: 427 | FC25: 380 | FD25: 47 | FE25: 36800 | FF25: 27400 | FG25: 9380
A26: 平.5(1993) | B26: 5830 | C26: … | D26: … | E26: 1060 | F26: 626 | G26: 432 | H26: 340800 | I26: 116700 | J26: 224200 | K26: … | L26: … | M26: … | N26: 268 | O26: 145 | P26: 123 | Q26: 102400 | R26: 56800 | S26: 45600 | T26: 1120 | U26: … | V26: … | W26: 176 | X26: 74 | Y26: 102 | Z26: 63000 | AA26: 26100 | AB26: 37000 | AC26: 115 | AD26: … | AE26: … | AF26: 22 | AG26: 2 | AH26: 20 | AI26: 8910 | AJ26: 568 | AK26: 8340 | AL26: 1120 | AM26: … | AN26: … | AO26: 70 | AP26: 69 | AQ26: 1 | AR26: 30500 | AS26: 30200 | AT26: 305 | AU26: 188 | AV26: … | AW26: … | AX26: 26 | AY26: 0 | AZ26: 26 | BA26: 30300 | BB26: 100 | BC26: 30200 | BD26: 242 | BE26: … | BF26: … | BG26: 63 | BH26: 0 | BI26: 63 | BJ26: 50600 | BK26: 7 | BL26: 50600 | BM26: 21 | BN26: … | BO26: … | BP26: 1 | BQ26: 0 | BR26: 1 | BS26: 303 | BT26: 115 | BU26: 188 | BV26: - | BW26: … | BX26: … | BY26: - | BZ26: - | CA26: - | CB26: - | CC26: - | CD26: - | CE26: 118 | CF26: … | CG26: … | CH26: 9 | CI26: 0 | CJ26: 9 | CK26: 3950 | CL26: 33 | CM26: 3910 | CN26: 67 | CO26: … | CP26: … | CQ26: 9 | CR26: - | CS26: 9 | CT26: 1310 | CU26: - | CV26: 1310 | CW26: 90 | CX26: … | CY26: … | CZ26: 5 | DA26: 0 | DB26: 5 | DC26: 2110 | DD26: 17 | DE26: 2100 | DF26: 163 | DG26: … | DH26: … | DI26: 21 | DJ26: - | DK26: 21 | DL26: 25300 | DM26: - | DN26: 25300 | DO26: 246 | DP26: … | DQ26: … | DR26: 17 | DS26: - | DT26: 17 | DU26: 5820 | DV26: - | DW26: 5820 | DX26: 39 | DY26: … | DZ26: … | EA26: 3 | EB26: 0 | EC26: 3 | ED26: 1220 | EE26: 22 | EF26: 1200 | EG26: … | EH26: … | EI26: … | EJ26: … | EK26: … | EL26: … | EM26: … | EN26: … | EO26: … | EP26: … | EQ26: … | ER26: … | ES26: 26 | ET26: 8 | EU26: 18 | EV26: 11200 | EW26: 3270 | EX26: 7920 | EY26: 2590 | EZ26: … | FA26: … | FB26: 452 | FC26: 397 | FD26: 55 | FE26: 46100 | FF26: 36400 | FG26: 9660
A27: 平.6(1994) | B27: 5830 | C27: … | D27: … | E27: 1140 | F27: 699 | G27: 436 | H27: 339900 | I27: 111500 | J27: 228400 | K27: … | L27: … | M27: … | N27: 285 | O27: 148 | P27: 137 | Q27: 102200 | R27: 50900 | S27: 51300 | T27: 1130 | U27: … | V27: … | W27: 183 | X27: 74 | Y27: 109 | Z27: 65600 | AA27: 26200 | AB27: 39400 | AC27: 123 | AD27: … | AE27: … | AF27: 30 | AG27: 3 | AH27: 27 | AI27: 12300 | AJ27: 1010 | AK27: 11300 | AL27: 1200 | AM27: … | AN27: … | AO27: 72 | AP27: 70 | AQ27: 2 | AR27: 24300 | AS27: 23700 | AT27: 613 | AU27: 175 | AV27: … | AW27: … | AX27: 24 | AY27: - | AZ27: 24 | BA27: 26200 | BB27: - | BC27: 26200 | BD27: 233 | BE27: … | BF27: … | BG27: 61 | BH27: 0 | BI27: 60 | BJ27: 49400 | BK27: 7 | BL27: 49400 | BM27: 15 | BN27: … | BO27: … | BP27: 1 | BQ27: 0 | BR27: 0 | BS27: 172 | BT27: 39 | BU27: 133 | BV27: - | BW27: … | BX27: … | BY27: - | BZ27: - | CA27: - | CB27: - | CC27: - | CD27: - | CE27: 97 | CF27: … | CG27: … | CH27: 8 | CI27: 0 | CJ27: 8 | CK27: 3160 | CL27: 28 | CM27: 3140 | CN27: 78 | CO27: … | CP27: … | CQ27: 10 | CR27: - | CS27: 10 | CT27: 1360 | CU27: - | CV27: 1360 | CW27: 106 | CX27: … | CY27: … | CZ27: 6 | DA27: - | DB27: 6 | DC27: 2580 | DD27: - | DE27: 2580 | DF27: 158 | DG27: … | DH27: … | DI27: 23 | DJ27: - | DK27: 23 | DL27: 35100 | DM27: - | DN27: 35100 | DO27: 214 | DP27: … | DQ27: … | DR27: 18 | DS27: - | DT27: 18 | DU27: 6600 | DV27: - | DW27: 6600 | DX27: 40 | DY27: … | DZ27: … | EA27: 3 | EB27: 1 | EC27: 2 | ED27: 1400 | EE27: 272 | EF27: 1130 | EG27: … | EH27: … | EI27: … | EJ27: … | EK27: … | EL27: … | EM27: … | EN27: … | EO27: … | EP27: … | EQ27: … | ER27: … | ES27: 23 | ET27: 8 | EU27: 15 | EV27: 10800 | EW27: 4150 | EX27: 6610 | EY27: 2680 | EZ27: … | FA27: … | FB27: 513 | FC27: 462 | FD27: 51 | FE27: 42500 | FF27: 37100 | FG27: 5380
A28: 平.7(1995) | B28: … | C28: … | D28: … | E28: … | F28: … | G28: … | H28: … | I28: … | J28: … | K28: … | L28: … | M28: … | N28: 284 | O28: 148 | P28: 136 | Q28: 97900 | R28: 50300 | S28: 47500 | T28: 1140 | U28: … | V28: … | W28: 185 | X28: 76 | Y28: 109 | Z28: 65400 | AA28: 26200 | AB28: 39200 | AC28: 136 | AD28: … | AE28: … | AF28: 29 | AG28: 3 | AH28: 26 | AI28: 9130 | AJ28: 1160 | AK28: 7970 | AL28: 1090 | AM28: … | AN28: … | AO28: 70 | AP28: 69 | AQ28: 1 | AR28: 23300 | AS28: 22900 | AT28: 395 | AU28: 161 | AV28: … | AW28: … | AX28: 23 | AY28: - | AZ28: 23 | BA28: 26800 | BB28: - | BC28: 26800 | BD28: 232 | BE28: … | BF28: … | BG28: 59 | BH28: 0 | BI28: 59 | BJ28: 46000 | BK28: 2 | BL28: 46000 | BM28: 14 | BN28: … | BO28: … | BP28: 1 | BQ28: 0 | BR28: 0 | BS28: 151 | BT28: 17 | BU28: 134 | BV28: 8 | BW28: … | BX28: … | BY28: 0 | BZ28: - | CA28: 0 | CB28: 60 | CC28: - | CD28: 60 | CE28: 77 | CF28: … | CG28: … | CH28: 7 | CI28: 0 | CJ28: 7 | CK28: 2460 | CL28: 28 | CM28: 2430 | CN28: 83 | CO28: … | CP28: … | CQ28: 11 | CR28: - | CS28: 11 | CT28: 1430 | CU28: - | CV28: 1430 | CW28: 105 | CX28: … | CY28: … | CZ28: 7 | DA28: 0 | DB28: 7 | DC28: 6610 | DD28: 38 | DE28: 6570 | DF28: 145 | DG28: … | DH28: … | DI28: 21 | DJ28: - | DK28: 21 | DL28: 33000 | DM28: - | DN28: 33000 | DO28: 221 | DP28: … | DQ28: … | DR28: 22 | DS28: - | DT28: 22 | DU28: 7230 | DV28: - | DW28: 7230 | DX28: 47 | DY28: … | DZ28: … | EA28: 4 | EB28: 0 | EC28: 4 | ED28: 1590 | EE28: 29 | EF28: 1560 | EG28: … | EH28: … | EI28: … | EJ28: … | EK28: … | EL28: … | EM28: … | EN28: … | EO28: … | EP28: … | EQ28: … | ER28: … | ES28: 35 | ET28: 19 | EU28: 16 | EV28: 15200 | EW28: 7830 | EX28: 7420 | EY28: 2690 | EZ28: … | FA28: … | FB28: 508 | FC28: 462 | FD28: 46 | FE28: 46700 | FF28: 39600 | FG28: 7090
A29: 平.8(1996) | B29: … | C29: … | D29: … | E29: … | F29: … | G29: … | H29: … | I29: … | J29: … | K29: … | L29: … | M29: … | N29: 296 | O29: 143 | P29: 153 | Q29: 100300 | R29: 48100 | S29: 52300 | T29: 1150 | U29: … | V29: … | W29: 184 | X29: 67 | Y29: 117 | Z29: 64000 | AA29: 23000 | AB29: 40900 | AC29: 143 | AD29: … | AE29: … | AF29: 35 | AG29: 3 | AH29: 32 | AI29: 10700 | AJ29: 756 | AK29: 9930 | AL29: 1020 | AM29: … | AN29: … | AO29: 77 | AP29: 73 | AQ29: 4 | AR29: 25700 | AS29: 24300 | AT29: 1400 | AU29: 151 | AV29: … | AW29: … | AX29: 21 | AY29: - | AZ29: 21 | BA29: 25500 | BB29: - | BC29: 25500 | BD29: 232 | BE29: … | BF29: … | BG29: 65 | BH29: 0 | BI29: 65 | BJ29: 48600 | BK29: 2 | BL29: 48600 | BM29: 16 | BN29: … | BO29: … | BP29: 1 | BQ29: 0 | BR29: 1 | BS29: 219 | BT29: 17 | BU29: 202 | BV29: … | BW29: … | BX29: … | BY29: … | BZ29: … | CA29: … | CB29: … | CC29: … | CD29: … | CE29: 83 | CF29: … | CG29: … | CH29: 8 | CI29: 0 | CJ29: 8 | CK29: 2970 | CL29: 28 | CM29: 2940 | CN29: 89 | CO29: … | CP29: … | CQ29: 13 | CR29: - | CS29: 13 | CT29: 1680 | CU29: - | CV29: 1680 | CW29: 94 | CX29: … | CY29: … | CZ29: 6 | DA29: - | DB29: 6 | DC29: 2500 | DD29: - | DE29: 2500 | DF29: 150 | DG29: … | DH29: … | DI29: 24 | DJ29: - | DK29: 24 | DL29: 38600 | DM29: - | DN29: 38600 | DO29: 208 | DP29: … | DQ29: … | DR29: 21 | DS29: - | DT29: 21 | DU29: 7860 | DV29: - | DW29: 7860 | DX29: 47 | DY29: … | DZ29: … | EA29: 6 | EB29: 0 | EC29: 6 | ED29: 2120 | EE29: 2 | EF29: 2120 | EG29: … | EH29: … | EI29: … | EJ29: … | EK29: … | EL29: … | EM29: … | EN29: … | EO29: … | EP29: … | EQ29: … | ER29: … | ES29: 29 | ET29: 13 | EU29: 16 | EV29: 16500 | EW29: 6100 | EX29: 10400 | EY29: 2670 | EZ29: … | FA29: … | FB29: 519 | FC29: 474 | FD29: 46 | FE29: 50200 | FF29: 41200 | FG29: 9040
A30: 平.9(1997) | B30: 5720 | C30: … | D30: … | E30: 1190 | F30: 701 | G30: 487 | H30: 356200 | I30: 110100 | J30: 246100 | K30: … | L30: … | M30: … | N30: 313 | O30: 133 | P30: 180 | Q30: 104600 | R30: 43600 | S30: 61000 | T30: 1000 | U30: … | V30: … | W30: 198 | X30: 53 | Y30: 145 | Z30: 68800 | AA30: 18500 | AB30: 50300 | AC30: 153 | AD30: … | AE30: … | AF30: 34 | AG30: 2 | AH30: 32 | AI30: 9970 | AJ30: 634 | AK30: 9330 | AL30: 1040 | AM30: … | AN30: … | AO30: 81 | AP30: 78 | AQ30: 3 | AR30: 25800 | AS30: 24500 | AT30: 1380 | AU30: 147 | AV30: … | AW30: … | AX30: 20 | AY30: - | AZ30: 20 | BA30: 24300 | BB30: - | BC30: 24300 | BD30: 238 | BE30: … | BF30: … | BG30: 70 | BH30: 0 | BI30: 69 | BJ30: 52700 | BK30: 149 | BL30: 52500 | BM30: 14 | BN30: … | BO30: … | BP30: 0 | BQ30: 0 | BR30: 0 | BS30: 182 | BT30: 12 | BU30: 170 | BV30: - | BW30: … | BX30: … | BY30: - | BZ30: - | CA30: - | CB30: - | CC30: - | CD30: - | CE30: 79 | CF30: … | CG30: … | CH30: 8 | CI30: - | CJ30: 8 | CK30: 2410 | CL30: - | CM30: 2410 | CN30: 90 | CO30: … | CP30: … | CQ30: 13 | CR30: - | CS30: 13 | CT30: 1790 | CU30: - | CV30: 1790 | CW30: 75 | CX30: … | CY30: … | CZ30: 4 | DA30: 0 | DB30: 4 | DC30: 2030 | DD30: 3 | DE30: 2030 | DF30: 151 | DG30: … | DH30: … | DI30: 24 | DJ30: - | DK30: 24 | DL30: 37000 | DM30: - | DN30: 37000 | DO30: 169 | DP30: … | DQ30: … | DR30: 21 | DS30: - | DT30: 21 | DU30: 6900 | DV30: - | DW30: 6900 | DX30: 52 | DY30: … | DZ30: … | EA30: 5 | EB30: 0 | EC30: 5 | ED30: 2400 | EE30: 9 | EF30: 2390 | EG30: … | EH30: … | EI30: … | EJ30: … | EK30: … | EL30: … | EM30: … | EN30: … | EO30: … | EP30: … | EQ30: … | ER30: … | ES30: 28 | ET30: 11 | EU30: 16 | EV30: 14000 | EW30: 4810 | EX30: 9230 | EY30: 2640 | EZ30: … | FA30: … | FB30: 512 | FC30: 472 | FD30: 40 | FE30: 47500 | FF30: 39700 | FG30: 7740
A31: 平.10(1998) | B31: … | C31: … | D31: … | E31: … | F31: … | G31: … | H31: … | I31: … | J31: … | K31: … | L31: … | M31: … | N31: 320 | O31: 122 | P31: 198 | Q31: 99800 | R31: 37000 | S31: 62900 | T31: 908 | U31: … | V31: … | W31: 210 | X31: 49 | Y31: 161 | Z31: 66500 | AA31: 15200 | AB31: 51300 | AC31: 136 | AD31: … | AE31: … | AF31: 35 | AG31: 2 | AH31: 32 | AI31: 10400 | AJ31: 698 | AK31: 9660 | AL31: 956 | AM31: … | AN31: … | AO31: 76 | AP31: 72 | AQ31: 5 | AR31: 23000 | AS31: 21100 | AT31: 1880 | AU31: 134 | AV31: … | AW31: … | AX31: 19 | AY31: - | AZ31: 19 | BA31: 23000 | BB31: - | BC31: 23000 | BD31: 237 | BE31: … | BF31: … | BG31: 71 | BH31: 0 | BI31: 71 | BJ31: 51900 | BK31: 3 | BL31: 51800 | BM31: 13 | BN31: … | BO31: … | BP31: 0 | BQ31: 0 | BR31: 0 | BS31: 160 | BT31: 8 | BU31: 152 | BV31: … | BW31: … | BX31: … | BY31: … | BZ31: … | CA31: … | CB31: … | CC31: … | CD31: … | CE31: 73 | CF31: … | CG31: … | CH31: 7 | CI31: - | CJ31: 7 | CK31: 1910 | CL31: - | CM31: 1910 | CN31: 90 | CO31: … | CP31: … | CQ31: 14 | CR31: - | CS31: 14 | CT31: 2490 | CU31: - | CV31: 2490 | CW31: 68 | CX31: … | CY31: … | CZ31: 4 | DA31: 0 | DB31: 4 | DC31: 1610 | DD31: 3 | DE31: 1600 | DF31: 153 | DG31: … | DH31: … | DI31: 29 | DJ31: - | DK31: 29 | DL31: 43500 | DM31: - | DN31: 43500 | DO31: 163 | DP31: … | DQ31: … | DR31: 21 | DS31: - | DT31: 21 | DU31: 7040 | DV31: - | DW31: 7040 | DX31: 51 | DY31: … | DZ31: … | EA31: 6 | EB31: 0 | EC31: 6 | ED31: 2110 | EE31: 7 | EF31: 2100 | EG31: … | EH31: … | EI31: … | EJ31: … | EK31: … | EL31: … | EM31: … | EN31: … | EO31: … | EP31: … | EQ31: … | ER31: … | ES31: 27 | ET31: 11 | EU31: 16 | EV31: 12200 | EW31: 4660 | EX31: 7520 | EY31: 2580 | EZ31: … | FA31: … | FB31: 520 | FC31: 482 | FD31: 39 | FE31: 47000 | FF31: 39600 | FG31: 7340
A32: 平.11(1999) | B32: 540 | C32: … | D32: … | E32: 1190 | F32: 697 | G32: 507 | H32: 356900 | I32: 100200 | J32: 256700 | K32: … | L32: … | M32: … | N32: 320 | O32: 121 | P32: 199 | Q32: 106000 | R32: 42000 | S32: 64000 | T32: 93 | U32: … | V32: … | W32: 212 | X32: 50 | Y32: 163 | Z32: 69100 | AA32: 16800 | AB32: 52300 | AC32: 13 | AD32: … | AE32: … | AF32: 35 | AG32: 2 | AH32: 34 | AI32: 11100 | AJ32: 615 | AK32: 10500 | AL32: 91 | AM32: … | AN32: … | AO32: 73 | AP32: 70 | AQ32: 3 | AR32: 25800 | AS32: 24600 | AT32: 1210 | AU32: 13 | AV32: … | AW32: … | AX32: 18 | AY32: - | AZ32: 18 | BA32: 22900 | BB32: - | BC32: 22900 | BD32: 23 | BE32: … | BF32: … | BG32: 71 | BH32: 0 | BI32: 71 | BJ32: 56900 | BK32: 3 | BL32: 56900 | BM32: … | BN32: … | BO32: … | BP32: … | BQ32: … | BR32: … | BS32: … | BT32: … | BU32: … | BV32: - | BW32: … | BX32: … | BY32: - | BZ32: - | CA32: - | CB32: - | CC32: - | CD32: - | CE32: 7 | CF32: … | CG32: … | CH32: 8 | CI32: - | CJ32: 8 | CK32: 2090 | CL32: - | CM32: 2090 | CN32: 9 | CO32: … | CP32: … | CQ32: 13 | CR32: - | CS32: 13 | CT32: 2220 | CU32: - | CV32: 2220 | CW32: 6 | CX32: … | CY32: … | CZ32: 3 | DA32: - | DB32: 3 | DC32: 1120 | DD32: - | DE32: 1120 | DF32: 16 | DG32: … | DH32: … | DI32: 28 | DJ32: - | DK32: 28 | DL32: 46000 | DM32: - | DN32: 46000 | DO32: 17 | DP32: … | DQ32: … | DR32: 21 | DS32: - | DT32: 21 | DU32: 7280 | DV32: - | DW32: 7280 | DX32: 5 | DY32: … | DZ32: … | EA32: 6 | EB32: 0 | EC32: 6 | ED32: 2140 | EE32: 25 | EF32: 2110 | EG32: 0 | EH32: … | EI32: … | EJ32: 1 | EK32: - | EL32: 1 | EM32: 252 | EN32: - | EO32: 252 | EP32: 50 | EQ32: … | ER32: … | ES32: 26 | ET32: 10 | EU32: 16 | EV32: 11100 | EW32: 4090 | EX32: 7030 | EY32: 257 | EZ32: … | FA32: … | FB32: 521 | FC32: 483 | FD32: 38 | FE32: 46100 | FF32: 39000 | FG32: 7080
A33: 平.12(2000) | B33: 525 | C33: … | D33: … | E33: 1170 | F33: 687 | G33: 481 | H33: 349300 | I33: 84600 | J33: 264800 | K33: … | L33: … | M33: … | N33: 297 | O33: 100 | P33: 197 | Q33: 90600 | R33: 28900 | S33: 61700 | T33: 77 | U33: … | V33: … | W33: 200 | X33: 40 | Y33: 160 | Z33: 63300 | AA33: 13500 | AB33: 49700 | AC33: 16 | AD33: … | AE33: … | AF33: 35 | AG33: 1 | AH33: 34 | AI33: 11100 | AJ33: 356 | AK33: 10800 | AL33: 85 | AM33: … | AN33: … | AO33: 62 | AP33: 59 | AQ33: 3 | AR33: 16200 | AS33: 15000 | AT33: 1240 | AU33: 12 | AV33: … | AW33: … | AX33: 18 | AY33: - | AZ33: 18 | BA33: 21900 | BB33: - | BC33: 21900 | BD33: 22 | BE33: … | BF33: … | BG33: 64 | BH33: 0 | BI33: 64 | BJ33: 54100 | BK33: 3 | BL33: 54100 | BM33: … | BN33: … | BO33: … | BP33: … | BQ33: … | BR33: … | BS33: … | BT33: … | BU33: … | BV33: - | BW33: … | BX33: … | BY33: - | BZ33: - | CA33: - | CB33: - | CC33: - | CD33: - | CE33: 6 | CF33: … | CG33: … | CH33: 7 | CI33: - | CJ33: 7 | CK33: 1880 | CL33: - | CM33: 1880 | CN33: 9 | CO33: … | CP33: … | CQ33: 12 | CR33: - | CS33: 12 | CT33: 1810 | CU33: - | CV33: 1810 | CW33: 5 | CX33: … | CY33: … | CZ33: 3 | DA33: - | DB33: 3 | DC33: 1050 | DD33: - | DE33: 1050 | DF33: 15 | DG33: … | DH33: … | DI33: 28 | DJ33: - | DK33: 28 | DL33: 62700 | DM33: - | DN33: 62700 | DO33: 16 | DP33: … | DQ33: … | DR33: 21 | DS33: - | DT33: 21 | DU33: 8450 | DV33: - | DW33: 8450 | DX33: 6 | DY33: … | DZ33: … | EA33: 6 | EB33: 0 | EC33: 6 | ED33: 2490 | EE33: 15 | EF33: 2480 | EG33: 1 | EH33: … | EI33: … | EJ33: 1 | EK33: - | EL33: 1 | EM33: 419 | EN33: - | EO33: 419 | EP33: 44 | EQ33: … | ER33: … | ES33: 25 | ET33: 10 | EU33: 15 | EV33: 9740 | EW33: 3900 | EX33: 5850 | EY33: 258 | EZ33: … | FA33: … | FB33: 546 | FC33: 508 | FD33: 38 | FE33: 46600 | FF33: 39500 | FG33: 7110
A34: 平.13(2001) | B34: 513 | C34: … | D34: … | E34: 1140 | F34: 675 | G34: 468 | H34: 337300 | I34: 81600 | J34: 255700 | K34: … | L34: … | M34: … | N34: 291 | O34: 96 | P34: 195 | Q34: 87200 | R34: 26400 | S34: 60800 | T34: 72 | U34: … | V34: … | W34: 196 | X34: 39 | Y34: 158 | Z34: 60700 | AA34: 11900 | AB34: 48700 | AC34: 15 | AD34: … | AE34: … | AF34: 35 | AG34: 1 | AH34: 33 | AI34: 10900 | AJ34: 382 | AK34: 10500 | AL34: 80 | AM34: … | AN34: … | AO34: 60 | AP34: 56 | AQ34: 4 | AR34: 15600 | AS34: 14000 | AT34: 1540 | AU34: 10 | AV34: … | AW34: … | AX34: 15 | AY34: - | AZ34: 15 | BA34: 18800 | BB34: - | BC34: 18800 | BD34: 22 | BE34: … | BF34: … | BG34: 61 | BH34: 0 | BI34: 61 | BJ34: 51100 | BK34: 3 | BL34: 51100 | BM34: … | BN34: … | BO34: … | BP34: … | BQ34: … | BR34: … | BS34: … | BT34: … | BU34: … | BV34: - | BW34: … | BX34: … | BY34: - | BZ34: - | CA34: - | CB34: - | CC34: - | CD34: - | CE34: 5 | CF34: … | CG34: … | CH34: x | CI34: - | CJ34: x | CK34: x | CL34: - | CM34: x | CN34: 8 | CO34: … | CP34: … | CQ34: 11 | CR34: - | CS34: 11 | CT34: 1620 | CU34: - | CV34: 1620 | CW34: 4 | CX34: … | CY34: … | CZ34: 3 | DA34: - | DB34: 3 | DC34: 940 | DD34: - | DE34: 940 | DF34: 16 | DG34: … | DH34: … | DI34: 29 | DJ34: - | DK34: 29 | DL34: 64000 | DM34: - | DN34: 64000 | DO34: 16 | DP34: … | DQ34: … | DR34: 21 | DS34: - | DT34: 21 | DU34: 7230 | DV34: - | DW34: 7230 | DX34: 6 | DY34: … | DZ34: … | EA34: x | EB34: - | EC34: x | ED34: x | EE34: - | EF34: x | EG34: 1 | EH34: … | EI34: … | EJ34: 1 | EK34: - | EL34: 1 | EM34: 301 | EN34: - | EO34: 301 | EP34: 46 | EQ34: … | ER34: … | ES34: 24 | ET34: 11 | EU34: 13 | EV34: 9460 | EW34: 4370 | EX34: 5090 | EY34: 250 | EZ34: … | FA34: … | FB34: 537 | FC34: 500 | FD34: 37 | FE34: 45800 | FF34: 38900 | FG34: 6900
A35: 平.14(2002) | B35: 5000 | C35: … | D35: … | E35: 110000 | F35: … | G35: … | H35: 327700 | I35: … | J35: 250800 | K35: … | L35: … | M35: … | N35: 27700 | O35: … | P35: … | Q35: 83000 | R35: … | S35: 61100 | T35: 681 | U35: … | V35: … | W35: 18700 | X35: … | Y35: … | Z35: 58600 | AA35: … | AB35: 49600 | AC35: 148 | AD35: … | AE35: … | AF35: 3320 | AG35: … | AH35: … | AI35: 10400 | AJ35: … | AK35: 10100 | AL35: 712 | AM35: … | AN35: … | AO35: 5600 | AP35: … | AQ35: … | AR35: 14000 | AS35: … | AT35: 1390 | AU35: 98 | AV35: … | AW35: … | AX35: 1470 | AY35: … | AZ35: … | BA35: 18100 | BB35: … | BC35: 18100 | BD35: 213 | BE35: … | BF35: … | BG35: 6000 | BH35: … | BI35: … | BJ35: 47200 | BK35: … | BL35: 47200 | BM35: … | BN35: … | BO35: … | BP35: … | BQ35: … | BR35: … | BS35: … | BT35: … | BU35: … | BV35: - | BW35: … | BX35: … | BY35: - | BZ35: … | CA35: … | CB35: - | CC35: … | CD35: - | CE35: 38 | CF35: … | CG35: … | CH35: 379 | CI35: … | CJ35: … | CK35: 1360 | CL35: … | CM35: 1360 | CN35: 73 | CO35: … | CP35: … | CQ35: 1180 | CR35: … | CS35: … | CT35: 1780 | CU35: … | CV35: 1780 | CW35: 32 | CX35: … | CY35: … | CZ35: 221 | DA35: … | DB35: … | DC35: 814 | DD35: … | DE35: 814 | DF35: 152 | DG35: … | DH35: … | DI35: 2920 | DJ35: … | DK35: … | DL35: 64300 | DM35: … | DN35: 64300 | DO35: 159 | DP35: … | DQ35: … | DR35: 2170 | DS35: … | DT35: … | DU35: 7850 | DV35: … | DW35: 7850 | DX35: 57 | DY35: … | DZ35: … | EA35: 765 | EB35: … | EC35: … | ED35: 2550 | EE35: … | EF35: 2550 | EG35: 5 | EH35: … | EI35: … | EJ35: 88 | EK35: … | EL35: … | EM35: 296 | EN35: … | EO35: 296 | EP35: 476 | EQ35: … | ER35: … | ES35: 2310 | ET35: … | EU35: … | EV35: 11700 | EW35: … | EX35: 5510 | EY35: 2430 | EZ35: … | FA35: … | FB35: 52000 | FC35: … | FD35: … | FE35: 44900 | FF35: … | FG35: 7040
A36: 平.15(2003) | B36: 4790 | C36: … | D36: … | E36: 106000 | F36: … | G36: … | H36: 314300 | I36: … | J36: 243000 | K36: … | L36: … | M36: … | N36: 25300 | O36: … | P36: … | Q36: 76900 | R36: … | S36: 57600 | T36: 632 | U36: … | V36: … | W36: 17000 | X36: … | Y36: … | Z36: 52700 | AA36: … | AB36: 45000 | AC36: 123 | AD36: … | AE36: … | AF36: 3560 | AG36: … | AH36: … | AI36: 11600 | AJ36: … | AK36: 11300 | AL36: 633 | AM36: … | AN36: … | AO36: 4730 | AP36: … | AQ36: … | AR36: 12700 | AS36: … | AT36: 1340 | AU36: 94 | AV36: … | AW36: … | AX36: 1660 | AY36: … | AZ36: … | BA36: 20100 | BB36: … | BC36: 20100 | BD36: 205 | BE36: … | BF36: … | BG36: 5920 | BH36: … | BI36: … | BJ36: 45300 | BK36: … | BL36: 45300 | BM36: … | BN36: … | BO36: … | BP36: … | BQ36: … | BR36: … | BS36: … | BT36: … | BU36: … | BV36: - | BW36: … | BX36: … | BY36: - | BZ36: … | CA36: … | CB36: - | CC36: … | CD36: - | CE36: 32 | CF36: … | CG36: … | CH36: 336 | CI36: … | CJ36: … | CK36: 1130 | CL36: … | CM36: 1130 | CN36: 72 | CO36: … | CP36: … | CQ36: 1200 | CR36: … | CS36: … | CT36: 1750 | CU36: … | CV36: 1750 | CW36: 40 | CX36: … | CY36: … | CZ36: 271 | DA36: … | DB36: … | DC36: 1010 | DD36: … | DE36: 1010 | DF36: 147 | DG36: … | DH36: … | DI36: 2840 | DJ36: … | DK36: … | DL36: 64100 | DM36: … | DN36: 64100 | DO36: 162 | DP36: … | DQ36: … | DR36: 2190 | DS36: … | DT36: … | DU36: 7740 | DV36: … | DW36: 7740 | DX36: 48 | DY36: … | DZ36: … | EA36: 768 | EB36: … | EC36: … | ED36: 2310 | EE36: … | EF36: 2310 | EG36: 4 | EH36: … | EI36: … | EJ36: 55 | EK36: … | EL36: … | EM36: 252 | EN36: … | EO36: 252 | EP36: 454 | EQ36: … | ER36: … | ES36: 2290 | ET36: … | EU36: … | EV36: 11800 | EW36: … | EX36: 5380 | EY36: 2410 | EZ36: … | FA36: … | FB36: 51300 | FC36: … | FD36: … | FE36: 42200 | FF36: … | FG36: 5990
A37: 平.16(2004) | B37: 4600 | C37: … | D37: … | E37: 99800 | F37: … | G37: … | H37: 292000 | I37: … | J37: 224600 | K37: … | L37: … | M37: … | N37: 22600 | O37: … | P37: … | Q37: 70400 | R37: … | S37: 52600 | T37: 592 | U37: … | V37: … | W37: 15100 | X37: … | Y37: … | Z37: 48300 | AA37: … | AB37: 41600 | AC37: 113 | AD37: … | AE37: … | AF37: 3430 | AG37: … | AH37: … | AI37: 11100 | AJ37: … | AK37: 11000 | AL37: 590 | AM37: … | AN37: … | AO37: 4040 | AP37: … | AQ37: … | AR37: 10900 | AS37: … | AT37: 130 | AU37: 93 | AV37: … | AW37: … | AX37: 1280 | AY37: … | AZ37: … | BA37: 17400 | BB37: … | BC37: 17400 | BD37: 194 | BE37: … | BF37: … | BG37: 5580 | BH37: … | BI37: … | BJ37: 43300 | BK37: … | BL37: 43300 | BM37: … | BN37: … | BO37: … | BP37: … | BQ37: … | BR37: … | BS37: … | BT37: … | BU37: … | BV37: - | BW37: … | BX37: … | BY37: - | BZ37: … | CA37: … | CB37: - | CC37: … | CD37: - | CE37: 24 | CF37: ‥ | CG37: ‥ | CH37: 277 | CI37: … | CJ37: … | CK37: 931 | CL37: … | CM37: 931 | CN37: 68 | CO37: … | CP37: … | CQ37: 1110 | CR37: … | CS37: … | CT37: 1740 | CU37: … | CV37: 1740 | CW37: 40 | CX37: … | CY37: … | CZ37: 260 | DA37: … | DB37: … | DC37: 850 | DD37: … | DE37: 850 | DF37: 147 | DG37: … | DH37: … | DI37: 2740 | DJ37: … | DK37: … | DL37: 63100 | DM37: … | DN37: 63100 | DO37: 156 | DP37: … | DQ37: … | DR37: 2210 | DS37: … | DT37: … | DU37: 7450 | DV37: … | DW37: 7450 | DX37: 47 | DY37: … | DZ37: … | EA37: 714 | EB37: … | EC37: … | ED37: 2170 | EE37: … | EF37: 2170 | EG37: 4 | EH37: … | EI37: … | EJ37: 55 | EK37: … | EL37: … | EM37: 263 | EN37: … | EO37: 263 | EP37: 436 | EQ37: … | ER37: … | ES37: 2290 | ET37: … | EU37: … | EV37: 12000 | EW37: … | EX37: 5470 | EY37: 2360 | EZ37: … | FA37: … | FB37: 49500 | FC37: … | FD37: … | FE37: 38600 | FF37: … | FG37: 4030
A38: 平.17(2005) | B38: 4410 | C38: … | D38: … | E38: 94600 | F38: … | G38: … | H38: 274500 | I38: … | J38: 210900 | K38: … | L38: … | M38: … | N38: 20600 | O38: … | P38: … | Q38: 63800 | R38: … | S38: 48300 | T38: 556 | U38: … | V38: … | W38: 13600 | X38: … | Y38: … | Z38: 43100 | AA38: … | AB38: 37300 | AC38: 109 | AD38: … | AE38: … | AF38: 3290 | AG38: … | AH38: … | AI38: 10600 | AJ38: … | AK38: 10500 | AL38: 529 | AM38: … | AN38: … | AO38: 3750 | AP38: … | AQ38: … | AR38: 10100 | AS38: … | AT38: 572 | AU38: 81 | AV38: … | AW38: … | AX38: 1230 | AY38: … | AZ38: … | BA38: 16600 | BB38: … | BC38: 16600 | BD38: 179 | BE38: … | BF38: … | BG38: 4780 | BH38: … | BI38: … | BJ38: 39500 | BK38: … | BL38: 39500 | BM38: … | BN38: … | BO38: … | BP38: … | BQ38: … | BR38: … | BS38: … | BT38: … | BU38: … | BV38: … | BW38: … | BX38: … | BY38: … | BZ38: … | CA38: … | CB38: … | CC38: … | CD38: … | CE38: 22 | CF38: … | CG38: … | CH38: 243 | CI38: … | CJ38: … | CK38: 1040 | CL38: … | CM38: 1040 | CN38: 68 | CO38: … | CP38: … | CQ38: 1000 | CR38: … | CS38: … | CT38: 1470 | CU38: … | CV38: 1470 | CW38: … | CX38: … | CY38: … | CZ38: … | DA38: … | DB38: … | DC38: … | DD38: … | DE38: … | DF38: 145 | DG38: … | DH38: … | DI38: 2740 | DJ38: … | DK38: … | DL38: 61900 | DM38: … | DN38: 61900 | DO38: 146 | DP38: … | DQ38: … | DR38: 2140 | DS38: … | DT38: … | DU38: 7510 | DV38: … | DW38: 7510 | DX38: 46 | DY38: … | DZ38: … | EA38: 712 | EB38: … | EC38: … | ED38: 2180 | EE38: … | EF38: 2180 | EG38: 4 | EH38: … | EI38: … | EJ38: 55 | EK38: … | EL38: … | EM38: 302 | EN38: … | EO38: 302 | EP38: 419 | EQ38: … | ER38: … | ES38: 2180 | ET38: … | EU38: … | EV38: 11300 | EW38: … | EX38: 5410 | EY38: 2230 | EZ38: … | FA38: … | FB38: 48700 | FC38: … | FD38: … | FE38: 38400 | FF38: … | FG38: 4050
A39: 平.18(2006) | B39: 4190 | C39: … | D39: … | E39: 90500 | F39: … | G39: … | H39: 263400 | I39: … | J39: 203800 | K39: … | L39: … | M39: … | N39: 19800 | O39: … | P39: … | Q39: 62300 | R39: … | S39: 48400 | T39: 518 | U39: … | V39: … | W39: 13300 | X39: … | Y39: … | Z39: 42400 | AA39: … | AB39: 37000 | AC39: 109 | AD39: … | AE39: … | AF39: 3280 | AG39: … | AH39: … | AI39: 11000 | AJ39: … | AK39: 10900 | AL39: 424 | AM39: … | AN39: … | AO39: 3270 | AP39: … | AQ39: … | AR39: 9000 | AS39: … | AT39: 488 | AU39: 78 | AV39: … | AW39: … | AX39: 1200 | AY39: … | AZ39: … | BA39: 15900 | BB39: … | BC39: 15900 | BD39: 173 | BE39: … | BF39: … | BG39: 4550 | BH39: … | BI39: … | BJ39: 34400 | BK39: … | BL39: 34400 | BM39: … | BN39: … | BO39: … | BP39: … | BQ39: … | BR39: … | BS39: … | BT39: … | BU39: … | BV39: … | BW39: … | BX39: … | BY39: … | BZ39: … | CA39: … | CB39: … | CC39: … | CD39: … | CE39: … | CF39: … | CG39: … | CH39: … | CI39: … | CJ39: … | CK39: … | CL39: … | CM39: … | CN39: 64 | CO39: … | CP39: … | CQ39: 1010 | CR39: … | CS39: … | CT39: 1560 | CU39: … | CV39: 1560 | CW39: … | CX39: … | CY39: … | CZ39: … | DA39: … | DB39: … | DC39: … | DD39: … | DE39: … | DF39: 131 | DG39: … | DH39: … | DI39: 2610 | DJ39: … | DK39: … | DL39: 60100 | DM39: … | DN39: 60100 | DO39: 140 | DP39: … | DQ39: … | DR39: 2010 | DS39: … | DT39: … | DU39: 7260 | DV39: … | DW39: 7260 | DX39: 37 | DY39: … | DZ39: … | EA39: 631 | EB39: … | EC39: … | ED39: 1960 | EE39: … | EF39: 1960 | EG39: 4 | EH39: … | EI39: … | EJ39: 42 | EK39: … | EL39: … | EM39: 220 | EN39: … | EO39: 220 | EP39: 392 | EQ39: … | ER39: … | ES39: 1950 | ET39: … | EU39: … | EV39: 11000 | EW39: … | EX39: 5680 | EY39: 2130 | EZ39: … | FA39: … | FB39: 46900 | FC39: … | FD39: … | FE39: 37700 | FF39: … | FG39: 4350
A40: 平.19(2007) | B40: … | C40: … | D40: … | E40: 88200 | F40: … | G40: … | H40: 249400 | I40: … | J40: … | K40: … | L40: … | M40: … | N40: 19000 | O40: … | P40: … | Q40: 57800 | R40: … | S40: … | T40: … | U40: … | V40: … | W40: 13100 | X40: … | Y40: … | Z40: 39900 | AA40: … | AB40: … | AC40: … | AD40: … | AE40: … | AF40: 3090 | AG40: … | AH40: … | AI40: 10100 | AJ40: … | AK40: … | AL40: … | AM40: … | AN40: … | AO40: 2830 | AP40: … | AQ40: … | AR40: 7910 | AS40: … | AT40: … | AU40: … | AV40: … | AW40: … | AX40: 993 | AY40: … | AZ40: … | BA40: 13200 | BB40: … | BC40: … | BD40: … | BE40: … | BF40: … | BG40: 4360 | BH40: … | BI40: … | BJ40: 32300 | BK40: … | BL40: … | BM40: … | BN40: … | BO40: … | BP40: … | BQ40: … | BR40: … | BS40: … | BT40: … | BU40: … | BV40: … | BW40: … | BX40: … | BY40: … | BZ40: … | CA40: … | CB40: … | CC40: … | CD40: … | CE40: … | CF40: … | CG40: … | CH40: 261 | CI40: … | CJ40: … | CK40: 979 | CL40: … | CM40: … | CN40: … | CO40: … | CP40: … | CQ40: 1030 | CR40: … | CS40: … | CT40: 1430 | CU40: … | CV40: … | CW40: … | CX40: … | CY40: … | CZ40: 127 | DA40: … | DB40: … | DC40: 331 | DD40: … | DE40: … | DF40: … | DG40: … | DH40: … | DI40: 2590 | DJ40: … | DK40: … | DL40: 60200 | DM40: … | DN40: … | DO40: … | DP40: … | DQ40: … | DR40: 1900 | DS40: … | DT40: … | DU40: 6810 | DV40: … | DW40: … | DX40: … | DY40: … | DZ40: … | EA40: 647 | EB40: … | EC40: … | ED40: 1910 | EE40: … | EF40: … | EG40: … | EH40: … | EI40: … | EJ40: 31 | EK40: … | EL40: … | EM40: 131 | EN40: … | EO40: … | EP40: … | EQ40: … | ER40: … | ES40: 1960 | ET40: … | EU40: … | EV40: 9300 | EW40: … | EX40: … | EY40: … | EZ40: … | FA40: … | FB40: 46700 | FC40: … | FD40: … | FE40: 37500 | FF40: … | FG40: …
A41: 平.20(2008) | B41: … | C41: … | D41: … | E41: 87300 | F41: … | G41: … | H41: 234000 | I41: … | J41: … | K41: … | L41: … | M41: … | N41: 18200 | O41: … | P41: … | Q41: 54200 | R41: … | S41: … | T41: … | U41: … | V41: … | W41: 12600 | X41: … | Y41: … | Z41: 37400 | AA41: … | AB41: … | AC41: … | AD41: … | AE41: … | AF41: 2970 | AG41: … | AH41: … | AI41: 9570 | AJ41: … | AK41: … | AL41: … | AM41: … | AN41: … | AO41: 2600 | AP41: … | AQ41: … | AR41: 7240 | AS41: … | AT41: … | AU41: … | AV41: … | AW41: … | AX41: 986 | AY41: … | AZ41: … | BA41: 13000 | BB41: … | BC41: … | BD41: … | BE41: … | BF41: … | BG41: 4350 | BH41: … | BI41: … | BJ41: 31700 | BK41: … | BL41: … | BM41: … | BN41: … | BO41: … | BP41: … | BQ41: … | BR41: … | BS41: … | BT41: … | BU41: … | BV41: … | BW41: … | BX41: … | BY41: … | BZ41: … | CA41: … | CB41: … | CC41: … | CD41: … | CE41: … | CF41: … | CG41: … | CH41: … | CI41: … | CJ41: … | CK41: … | CL41: … | CM41: … | CN41: … | CO41: … | CP41: … | CQ41: 1050 | CR41: … | CS41: … | CT41: 1450 | CU41: … | CV41: … | CW41: … | CX41: … | CY41: … | CZ41: … | DA41: … | DB41: … | DC41: … | DD41: … | DE41: … | DF41: … | DG41: … | DH41: … | DI41: 2600 | DJ41: … | DK41: … | DL41: 60300 | DM41: … | DN41: … | DO41: … | DP41: … | DQ41: … | DR41: 1930 | DS41: … | DT41: … | DU41: 6410 | DV41: … | DW41: … | DX41: … | DY41: … | DZ41: … | EA41: … | EB41: … | EC41: … | ED41: … | EE41: … | EF41: … | EG41: … | EH41: … | EI41: … | EJ41: … | EK41: … | EL41: … | EM41: … | EN41: … | EO41: … | EP41: … | EQ41: … | ER41: … | ES41: 2000 | ET41: … | EU41: … | EV41: 8910 | EW41: … | EX41: … | EY41: … | EZ41: … | FA41: … | FB41: 47800 | FC41: … | FD41: … | FE41: 37900 | FF41: … | FG41: …
A42: 平.21(2009) | B42: … | C42: … | D42: … | E42: 83800 | F42: … | G42: … | H42: 228700 | I42: … | J42: … | K42: … | L42: … | M42: … | N42: 17500 | O42: … | P42: … | Q42: 52900 | R42: … | S42: … | T42: … | U42: … | V42: … | W42: 12500 | X42: … | Y42: … | Z42: 37600 | AA42: … | AB42: … | AC42: … | AD42: … | AE42: … | AF42: 2740 | AG42: … | AH42: … | AI42: 8880 | AJ42: … | AK42: … | AL42: … | AM42: … | AN42: … | AO42: 2300 | AP42: … | AQ42: … | AR42: 6420 | AS42: … | AT42: … | AU42: … | AV42: … | AW42: … | AX42: 960 | AY42: … | AZ42: … | BA42: 12800 | BB42: … | BC42: … | BD42: … | BE42: … | BF42: … | BG42: 4340 | BH42: … | BI42: … | BJ42: 31000 | BK42: … | BL42: … | BM42: … | BN42: … | BO42: … | BP42: … | BQ42: … | BR42: … | BS42: … | BT42: … | BU42: … | BV42: … | BW42: … | BX42: … | BY42: … | BZ42: … | CA42: … | CB42: … | CC42: … | CD42: … | CE42: … | CF42: … | CG42: … | CH42: … | CI42: … | CJ42: … | CK42: … | CL42: … | CM42: … | CN42: … | CO42: … | CP42: … | CQ42: 1030 | CR42: … | CS42: … | CT42: 1480 | CU42: … | CV42: … | CW42: … | CX42: … | CY42: … | CZ42: … | DA42: … | DB42: … | DC42: … | DD42: … | DE42: … | DF42: … | DG42: … | DH42: … | DI42: 2620 | DJ42: … | DK42: … | DL42: 60200 | DM42: … | DN42: … | DO42: … | DP42: … | DQ42: … | DR42: 1910 | DS42: … | DT42: … | DU42: 6350 | DV42: … | DW42: … | DX42: … | DY42: … | DZ42: … | EA42: … | EB42: … | EC42: … | ED42: … | EE42: … | EF42: … | EG42: … | EH42: … | EI42: … | EJ42: … | EK42: … | EL42: … | EM42: … | EN42: … | EO42: … | EP42: … | EQ42: … | ER42: … | ES42: 1800 | ET42: … | EU42: … | EV42: 9070 | EW42: … | EX42: … | EY42: … | EZ42: … | FA42: … | FB42: 43000 | FC42: … | FD42: … | FE42: 34400 | FF42: … | FG42: …
A43: 平.22(2010) | B43: … | C43: … | D43: … | E43: 83200 | F43: … | G43: … | H43: 221900 | I43: … | J43: … | K43: … | L43: … | M43: … | N43: 17200 | O43: … | P43: … | Q43: 50800 | R43: … | S43: … | T43: … | U43: … | V43: … | W43: 12200 | X43: … | Y43: … | Z43: 35600 | AA43: … | AB43: … | AC43: … | AD43: … | AE43: … | AF43: 2690 | AG43: … | AH43: … | AI43: 8700 | AJ43: … | AK43: … | AL43: … | AM43: … | AN43: … | AO43: 2290 | AP43: … | AQ43: … | AR43: 6480 | AS43: … | AT43: … | AU43: … | AV43: … | AW43: … | AX43: 979 | AY43: … | AZ43: … | BA43: 12500 | BB43: … | BC43: … | BD43: … | BE43: … | BF43: … | BG43: 4330 | BH43: … | BI43: … | BJ43: 29400 | BK43: … | BL43: … | BM43: … | BN43: … | BO43: … | BP43: … | BQ43: … | BR43: … | BS43: … | BT43: … | BU43: … | BV43: … | BW43: … | BX43: … | BY43: … | BZ43: … | CA43: … | CB43: … | CC43: … | CD43: … | CE43: … | CF43: … | CG43: … | CH43: 187 | CI43: … | CJ43: … | CK43: 877 | CL43: … | CM43: … | CN43: … | CO43: … | CP43: … | CQ43: 1030 | CR43: … | CS43: … | CT43: 1380 | CU43: … | CV43: … | CW43: … | CX43: … | CY43: … | CZ43: 110 | DA43: … | DB43: … | DC43: 310 | DD43: … | DE43: … | DF43: … | DG43: … | DH43: … | DI43: 2700 | DJ43: … | DK43: … | DL43: 61100 | DM43: … | DN43: … | DO43: … | DP43: … | DQ43: … | DR43: 1900 | DS43: … | DT43: … | DU43: 5980 | DV43: … | DW43: … | DX43: … | DY43: … | DZ43: … | EA43: 581 | EB43: … | EC43: … | ED43: 1510 | EE43: … | EF43: … | EG43: … | EH43: … | EI43: … | EJ43: 26 | EK43: … | EL43: … | EM43: 110 | EN43: … | EO43: … | EP43: … | EQ43: … | ER43: … | ES43: 1780 | ET43: … | EU43: … | EV43: 8680 | EW43: … | EX43: … | EY43: … | EZ43: … | FA43: … | FB43: 43000 | FC43: … | FD43: … | FE43: 33500 | FF43: … | FG43: …
A44: 平.23(2011) | B44: … | C44: … | D44: … | E44: 82200 | F44: … | G44: … | H44: 209200 | I44: … | J44: … | K44: … | L44: … | M44: … | N44: 16900 | O44: … | P44: … | Q44: 49700 | R44: … | S44: … | T44: … | U44: … | V44: … | W44: 12200 | X44: … | Y44: … | Z44: 35400 | AA44: … | AB44: … | AC44: … | AD44: … | AE44: … | AF44: 2750 | AG44: … | AH44: … | AI44: 8640 | AJ44: … | AK44: … | AL44: … | AM44: … | AN44: … | AO44: 1980 | AP44: … | AQ44: … | AR44: 5580 | AS44: … | AT44: … | AU44: … | AV44: … | AW44: … | AX44: 947 | AY44: … | AZ44: … | BA44: 12000 | BB44: … | BC44: … | BD44: … | BE44: … | BF44: … | BG44: 4050 | BH44: … | BI44: … | BJ44: 26100 | BK44: … | BL44: … | BM44: … | BN44: … | BO44: … | BP44: … | BQ44: … | BR44: … | BS44: … | BT44: … | BU44: … | BV44: … | BW44: … | BX44: … | BY44: … | BZ44: … | CA44: … | CB44: … | CC44: … | CD44: … | CE44: … | CF44: … | CG44: … | CH44: … | CI44: … | CJ44: … | CK44: … | CL44: … | CM44: … | CN44: … | CO44: … | CP44: … | CQ44: 1030 | CR44: … | CS44: … | CT44: 1410 | CU44: … | CV44: … | CW44: … | CX44: … | CY44: … | CZ44: … | DA44: … | DB44: … | DC44: … | DD44: … | DE44: … | DF44: … | DG44: … | DH44: … | DI44: 2690 | DJ44: … | DK44: … | DL44: 60900 | DM44: … | DN44: … | DO44: … | DP44: … | DQ44: … | DR44: 1910 | DS44: … | DT44: … | DU44: 5740 | DV44: … | DW44: … | DX44: … | DY44: … | DZ44: … | EA44: … | EB44: … | EC44: … | ED44: … | EE44: … | EF44: … | EG44: … | EH44: … | EI44: … | EJ44: … | EK44: … | EL44: … | EM44: … | EN44: … | EO44: … | EP44: … | EQ44: … | ER44: … | ES44: 1680 | ET44: … | EU44: … | EV44: 7140 | EW44: … | EX44: … | EY44: … | EZ44: … | FA44: … | FB44: 42500 | FC44: … | FD44: … | FE44: 33300 | FF44: … | FG44: …
A45: 平.24(2012) | B45: … | C45: … | D45: … | E45: 81800 | F45: … | G45: … | H45: 205300 | I45: … | J45: … | K45: … | L45: … | M45: … | N45: 16600 | O45: … | P45: … | Q45: 48000 | R45: … | S45: … | T45: … | U45: … | V45: … | W45: 11900 | X45: … | Y45: … | Z45: 34300 | AA45: … | AB45: … | AC45: … | AD45: … | AE45: … | AF45: 2620 | AG45: … | AH45: … | AI45: 8120 | AJ45: … | AK45: … | AL45: … | AM45: … | AN45: … | AO45: 1990 | AP45: … | AQ45: … | AR45: 5620 | AS45: … | AT45: … | AU45: … | AV45: … | AW45: … | AX45: 895 | AY45: … | AZ45: … | BA45: 11600 | BB45: … | BC45: … | BD45: … | BE45: … | BF45: … | BG45: 3960 | BH45: … | BI45: … | BJ45: 24400 | BK45: … | BL45: … | BM45: … | BN45: … | BO45: … | BP45: … | BQ45: … | BR45: … | BS45: … | BT45: … | BU45: … | BV45: … | BW45: … | BX45: … | BY45: … | BZ45: … | CA45: … | CB45: … | CC45: … | CD45: … | CE45: … | CF45: … | CG45: … | CH45: … | CI45: … | CJ45: … | CK45: … | CL45: … | CM45: … | CN45: … | CO45: … | CP45: … | CQ45: 1030 | CR45: … | CS45: … | CT45: 1380 | CU45: … | CV45: … | CW45: … | CX45: … | CY45: … | CZ45: … | DA45: … | DB45: … | DC45: … | DD45: … | DE45: … | DF45: … | DG45: … | DH45: … | DI45: 2730 | DJ45: … | DK45: … | DL45: 61400 | DM45: … | DN45: … | DO45: … | DP45: … | DQ45: … | DR45: 1870 | DS45: … | DT45: … | DU45: 5720 | DV45: … | DW45: … | DX45: … | DY45: … | DZ45: … | EA45: … | EB45: … | EC45: … | ED45: … | EE45: … | EF45: … | EG45: … | EH45: … | EI45: … | EJ45: … | EK45: … | EL45: … | EM45: … | EN45: … | EO45: … | EP45: … | EQ45: … | ER45: … | ES45: 1770 | ET45: … | EU45: … | EV45: 7090 | EW45: … | EX45: … | EY45: … | EZ45: … | FA45: … | FB45: 43000 | FC45: … | FD45: … | FE45: 33500 | FF45: … | FG45: …
A46: 平.25(2013) | B46: … | C46: … | D46: … | E46: 82000 | F46: … | G46: … | H46: 206700 | I46: … | J46: … | K46: … | L46: … | M46: … | N46: 16500 | O46: … | P46: … | Q46: 48400 | R46: … | S46: … | T46: … | U46: … | V46: … | W46: 12000 | X46: … | Y46: … | Z46: 35000 | AA46: … | AB46: … | AC46: … | AD46: … | AE46: … | AF46: 2480 | AG46: … | AH46: … | AI46: 7930 | AJ46: … | AK46: … | AL46: … | AM46: … | AN46: … | AO46: 1990 | AP46: … | AQ46: … | AR46: 5460 | AS46: … | AT46: … | AU46: … | AV46: … | AW46: … | AX46: 861 | AY46: … | AZ46: … | BA46: 11300 | BB46: … | BC46: … | BD46: … | BE46: … | BF46: … | BG46: 3790 | BH46: … | BI46: … | BJ46: 24800 | BK46: … | BL46: … | BM46: … | BN46: … | BO46: … | BP46: … | BQ46: … | BR46: … | BS46: … | BT46: … | BU46: … | BV46: … | BW46: … | BX46: … | BY46: - | BZ46: … | CA46: … | CB46: - | CC46: … | CD46: … | CE46: … | CF46: … | CG46: … | CH46: … | CI46: … | CJ46: … | CK46: … | CL46: … | CM46: … | CN46: … | CO46: … | CP46: … | CQ46: 984 | CR46: … | CS46: … | CT46: 1300 | CU46: … | CV46: … | CW46: … | CX46: … | CY46: … | CZ46: 111 | DA46: … | DB46: … | DC46: 249 | DD46: … | DE46: … | DF46: … | DG46: … | DH46: … | DI46: 2850 | DJ46: … | DK46: … | DL46: 62800 | DM46: … | DN46: … | DO46: … | DP46: … | DQ46: … | DR46: 1920 | DS46: … | DT46: … | DU46: 5680 | DV46: … | DW46: … | DX46: … | DY46: … | DZ46: … | EA46: 566 | EB46: … | EC46: … | ED46: 1450 | EE46: … | EF46: … | EG46: … | EH46: … | EI46: … | EJ46: 26 | EK46: … | EL46: … | EM46: 97 | EN46: … | EO46: … | EP46: … | EQ46: … | ER46: … | ES46: 1800 | ET46: … | EU46: … | EV46: 7410 | EW46: … | EX46: … | EY46: … | EZ46: … | FA46: … | FB46: 43200 | FC46: … | FD46: … | FE46: 31900 | FF46: … | FG46: …
A47: 平.26(2014) | B47: … | C47: … | D47: … | E47: 80300 | F47: … | G47: … | H47: 205000 | I47: … | J47: … | K47: … | L47: … | M47: … | N47: 16500 | O47: … | P47: … | Q47: 48700 | R47: … | S47: … | T47: … | U47: … | V47: … | W47: 12000 | X47: … | Y47: … | Z47: 35400 | AA47: … | AB47: … | AC47: … | AD47: … | AE47: … | AF47: 2480 | AG47: … | AH47: … | AI47: 7870 | AJ47: … | AK47: … | AL47: … | AM47: … | AN47: … | AO47: 1990 | AP47: … | AQ47: … | AR47: 5470 | AS47: … | AT47: … | AU47: … | AV47: … | AW47: … | AX47: 795 | AY47: … | AZ47: … | BA47: 10500 | BB47: … | BC47: … | BD47: … | BE47: … | BF47: … | BG47: 3690 | BH47: … | BI47: … | BJ47: 23800 | BK47: … | BL47: … | BM47: … | BN47: … | BO47: … | BP47: … | BQ47: … | BR47: … | BS47: … | BT47: … | BU47: … | BV47: … | BW47: … | BX47: … | BY47: … | BZ47: … | CA47: … | CB47: … | CC47: … | CD47: … | CE47: … | CF47: … | CG47: … | CH47: … | CI47: … | CJ47: … | CK47: … | CL47: … | CM47: … | CN47: … | CO47: … | CP47: … | CQ47: 859 | CR47: … | CS47: … | CT47: 1270 | CU47: … | CV47: … | CW47: … | CX47: … | CY47: … | CZ47: … | DA47: … | DB47: … | DC47: … | DD47: … | DE47: … | DF47: … | DG47: … | DH47: … | DI47: 2870 | DJ47: … | DK47: … | DL47: 63000 | DM47: … | DN47: … | DO47: … | DP47: … | DQ47: … | DR47: 1850 | DS47: … | DT47: … | DU47: 5300 | DV47: … | DW47: … | DX47: … | DY47: … | DZ47: … | EA47: … | EB47: … | EC47: … | ED47: … | EE47: … | EF47: … | EG47: … | EH47: … | EI47: … | EJ47: … | EK47: … | EL47: … | EM47: … | EN47: … | EO47: … | EP47: … | EQ47: … | ER47: … | ES47: 1900 | ET47: … | EU47: … | EV47: 7680 | EW47: … | EX47: … | EY47: … | EZ47: … | FA47: … | FB47: 43500 | FC47: … | FD47: … | FE47: 32300 | FF47: … | FG47: …
A48: 平.27(2015) | B48: … | C48: … | D48: … | E48: 79700 | F48: … | G48: … | H48: 201500 | I48: … | J48: … | K48: … | L48: … | M48: … | N48: 16100 | O48: … | P48: … | Q48: 47300 | R48: … | S48: … | T48: … | U48: … | V48: … | W48: 11800 | X48: … | Y48: … | Z48: 34600 | AA48: … | AB48: … | AC48: … | AD48: … | AE48: … | AF48: 2380 | AG48: … | AH48: … | AI48: 7580 | AJ48: … | AK48: … | AL48: … | AM48: … | AN48: … | AO48: 1870 | AP48: … | AQ48: … | AR48: 5140 | AS48: … | AT48: … | AU48: … | AV48: … | AW48: … | AX48: 788 | AY48: … | AZ48: … | BA48: 10200 | BB48: … | BC48: … | BD48: … | BE48: … | BF48: … | BG48: 3640 | BH48: … | BI48: … | BJ48: 22900 | BK48: … | BL48: … | BM48: … | BN48: … | BO48: … | BP48: … | BQ48: … | BR48: … | BS48: … | BT48: … | BU48: … | BV48: … | BW48: … | BX48: … | BY48: … | BZ48: … | CA48: … | CB48: … | CC48: … | CD48: … | CE48: … | CF48: … | CG48: … | CH48: … | CI48: … | CJ48: … | CK48: … | CL48: … | CM48: … | CN48: … | CO48: … | CP48: … | CQ48: 820 | CR48: … | CS48: … | CT48: 1260 | CU48: … | CV48: … | CW48: … | CX48: … | CY48: … | CZ48: … | DA48: … | DB48: … | DC48: … | DD48: … | DE48: … | DF48: … | DG48: … | DH48: … | DI48: 2850 | DJ48: … | DK48: … | DL48: 62500 | DM48: … | DN48: … | DO48: … | DP48: … | DQ48: … | DR48: 1850 | DS48: … | DT48: … | DU48: 4960 | DV48: … | DW48: … | DX48: … | DY48: … | DZ48: … | EA48: … | EB48: … | EC48: … | ED48: … | EE48: … | EF48: … | EG48: … | EH48: … | EI48: … | EJ48: … | EK48: … | EL48: … | EM48: … | EN48: … | EO48: … | EP48: … | EQ48: … | ER48: … | ES48: 1890 | ET48: … | EU48: … | EV48: 7500 | EW48: … | EX48: … | EY48: … | EZ48: … | FA48: … | FB48: 43500 | FC48: … | FD48: … | FE48: 32300 | FF48: … | FG48: …
A49: 平.28(2016) | B49: … | C49: … | D49: … | E49: 78600 | F49: … | G49: … | H49: 200500 | I49: … | J49: … | K49: … | L49: … | M49: … | N49: 16000 | O49: … | P49: … | Q49: 46500 | R49: … | S49: … | T49: … | U49: … | V49: … | W49: 11600 | X49: … | Y49: … | Z49: 33800 | AA49: … | AB49: … | AC49: … | AD49: … | AE49: … | AF49: 2490 | AG49: … | AH49: … | AI49: 7590 | AJ49: … | AK49: … | AL49: … | AM49: … | AN49: … | AO49: 1870 | AP49: … | AQ49: … | AR49: 5110 | AS49: … | AT49: … | AU49: … | AV49: … | AW49: … | AX49: 787 | AY49: … | AZ49: … | BA49: 10200 | BB49: … | BC49: … | BD49: … | BE49: … | BF49: … | BG49: 3530 | BH49: … | BI49: … | BJ49: 22300 | BK49: … | BL49: … | BM49: … | BN49: … | BO49: … | BP49: … | BQ49: … | BR49: … | BS49: … | BT49: … | BU49: … | BV49: … | BW49: … | BX49: … | BY49: - | BZ49: … | CA49: … | CB49: - | CC49: … | CD49: … | CE49: … | CF49: … | CG49: … | CH49: … | CI49: … | CJ49: … | CK49: … | CL49: … | CM49: … | CN49: … | CO49: … | CP49: … | CQ49: 804 | CR49: … | CS49: … | CT49: 1240 | CU49: … | CV49: … | CW49: … | CX49: … | CY49: … | CZ49: 94 | DA49: … | DB49: … | DC49: 218 | DD49: … | DE49: … | DF49: … | DG49: … | DH49: … | DI49: 2860 | DJ49: … | DK49: … | DL49: 62900 | DM49: … | DN49: … | DO49: … | DP49: … | DQ49: … | DR49: 1900 | DS49: … | DT49: … | DU49: 4940 | DV49: … | DW49: … | DX49: … | DY49: … | DZ49: … | EA49: 515 | EB49: … | EC49: … | ED49: 1140 | EE49: … | EF49: … | EG49: … | EH49: … | EI49: … | EJ49: 26 | EK49: … | EL49: … | EM49: 75 | EN49: … | EO49: … | EP49: … | EQ49: … | ER49: … | ES49: 1890 | ET49: … | EU49: … | EV49: 7440 | EW49: … | EX49: … | EY49: … | EZ49: … | FA49: … | FB49: 42700 | FC49: … | FD49: … | FE49: 32000 | FF49: … | FG49: …
A50: 平.29(2017) | B50: … | C50: … | D50: … | E50: 77700 | F50: … | G50: … | H50: 192700 | I50: … | J50: … | K50: … | L50: … | M50: … | N50: 15900 | O50: … | P50: … | Q50: 45300 | R50: … | S50: … | T50: … | U50: … | V50: … | W50: … | X50: … | Y50: … | Z50: … | AA50: … | AB50: … | AC50: … | AD50: … | AE50: … | AF50: … | AG50: … | AH50: … | AI50: … | AJ50: … | AK50: … | AL50: … | AM50: … | AN50: … | AO50: … | AP50: … | AQ50: … | AR50: … | AS50: … | AT50: … | AU50: … | AV50: … | AW50: … | AX50: 780 | AY50: … | AZ50: … | BA50: 10100 | BB50: … | BC50: … | BD50: … | BE50: … | BF50: … | BG50: 3430 | BH50: … | BI50: … | BJ50: 21500 | BK50: … | BL50: … | BM50: … | BN50: … | BO50: … | BP50: … | BQ50: … | BR50: … | BS50: … | BT50: … | BU50: … | BV50: … | BW50: … | BX50: … | BY50: … | BZ50: … | CA50: … | CB50: … | CC50: … | CD50: … | CE50: … | CF50: … | CG50: … | CH50: … | CI50: … | CJ50: … | CK50: … | CL50: … | CM50: … | CN50: … | CO50: … | CP50: … | CQ50: 804 | CR50: … | CS50: … | CT50: 1180 | CU50: … | CV50: … | CW50: … | CX50: … | CY50: … | CZ50: … | DA50: … | DB50: … | DC50: … | DD50: … | DE50: … | DF50: … | DG50: … | DH50: … | DI50: 2820 | DJ50: … | DK50: … | DL50: 62000 | DM50: … | DN50: … | DO50: … | DP50: … | DQ50: … | DR50: 1800 | DS50: … | DT50: … | DU50: 4810 | DV50: … | DW50: … | DX50: … | DY50: … | DZ50: … | EA50: … | EB50: … | EC50: … | ED50: … | EE50: … | EF50: … | EG50: … | EH50: … | EI50: … | EJ50: … | EK50: … | EL50: … | EM50: … | EN50: … | EO50: … | EP50: … | EQ50: … | ER50: … | ES50: … | ET50: … | EU50: … | EV50: … | EW50: … | EX50: … | EY50: … | EZ50: … | FA50: … | FB50: 42100 | FC50: … | FD50: … | FE50: 31300 | FF50: … | FG50: …
A51: 平.30(2018) | B51: … | C51: … | D51: … | E51: 75400 | F51: … | G51: … | H51: 185500 | I51: … | J51: … | K51: … | L51: … | M51: … | N51: 15600 | O51: … | P51: … | Q51: 43700 | R51: … | S51: … | T51: … | U51: … | V51: … | W51: … | X51: … | Y51: … | Z51: … | AA51: … | AB51: … | AC51: … | AD51: … | AE51: … | AF51: … | AG51: … | AH51: … | AI51: … | AJ51: … | AK51: … | AL51: … | AM51: … | AN51: … | AO51: … | AP51: … | AQ51: … | AR51: … | AS51: … | AT51: … | AU51: … | AV51: … | AW51: … | AX51: 780 | AY51: … | AZ51: … | BA51: 9670 | BB51: … | BC51: … | BD51: … | BE51: … | BF51: … | BG51: 3400 | BH51: … | BI51: … | BJ51: 20500 | BK51: … | BL51: … | BM51: … | BN51: … | BO51: … | BP51: … | BQ51: … | BR51: … | BS51: … | BT51: … | BU51: … | BV51: … | BW51: … | BX51: … | BY51: … | BZ51: … | CA51: … | CB51: … | CC51: … | CD51: … | CE51: … | CF51: … | CG51: … | CH51: … | CI51: … | CJ51: … | CK51: … | CL51: … | CM51: … | CN51: … | CO51: … | CP51: … | CQ51: 804 | CR51: … | CS51: … | CT51: 1130 | CU51: … | CV51: … | CW51: … | CX51: … | CY51: … | CZ51: … | DA51: … | DB51: … | DC51: … | DD51: … | DE51: … | DF51: … | DG51: … | DH51: … | DI51: 2730 | DJ51: … | DK51: … | DL51: 59000 | DM51: … | DN51: … | DO51: … | DP51: … | DQ51: … | DR51: 1750 | DS51: … | DT51: … | DU51: 4670 | DV51: … | DW51: … | DX51: … | DY51: … | DZ51: … | EA51: … | EB51: … | EC51: … | ED51: … | EE51: … | EF51: … | EG51: … | EH51: … | EI51: … | EJ51: … | EK51: … | EL51: … | EM51: … | EN51: … | EO51: … | EP51: … | EQ51: … | ER51: … | ES51: … | ET51: … | EU51: … | EV51: … | EW51: … | EX51: … | EY51: … | EZ51: … | FA51: … | FB51: 42700 | FC51: … | FD51: … | FE51: 31800 | FF51: … | FG51: …
A52: 令.元(2019) | B52: … | C52: … | D52: … | E52: 74200 | F52: … | G52: … | H52: 182500 | I52: … | J52: … | K52: … | L52: … | M52: … | N52: 15500 | O52: … | P52: … | Q52: 45300 | R52: … | S52: … | T52: … | U52: … | V52: … | W52: 11400 | X52: … | Y52: … | Z52: 32900 | AA52: … | AB52: … | AC52: … | AD52: … | AE52: … | AF52: 2330 | AG52: … | AH52: … | AI52: 7390 | AJ52: … | AK52: … | AL52: … | AM52: … | AN52: … | AO52: 1800 | AP52: … | AQ52: … | AR52: 4970 | AS52: … | AT52: … | AU52: … | AV52: … | AW52: … | AX52: 768 | AY52: … | AZ52: … | BA52: 9370 | BB52: … | BC52: … | BD52: … | BE52: … | BF52: … | BG52: 3000 | BH52: … | BI52: … | BJ52: 20000 | BK52: … | BL52: … | BM52: … | BN52: … | BO52: … | BP52: … | BQ52: … | BR52: … | BS52: … | BT52: … | BU52: … | BV52: … | BW52: … | BX52: … | BY52: x | BZ52: … | CA52: … | CB52: x | CC52: … | CD52: … | CE52: … | CF52: … | CG52: … | CH52: 172 | CI52: … | CJ52: … | CK52: 752 | CL52: … | CM52: … | CN52: … | CO52: … | CP52: … | CQ52: 804 | CR52: … | CS52: … | CT52: 1130 | CU52: … | CV52: … | CW52: … | CX52: … | CY52: … | CZ52: 94 | DA52: … | DB52: … | DC52: 218 | DD52: … | DE52: … | DF52: … | DG52: … | DH52: … | DI52: 2560 | DJ52: … | DK52: … | DL52: 56300 | DM52: … | DN52: … | DO52: … | DP52: … | DQ52: … | DR52: 1650 | DS52: … | DT52: … | DU52: 4410 | DV52: … | DW52: … | DX52: … | DY52: … | DZ52: … | EA52: 515 | EB52: … | EC52: … | ED52: 1080 | EE52: … | EF52: … | EG52: … | EH52: … | EI52: … | EJ52: - | EK52: … | EL52: … | EM52: - | EN52: … | EO52: … | EP52: … | EQ52: … | ER52: … | ES52: 1970 | ET52: … | EU52: … | EV52: 6780 | EW52: … | EX52: … | EY52: … | EZ52: … | FA52: … | FB52: 41900 | FC52: … | FD52: … | FE52: 31500 | FF52: … | FG52: …
A53: 令.2(2020) | B53: … | C53: … | D53: … | E53: 73700 | F53: … | G53: … | H53: 179100 | I53: … | J53: … | K53: … | L53: … | M53: … | N53: 15200 | O53: … | P53: … | Q53: 44400 | R53: … | S53: … | T53: … | U53: … | V53: … | W53: … | X53: … | Y53: … | Z53: … | AA53: … | AB53: … | AC53: … | AD53: … | AE53: … | AF53: … | AG53: … | AH53: … | AI53: … | AJ53: … | AK53: … | AL53: … | AM53: … | AN53: … | AO53: … | AP53: … | AQ53: … | AR53: … | AS53: … | AT53: … | AU53: … | AV53: … | AW53: … | AX53: 742 | AY53: … | AZ53: … | BA53: 9050 | BB53: … | BC53: … | BD53: … | BE53: … | BF53: … | BG53: 2940 | BH53: … | BI53: … | BJ53: 19200 | BK53: … | BL53: … | BM53: … | BN53: … | BO53: … | BP53: … | BQ53: … | BR53: … | BS53: … | BT53: … | BU53: … | BV53: … | BW53: … | BX53: … | BY53: … | BZ53: … | CA53: … | CB53: … | CC53: … | CD53: … | CE53: … | CF53: … | CG53: … | CH53: … | CI53: … | CJ53: … | CK53: … | CL53: … | CM53: … | CN53: … | CO53: … | CP53: … | CQ53: 804 | CR53: … | CS53: … | CT53: 1090 | CU53: … | CV53: … | CW53: … | CX53: … | CY53: … | CZ53: … | DA53: … | DB53: … | DC53: … | DD53: … | DE53: … | DF53: … | DG53: … | DH53: … | DI53: 2450 | DJ53: … | DK53: … | DL53: 52900 | DM53: … | DN53: … | DO53: … | DP53: … | DQ53: … | DR53: 1630 | DS53: … | DT53: … | DU53: 4140 | DV53: … | DW53: … | DX53: … | DY53: … | DZ53: … | EA53: … | EB53: … | EC53: … | ED53: … | EE53: … | EF53: … | EG53: … | EH53: … | EI53: … | EJ53: … | EK53: … | EL53: … | EM53: … | EN53: … | EO53: … | EP53: … | EQ53: … | ER53: … | ES53: 1940 | ET53: … | EU53: … | EV53: 6620 | EW53: … | EX53: … | EY53: … | EZ53: … | FA53: … | FB53: 42100 | FC53: … | FD53: … | FE53: 31200 | FF53: … | FG53: …
A54: 令.3(2021) | B54: … | C54: … | D54: … | E54: 73400 | F54: … | G54: … | H54: 178400 | I54: … | J54: … | K54: … | L54: … | M54: … | N54: 15100 | O54: … | P54: … | Q54: 44100 | R54: … | S54: … | T54: … | U54: … | V54: … | W54: … | X54: … | Y54: … | Z54: … | AA54: … | AB54: … | AC54: … | AD54: … | AE54: … | AF54: … | AG54: … | AH54: … | AI54: … | AJ54: … | AK54: … | AL54: … | AM54: … | AN54: … | AO54: … | AP54: … | AQ54: … | AR54: … | AS54: … | AT54: … | AU54: … | AV54: … | AW54: … | AX54: 710 | AY54: … | AZ54: … | BA54: 8660 | BB54: … | BC54: … | BD54: … | BE54: … | BF54: … | BG54: 2920 | BH54: … | BI54: … | BJ54: 19200 | BK54: … | BL54: … | BM54: … | BN54: … | BO54: … | BP54: … | BQ54: … | BR54: … | BS54: … | BT54: … | BU54: … | BV54: … | BW54: … | BX54: … | BY54: … | BZ54: … | CA54: … | CB54: … | CC54: … | CD54: … | CE54: … | CF54: … | CG54: … | CH54: … | CI54: … | CJ54: … | CK54: … | CL54: … | CM54: … | CN54: … | CO54: … | CP54: … | CQ54: … | CR54: … | CS54: … | CT54: … | CU54: … | CV54: … | CW54: … | CX54: … | CY54: … | CZ54: … | DA54: … | DB54: … | DC54: … | DD54: … | DE54: … | DF54: … | DG54: … | DH54: … | DI54: 2410 | DJ54: … | DK54: … | DL54: 52300 | DM54: … | DN54: … | DO54: … | DP54: … | DQ54: … | DR54: 1630 | DS54: … | DT54: … | DU54: 4120 | DV54: … | DW54: … | DX54: … | DY54: … | DZ54: … | EA54: … | EB54: … | EC54: … | ED54: … | EE54: … | EF54: … | EG54: … | EH54: … | EI54: … | EJ54: … | EK54: … | EL54: … | EM54: … | EN54: … | EO54: … | EP54: … | EQ54: … | ER54: … | ES54: 1930 | ET54: … | EU54: … | EV54: 6660 | EW54: … | EX54: … | EY54: … | EZ54: … | FA54: … | FB54: 42400 | FC54: … | FD54: … | FE54: 31500 | FF54: … | FG54: …
A55: 令.4(2022) | B55: … | C55: … | D55: … | E55: 73100 | F55: … | G55: … | H55: 178400 | I55: … | J55: … | K55: … | L55: … | M55: … | N55: 14900 | O55: … | P55: … | Q55: 43400 | R55: … | S55: … | T55: … | U55: … | V55: … | W55: … | X55: … | Y55: … | Z55: … | AA55: … | AB55: … | AC55: … | AD55: … | AE55: … | AF55: … | AG55: … | AH55: … | AI55: … | AJ55: … | AK55: … | AL55: … | AM55: … | AN55: … | AO55: … | AP55: … | AQ55: … | AR55: … | AS55: … | AT55: … | AU55: … | AV55: … | AW55: … | AX55: 710 | AY55: … | AZ55: … | BA55: 8520 | BB55: … | BC55: … | BD55: … | BE55: … | BF55: … | BG55: 2860 | BH55: … | BI55: … | BJ55: 17900 | BK55: … | BL55: … | BM55: … | BN55: … | BO55: … | BP55: … | BQ55: … | BR55: … | BS55: … | BT55: … | BU55: … | BV55: … | BW55: … | BX55: … | BY55: - | BZ55: … | CA55: … | CB55: … | CC55: … | CD55: … | CE55: … | CF55: … | CG55: … | CH55: 171 | CI55: … | CJ55: … | CK55: … | CL55: … | CM55: … | CN55: … | CO55: … | CP55: … | CQ55: … | CR55: … | CS55: … | CT55: … | CU55: … | CV55: … | CW55: … | CX55: … | CY55: … | CZ55: 95 | DA55: … | DB55: … | DC55: … | DD55: … | DE55: … | DF55: … | DG55: … | DH55: … | DI55: 2360 | DJ55: … | DK55: … | DL55: 51700 | DM55: … | DN55: … | DO55: … | DP55: … | DQ55: … | DR55: 1620 | DS55: … | DT55: … | DU55: 3860 | DV55: … | DW55: … | DX55: … | DY55: … | DZ55: … | EA55: 513 | EB55: … | EC55: … | ED55: … | EE55: … | EF55: … | EG55: … | EH55: … | EI55: … | EJ55: - | EK55: … | EL55: … | EM55: … | EN55: … | EO55: … | EP55: … | EQ55: … | ER55: … | ES55: 1930 | ET55: … | EU55: … | EV55: 6540 | EW55: … | EX55: … | EY55: … | EZ55: … | FA55: … | FB55: 42500 | FC55: … | FD55: … | FE55: 32700 | FF55: … | FG55: …
A56: 令.5(2023) | B56: … | C56: … | D56: … | E56: 72700 | F56: … | G56: … | H56: 173000 | I56: … | J56: … | K56: … | L56: … | M56: … | N56: 14700 | O56: … | P56: … | Q56: 41300 | R56: … | S56: … | T56: … | U56: … | V56: … | W56: … | X56: … | Y56: … | Z56: … | AA56: … | AB56: … | AC56: … | AD56: … | AE56: … | AF56: … | AG56: … | AH56: … | AI56: … | AJ56: … | AK56: … | AL56: … | AM56: … | AN56: … | AO56: … | AP56: … | AQ56: … | AR56: … | AS56: … | AT56: … | AU56: … | AV56: … | AW56: … | AX56: 704 | AY56: … | AZ56: … | BA56: 8170 | BB56: … | BC56: … | BD56: … | BE56: … | BF56: … | BG56: 2780 | BH56: … | BI56: … | BJ56: 17300 | BK56: … | BL56: … | BM56: … | BN56: … | BO56: … | BP56: … | BQ56: … | BR56: … | BS56: … | BT56: … | BU56: … | BV56: … | BW56: … | BX56: … | BY56: … | BZ56: … | CA56: … | CB56: … | CC56: … | CD56: … | CE56: … | CF56: … | CG56: … | CH56: … | CI56: … | CJ56: … | CK56: … | CL56: … | CM56: … | CN56: … | CO56: … | CP56: … | CQ56: … | CR56: … | CS56: … | CT56: … | CU56: … | CV56: … | CW56: … | CX56: … | CY56: … | CZ56: … | DA56: … | DB56: … | DC56: … | DD56: … | DE56: … | DF56: … | DG56: … | DH56: … | DI56: 2320 | DJ56: … | DK56: … | DL56: 49400 | DM56: … | DN56: … | DO56: … | DP56: … | DQ56: … | DR56: 1610 | DS56: … | DT56: … | DU56: 3960 | DV56: … | DW56: … | DX56: … | DY56: … | DZ56: … | EA56: … | EB56: … | EC56: … | ED56: … | EE56: … | EF56: … | EG56: … | EH56: … | EI56: … | EJ56: … | EK56: … | EL56: … | EM56: … | EN56: … | EO56: … | EP56: … | EQ56: … | ER56: … | ES56: 1920 | ET56: … | EU56: … | EV56: 6510 | EW56: … | EX56: … | EY56: … | EZ56: … | FA56: … | FB56: 42600 | FC56: … | FD56: … | FE56: 33300 | FF56: … | FG56: …
A57: 令.6(2024) | B57: … | C57: … | D57: … | E57: 71200 | F57: … | G57: … | H57: 158800 | I57: … | J57: … | K57: … | L57: … | M57: … | N57: 14100 | O57: … | P57: … | Q57: 38100 | R57: … | S57: … | T57: … | U57: … | V57: … | W57: … | X57: … | Y57: … | Z57: … | AA57: … | AB57: … | AC57: … | AD57: … | AE57: … | AF57: … | AG57: … | AH57: … | AI57: … | AJ57: … | AK57: … | AL57: … | AM57: … | AN57: … | AO57: … | AP57: … | AQ57: … | AR57: … | AS57: … | AT57: … | AU57: … | AV57: … | AW57: … | AX57: 643 | AY57: … | AZ57: … | BA57: 6820 | BB57: … | BC57: … | BD57: … | BE57: … | BF57: … | BG57: 2600 | BH57: … | BI57: … | BJ57: 15800 | BK57: … | BL57: … | BM57: … | BN57: … | BO57: … | BP57: … | BQ57: … | BR57: … | BS57: … | BT57: … | BU57: … | BV57: … | BW57: … | BX57: … | BY57: … | BZ57: … | CA57: … | CB57: … | CC57: … | CD57: … | CE57: … | CF57: … | CG57: … | CH57: … | CI57: … | CJ57: … | CK57: … | CL57: … | CM57: … | CN57: … | CO57: … | CP57: … | CQ57: … | CR57: … | CS57: … | CT57: … | CU57: … | CV57: … | CW57: … | CX57: … | CY57: … | CZ57: … | DA57: … | DB57: … | DC57: … | DD57: … | DE57: … | DF57: … | DG57: … | DH57: … | DI57: 2200 | DJ57: … | DK57: … | DL57: 45800 | DM57: … | DN57: … | DO57: … | DP57: … | DQ57: … | DR57: 1570 | DS57: … | DT57: … | DU57: 3610 | DV57: … | DW57: … | DX57: … | DY57: … | DZ57: … | EA57: … | EB57: … | EC57: … | ED57: … | EE57: … | EF57: … | EG57: … | EH57: … | EI57: … | EJ57: … | EK57: … | EL57: … | EM57: … | EN57: … | EO57: … | EP57: … | EQ57: … | ER57: … | ES57: 1800 | ET57: … | EU57: … | EV57: 5760 | EW57: … | EX57: … | EY57: … | EZ57: … | FA57: … | FB57: 42800 | FC57: … | FD57: … | FE57: 31300 | FF57: … | FG57: …
B58: （注記）
B59: 1999～2001年の「栽培農家数」の単位は、「10戸」である。
B60: 2002年以降の「作付面積」の単位は「ａ」である。

Sheet 切り花類（静岡） (2)
A1: 花き生産出荷統計
A2: 切り花類
A3: 品目別作付面積及び出荷量累年統計
A4: 静岡
A5: 年次 | B5: 切り花類 | C5: 切り花類 | D5: きく | E5: きく | F5: カーネーション | G5: カーネーション | H5: ばら | I5: ばら | J5: ガーベラ | K5: ガーベラ | L5: トルコギキョウ | M5: トルコギキョウ | N5: 切り枝 | O5: 切り枝
B6: 作付面積 | C6: 出荷量 | D6: 作付面積 | E6: 出荷量 | F6: 作付面積 | G6: 出荷量 | H6: 作付面積 | I6: 出荷量 | J6: 作付面積 | K6: 出荷量 | L6: 作付面積 | M6: 出荷量 | N6: 作付面積 | O6: 出荷量
B7: 計 | C7: 計 | D7: 計 | E7: 計 | F7: 計 | G7: 計 | H7: 計 | I7: 計 | J7: 計 | K7: 計 | L7: 計 | M7: 計 | N7: 計 | O7: 計
B8: ha | C8: 1000本 | D8: ha | E8: 1000本 | F8: ha | G8: 1000本 | H8: ha | I8: 1000本 | J8: ha | K8: 1000本 | L8: ha | M8: 1000本 | N8: ha | O8: 1000本
A9: 昭.51(1976) | B9: … | C9: … | D9: 229 | E9: 98800 | F9: 23 | G9: 37900 | H9: 24 | I9: 26700 | J9: … | K9: … | L9: … | M9: … | N9: … | O9: …
A10: 昭.52(1977) | B10: … | C10: … | D10: 237 | E10: 102900 | F10: 24 | G10: 41800 | H10: 24 | I10: 25000 | J10: … | K10: … | L10: … | M10: … | N10: … | O10: …
A11: 昭.53(1978) | B11: … | C11: … | D11: 249 | E11: 117300 | F11: 25 | G11: 41700 | H11: 27 | I11: 24900 | J11: … | K11: … | L11: … | M11: … | N11: … | O11: …
A12: 昭.54(1979) | B12: … | C12: … | D12: 248 | E12: 113500 | F12: 27 | G12: 38100 | H12: 28 | I12: 24700 | J12: … | K12: … | L12: … | M12: … | N12: … | O12: …
A13: 昭.55(1980) | B13: … | C13: … | D13: 254 | E13: 115000 | F13: 27 | G13: 36900 | H13: 29 | I13: 27100 | J13: … | K13: … | L13: … | M13: … | N13: 299 | O13: 33100
A14: 昭.56(1981) | B14: … | C14: … | D14: 265 | E14: 122000 | F14: 24 | G14: 33800 | H14: 31 | I14: 29900 | J14: … | K14: … | L14: … | M14: … | N14: 272 | O14: 36900
A15: 昭.57(1982) | B15: … | C15: … | D15: 259 | E15: 113800 | F15: 24 | G15: 33200 | H15: 31 | I15: 30500 | J15: … | K15: … | L15: … | M15: … | N15: 282 | O15: 34500
A16: 昭.58(1983) | B16: … | C16: … | D16: 261 | E16: 109500 | F16: 25 | G16: 31300 | H16: 31 | I16: 28300 | J16: … | K16: … | L16: … | M16: … | N16: 288 | O16: 40000
A17: 昭.59(1984) | B17: … | C17: … | D17: 248 | E17: 104000 | F17: 23 | G17: 29200 | H17: 31 | I17: 31500 | J17: … | K17: … | L17: … | M17: … | N17: 296 | O17: 32300
A18: 昭.60(1985) | B18: … | C18: … | D18: 244 | E18: 103300 | F18: 24 | G18: 30000 | H18: 37 | I18: 36700 | J18: … | K18: … | L18: … | M18: … | N18: 298 | O18: 31900
A19: 昭.61(1986) | B19: … | C19: … | D19: 258 | E19: 110200 | F19: 28 | G19: 34800 | H19: 39 | I19: 38900 | J19: … | K19: … | L19: … | M19: … | N19: 298 | O19: 32400
A20: 昭.62(1987) | B20: … | C20: … | D20: 255 | E20: 101700 | F20: 30 | G20: 36900 | H20: 40 | I20: 39500 | J20: … | K20: … | L20: … | M20: … | N20: … | O20: …
A21: 昭.63(1988) | B21: … | C21: … | D21: 251 | E21: 96000 | F21: 30 | G21: 37500 | H21: 45 | I21: 43900 | J21: … | K21: … | L21: … | M21: … | N21: … | O21: …
A22: 平.元(1989) | B22: … | C22: … | D22: 249 | E22: 94900 | F22: 29 | G22: 36900 | H22: 48 | I22: 45600 | J22: … | K22: … | L22: … | M22: … | N22: … | O22: …
A23: 平.2(1990) | B23: 903 | C23: 293500 | D23: 260 | E23: 96900 | F23: 28 | G23: 33700 | H23: 49 | I23: 43000 | J23: 11 | K23: 12600 | L23: 9 | M23: 3680 | N23: 364 | O23: 29700
A24: 平.3(1991) | B24: 961 | C24: 309000 | D24: 262 | E24: 98300 | F24: 29 | G24: 34700 | H24: 53 | I24: 45200 | J24: 14 | K24: 15300 | L24: 12 | M24: 4350 | N24: 404 | O24: 33600
A25: 平.4(1992) | B25: 1010 | C25: 324100 | D25: 278 | E25: 103400 | F25: 27 | G25: 33500 | H25: 61 | I25: 47400 | J25: 19 | K25: 21400 | L25: 13 | M25: 4370 | N25: 427 | O25: 36800
A26: 平.5(1993) | B26: 1060 | C26: 340800 | D26: 268 | E26: 102400 | F26: 26 | G26: 30300 | H26: 63 | I26: 50600 | J26: 21 | K26: 25300 | L26: 17 | M26: 5820 | N26: 452 | O26: 46100
A27: 平.6(1994) | B27: 1140 | C27: 339900 | D27: 285 | E27: 102200 | F27: 24 | G27: 26200 | H27: 61 | I27: 49400 | J27: 23 | K27: 35100 | L27: 18 | M27: 6600 | N27: 513 | O27: 42500
A28: 平.7(1995) | B28: … | C28: … | D28: 284 | E28: 97900 | F28: 23 | G28: 26800 | H28: 59 | I28: 46000 | J28: 21 | K28: 33000 | L28: 22 | M28: 7230 | N28: 508 | O28: 46700
A29: 平.8(1996) | B29: … | C29: … | D29: 296 | E29: 100300 | F29: 21 | G29: 25500 | H29: 65 | I29: 48600 | J29: 24 | K29: 38600 | L29: 21 | M29: 7860 | N29: 519 | O29: 50200
A30: 平.9(1997) | B30: 1190 | C30: 356200 | D30: 313 | E30: 104600 | F30: 20 | G30: 24300 | H30: 70 | I30: 52700 | J30: 24 | K30: 37000 | L30: 21 | M30: 6900 | N30: 512 | O30: 47500
A31: 平.10(1998) | B31: … | C31: … | D31: 320 | E31: 99800 | F31: 19 | G31: 23000 | H31: 71 | I31: 51900 | J31: 29 | K31: 43500 | L31: 21 | M31: 7040 | N31: 520 | O31: 47000
A32: 平.11(1999) | B32: 1190 | C32: 356900 | D32: 320 | E32: 106000 | F32: 18 | G32: 22900 | H32: 71 | I32: 56900 | J32: 28 | K32: 46000 | L32: 21 | M32: 7280 | N32: 521 | O32: 46100
A33: 平.12(2000) | B33: 1170 | C33: 349300 | D33: 297 | E33: 90600 | F33: 18 | G33: 21900 | H33: 64 | I33: 54100 | J33: 28 | K33: 62700 | L33: 21 | M33: 8450 | N33: 546 | O33: 46600
A34: 平.13(2001) | B34: 1140 | C34: 337300 | D34: 291 | E34: 87200 | F34: 15 | G34: 18800 | H34: 61 | I34: 51100 | J34: 29 | K34: 64000 | L34: 21 | M34: 7230 | N34: 537 | O34: 45800
A35: 平.14(2002) | B35: 110000 | C35: 327700 | D35: 27700 | E35: 83000 | F35: 1470 | G35: 18100 | H35: 6000 | I35: 47200 | J35: 2920 | K35: 64300 | L35: 2170 | M35: 7850 | N35: 52000 | O35: 44900
A36: 平.15(2003) | B36: 106000 | C36: 314300 | D36: 25300 | E36: 76900 | F36: 1660 | G36: 20100 | H36: 5920 | I36: 45300 | J36: 2840 | K36: 64100 | L36: 2190 | M36: 7740 | N36: 51300 | O36: 42200
A37: 平.16(2004) | B37: 99800 | C37: 292000 | D37: 22600 | E37: 70400 | F37: 1280 | G37: 17400 | H37: 5580 | I37: 43300 | J37: 2740 | K37: 63100 | L37: 2210 | M37: 7450 | N37: 49500 | O37: 38600
A38: 平.17(2005) | B38: 94600 | C38: 274500 | D38: 20600 | E38: 63800 | F38: 1230 | G38: 16600 | H38: 4780 | I38: 39500 | J38: 2740 | K38: 61900 | L38: 2140 | M38: 7510 | N38: 48700 | O38: 38400
A39: 平.18(2006) | B39: 90500 | C39: 263400 | D39: 19800 | E39: 62300 | F39: 1200 | G39: 15900 | H39: 4550 | I39: 34400 | J39: 2610 | K39: 60100 | L39: 2010 | M39: 7260 | N39: 46900 | O39: 37700
A40: 平.19(2007) | B40: 88200 | C40: 249400 | D40: 19000 | E40: 57800 | F40: 993 | G40: 13200 | H40: 4360 | I40: 32300 | J40: 2590 | K40: 60200 | L40: 1900 | M40: 6810 | N40: 46700 | O40: 37500
A41: 平.20(2008) | B41: 87300 | C41: 234000 | D41: 18200 | E41: 54200 | F41: 986 | G41: 13000 | H41: 4350 | I41: 31700 | J41: 2600 | K41: 60300 | L41: 1930 | M41: 6410 | N41: 47800 | O41: 37900
A42: 平.21(2009) | B42: 83800 | C42: 228700 | D42: 17500 | E42: 52900 | F42: 960 | G42: 12800 | H42: 4340 | I42: 31000 | J42: 2620 | K42: 60200 | L42: 1910 | M42: 6350 | N42: 43000 | O42: 34400
A43: 平.22(2010) | B43: 83200 | C43: 221900 | D43: 17200 | E43: 50800 | F43: 979 | G43: 12500 | H43: 4330 | I43: 29400 | J43: 2700 | K43: 61100 | L43: 1900 | M43: 5980 | N43: 43000 | O43: 33500
... A57: 令.6(2024) | B57: 71200 | C57: 158800 | D57: 14100 | E57: 38100 | F57: 643 | G57: 6820 | H57: 2600 | I57: 15800 | J57: 2200 | K57: 45800 | L57: 1570 | M57: 3610 | N57: 42800 | O57: 31300

Sheet 球根類（静岡）
A1: 花き生産出荷統計
A2: 品目別作付面積及び出荷量累年統計
A3: 球根類
A4: 静岡
A5: 年次 | B5: 球根類 | E5: ゆり | H5: チューリップ | K5: グラジオラス | N5: アイリス | Q5: フリージア | T5: クロッカス | W5: ヒアシンス | Z5: すいせん | AC5: ダリア | AF5: その他の球根類
B6: 栽培農家数 | C6: 収穫面積 | D6: 出荷量 | E6: 栽培農家数 | F6: 収穫面積 | G6: 出荷量 | H6: 栽培農家数 | I6: 収穫面積 | J6: 出荷量 | K6: 栽培農家数 | L6: 収穫面積 | M6: 出荷量 | N6: 栽培農家数 | O6: 収穫面積 | P6: 出荷量 | Q6: 栽培農家数 | R6: 収穫面積 | S6: 出荷量 | T6: 栽培農家数 | U6: 収穫面積 | V6: 出荷量 | W6: 栽培農家数 | X6: 収穫面積 | Y6: 出荷量 | Z6: 栽培農家数 | AA6: 収穫面積 | AB6: 出荷量 | AC6: 栽培農家数 | AD6: 収穫面積 | AE6: 出荷量 | AF6: 栽培農家数 | AG6: 収穫面積 | AH6: 出荷量
B7: 戸 | C7: ha | D7: 1000球 | E7: 戸 | F7: ha | G7: 1000球 | H7: 戸 | I7: ha | J7: 1000球 | K7: 戸 | L7: ha | M7: 1000球 | N7: 戸 | O7: ha | P7: 1000球 | Q7: 戸 | R7: ha | S7: 1000球 | T7: 戸 | U7: ha | V7: 1000球 | W7: 戸 | X7: ha | Y7: 1000球 | Z7: 戸 | AA7: ha | AB7: 1000球 | AC7: 戸 | AD7: ha | AE7: 1000球 | AF7: 戸 | AG7: ha | AH7: 1000球
A8: 昭.51(1976) | B8: … | C8: … | D8: … | E8: 11 | F8: 0 | G8: 10 | H8: 10 | I8: 1 | J8: 160 | K8: - | L8: - | M8: - | N8: … | O8: … | P8: … | Q8: … | R8: … | S8: … | T8: … | U8: … | V8: … | W8: … | X8: … | Y8: … | Z8: … | AA8: … | AB8: … | AC8: … | AD8: … | AE8: … | AF8: … | AG8: … | AH8: …
A9: 昭.52(1977) | B9: … | C9: … | D9: … | E9: 10 | F9: 0 | G9: 10 | H9: 10 | I9: 0 | J9: 80 | K9: - | L9: - | M9: - | N9: … | O9: … | P9: … | Q9: … | R9: … | S9: … | T9: … | U9: … | V9: … | W9: … | X9: … | Y9: … | Z9: … | AA9: … | AB9: … | AC9: … | AD9: … | AE9: … | AF9: … | AG9: … | AH9: …
A10: 昭.53(1978) | B10: … | C10: … | D10: … | E10: 10 | F10: 0 | G10: 10 | H10: 10 | I10: 0 | J10: 80 | K10: - | L10: - | M10: - | N10: … | O10: … | P10: … | Q10: … | R10: … | S10: … | T10: … | U10: … | V10: … | W10: … | X10: … | Y10: … | Z10: … | AA10: … | AB10: … | AC10: … | AD10: … | AE10: … | AF10: … | AG10: … | AH10: …
A11: 昭.54(1979) | B11: … | C11: … | D11: … | E11: 1 | F11: x | G11: x | H11: 10 | I11: 1 | J11: - | K11: - | L11: - | M11: - | N11: … | O11: … | P11: … | Q11: … | R11: … | S11: … | T11: … | U11: … | V11: … | W11: … | X11: … | Y11: … | Z11: … | AA11: … | AB11: … | AC11: … | AD11: … | AE11: … | AF11: … | AG11: … | AH11: …
A12: 昭.55(1980) | B12: … | C12: … | D12: … | E12: … | F12: 0 | G12: 10 | H12: … | I12: 1 | J12: 600 | K12: … | L12: 1 | M12: 200 | N12: … | O12: 0 | P12: 500 | Q12: … | R12: - | S12: - | T12: … | U12: 1 | V12: 510 | W12: … | X12: 7 | Y12: 1760 | Z12: … | AA12: … | AB12: … | AC12: … | AD12: - | AE12: - | AF12: … | AG12: … | AH12: …
A13: 昭.56(1981) | B13: … | C13: … | D13: … | E13: … | F13: - | G13: - | H13: … | I13: 1 | J13: 820 | K13: … | L13: 0 | M13: 200 | N13: … | O13: 0 | P13: 500 | Q13: … | R13: - | S13: - | T13: … | U13: 1 | V13: 400 | W13: … | X13: 9 | Y13: 2100 | Z13: … | AA13: … | AB13: … | AC13: … | AD13: - | AE13: - | AF13: … | AG13: … | AH13: …
A14: 昭.57(1982) | B14: … | C14: … | D14: … | E14: - | F14: - | G14: - | H14: 13 | I14: 2 | J14: 820 | K14: 8 | L14: 1 | M14: 860 | N14: 2 | O14: x | P14: x | Q14: - | R14: - | S14: - | T14: 11 | U14: 1 | V14: 700 | W14: 36 | X14: 8 | Y14: 1720 | Z14: … | AA14: … | AB14: … | AC14: - | AD14: - | AE14: - | AF14: … | AG14: … | AH14: …
A15: 昭.58(1983) | B15: … | C15: … | D15: … | E15: … | F15: … | G15: … | H15: … | I15: … | J15: … | K15: … | L15: … | M15: … | N15: … | O15: … | P15: … | Q15: … | R15: … | S15: … | T15: … | U15: … | V15: … | W15: 18 | X15: 6 | Y15: 1450 | Z15: … | AA15: … | AB15: … | AC15: … | AD15: … | AE15: … | AF15: … | AG15: … | AH15: …
A16: 昭.59(1984) | B16: … | C16: … | D16: … | E16: … | F16: … | G16: … | H16: … | I16: … | J16: … | K16: … | L16: … | M16: … | N16: … | O16: … | P16: … | Q16: … | R16: … | S16: … | T16: … | U16: … | V16: … | W16: 19 | X16: 8 | Y16: 1980 | Z16: … | AA16: … | AB16: … | AC16: … | AD16: … | AE16: … | AF16: … | AG16: … | AH16: …
A17: 昭.60(1985) | B17: … | C17: … | D17: … | E17: … | F17: - | G17: - | H17: … | I17: 1 | J17: 375 | K17: … | L17: 1 | M17: 625 | N17: … | O17: 2 | P17: 406 | Q17: … | R17: - | S17: - | T17: … | U17: 1 | V17: 437 | W17: … | X17: 9 | Y17: 2050 | Z17: … | AA17: … | AB17: … | AC17: … | AD17: - | AE17: - | AF17: … | AG17: … | AH17: …
A18: 昭.61(1986) | B18: … | C18: … | D18: … | E18: … | F18: … | G18: … | H18: … | I18: … | J18: … | K18: … | L18: … | M18: … | N18: … | O18: … | P18: … | Q18: … | R18: … | S18: … | T18: … | U18: … | V18: … | W18: 14 | X18: 11 | Y18: 2070 | Z18: … | AA18: … | AB18: … | AC18: … | AD18: … | AE18: … | AF18: … | AG18: … | AH18: …
A19: 昭.62(1987) | B19: … | C19: … | D19: … | E19: … | F19: … | G19: … | H19: … | I19: … | J19: … | K19: … | L19: … | M19: … | N19: … | O19: … | P19: … | Q19: … | R19: … | S19: … | T19: … | U19: … | V19: … | W19: … | X19: … | Y19: … | Z19: … | AA19: … | AB19: … | AC19: … | AD19: … | AE19: … | AF19: … | AG19: … | AH19: …
A20: 昭.63(1988) | B20: … | C20: … | D20: … | E20: x | F20: 1 | G20: 150 | H20: x | I20: 0 | J20: 20 | K20: x | L20: - | M20: - | N20: x | O20: 0 | P20: 50 | Q20: - | R20: - | S20: - | T20: - | U20: - | V20: - | W20: … | X20: … | Y20: … | Z20: … | AA20: … | AB20: … | AC20: … | AD20: … | AE20: … | AF20: … | AG20: … | AH20: …
A21: 平.元(1989) | B21: … | C21: … | D21: … | E21: … | F21: … | G21: … | H21: … | I21: … | J21: … | K21: … | L21: … | M21: … | N21: … | O21: … | P21: … | Q21: … | R21: … | S21: … | T21: … | U21: … | V21: … | W21: … | X21: … | Y21: … | Z21: … | AA21: … | AB21: … | AC21: … | AD21: … | AE21: … | AF21: … | AG21: … | AH21: …
A22: 平.2(1990) | B22: 39 | C22: 14 | D22: 5000 | E22: 3 | F22: 1 | G22: 410 | H22: 3 | I22: 0 | J22: 270 | K22: - | L22: - | M22: - | N22: x | O22: 0 | P22: 150 | Q22: x | R22: 0 | S22: 120 | T22: x | U22: 0 | V22: 200 | W22: 9 | X22: 8 | Y22: 2060 | Z22: 6 | AA22: 3 | AB22: 1420 | AC22: … | AD22: … | AE22: … | AF22: x | AG22: 1 | AH22: 370
A23: 平.3(1991) | B23: 31 | C23: 14 | D23: 5280 | E23: 3 | F23: 1 | G23: 490 | H23: 3 | I23: 0 | J23: 272 | K23: - | L23: - | M23: - | N23: x | O23: 0 | P23: 150 | Q23: x | R23: 0 | S23: 50 | T23: x | U23: 0 | V23: 200 | W23: 8 | X23: 8 | Y23: 2090 | Z23: 5 | AA23: 3 | AB23: 1530 | AC23: … | AD23: … | AE23: … | AF23: 16 | AG23: 1 | AH23: 507
A24: 平.4(1992) | B24: 30 | C24: 12 | D24: 4760 | E24: x | F24: x | G24: x | H24: 3 | I24: 0 | J24: 272 | K24: - | L24: - | M24: - | N24: x | O24: x | P24: x | Q24: x | R24: x | S24: x | T24: x | U24: x | V24: x | W24: 7 | X24: 5 | Y24: 1430 | Z24: 5 | AA24: 3 | AB24: 1600 | AC24: … | AD24: … | AE24: … | AF24: 16 | AG24: 1 | AH24: 506
A25: 平.5(1993) | B25: 26 | C25: 12 | D25: 4530 | E25: 3 | F25: 2 | G25: 496 | H25: x | I25: x | J25: x | K25: - | L25: - | M25: - | N25: x | O25: x | P25: x | Q25: - | R25: - | S25: - | T25: x | U25: x | V25: x | W25: 6 | X25: 5 | Y25: 1280 | Z25: 6 | AA25: 4 | AB25: 1580 | AC25: … | AD25: … | AE25: … | AF25: 16 | AG25: 1 | AH25: 310
A26: 平.6(1994) | B26: 27 | C26: 9 | D26: 3960 | E26: x | F26: x | G26: x | H26: x | I26: x | J26: x | K26: - | L26: - | M26: - | N26: x | O26: x | P26: x | Q26: - | R26: - | S26: - | T26: x | U26: x | V26: x | W26: 5 | X26: 4 | Y26: 1230 | Z26: 5 | AA26: 3 | AB26: 1480 | AC26: … | AD26: … | AE26: … | AF26: 19 | AG26: 1 | AH26: 237
A27: 平.7(1995) | B27: … | C27: … | D27: … | E27: … | F27: … | G27: … | H27: … | I27: … | J27: … | K27: … | L27: … | M27: … | N27: … | O27: … | P27: … | Q27: … | R27: … | S27: … | T27: … | U27: … | V27: … | W27: 4 | X27: 4 | Y27: 1130 | Z27: 3 | AA27: 3 | AB27: 1350 | AC27: … | AD27: … | AE27: … | AF27: 19 | AG27: 1 | AH27: 223
A28: 平.8(1996) | B28: … | C28: … | D28: … | E28: … | F28: … | G28: … | H28: … | I28: … | J28: … | K28: … | L28: … | M28: … | N28: … | O28: … | P28: … | Q28: … | R28: … | S28: … | T28: … | U28: … | V28: … | W28: 4 | X28: 4 | Y28: 1130 | Z28: 3 | AA28: 3 | AB28: 1350 | AC28: … | AD28: … | AE28: … | AF28: 8 | AG28: 0 | AH28: 201
A29: 平.9(1997) | B29: 16 | C29: 10 | D29: 3630 | E29: 3 | F29: 1 | G29: 283 | H29: x | I29: x | J29: x | K29: - | L29: - | M29: - | N29: x | O29: x | P29: x | Q29: - | R29: - | S29: - | T29: 3 | U29: 0 | V29: 248 | W29: 5 | X29: 4 | Y29: 1220 | Z29: 5 | AA29: 4 | AB29: 1390 | AC29: … | AD29: … | AE29: … | AF29: x | AG29: 1 | AH29: 179
A30: 平.10(1998) | B30: … | C30: … | D30: … | E30: 3 | F30: 1 | G30: 320 | H30: - | I30: - | J30: - | K30: … | L30: … | M30: … | N30: … | O30: … | P30: … | Q30: … | R30: … | S30: … | T30: … | U30: … | V30: … | W30: 5 | X30: 4 | Y30: 1250 | Z30: 5 | AA30: 4 | AB30: 1380 | AC30: … | AD30: … | AE30: … | AF30: 8 | AG30: 1 | AH30: 250
A31: 平.11(1999) | B31: 2 | C31: 13 | D31: 5280 | E31: 0 | F31: x | G31: x | H31: 0 | I31: x | J31: x | K31: 0 | L31: x | M31: x | N31: … | O31: … | P31: … | Q31: … | R31: … | S31: … | T31: … | U31: … | V31: … | W31: … | X31: … | Y31: … | Z31: … | AA31: … | AB31: … | AC31: … | AD31: … | AE31: … | AF31: … | AG31: … | AH31: …
A32: 平.12(2000) | B32: 2 | C32: 13 | D32: 5470 | E32: 0 | F32: 1 | G32: 300 | H32: 0 | I32: x | J32: x | K32: 0 | L32: x | M32: x | N32: … | O32: … | P32: … | Q32: … | R32: … | S32: … | T32: … | U32: … | V32: … | W32: … | X32: … | Y32: … | Z32: … | AA32: … | AB32: … | AC32: … | AD32: … | AE32: … | AF32: … | AG32: … | AH32: …
A33: 平.13(2001) | B33: 2 | C33: 10 | D33: 3910 | E33: - | F33: - | G33: - | H33: 0 | I33: x | J33: x | K33: - | L33: - | M33: - | N33: … | O33: … | P33: … | Q33: … | R33: … | S33: … | T33: … | U33: … | V33: … | W33: … | X33: … | Y33: … | Z33: … | AA33: … | AB33: … | AC33: … | AD33: … | AE33: … | AF33: … | AG33: … | AH33: …
A34: 平.14(2002) | B34: 14 | C34: 1010 | D34: 3900 | E34: - | F34: - | G34: - | H34: 2 | I34: x | J34: x | K34: - | L34: - | M34: - | N34: … | O34: … | P34: … | Q34: … | R34: … | S34: … | T34: … | U34: … | V34: … | W34: … | X34: … | Y34: … | Z34: … | AA34: … | AB34: … | AC34: … | AD34: … | AE34: … | AF34: … | AG34: … | AH34: …
A35: 平.15(2003) | B35: 13 | C35: 997 | D35: 3880 | E35: - | F35: - | G35: - | H35: 2 | I35: x | J35: x | K35: - | L35: - | M35: - | N35: … | O35: … | P35: … | Q35: … | R35: … | S35: … | T35: … | U35: … | V35: … | W35: … | X35: … | Y35: … | Z35: … | AA35: … | AB35: … | AC35: … | AD35: … | AE35: … | AF35: … | AG35: … | AH35: …
A36: 平.16(2004) | B36: 14 | C36: 1000 | D36: 3840 | E36: - | F36: - | G36: - | H36: 2 | I36: x | J36: x | K36: - | L36: - | M36: - | N36: … | O36: … | P36: … | Q36: - | R36: - | S36: - | T36: … | U36: … | V36: … | W36: … | X36: … | Y36: … | Z36: … | AA36: … | AB36: … | AC36: … | AD36: … | AE36: … | AF36: … | AG36: … | AH36: …
A37: 平.17(2005) | B37: … | C37: … | D37: … | E37: … | F37: … | G37: … | H37: … | I37: … | J37: … | K37: … | L37: … | M37: … | N37: … | O37: … | P37: … | Q37: … | R37: … | S37: … | T37: … | U37: … | V37: … | W37: … | X37: … | Y37: … | Z37: … | AA37: … | AB37: … | AC37: … | AD37: … | AE37: … | AF37: … | AG37: … | AH37: …
A38: 平.18(2006) | B38: … | C38: … | D38: … | E38: … | F38: … | G38: … | H38: … | I38: … | J38: … | K38: … | L38: … | M38: … | N38: … | O38: … | P38: … | Q38: … | R38: … | S38: … | T38: … | U38: … | V38: … | W38: … | X38: … | Y38: … | Z38: … | AA38: … | AB38: … | AC38: … | AD38: … | AE38: … | AF38: … | AG38: … | AH38: …
A39: 平.19(2007) | B39: … | C39: 1010 | D39: 3750 | E39: … | F39: … | G39: … | H39: … | I39: … | J39: … | K39: … | L39: … | M39: … | N39: … | O39: … | P39: … | Q39: … | R39: … | S39: … | T39: … | U39: … | V39: … | W39: … | X39: … | Y39: … | Z39: … | AA39: … | AB39: … | AC39: … | AD39: … | AE39: … | AF39: … | AG39: … | AH39: …
A40: 平.20(2008) | B40: … | C40: … | D40: … | E40: … | F40: … | G40: … | H40: … | I40: … | J40: … | K40: … | L40: … | M40: … | N40: … | O40: … | P40: … | Q40: … | R40: … | S40: … | T40: … | U40: … | V40: … | W40: … | X40: … | Y40: … | Z40: … | AA40: … | AB40: … | AC40: … | AD40: … | AE40: … | AF40: … | AG40: … | AH40: …
A41: 平.21(2009) | B41: … | C41: … | D41: … | E41: … | F41: … | G41: … | H41: … | I41: … | J41: … | K41: … | L41: … | M41: … | N41: … | O41: … | P41: … | Q41: … | R41: … | S41: … | T41: … | U41: … | V41: … | W41: … | X41: … | Y41: … | Z41: … | AA41: … | AB41: … | AC41: … | AD41: … | AE41: … | AF41: … | AG41: … | AH41: …
A42: 平.22(2010) | B42: … | C42: 880 | D42: 3170 | E42: … | F42: … | G42: … | H42: … | I42: … | J42: … | K42: … | L42: … | M42: … | N42: … | O42: … | P42: … | Q42: … | R42: … | S42: … | T42: … | U42: … | V42: … | W42: … | X42: … | Y42: … | Z42: … | AA42: … | AB42: … | AC42: … | AD42: … | AE42: … | AF42: … | AG42: … | AH42: …
A43: 平.23(2011) | B43: … | C43: … | D43: … | E43: … | F43: … | G43: … | H43: … | I43: … | J43: … | K43: … | L43: … | M43: … | N43: … | O43: … | P43: … | Q43: … | R43: … | S43: … | T43: … | U43: … | V43: … | W43: … | X43: … | Y43: … | Z43: … | AA43: … | AB43: … | AC43: … | AD43: … | AE43: … | AF43: … | AG43: … | AH43: …
A44: 平.24(2012) | B44: … | C44: … | D44: … | E44: … | F44: … | G44: … | H44: … | I44: … | J44: … | K44: … | L44: … | M44: … | N44: … | O44: … | P44: … | Q44: … | R44: … | S44: … | T44: … | U44: … | V44: … | W44: … | X44: … | Y44: … | Z44: … | AA44: … | AB44: … | AC44: … | AD44: … | AE44: … | AF44: … | AG44: … | AH44: …
A45: 平.25(2013) | B45: … | C45: 258 | D45: 930 | E45: … | F45: … | G45: … | H45: … | I45: … | J45: … | K45: … | L45: … | M45: … | N45: … | O45: … | P45: … | Q45: … | R45: … | S45: … | T45: … | U45: … | V45: … | W45: … | X45: … | Y45: … | Z45: … | AA45: … | AB45: … | AC45: … | AD45: … | AE45: … | AF45: … | AG45: … | AH45: …
A46: 平.26(2014) | B46: … | C46: … | D46: … | E46: … | F46: … | G46: … | H46: … | I46: … | J46: … | K46: … | L46: … | M46: … | N46: … | O46: … | P46: … | Q46: … | R46: … | S46: … | T46: … | U46: … | V46: … | W46: … | X46: … | Y46: … | Z46: … | AA46: … | AB46: … | AC46: … | AD46: … | AE46: … | AF46: … | AG46: … | AH46: …
A47: 平.27(2015) | B47: … | C47: … | D47: … | E47: … | F47: … | G47: … | H47: … | I47: … | J47: … | K47: … | L47: … | M47: … | N47: … | O47: … | P47: … | Q47: … | R47: … | S47: … | T47: … | U47: … | V47: … | W47: … | X47: … | Y47: … | Z47: … | AA47: … | AB47: … | AC47: … | AD47: … | AE47: … | AF47: … | AG47: … | AH47: …
A48: 平.28(2016) | B48: … | C48: x | D48: x | E48: … | F48: … | G48: … | H48: … | I48: … | J48: … | K48: … | L48: … | M48: … | N48: … | O48: … | P48: … | Q48: … | R48: … | S48: … | T48: … | U48: … | V48: … | W48: … | X48: … | Y48: … | Z48: … | AA48: … | AB48: … | AC48: … | AD48: … | AE48: … | AF48: … | AG48: … | AH48: …
A49: 平.29(2017) | B49: … | C49: … | D49: … | E49: … | F49: … | G49: … | H49: … | I49: … | J49: … | K49: … | L49: … | M49: … | N49: … | O49: … | P49: … | Q49: … | R49: … | S49: … | T49: … | U49: … | V49: … | W49: … | X49: … | Y49: … | Z49: … | AA49: … | AB49: … | AC49: … | AD49: … | AE49: … | AF49: … | AG49: … | AH49: …
A50: 平.30(2018) | B50: … | C50: … | D50: … | E50: … | F50: … | G50: … | H50: … | I50: … | J50: … | K50: … | L50: … | M50: … | N50: … | O50: … | P50: … | Q50: … | R50: … | S50: … | T50: … | U50: … | V50: … | W50: … | X50: … | Y50: … | Z50: … | AA50: … | AB50: … | AC50: … | AD50: … | AE50: … | AF50: … | AG50: … | AH50: …
A51: 令.元(2019) | B51: … | C51: - | D51: - | E51: … | F51: … | G51: … | H51: … | I51: … | J51: … | K51: … | L51: … | M51: … | N51: … | O51: … | P51: … | Q51: … | R51: … | S51: … | T51: … | U51: … | V51: … | W51: … | X51: … | Y51: … | Z51: … | AA51: … | AB51: … | AC51: … | AD51: … | AE51: … | AF51: … | AG51: … | AH51: …
A52: 令.2(2020) | B52: … | C52: … | D52: … | E52: … | F52: … | G52: … | H52: … | I52: … | J52: … | K52: … | L52: … | M52: … | N52: … | O52: … | P52: … | Q52: … | R52: … | S52: … | T52: … | U52: … | V52: … | W52: … | X52: … | Y52: … | Z52: … | AA52: … | AB52: … | AC52: … | AD52: … | AE52: … | AF52: … | AG52: … | AH52: …
A53: 令.3(2021) | B53: … | C53: … | D53: … | E53: … | F53: … | G53: … | H53: … | I53: … | J53: … | K53: … | L53: … | M53: … | N53: … | O53: … | P53: … | Q53: … | R53: … | S53: … | T53: … | U53: … | V53: … | W53: … | X53: … | Y53: … | Z53: … | AA53: … | AB53: … | AC53: … | AD53: … | AE53: … | AF53: … | AG53: … | AH53: …
A54: 令.4(2022) | B54: … | C54: - | D54: … | E54: … | F54: … | G54: … | H54: … | I54: … | J54: … | K54: … | L54: … | M54: … | N54: … | O54: … | P54: … | Q54: … | R54: … | S54: … | T54: … | U54: … | V54: … | W54: … | X54: … | Y54: … | Z54: … | AA54: … | AB54: … | AC54: … | AD54: … | AE54: … | AF54: … | AG54: … | AH54: …
A55: 令.5(2023) | B55: … | C55: … | D55: … | E55: … | F55: … | G55: … | H55: … | I55: … | J55: … | K55: … | L55: … | M55: … | N55: … | O55: … | P55: … | Q55: … | R55: … | S55: … | T55: … | U55: … | V55: … | W55: … | X55: … | Y55: … | Z55: … | AA55: … | AB55: … | AC55: … | AD55: … | AE55: … | AF55: … | AG55: … | AH55: …
A56: 令.6(2024) | B56: … | C56: … | D56: … | E56: … | F56: … | G56: … | H56: … | I56: … | J56: … | K56: … | L56: … | M56: … | N56: … | O56: … | P56: … | Q56: … | R56: … | S56: … | T56: … | U56: … | V56: … | W56: … | X56: … | Y56: … | Z56: … | AA56: … | AB56: … | AC56: … | AD56: … | AE56: … | AF56: … | AG56: … | AH56: …
B57: （注記）
B58: 1999～2001年の「栽培農家数」の単位は、「10戸」である。
B59: 2002年以降の「収穫面積」の単位は「ａ」である。

Sheet 鉢もの類（静岡）
A1: 花き生産出荷統計
A2: 品目別作付面積及び出荷量累年統計
A3: 鉢もの類
A4: 静岡
A5: 年次 | B5: 鉢もの類 | K5: きく | T5: シクラメン | AC5: プリムラ類 | AL5: ベゴニア類 | AU5: シネラリア類 | BD5: らん類 | BM5: 洋ラン類 | BV5: シンビジウム | CE5: デンドロビウム | CN5: ファレノプシス | CW5: その他の洋ラン類 | DF5: サボテン・多肉植物 | DO5: 観葉植物 | DX5: 花木類 | EG5: その他の鉢もの類
B6: 栽培農家数 | E6: 収穫面積 | H6: 出荷量 | K6: 栽培農家数 | N6: 収穫面積 | Q6: 出荷量 | T6: 栽培農家数 | W6: 収穫面積 | Z6: 出荷量 | AC6: 栽培農家数 | AF6: 収穫面積 | AI6: 出荷量 | AL6: 栽培農家数 | AO6: 収穫面積 | AR6: 出荷量 | AU6: 栽培農家数 | AX6: 収穫面積 | BA6: 出荷量 | BD6: 栽培農家数 | BG6: 収穫面積 | BJ6: 出荷量 | BM6: 栽培農家数 | BP6: 収穫面積 | BS6: 出荷量 | BV6: 栽培農家数 | BY6: 収穫面積 | CB6: 出荷量 | CE6: 栽培農家数 | CH6: 収穫面積 | CK6: 出荷量 | CN6: 栽培農家数 | CQ6: 収穫面積 | CT6: 出荷量 | CW6: 栽培農家数 | CZ6: 収穫面積 | DC6: 出荷量 | DF6: 栽培農家数 | DI6: 収穫面積 | DL6: 出荷量 | DO6: 栽培農家数 | DR6: 収穫面積 | DU6: 出荷量 | DX6: 栽培農家数 | EA6: 収穫面積 | ED6: 出荷量 | EG6: 栽培農家数 | EJ6: 収穫面積 | EM6: 出荷量
B7: 計 | C7: 露地 | D7: 施設 | E7: 計 | F7: 露地 | G7: 施設 | H7: 計 | I7: 露地 | J7: 施設 | K7: 計 | L7: 露地 | M7: 施設 | N7: 計 | O7: 露地 | P7: 施設 | Q7: 計 | R7: 露地 | S7: 施設 | T7: 計 | U7: 露地 | V7: 施設 | W7: 計 | X7: 露地 | Y7: 施設 | Z7: 計 | AA7: 露地 | AB7: 施設 | AC7: 計 | AD7: 露地 | AE7: 施設 | AF7: 計 | AG7: 露地 | AH7: 施設 | AI7: 計 | AJ7: 露地 | AK7: 施設 | AL7: 計 | AM7: 露地 | AN7: 施設 | AO7: 計 | AP7: 露地 | AQ7: 施設 | AR7: 計 | AS7: 露地 | AT7: 施設 | AU7: 計 | AV7: 露地 | AW7: 施設 | AX7: 計 | AY7: 露地 | AZ7: 施設 | BA7: 計 | BB7: 露地 | BC7: 施設 | BD7: 計 | BE7: 露地 | BF7: 施設 | BG7: 計 | BH7: 露地 | BI7: 施設 | BJ7: 計 | BK7: 露地 | BL7: 施設 | BM7: 計 | BN7: 露地 | BO7: 施設 | BP7: 計 | BQ7: 露地 | BR7: 施設 | BS7: 計 | BT7: 露地 | BU7: 施設 | BV7: 計 | BW7: 露地 | BX7: 施設 | BY7: 計 | BZ7: 露地 | CA7: 施設 | CB7: 計 | CC7: 露地 | CD7: 施設 | CE7: 計 | CF7: 露地 | CG7: 施設 | CH7: 計 | CI7: 露地 | CJ7: 施設 | CK7: 計 | CL7: 露地 | CM7: 施設 | CN7: 計 | CO7: 露地 | CP7: 施設 | CQ7: 計 | CR7: 露地 | CS7: 施設 | CT7: 計 | CU7: 露地 | CV7: 施設 | CW7: 計 | CX7: 露地 | CY7: 施設 | CZ7: 計 | DA7: 露地 | DB7: 施設 | DC7: 計 | DD7: 露地 | DE7: 施設 | DF7: 計 | DG7: 露地 | DH7: 施設 | DI7: 計 | DJ7: 露地 | DK7: 施設 | DL7: 計 | DM7: 露地 | DN7: 施設 | DO7: 計 | DP7: 露地 | DQ7: 施設 | DR7: 計 | DS7: 露地 | DT7: 施設 | DU7: 計 | DV7: 露地 | DW7: 施設 | DX7: 計 | DY7: 露地 | DZ7: 施設 | EA7: 計 | EB7: 露地 | EC7: 施設 | ED7: 計 | EE7: 露地 | EF7: 施設 | EG7: 計 | EH7: 露地 | EI7: 施設 | EJ7: 計 | EK7: 露地 | EL7: 施設 | EM7: 計 | EN7: 露地 | EO7: 施設
B8: 戸 | C8: 戸 | D8: 戸 | E8: a | F8: a | G8: a | H8: 1000鉢 | I8: 1000鉢 | J8: 1000鉢 | K8: 戸 | L8: 戸 | M8: 戸 | N8: a | O8: a | P8: a | Q8: 1000鉢 | R8: 1000鉢 | S8: 1000鉢 | T8: 戸 | U8: 戸 | V8: 戸 | W8: a | X8: a | Y8: a | Z8: 1000鉢 | AA8: 1000鉢 | AB8: 1000鉢 | AC8: 戸 | AD8: 戸 | AE8: 戸 | AF8: a | AG8: a | AH8: a | AI8: 1000鉢 | AJ8: 1000鉢 | AK8: 1000鉢 | AL8: 戸 | AM8: 戸 | AN8: 戸 | AO8: a | AP8: a | AQ8: a | AR8: 1000鉢 | AS8: 1000鉢 | AT8: 1000鉢 | AU8: 戸 | AV8: 戸 | AW8: 戸 | AX8: a | AY8: a | AZ8: a | BA8: 1000鉢 | BB8: 1000鉢 | BC8: 1000鉢 | BD8: 戸 | BE8: 戸 | BF8: 戸 | BG8: a | BH8: a | BI8: a | BJ8: 1000鉢 | BK8: 1000鉢 | BL8: 1000鉢 | BM8: 戸 | BN8: 戸 | BO8: 戸 | BP8: a | BQ8: a | BR8: a | BS8: 1000鉢 | BT8: 1000鉢 | BU8: 1000鉢 | BV8: 戸 | BW8: 戸 | BX8: 戸 | BY8: a | BZ8: a | CA8: a | CB8: 1000鉢 | CC8: 1000鉢 | CD8: 1000鉢 | CE8: 戸 | CF8: 戸 | CG8: 戸 | CH8: a | CI8: a | CJ8: a | CK8: 1000鉢 | CL8: 1000鉢 | CM8: 1000鉢 | CN8: 戸 | CO8: 戸 | CP8: 戸 | CQ8: a | CR8: a | CS8: a | CT8: 1000鉢 | CU8: 1000鉢 | CV8: 1000鉢 | CW8: 戸 | CX8: 戸 | CY8: 戸 | CZ8: a | DA8: a | DB8: a | DC8: 1000鉢 | DD8: 1000鉢 | DE8: 1000鉢 | DF8: 戸 | DG8: 戸 | DH8: 戸 | DI8: a | DJ8: a | DK8: a | DL8: 1000鉢 | DM8: 1000鉢 | DN8: 1000鉢 | DO8: 戸 | DP8: 戸 | DQ8: 戸 | DR8: a | DS8: a | DT8: a | DU8: 1000鉢 | DV8: 1000鉢 | DW8: 1000鉢 | DX8: 戸 | DY8: 戸 | DZ8: 戸 | EA8: a | EB8: a | EC8: a | ED8: 1000鉢 | EE8: 1000鉢 | EF8: 1000鉢 | EG8: 戸 | EH8: 戸 | EI8: 戸 | EJ8: a | EK8: a | EL8: a | EM8: 1000鉢 | EN8: 1000鉢 | EO8: 1000鉢
A9: 昭.51(1976) | B9: … | C9: … | D9: … | E9: … | F9: … | G9: … | H9: … | I9: … | J9: … | K9: … | L9: … | M9: … | N9: … | O9: … | P9: … | Q9: … | R9: … | S9: … | T9: … | U9: … | V9: … | W9: … | X9: … | Y9: … | Z9: … | AA9: … | AB9: … | AC9: … | AD9: … | AE9: … | AF9: … | AG9: … | AH9: … | AI9: … | AJ9: … | AK9: … | AL9: … | AM9: … | AN9: … | AO9: … | AP9: … | AQ9: … | AR9: … | AS9: … | AT9: … | AU9: … | AV9: … | AW9: … | AX9: … | AY9: … | AZ9: … | BA9: … | BB9: … | BC9: … | BD9: … | BE9: … | BF9: … | BG9: … | BH9: … | BI9: … | BJ9: … | BK9: … | BL9: … | BM9: … | BN9: … | BO9: … | BP9: … | BQ9: … | BR9: … | BS9: … | BT9: … | BU9: … | BV9: … | BW9: … | BX9: … | BY9: … | BZ9: … | CA9: … | CB9: … | CC9: … | CD9: … | CE9: … | CF9: … | CG9: … | CH9: … | CI9: … | CJ9: … | CK9: … | CL9: … | CM9: … | CN9: … | CO9: … | CP9: … | CQ9: … | CR9: … | CS9: … | CT9: … | CU9: … | CV9: … | CW9: … | CX9: … | CY9: … | CZ9: … | DA9: … | DB9: … | DC9: … | DD9: … | DE9: … | DF9: … | DG9: … | DH9: … | DI9: … | DJ9: … | DK9: … | DL9: … | DM9: … | DN9: … | DO9: … | DP9: … | DQ9: … | DR9: … | DS9: … | DT9: … | DU9: … | DV9: … | DW9: … | DX9: … | DY9: … | DZ9: … | EA9: … | EB9: … | EC9: … | ED9: … | EE9: … | EF9: … | EG9: … | EH9: … | EI9: … | EJ9: … | EK9: … | EL9: … | EM9: … | EN9: … | EO9: …
A10: 昭.52(1977) | B10: … | C10: … | D10: … | E10: 26 | F10: 2 | G10: 24 | H10: 6500 | I10: 130 | J10: 6370 | K10: … | L10: … | M10: … | N10: … | O10: … | P10: … | Q10: … | R10: … | S10: … | T10: … | U10: … | V10: … | W10: … | X10: … | Y10: … | Z10: … | AA10: … | AB10: … | AC10: … | AD10: … | AE10: … | AF10: … | AG10: … | AH10: … | AI10: … | AJ10: … | AK10: … | AL10: … | AM10: … | AN10: … | AO10: … | AP10: … | AQ10: … | AR10: … | AS10: … | AT10: … | AU10: … | AV10: … | AW10: … | AX10: … | AY10: … | AZ10: … | BA10: … | BB10: … | BC10: … | BD10: … | BE10: … | BF10: … | BG10: … | BH10: … | BI10: … | BJ10: … | BK10: … | BL10: … | BM10: … | BN10: … | BO10: … | BP10: … | BQ10: … | BR10: … | BS10: … | BT10: … | BU10: … | BV10: … | BW10: … | BX10: … | BY10: … | BZ10: … | CA10: … | CB10: … | CC10: … | CD10: … | CE10: … | CF10: … | CG10: … | CH10: … | CI10: … | CJ10: … | CK10: … | CL10: … | CM10: … | CN10: … | CO10: … | CP10: … | CQ10: … | CR10: … | CS10: … | CT10: … | CU10: … | CV10: … | CW10: … | CX10: … | CY10: … | CZ10: … | DA10: … | DB10: … | DC10: … | DD10: … | DE10: … | DF10: … | DG10: … | DH10: … | DI10: … | DJ10: … | DK10: … | DL10: … | DM10: … | DN10: … | DO10: … | DP10: … | DQ10: … | DR10: … | DS10: … | DT10: … | DU10: … | DV10: … | DW10: … | DX10: … | DY10: … | DZ10: … | EA10: … | EB10: … | EC10: … | ED10: … | EE10: … | EF10: … | EG10: … | EH10: … | EI10: … | EJ10: … | EK10: … | EL10: … | EM10: … | EN10: … | EO10: …
A11: 昭.53(1978) | B11: … | C11: … | D11: … | E11: 35 | F11: 4 | G11: 31 | H11: 8320 | I11: 275 | J11: 8040 | K11: … | L11: … | M11: … | N11: … | O11: … | P11: … | Q11: … | R11: … | S11: … | T11: … | U11: … | V11: … | W11: … | X11: … | Y11: … | Z11: … | AA11: … | AB11: … | AC11: … | AD11: … | AE11: … | AF11: … | AG11: … | AH11: … | AI11: … | AJ11: … | AK11: … | AL11: … | AM11: … | AN11: … | AO11: … | AP11: … | AQ11: … | AR11: … | AS11: … | AT11: … | AU11: … | AV11: … | AW11: … | AX11: … | AY11: … | AZ11: … | BA11: … | BB11: … | BC11: … | BD11: … | BE11: … | BF11: … | BG11: … | BH11: … | BI11: … | BJ11: … | BK11: … | BL11: … | BM11: … | BN11: … | BO11: … | BP11: … | BQ11: … | BR11: … | BS11: … | BT11: … | BU11: … | BV11: … | BW11: … | BX11: … | BY11: … | BZ11: … | CA11: … | CB11: … | CC11: … | CD11: … | CE11: … | CF11: … | CG11: … | CH11: … | CI11: … | CJ11: … | CK11: … | CL11: … | CM11: … | CN11: … | CO11: … | CP11: … | CQ11: … | CR11: … | CS11: … | CT11: … | CU11: … | CV11: … | CW11: … | CX11: … | CY11: … | CZ11: … | DA11: … | DB11: … | DC11: … | DD11: … | DE11: … | DF11: … | DG11: … | DH11: … | DI11: … | DJ11: … | DK11: … | DL11: … | DM11: … | DN11: … | DO11: … | DP11: … | DQ11: … | DR11: … | DS11: … | DT11: … | DU11: … | DV11: … | DW11: … | DX11: … | DY11: … | DZ11: … | EA11: … | EB11: … | EC11: … | ED11: … | EE11: … | EF11: … | EG11: … | EH11: … | EI11: … | EJ11: … | EK11: … | EL11: … | EM11: … | EN11: … | EO11: …
A12: 昭.54(1979) | B12: … | C12: … | D12: … | E12: 29 | F12: 1 | G12: 28 | H12: 9710 | I12: 188 | J12: 9520 | K12: … | L12: … | M12: … | N12: … | O12: … | P12: … | Q12: … | R12: … | S12: … | T12: … | U12: … | V12: … | W12: … | X12: … | Y12: … | Z12: … | AA12: … | AB12: … | AC12: … | AD12: … | AE12: … | AF12: … | AG12: … | AH12: … | AI12: … | AJ12: … | AK12: … | AL12: … | AM12: … | AN12: … | AO12: … | AP12: … | AQ12: … | AR12: … | AS12: … | AT12: … | AU12: … | AV12: … | AW12: … | AX12: … | AY12: … | AZ12: … | BA12: … | BB12: … | BC12: … | BD12: … | BE12: … | BF12: … | BG12: … | BH12: … | BI12: … | BJ12: … | BK12: … | BL12: … | BM12: … | BN12: … | BO12: … | BP12: … | BQ12: … | BR12: … | BS12: … | BT12: … | BU12: … | BV12: … | BW12: … | BX12: … | BY12: … | BZ12: … | CA12: … | CB12: … | CC12: … | CD12: … | CE12: … | CF12: … | CG12: … | CH12: … | CI12: … | CJ12: … | CK12: … | CL12: … | CM12: … | CN12: … | CO12: … | CP12: … | CQ12: … | CR12: … | CS12: … | CT12: … | CU12: … | CV12: … | CW12: … | CX12: … | CY12: … | CZ12: … | DA12: … | DB12: … | DC12: … | DD12: … | DE12: … | DF12: … | DG12: … | DH12: … | DI12: … | DJ12: … | DK12: … | DL12: … | DM12: … | DN12: … | DO12: … | DP12: … | DQ12: … | DR12: … | DS12: … | DT12: … | DU12: … | DV12: … | DW12: … | DX12: … | DY12: … | DZ12: … | EA12: … | EB12: … | EC12: … | ED12: … | EE12: … | EF12: … | EG12: … | EH12: … | EI12: … | EJ12: … | EK12: … | EL12: … | EM12: … | EN12: … | EO12: …
A13: 昭.55(1980) | B13: … | C13: … | D13: … | E13: … | F13: … | G13: … | H13: … | I13: … | J13: … | K13: … | L13: … | M13: … | N13: 113 | O13: … | P13: 113 | Q13: 280 | R13: … | S13: 280 | T13: … | U13: … | V13: … | W13: … | X13: … | Y13: 66 | Z13: … | AA13: … | AB13: 68 | AC13: … | AD13: … | AE13: … | AF13: 4 | AG13: … | AH13: 4 | AI13: 5 | AJ13: … | AK13: 5 | AL13: … | AM13: … | AN13: … | AO13: 10 | AP13: … | AQ13: 10 | AR13: 25 | AS13: … | AT13: 25 | AU13: … | AV13: … | AW13: … | AX13: … | AY13: … | AZ13: 1 | BA13: … | BB13: … | BC13: 5 | BD13: … | BE13: … | BF13: … | BG13: 368 | BH13: … | BI13: 368 | BJ13: 245 | BK13: … | BL13: 245 | BM13: … | BN13: … | BO13: … | BP13: … | BQ13: … | BR13: … | BS13: … | BT13: … | BU13: … | BV13: … | BW13: … | BX13: … | BY13: … | BZ13: … | CA13: … | CB13: … | CC13: … | CD13: … | CE13: … | CF13: … | CG13: … | CH13: … | CI13: … | CJ13: … | CK13: … | CL13: … | CM13: … | CN13: … | CO13: … | CP13: … | CQ13: … | CR13: … | CS13: … | CT13: … | CU13: … | CV13: … | CW13: … | CX13: … | CY13: … | CZ13: … | DA13: … | DB13: … | DC13: … | DD13: … | DE13: … | DF13: … | DG13: … | DH13: … | DI13: 730 | DJ13: … | DK13: 730 | DL13: 9120 | DM13: … | DN13: 9120 | DO13: … | DP13: … | DQ13: … | DR13: 627 | DS13: … | DT13: 627 | DU13: 1040 | DV13: … | DW13: 1040 | DX13: … | DY13: … | DZ13: … | EA13: 265 | EB13: … | EC13: 147 | ED13: 316 | EE13: … | EF13: 217 | EG13: … | EH13: … | EI13: … | EJ13: … | EK13: … | EL13: … | EM13: … | EN13: … | EO13: …
A14: 昭.56(1981) | B14: … | C14: … | D14: … | E14: … | F14: … | G14: … | H14: … | I14: … | J14: … | K14: … | L14: … | M14: … | N14: 103 | O14: … | P14: 103 | Q14: 307 | R14: … | S14: 307 | T14: … | U14: … | V14: … | W14: … | X14: … | Y14: 66 | Z14: … | AA14: … | AB14: 119 | AC14: … | AD14: … | AE14: … | AF14: … | AG14: … | AH14: 24 | AI14: … | AJ14: … | AK14: 9 | AL14: … | AM14: … | AN14: … | AO14: 43 | AP14: … | AQ14: 43 | AR14: 94 | AS14: … | AT14: 94 | AU14: … | AV14: … | AW14: … | AX14: 1 | AY14: … | AZ14: 1 | BA14: 5 | BB14: … | BC14: 5 | BD14: … | BE14: … | BF14: … | BG14: 390 | BH14: … | BI14: 390 | BJ14: 277 | BK14: … | BL14: 277 | BM14: … | BN14: … | BO14: … | BP14: … | BQ14: … | BR14: … | BS14: … | BT14: … | BU14: … | BV14: … | BW14: … | BX14: … | BY14: … | BZ14: … | CA14: … | CB14: … | CC14: … | CD14: … | CE14: … | CF14: … | CG14: … | CH14: … | CI14: … | CJ14: … | CK14: … | CL14: … | CM14: … | CN14: … | CO14: … | CP14: … | CQ14: … | CR14: … | CS14: … | CT14: … | CU14: … | CV14: … | CW14: … | CX14: … | CY14: … | CZ14: … | DA14: … | DB14: … | DC14: … | DD14: … | DE14: … | DF14: … | DG14: … | DH14: … | DI14: 713 | DJ14: … | DK14: 713 | DL14: 8530 | DM14: … | DN14: 8530 | DO14: … | DP14: … | DQ14: … | DR14: 812 | DS14: … | DT14: 812 | DU14: 1280 | DV14: … | DW14: 1280 | DX14: … | DY14: … | DZ14: … | EA14: 281 | EB14: … | EC14: 163 | ED14: 339 | EE14: … | EF14: 240 | EG14: … | EH14: … | EI14: … | EJ14: … | EK14: … | EL14: … | EM14: … | EN14: … | EO14: …
A15: 昭.57(1982) | B15: … | C15: … | D15: … | E15: … | F15: … | G15: … | H15: … | I15: … | J15: … | K15: … | L15: 3 | M15: 12 | N15: 77 | O15: 2 | P15: 75 | Q15: 243 | R15: 3 | S15: 240 | T15: … | U15: - | V15: 9 | W15: 46 | X15: - | Y15: 46 | Z15: 84 | AA15: - | AB15: 84 | AC15: … | AD15: - | AE15: 20 | AF15: 173 | AG15: - | AH15: 173 | AI15: 391 | AJ15: - | AK15: 391 | AL15: … | AM15: - | AN15: 11 | AO15: 96 | AP15: - | AQ15: 96 | AR15: 164 | AS15: - | AT15: 164 | AU15: … | AV15: - | AW15: 4 | AX15: 19 | AY15: - | AZ15: 19 | BA15: 30 | BB15: - | BC15: 30 | BD15: … | BE15: - | BF15: 87 | BG15: 488 | BH15: - | BI15: 488 | BJ15: 275 | BK15: - | BL15: 275 | BM15: … | BN15: … | BO15: … | BP15: … | BQ15: … | BR15: … | BS15: … | BT15: … | BU15: … | BV15: … | BW15: … | BX15: … | BY15: … | BZ15: … | CA15: … | CB15: … | CC15: … | CD15: … | CE15: … | CF15: … | CG15: … | CH15: … | CI15: … | CJ15: … | CK15: … | CL15: … | CM15: … | CN15: … | CO15: … | CP15: … | CQ15: … | CR15: … | CS15: … | CT15: … | CU15: … | CV15: … | CW15: … | CX15: … | CY15: … | CZ15: … | DA15: … | DB15: … | DC15: … | DD15: … | DE15: … | DF15: … | DG15: - | DH15: 72 | DI15: 749 | DJ15: - | DK15: 749 | DL15: 8650 | DM15: - | DN15: 8650 | DO15: … | DP15: - | DQ15: 86 | DR15: 788 | DS15: - | DT15: 788 | DU15: 1230 | DV15: - | DW15: 1230 | DX15: … | DY15: 125 | DZ15: 24 | EA15: 369 | EB15: 192 | EC15: 177 | ED15: 371 | EE15: 112 | EF15: 259 | EG15: … | EH15: … | EI15: … | EJ15: … | EK15: … | EL15: … | EM15: … | EN15: … | EO15: …
A16: 昭.58(1983) | B16: … | C16: … | D16: … | E16: … | F16: … | G16: … | H16: … | I16: … | J16: … | K16: … | L16: 3 | M16: 6 | N16: 42 | O16: 2 | P16: 40 | Q16: 123 | R16: 3 | S16: 120 | T16: … | U16: … | V16: … | W16: … | X16: … | Y16: … | Z16: … | AA16: … | AB16: … | AC16: … | AD16: … | AE16: … | AF16: … | AG16: … | AH16: … | AI16: … | AJ16: … | AK16: … | AL16: … | AM16: … | AN16: … | AO16: … | AP16: … | AQ16: … | AR16: … | AS16: … | AT16: … | AU16: … | AV16: … | AW16: … | AX16: … | AY16: … | AZ16: … | BA16: … | BB16: … | BC16: … | BD16: … | BE16: - | BF16: 84 | BG16: 492 | BH16: - | BI16: 492 | BJ16: 314 | BK16: - | BL16: 314 | BM16: … | BN16: … | BO16: … | BP16: … | BQ16: … | BR16: … | BS16: … | BT16: … | BU16: … | BV16: … | BW16: … | BX16: … | BY16: … | BZ16: … | CA16: … | CB16: … | CC16: … | CD16: … | CE16: … | CF16: … | CG16: … | CH16: … | CI16: … | CJ16: … | CK16: … | CL16: … | CM16: … | CN16: … | CO16: … | CP16: … | CQ16: … | CR16: … | CS16: … | CT16: … | CU16: … | CV16: … | CW16: … | CX16: … | CY16: … | CZ16: … | DA16: … | DB16: … | DC16: … | DD16: … | DE16: … | DF16: … | DG16: - | DH16: 50 | DI16: 550 | DJ16: - | DK16: 550 | DL16: 4920 | DM16: - | DN16: 4920 | DO16: … | DP16: - | DQ16: 86 | DR16: 739 | DS16: - | DT16: 739 | DU16: 1530 | DV16: - | DW16: 1530 | DX16: … | DY16: … | DZ16: … | EA16: … | EB16: … | EC16: … | ED16: … | EE16: … | EF16: … | EG16: … | EH16: … | EI16: … | EJ16: … | EK16: … | EL16: … | EM16: … | EN16: … | EO16: …
A17: 昭.59(1984) | B17: … | C17: … | D17: … | E17: … | F17: … | G17: … | H17: … | I17: … | J17: … | K17: … | L17: 3 | M17: 6 | N17: 42 | O17: 2 | P17: 40 | Q17: 123 | R17: 3 | S17: 120 | T17: … | U17: … | V17: … | W17: … | X17: … | Y17: … | Z17: … | AA17: … | AB17: … | AC17: … | AD17: … | AE17: … | AF17: … | AG17: … | AH17: … | AI17: … | AJ17: … | AK17: … | AL17: … | AM17: … | AN17: … | AO17: … | AP17: … | AQ17: … | AR17: … | AS17: … | AT17: … | AU17: … | AV17: … | AW17: … | AX17: … | AY17: … | AZ17: … | BA17: … | BB17: … | BC17: … | BD17: … | BE17: - | BF17: 93 | BG17: 781 | BH17: - | BI17: 781 | BJ17: 428 | BK17: - | BL17: 428 | BM17: … | BN17: … | BO17: … | BP17: … | BQ17: … | BR17: … | BS17: … | BT17: … | BU17: … | BV17: … | BW17: … | BX17: … | BY17: … | BZ17: … | CA17: … | CB17: … | CC17: … | CD17: … | CE17: … | CF17: … | CG17: … | CH17: … | CI17: … | CJ17: … | CK17: … | CL17: … | CM17: … | CN17: … | CO17: … | CP17: … | CQ17: … | CR17: … | CS17: … | CT17: … | CU17: … | CV17: … | CW17: … | CX17: … | CY17: … | CZ17: … | DA17: … | DB17: … | DC17: … | DD17: … | DE17: … | DF17: … | DG17: - | DH17: 55 | DI17: 647 | DJ17: - | DK17: 647 | DL17: 4030 | DM17: - | DN17: 4030 | DO17: … | DP17: - | DQ17: 91 | DR17: 801 | DS17: - | DT17: 801 | DU17: 1610 | DV17: - | DW17: 1610 | DX17: … | DY17: … | DZ17: … | EA17: … | EB17: … | EC17: … | ED17: … | EE17: … | EF17: … | EG17: … | EH17: … | EI17: … | EJ17: … | EK17: … | EL17: … | EM17: … | EN17: … | EO17: …
A18: 昭.60(1985) | B18: … | C18: … | D18: … | E18: … | F18: … | G18: … | H18: … | I18: … | J18: … | K18: … | L18: … | M18: … | N18: 40 | O18: - | P18: 40 | Q18: 120 | R18: - | S18: 120 | T18: … | U18: … | V18: … | W18: 39 | X18: - | Y18: 39 | Z18: 30 | AA18: - | AB18: 30 | AC18: … | AD18: … | AE18: … | AF18: 33 | AG18: - | AH18: 33 | AI18: 17 | AJ18: - | AK18: 17 | AL18: … | AM18: … | AN18: … | AO18: 89 | AP18: 4 | AQ18: 85 | AR18: 163 | AS18: 10 | AT18: 153 | AU18: … | AV18: … | AW18: … | AX18: 27 | AY18: - | AZ18: 27 | BA18: 45 | BB18: - | BC18: 45 | BD18: … | BE18: … | BF18: … | BG18: 865 | BH18: - | BI18: 865 | BJ18: 531 | BK18: - | BL18: 531 | BM18: … | BN18: … | BO18: … | BP18: … | BQ18: … | BR18: … | BS18: … | BT18: … | BU18: … | BV18: … | BW18: … | BX18: … | BY18: … | BZ18: … | CA18: … | CB18: … | CC18: … | CD18: … | CE18: … | CF18: … | CG18: … | CH18: … | CI18: … | CJ18: … | CK18: … | CL18: … | CM18: … | CN18: … | CO18: … | CP18: … | CQ18: … | CR18: … | CS18: … | CT18: … | CU18: … | CV18: … | CW18: … | CX18: … | CY18: … | CZ18: … | DA18: … | DB18: … | DC18: … | DD18: … | DE18: … | DF18: … | DG18: … | DH18: … | DI18: 683 | DJ18: - | DK18: 683 | DL18: 4030 | DM18: - | DN18: 4030 | DO18: … | DP18: … | DQ18: … | DR18: 1010 | DS18: - | DT18: 1010 | DU18: 1970 | DV18: - | DW18: 1970 | DX18: … | DY18: … | DZ18: … | EA18: 195 | EB18: 40 | EC18: 155 | ED18: 320 | EE18: 46 | EF18: 274 | EG18: … | EH18: … | EI18: … | EJ18: … | EK18: … | EL18: … | EM18: … | EN18: … | EO18: …
A19: 昭.61(1986) | B19: … | C19: … | D19: … | E19: … | F19: … | G19: … | H19: … | I19: … | J19: … | K19: … | L19: - | M19: 6 | N19: 40 | O19: - | P19: 40 | Q19: 120 | R19: - | S19: 120 | T19: … | U19: … | V19: … | W19: … | X19: … | Y19: … | Z19: … | AA19: … | AB19: … | AC19: … | AD19: … | AE19: … | AF19: … | AG19: … | AH19: … | AI19: … | AJ19: … | AK19: … | AL19: … | AM19: … | AN19: … | AO19: … | AP19: … | AQ19: … | AR19: … | AS19: … | AT19: … | AU19: … | AV19: … | AW19: … | AX19: … | AY19: … | AZ19: … | BA19: … | BB19: … | BC19: … | BD19: … | BE19: - | BF19: 90 | BG19: 780 | BH19: - | BI19: 780 | BJ19: 454 | BK19: - | BL19: 454 | BM19: … | BN19: … | BO19: … | BP19: … | BQ19: … | BR19: … | BS19: … | BT19: … | BU19: … | BV19: … | BW19: … | BX19: … | BY19: … | BZ19: … | CA19: … | CB19: … | CC19: … | CD19: … | CE19: … | CF19: … | CG19: … | CH19: … | CI19: … | CJ19: … | CK19: … | CL19: … | CM19: … | CN19: … | CO19: … | CP19: … | CQ19: … | CR19: … | CS19: … | CT19: … | CU19: … | CV19: … | CW19: … | CX19: … | CY19: … | CZ19: … | DA19: … | DB19: … | DC19: … | DD19: … | DE19: … | DF19: … | DG19: - | DH19: 59 | DI19: 647 | DJ19: - | DK19: 647 | DL19: 4080 | DM19: - | DN19: 4080 | DO19: … | DP19: - | DQ19: 100 | DR19: 1060 | DS19: - | DT19: 1060 | DU19: 1830 | DV19: - | DW19: 1830 | DX19: … | DY19: … | DZ19: … | EA19: … | EB19: … | EC19: … | ED19: … | EE19: … | EF19: … | EG19: … | EH19: … | EI19: … | EJ19: … | EK19: … | EL19: … | EM19: … | EN19: … | EO19: …
A20: 昭.62(1987) | B20: … | C20: … | D20: … | E20: … | F20: … | G20: … | H20: … | I20: … | J20: … | K20: … | L20: … | M20: … | N20: … | O20: … | P20: … | Q20: … | R20: … | S20: … | T20: … | U20: … | V20: … | W20: … | X20: … | Y20: … | Z20: … | AA20: … | AB20: … | AC20: … | AD20: … | AE20: … | AF20: … | AG20: … | AH20: … | AI20: … | AJ20: … | AK20: … | AL20: … | AM20: - | AN20: 14 | AO20: 51 | AP20: - | AQ20: 51 | AR20: 180 | AS20: - | AT20: 180 | AU20: … | AV20: … | AW20: … | AX20: … | AY20: … | AZ20: … | BA20: … | BB20: … | BC20: … | BD20: … | BE20: - | BF20: 97 | BG20: 882 | BH20: - | BI20: 882 | BJ20: 544 | BK20: - | BL20: 544 | BM20: … | BN20: … | BO20: … | BP20: … | BQ20: … | BR20: … | BS20: … | BT20: … | BU20: … | BV20: … | BW20: … | BX20: … | BY20: … | BZ20: … | CA20: … | CB20: … | CC20: … | CD20: … | CE20: … | CF20: … | CG20: … | CH20: … | CI20: … | CJ20: … | CK20: … | CL20: … | CM20: … | CN20: … | CO20: … | CP20: … | CQ20: … | CR20: … | CS20: … | CT20: … | CU20: … | CV20: … | CW20: … | CX20: … | CY20: … | CZ20: … | DA20: … | DB20: … | DC20: … | DD20: … | DE20: … | DF20: … | DG20: - | DH20: 40 | DI20: 444 | DJ20: - | DK20: 444 | DL20: 3130 | DM20: - | DN20: 3130 | DO20: … | DP20: - | DQ20: 106 | DR20: 1330 | DS20: - | DT20: 1330 | DU20: 1850 | DV20: - | DW20: 1850 | DX20: … | DY20: … | DZ20: … | EA20: … | EB20: … | EC20: … | ED20: … | EE20: … | EF20: … | EG20: … | EH20: … | EI20: … | EJ20: … | EK20: … | EL20: … | EM20: … | EN20: … | EO20: …
A21: 昭.63(1988) | B21: … | C21: … | D21: … | E21: … | F21: … | G21: … | H21: … | I21: … | J21: … | K21: … | L21: - | M21: 7 | N21: 156 | O21: - | P21: 156 | Q21: 143 | R21: - | S21: 143 | T21: … | U21: - | V21: 16 | W21: 76 | X21: - | Y21: 76 | Z21: 71 | AA21: - | AB21: 71 | AC21: … | AD21: - | AE21: 17 | AF21: 80 | AG21: - | AH21: 80 | AI21: 163 | AJ21: - | AK21: 163 | AL21: … | AM21: - | AN21: 21 | AO21: 144 | AP21: - | AQ21: 144 | AR21: 186 | AS21: - | AT21: 186 | AU21: … | AV21: … | AW21: … | AX21: … | AY21: … | AZ21: … | BA21: … | BB21: … | BC21: … | BD21: … | BE21: - | BF21: 100 | BG21: 995 | BH21: - | BI21: 995 | BJ21: 636 | BK21: - | BL21: 636 | BM21: … | BN21: … | BO21: … | BP21: … | BQ21: … | BR21: … | BS21: … | BT21: … | BU21: … | BV21: … | BW21: … | BX21: … | BY21: … | BZ21: … | CA21: … | CB21: … | CC21: … | CD21: … | CE21: … | CF21: … | CG21: … | CH21: … | CI21: … | CJ21: … | CK21: … | CL21: … | CM21: … | CN21: … | CO21: … | CP21: … | CQ21: … | CR21: … | CS21: … | CT21: … | CU21: … | CV21: … | CW21: … | CX21: … | CY21: … | CZ21: … | DA21: … | DB21: … | DC21: … | DD21: … | DE21: … | DF21: … | DG21: - | DH21: 32 | DI21: 430 | DJ21: - | DK21: 430 | DL21: 2070 | DM21: - | DN21: 2070 | DO21: … | DP21: - | DQ21: 89 | DR21: 1490 | DS21: - | DT21: 1490 | DU21: 1950 | DV21: - | DW21: 1950 | DX21: … | DY21: 12 | DZ21: 22 | EA21: 271 | EB21: 58 | EC21: 213 | ED21: 386 | EE21: 73 | EF21: 313 | EG21: … | EH21: … | EI21: … | EJ21: … | EK21: … | EL21: … | EM21: … | EN21: … | EO21: …
A22: 平.元(1989) | B22: … | C22: … | D22: … | E22: … | F22: … | G22: … | H22: … | I22: … | J22: … | K22: … | L22: … | M22: … | N22: … | O22: … | P22: … | Q22: … | R22: … | S22: … | T22: … | U22: … | V22: … | W22: … | X22: … | Y22: … | Z22: … | AA22: … | AB22: … | AC22: … | AD22: … | AE22: … | AF22: … | AG22: … | AH22: … | AI22: … | AJ22: … | AK22: … | AL22: … | AM22: - | AN22: 14 | AO22: 148 | AP22: - | AQ22: 148 | AR22: 143 | AS22: - | AT22: 143 | AU22: … | AV22: … | AW22: … | AX22: … | AY22: … | AZ22: … | BA22: … | BB22: … | BC22: … | BD22: … | BE22: - | BF22: 90 | BG22: 826 | BH22: - | BI22: 826 | BJ22: 598 | BK22: - | BL22: 598 | BM22: … | BN22: … | BO22: … | BP22: … | BQ22: … | BR22: … | BS22: … | BT22: … | BU22: … | BV22: … | BW22: … | BX22: … | BY22: … | BZ22: … | CA22: … | CB22: … | CC22: … | CD22: … | CE22: … | CF22: … | CG22: … | CH22: … | CI22: … | CJ22: … | CK22: … | CL22: … | CM22: … | CN22: … | CO22: … | CP22: … | CQ22: … | CR22: … | CS22: … | CT22: … | CU22: … | CV22: … | CW22: … | CX22: … | CY22: … | CZ22: … | DA22: … | DB22: … | DC22: … | DD22: … | DE22: … | DF22: … | DG22: - | DH22: 29 | DI22: 439 | DJ22: - | DK22: 439 | DL22: 1920 | DM22: - | DN22: 1920 | DO22: … | DP22: x | DQ22: 90 | DR22: 1820 | DS22: 2 | DT22: 1820 | DU22: 2750 | DV22: 1 | DW22: 2750 | DX22: … | DY22: … | DZ22: … | EA22: … | EB22: … | EC22: … | ED22: … | EE22: … | EF22: … | EG22: … | EH22: … | EI22: … | EJ22: … | EK22: … | EL22: … | EM22: … | EN22: … | EO22: …
A23: 平.2(1990) | B23: 304 | C23: … | D23: … | E23: 4670 | F23: 67 | G23: 4600 | H23: 8390 | I23: 82 | J23: 8300 | K23: 8 | L23: … | M23: … | N23: 57 | O23: - | P23: 57 | Q23: 210 | R23: - | S23: 210 | T23: 19 | U23: … | V23: … | W23: 111 | X23: - | Y23: 111 | Z23: 101 | AA23: - | AB23: 101 | AC23: 26 | AD23: … | AE23: … | AF23: 140 | AG23: - | AH23: 140 | AI23: 275 | AJ23: - | AK23: 275 | AL23: 16 | AM23: … | AN23: … | AO23: 132 | AP23: 1 | AQ23: 131 | AR23: 179 | AS23: 2 | AT23: 177 | AU23: … | AV23: … | AW23: … | AX23: … | AY23: … | AZ23: … | BA23: … | BB23: … | BC23: … | BD23: … | BE23: … | BF23: … | BG23: … | BH23: … | BI23: … | BJ23: … | BK23: … | BL23: … | BM23: … | BN23: … | BO23: … | BP23: 976 | BQ23: 8 | BR23: 968 | BS23: 873 | BT23: 5 | BU23: 868 | BV23: 57 | BW23: … | BX23: … | BY23: 488 | BZ23: - | CA23: 488 | CB23: 268 | CC23: - | CD23: 268 | CE23: 15 | CF23: … | CG23: … | CH23: 138 | CI23: - | CJ23: 138 | CK23: 190 | CL23: - | CM23: 190 | CN23: … | CO23: … | CP23: … | CQ23: … | CR23: … | CS23: … | CT23: … | CU23: … | CV23: … | CW23: 30 | CX23: … | CY23: … | CZ23: 350 | DA23: 8 | DB23: 342 | DC23: 415 | DD23: 5 | DE23: 410 | DF23: 45 | DG23: … | DH23: … | DI23: 546 | DJ23: - | DK23: 546 | DL23: 2810 | DM23: - | DN23: 2810 | DO23: 77 | DP23: … | DQ23: … | DR23: 1800 | DS23: 20 | DT23: 1780 | DU23: 1980 | DV23: 5 | DW23: 1980 | DX23: 25 | DY23: … | DZ23: … | EA23: 285 | EB23: 6 | EC23: 279 | ED23: 411 | EE23: 6 | EF23: 405 | EG23: 50 | EH23: … | EI23: … | EJ23: 620 | EK23: 32 | EL23: 588 | EM23: 1550 | EN23: 64 | EO23: 1480
A24: 平.3(1991) | B24: 282 | C24: … | D24: … | E24: 5730 | F24: 467 | G24: 5260 | H24: 8810 | I24: 605 | J24: 8210 | K24: 4 | L24: … | M24: … | N24: 158 | O24: 5 | P24: 153 | Q24: 207 | R24: 5 | S24: 202 | T24: 20 | U24: … | V24: … | W24: 109 | X24: - | Y24: 109 | Z24: 97 | AA24: - | AB24: 97 | AC24: 22 | AD24: … | AE24: … | AF24: 114 | AG24: - | AH24: 114 | AI24: 234 | AJ24: - | AK24: 234 | AL24: 16 | AM24: … | AN24: … | AO24: 148 | AP24: 1 | AQ24: 147 | AR24: 162 | AS24: 2 | AT24: 160 | AU24: … | AV24: … | AW24: … | AX24: … | AY24: … | AZ24: … | BA24: … | BB24: … | BC24: … | BD24: … | BE24: … | BF24: … | BG24: … | BH24: … | BI24: … | BJ24: … | BK24: … | BL24: … | BM24: … | BN24: … | BO24: … | BP24: 1200 | BQ24: - | BR24: 1200 | BS24: 1010 | BT24: - | BU24: 1010 | BV24: 62 | BW24: … | BX24: … | BY24: 614 | BZ24: - | CA24: 614 | CB24: 278 | CC24: - | CD24: 278 | CE24: 31 | CF24: … | CG24: … | CH24: 171 | CI24: - | CJ24: 171 | CK24: 158 | CL24: - | CM24: 158 | CN24: … | CO24: … | CP24: … | CQ24: … | CR24: … | CS24: … | CT24: … | CU24: … | CV24: … | CW24: 73 | CX24: … | CY24: … | CZ24: 411 | DA24: - | DB24: 411 | DC24: 571 | DD24: - | DE24: 571 | DF24: 36 | DG24: … | DH24: … | DI24: 535 | DJ24: 10 | DK24: 525 | DL24: 2000 | DM24: 5 | DN24: 1990 | DO24: 89 | DP24: … | DQ24: … | DR24: 1630 | DS24: 188 | DT24: 1440 | DU24: 2010 | DV24: 192 | DW24: 1810 | DX24: 64 | DY24: … | DZ24: … | EA24: 1030 | EB24: 198 | EC24: 832 | ED24: 1120 | EE24: 228 | EF24: 896 | EG24: 61 | EH24: … | EI24: … | EJ24: 812 | EK24: 65 | EL24: 747 | EM24: 1980 | EN24: 173 | EO24: 1810
A25: 平.4(1992) | B25: 337 | C25: … | D25: … | E25: 6600 | F25: 506 | G25: 6090 | H25: 9400 | I25: 496 | J25: 8900 | K25: 5 | L25: … | M25: … | N25: 170 | O25: 5 | P25: 165 | Q25: 219 | R25: 5 | S25: 214 | T25: 24 | U25: … | V25: … | W25: 144 | X25: - | Y25: 144 | Z25: 137 | AA25: - | AB25: 137 | AC25: 24 | AD25: … | AE25: … | AF25: 139 | AG25: - | AH25: 139 | AI25: 368 | AJ25: - | AK25: 368 | AL25: 13 | AM25: … | AN25: … | AO25: 186 | AP25: - | AQ25: 186 | AR25: 180 | AS25: - | AT25: 180 | AU25: … | AV25: … | AW25: … | AX25: … | AY25: … | AZ25: … | BA25: … | BB25: … | BC25: … | BD25: … | BE25: … | BF25: … | BG25: … | BH25: … | BI25: … | BJ25: … | BK25: … | BL25: … | BM25: … | BN25: … | BO25: … | BP25: 1390 | BQ25: - | BR25: 1390 | BS25: 1070 | BT25: - | BU25: 1070 | BV25: 64 | BW25: … | BX25: … | BY25: 712 | BZ25: - | CA25: 712 | CB25: 339 | CC25: - | CD25: 339 | CE25: 30 | CF25: … | CG25: … | CH25: 196 | CI25: - | CJ25: 196 | CK25: 199 | CL25: - | CM25: 199 | CN25: … | CO25: … | CP25: … | CQ25: … | CR25: … | CS25: … | CT25: … | CU25: … | CV25: … | CW25: 66 | CX25: … | CY25: … | CZ25: 478 | DA25: - | DB25: 478 | DC25: 531 | DD25: - | DE25: 531 | DF25: 37 | DG25: … | DH25: … | DI25: 504 | DJ25: - | DK25: 504 | DL25: 1330 | DM25: - | DN25: 1330 | DO25: 88 | DP25: … | DQ25: … | DR25: 1810 | DS25: 6 | DT25: 1810 | DU25: 2350 | DV25: 4 | DW25: 2340 | DX25: 69 | DY25: … | DZ25: … | EA25: 1140 | EB25: 421 | EC25: 723 | ED25: 1050 | EE25: 349 | EF25: 699 | EG25: 88 | EH25: … | EI25: … | EJ25: 1110 | EK25: 74 | EL25: 1040 | EM25: 2700 | EN25: 138 | EO25: 2560
A26: 平.5(1993) | B26: 348 | C26: … | D26: … | E26: 6680 | F26: 514 | G26: 6160 | H26: 9600 | I26: 478 | J26: 9120 | K26: 3 | L26: … | M26: … | N26: 162 | O26: - | P26: 162 | Q26: 220 | R26: - | S26: 220 | T26: 25 | U26: … | V26: … | W26: 142 | X26: - | Y26: 142 | Z26: 132 | AA26: - | AB26: 132 | AC26: 22 | AD26: … | AE26: … | AF26: 137 | AG26: - | AH26: 137 | AI26: 375 | AJ26: - | AK26: 375 | AL26: 13 | AM26: … | AN26: … | AO26: 141 | AP26: - | AQ26: 141 | AR26: 152 | AS26: - | AT26: 152 | AU26: … | AV26: … | AW26: … | AX26: … | AY26: … | AZ26: … | BA26: … | BB26: … | BC26: … | BD26: … | BE26: … | BF26: … | BG26: … | BH26: … | BI26: … | BJ26: … | BK26: … | BL26: … | BM26: … | BN26: … | BO26: … | BP26: 1480 | BQ26: - | BR26: 1480 | BS26: 1210 | BT26: - | BU26: 1210 | BV26: 60 | BW26: … | BX26: … | BY26: 730 | BZ26: - | CA26: 730 | CB26: 324 | CC26: - | CD26: 324 | CE26: 29 | CF26: … | CG26: … | CH26: 204 | CI26: - | CJ26: 204 | CK26: 196 | CL26: - | CM26: 196 | CN26: … | CO26: … | CP26: … | CQ26: … | CR26: … | CS26: … | CT26: … | CU26: … | CV26: … | CW26: 79 | CX26: … | CY26: … | CZ26: 542 | DA26: - | DB26: 542 | DC26: 685 | DD26: - | DE26: 685 | DF26: 34 | DG26: … | DH26: … | DI26: 594 | DJ26: - | DK26: 594 | DL26: 2040 | DM26: - | DN26: 2040 | DO26: 97 | DP26: … | DQ26: … | DR26: 1900 | DS26: 3 | DT26: 1890 | DU26: 2240 | DV26: 3 | DW26: 2240 | DX26: 66 | DY26: … | DZ26: … | EA26: 1240 | EB26: 450 | EC26: 785 | ED26: 1460 | EE26: 294 | EF26: 1170 | EG26: 82 | EH26: … | EI26: … | EJ26: 896 | EK26: 61 | EL26: 835 | EM26: 1770 | EN26: 181 | EO26: 1590
A27: 平.6(1994) | B27: 398 | C27: … | D27: … | E27: 7990 | F27: 961 | G27: 7030 | H27: 12400 | I27: 514 | J27: 11900 | K27: 3 | L27: … | M27: … | N27: 160 | O27: - | P27: 160 | Q27: 212 | R27: - | S27: 212 | T27: 20 | U27: … | V27: … | W27: 137 | X27: - | Y27: 137 | Z27: 135 | AA27: - | AB27: 135 | AC27: 19 | AD27: … | AE27: … | AF27: 115 | AG27: - | AH27: 115 | AI27: 310 | AJ27: - | AK27: 310 | AL27: 10 | AM27: … | AN27: … | AO27: 157 | AP27: - | AQ27: 157 | AR27: 146 | AS27: - | AT27: 146 | AU27: … | AV27: … | AW27: … | AX27: … | AY27: … | AZ27: … | BA27: … | BB27: … | BC27: … | BD27: … | BE27: … | BF27: … | BG27: … | BH27: … | BI27: … | BJ27: … | BK27: … | BL27: … | BM27: … | BN27: … | BO27: … | BP27: 1580 | BQ27: - | BR27: 1580 | BS27: 1450 | BT27: - | BU27: 1450 | BV27: 62 | BW27: … | BX27: … | BY27: 726 | BZ27: - | CA27: 726 | CB27: 324 | CC27: - | CD27: 324 | CE27: 30 | CF27: … | CG27: … | CH27: 218 | CI27: - | CJ27: 218 | CK27: 238 | CL27: - | CM27: 238 | CN27: … | CO27: … | CP27: … | CQ27: … | CR27: … | CS27: … | CT27: … | CU27: … | CV27: … | CW27: 96 | CX27: … | CY27: … | CZ27: 640 | DA27: - | DB27: 640 | DC27: 887 | DD27: - | DE27: 887 | DF27: 34 | DG27: … | DH27: … | DI27: 532 | DJ27: - | DK27: 532 | DL27: 2090 | DM27: - | DN27: 2090 | DO27: 111 | DP27: … | DQ27: … | DR27: 2170 | DS27: 75 | DT27: 2100 | DU27: 2600 | DV27: 28 | DW27: 2580 | DX27: 88 | DY27: … | DZ27: … | EA27: 1950 | EB27: 743 | EC27: 1200 | ED27: 1890 | EE27: 352 | EF27: 1530 | EG27: 81 | EH27: … | EI27: … | EJ27: 1190 | EK27: 143 | EL27: 1050 | EM27: 3550 | EN27: 134 | EO27: 3420
A28: 平.7(1995) | B28: … | C28: … | D28: … | E28: … | F28: … | G28: … | H28: … | I28: … | J28: … | K28: … | L28: … | M28: … | N28: … | O28: … | P28: … | Q28: … | R28: … | S28: … | T28: 22 | U28: … | V28: … | W28: 124 | X28: - | Y28: 124 | Z28: 123 | AA28: - | AB28: 123 | AC28: 21 | AD28: … | AE28: … | AF28: 124 | AG28: - | AH28: 124 | AI28: 338 | AJ28: - | AK28: 338 | AL28: 11 | AM28: … | AN28: … | AO28: 161 | AP28: - | AQ28: 161 | AR28: 131 | AS28: - | AT28: 131 | AU28: … | AV28: … | AW28: … | AX28: … | AY28: … | AZ28: … | BA28: … | BB28: … | BC28: … | BD28: … | BE28: … | BF28: … | BG28: … | BH28: … | BI28: … | BJ28: … | BK28: … | BL28: … | BM28: … | BN28: … | BO28: … | BP28: 1510 | BQ28: - | BR28: 1510 | BS28: 1340 | BT28: - | BU28: 1340 | BV28: 58 | BW28: … | BX28: … | BY28: 662 | BZ28: - | CA28: 662 | CB28: 297 | CC28: - | CD28: 297 | CE28: 30 | CF28: … | CG28: … | CH28: 204 | CI28: - | CJ28: 204 | CK28: 209 | CL28: - | CM28: 209 | CN28: … | CO28: … | CP28: … | CQ28: … | CR28: … | CS28: … | CT28: … | CU28: … | CV28: … | CW28: 94 | CX28: … | CY28: … | CZ28: 639 | DA28: - | DB28: 639 | DC28: 835 | DD28: - | DE28: 835 | DF28: 35 | DG28: … | DH28: … | DI28: 568 | DJ28: - | DK28: 568 | DL28: 2140 | DM28: - | DN28: 2140 | DO28: 120 | DP28: … | DQ28: … | DR28: 2310 | DS28: 164 | DT28: 2140 | DU28: 2700 | DV28: 61 | DW28: 2640 | DX28: 91 | DY28: … | DZ28: … | EA28: 2000 | EB28: 880 | EC28: 1120 | ED28: 2190 | EE28: 471 | EF28: 1720 | EG28: 90 | EH28: … | EI28: … | EJ28: 1260 | EK28: 134 | EL28: 1120 | EM28: 3760 | EN28: 140 | EO28: 3620
A29: 平.8(1996) | B29: … | C29: … | D29: … | E29: … | F29: … | G29: … | H29: … | I29: … | J29: … | K29: … | L29: … | M29: … | N29: … | O29: … | P29: … | Q29: … | R29: … | S29: … | T29: 22 | U29: … | V29: … | W29: 115 | X29: - | Y29: 115 | Z29: 104 | AA29: - | AB29: 104 | AC29: 23 | AD29: … | AE29: … | AF29: 129 | AG29: - | AH29: 129 | AI29: 317 | AJ29: - | AK29: 317 | AL29: 10 | AM29: … | AN29: … | AO29: 175 | AP29: - | AQ29: 175 | AR29: 204 | AS29: - | AT29: 204 | AU29: … | AV29: … | AW29: … | AX29: … | AY29: … | AZ29: … | BA29: … | BB29: … | BC29: … | BD29: … | BE29: … | BF29: … | BG29: … | BH29: … | BI29: … | BJ29: … | BK29: … | BL29: … | BM29: … | BN29: … | BO29: … | BP29: 1420 | BQ29: - | BR29: 1420 | BS29: 1400 | BT29: - | BU29: 1400 | BV29: 52 | BW29: … | BX29: … | BY29: 569 | BZ29: - | CA29: 569 | CB29: 256 | CC29: - | CD29: 256 | CE29: 30 | CF29: … | CG29: … | CH29: 195 | CI29: - | CJ29: 195 | CK29: 209 | CL29: - | CM29: 209 | CN29: … | CO29: … | CP29: … | CQ29: … | CR29: … | CS29: … | CT29: … | CU29: … | CV29: … | CW29: 89 | CX29: … | CY29: … | CZ29: 660 | DA29: - | DB29: 660 | DC29: 932 | DD29: - | DE29: 932 | DF29: 26 | DG29: … | DH29: … | DI29: 357 | DJ29: - | DK29: 357 | DL29: 1720 | DM29: - | DN29: 1720 | DO29: 117 | DP29: … | DQ29: … | DR29: 2340 | DS29: 187 | DT29: 2150 | DU29: 3490 | DV29: 75 | DW29: 3420 | DX29: 84 | DY29: … | DZ29: … | EA29: 2020 | EB29: 852 | EC29: 1170 | ED29: 2250 | EE29: 440 | EF29: 1810 | EG29: 89 | EH29: … | EI29: … | EJ29: 1230 | EK29: 143 | EL29: 1090 | EM29: 3700 | EN29: 275 | EO29: 3420
A30: 平.9(1997) | B30: 389 | C30: … | D30: … | E30: 8120 | F30: 1390 | G30: 6730 | H30: 13800 | I30: 1130 | J30: 12600 | K30: x | L30: … | M30: … | N30: x | O30: x | P30: x | Q30: x | R30: x | S30: x | T30: 23 | U30: … | V30: … | W30: 128 | X30: - | Y30: 128 | Z30: 130 | AA30: - | AB30: 130 | AC30: 27 | AD30: … | AE30: … | AF30: 140 | AG30: - | AH30: 140 | AI30: 341 | AJ30: - | AK30: 341 | AL30: 12 | AM30: … | AN30: … | AO30: 171 | AP30: - | AQ30: 171 | AR30: 205 | AS30: - | AT30: 205 | AU30: … | AV30: … | AW30: … | AX30: … | AY30: … | AZ30: … | BA30: … | BB30: … | BC30: … | BD30: … | BE30: … | BF30: … | BG30: … | BH30: … | BI30: … | BJ30: … | BK30: … | BL30: … | BM30: … | BN30: … | BO30: … | BP30: 1340 | BQ30: - | BR30: 1340 | BS30: 1330 | BT30: - | BU30: 1330 | BV30: 52 | BW30: … | BX30: … | BY30: 620 | BZ30: - | CA30: 620 | CB30: 248 | CC30: - | CD30: 248 | CE30: 30 | CF30: … | CG30: … | CH30: 183 | CI30: - | CJ30: 183 | CK30: 211 | CL30: - | CM30: 211 | CN30: … | CO30: … | CP30: … | CQ30: … | CR30: … | CS30: … | CT30: … | CU30: … | CV30: … | CW30: 92 | CX30: … | CY30: … | CZ30: 539 | DA30: - | DB30: 539 | DC30: 871 | DD30: - | DE30: 871 | DF30: 25 | DG30: … | DH30: … | DI30: 355 | DJ30: - | DK30: 355 | DL30: 1250 | DM30: - | DN30: 1250 | DO30: 115 | DP30: … | DQ30: … | DR30: 2300 | DS30: 221 | DT30: 2080 | DU30: 3560 | DV30: 83 | DW30: 3480 | DX30: 92 | DY30: … | DZ30: … | EA30: 2240 | EB30: 995 | EC30: 1240 | ED30: 2400 | EE30: 455 | EF30: 1940 | EG30: 103 | EH30: … | EI30: … | EJ30: 1310 | EK30: 173 | EL30: 1130 | EM30: 4330 | EN30: 594 | EO30: 3730
A31: 平.10(1998) | B31: … | C31: … | D31: … | E31: … | F31: … | G31: … | H31: … | I31: … | J31: … | K31: … | L31: … | M31: … | N31: … | O31: … | P31: … | Q31: … | R31: … | S31: … | T31: 21 | U31: … | V31: … | W31: 113 | X31: - | Y31: 113 | Z31: 101 | AA31: - | AB31: 101 | AC31: 24 | AD31: … | AE31: … | AF31: 140 | AG31: - | AH31: 140 | AI31: 337 | AJ31: - | AK31: 337 | AL31: 9 | AM31: … | AN31: … | AO31: 155 | AP31: - | AQ31: 155 | AR31: 246 | AS31: - | AT31: 246 | AU31: … | AV31: … | AW31: … | AX31: … | AY31: … | AZ31: … | BA31: … | BB31: … | BC31: … | BD31: … | BE31: … | BF31: … | BG31: … | BH31: … | BI31: … | BJ31: … | BK31: … | BL31: … | BM31: … | BN31: … | BO31: … | BP31: 1400 | BQ31: - | BR31: 1400 | BS31: 1330 | BT31: - | BU31: 1330 | BV31: 49 | BW31: … | BX31: … | BY31: 615 | BZ31: - | CA31: 615 | CB31: 236 | CC31: - | CD31: 236 | CE31: 29 | CF31: … | CG31: … | CH31: 199 | CI31: - | CJ31: 199 | CK31: 214 | CL31: - | CM31: 214 | CN31: … | CO31: … | CP31: … | CQ31: … | CR31: … | CS31: … | CT31: … | CU31: … | CV31: … | CW31: 93 | CX31: … | CY31: … | CZ31: 588 | DA31: - | DB31: 588 | DC31: 883 | DD31: - | DE31: 883 | DF31: 23 | DG31: … | DH31: … | DI31: 433 | DJ31: - | DK31: 433 | DL31: 1310 | DM31: - | DN31: 1310 | DO31: 113 | DP31: … | DQ31: … | DR31: 2470 | DS31: 109 | DT31: 2360 | DU31: 4250 | DV31: 42 | DW31: 4210 | DX31: 102 | DY31: … | DZ31: … | EA31: 2190 | EB31: 652 | EC31: 1540 | ED31: 2430 | EE31: 368 | EF31: 2060 | EG31: 96 | EH31: … | EI31: … | EJ31: 1440 | EK31: 195 | EL31: 1240 | EM31: 5410 | EN31: 790 | EO31: 4620
A32: 平.11(1999) | B32: 39 | C32: … | D32: … | E32: 8520 | F32: 898 | G32: 7620 | H32: 15400 | I32: 1240 | J32: 14200 | K32: … | L32: … | M32: … | N32: … | O32: … | P32: … | Q32: … | R32: … | S32: … | T32: 2 | U32: … | V32: … | W32: 120 | X32: - | Y32: 120 | Z32: 132 | AA32: - | AB32: 132 | AC32: 2 | AD32: … | AE32: … | AF32: 103 | AG32: - | AH32: 103 | AI32: 246 | AJ32: - | AK32: 246 | AL32: … | AM32: … | AN32: … | AO32: … | AP32: … | AQ32: … | AR32: … | AS32: … | AT32: … | AU32: … | AV32: … | AW32: … | AX32: … | AY32: … | AZ32: … | BA32: … | BB32: … | BC32: … | BD32: … | BE32: … | BF32: … | BG32: … | BH32: … | BI32: … | BJ32: … | BK32: … | BL32: … | BM32: … | BN32: … | BO32: … | BP32: 1390 | BQ32: - | BR32: 1390 | BS32: 1260 | BT32: - | BU32: 1260 | BV32: 5 | BW32: … | BX32: … | BY32: 609 | BZ32: - | CA32: 609 | CB32: 216 | CC32: - | CD32: 216 | CE32: 3 | CF32: … | CG32: … | CH32: 208 | CI32: - | CJ32: 208 | CK32: 230 | CL32: - | CM32: 230 | CN32: … | CO32: … | CP32: … | CQ32: … | CR32: … | CS32: … | CT32: … | CU32: … | CV32: … | CW32: 9 | CX32: … | CY32: … | CZ32: 570 | DA32: - | DB32: 570 | DC32: 814 | DD32: - | DE32: 814 | DF32: 3 | DG32: … | DH32: … | DI32: 429 | DJ32: 3 | DK32: 426 | DL32: 1290 | DM32: 3 | DN32: 1290 | DO32: 11 | DP32: … | DQ32: … | DR32: 2230 | DS32: 97 | DT32: 2130 | DU32: 3740 | DV32: 40 | DW32: 3700 | DX32: 10 | DY32: … | DZ32: … | EA32: 2170 | EB32: 609 | EC32: 1560 | ED32: 2620 | EE32: 442 | EF32: 2180 | EG32: … | EH32: … | EI32: … | EJ32: … | EK32: … | EL32: … | EM32: … | EN32: … | EO32: …
A33: 平.12(2000) | B33: 39 | C33: … | D33: … | E33: 8720 | F33: 804 | G33: 7920 | H33: 15800 | I33: 955 | J33: 14900 | K33: … | L33: … | M33: … | N33: … | O33: … | P33: … | Q33: … | R33: … | S33: … | T33: 2 | U33: … | V33: … | W33: 97 | X33: - | Y33: 97 | Z33: 103 | AA33: - | AB33: 103 | AC33: 2 | AD33: … | AE33: … | AF33: 100 | AG33: - | AH33: 100 | AI33: 256 | AJ33: - | AK33: 256 | AL33: … | AM33: … | AN33: … | AO33: … | AP33: … | AQ33: … | AR33: … | AS33: … | AT33: … | AU33: … | AV33: … | AW33: … | AX33: … | AY33: … | AZ33: … | BA33: … | BB33: … | BC33: … | BD33: … | BE33: … | BF33: … | BG33: … | BH33: … | BI33: … | BJ33: … | BK33: … | BL33: … | BM33: … | BN33: … | BO33: … | BP33: 1740 | BQ33: - | BR33: 1740 | BS33: 1480 | BT33: - | BU33: 1480 | BV33: 5 | BW33: … | BX33: … | BY33: 651 | BZ33: - | CA33: 651 | CB33: 212 | CC33: - | CD33: 212 | CE33: 3 | CF33: … | CG33: … | CH33: 290 | CI33: - | CJ33: 290 | CK33: 243 | CL33: - | CM33: 243 | CN33: … | CO33: … | CP33: … | CQ33: … | CR33: … | CS33: … | CT33: … | CU33: … | CV33: … | CW33: 9 | CX33: … | CY33: … | CZ33: 800 | DA33: - | DB33: 800 | DC33: 1030 | DD33: - | DE33: 1030 | DF33: 3 | DG33: … | DH33: … | DI33: 454 | DJ33: 23 | DK33: 431 | DL33: 1130 | DM33: 8 | DN33: 1120 | DO33: 11 | DP33: … | DQ33: … | DR33: 2340 | DS33: 54 | DT33: 2280 | DU33: 4510 | DV33: 35 | DW33: 4480 | DX33: 10 | DY33: … | DZ33: … | EA33: 2080 | EB33: 631 | EC33: 1450 | ED33: 2310 | EE33: 489 | EF33: 1820 | EG33: … | EH33: … | EI33: … | EJ33: … | EK33: … | EL33: … | EM33: … | EN33: … | EO33: …
A34: 平.13(2001) | B34: 37 | C34: … | D34: … | E34: 8560 | F34: 799 | G34: 7760 | H34: 16600 | I34: 1030 | J34: 15600 | K34: … | L34: … | M34: … | N34: … | O34: … | P34: … | Q34: … | R34: … | S34: … | T34: 2 | U34: … | V34: … | W34: 93 | X34: - | Y34: 93 | Z34: 95 | AA34: - | AB34: 95 | AC34: 2 | AD34: … | AE34: … | AF34: 94 | AG34: - | AH34: 94 | AI34: 262 | AJ34: - | AK34: 262 | AL34: … | AM34: … | AN34: … | AO34: … | AP34: … | AQ34: … | AR34: … | AS34: … | AT34: … | AU34: … | AV34: … | AW34: … | AX34: … | AY34: … | AZ34: … | BA34: … | BB34: … | BC34: … | BD34: … | BE34: … | BF34: … | BG34: … | BH34: … | BI34: … | BJ34: … | BK34: … | BL34: … | BM34: … | BN34: … | BO34: … | BP34: 1670 | BQ34: - | BR34: 1670 | BS34: 1480 | BT34: - | BU34: 1480 | BV34: 5 | BW34: … | BX34: … | BY34: 670 | BZ34: - | CA34: 670 | CB34: 211 | CC34: - | CD34: 211 | CE34: 3 | CF34: … | CG34: … | CH34: 282 | CI34: - | CJ34: 282 | CK34: 270 | CL34: - | CM34: 270 | CN34: … | CO34: … | CP34: … | CQ34: … | CR34: … | CS34: … | CT34: … | CU34: … | CV34: … | CW34: 9 | CX34: … | CY34: … | CZ34: 715 | DA34: - | DB34: 715 | DC34: 1000 | DD34: - | DE34: 1000 | DF34: 3 | DG34: … | DH34: … | DI34: x | DJ34: x | DK34: x | DL34: x | DM34: x | DN34: x | DO34: 11 | DP34: … | DQ34: … | DR34: 2300 | DS34: 56 | DT34: 2250 | DU34: 4940 | DV34: 48 | DW34: 4900 | DX34: 10 | DY34: … | DZ34: … | EA34: 1950 | EB34: 592 | EC34: 1360 | ED34: 2600 | EE34: 485 | EF34: 2120 | EG34: … | EH34: … | EI34: … | EJ34: … | EK34: … | EL34: … | EM34: … | EN34: … | EO34: …
A35: 平.14(2002) | B35: 361 | C35: … | D35: … | E35: 8700 | F35: … | G35: … | H35: 17000 | I35: … | J35: 16000 | K35: … | L35: … | M35: … | N35: … | O35: … | P35: … | Q35: … | R35: … | S35: … | T35: 15 | U35: … | V35: … | W35: 78 | X35: … | Y35: … | Z35: 66 | AA35: … | AB35: 66 | AC35: 16 | AD35: … | AE35: … | AF35: 86 | AG35: … | AH35: … | AI35: 186 | AJ35: … | AK35: 185 | AL35: … | AM35: … | AN35: … | AO35: … | AP35: … | AQ35: … | AR35: … | AS35: … | AT35: … | AU35: … | AV35: … | AW35: … | AX35: … | AY35: … | AZ35: … | BA35: … | BB35: … | BC35: … | BD35: … | BE35: … | BF35: … | BG35: … | BH35: … | BI35: … | BJ35: … | BK35: … | BL35: … | BM35: … | BN35: … | BO35: … | BP35: 1560 | BQ35: … | BR35: … | BS35: 1420 | BT35: … | BU35: 1420 | BV35: 42 | BW35: … | BX35: … | BY35: 614 | BZ35: … | CA35: … | CB35: 196 | CC35: … | CD35: 196 | CE35: 25 | CF35: … | CG35: … | CH35: 283 | CI35: … | CJ35: … | CK35: 293 | CL35: … | CM35: 293 | CN35: … | CO35: … | CP35: … | CQ35: … | CR35: … | CS35: … | CT35: … | CU35: … | CV35: … | CW35: 84 | CX35: … | CY35: … | CZ35: 659 | DA35: … | DB35: … | DC35: 928 | DD35: … | DE35: 928 | DF35: 27 | DG35: … | DH35: … | DI35: 459 | DJ35: … | DK35: … | DL35: 1160 | DM35: … | DN35: 1150 | DO35: 109 | DP35: … | DQ35: … | DR35: 2400 | DS35: … | DT35: … | DU35: 5200 | DV35: … | DW35: 5160 | DX35: 92 | DY35: … | DZ35: … | EA35: 2070 | EB35: … | EC35: … | ED35: 2700 | EE35: … | EF35: 2180 | EG35: … | EH35: … | EI35: … | EJ35: … | EK35: … | EL35: … | EM35: … | EN35: … | EO35: …
A36: 平.15(2003) | B36: 366 | C36: … | D36: … | E36: 8850 | F36: … | G36: … | H36: 18600 | I36: … | J36: 17300 | K36: … | L36: … | M36: … | N36: … | O36: … | P36: … | Q36: … | R36: … | S36: … | T36: 11 | U36: … | V36: … | W36: 51 | X36: … | Y36: … | Z36: 88 | AA36: … | AB36: 88 | AC36: 12 | AD36: … | AE36: … | AF36: 55 | AG36: … | AH36: … | AI36: 115 | AJ36: … | AK36: 115 | AL36: … | AM36: … | AN36: … | AO36: … | AP36: … | AQ36: … | AR36: … | AS36: … | AT36: … | AU36: … | AV36: … | AW36: … | AX36: … | AY36: … | AZ36: … | BA36: … | BB36: … | BC36: … | BD36: … | BE36: … | BF36: … | BG36: … | BH36: … | BI36: … | BJ36: … | BK36: … | BL36: … | BM36: … | BN36: … | BO36: … | BP36: 1490 | BQ36: … | BR36: … | BS36: 1430 | BT36: … | BU36: 1430 | BV36: 41 | BW36: … | BX36: … | BY36: 606 | BZ36: … | CA36: … | CB36: 213 | CC36: … | CD36: 213 | CE36: 24 | CF36: … | CG36: … | CH36: 311 | CI36: … | CJ36: … | CK36: 309 | CL36: … | CM36: 309 | CN36: … | CO36: … | CP36: … | CQ36: … | CR36: … | CS36: … | CT36: … | CU36: … | CV36: … | CW36: 79 | CX36: … | CY36: … | CZ36: 571 | DA36: … | DB36: … | DC36: 906 | DD36: … | DE36: 904 | DF36: 27 | DG36: … | DH36: … | DI36: 487 | DJ36: … | DK36: … | DL36: 1370 | DM36: … | DN36: 1360 | DO36: 100 | DP36: … | DQ36: … | DR36: 2510 | DS36: … | DT36: … | DU36: 5240 | DV36: … | DW36: 5180 | DX36: 87 | DY36: … | DZ36: … | EA36: 2120 | EB36: … | EC36: … | ED36: 3640 | EE36: … | EF36: 2990 | EG36: … | EH36: … | EI36: … | EJ36: … | EK36: … | EL36: … | EM36: … | EN36: … | EO36: …
A37: 平.16(2004) | B37: 345 | C37: … | D37: … | E37: 8480 | F37: … | G37: … | H37: 18400 | I37: … | J37: 17300 | K37: … | L37: … | M37: … | N37: … | O37: … | P37: … | Q37: … | R37: … | S37: … | T37: 8 | U37: … | V37: … | W37: 32 | X37: … | Y37: … | Z37: 40 | AA37: … | AB37: 40 | AC37: 9 | AD37: … | AE37: … | AF37: 34 | AG37: … | AH37: … | AI37: 107 | AJ37: … | AK37: 107 | AL37: 9 | AM37: … | AN37: … | AO37: 72 | AP37: … | AQ37: … | AR37: 74 | AS37: … | AT37: 74 | AU37: … | AV37: … | AW37: … | AX37: … | AY37: … | AZ37: … | BA37: … | BB37: … | BC37: … | BD37: … | BE37: … | BF37: … | BG37: … | BH37: … | BI37: … | BJ37: … | BK37: … | BL37: … | BM37: … | BN37: … | BO37: … | BP37: 1310 | BQ37: … | BR37: … | BS37: 988 | BT37: … | BU37: 987 | BV37: 38 | BW37: … | BX37: … | BY37: 562 | BZ37: … | CA37: … | CB37: 170 | CC37: … | CD37: 170 | CE37: 27 | CF37: … | CG37: … | CH37: 324 | CI37: … | CJ37: … | CK37: 276 | CL37: … | CM37: 276 | CN37: 8 | CO37: … | CP37: … | CQ37: 49 | CR37: … | CS37: … | CT37: 34 | CU37: … | CV37: 34 | CW37: 58 | CX37: … | CY37: … | CZ37: 373 | DA37: … | DB37: … | DC37: 508 | DD37: … | DE37: 507 | DF37: 28 | DG37: … | DH37: … | DI37: 448 | DJ37: … | DK37: … | DL37: 1500 | DM37: … | DN37: 1480 | DO37: 96 | DP37: … | DQ37: … | DR37: 2470 | DS37: … | DT37: … | DU37: 5240 | DV37: … | DW37: 5150 | DX37: 83 | DY37: … | DZ37: … | EA37: 2070 | EB37: … | EC37: … | ED37: 3410 | EE37: … | EF37: 2970 | EG37: … | EH37: … | EI37: … | EJ37: … | EK37: … | EL37: … | EM37: … | EN37: … | EO37: …
A38: 平.17(2005) | B38: 336 | C38: … | D38: … | E38: 8030 | F38: … | G38: … | H38: 18100 | I38: … | J38: 16900 | K38: … | L38: … | M38: … | N38: … | O38: … | P38: … | Q38: … | R38: … | S38: … | T38: … | U38: … | V38: … | W38: … | X38: … | Y38: … | Z38: … | AA38: … | AB38: … | AC38: … | AD38: … | AE38: … | AF38: … | AG38: … | AH38: … | AI38: … | AJ38: … | AK38: … | AL38: … | AM38: … | AN38: … | AO38: … | AP38: … | AQ38: … | AR38: … | AS38: … | AT38: … | AU38: … | AV38: … | AW38: … | AX38: … | AY38: … | AZ38: … | BA38: … | BB38: … | BC38: … | BD38: … | BE38: … | BF38: … | BG38: … | BH38: … | BI38: … | BJ38: … | BK38: … | BL38: … | BM38: … | BN38: … | BO38: … | BP38: 1140 | BQ38: … | BR38: … | BS38: 996 | BT38: … | BU38: 995 | BV38: 33 | BW38: … | BX38: … | BY38: 470 | BZ38: … | CA38: … | CB38: 149 | CC38: … | CD38: 149 | CE38: 26 | CF38: … | CG38: … | CH38: 242 | CI38: … | CJ38: … | CK38: 268 | CL38: … | CM38: 268 | CN38: 10 | CO38: … | CP38: … | CQ38: 129 | CR38: … | CS38: … | CT38: 333 | CU38: … | CV38: 333 | CW38: 57 | CX38: … | CY38: … | CZ38: 294 | DA38: … | DB38: … | DC38: 246 | DD38: … | DE38: 245 | DF38: 29 | DG38: … | DH38: … | DI38: 432 | DJ38: … | DK38: … | DL38: 1660 | DM38: … | DN38: 1650 | DO38: 99 | DP38: … | DQ38: … | DR38: 2390 | DS38: … | DT38: … | DU38: 5060 | DV38: … | DW38: 4930 | DX38: 87 | DY38: … | DZ38: … | EA38: 2060 | EB38: … | EC38: … | ED38: 3240 | EE38: … | EF38: 2760 | EG38: … | EH38: … | EI38: … | EJ38: … | EK38: … | EL38: … | EM38: … | EN38: … | EO38: …
A39: 平.18(2006) | B39: 315 | C39: … | D39: … | E39: 7620 | F39: … | G39: … | H39: 16900 | I39: … | J39: 15700 | K39: … | L39: … | M39: … | N39: … | O39: … | P39: … | Q39: … | R39: … | S39: … | T39: … | U39: … | V39: … | W39: … | X39: … | Y39: … | Z39: … | AA39: … | AB39: … | AC39: … | AD39: … | AE39: … | AF39: … | AG39: … | AH39: … | AI39: … | AJ39: … | AK39: … | AL39: … | AM39: … | AN39: … | AO39: … | AP39: … | AQ39: … | AR39: … | AS39: … | AT39: … | AU39: … | AV39: … | AW39: … | AX39: … | AY39: … | AZ39: … | BA39: … | BB39: … | BC39: … | BD39: … | BE39: … | BF39: … | BG39: … | BH39: … | BI39: … | BJ39: … | BK39: … | BL39: … | BM39: … | BN39: … | BO39: … | BP39: 1200 | BQ39: … | BR39: … | BS39: 1110 | BT39: … | BU39: 1110 | BV39: 32 | BW39: … | BX39: … | BY39: 428 | BZ39: … | CA39: … | CB39: 152 | CC39: … | CD39: 152 | CE39: 25 | CF39: … | CG39: … | CH39: 265 | CI39: … | CJ39: … | CK39: 263 | CL39: … | CM39: 263 | CN39: 10 | CO39: … | CP39: … | CQ39: 135 | CR39: … | CS39: … | CT39: 384 | CU39: … | CV39: 384 | CW39: 65 | CX39: … | CY39: … | CZ39: 374 | DA39: … | DB39: … | DC39: 313 | DD39: … | DE39: 312 | DF39: 27 | DG39: … | DH39: … | DI39: 459 | DJ39: … | DK39: … | DL39: 1910 | DM39: … | DN39: 1890 | DO39: 88 | DP39: … | DQ39: … | DR39: 2360 | DS39: … | DT39: … | DU39: 4860 | DV39: … | DW39: 4720 | DX39: 75 | DY39: … | DZ39: … | EA39: 1790 | EB39: … | EC39: … | ED39: 2960 | EE39: … | EF39: 2420 | EG39: … | EH39: … | EI39: … | EJ39: … | EK39: … | EL39: … | EM39: … | EN39: … | EO39: …
A40: 平.19(2007) | B40: … | C40: … | D40: … | E40: 6850 | F40: … | G40: … | H40: 17400 | I40: … | J40: … | K40: … | L40: … | M40: … | N40: … | O40: … | P40: … | Q40: … | R40: … | S40: … | T40: … | U40: … | V40: … | W40: 23 | X40: … | Y40: … | Z40: 34 | AA40: … | AB40: … | AC40: … | AD40: … | AE40: … | AF40: … | AG40: … | AH40: … | AI40: … | AJ40: … | AK40: … | AL40: … | AM40: … | AN40: … | AO40: … | AP40: … | AQ40: … | AR40: … | AS40: … | AT40: … | AU40: … | AV40: … | AW40: … | AX40: … | AY40: … | AZ40: … | BA40: … | BB40: … | BC40: … | BD40: … | BE40: … | BF40: … | BG40: … | BH40: … | BI40: … | BJ40: … | BK40: … | BL40: … | BM40: … | BN40: … | BO40: … | BP40: 1150 | BQ40: … | BR40: … | BS40: 1020 | BT40: … | BU40: … | BV40: … | BW40: … | BX40: … | BY40: … | BZ40: … | CA40: … | CB40: … | CC40: … | CD40: … | CE40: … | CF40: … | CG40: … | CH40: … | CI40: … | CJ40: … | CK40: … | CL40: … | CM40: … | CN40: … | CO40: … | CP40: … | CQ40: … | CR40: … | CS40: … | CT40: … | CU40: … | CV40: … | CW40: … | CX40: … | CY40: … | CZ40: … | DA40: … | DB40: … | DC40: … | DD40: … | DE40: … | DF40: … | DG40: … | DH40: … | DI40: … | DJ40: … | DK40: … | DL40: … | DM40: … | DN40: … | DO40: … | DP40: … | DQ40: … | DR40: 2500 | DS40: … | DT40: … | DU40: 4910 | DV40: … | DW40: … | DX40: … | DY40: … | DZ40: … | EA40: 1520 | EB40: … | EC40: … | ED40: 2660 | EE40: … | EF40: … | EG40: … | EH40: … | EI40: … | EJ40: … | EK40: … | EL40: … | EM40: … | EN40: … | EO40: …
A41: 平.20(2008) | B41: … | C41: … | D41: … | E41: 6600 | F41: … | G41: … | H41: 16400 | I41: … | J41: … | K41: … | L41: … | M41: … | N41: … | O41: … | P41: … | Q41: … | R41: … | S41: … | T41: … | U41: … | V41: … | W41: … | X41: … | Y41: … | Z41: … | AA41: … | AB41: … | AC41: … | AD41: … | AE41: … | AF41: … | AG41: … | AH41: … | AI41: … | AJ41: … | AK41: … | AL41: … | AM41: … | AN41: … | AO41: … | AP41: … | AQ41: … | AR41: … | AS41: … | AT41: … | AU41: … | AV41: … | AW41: … | AX41: … | AY41: … | AZ41: … | BA41: … | BB41: … | BC41: … | BD41: … | BE41: … | BF41: … | BG41: … | BH41: … | BI41: … | BJ41: … | BK41: … | BL41: … | BM41: … | BN41: … | BO41: … | BP41: 1110 | BQ41: … | BR41: … | BS41: 964 | BT41: … | BU41: … | BV41: … | BW41: … | BX41: … | BY41: … | BZ41: … | CA41: … | CB41: … | CC41: … | CD41: … | CE41: … | CF41: … | CG41: … | CH41: … | CI41: … | CJ41: … | CK41: … | CL41: … | CM41: … | CN41: … | CO41: … | CP41: … | CQ41: … | CR41: … | CS41: … | CT41: … | CU41: … | CV41: … | CW41: … | CX41: … | CY41: … | CZ41: … | DA41: … | DB41: … | DC41: … | DD41: … | DE41: … | DF41: … | DG41: … | DH41: … | DI41: … | DJ41: … | DK41: … | DL41: … | DM41: … | DN41: … | DO41: … | DP41: … | DQ41: … | DR41: 2320 | DS41: … | DT41: … | DU41: 4700 | DV41: … | DW41: … | DX41: … | DY41: … | DZ41: … | EA41: 1420 | EB41: … | EC41: … | ED41: 2540 | EE41: … | EF41: … | EG41: … | EH41: … | EI41: … | EJ41: … | EK41: … | EL41: … | EM41: … | EN41: … | EO41: …
A42: 平.21(2009) | B42: … | C42: … | D42: … | E42: 6200 | F42: … | G42: … | H42: 14900 | I42: … | J42: … | K42: … | L42: … | M42: … | N42: … | O42: … | P42: … | Q42: … | R42: … | S42: … | T42: … | U42: … | V42: … | W42: … | X42: … | Y42: … | Z42: … | AA42: … | AB42: … | AC42: … | AD42: … | AE42: … | AF42: … | AG42: … | AH42: … | AI42: … | AJ42: … | AK42: … | AL42: … | AM42: … | AN42: … | AO42: … | AP42: … | AQ42: … | AR42: … | AS42: … | AT42: … | AU42: … | AV42: … | AW42: … | AX42: … | AY42: … | AZ42: … | BA42: … | BB42: … | BC42: … | BD42: … | BE42: … | BF42: … | BG42: … | BH42: … | BI42: … | BJ42: … | BK42: … | BL42: … | BM42: … | BN42: … | BO42: … | BP42: 1090 | BQ42: … | BR42: … | BS42: 950 | BT42: … | BU42: … | BV42: … | BW42: … | BX42: … | BY42: … | BZ42: … | CA42: … | CB42: … | CC42: … | CD42: … | CE42: … | CF42: … | CG42: … | CH42: … | CI42: … | CJ42: … | CK42: … | CL42: … | CM42: … | CN42: … | CO42: … | CP42: … | CQ42: … | CR42: … | CS42: … | CT42: … | CU42: … | CV42: … | CW42: … | CX42: … | CY42: … | CZ42: … | DA42: … | DB42: … | DC42: … | DD42: … | DE42: … | DF42: … | DG42: … | DH42: … | DI42: … | DJ42: … | DK42: … | DL42: … | DM42: … | DN42: … | DO42: … | DP42: … | DQ42: … | DR42: 2180 | DS42: … | DT42: … | DU42: 4200 | DV42: … | DW42: … | DX42: … | DY42: … | DZ42: … | EA42: 1360 | EB42: … | EC42: … | ED42: 2370 | EE42: … | EF42: … | EG42: … | EH42: … | EI42: … | EJ42: … | EK42: … | EL42: … | EM42: … | EN42: … | EO42: …
A43: 平.22(2010) | B43: … | C43: … | D43: … | E43: 6320 | F43: … | G43: … | H43: 15100 | I43: … | J43: … | K43: … | L43: … | M43: … | N43: … | O43: … | P43: … | Q43: … | R43: … | S43: … | T43: … | U43: … | V43: … | W43: 20 | X43: … | Y43: … | Z43: 31 | AA43: … | AB43: … | AC43: … | AD43: … | AE43: … | AF43: … | AG43: … | AH43: … | AI43: … | AJ43: … | AK43: … | AL43: … | AM43: … | AN43: … | AO43: … | AP43: … | AQ43: … | AR43: … | AS43: … | AT43: … | AU43: … | AV43: … | AW43: … | AX43: … | AY43: … | AZ43: … | BA43: … | BB43: … | BC43: … | BD43: … | BE43: … | BF43: … | BG43: … | BH43: … | BI43: … | BJ43: … | BK43: … | BL43: … | BM43: … | BN43: … | BO43: … | BP43: 1110 | BQ43: … | BR43: … | BS43: 1020 | BT43: … | BU43: … | BV43: … | BW43: … | BX43: … | BY43: … | BZ43: … | CA43: … | CB43: … | CC43: … | CD43: … | CE43: … | CF43: … | CG43: … | CH43: … | CI43: … | CJ43: … | CK43: … | CL43: … | CM43: … | CN43: … | CO43: … | CP43: … | CQ43: … | CR43: … | CS43: … | CT43: … | CU43: … | CV43: … | CW43: … | CX43: … | CY43: … | CZ43: … | DA43: … | DB43: … | DC43: … | DD43: … | DE43: … | DF43: … | DG43: … | DH43: … | DI43: … | DJ43: … | DK43: … | DL43: … | DM43: … | DN43: … | DO43: … | DP43: … | DQ43: … | DR43: 2110 | DS43: … | DT43: … | DU43: 3950 | DV43: … | DW43: … | DX43: … | DY43: … | DZ43: … | EA43: 1380 | EB43: … | EC43: … | ED43: 2480 | EE43: … | EF43: … | EG43: … | EH43: … | EI43: … | EJ43: … | EK43: … | EL43: … | EM43: … | EN43: … | EO43: …
A44: 平.23(2011) | B44: … | C44: … | D44: … | E44: 6300 | F44: … | G44: … | H44: 13900 | I44: … | J44: … | K44: … | L44: … | M44: … | N44: … | O44: … | P44: … | Q44: … | R44: … | S44: … | T44: … | U44: … | V44: … | W44: … | X44: … | Y44: … | Z44: … | AA44: … | AB44: … | AC44: … | AD44: … | AE44: … | AF44: … | AG44: … | AH44: … | AI44: … | AJ44: … | AK44: … | AL44: … | AM44: … | AN44: … | AO44: … | AP44: … | AQ44: … | AR44: … | AS44: … | AT44: … | AU44: … | AV44: … | AW44: … | AX44: … | AY44: … | AZ44: … | BA44: … | BB44: … | BC44: … | BD44: … | BE44: … | BF44: … | BG44: … | BH44: … | BI44: … | BJ44: … | BK44: … | BL44: … | BM44: … | BN44: … | BO44: … | BP44: 1100 | BQ44: … | BR44: … | BS44: 1000 | BT44: … | BU44: … | BV44: … | BW44: … | BX44: … | BY44: … | BZ44: … | CA44: … | CB44: … | CC44: … | CD44: … | CE44: … | CF44: … | CG44: … | CH44: … | CI44: … | CJ44: … | CK44: … | CL44: … | CM44: … | CN44: … | CO44: … | CP44: … | CQ44: … | CR44: … | CS44: … | CT44: … | CU44: … | CV44: … | CW44: … | CX44: … | CY44: … | CZ44: … | DA44: … | DB44: … | DC44: … | DD44: … | DE44: … | DF44: … | DG44: … | DH44: … | DI44: … | DJ44: … | DK44: … | DL44: … | DM44: … | DN44: … | DO44: … | DP44: … | DQ44: … | DR44: 1960 | DS44: … | DT44: … | DU44: 3480 | DV44: … | DW44: … | DX44: … | DY44: … | DZ44: … | EA44: 1410 | EB44: … | EC44: … | ED44: 2540 | EE44: … | EF44: … | EG44: … | EH44: … | EI44: … | EJ44: … | EK44: … | EL44: … | EM44: … | EN44: … | EO44: …
A45: 平.24(2012) | B45: … | C45: … | D45: … | E45: 6260 | F45: … | G45: … | H45: 14000 | I45: … | J45: … | K45: … | L45: … | M45: … | N45: … | O45: … | P45: … | Q45: … | R45: … | S45: … | T45: … | U45: … | V45: … | W45: … | X45: … | Y45: … | Z45: … | AA45: … | AB45: … | AC45: … | AD45: … | AE45: … | AF45: … | AG45: … | AH45: … | AI45: … | AJ45: … | AK45: … | AL45: … | AM45: … | AN45: … | AO45: … | AP45: … | AQ45: … | AR45: … | AS45: … | AT45: … | AU45: … | AV45: … | AW45: … | AX45: … | AY45: … | AZ45: … | BA45: … | BB45: … | BC45: … | BD45: … | BE45: … | BF45: … | BG45: … | BH45: … | BI45: … | BJ45: … | BK45: … | BL45: … | BM45: … | BN45: … | BO45: … | BP45: 914 | BQ45: … | BR45: … | BS45: 929 | BT45: … | BU45: … | BV45: … | BW45: … | BX45: … | BY45: … | BZ45: … | CA45: … | CB45: … | CC45: … | CD45: … | CE45: … | CF45: … | CG45: … | CH45: … | CI45: … | CJ45: … | CK45: … | CL45: … | CM45: … | CN45: … | CO45: … | CP45: … | CQ45: … | CR45: … | CS45: … | CT45: … | CU45: … | CV45: … | CW45: … | CX45: … | CY45: … | CZ45: … | DA45: … | DB45: … | DC45: … | DD45: … | DE45: … | DF45: … | DG45: … | DH45: … | DI45: … | DJ45: … | DK45: … | DL45: … | DM45: … | DN45: … | DO45: … | DP45: … | DQ45: … | DR45: 2030 | DS45: … | DT45: … | DU45: 3510 | DV45: … | DW45: … | DX45: … | DY45: … | DZ45: … | EA45: 1530 | EB45: … | EC45: … | ED45: 2600 | EE45: … | EF45: … | EG45: … | EH45: … | EI45: … | EJ45: … | EK45: … | EL45: … | EM45: … | EN45: … | EO45: …
A46: 平.25(2013) | B46: … | C46: … | D46: … | E46: 6180 | F46: … | G46: … | H46: 14400 | I46: … | J46: … | K46: … | L46: … | M46: … | N46: … | O46: … | P46: … | Q46: … | R46: … | S46: … | T46: … | U46: … | V46: … | W46: 20 | X46: … | Y46: … | Z46: 30 | AA46: … | AB46: … | AC46: … | AD46: … | AE46: … | AF46: … | AG46: … | AH46: … | AI46: … | AJ46: … | AK46: … | AL46: … | AM46: … | AN46: … | AO46: … | AP46: … | AQ46: … | AR46: … | AS46: … | AT46: … | AU46: … | AV46: … | AW46: … | AX46: … | AY46: … | AZ46: … | BA46: … | BB46: … | BC46: … | BD46: … | BE46: … | BF46: … | BG46: … | BH46: … | BI46: … | BJ46: … | BK46: … | BL46: … | BM46: … | BN46: … | BO46: … | BP46: 896 | BQ46: … | BR46: … | BS46: 830 | BT46: … | BU46: … | BV46: … | BW46: … | BX46: … | BY46: … | BZ46: … | CA46: … | CB46: … | CC46: … | CD46: … | CE46: … | CF46: … | CG46: … | CH46: … | CI46: … | CJ46: … | CK46: … | CL46: … | CM46: … | CN46: … | CO46: … | CP46: … | CQ46: … | CR46: … | CS46: … | CT46: … | CU46: … | CV46: … | CW46: … | CX46: … | CY46: … | CZ46: … | DA46: … | DB46: … | DC46: … | DD46: … | DE46: … | DF46: … | DG46: … | DH46: … | DI46: … | DJ46: … | DK46: … | DL46: … | DM46: … | DN46: … | DO46: … | DP46: … | DQ46: … | DR46: 2110 | DS46: … | DT46: … | DU46: 3730 | DV46: … | DW46: … | DX46: … | DY46: … | DZ46: … | EA46: 1490 | EB46: … | EC46: … | ED46: 2690 | EE46: … | EF46: … | EG46: … | EH46: … | EI46: … | EJ46: … | EK46: … | EL46: … | EM46: … | EN46: … | EO46: …
A47: 平.26(2014) | B47: … | C47: … | D47: … | E47: 6280 | F47: … | G47: … | H47: 14400 | I47: … | J47: … | K47: … | L47: … | M47: … | N47: … | O47: … | P47: … | Q47: … | R47: … | S47: … | T47: … | U47: … | V47: … | W47: … | X47: … | Y47: … | Z47: … | AA47: … | AB47: … | AC47: … | AD47: … | AE47: … | AF47: … | AG47: … | AH47: … | AI47: … | AJ47: … | AK47: … | AL47: … | AM47: … | AN47: … | AO47: … | AP47: … | AQ47: … | AR47: … | AS47: … | AT47: … | AU47: … | AV47: … | AW47: … | AX47: … | AY47: … | AZ47: … | BA47: … | BB47: … | BC47: … | BD47: … | BE47: … | BF47: … | BG47: … | BH47: … | BI47: … | BJ47: … | BK47: … | BL47: … | BM47: … | BN47: … | BO47: … | BP47: 899 | BQ47: … | BR47: … | BS47: 828 | BT47: … | BU47: … | BV47: … | BW47: … | BX47: … | BY47: … | BZ47: … | CA47: … | CB47: … | CC47: … | CD47: … | CE47: … | CF47: … | CG47: … | CH47: … | CI47: … | CJ47: … | CK47: … | CL47: … | CM47: … | CN47: … | CO47: … | CP47: … | CQ47: … | CR47: … | CS47: … | CT47: … | CU47: … | CV47: … | CW47: … | CX47: … | CY47: … | CZ47: … | DA47: … | DB47: … | DC47: … | DD47: … | DE47: … | DF47: … | DG47: … | DH47: … | DI47: … | DJ47: … | DK47: … | DL47: … | DM47: … | DN47: … | DO47: … | DP47: … | DQ47: … | DR47: 2150 | DS47: … | DT47: … | DU47: 3760 | DV47: … | DW47: … | DX47: … | DY47: … | DZ47: … | EA47: 1490 | EB47: … | EC47: … | ED47: 2590 | EE47: … | EF47: … | EG47: … | EH47: … | EI47: … | EJ47: … | EK47: … | EL47: … | EM47: … | EN47: … | EO47: …
A48: 平.27(2015) | B48: … | C48: … | D48: … | E48: 5980 | F48: … | G48: … | H48: 13700 | I48: … | J48: … | K48: … | L48: … | M48: … | N48: … | O48: … | P48: … | Q48: … | R48: … | S48: … | T48: … | U48: … | V48: … | W48: … | X48: … | Y48: … | Z48: … | AA48: … | AB48: … | AC48: … | AD48: … | AE48: … | AF48: … | AG48: … | AH48: … | AI48: … | AJ48: … | AK48: … | AL48: … | AM48: … | AN48: … | AO48: … | AP48: … | AQ48: … | AR48: … | AS48: … | AT48: … | AU48: … | AV48: … | AW48: … | AX48: … | AY48: … | AZ48: … | BA48: … | BB48: … | BC48: … | BD48: … | BE48: … | BF48: … | BG48: … | BH48: … | BI48: … | BJ48: … | BK48: … | BL48: … | BM48: … | BN48: … | BO48: … | BP48: 879 | BQ48: … | BR48: … | BS48: 768 | BT48: … | BU48: … | BV48: … | BW48: … | BX48: … | BY48: … | BZ48: … | CA48: … | CB48: … | CC48: … | CD48: … | CE48: … | CF48: … | CG48: … | CH48: … | CI48: … | CJ48: … | CK48: … | CL48: … | CM48: … | CN48: … | CO48: … | CP48: … | CQ48: … | CR48: … | CS48: … | CT48: … | CU48: … | CV48: … | CW48: … | CX48: … | CY48: … | CZ48: … | DA48: … | DB48: … | DC48: … | DD48: … | DE48: … | DF48: … | DG48: … | DH48: … | DI48: … | DJ48: … | DK48: … | DL48: … | DM48: … | DN48: … | DO48: … | DP48: … | DQ48: … | DR48: 2060 | DS48: … | DT48: … | DU48: 3570 | DV48: … | DW48: … | DX48: … | DY48: … | DZ48: … | EA48: 1280 | EB48: … | EC48: … | ED48: 2370 | EE48: … | EF48: … | EG48: … | EH48: … | EI48: … | EJ48: … | EK48: … | EL48: … | EM48: … | EN48: … | EO48: …
A49: 平.28(2016) | B49: … | C49: … | D49: … | E49: 6180 | F49: … | G49: … | H49: 14400 | I49: … | J49: … | K49: … | L49: … | M49: … | N49: … | O49: … | P49: … | Q49: … | R49: … | S49: … | T49: … | U49: … | V49: … | W49: x | X49: … | Y49: … | Z49: x | AA49: … | AB49: … | AC49: … | AD49: … | AE49: … | AF49: … | AG49: … | AH49: … | AI49: … | AJ49: … | AK49: … | AL49: … | AM49: … | AN49: … | AO49: … | AP49: … | AQ49: … | AR49: … | AS49: … | AT49: … | AU49: … | AV49: … | AW49: … | AX49: … | AY49: … | AZ49: … | BA49: … | BB49: … | BC49: … | BD49: … | BE49: … | BF49: … | BG49: … | BH49: … | BI49: … | BJ49: … | BK49: … | BL49: … | BM49: … | BN49: … | BO49: … | BP49: 895 | BQ49: … | BR49: … | BS49: 791 | BT49: … | BU49: … | BV49: … | BW49: … | BX49: … | BY49: … | BZ49: … | CA49: … | CB49: … | CC49: … | CD49: … | CE49: … | CF49: … | CG49: … | CH49: … | CI49: … | CJ49: … | CK49: … | CL49: … | CM49: … | CN49: … | CO49: … | CP49: … | CQ49: … | CR49: … | CS49: … | CT49: … | CU49: … | CV49: … | CW49: … | CX49: … | CY49: … | CZ49: … | DA49: … | DB49: … | DC49: … | DD49: … | DE49: … | DF49: … | DG49: … | DH49: … | DI49: … | DJ49: … | DK49: … | DL49: … | DM49: … | DN49: … | DO49: … | DP49: … | DQ49: … | DR49: 2180 | DS49: … | DT49: … | DU49: 3620 | DV49: … | DW49: … | DX49: … | DY49: … | DZ49: … | EA49: 1290 | EB49: … | EC49: … | ED49: 2400 | EE49: … | EF49: … | EG49: … | EH49: … | EI49: … | EJ49: … | EK49: … | EL49: … | EM49: … | EN49: … | EO49: …
A50: 平.29(2017) | B50: … | C50: … | D50: … | E50: 6160 | F50: … | G50: … | H50: 14000 | I50: … | J50: … | K50: … | L50: … | M50: … | N50: … | O50: … | P50: … | Q50: … | R50: … | S50: … | T50: … | U50: … | V50: … | W50: … | X50: … | Y50: … | Z50: … | AA50: … | AB50: … | AC50: … | AD50: … | AE50: … | AF50: … | AG50: … | AH50: … | AI50: … | AJ50: … | AK50: … | AL50: … | AM50: … | AN50: … | AO50: … | AP50: … | AQ50: … | AR50: … | AS50: … | AT50: … | AU50: … | AV50: … | AW50: … | AX50: … | AY50: … | AZ50: … | BA50: … | BB50: … | BC50: … | BD50: … | BE50: … | BF50: … | BG50: … | BH50: … | BI50: … | BJ50: … | BK50: … | BL50: … | BM50: … | BN50: … | BO50: … | BP50: 886 | BQ50: … | BR50: … | BS50: 717 | BT50: … | BU50: … | BV50: … | BW50: … | BX50: … | BY50: … | BZ50: … | CA50: … | CB50: … | CC50: … | CD50: … | CE50: … | CF50: … | CG50: … | CH50: … | CI50: … | CJ50: … | CK50: … | CL50: … | CM50: … | CN50: … | CO50: … | CP50: … | CQ50: … | CR50: … | CS50: … | CT50: … | CU50: … | CV50: … | CW50: … | CX50: … | CY50: … | CZ50: … | DA50: … | DB50: … | DC50: … | DD50: … | DE50: … | DF50: … | DG50: … | DH50: … | DI50: … | DJ50: … | DK50: … | DL50: … | DM50: … | DN50: … | DO50: … | DP50: … | DQ50: … | DR50: 2180 | DS50: … | DT50: … | DU50: 4210 | DV50: … | DW50: … | DX50: … | DY50: … | DZ50: … | EA50: 1290 | EB50: … | EC50: … | ED50: 2330 | EE50: … | EF50: … | EG50: … | EH50: … | EI50: … | EJ50: … | EK50: … | EL50: … | EM50: … | EN50: … | EO50: …
A51: 平.30(2018) | B51: … | C51: … | D51: … | E51: 6160 | F51: … | G51: … | H51: 13500 | I51: … | J51: … | K51: … | L51: … | M51: … | N51: … | O51: … | P51: … | Q51: … | R51: … | S51: … | T51: … | U51: … | V51: … | W51: … | X51: … | Y51: … | Z51: … | AA51: … | AB51: … | AC51: … | AD51: … | AE51: … | AF51: … | AG51: … | AH51: … | AI51: … | AJ51: … | AK51: … | AL51: … | AM51: … | AN51: … | AO51: … | AP51: … | AQ51: … | AR51: … | AS51: … | AT51: … | AU51: … | AV51: … | AW51: … | AX51: … | AY51: … | AZ51: … | BA51: … | BB51: … | BC51: … | BD51: … | BE51: … | BF51: … | BG51: … | BH51: … | BI51: … | BJ51: … | BK51: … | BL51: … | BM51: … | BN51: … | BO51: … | BP51: 882 | BQ51: … | BR51: … | BS51: 687 | BT51: … | BU51: … | BV51: … | BW51: … | BX51: … | BY51: … | BZ51: … | CA51: … | CB51: … | CC51: … | CD51: … | CE51: … | CF51: … | CG51: … | CH51: … | CI51: … | CJ51: … | CK51: … | CL51: … | CM51: … | CN51: … | CO51: … | CP51: … | CQ51: … | CR51: … | CS51: … | CT51: … | CU51: … | CV51: … | CW51: … | CX51: … | CY51: … | CZ51: … | DA51: … | DB51: … | DC51: … | DD51: … | DE51: … | DF51: … | DG51: … | DH51: … | DI51: … | DJ51: … | DK51: … | DL51: … | DM51: … | DN51: … | DO51: … | DP51: … | DQ51: … | DR51: 2180 | DS51: … | DT51: … | DU51: 4400 | DV51: … | DW51: … | DX51: … | DY51: … | DZ51: … | EA51: 1290 | EB51: … | EC51: … | ED51: 2220 | EE51: … | EF51: … | EG51: … | EH51: … | EI51: … | EJ51: … | EK51: … | EL51: … | EM51: … | EN51: … | EO51: …
A52: 令.元(2019) | B52: … | C52: … | D52: … | E52: 6160 | F52: … | G52: … | H52: 13500 | I52: … | J52: … | K52: … | L52: … | M52: … | N52: … | O52: … | P52: … | Q52: … | R52: … | S52: … | T52: … | U52: … | V52: … | W52: x | X52: … | Y52: … | Z52: x | AA52: … | AB52: … | AC52: … | AD52: … | AE52: … | AF52: … | AG52: … | AH52: … | AI52: … | AJ52: … | AK52: … | AL52: … | AM52: … | AN52: … | AO52: … | AP52: … | AQ52: … | AR52: … | AS52: … | AT52: … | AU52: … | AV52: … | AW52: … | AX52: … | AY52: … | AZ52: … | BA52: … | BB52: … | BC52: … | BD52: … | BE52: … | BF52: … | BG52: … | BH52: … | BI52: … | BJ52: … | BK52: … | BL52: … | BM52: … | BN52: … | BO52: … | BP52: 867 | BQ52: … | BR52: … | BS52: 746 | BT52: … | BU52: … | BV52: … | BW52: … | BX52: … | BY52: … | BZ52: … | CA52: … | CB52: … | CC52: … | CD52: … | CE52: … | CF52: … | CG52: … | CH52: … | CI52: … | CJ52: … | CK52: … | CL52: … | CM52: … | CN52: … | CO52: … | CP52: … | CQ52: … | CR52: … | CS52: … | CT52: … | CU52: … | CV52: … | CW52: … | CX52: … | CY52: … | CZ52: … | DA52: … | DB52: … | DC52: … | DD52: … | DE52: … | DF52: … | DG52: … | DH52: … | DI52: … | DJ52: … | DK52: … | DL52: … | DM52: … | DN52: … | DO52: … | DP52: … | DQ52: … | DR52: 2180 | DS52: … | DT52: … | DU52: 4880 | DV52: … | DW52: … | DX52: … | DY52: … | DZ52: … | EA52: 1290 | EB52: … | EC52: … | ED52: 2220 | EE52: … | EF52: … | EG52: … | EH52: … | EI52: … | EJ52: … | EK52: … | EL52: … | EM52: … | EN52: … | EO52: …
A53: 令.2(2020) | B53: … | C53: … | D53: … | E53: 6100 | F53: … | G53: … | H53: 13100 | I53: … | J53: … | K53: … | L53: … | M53: … | N53: … | O53: … | P53: … | Q53: … | R53: … | S53: … | T53: … | U53: … | V53: … | W53: … | X53: … | Y53: … | Z53: … | AA53: … | AB53: … | AC53: … | AD53: … | AE53: … | AF53: … | AG53: … | AH53: … | AI53: … | AJ53: … | AK53: … | AL53: … | AM53: … | AN53: … | AO53: … | AP53: … | AQ53: … | AR53: … | AS53: … | AT53: … | AU53: … | AV53: … | AW53: … | AX53: … | AY53: … | AZ53: … | BA53: … | BB53: … | BC53: … | BD53: … | BE53: … | BF53: … | BG53: … | BH53: … | BI53: … | BJ53: … | BK53: … | BL53: … | BM53: … | BN53: … | BO53: … | BP53: 833 | BQ53: … | BR53: … | BS53: 593 | BT53: … | BU53: … | BV53: … | BW53: … | BX53: … | BY53: … | BZ53: … | CA53: … | CB53: … | CC53: … | CD53: … | CE53: … | CF53: … | CG53: … | CH53: … | CI53: … | CJ53: … | CK53: … | CL53: … | CM53: … | CN53: … | CO53: … | CP53: … | CQ53: … | CR53: … | CS53: … | CT53: … | CU53: … | CV53: … | CW53: … | CX53: … | CY53: … | CZ53: … | DA53: … | DB53: … | DC53: … | DD53: … | DE53: … | DF53: … | DG53: … | DH53: … | DI53: … | DJ53: … | DK53: … | DL53: … | DM53: … | DN53: … | DO53: … | DP53: … | DQ53: … | DR53: 2180 | DS53: … | DT53: … | DU53: 4970 | DV53: … | DW53: … | DX53: … | DY53: … | DZ53: … | EA53: 1290 | EB53: … | EC53: … | ED53: 2140 | EE53: … | EF53: … | EG53: … | EH53: … | EI53: … | EJ53: … | EK53: … | EL53: … | EM53: … | EN53: … | EO53: …
A54: 令.3(2021) | B54: … | C54: … | D54: … | E54: 6210 | F54: … | G54: … | H54: 13200 | I54: … | J54: … | K54: … | L54: … | M54: … | N54: … | O54: … | P54: … | Q54: … | R54: … | S54: … | T54: … | U54: … | V54: … | W54: … | X54: … | Y54: … | Z54: … | AA54: … | AB54: … | AC54: … | AD54: … | AE54: … | AF54: … | AG54: … | AH54: … | AI54: … | AJ54: … | AK54: … | AL54: … | AM54: … | AN54: … | AO54: … | AP54: … | AQ54: … | AR54: … | AS54: … | AT54: … | AU54: … | AV54: … | AW54: … | AX54: … | AY54: … | AZ54: … | BA54: … | BB54: … | BC54: … | BD54: … | BE54: … | BF54: … | BG54: … | BH54: … | BI54: … | BJ54: … | BK54: … | BL54: … | BM54: … | BN54: … | BO54: … | BP54: 804 | BQ54: … | BR54: … | BS54: 525 | BT54: … | BU54: … | BV54: … | BW54: … | BX54: … | BY54: … | BZ54: … | CA54: … | CB54: … | CC54: … | CD54: … | CE54: … | CF54: … | CG54: … | CH54: … | CI54: … | CJ54: … | CK54: … | CL54: … | CM54: … | CN54: … | CO54: … | CP54: … | CQ54: … | CR54: … | CS54: … | CT54: … | CU54: … | CV54: … | CW54: … | CX54: … | CY54: … | CZ54: … | DA54: … | DB54: … | DC54: … | DD54: … | DE54: … | DF54: … | DG54: … | DH54: … | DI54: … | DJ54: … | DK54: … | DL54: … | DM54: … | DN54: … | DO54: … | DP54: … | DQ54: … | DR54: 2220 | DS54: … | DT54: … | DU54: 5190 | DV54: … | DW54: … | DX54: … | DY54: … | DZ54: … | EA54: 1290 | EB54: … | EC54: … | ED54: 2090 | EE54: … | EF54: … | EG54: … | EH54: … | EI54: … | EJ54: … | EK54: … | EL54: … | EM54: … | EN54: … | EO54: …
A55: 令.4(2022) | B55: … | C55: … | D55: … | E55: 6260 | F55: … | G55: … | H55: 13500 | I55: … | J55: … | K55: … | L55: … | M55: … | N55: … | O55: … | P55: … | Q55: … | R55: … | S55: … | T55: … | U55: … | V55: … | W55: x | X55: … | Y55: … | Z55: … | AA55: … | AB55: … | AC55: … | AD55: … | AE55: … | AF55: … | AG55: … | AH55: … | AI55: … | AJ55: … | AK55: … | AL55: … | AM55: … | AN55: … | AO55: … | AP55: … | AQ55: … | AR55: … | AS55: … | AT55: … | AU55: … | AV55: … | AW55: … | AX55: … | AY55: … | AZ55: … | BA55: … | BB55: … | BC55: … | BD55: … | BE55: … | BF55: … | BG55: … | BH55: … | BI55: … | BJ55: … | BK55: … | BL55: … | BM55: … | BN55: … | BO55: … | BP55: 772 | BQ55: … | BR55: … | BS55: 490 | BT55: … | BU55: … | BV55: … | BW55: … | BX55: … | BY55: … | BZ55: … | CA55: … | CB55: … | CC55: … | CD55: … | CE55: … | CF55: … | CG55: … | CH55: … | CI55: … | CJ55: … | CK55: … | CL55: … | CM55: … | CN55: … | CO55: … | CP55: … | CQ55: … | CR55: … | CS55: … | CT55: … | CU55: … | CV55: … | CW55: … | CX55: … | CY55: … | CZ55: … | DA55: … | DB55: … | DC55: … | DD55: … | DE55: … | DF55: … | DG55: … | DH55: … | DI55: … | DJ55: … | DK55: … | DL55: … | DM55: … | DN55: … | DO55: … | DP55: … | DQ55: … | DR55: 2250 | DS55: … | DT55: … | DU55: 5270 | DV55: … | DW55: … | DX55: … | DY55: … | DZ55: … | EA55: 1290 | EB55: … | EC55: … | ED55: 2130 | EE55: … | EF55: … | EG55: … | EH55: … | EI55: … | EJ55: … | EK55: … | EL55: … | EM55: … | EN55: … | EO55: …
A56: 令.5(2023) | B56: … | C56: … | D56: … | E56: 6190 | F56: … | G56: … | H56: 13200 | I56: … | J56: … | K56: … | L56: … | M56: … | N56: … | O56: … | P56: … | Q56: … | R56: … | S56: … | T56: … | U56: … | V56: … | W56: … | X56: … | Y56: … | Z56: … | AA56: … | AB56: … | AC56: … | AD56: … | AE56: … | AF56: … | AG56: … | AH56: … | AI56: … | AJ56: … | AK56: … | AL56: … | AM56: … | AN56: … | AO56: … | AP56: … | AQ56: … | AR56: … | AS56: … | AT56: … | AU56: … | AV56: … | AW56: … | AX56: … | AY56: … | AZ56: … | BA56: … | BB56: … | BC56: … | BD56: … | BE56: … | BF56: … | BG56: … | BH56: … | BI56: … | BJ56: … | BK56: … | BL56: … | BM56: … | BN56: … | BO56: … | BP56: 765 | BQ56: … | BR56: … | BS56: 452 | BT56: … | BU56: … | BV56: … | BW56: … | BX56: … | BY56: … | BZ56: … | CA56: … | CB56: … | CC56: … | CD56: … | CE56: … | CF56: … | CG56: … | CH56: … | CI56: … | CJ56: … | CK56: … | CL56: … | CM56: … | CN56: … | CO56: … | CP56: … | CQ56: … | CR56: … | CS56: … | CT56: … | CU56: … | CV56: … | CW56: … | CX56: … | CY56: … | CZ56: … | DA56: … | DB56: … | DC56: … | DD56: … | DE56: … | DF56: … | DG56: … | DH56: … | DI56: … | DJ56: … | DK56: … | DL56: … | DM56: … | DN56: … | DO56: … | DP56: … | DQ56: … | DR56: 2250 | DS56: … | DT56: … | DU56: 5310 | DV56: … | DW56: … | DX56: … | DY56: … | DZ56: … | EA56: 1270 | EB56: … | EC56: … | ED56: 2060 | EE56: … | EF56: … | EG56: … | EH56: … | EI56: … | EJ56: … | EK56: … | EL56: … | EM56: … | EN56: … | EO56: …
A57: 令.6(2024) | B57: … | C57: … | D57: … | E57: 6040 | F57: … | G57: … | H57: 12300 | I57: … | J57: … | K57: … | L57: … | M57: … | N57: … | O57: … | P57: … | Q57: … | R57: … | S57: … | T57: … | U57: … | V57: … | W57: … | X57: … | Y57: … | Z57: … | AA57: … | AB57: … | AC57: … | AD57: … | AE57: … | AF57: … | AG57: … | AH57: … | AI57: … | AJ57: … | AK57: … | AL57: … | AM57: … | AN57: … | AO57: … | AP57: … | AQ57: … | AR57: … | AS57: … | AT57: … | AU57: … | AV57: … | AW57: … | AX57: … | AY57: … | AZ57: … | BA57: … | BB57: … | BC57: … | BD57: … | BE57: … | BF57: … | BG57: … | BH57: … | BI57: … | BJ57: … | BK57: … | BL57: … | BM57: … | BN57: … | BO57: … | BP57: 748 | BQ57: … | BR57: … | BS57: 365 | BT57: … | BU57: … | BV57: … | BW57: … | BX57: … | BY57: … | BZ57: … | CA57: … | CB57: … | CC57: … | CD57: … | CE57: … | CF57: … | CG57: … | CH57: … | CI57: … | CJ57: … | CK57: … | CL57: … | CM57: … | CN57: … | CO57: … | CP57: … | CQ57: … | CR57: … | CS57: … | CT57: … | CU57: … | CV57: … | CW57: … | CX57: … | CY57: … | CZ57: … | DA57: … | DB57: … | DC57: … | DD57: … | DE57: … | DF57: … | DG57: … | DH57: … | DI57: … | DJ57: … | DK57: … | DL57: … | DM57: … | DN57: … | DO57: … | DP57: … | DQ57: … | DR57: 2210 | DS57: … | DT57: … | DU57: 5040 | DV57: … | DW57: … | DX57: … | DY57: … | DZ57: … | EA57: 1230 | EB57: … | EC57: … | ED57: 1930 | EE57: … | EF57: … | EG57: … | EH57: … | EI57: … | EJ57: … | EK57: … | EL57: … | EM57: … | EN57: … | EO57: …
B58: （注記）
B59: 1999～2001年の「栽培農家数」の単位は、「10戸」である。
B60: 鉢もの類計については1981年以前の「収穫面積」の単位は「ha」である。

Sheet 鉢もの類（静岡） (2)
A1: 花き生産出荷統計
A2: 品目別作付面積及び出荷量累年統計
A3: 鉢もの類
A4: 静岡
A5: 年次 | B5: 鉢もの類 | C5: 鉢もの類 | D5: 洋ラン類 | E5: 洋ラン類 | F5: 観葉植物 | G5: 観葉植物 | H5: 花木類 | I5: 花木類
B6: 収穫面積 | C6: 出荷量 | D6: 収穫面積 | E6: 出荷量 | F6: 収穫面積 | G6: 出荷量 | H6: 収穫面積 | I6: 出荷量
B7: 計 | C7: 計 | D7: 計 | E7: 計 | F7: 計 | G7: 計 | H7: 計 | I7: 計
B8: a | C8: 1000鉢 | D8: a | E8: 1000鉢 | F8: a | G8: 1000鉢 | H8: a | I8: 1000鉢
A9: 昭.51(1976) | B9: … | C9: … | D9: … | E9: … | F9: … | G9: … | H9: … | I9: …
A10: 昭.52(1977) | B10: 26 | C10: 6500 | D10: … | E10: … | F10: … | G10: … | H10: … | I10: …
A11: 昭.53(1978) | B11: 35 | C11: 8320 | D11: … | E11: … | F11: … | G11: … | H11: … | I11: …
A12: 昭.54(1979) | B12: 29 | C12: 9710 | D12: … | E12: … | F12: … | G12: … | H12: … | I12: …
A13: 昭.55(1980) | B13: … | C13: … | D13: … | E13: … | F13: 627 | G13: 1040 | H13: 265 | I13: 316
A14: 昭.56(1981) | B14: … | C14: … | D14: … | E14: … | F14: 812 | G14: 1280 | H14: 281 | I14: 339
A15: 昭.57(1982) | B15: … | C15: … | D15: … | E15: … | F15: 788 | G15: 1230 | H15: 369 | I15: 371
A16: 昭.58(1983) | B16: … | C16: … | D16: … | E16: … | F16: 739 | G16: 1530 | H16: … | I16: …
A17: 昭.59(1984) | B17: … | C17: … | D17: … | E17: … | F17: 801 | G17: 1610 | H17: … | I17: …
A18: 昭.60(1985) | B18: … | C18: … | D18: … | E18: … | F18: 1010 | G18: 1970 | H18: 195 | I18: 320
A19: 昭.61(1986) | B19: … | C19: … | D19: … | E19: … | F19: 1060 | G19: 1830 | H19: … | I19: …
A20: 昭.62(1987) | B20: … | C20: … | D20: … | E20: … | F20: 1330 | G20: 1850 | H20: … | I20: …
A21: 昭.63(1988) | B21: … | C21: … | D21: … | E21: … | F21: 1490 | G21: 1950 | H21: 271 | I21: 386
A22: 平.元(1989) | B22: … | C22: … | D22: … | E22: … | F22: 1820 | G22: 2750 | H22: … | I22: …
A23: 平.2(1990) | B23: 4670 | C23: 8390 | D23: 976 | E23: 873 | F23: 1800 | G23: 1980 | H23: 285 | I23: 411
A24: 平.3(1991) | B24: 5730 | C24: 8810 | D24: 1200 | E24: 1010 | F24: 1630 | G24: 2010 | H24: 1030 | I24: 1120
A25: 平.4(1992) | B25: 6600 | C25: 9400 | D25: 1390 | E25: 1070 | F25: 1810 | G25: 2350 | H25: 1140 | I25: 1050
A26: 平.5(1993) | B26: 6680 | C26: 9600 | D26: 1480 | E26: 1210 | F26: 1900 | G26: 2240 | H26: 1240 | I26: 1460
A27: 平.6(1994) | B27: 7990 | C27: 12400 | D27: 1580 | E27: 1450 | F27: 2170 | G27: 2600 | H27: 1950 | I27: 1890
A28: 平.7(1995) | B28: … | C28: … | D28: 1510 | E28: 1340 | F28: 2310 | G28: 2700 | H28: 2000 | I28: 2190
A29: 平.8(1996) | B29: … | C29: … | D29: 1420 | E29: 1400 | F29: 2340 | G29: 3490 | H29: 2020 | I29: 2250
A30: 平.9(1997) | B30: 8120 | C30: 13800 | D30: 1340 | E30: 1330 | F30: 2300 | G30: 3560 | H30: 2240 | I30: 2400
A31: 平.10(1998) | B31: … | C31: … | D31: 1400 | E31: 1330 | F31: 2470 | G31: 4250 | H31: 2190 | I31: 2430
A32: 平.11(1999) | B32: 8520 | C32: 15400 | D32: 1390 | E32: 1260 | F32: 2230 | G32: 3740 | H32: 2170 | I32: 2620
A33: 平.12(2000) | B33: 8720 | C33: 15800 | D33: 1740 | E33: 1480 | F33: 2340 | G33: 4510 | H33: 2080 | I33: 2310
A34: 平.13(2001) | B34: 8560 | C34: 16600 | D34: 1670 | E34: 1480 | F34: 2300 | G34: 4940 | H34: 1950 | I34: 2600
A35: 平.14(2002) | B35: 8700 | C35: 17000 | D35: 1560 | E35: 1420 | F35: 2400 | G35: 5200 | H35: 2070 | I35: 2700
A36: 平.15(2003) | B36: 8850 | C36: 18600 | D36: 1490 | E36: 1430 | F36: 2510 | G36: 5240 | H36: 2120 | I36: 3640
A37: 平.16(2004) | B37: 8480 | C37: 18400 | D37: 1310 | E37: 988 | F37: 2470 | G37: 5240 | H37: 2070 | I37: 3410
A38: 平.17(2005) | B38: 8030 | C38: 18100 | D38: 1140 | E38: 996 | F38: 2390 | G38: 5060 | H38: 2060 | I38: 3240
A39: 平.18(2006) | B39: 7620 | C39: 16900 | D39: 1200 | E39: 1110 | F39: 2360 | G39: 4860 | H39: 1790 | I39: 2960
A40: 平.19(2007) | B40: 6850 | C40: 17400 | D40: 1150 | E40: 1020 | F40: 2500 | G40: 4910 | H40: 1520 | I40: 2660
A41: 平.20(2008) | B41: 6600 | C41: 16400 | D41: 1110 | E41: 964 | F41: 2320 | G41: 4700 | H41: 1420 | I41: 2540
A42: 平.21(2009) | B42: 6200 | C42: 14900 | D42: 1090 | E42: 950 | F42: 2180 | G42: 4200 | H42: 1360 | I42: 2370
A43: 平.22(2010) | B43: 6320 | C43: 15100 | D43: 1110 | E43: 1020 | F43: 2110 | G43: 3950 | H43: 1380 | I43: 2480
... A57: 令.6(2024) | B57: 6040 | C57: 12300 | D57: 748 | E57: 365 | F57: 2210 | G57: 5040 | H57: 1230 | I57: 1930

Sheet 花壇用苗もの類（静岡）
A1: 花き生産出荷統計
A2: 品目別作付面積及び出荷量累年統計
A3: 花壇用苗もの類
A4: 静岡
A5: 年次 | B5: 花壇用苗もの類 | K5: パンジー | T5: サルビア | AC5: マリーゴールド | AL5: ペチュニア | AU5: にちにちそう | BD5: デージー | BM5: きんせんか | BV5: まつばぼたん | CE5: はぼたん | CN5: その他花壇用苗もの類
B6: 栽培農家数 | E6: 作付面積 | H6: 出荷量 | K6: 栽培農家数 | N6: 作付面積 | Q6: 出荷量 | T6: 栽培農家数 | W6: 作付面積 | Z6: 出荷量 | AC6: 栽培農家数 | AF6: 作付面積 | AI6: 出荷量 | AL6: 栽培農家数 | AO6: 作付面積 | AR6: 出荷量 | AU6: 栽培農家数 | AX6: 作付面積 | BA6: 出荷量 | BD6: 栽培農家数 | BG6: 作付面積 | BJ6: 出荷量 | BM6: 栽培農家数 | BP6: 作付面積 | BS6: 出荷量 | BV6: 栽培農家数 | BY6: 作付面積 | CB6: 出荷量 | CE6: 栽培農家数 | CH6: 作付面積 | CK6: 出荷量 | CN6: 栽培農家数 | CQ6: 作付面積 | CT6: 出荷量
