Workbook

Sheet 全国
A1: 果樹生産出荷統計
A2: 品目別結果樹面積、収穫量及び出荷量累年統計
A3: かき
A4: 全国
A5: 年次 | B5: かき | E5: 富有 | H5: 次郎 | K5: 西村早生 | N5: その他甘がき | Q5: 平核無 | T5: 刀根早生 | W5: その他渋がき
B6: 結果樹面積 | C6: 収穫量 | D6: 出荷量 | E6: 結果樹面積 | F6: 収穫量 | G6: 出荷量 | H6: 結果樹面積 | I6: 収穫量 | J6: 出荷量 | K6: 結果樹面積 | L6: 収穫量 | M6: 出荷量 | N6: 結果樹面積 | O6: 収穫量 | P6: 出荷量 | Q6: 結果樹面積 | R6: 収穫量 | S6: 出荷量 | T6: 結果樹面積 | U6: 収穫量 | V6: 出荷量 | W6: 結果樹面積 | X6: 収穫量 | Y6: 出荷量
B7: ha | C7: t | D7: t | E7: ha | F7: t | G7: t | H7: ha | I7: t | J7: t | K7: ha | L7: t | M7: t | N7: ha | O7: t | P7: t | Q7: ha | R7: t | S7: t | T7: ha | U7: t | V7: t | W7: ha | X7: t | Y7: t
A8: 昭.48(1973) | B8: 30600 | C8: 347200 | D8: 229500 | E8: 13100 | F8: 171500 | G8: 130600 | H8: … | I8: … | J8: … | K8: … | L8: … | M8: … | N8: 3750 | O8: 30800 | P8: 10100 | Q8: … | R8: … | S8: … | T8: … | U8: … | V8: … | W8: 13700 | X8: 144800 | Y8: 88900
A9: 昭.49(1974) | B9: 30000 | C9: 283600 | D9: 194200 | E9: 13200 | F9: 144600 | G9: 113200 | H9: … | I9: … | J9: … | K9: … | L9: … | M9: … | N9: 3580 | O9: 22100 | P9: 7630 | Q9: … | R9: … | S9: … | T9: … | U9: … | V9: … | W9: 13200 | X9: 116800 | Y9: 73400
A10: 昭.50(1975) | B10: 29300 | C10: 274700 | D10: 187800 | E10: 13200 | F10: 140100 | G10: 107600 | H10: … | I10: … | J10: … | K10: … | L10: … | M10: … | N10: 3410 | O10: 21900 | P10: 7700 | Q10: … | R10: … | S10: … | T10: … | U10: … | V10: … | W10: 12700 | X10: 112700 | Y10: 72500
A11: 昭.51(1976) | B11: 28400 | C11: 264100 | D11: 185200 | E11: 13200 | F11: 141800 | G11: 111900 | H11: … | I11: … | J11: … | K11: … | L11: … | M11: … | N11: 3170 | O11: 19800 | P11: 7170 | Q11: … | R11: … | S11: … | T11: … | U11: … | V11: … | W11: 12000 | X11: 102300 | Y11: 66100
A12: 昭.52(1977) | B12: 27600 | C12: 275400 | D12: 196400 | E12: 13100 | F12: 157200 | G12: 126100 | H12: … | I12: … | J12: … | K12: … | L12: … | M12: … | N12: 3020 | O12: 21700 | P12: 8780 | Q12: … | R12: … | S12: … | T12: … | U12: … | V12: … | W12: 11500 | X12: 96700 | Y12: 61500
A13: 昭.53(1978) | B13: 27100 | C13: 287000 | D13: 209700 | E13: 12900 | F13: 158300 | G13: 127700 | H13: … | I13: … | J13: … | K13: … | L13: … | M13: … | N13: 2970 | O13: 21700 | P13: 9530 | Q13: … | R13: … | S13: … | T13: … | U13: … | V13: … | W13: 11200 | X13: 107100 | Y13: 72400
A14: 昭.54(1979) | B14: 26900 | C14: 263900 | D14: 195300 | E14: 12900 | F14: 151000 | G14: 121900 | H14: … | I14: … | J14: … | K14: … | L14: … | M14: … | N14: 2980 | O14: 20500 | P14: 10000 | Q14: … | R14: … | S14: … | T14: … | U14: … | V14: … | W14: 11000 | X14: 92300 | Y14: 63400
A15: 昭.55(1980) | B15: 26800 | C15: 265200 | D15: 199400 | E15: 12900 | F15: 131800 | G15: 105200 | H15: … | I15: … | J15: … | K15: … | L15: … | M15: … | N15: 2960 | O15: 20100 | P15: 9680 | Q15: … | R15: … | S15: … | T15: … | U15: … | V15: … | W15: 10900 | X15: 113200 | Y15: 84600
A16: 昭.56(1981) | B16: 26700 | C16: 260500 | D16: 197900 | E16: 12900 | F16: 156000 | G16: 126400 | H16: … | I16: … | J16: … | K16: … | L16: … | M16: … | N16: 2970 | O16: 21600 | P16: 11900 | Q16: … | R16: … | S16: … | T16: … | U16: … | V16: … | W16: 10800 | X16: 82800 | Y16: 59600
A17: 昭.57(1982) | B17: 26600 | C17: 333700 | D17: 255000 | E17: 13000 | F17: 184500 | G17: 149800 | H17: … | I17: … | J17: … | K17: … | L17: … | M17: … | N17: 2990 | O17: 23600 | P17: 12800 | Q17: … | R17: … | S17: … | T17: … | U17: … | V17: … | W17: 10600 | X17: 125600 | Y17: 92700
A18: 昭.58(1983) | B18: 26600 | C18: 309900 | D18: 240300 | E18: 13100 | F18: 174100 | G18: 141800 | H18: … | I18: … | J18: … | K18: … | L18: … | M18: … | N18: 3010 | O18: 25600 | P18: 15100 | Q18: … | R18: … | S18: … | T18: … | U18: … | V18: … | W18: 10500 | X18: 110200 | Y18: 83400
A19: 昭.59(1984) | B19: 26800 | C19: 297400 | D19: 227800 | E19: 13200 | F19: 160500 | G19: 129000 | H19: … | I19: … | J19: … | K19: … | L19: … | M19: … | N19: 3060 | O19: 25100 | P19: 14700 | Q19: … | R19: … | S19: … | T19: … | U19: … | V19: … | W19: 10500 | X19: 111900 | Y19: 84200
... A36: 平.13(2001) | B36: 24500 | C36: 281800 | D36: 227200 | E36: 10400 | F36: 112700 | G36: 88300 | H36: … | I36: … | J36: … | K36: … | L36: … | M36: … | N36: 2720 | O36: 20900 | P36: 14800 | Q36: … | R36: … | S36: … | T36: … | U36: … | V36: … | W36: 11400 | X36: 148100 | Y36: 124100
A37: 平.14(2002) | B37: 24500 | C37: 269300 | D37: 217600 | E37: 10300 | F37: 101500 | G37: 79700 | H37: … | I37: … | J37: … | K37: 902 | L37: 9270 | M37: 7250 | N37: 1730 | O37: 11700 | P37: 7460 | Q37: 3180 | R37: 43600 | S37: 37800 | T37: 2570 | U37: 51700 | V37: 46500 | W37: 5850 | X37: 51600 | Y37: 38900
A38: 平.15(2003) | B38: 24400 | C38: 265000 | D38: 212800 | E38: 8750 | F38: 91200 | G38: 73100 | H38: 1530 | I38: 13100 | J38: 9120 | K38: 868 | L38: 8600 | M38: 6670 | N38: 1710 | O38: 11700 | P38: 7460 | Q38: 3140 | R38: 40900 | S38: 35500 | T38: 2600 | U38: 50700 | V38: 45600 | W38: 5800 | X38: 48800 | Y38: 35500
A39: 平.16(2004) | B39: 23800 | C39: 232400 | D39: 184900 | E39: 8230 | F39: 70300 | G39: 55500 | H39: 1820 | I39: 17400 | J39: 11400 | K39: 798 | L39: 7250 | M39: 6020 | N39: 1820 | O39: 10800 | P39: 6810 | Q39: 3080 | R39: 35500 | S39: 30400 | T39: 2560 | U39: 47300 | V39: 42900 | W39: 5510 | X39: 43800 | Y39: 31900
A40: 平.17(2005) | B40: 23700 | C40: 285900 | D40: 230800 | E40: 8120 | F40: 92600 | G40: 73700 | H40: 1820 | I40: 20300 | J40: 14600 | K40: 780 | L40: 7980 | M40: 6620 | N40: 1830 | O40: 12700 | P40: 8030 | Q40: 3030 | R40: 44700 | S40: 38900 | T40: 2560 | U40: 55100 | V40: 50300 | W40: 5530 | X40: 52400 | Y40: 38700
A41: 平.18(2006) | B41: 23500 | C41: 232700 | D41: 186700 | E41: 8040 | F41: 72600 | G41: 57300 | H41: 1830 | I41: 17700 | J41: 12700 | K41: … | L41: … | M41: … | N41: 2550 | O41: 15000 | P41: 10300 | Q41: 2940 | R41: 35600 | S41: 30900 | T41: 2570 | U41: 46400 | V41: 42300 | W41: 5570 | X41: 45300 | Y41: 33300
A42: 平.19(2007) | B42: 23200 | C42: 244800 | D42: 196000 | E42: … | F42: … | G42: … | H42: … | I42: … | J42: … | K42: … | L42: … | M42: … | N42: … | O42: … | P42: … | Q42: … | R42: … | S42: … | T42: … | U42: … | V42: … | W42: … | X42: … | Y42: …
A43: 平.20(2008) | B43: 23000 | C43: 266600 | D43: 213400 | E43: … | F43: … | G43: … | H43: … | I43: … | J43: … | K43: … | L43: … | M43: … | N43: … | O43: … | P43: … | Q43: … | R43: … | S43: … | T43: … | U43: … | V43: … | W43: … | X43: … | Y43: …
A44: 平.21(2009) | B44: 22700 | C44: 258000 | D44: 212100 | E44: … | F44: … | G44: … | H44: … | I44: … | J44: … | K44: … | L44: … | M44: … | N44: … | O44: … | P44: … | Q44: … | R44: … | S44: … | T44: … | U44: … | V44: … | W44: … | X44: … | Y44: …
A45: 平.22(2010) | B45: 22400 | C45: 189400 | D45: 155100 | E45: … | F45: … | G45: … | H45: … | I45: … | J45: … | K45: … | L45: … | M45: … | N45: … | O45: … | P45: … | Q45: … | R45: … | S45: … | T45: … | U45: … | V45: … | W45: … | X45: … | Y45: …
A46: 平.23(2011) | B46: 22100 | C46: 207500 | D46: 170300 | E46: … | F46: … | G46: … | H46: … | I46: … | J46: … | K46: … | L46: … | M46: … | N46: … | O46: … | P46: … | Q46: … | R46: … | S46: … | T46: … | U46: … | V46: … | W46: … | X46: … | Y46: …
A47: 平.24(2012) | B47: 21900 | C47: 253800 | D47: 209300 | E47: … | F47: … | G47: … | H47: … | I47: … | J47: … | K47: … | L47: … | M47: … | N47: … | O47: … | P47: … | Q47: … | R47: … | S47: … | T47: … | U47: … | V47: … | W47: … | X47: … | Y47: …
A48: 平.25(2013) | B48: 21600 | C48: 214700 | D48: 177400 | E48: … | F48: … | G48: … | H48: … | I48: … | J48: … | K48: … | L48: … | M48: … | N48: … | O48: … | P48: … | Q48: … | R48: … | S48: … | T48: … | U48: … | V48: … | W48: … | X48: … | Y48: …
A49: 平.26(2014) | B49: 21300 | C49: 240600 | D49: 198900 | E49: … | F49: … | G49: … | H49: … | I49: … | J49: … | K49: … | L49: … | M49: … | N49: … | O49: … | P49: … | Q49: … | R49: … | S49: … | T49: … | U49: … | V49: … | W49: … | X49: … | Y49: …
A50: 平.27(2015) | B50: 20800 | C50: 242000 | D50: 198600 | E50: … | F50: … | G50: … | H50: … | I50: … | J50: … | K50: … | L50: … | M50: … | N50: … | O50: … | P50: … | Q50: … | R50: … | S50: … | T50: … | U50: … | V50: … | W50: … | X50: … | Y50: …
A51: 平.28(2016) | B51: 20400 | C51: 232900 | D51: 191500 | E51: … | F51: … | G51: … | H51: … | I51: … | J51: … | K51: … | L51: … | M51: … | N51: … | O51: … | P51: … | Q51: … | R51: … | S51: … | T51: … | U51: … | V51: … | W51: … | X51: … | Y51: …
A52: 平.29(2017) | B52: 19800 | C52: 224900 | D52: 186400 | E52: … | F52: … | G52: … | H52: … | I52: … | J52: … | K52: … | L52: … | M52: … | N52: … | O52: … | P52: … | Q52: … | R52: … | S52: … | T52: … | U52: … | V52: … | W52: … | X52: … | Y52: …
A53: 平.30(2018) | B53: 19100 | C53: 208000 | D53: 172200 | E53: … | F53: … | G53: … | H53: … | I53: … | J53: … | K53: … | L53: … | M53: … | N53: … | O53: … | P53: … | Q53: … | R53: … | S53: … | T53: … | U53: … | V53: … | W53: … | X53: … | Y53: …
... A58: 令.5(2023) | B58: 17500 | C58: 185200 | D58: 159900 | E58: … | F58: … | G58: … | H58: … | I58: … | J58: … | K58: … | L58: … | M58: … | N58: … | O58: … | P58: … | Q58: … | R58: … | S58: … | T58: … | U58: … | V58: … | W58: … | X58: … | Y58: …
A59: 令.6(2024) | B59: 17200 | C59: 167300 | D59: 145400
B60: （注記）
B61: １．平成13年産以前は、「西村早生」は「その他甘がき」に、「平核無」、「刀根早生」は「その他渋がき」に含んでいる。
B62: ２．平成14年以前の「富有」は「富有・次郎」である。

Sheet 静岡
A1: 果樹生産出荷統計
A2: 品目別結果樹面積、収穫量及び出荷量累年統計
A3: かき
A4: 静岡
A5: 年次 | B5: かき | E5: 富有 | H5: 次郎 | K5: 西村早生 | N5: その他甘がき | Q5: 平核無 | T5: 刀根早生 | W5: その他渋がき
B6: 結果樹面積 | C6: 収穫量 | D6: 出荷量 | E6: 結果樹面積 | F6: 収穫量 | G6: 出荷量 | H6: 結果樹面積 | I6: 収穫量 | J6: 出荷量 | K6: 結果樹面積 | L6: 収穫量 | M6: 出荷量 | N6: 結果樹面積 | O6: 収穫量 | P6: 出荷量 | Q6: 結果樹面積 | R6: 収穫量 | S6: 出荷量 | T6: 結果樹面積 | U6: 収穫量 | V6: 出荷量 | W6: 結果樹面積 | X6: 収穫量 | Y6: 出荷量
B7: ha | C7: t | D7: t | E7: ha | F7: t | G7: t | H7: ha | I7: t | J7: t | K7: ha | L7: t | M7: t | N7: ha | O7: t | P7: t | Q7: ha | R7: t | S7: t | T7: ha | U7: t | V7: t | W7: ha | X7: t | Y7: t
A8: 昭.48(1973) | B8: 792 | C8: 9060 | D8: 3748 | E8: 572 | F8: 7210 | G8: 2978 | H8: … | I8: … | J8: … | K8: … | L8: … | M8: … | N8: 9 | O8: 63 | P8: 12 | Q8: … | R8: … | S8: … | T8: … | U8: … | V8: … | W8: 211 | X8: 1790 | Y8: 758
A9: 昭.49(1974) | B9: 785 | C9: 7950 | D9: 3248 | E9: 567 | F9: 6400 | G9: 2627 | H9: … | I9: … | J9: … | K9: … | L9: … | M9: … | N9: 9 | O9: 42 | P9: 11 | Q9: … | R9: … | S9: … | T9: … | U9: … | V9: … | W9: 209 | X9: 1510 | Y9: 610
A10: 昭.50(1975) | B10: 782 | C10: 8330 | D10: 3426 | E10: 566 | F10: 6690 | G10: 2745 | H10: … | I10: … | J10: … | K10: … | L10: … | M10: … | N10: 9 | O10: 54 | P10: 13 | Q10: … | R10: … | S10: … | T10: … | U10: … | V10: … | W10: 207 | X10: 1590 | Y10: 668
A11: 昭.51(1976) | B11: 759 | C11: 7400 | D11: 2978 | E11: 562 | F11: 5900 | G11: 2380 | H11: … | I11: … | J11: … | K11: … | L11: … | M11: … | N11: 9 | O11: 43 | P11: 12 | Q11: … | R11: … | S11: … | T11: … | U11: … | V11: … | W11: 188 | X11: 1460 | Y11: 586
A12: 昭.52(1977) | B12: 734 | C12: 8600 | D12: 3704 | E12: 550 | F12: 6970 | G12: 3043 | H12: … | I12: … | J12: … | K12: … | L12: … | M12: … | N12: 7 | O12: 44 | P12: 13 | Q12: … | R12: … | S12: … | T12: … | U12: … | V12: … | W12: 177 | X12: 1590 | Y12: 648
A13: 昭.53(1978) | B13: 724 | C13: 9260 | D13: 4191 | E13: 545 | F13: 7610 | G13: 3543 | H13: … | I13: … | J13: … | K13: … | L13: … | M13: … | N13: 6 | O13: 42 | P13: 18 | Q13: … | R13: … | S13: … | T13: … | U13: … | V13: … | W13: 173 | X13: 1610 | Y13: 630
A14: 昭.54(1979) | B14: 731 | C14: 8710 | D14: 3973 | E14: 553 | F14: 6950 | G14: 3237 | H14: … | I14: … | J14: … | K14: … | L14: … | M14: … | N14: 7 | O14: 52 | P14: 23 | Q14: … | R14: … | S14: … | T14: … | U14: … | V14: … | W14: 171 | X14: 1710 | Y14: 713
A15: 昭.55(1980) | B15: 737 | C15: 6320 | D15: 2617 | E15: 562 | F15: 5020 | G15: 2145 | H15: … | I15: … | J15: … | K15: … | L15: … | M15: … | N15: 7 | O15: 46 | P15: 23 | Q15: … | R15: … | S15: … | T15: … | U15: … | V15: … | W15: 168 | X15: 1250 | Y15: 449
A16: 昭.56(1981) | B16: 717 | C16: 9140 | D16: 4610 | E16: 565 | F16: 7620 | G16: 3855 | H16: … | I16: … | J16: … | K16: … | L16: … | M16: … | N16: 7 | O16: 57 | P16: 30 | Q16: … | R16: … | S16: … | T16: … | U16: … | V16: … | W16: 145 | X16: 1460 | Y16: 725
A17: 昭.57(1982) | B17: 725 | C17: 8570 | D17: 4175 | E17: 571 | F17: 7370 | G17: 3620 | H17: … | I17: … | J17: … | K17: … | L17: … | M17: … | N17: 7 | O17: 48 | P17: 27 | Q17: … | R17: … | S17: … | T17: … | U17: … | V17: … | W17: 147 | X17: 1150 | Y17: 528
A18: 昭.58(1983) | B18: 736 | C18: 9740 | D18: 5423 | E18: 583 | F18: 8340 | G18: 4744 | H18: … | I18: … | J18: … | K18: … | L18: … | M18: … | N18: 7 | O18: 58 | P18: 33 | Q18: … | R18: … | S18: … | T18: … | U18: … | V18: … | W18: 146 | X18: 1350 | Y18: 646
A19: 昭.59(1984) | B19: 741 | C19: 8470 | D19: 4798 | E19: 591 | F19: 7170 | G19: 4163 | H19: … | I19: … | J19: … | K19: … | L19: … | M19: … | N19: 7 | O19: 61 | P19: 34 | Q19: … | R19: … | S19: … | T19: … | U19: … | V19: … | W19: 143 | X19: 1240 | Y19: 601
... A36: 平.13(2001) | B36: 615 | C36: 6460 | D36: 3990 | E36: 455 | F36: 5190 | G36: 3330 | H36: … | I36: … | J36: … | K36: … | L36: … | M36: … | N36: 20 | O36: 199 | P36: 112 | Q36: … | R36: … | S36: … | T36: … | U36: … | V36: … | W36: 140 | X36: 1070 | Y36: 544
A37: 平.14(2002) | B37: … | C37: … | D37: … | E37: … | F37: … | G37: … | H37: … | I37: … | J37: … | K37: … | L37: … | M37: … | N37: … | O37: … | P37: … | Q37: … | R37: … | S37: … | T37: … | U37: … | V37: … | W37: … | X37: … | Y37: …
A38: 平.15(2003) | B38: … | C38: … | D38: … | E38: … | F38: … | G38: … | H38: … | I38: … | J38: … | K38: … | L38: … | M38: … | N38: … | O38: … | P38: … | Q38: … | R38: … | S38: … | T38: … | U38: … | V38: … | W38: … | X38: … | Y38: …
A39: 平.16(2004) | B39: 607 | C39: 6050 | D39: 3550 | E39: 56 | F39: 597 | G39: 303 | H39: 395 | I39: 4050 | J39: 2470 | K39: 15 | L39: 148 | M39: 86 | N39: 8 | O39: 83 | P39: 45 | Q39: - | R39: - | S39: - | T39: - | U39: - | V39: - | W39: 133 | X39: 1180 | Y39: 645
A40: 平.17(2005) | B40: … | C40: … | D40: … | E40: … | F40: … | G40: … | H40: … | I40: … | J40: … | K40: … | L40: … | M40: … | N40: … | O40: … | P40: … | Q40: … | R40: … | S40: … | T40: … | U40: … | V40: … | W40: … | X40: … | Y40: …
A41: 平.18(2006) | B41: … | C41: … | D41: … | E41: … | F41: … | G41: … | H41: … | I41: … | J41: … | K41: … | L41: … | M41: … | N41: … | O41: … | P41: … | Q41: … | R41: … | S41: … | T41: … | U41: … | V41: … | W41: … | X41: … | Y41: …
A42: 平.19(2007) | B42: … | C42: … | D42: … | E42: … | F42: … | G42: … | H42: … | I42: … | J42: … | K42: … | L42: … | M42: … | N42: … | O42: … | P42: … | Q42: … | R42: … | S42: … | T42: … | U42: … | V42: … | W42: … | X42: … | Y42: …
A43: 平.20(2008) | B43: … | C43: … | D43: … | E43: … | F43: … | G43: … | H43: … | I43: … | J43: … | K43: … | L43: … | M43: … | N43: … | O43: … | P43: … | Q43: … | R43: … | S43: … | T43: … | U43: … | V43: … | W43: … | X43: … | Y43: …
A44: 平.21(2009) | B44: 574 | C44: 6310 | D44: 4060 | E44: … | F44: … | G44: … | H44: … | I44: … | J44: … | K44: … | L44: … | M44: … | N44: … | O44: … | P44: … | Q44: … | R44: … | S44: … | T44: … | U44: … | V44: … | W44: … | X44: … | Y44: …
A45: 平.22(2010) | B45: … | C45: … | D45: … | E45: … | F45: … | G45: … | H45: … | I45: … | J45: … | K45: … | L45: … | M45: … | N45: … | O45: … | P45: … | Q45: … | R45: … | S45: … | T45: … | U45: … | V45: … | W45: … | X45: … | Y45: …
A46: 平.23(2011) | B46: … | C46: … | D46: … | E46: … | F46: … | G46: … | H46: … | I46: … | J46: … | K46: … | L46: … | M46: … | N46: … | O46: … | P46: … | Q46: … | R46: … | S46: … | T46: … | U46: … | V46: … | W46: … | X46: … | Y46: …
A47: 平.24(2012) | B47: … | C47: … | D47: … | E47: … | F47: … | G47: … | H47: … | I47: … | J47: … | K47: … | L47: … | M47: … | N47: … | O47: … | P47: … | Q47: … | R47: … | S47: … | T47: … | U47: … | V47: … | W47: … | X47: … | Y47: …
A48: 平.25(2013) | B48: … | C48: … | D48: … | E48: … | F48: … | G48: … | H48: … | I48: … | J48: … | K48: … | L48: … | M48: … | N48: … | O48: … | P48: … | Q48: … | R48: … | S48: … | T48: … | U48: … | V48: … | W48: … | X48: … | Y48: …
A49: 平.26(2014) | B49: 546 | C49: 6500 | D49: 3580 | E49: … | F49: … | G49: … | H49: … | I49: … | J49: … | K49: … | L49: … | M49: … | N49: … | O49: … | P49: … | Q49: … | R49: … | S49: … | T49: … | U49: … | V49: … | W49: … | X49: … | Y49: …
A50: 平.27(2015) | B50: … | C50: … | D50: … | E50: … | F50: … | G50: … | H50: … | I50: … | J50: … | K50: … | L50: … | M50: … | N50: … | O50: … | P50: … | Q50: … | R50: … | S50: … | T50: … | U50: … | V50: … | W50: … | X50: … | Y50: …
A51: 平.28(2016) | B51: … | C51: … | D51: … | E51: … | F51: … | G51: … | H51: … | I51: … | J51: … | K51: … | L51: … | M51: … | N51: … | O51: … | P51: … | Q51: … | R51: … | S51: … | T51: … | U51: … | V51: … | W51: … | X51: … | Y51: …
A52: 平.29(2017) | B52: 477 | C52: 5100 | D52: 2810 | E52: … | F52: … | G52: … | H52: … | I52: … | J52: … | K52: … | L52: … | M52: … | N52: … | O52: … | P52: … | Q52: … | R52: … | S52: … | T52: … | U52: … | V52: … | W52: … | X52: … | Y52: …
A53: 平.30(2018) | B53: 422 | C53: 4520 | D53: 2490 | E53: … | F53: … | G53: … | H53: … | I53: … | J53: … | K53: … | L53: … | M53: … | N53: … | O53: … | P53: … | Q53: … | R53: … | S53: … | T53: … | U53: … | V53: … | W53: … | X53: … | Y53: …
A54: 令.元(2019) | B54: 409 | C54: 3140 | D54: 1530 | E54: … | F54: … | G54: … | H54: … | I54: … | J54: … | K54: … | L54: … | M54: … | N54: … | O54: … | P54: … | Q54: … | R54: … | S54: … | T54: … | U54: … | V54: … | W54: … | X54: … | Y54: …
A55: 令.2(2020) | B55: 390 | C55: 3800 | D55: 2490 | E55: … | F55: … | G55: … | H55: … | I55: … | J55: … | K55: … | L55: … | M55: … | N55: … | O55: … | P55: … | Q55: … | R55: … | S55: … | T55: … | U55: … | V55: … | W55: … | X55: … | Y55: …
A56: 令.3(2021) | B56: 377 | C56: 2940 | D56: 2030 | E56: … | F56: … | G56: … | H56: … | I56: … | J56: … | K56: … | L56: … | M56: … | N56: … | O56: … | P56: … | Q56: … | R56: … | S56: … | T56: … | U56: … | V56: … | W56: … | X56: … | Y56: …
A57: 令.4(2022) | B57: 370 | C57: 3810 | D57: 2630 | E57: … | F57: … | G57: … | H57: … | I57: … | J57: … | K57: … | L57: … | M57: … | N57: … | O57: … | P57: … | Q57: … | R57: … | S57: … | T57: … | U57: … | V57: … | W57: … | X57: … | Y57: …
A58: 令.5(2023) | B58: 371 | C58: 3100 | D58: 2140 | E58: … | F58: … | G58: … | H58: … | I58: … | J58: … | K58: … | L58: … | M58: … | N58: … | O58: … | P58: … | Q58: … | R58: … | S58: … | T58: … | U58: … | V58: … | W58: … | X58: … | Y58: …
A59: 令.6(2024) | B59: 358 | C59: 1930 | D59: 1330
B60: （注記）
B61: １．平成13年産以前は、「西村早生」は「その他甘がき」に、「平核無」、「刀根早生」は「その他渋がき」に含んでいる。
B62: ２．平成14年以前の「富有」は「富有・次郎」である。

Sheet R5統計表（かき）
A3: ３ 令和５年産都道府県別の結果樹面積・10ａ当たり収量・収穫量・出荷量
A5: (5) かき
B8: 全国 ・ 都道府県 | E8: 結果樹 面積 | F8: 10ａ当たり 収量 | G8: 収穫量 | H8: 出荷量 | I8: 対前年産比
I9: 結果樹 面積 | J9: 10ａ当たり 収量 | K9: 収穫量 | L9: 出荷量
E11: ha | F11: kg | G11: ｔ | H11: ｔ | I11: ％ | J11: ％ | K11: ％ | L11: ％
B12: 全国 | E12: 17500 | F12: 1060 | G12: 185200 | H12: 159900 | I12: 98 | J12: 88 | K12: 86 | L12: 86
B14: うち | C14: 宮城 | E14: 260 | F14: 315 | G14: 819 | H14: 293 | I14: 93 | J14: 128 | K14: 119 | L14: 124
C15: 山形 | E15: 710 | F15: 741 | G15: 5260 | H15: 4260 | I15: 95 | J15: 84 | K15: 79 | L15: 79
C16: 福島 | E16: 936 | F16: 884 | G16: 8270 | H16: 7100 | I16: 100 | J16: 99 | K16: 98 | L16: 99
C17: 茨城 | E17: 310 | F17: 819 | G17: 2540 | H17: 2280 | I17: 94 | J17: 130 | K17: 122 | L17: 122
C18: 新潟 | E18: 624 | F18: 1430 | G18: 8920 | H18: 8210 | I18: 98 | J18: 73 | K18: 71 | L18: 71
C19: 富山 | E19: 218 | F19: 782 | G19: 1700 | H19: 1240 | I19: 94 | J19: 97 | K19: 92 | L19: 90
C20: 石川 | E20: 269 | F20: 352 | G20: 947 | H20: 836 | I20: 100 | J20: 71 | K20: 71 | L20: 78
C21: 福井 | E21: 129 | F21: 670 | G21: 864 | H21: 648 | I21: 100 | J21: 91 | K21: 91 | L21: 88
C22: 山梨 | E22: 528 | F22: 991 | G22: 5230 | H22: 4710 | I22: 100 | J22: 89 | K22: 89 | L22: 89
C23: 長野 | E23: 632 | F23: 1410 | G23: 8910 | H23: 8400 | I23: 99 | J23: 96 | K23: 95 | L23: 95
C24: 岐阜 | E24: 1200 | F24: 1010 | G24: 12100 | H24: 10800 | I24: 99 | J24: 75 | K24: 75 | L24: 74
C25: 静岡 | E25: 371 | F25: 836 | G25: 3100 | H25: 2140 | I25: 100 | J25: 81 | K25: 81 | L25: 81
C26: 愛知 | E26: 923 | F26: 1090 | G26: 10100 | H26: 8900 | I26: 96 | J26: 69 | K26: 66 | L26: 67
... C37: 熊本 | E37: 311 | F37: 628 | G37: 1950 | H37: 1660 | I37: 95 | J37: 93 | K37: 88 | L37: 88

Sheet R6統計表（かき）
A3: ３ 令和６年産都道府県別の結果樹面積・10ａ当たり収量・収穫量・出荷量
A5: (5) かき
B8: 全国 ・ 都道府県 | E8: 結果樹 面積 | F8: 10ａ当たり 収量 | G8: 収穫量 | H8: 出荷量 | I8: 対前年産比
I9: 結果樹 面積 | J9: 10ａ当たり 収量 | K9: 収穫量 | L9: 出荷量
E11: ha | F11: kg | G11: ｔ | H11: ｔ | I11: ％ | J11: ％ | K11: ％ | L11: ％
B12: 全国 | E12: 17200 | F12: 973 | G12: 167300 | H12: 145400 | I12: 98 | J12: 92 | K12: 90 | L12: 91
B14: うち | C14: 宮城 | E14: 241 | F14: 392 | G14: 945 | H14: 349 | I14: 93 | J14: 124 | K14: 115 | L14: 119
C15: 山形 | E15: 679 | F15: 955 | G15: 6480 | H15: 5300 | I15: 96 | J15: 129 | K15: 123 | L15: 124
C16: 福島 | E16: 906 | F16: 873 | G16: 7910 | H16: 6790 | I16: 97 | J16: 99 | K16: 96 | L16: 96
C17: 茨城 | E17: 296 | F17: 534 | G17: 1580 | H17: 1420 | I17: 95 | J17: 65 | K17: 62 | L17: 62
C18: 新潟 | E18: 611 | F18: 1740 | G18: 10600 | H18: 9750 | I18: 98 | J18: 122 | K18: 119 | L18: 119
C19: 富山 | E19: 210 | F19: 721 | G19: 1510 | H19: 1120 | I19: 96 | J19: 92 | K19: 89 | L19: 90
C20: 石川 | E20: 223 | F20: 496 | G20: 1110 | H20: 977 | I20: 83 | J20: 141 | K20: 117 | L20: 117
C21: 福井 | E21: 129 | F21: 781 | G21: 1010 | H21: 763 | I21: 100 | J21: 117 | K21: 117 | L21: 118
C22: 山梨 | E22: 527 | F22: 876 | G22: 4620 | H22: 4120 | I22: 100 | J22: 88 | K22: 88 | L22: 87
C23: 長野 | E23: 630 | F23: 1400 | G23: 8820 | H23: 8310 | I23: 100 | J23: 99 | K23: 99 | L23: 99
C24: 岐阜 | E24: 1200 | F24: 1030 | G24: 12400 | H24: 10600 | I24: 100 | J24: 102 | K24: 102 | L24: 98
C25: 静岡 | E25: 358 | F25: 538 | G25: 1930 | H25: 1330 | I25: 96 | J25: 64 | K25: 62 | L25: 62
C26: 愛知 | E26: 897 | F26: 988 | G26: 8860 | H26: 7790 | I26: 97 | J26: 91 | K26: 88 | L26: 88
... C37: 熊本 | E37: 304 | F37: 580 | G37: 1760 | H37: 1500 | I37: 98 | J37: 92 | K37: 90 | L37: 90

Sheet かき（全国・静岡）
A1: 果樹生産出荷統計 | G1: 果樹生産出荷統計
A2: 品目別結果樹面積、収穫量及び出荷量累年統計 | G2: 品目別結果樹面積、収穫量及び出荷量累年統計
A3: かき | G3: かき
A4: 全国 | G4: 静岡
A5: 年次 | B5: かき | G5: 年次 | H5: かき
B6: 結果樹面積 | C6: 収穫量 | D6: 出荷量 | H6: 結果樹面積 | I6: 収穫量 | J6: 出荷量
B7: ha | C7: t | D7: t | H7: ha | I7: t | J7: t
A8: 平.29(2017) | B8: =全国!B52 -> 19800 | C8: =全国!C52 -> 224900 | D8: =全国!D52 -> 186400 | G8: 平.29(2017) | H8: =静岡!B52 -> 477 | I8: =静岡!C52 -> 5100 | J8: =静岡!D52 -> 2810
A9: 平.30(2018) | B9: =全国!B53 -> 19100 | C9: =全国!C53 -> 208000 | D9: =全国!D53 -> 172200 | G9: 平.30(2018) | H9: =静岡!B53 -> 422 | I9: =静岡!C53 -> 4520 | J9: =静岡!D53 -> 2490
A10: 令.元(2019) | B10: =全国!B54 -> 18900 | C10: =全国!C54 -> 208200 | D10: =全国!D54 -> 175300 | G10: 令.元(2019) | H10: =静岡!B54 -> 409 | I10: =静岡!C54 -> 3140 | J10: =静岡!D54 -> 1530
A11: 令.2(2020) | B11: =全国!B55 -> 18500 | C11: =全国!C55 -> 193200 | D11: =全国!D55 -> 165900 | G11: 令.2(2020) | H11: =静岡!B55 -> 390 | I11: =静岡!C55 -> 3800 | J11: =静岡!D55 -> 2490
A12: 令.3(2021) | B12: =全国!B56 -> 18100 | C12: =全国!C56 -> 187900 | D12: =全国!D56 -> 162300 | G12: 令.3(2021) | H12: =静岡!B56 -> 377 | I12: =静岡!C56 -> 2940 | J12: =静岡!D56 -> 2030
A13: 令.4(2022) | B13: =全国!B57 -> 17800 | C13: =全国!C57 -> 216100 | D13: =全国!D57 -> 185900 | G13: 令.4(2022) | H13: =静岡!B57 -> 370 | I13: =静岡!C57 -> 3810 | J13: =静岡!D57 -> 2630
A14: 令.5(2023) | B14: =全国!B58 -> 17500 | C14: =全国!C58 -> 185200 | D14: =全国!D58 -> 159900 | G14: 令.5(2023) | H14: =静岡!B58 -> 371 | I14: =静岡!C58 -> 3100 | J14: =静岡!D58 -> 2140
A15: 令.6(2024) | B15: =全国!B59 -> 17200 | C15: =全国!C59 -> 167300 | D15: =全国!D59 -> 145400 | G15: 令.6(2024) | H15: =静岡!B59 -> 358 | I15: =静岡!C59 -> 1930 | J15: =静岡!D59 -> 1330
