Workbook
Name 花きD: 累年!$I$10:$AC$376

Sheet 2010
A1: Ⅱ 農業経営体
A2: 10 販売目的の花き類の類別栽培経営体数
I7: 単位：経営体
A8: 新旧市区町村
I9: 花壇用 苗もの類
E10: 実経営体数 | F10: 切り花類 | G10: 球根類 | H10: 鉢もの類
A13: 県計 | D13: 000-00 | E13: 2580 | F13: 2194 | G13: 93 | H13: 338 | I13: 161
B14: 静岡市 | D14: 100-00 | E14: 309 | F14: 289 | G14: 9 | H14: 21 | I14: 10
B15: 葵区 | D15: 101-00 | E15: 104 | F15: 98 | G15: 2 | H15: 8 | I15: 3
C16: 静岡市２－１ | D16: 101-01 | E16: 58 | F16: 54 | G16: 1 | H16: 6 | I16: 2
C17: 美和村 | D17: 101-02 | E17: 14 | F17: 13 | G17: - | H17: 1 | I17: -
C18: 服織村 | D18: 101-03 | E18: 7 | F18: 7 | G18: 1 | H18: - | I18: -
C19: 中藁科村 | D19: 101-04 | E19: 7 | F19: 6 | G19: - | H19: 1 | I19: 1
C20: 南藁科村 | D20: 101-05 | E20: 3 | F20: 3 | G20: - | H20: - | I20: -
C21: 大河内村 | D21: 101-06 | E21: 5 | F21: 5 | G21: - | H21: - | I21: -
C22: 梅ヶ島村 | D22: 101-07 | E22: 4 | F22: 4 | G22: - | H22: - | I22: -
C23: 玉川村 | D23: 101-08 | E23: - | F23: - | G23: - | H23: - | I23: -
C24: 井川村 | D24: 101-09 | E24: - | F24: - | G24: - | H24: - | I24: -
C25: 清沢村 | D25: 101-10 | E25: 3 | F25: 3 | G25: - | H25: - | I25: -
C26: 大川村 | D26: 101-11 | E26: 3 | F26: 3 | G26: - | H26: - | I26: -
B27: 駿河区 | D27: 102-00 | E27: 54 | F27: 46 | G27: 3 | H27: 6 | I27: 5
C28: 静岡市２－２ | D28: 102-01 | E28: 53 | F28: 45 | G28: 3 | H28: 6 | I28: 5
C29: 有度村２－２ | D29: 102-02 | E29: 1 | F29: 1 | G29: - | H29: - | I29: -
B30: 清水区 | D30: 103-00 | E30: 151 | F30: 145 | G30: 4 | H30: 7 | I30: 2
C31: 清水市 | D31: 103-01 | E31: 4 | F31: 4 | G31: - | H31: - | I31: -
C32: 飯田村 | D32: 103-02 | E32: 9 | F32: 8 | G32: - | H32: 1 | I32: -
C33: 高部村 | D33: 103-03 | E33: 9 | F33: 7 | G33: 1 | H33: 1 | I33: 2
C34: 有度村２－１ | D34: 103-04 | E34: 8 | F34: 8 | G34: - | H34: - | I34: -
C35: 興津町 | D35: 103-05 | E35: 28 | F35: 26 | G35: 1 | H35: 3 | I35: -
C36: 小島村 | D36: 103-06 | E36: 25 | F36: 25 | G36: 1 | H36: - | I36: -
C37: 両河内村 | D37: 103-07 | E37: 6 | F37: 6 | G37: - | H37: - | I37: -
C38: 庵原村 | D38: 103-08 | E38: 49 | F38: 48 | G38: 1 | H38: 1 | I38: -
C39: 袖師町 | D39: 103-09 | E39: 5 | F39: 5 | G39: - | H39: 1 | I39: -
C40: 蒲原町 | D40: 103-10 | E40: 3 | F40: 3 | G40: - | H40: - | I40: -
C41: 由比町 | D41: 103-11 | E41: 5 | F41: 5 | G41: - | H41: - | I41: -
B42: 浜松市 | D42: 130-00 | E42: 1029 | F42: 902 | G42: 45 | H42: 115 | I42: 35
B43: 中区 | D43: 131-00 | E43: 13 | F43: 10 | G43: 1 | H43: 3 | I43: 2
C44: 浜松市４－１ | D44: 131-01 | E44: 10 | F44: 7 | G44: 1 | H44: 3 | I44: 2
C45: 入野村２－１ | D45: 131-02 | E45: 2 | F45: 2 | G45: - | H45: - | I45: -
C46: 吉野村２－１ | D46: 131-03 | E46: 1 | F46: 1 | G46: - | H46: - | I46: -
C47: 新津村２－１ | D47: 131-04 | E47: - | F47: - | G47: - | H47: - | I47: -
B48: 東区 | D48: 132-00 | E48: 28 | F48: 16 | G48: - | H48: 11 | I48: 4
C49: 浜松市４－３ | D49: 132-01 | E49: - | F49: - | G49: - | H49: - | I49: -
C50: 飯田村２－１ | D50: 132-02 | E50: - | F50: - | G50: - | H50: - | I50: -
C51: 和田村 | D51: 132-03 | E51: 3 | F51: 3 | G51: - | H51: - | I51: -
C52: 長上村 | D52: 132-04 | E52: 9 | F52: 4 | G52: - | H52: 5 | I52: 2
C53: 積志村 | D53: 132-05 | E53: 10 | F53: 8 | G53: - | H53: 2 | I53: 1
C54: 笠井町 | D54: 132-06 | E54: 1 | F54: 1 | G54: - | H54: - | I54: -
C55: 豊西村 | D55: 132-07 | E55: 4 | F55: - | G55: - | H55: 4 | I55: -
C56: 中ノ町村 | D56: 132-08 | E56: 1 | F56: - | G56: - | H56: - | I56: 1
C57: 三方原村２－１ | D57: 132-09 | E57: - | F57: - | G57: - | H57: - | I57: -
B58: 西区 | D58: 133-00 | E58: 537 | F58: 503 | G58: 38 | H58: 27 | I58: 12
C59: 神久呂村 | D59: 133-01 | E59: 13 | F59: 12 | G59: 2 | H59: 1 | I59: -
C60: 入野村２－２ | D60: 133-02 | E60: 15 | F60: 14 | G60: - | H60: 1 | I60: -
C61: 吉野村２－２ | D61: 133-03 | E61: - | F61: - | G61: - | H61: - | I61: -
C62: 和地村 | D62: 133-04 | E62: 144 | F62: 135 | G62: 15 | H62: 4 | I62: 4
C63: 伊佐見村 | D63: 133-05 | E63: 132 | F63: 129 | G63: 5 | H63: 2 | I63: 1
C64: 篠原村 | D64: 133-06 | E64: 5 | F64: - | G64: - | H64: 5 | I64: -
C65: 北庄内村 | D65: 133-07 | E65: 174 | F65: 165 | G65: 13 | H65: 11 | I65: 4
C66: 南庄内村 | D66: 133-08 | E66: 24 | F66: 22 | G66: 2 | H66: 1 | I66: -
C67: 村櫛村 | D67: 133-09 | E67: 19 | F67: 19 | G67: - | H67: - | I67: -
C68: 舞阪町 | D68: 133-10 | E68: - | F68: - | G68: - | H68: - | I68: -
C69: 雄踏町 | D69: 133-11 | E69: 11 | F69: 7 | G69: 1 | H69: 2 | I69: 3
C70: 浜松市４－２ | D70: 133-12 | E70: - | F70: - | G70: - | H70: - | I70: -
B71: 南区 | D71: 134-00 | E71: 47 | F71: 41 | G71: 1 | H71: 5 | I71: 1
C72: 浜松市４－４ | D72: 134-01 | E72: 12 | F72: 10 | G72: 1 | H72: 1 | I72: -
C73: 芳川村 | D73: 134-02 | E73: 9 | F73: 9 | G73: - | H73: - | I73: -
C74: 飯田村２－１ | D74: 134-03 | E74: 1 | F74: 1 | G74: - | H74: - | I74: -
C75: 河輪村 | D75: 134-04 | E75: 16 | F75: 16 | G75: - | H75: - | I75: -
C76: 五島村 | D76: 134-05 | E76: 5 | F76: 4 | G76: - | H76: 1 | I76: -
C77: 新津村２－２ | D77: 134-06 | E77: 1 | F77: - | G77: - | H77: 1 | I77: -
C78: 可美村 | D78: 134-07 | E78: 3 | F78: 1 | G78: - | H78: 2 | I78: 1
B79: 北区 | D79: 135-00 | E79: 353 | F79: 309 | G79: 5 | H79: 46 | I79: 8
C80: 三方原村２－２ | D80: 135-01 | E80: 35 | F80: 27 | G80: 2 | H80: 9 | I80: 1
C81: 都田村 | D81: 135-02 | E81: 39 | F81: 28 | G81: - | H81: 10 | I81: 3
C82: 気賀町 | D82: 135-03 | E82: 23 | F82: 22 | G82: - | H82: 2 | I82: -
C83: 中川村 | D83: 135-04 | E83: 8 | F83: 4 | G83: - | H83: 4 | I83: -
C84: 金指町 | D84: 135-05 | E84: - | F84: - | G84: - | H84: - | I84: -
C85: 井伊谷村 | D85: 135-06 | E85: 76 | F85: 72 | G85: 1 | H85: 6 | I85: 1
C86: 奥山村 | D86: 135-07 | E86: 57 | F86: 57 | G86: - | H86: - | I86: -
C87: 伊平村 | D87: 135-08 | E87: 37 | F87: 36 | G87: 2 | H87: 2 | I87: -
C88: 鎮玉村 | D88: 135-09 | E88: 46 | F88: 46 | G88: - | H88: - | I88: -
C89: 三ヶ日町 | D89: 135-10 | E89: 19 | F89: 10 | G89: - | H89: 9 | I89: -
C90: 東浜名村 | D90: 135-11 | E90: 13 | F90: 7 | G90: - | H90: 4 | I90: 3
B91: 浜北区 | D91: 136-00 | E91: 42 | F91: 14 | G91: - | H91: 23 | I91: 8
C92: 小野口村 | D92: 136-01 | E92: 5 | F92: - | G92: - | H92: 4 | I92: 1
C93: 北浜村 | D93: 136-02 | E93: 8 | F93: 2 | G93: - | H93: 4 | I93: 3
C94: 竜池村 | D94: 136-03 | E94: 1 | F94: 1 | G94: - | H94: - | I94: -
C95: 中瀬村 | D95: 136-04 | E95: 4 | F95: 2 | G95: - | H95: 1 | I95: 1
C96: 赤佐村 | D96: 136-05 | E96: 3 | F96: 3 | G96: - | H96: - | I96: -
C97: 麁玉村 | D97: 136-06 | E97: 21 | F97: 6 | G97: - | H97: 14 | I97: 3
B98: 天竜区 | D98: 137-00 | E98: 9 | F98: 9 | G98: - | H98: - | I98: -
C99: 二俣町 | D99: 137-01 | E99: X | F99: X | G99: X | H99: X | I99: X
C100: 光明村 | D100: 137-02 | E100: - | F100: - | G100: - | H100: - | I100: -
C101: 上阿多古村 | D101: 137-03 | E101: - | F101: - | G101: - | H101: - | I101: -
C102: 下阿多古村 | D102: 137-04 | E102: - | F102: - | G102: - | H102: - | I102: -
C103: 熊村 | D103: 137-05 | E103: - | F103: - | G103: - | H103: - | I103: -
C104: 竜川村 | D104: 137-06 | E104: - | F104: - | G104: - | H104: - | I104: -
C105: 犬居町 | D105: 137-07 | E105: - | F105: - | G105: - | H105: - | I105: -
C106: 気多村 | D106: 137-08 | E106: - | F106: - | G106: - | H106: - | I106: -
...

Sheet 2015
A1: Ⅱ 農業経営体
A2: 13 販売目的で栽培した花き類の品目別栽培経営体数
I5: 単位：経営体
A6: 新旧市区町村 | E6: 栽 培 実経営体数 | F6: 切り花類 | G6: 球 根 類 | H6: 鉢もの類 | I6: 花 壇 用 苗もの類
A13: 静岡県 | E13: 2167 | F13: 1883 | G13: 76 | H13: 254 | I13: 118
B14: 静岡市 | D14: 100-00 | E14: 242 | F14: 229 | G14: 8 | H14: 9 | I14: 10
B15: 葵区 | D15: 101-00 | E15: 97 | F15: 91 | G15: 3 | H15: 5 | I15: 5
C16: 静岡市２－１ | D16: 101-01 | E16: 51 | F16: 48 | G16: - | H16: 2 | I16: 3
C17: 美和村 | D17: 101-02 | E17: 14 | F17: 13 | G17: - | H17: - | I17: 1
C18: 服織村 | D18: 101-03 | E18: 6 | F18: 6 | G18: 1 | H18: - | I18: -
C19: 中藁科村 | D19: 101-04 | E19: 6 | F19: 4 | G19: - | H19: 2 | I19: -
C20: 南藁科村 | D20: 101-05 | E20: 7 | F20: 7 | G20: - | H20: - | I20: -
C21: 大河内村 | D21: 101-06 | E21: 6 | F21: 6 | G21: - | H21: - | I21: -
C22: 梅ヶ島村 | D22: 101-07 | E22: 3 | F22: 3 | G22: - | H22: - | I22: -
C23: 玉川村 | D23: 101-08 | E23: 1 | F23: 1 | G23: 1 | H23: 1 | I23: 1
C24: 井川村 | D24: 101-09 | E24: - | F24: - | G24: - | H24: - | I24: -
C25: 清沢村 | D25: 101-10 | E25: 1 | F25: 1 | G25: - | H25: - | I25: -
C26: 大川村 | D26: 101-11 | E26: 2 | F26: 2 | G26: 1 | H26: - | I26: -
B27: 駿河区 | D27: 102-00 | E27: 37 | F27: 32 | G27: 2 | H27: 1 | I27: 4
C28: 静岡市２－２ | D28: 102-01 | E28: 37 | F28: 32 | G28: 2 | H28: 1 | I28: 4
C29: 有度村２－２ | D29: 102-02 | E29: - | F29: - | G29: - | H29: - | I29: -
B30: 清水区 | D30: 103-00 | E30: 108 | F30: 106 | G30: 3 | H30: 3 | I30: 1
C31: 清水市 | D31: 103-01 | E31: 2 | F31: 2 | G31: - | H31: - | I31: -
C32: 飯田村 | D32: 103-02 | E32: 6 | F32: 6 | G32: - | H32: 1 | I32: -
C33: 高部村 | D33: 103-03 | E33: 5 | F33: 4 | G33: - | H33: 1 | I33: -
C34: 有度村２－１ | D34: 103-04 | E34: 6 | F34: 5 | G34: 1 | H34: - | I34: 1
C35: 興津町 | D35: 103-05 | E35: 17 | F35: 17 | G35: - | H35: 1 | I35: -
C36: 小島村 | D36: 103-06 | E36: 20 | F36: 20 | G36: - | H36: - | I36: -
C37: 両河内村 | D37: 103-07 | E37: 4 | F37: 4 | G37: - | H37: - | I37: -
C38: 庵原村 | D38: 103-08 | E38: 38 | F38: 38 | G38: 2 | H38: - | I38: -
C39: 袖師町 | D39: 103-09 | E39: 5 | F39: 5 | G39: - | H39: - | I39: -
C40: 蒲原町 | D40: 103-10 | E40: 2 | F40: 2 | G40: - | H40: - | I40: -
C41: 由比町 | D41: 103-11 | E41: 3 | F41: 3 | G41: - | H41: - | I41: -
B42: 浜松市 | D42: 130-00 | E42: 869 | F42: 776 | G42: 41 | H42: 85 | I42: 23
B43: 中区 | D43: 131-00 | E43: 8 | F43: 7 | G43: - | H43: 1 | I43: -
C44: 浜松市４－１ | D44: 131-01 | E44: 6 | F44: 5 | G44: - | H44: 1 | I44: -
C45: 入野村２－１ | D45: 131-02 | E45: 2 | F45: 2 | G45: - | H45: - | I45: -
C46: 吉野村２－１ | D46: 131-03 | E46: - | F46: - | G46: - | H46: - | I46: -
C47: 新津村２－１ | D47: 131-04 | E47: - | F47: - | G47: - | H47: - | I47: -
B48: 東区 | D48: 132-00 | E48: 22 | F48: 14 | G48: - | H48: 8 | I48: 3
C49: 浜松市４－３ | D49: 132-01 | E49: - | F49: - | G49: - | H49: - | I49: -
C50: 飯田村２－１ | D50: 132-02 | E50: - | F50: - | G50: - | H50: - | I50: -
C51: 和田村 | D51: 132-03 | E51: 1 | F51: 1 | G51: - | H51: - | I51: -
C52: 長上村 | D52: 132-04 | E52: 6 | F52: 3 | G52: - | H52: 3 | I52: 2
C53: 積志村 | D53: 132-05 | E53: 8 | F53: 7 | G53: - | H53: - | I53: 1
C54: 笠井町 | D54: 132-06 | E54: 1 | F54: 1 | G54: - | H54: - | I54: -
C55: 豊西村 | D55: 132-07 | E55: 5 | F55: 1 | G55: - | H55: 5 | I55: -
C56: 中ノ町村 | D56: 132-08 | E56: 1 | F56: 1 | G56: - | H56: - | I56: -
C57: 三方原村２－１ | D57: 132-09 | E57: - | F57: - | G57: - | H57: - | I57: -
B58: 西区 | D58: 133-00 | E58: 395 | F58: 364 | G58: 35 | H58: 25 | I58: 7
C59: 神久呂村 | D59: 133-01 | E59: 12 | F59: 11 | G59: 2 | H59: 1 | I59: 1
C60: 入野村２－２ | D60: 133-02 | E60: 11 | F60: 10 | G60: - | H60: 1 | I60: 1
C61: 吉野村２－２ | D61: 133-03 | E61: 2 | F61: - | G61: 2 | H61: - | I61: -
C62: 和地村 | D62: 133-04 | E62: 108 | F62: 101 | G62: 8 | H62: 4 | I62: 2
C63: 伊佐見村 | D63: 133-05 | E63: 99 | F63: 96 | G63: 3 | H63: 3 | I63: 1
C64: 篠原村 | D64: 133-06 | E64: 4 | F64: - | G64: - | H64: 4 | I64: 1
C65: 北庄内村 | D65: 133-07 | E65: 127 | F65: 115 | G65: 15 | H65: 10 | I65: 1
C66: 南庄内村 | D66: 133-08 | E66: 16 | F66: 15 | G66: 2 | H66: 1 | I66: -
C67: 村櫛村 | D67: 133-09 | E67: 13 | F67: 13 | G67: 3 | H67: - | I67: -
C68: 舞阪町 | D68: 133-10 | E68: - | F68: - | G68: - | H68: - | I68: -
C69: 雄踏町 | D69: 133-11 | E69: 3 | F69: 3 | G69: - | H69: 1 | I69: -
C70: 浜松市４－２ | D70: 133-12 | E70: - | F70: - | G70: - | H70: - | I70: -
B71: 南区 | D71: 134-00 | E71: 24 | F71: 22 | G71: - | H71: 3 | I71: -
C72: 浜松市４－４ | D72: 134-01 | E72: 6 | F72: 6 | G72: - | H72: - | I72: -
C73: 芳川村 | D73: 134-02 | E73: 7 | F73: 7 | G73: - | H73: - | I73: -
C74: 飯田村２－１ | D74: 134-03 | E74: - | F74: - | G74: - | H74: - | I74: -
C75: 河輪村 | D75: 134-04 | E75: 6 | F75: 6 | G75: - | H75: - | I75: -
C76: 五島村 | D76: 134-05 | E76: 3 | F76: 2 | G76: - | H76: 1 | I76: -
C77: 新津村２－２ | D77: 134-06 | E77: 1 | F77: - | G77: - | H77: 1 | I77: -
C78: 可美村 | D78: 134-07 | E78: 1 | F78: 1 | G78: - | H78: 1 | I78: -
B79: 北区 | D79: 135-00 | E79: 340 | F79: 312 | G79: 5 | H79: 29 | I79: 6
C80: 三方原村２－２ | D80: 135-01 | E80: 19 | F80: 15 | G80: 1 | H80: 5 | I80: -
C81: 都田村 | D81: 135-02 | E81: 35 | F81: 24 | G81: - | H81: 8 | I81: 4
C82: 気賀町 | D82: 135-03 | E82: 31 | F82: 31 | G82: - | H82: - | I82: -
C83: 中川村 | D83: 135-04 | E83: 8 | F83: 7 | G83: - | H83: 3 | I83: -
C84: 金指町 | D84: 135-05 | E84: - | F84: - | G84: - | H84: - | I84: -
C85: 井伊谷村 | D85: 135-06 | E85: 60 | F85: 57 | G85: 1 | H85: 3 | I85: -
C86: 奥山村 | D86: 135-07 | E86: 59 | F86: 59 | G86: 1 | H86: 1 | I86: -
C87: 伊平村 | D87: 135-08 | E87: 37 | F87: 36 | G87: 2 | H87: 1 | I87: 1
C88: 鎮玉村 | D88: 135-09 | E88: 63 | F88: 62 | G88: - | H88: 1 | I88: -
C89: 三ヶ日町 | D89: 135-10 | E89: 17 | F89: 13 | G89: - | H89: 5 | I89: -
C90: 東浜名村 | D90: 135-11 | E90: 11 | F90: 8 | G90: - | H90: 2 | I90: 1
B91: 浜北区 | D91: 136-00 | E91: 41 | F91: 19 | G91: 1 | H91: 19 | I91: 6
C92: 小野口村 | D92: 136-01 | E92: 7 | F92: 3 | G92: - | H92: 3 | I92: 1
C93: 北浜村 | D93: 136-02 | E93: 4 | F93: 2 | G93: - | H93: 2 | I93: -
C94: 竜池村 | D94: 136-03 | E94: - | F94: - | G94: - | H94: - | I94: -
C95: 中瀬村 | D95: 136-04 | E95: 3 | F95: 2 | G95: - | H95: - | I95: 1
C96: 赤佐村 | D96: 136-05 | E96: 5 | F96: 3 | G96: - | H96: 2 | I96: -
C97: 麁玉村 | D97: 136-06 | E97: 22 | F97: 9 | G97: 1 | H97: 12 | I97: 4
B98: 天竜区 | D98: 137-00 | E98: 39 | F98: 38 | G98: - | H98: - | I98: 1
C99: 二俣町 | D99: 137-01 | E99: - | F99: - | G99: - | H99: - | I99: -
C100: 光明村 | D100: 137-02 | E100: 4 | F100: 4 | G100: - | H100: - | I100: -
C101: 上阿多古村 | D101: 137-03 | E101: - | F101: - | G101: - | H101: - | I101: -
C102: 下阿多古村 | D102: 137-04 | E102: 1 | F102: 1 | G102: - | H102: - | I102: -
C103: 熊村 | D103: 137-05 | E103: 21 | F103: 20 | G103: - | H103: - | I103: 1
C104: 竜川村 | D104: 137-06 | E104: - | F104: - | G104: - | H104: - | I104: -
C105: 犬居町 | D105: 137-07 | E105: - | F105: - | G105: - | H105: - | I105: -
C106: 気多村 | D106: 137-08 | E106: - | F106: - | G106: - | H106: - | I106: -
C107: 熊切村 | D107: 137-09 | E107: 5 | F107: 5 | G107: - | H107: - | I107: -
C108: 龍山村 | D108: 137-10 | E108: 8 | F108: 8 | G108: - | H108: - | I108: -
...

Sheet 2020
A1: Ⅱ 農業経営体（総数）
A2: 17 販売目的の花き類の品目別作付（栽培）経営体数
M3: 単位：経営体
A4: 新旧市区町村 | I4: 作 付 （栽 培） 実経営体数 | J4: 切り花類 | K4: 球根類 | L4: 鉢もの類 | M4: 花 壇 用 苗もの類
A6: コード | E6: 名称
A7: 都道府県 | B7: 振興局 | C7: 市区町村 | D7: 旧市区町村 | E7: 都道府県 | F7: 振興局 | G7: 市区町村 | H7: 旧市区町村
A10: 22 | B10: 00 | C10: 000 | D10: 00 | E10: 静岡県 | I10: 1671 | J10: 1412 | K10: 66 | L10: 189 | M10: 107
A11: 22 | B11: 00 | C11: 100 | D11: 00 | E11: 静岡県 | G11: 静岡市 | I11: 210 | J11: 197 | K11: 7 | L11: 7 | M11: 9
A12: 22 | B12: 00 | C12: 101 | D12: 00 | E12: 静岡県 | G12: 葵区 | I12: 71 | J12: 66 | K12: 5 | L12: 3 | M12: 3
A13: 22 | B13: 00 | C13: 101 | D13: 01 | E13: 静岡県 | G13: 葵区 | H13: 静岡市２－１ | I13: 40 | J13: 35 | K13: 2 | L13: 3 | M13: 2
A14: 22 | B14: 00 | C14: 101 | D14: 02 | E14: 静岡県 | G14: 葵区 | H14: 美和村 | I14: 9 | J14: 9 | K14: - | L14: - | M14: -
A15: 22 | B15: 00 | C15: 101 | D15: 03 | E15: 静岡県 | G15: 葵区 | H15: 服織村 | I15: 3 | J15: 3 | K15: 1 | L15: - | M15: -
A16: 22 | B16: 00 | C16: 101 | D16: 04 | E16: 静岡県 | G16: 葵区 | H16: 中藁科村 | I16: 8 | J16: 8 | K16: 1 | L16: - | M16: 1
A17: 22 | B17: 00 | C17: 101 | D17: 05 | E17: 静岡県 | G17: 葵区 | H17: 南藁科村 | I17: 3 | J17: 3 | K17: 1 | L17: - | M17: -
A18: 22 | B18: 00 | C18: 101 | D18: 06 | E18: 静岡県 | G18: 葵区 | H18: 大河内村 | I18: 2 | J18: 2 | K18: - | L18: - | M18: -
A19: 22 | B19: 00 | C19: 101 | D19: 07 | E19: 静岡県 | G19: 葵区 | H19: 梅ヶ島村 | I19: 3 | J19: 3 | K19: - | L19: - | M19: -
A20: 22 | B20: 00 | C20: 101 | D20: 08 | E20: 静岡県 | G20: 葵区 | H20: 玉川村 | I20: - | J20: - | K20: - | L20: - | M20: -
A21: 22 | B21: 00 | C21: 101 | D21: 09 | E21: 静岡県 | G21: 葵区 | H21: 井川村 | I21: - | J21: - | K21: - | L21: - | M21: -
A22: 22 | B22: 00 | C22: 101 | D22: 10 | E22: 静岡県 | G22: 葵区 | H22: 清沢村 | I22: 2 | J22: 2 | K22: - | L22: - | M22: -
A23: 22 | B23: 00 | C23: 101 | D23: 11 | E23: 静岡県 | G23: 葵区 | H23: 大川村 | I23: 1 | J23: 1 | K23: - | L23: - | M23: -
A24: 22 | B24: 00 | C24: 102 | D24: 00 | E24: 静岡県 | G24: 駿河区 | I24: 33 | J24: 30 | K24: 1 | L24: 1 | M24: 3
A25: 22 | B25: 00 | C25: 102 | D25: 01 | E25: 静岡県 | G25: 駿河区 | H25: 静岡市２－２ | I25: 31 | J25: 28 | K25: - | L25: 1 | M25: 3
A26: 22 | B26: 00 | C26: 102 | D26: 02 | E26: 静岡県 | G26: 駿河区 | H26: 有度村２－２ | I26: 2 | J26: 2 | K26: 1 | L26: - | M26: -
A27: 22 | B27: 00 | C27: 103 | D27: 00 | E27: 静岡県 | G27: 清水区 | I27: 106 | J27: 101 | K27: 1 | L27: 3 | M27: 3
A28: 22 | B28: 00 | C28: 103 | D28: 01 | E28: 静岡県 | G28: 清水区 | H28: 清水市 | I28: 1 | J28: 1 | K28: - | L28: - | M28: -
A29: 22 | B29: 00 | C29: 103 | D29: 02 | E29: 静岡県 | G29: 清水区 | H29: 飯田村 | I29: 11 | J29: 10 | K29: - | L29: 1 | M29: -
A30: 22 | B30: 00 | C30: 103 | D30: 03 | E30: 静岡県 | G30: 清水区 | H30: 高部村 | I30: 6 | J30: 5 | K30: 1 | L30: 1 | M30: 1
A31: 22 | B31: 00 | C31: 103 | D31: 04 | E31: 静岡県 | G31: 清水区 | H31: 有度村２－１ | I31: 10 | J31: 9 | K31: - | L31: 1 | M31: -
A32: 22 | B32: 00 | C32: 103 | D32: 05 | E32: 静岡県 | G32: 清水区 | H32: 興津町 | I32: 13 | J32: 13 | K32: - | L32: - | M32: -
A33: 22 | B33: 00 | C33: 103 | D33: 06 | E33: 静岡県 | G33: 清水区 | H33: 小島村 | I33: 15 | J33: 15 | K33: - | L33: - | M33: -
A34: 22 | B34: 00 | C34: 103 | D34: 07 | E34: 静岡県 | G34: 清水区 | H34: 両河内村 | I34: 8 | J34: 8 | K34: - | L34: - | M34: -
A35: 22 | B35: 00 | C35: 103 | D35: 08 | E35: 静岡県 | G35: 清水区 | H35: 庵原村 | I35: 36 | J35: 34 | K35: - | L35: - | M35: 2
A36: 22 | B36: 00 | C36: 103 | D36: 09 | E36: 静岡県 | G36: 清水区 | H36: 袖師町 | I36: 4 | J36: 4 | K36: - | L36: - | M36: -
A37: 22 | B37: 00 | C37: 103 | D37: 10 | E37: 静岡県 | G37: 清水区 | H37: 蒲原町 | I37: 1 | J37: 1 | K37: - | L37: - | M37: -
A38: 22 | B38: 00 | C38: 103 | D38: 11 | E38: 静岡県 | G38: 清水区 | H38: 由比町 | I38: 1 | J38: 1 | K38: - | L38: - | M38: -
A39: 22 | B39: 00 | C39: 130 | D39: 00 | E39: 静岡県 | G39: 浜松市 | I39: 641 | J39: 560 | K39: 31 | L39: 69 | M39: 21
A40: 22 | B40: 00 | C40: 131 | D40: 00 | E40: 静岡県 | G40: 中区 | I40: 5 | J40: 5 | K40: - | L40: - | M40: -
A41: 22 | B41: 00 | C41: 131 | D41: 01 | E41: 静岡県 | G41: 中区 | H41: 浜松市４－１ | I41: 3 | J41: 3 | K41: - | L41: - | M41: -
A42: 22 | B42: 00 | C42: 131 | D42: 02 | E42: 静岡県 | G42: 中区 | H42: 入野村２－１ | I42: 2 | J42: 2 | K42: - | L42: - | M42: -
A43: 22 | B43: 00 | C43: 131 | D43: 03 | E43: 静岡県 | G43: 中区 | H43: 吉野村２－１ | I43: - | J43: - | K43: - | L43: - | M43: -
A44: 22 | B44: 00 | C44: 131 | D44: 04 | E44: 静岡県 | G44: 中区 | H44: 新津村２－１ | I44: - | J44: - | K44: - | L44: - | M44: -
A45: 22 | B45: 00 | C45: 132 | D45: 00 | E45: 静岡県 | G45: 東区 | I45: 18 | J45: 10 | K45: - | L45: 7 | M45: 1
A46: 22 | B46: 00 | C46: 132 | D46: 01 | E46: 静岡県 | G46: 東区 | H46: 浜松市４－３ | I46: - | J46: - | K46: - | L46: - | M46: -
A47: 22 | B47: 00 | C47: 132 | D47: 02 | E47: 静岡県 | G47: 東区 | H47: 飯田村２－１ | I47: - | J47: - | K47: - | L47: - | M47: -
A48: 22 | B48: 00 | C48: 132 | D48: 03 | E48: 静岡県 | G48: 東区 | H48: 和田村 | I48: 1 | J48: 1 | K48: - | L48: - | M48: -
A49: 22 | B49: 00 | C49: 132 | D49: 04 | E49: 静岡県 | G49: 東区 | H49: 長上村 | I49: 4 | J49: 2 | K49: - | L49: 2 | M49: -
A50: 22 | B50: 00 | C50: 132 | D50: 05 | E50: 静岡県 | G50: 東区 | H50: 積志村 | I50: 7 | J50: 6 | K50: - | L50: - | M50: 1
A51: 22 | B51: 00 | C51: 132 | D51: 06 | E51: 静岡県 | G51: 東区 | H51: 笠井町 | I51: - | J51: - | K51: - | L51: - | M51: -
A52: 22 | B52: 00 | C52: 132 | D52: 07 | E52: 静岡県 | G52: 東区 | H52: 豊西村 | I52: 6 | J52: 1 | K52: - | L52: 5 | M52: -
A53: 22 | B53: 00 | C53: 132 | D53: 08 | E53: 静岡県 | G53: 東区 | H53: 中ノ町村 | I53: - | J53: - | K53: - | L53: - | M53: -
A54: 22 | B54: 00 | C54: 132 | D54: 09 | E54: 静岡県 | G54: 東区 | H54: 三方原村２－１ | I54: - | J54: - | K54: - | L54: - | M54: -
A55: 22 | B55: 00 | C55: 133 | D55: 00 | E55: 静岡県 | G55: 西区 | I55: 286 | J55: 261 | K55: 23 | L55: 18 | M55: 6
A56: 22 | B56: 00 | C56: 133 | D56: 01 | E56: 静岡県 | G56: 西区 | H56: 神久呂村 | I56: 4 | J56: 3 | K56: - | L56: - | M56: 1
A57: 22 | B57: 00 | C57: 133 | D57: 02 | E57: 静岡県 | G57: 西区 | H57: 入野村２－２ | I57: 3 | J57: 2 | K57: 1 | L57: 1 | M57: -
A58: 22 | B58: 00 | C58: 133 | D58: 03 | E58: 静岡県 | G58: 西区 | H58: 吉野村２－２ | I58: 2 | J58: 1 | K58: 1 | L58: - | M58: -
A59: 22 | B59: 00 | C59: 133 | D59: 04 | E59: 静岡県 | G59: 西区 | H59: 和地村 | I59: 77 | J59: 73 | K59: 3 | L59: 4 | M59: 1
A60: 22 | B60: 00 | C60: 133 | D60: 05 | E60: 静岡県 | G60: 西区 | H60: 伊佐見村 | I60: 71 | J60: 67 | K60: 2 | L60: 3 | M60: 2
A61: 22 | B61: 00 | C61: 133 | D61: 06 | E61: 静岡県 | G61: 西区 | H61: 篠原村 | I61: 2 | J61: 1 | K61: - | L61: 1 | M61: -
A62: 22 | B62: 00 | C62: 133 | D62: 07 | E62: 静岡県 | G62: 西区 | H62: 北庄内村 | I62: 104 | J62: 94 | K62: 10 | L62: 7 | M62: 2
A63: 22 | B63: 00 | C63: 133 | D63: 08 | E63: 静岡県 | G63: 西区 | H63: 南庄内村 | I63: 14 | J63: 13 | K63: 3 | L63: 1 | M63: -
A64: 22 | B64: 00 | C64: 133 | D64: 09 | E64: 静岡県 | G64: 西区 | H64: 村櫛村 | I64: 7 | J64: 6 | K64: 3 | L64: - | M64: -
A65: 22 | B65: 00 | C65: 133 | D65: 10 | E65: 静岡県 | G65: 西区 | H65: 舞阪町 | I65: 1 | J65: - | K65: - | L65: 1 | M65: -
A66: 22 | B66: 00 | C66: 133 | D66: 11 | E66: 静岡県 | G66: 西区 | H66: 雄踏町 | I66: 1 | J66: 1 | K66: - | L66: - | M66: -
A67: 22 | B67: 00 | C67: 133 | D67: 12 | E67: 静岡県 | G67: 西区 | H67: 浜松市４－２ | I67: - | J67: - | K67: - | L67: - | M67: -
A68: 22 | B68: 00 | C68: 134 | D68: 00 | E68: 静岡県 | G68: 南区 | I68: 18 | J68: 16 | K68: 1 | L68: 2 | M68: -
A69: 22 | B69: 00 | C69: 134 | D69: 01 | E69: 静岡県 | G69: 南区 | H69: 浜松市４－４ | I69: 3 | J69: 3 | K69: - | L69: - | M69: -
A70: 22 | B70: 00 | C70: 134 | D70: 02 | E70: 静岡県 | G70: 南区 | H70: 芳川村 | I70: 4 | J70: 4 | K70: - | L70: - | M70: -
A71: 22 | B71: 00 | C71: 134 | D71: 03 | E71: 静岡県 | G71: 南区 | H71: 飯田村２－２ | I71: 1 | J71: 1 | K71: - | L71: - | M71: -
A72: 22 | B72: 00 | C72: 134 | D72: 04 | E72: 静岡県 | G72: 南区 | H72: 河輪村 | I72: 6 | J72: 6 | K72: 1 | L72: - | M72: -
A73: 22 | B73: 00 | C73: 134 | D73: 05 | E73: 静岡県 | G73: 南区 | H73: 五島村 | I73: 2 | J73: 2 | K73: - | L73: - | M73: -
A74: 22 | B74: 00 | C74: 134 | D74: 06 | E74: 静岡県 | G74: 南区 | H74: 新津村２－２ | I74: 2 | J74: - | K74: - | L74: 2 | M74: -
A75: 22 | B75: 00 | C75: 134 | D75: 07 | E75: 静岡県 | G75: 南区 | H75: 可美村 | I75: - | J75: - | K75: - | L75: - | M75: -
A76: 22 | B76: 00 | C76: 135 | D76: 00 | E76: 静岡県 | G76: 北区 | I76: 252 | J76: 224 | K76: 6 | L76: 27 | M76: 8
A77: 22 | B77: 00 | C77: 135 | D77: 01 | E77: 静岡県 | G77: 北区 | H77: 三方原村２－２ | I77: 21 | J77: 13 | K77: 2 | L77: 8 | M77: 3
A78: 22 | B78: 00 | C78: 135 | D78: 02 | E78: 静岡県 | G78: 北区 | H78: 都田村 | I78: 32 | J78: 24 | K78: - | L78: 7 | M78: 2
A79: 22 | B79: 00 | C79: 135 | D79: 03 | E79: 静岡県 | G79: 北区 | H79: 気賀町 | I79: 19 | J79: 19 | K79: 1 | L79: - | M79: -
A80: 22 | B80: 00 | C80: 135 | D80: 04 | E80: 静岡県 | G80: 北区 | H80: 中川村 | I80: 7 | J80: 6 | K80: - | L80: 1 | M80: -
A81: 22 | B81: 00 | C81: 135 | D81: 05 | E81: 静岡県 | G81: 北区 | H81: 金指町 | I81: 1 | J81: 1 | K81: - | L81: - | M81: -
A82: 22 | B82: 00 | C82: 135 | D82: 06 | E82: 静岡県 | G82: 北区 | H82: 井伊谷村 | I82: 51 | J82: 48 | K82: 1 | L82: 2 | M82: 1
A83: 22 | B83: 00 | C83: 135 | D83: 07 | E83: 静岡県 | G83: 北区 | H83: 奥山村 | I83: 35 | J83: 34 | K83: 1 | L83: - | M83: -
A84: 22 | B84: 00 | C84: 135 | D84: 08 | E84: 静岡県 | G84: 北区 | H84: 伊平村 | I84: 37 | J84: 37 | K84: - | L84: 1 | M84: -
A85: 22 | B85: 00 | C85: 135 | D85: 09 | E85: 静岡県 | G85: 北区 | H85: 鎮玉村 | I85: 23 | J85: 23 | K85: - | L85: - | M85: -
A86: 22 | B86: 00 | C86: 135 | D86: 10 | E86: 静岡県 | G86: 北区 | H86: 三ヶ日町 | I86: 18 | J86: 14 | K86: 1 | L86: 6 | M86: 1
A87: 22 | B87: 00 | C87: 135 | D87: 11 | E87: 静岡県 | G87: 北区 | H87: 東浜名村 | I87: 8 | J87: 5 | K87: - | L87: 2 | M87: 1
A88: 22 | B88: 00 | C88: 136 | D88: 00 | E88: 静岡県 | G88: 浜北区 | I88: 33 | J88: 16 | K88: 1 | L88: 14 | M88: 6
A89: 22 | B89: 00 | C89: 136 | D89: 01 | E89: 静岡県 | G89: 浜北区 | H89: 小野口村 | I89: 3 | J89: 1 | K89: - | L89: 2 | M89: -
A90: 22 | B90: 00 | C90: 136 | D90: 02 | E90: 静岡県 | G90: 浜北区 | H90: 北浜村 | I90: 2 | J90: - | K90: - | L90: 1 | M90: 1
A91: 22 | B91: 00 | C91: 136 | D91: 03 | E91: 静岡県 | G91: 浜北区 | H91: 竜池村 | I91: - | J91: - | K91: - | L91: - | M91: -
A92: 22 | B92: 00 | C92: 136 | D92: 04 | E92: 静岡県 | G92: 浜北区 | H92: 中瀬村 | I92: 4 | J92: 3 | K92: - | L92: - | M92: 1
A93: 22 | B93: 00 | C93: 136 | D93: 05 | E93: 静岡県 | G93: 浜北区 | H93: 赤佐村 | I93: 1 | J93: 1 | K93: - | L93: - | M93: -
A94: 22 | B94: 00 | C94: 136 | D94: 06 | E94: 静岡県 | G94: 浜北区 | H94: 麁玉村 | I94: 23 | J94: 11 | K94: 1 | L94: 11 | M94: 4
A95: 22 | B95: 00 | C95: 137 | D95: 00 | E95: 静岡県 | G95: 天竜区 | I95: 29 | J95: 28 | K95: - | L95: 1 | M95: -
A96: 22 | B96: 00 | C96: 137 | D96: 01 | E96: 静岡県 | G96: 天竜区 | H96: 二俣町 | I96: x | J96: x | K96: x | L96: x | M96: x
A97: 22 | B97: 00 | C97: 137 | D97: 02 | E97: 静岡県 | G97: 天竜区 | H97: 光明村 | I97: 2 | J97: 2 | K97: - | L97: - | M97: -
A98: 22 | B98: 00 | C98: 137 | D98: 03 | E98: 静岡県 | G98: 天竜区 | H98: 上阿多古村 | I98: 4 | J98: 3 | K98: - | L98: 1 | M98: -
A99: 22 | B99: 00 | C99: 137 | D99: 04 | E99: 静岡県 | G99: 天竜区 | H99: 下阿多古村 | I99: 1 | J99: 1 | K99: - | L99: - | M99: -
A100: 22 | B100: 00 | C100: 137 | D100: 05 | E100: 静岡県 | G100: 天竜区 | H100: 熊村 | I100: 9 | J100: 9 | K100: - | L100: - | M100: -
A101: 22 | B101: 00 | C101: 137 | D101: 06 | E101: 静岡県 | G101: 天竜区 | H101: 竜川村 | I101: 1 | J101: 1 | K101: - | L101: - | M101: -
A102: 22 | B102: 00 | C102: 137 | D102: 07 | E102: 静岡県 | G102: 天竜区 | H102: 犬居町 | I102: - | J102: - | K102: - | L102: - | M102: -
A103: 22 | B103: 00 | C103: 137 | D103: 08 | E103: 静岡県 | G103: 天竜区 | H103: 気多村 | I103: 2 | J103: 2 | K103: - | L103: - | M103: -
...

Sheet 累年
A1: Ⅱ 農業経営体（総数）
A2: 17 販売目的の花き類の品目別作付（栽培）経営体数
J3: 2010年 | N3: 単位：経営体 | O3: 2015年 | S3: 単位：経営体 | T3: 2020年 | X3: 単位：経営体 | Y3: 2025年 | Z3: 2026年4月以降 | AC3: 単位：経営体
A4: 新旧市区町村 | J4: 作 付 （栽 培） 実経営体数 | K4: 切り花類 | L4: 球根類 | M4: 鉢もの類 | N4: 花 壇 用 苗もの類 | O4: 作 付 （栽 培） 実経営体数 | P4: 切り花類 | Q4: 球根類 | R4: 鉢もの類 | S4: 花 壇 用 苗もの類 | T4: 作 付 （栽 培） 実経営体数 | U4: 切り花類 | V4: 球根類 | W4: 鉢もの類 | X4: 花 壇 用 苗もの類 | Y4: 作 付 （栽 培） 実経営体数 | Z4: 切り花類 | AA4: 球根類 | AB4: 鉢もの類 | AC4: 花 壇 用 苗もの類
A6: コード | E6: 名称
A7: 都道府県 | B7: 振興局 | C7: 市区町村 | D7: 旧市区町村 | E7: 都道府県 | F7: 振興局 | G7: 市区町村 | H7: 旧市区町村
I9: 1 | J9: 2 | K9: 3 | L9: 4 | M9: 5 | N9: 6 | O9: 7 | P9: 8 | Q9: 9 | R9: 10 | S9: 11 | T9: 12 | U9: 13 | V9: 14 | W9: 15 | X9: 16 | Y9: 17 | Z9: 18 | AA9: 19 | AB9: 20 | AC9: 21
A10: 22 | B10: 00 | C10: 000 | D10: 00 | E10: 静岡県 | I10: =CONCATENATE(E10,H10) -> 静岡県 | J10: ='2010'!E13 -> 2580 | K10: ='2010'!F13 -> 2194 | L10: ='2010'!G13 -> 93 | M10: ='2010'!H13 -> 338 | N10: ='2010'!I13 -> 161 | O10: ='2015'!E13 -> 2167 | P10: ='2015'!F13 -> 1883 | Q10: ='2015'!G13 -> 76 | R10: ='2015'!H13 -> 254 | S10: ='2015'!I13 -> 118 | T10: 1671 | U10: 1412 | V10: 66 | W10: 189 | X10: 107
A11: 22 | B11: 00 | C11: 100 | D11: 00 | E11: 静岡県 | G11: 静岡市 | I11: =CONCATENATE(G11,H11) -> 静岡市 | J11: ='2010'!E14 -> 309 | K11: ='2010'!F14 -> 289 | L11: ='2010'!G14 -> 9 | M11: ='2010'!H14 -> 21 | N11: ='2010'!I14 -> 10 | O11: ='2015'!E14 -> 242 | P11: ='2015'!F14 -> 229 | Q11: ='2015'!G14 -> 8 | R11: ='2015'!H14 -> 9 | S11: ='2015'!I14 -> 10 | T11: 210 | U11: 197 | V11: 7 | W11: 7 | X11: 9
A12: 22 | B12: 00 | C12: 101 | D12: 00 | E12: 静岡県 | G12: 葵区 | I12: =CONCATENATE(G12,H12) -> 葵区 | J12: ='2010'!E15 -> 104 | K12: ='2010'!F15 -> 98 | L12: ='2010'!G15 -> 2 | M12: ='2010'!H15 -> 8 | N12: ='2010'!I15 -> 3 | O12: ='2015'!E15 -> 97 | P12: ='2015'!F15 -> 91 | Q12: ='2015'!G15 -> 3 | R12: ='2015'!H15 -> 5 | S12: ='2015'!I15 -> 5 | T12: 71 | U12: 66 | V12: 5 | W12: 3 | X12: 3
A13: 22 | B13: 00 | C13: 101 | D13: 01 | E13: 静岡県 | G13: 葵区 | H13: 静岡市２－１ | I13: =CONCATENATE(G13,H13) -> 葵区静岡市２－１ | J13: ='2010'!E16 -> 58 | K13: ='2010'!F16 -> 54 | L13: ='2010'!G16 -> 1 | M13: ='2010'!H16 -> 6 | N13: ='2010'!I16 -> 2 | O13: ='2015'!E16 -> 51 | P13: ='2015'!F16 -> 48 | Q13: ='2015'!G16 -> - | R13: ='2015'!H16 -> 2 | S13: ='2015'!I16 -> 3 | T13: 40 | U13: 35 | V13: 2 | W13: 3 | X13: 2
A14: 22 | B14: 00 | C14: 101 | D14: 02 | E14: 静岡県 | G14: 葵区 | H14: 美和村 | I14: =CONCATENATE(G14,H14) -> 葵区美和村 | J14: ='2010'!E17 -> 14 | K14: ='2010'!F17 -> 13 | L14: ='2010'!G17 -> - | M14: ='2010'!H17 -> 1 | N14: ='2010'!I17 -> - | O14: ='2015'!E17 -> 14 | P14: ='2015'!F17 -> 13 | Q14: ='2015'!G17 -> - | R14: ='2015'!H17 -> - | S14: ='2015'!I17 -> 1 | T14: 9 | U14: 9 | V14: - | W14: - | X14: -
A15: 22 | B15: 00 | C15: 101 | D15: 03 | E15: 静岡県 | G15: 葵区 | H15: 服織村 | I15: =CONCATENATE(G15,H15) -> 葵区服織村 | J15: ='2010'!E18 -> 7 | K15: ='2010'!F18 -> 7 | L15: ='2010'!G18 -> 1 | M15: ='2010'!H18 -> - | N15: ='2010'!I18 -> - | O15: ='2015'!E18 -> 6 | P15: ='2015'!F18 -> 6 | Q15: ='2015'!G18 -> 1 | R15: ='2015'!H18 -> - | S15: ='2015'!I18 -> - | T15: 3 | U15: 3 | V15: 1 | W15: - | X15: -
A16: 22 | B16: 00 | C16: 101 | D16: 04 | E16: 静岡県 | G16: 葵区 | H16: 中藁科村 | I16: =CONCATENATE(G16,H16) -> 葵区中藁科村 | J16: ='2010'!E19 -> 7 | K16: ='2010'!F19 -> 6 | L16: ='2010'!G19 -> - | M16: ='2010'!H19 -> 1 | N16: ='2010'!I19 -> 1 | O16: ='2015'!E19 -> 6 | P16: ='2015'!F19 -> 4 | Q16: ='2015'!G19 -> - | R16: ='2015'!H19 -> 2 | S16: ='2015'!I19 -> - | T16: 8 | U16: 8 | V16: 1 | W16: - | X16: 1
A17: 22 | B17: 00 | C17: 101 | D17: 05 | E17: 静岡県 | G17: 葵区 | H17: 南藁科村 | I17: =CONCATENATE(G17,H17) -> 葵区南藁科村 | J17: ='2010'!E20 -> 3 | K17: ='2010'!F20 -> 3 | L17: ='2010'!G20 -> - | M17: ='2010'!H20 -> - | N17: ='2010'!I20 -> - | O17: ='2015'!E20 -> 7 | P17: ='2015'!F20 -> 7 | Q17: ='2015'!G20 -> - | R17: ='2015'!H20 -> - | S17: ='2015'!I20 -> - | T17: 3 | U17: 3 | V17: 1 | W17: - | X17: -
A18: 22 | B18: 00 | C18: 101 | D18: 06 | E18: 静岡県 | G18: 葵区 | H18: 大河内村 | I18: =CONCATENATE(G18,H18) -> 葵区大河内村 | J18: ='2010'!E21 -> 5 | K18: ='2010'!F21 -> 5 | L18: ='2010'!G21 -> - | M18: ='2010'!H21 -> - | N18: ='2010'!I21 -> - | O18: ='2015'!E21 -> 6 | P18: ='2015'!F21 -> 6 | Q18: ='2015'!G21 -> - | R18: ='2015'!H21 -> - | S18: ='2015'!I21 -> - | T18: 2 | U18: 2 | V18: - | W18: - | X18: -
A19: 22 | B19: 00 | C19: 101 | D19: 07 | E19: 静岡県 | G19: 葵区 | H19: 梅ヶ島村 | I19: =CONCATENATE(G19,H19) -> 葵区梅ヶ島村 | J19: ='2010'!E22 -> 4 | K19: ='2010'!F22 -> 4 | L19: ='2010'!G22 -> - | M19: ='2010'!H22 -> - | N19: ='2010'!I22 -> - | O19: ='2015'!E22 -> 3 | P19: ='2015'!F22 -> 3 | Q19: ='2015'!G22 -> - | R19: ='2015'!H22 -> - | S19: ='2015'!I22 -> - | T19: 3 | U19: 3 | V19: - | W19: - | X19: -
A20: 22 | B20: 00 | C20: 101 | D20: 08 | E20: 静岡県 | G20: 葵区 | H20: 玉川村 | I20: =CONCATENATE(G20,H20) -> 葵区玉川村 | J20: ='2010'!E23 -> - | K20: ='2010'!F23 -> - | L20: ='2010'!G23 -> - | M20: ='2010'!H23 -> - | N20: ='2010'!I23 -> - | O20: ='2015'!E23 -> 1 | P20: ='2015'!F23 -> 1 | Q20: ='2015'!G23 -> 1 | R20: ='2015'!H23 -> 1 | S20: ='2015'!I23 -> 1 | T20: - | U20: - | V20: - | W20: - | X20: -
A21: 22 | B21: 00 | C21: 101 | D21: 09 | E21: 静岡県 | G21: 葵区 | H21: 井川村 | I21: =CONCATENATE(G21,H21) -> 葵区井川村 | J21: ='2010'!E24 -> - | K21: ='2010'!F24 -> - | L21: ='2010'!G24 -> - | M21: ='2010'!H24 -> - | N21: ='2010'!I24 -> - | O21: ='2015'!E24 -> - | P21: ='2015'!F24 -> - | Q21: ='2015'!G24 -> - | R21: ='2015'!H24 -> - | S21: ='2015'!I24 -> - | T21: - | U21: - | V21: - | W21: - | X21: -
A22: 22 | B22: 00 | C22: 101 | D22: 10 | E22: 静岡県 | G22: 葵区 | H22: 清沢村 | I22: =CONCATENATE(G22,H22) -> 葵区清沢村 | J22: ='2010'!E25 -> 3 | K22: ='2010'!F25 -> 3 | L22: ='2010'!G25 -> - | M22: ='2010'!H25 -> - | N22: ='2010'!I25 -> - | O22: ='2015'!E25 -> 1 | P22: ='2015'!F25 -> 1 | Q22: ='2015'!G25 -> - | R22: ='2015'!H25 -> - | S22: ='2015'!I25 -> - | T22: 2 | U22: 2 | V22: - | W22: - | X22: -
A23: 22 | B23: 00 | C23: 101 | D23: 11 | E23: 静岡県 | G23: 葵区 | H23: 大川村 | I23: =CONCATENATE(G23,H23) -> 葵区大川村 | J23: ='2010'!E26 -> 3 | K23: ='2010'!F26 -> 3 | L23: ='2010'!G26 -> - | M23: ='2010'!H26 -> - | N23: ='2010'!I26 -> - | O23: ='2015'!E26 -> 2 | P23: ='2015'!F26 -> 2 | Q23: ='2015'!G26 -> 1 | R23: ='2015'!H26 -> - | S23: ='2015'!I26 -> - | T23: 1 | U23: 1 | V23: - | W23: - | X23: -
A24: 22 | B24: 00 | C24: 102 | D24: 00 | E24: 静岡県 | G24: 駿河区 | I24: =CONCATENATE(G24,H24) -> 駿河区 | J24: ='2010'!E27 -> 54 | K24: ='2010'!F27 -> 46 | L24: ='2010'!G27 -> 3 | M24: ='2010'!H27 -> 6 | N24: ='2010'!I27 -> 5 | O24: ='2015'!E27 -> 37 | P24: ='2015'!F27 -> 32 | Q24: ='2015'!G27 -> 2 | R24: ='2015'!H27 -> 1 | S24: ='2015'!I27 -> 4 | T24: 33 | U24: 30 | V24: 1 | W24: 1 | X24: 3
A25: 22 | B25: 00 | C25: 102 | D25: 01 | E25: 静岡県 | G25: 駿河区 | H25: 静岡市２－２ | I25: =CONCATENATE(G25,H25) -> 駿河区静岡市２－２ | J25: ='2010'!E28 -> 53 | K25: ='2010'!F28 -> 45 | L25: ='2010'!G28 -> 3 | M25: ='2010'!H28 -> 6 | N25: ='2010'!I28 -> 5 | O25: ='2015'!E28 -> 37 | P25: ='2015'!F28 -> 32 | Q25: ='2015'!G28 -> 2 | R25: ='2015'!H28 -> 1 | S25: ='2015'!I28 -> 4 | T25: 31 | U25: 28 | V25: - | W25: 1 | X25: 3
A26: 22 | B26: 00 | C26: 102 | D26: 02 | E26: 静岡県 | G26: 駿河区 | H26: 有度村２－２ | I26: =CONCATENATE(G26,H26) -> 駿河区有度村２－２ | J26: ='2010'!E29 -> 1 | K26: ='2010'!F29 -> 1 | L26: ='2010'!G29 -> - | M26: ='2010'!H29 -> - | N26: ='2010'!I29 -> - | O26: ='2015'!E29 -> - | P26: ='2015'!F29 -> - | Q26: ='2015'!G29 -> - | R26: ='2015'!H29 -> - | S26: ='2015'!I29 -> - | T26: 2 | U26: 2 | V26: 1 | W26: - | X26: -
A27: 22 | B27: 00 | C27: 103 | D27: 00 | E27: 静岡県 | G27: 清水区 | I27: =CONCATENATE(G27,H27) -> 清水区 | J27: ='2010'!E30 -> 151 | K27: ='2010'!F30 -> 145 | L27: ='2010'!G30 -> 4 | M27: ='2010'!H30 -> 7 | N27: ='2010'!I30 -> 2 | O27: ='2015'!E30 -> 108 | P27: ='2015'!F30 -> 106 | Q27: ='2015'!G30 -> 3 | R27: ='2015'!H30 -> 3 | S27: ='2015'!I30 -> 1 | T27: 106 | U27: 101 | V27: 1 | W27: 3 | X27: 3
A28: 22 | B28: 00 | C28: 103 | D28: 01 | E28: 静岡県 | G28: 清水区 | H28: 清水市 | I28: =CONCATENATE(G28,H28) -> 清水区清水市 | J28: ='2010'!E31 -> 4 | K28: ='2010'!F31 -> 4 | L28: ='2010'!G31 -> - | M28: ='2010'!H31 -> - | N28: ='2010'!I31 -> - | O28: ='2015'!E31 -> 2 | P28: ='2015'!F31 -> 2 | Q28: ='2015'!G31 -> - | R28: ='2015'!H31 -> - | S28: ='2015'!I31 -> - | T28: 1 | U28: 1 | V28: - | W28: - | X28: -
A29: 22 | B29: 00 | C29: 103 | D29: 02 | E29: 静岡県 | G29: 清水区 | H29: 飯田村 | I29: =CONCATENATE(G29,H29) -> 清水区飯田村 | J29: ='2010'!E32 -> 9 | K29: ='2010'!F32 -> 8 | L29: ='2010'!G32 -> - | M29: ='2010'!H32 -> 1 | N29: ='2010'!I32 -> - | O29: ='2015'!E32 -> 6 | P29: ='2015'!F32 -> 6 | Q29: ='2015'!G32 -> - | R29: ='2015'!H32 -> 1 | S29: ='2015'!I32 -> - | T29: 11 | U29: 10 | V29: - | W29: 1 | X29: -
A30: 22 | B30: 00 | C30: 103 | D30: 03 | E30: 静岡県 | G30: 清水区 | H30: 高部村 | I30: =CONCATENATE(G30,H30) -> 清水区高部村 | J30: ='2010'!E33 -> 9 | K30: ='2010'!F33 -> 7 | L30: ='2010'!G33 -> 1 | M30: ='2010'!H33 -> 1 | N30: ='2010'!I33 -> 2 | O30: ='2015'!E33 -> 5 | P30: ='2015'!F33 -> 4 | Q30: ='2015'!G33 -> - | R30: ='2015'!H33 -> 1 | S30: ='2015'!I33 -> - | T30: 6 | U30: 5 | V30: 1 | W30: 1 | X30: 1
A31: 22 | B31: 00 | C31: 103 | D31: 04 | E31: 静岡県 | G31: 清水区 | H31: 有度村２－１ | I31: =CONCATENATE(G31,H31) -> 清水区有度村２－１ | J31: ='2010'!E34 -> 8 | K31: ='2010'!F34 -> 8 | L31: ='2010'!G34 -> - | M31: ='2010'!H34 -> - | N31: ='2010'!I34 -> - | O31: ='2015'!E34 -> 6 | P31: ='2015'!F34 -> 5 | Q31: ='2015'!G34 -> 1 | R31: ='2015'!H34 -> - | S31: ='2015'!I34 -> 1 | T31: 10 | U31: 9 | V31: - | W31: 1 | X31: -
A32: 22 | B32: 00 | C32: 103 | D32: 05 | E32: 静岡県 | G32: 清水区 | H32: 興津町 | I32: =CONCATENATE(G32,H32) -> 清水区興津町 | J32: ='2010'!E35 -> 28 | K32: ='2010'!F35 -> 26 | L32: ='2010'!G35 -> 1 | M32: ='2010'!H35 -> 3 | N32: ='2010'!I35 -> - | O32: ='2015'!E35 -> 17 | P32: ='2015'!F35 -> 17 | Q32: ='2015'!G35 -> - | R32: ='2015'!H35 -> 1 | S32: ='2015'!I35 -> - | T32: 13 | U32: 13 | V32: - | W32: - | X32: -
A33: 22 | B33: 00 | C33: 103 | D33: 06 | E33: 静岡県 | G33: 清水区 | H33: 小島村 | I33: =CONCATENATE(G33,H33) -> 清水区小島村 | J33: ='2010'!E36 -> 25 | K33: ='2010'!F36 -> 25 | L33: ='2010'!G36 -> 1 | M33: ='2010'!H36 -> - | N33: ='2010'!I36 -> - | O33: ='2015'!E36 -> 20 | P33: ='2015'!F36 -> 20 | Q33: ='2015'!G36 -> - | R33: ='2015'!H36 -> - | S33: ='2015'!I36 -> - | T33: 15 | U33: 15 | V33: - | W33: - | X33: -
A34: 22 | B34: 00 | C34: 103 | D34: 07 | E34: 静岡県 | G34: 清水区 | H34: 両河内村 | I34: =CONCATENATE(G34,H34) -> 清水区両河内村 | J34: ='2010'!E37 -> 6 | K34: ='2010'!F37 -> 6 | L34: ='2010'!G37 -> - | M34: ='2010'!H37 -> - | N34: ='2010'!I37 -> - | O34: ='2015'!E37 -> 4 | P34: ='2015'!F37 -> 4 | Q34: ='2015'!G37 -> - | R34: ='2015'!H37 -> - | S34: ='2015'!I37 -> - | T34: 8 | U34: 8 | V34: - | W34: - | X34: -
A35: 22 | B35: 00 | C35: 103 | D35: 08 | E35: 静岡県 | G35: 清水区 | H35: 庵原村 | I35: =CONCATENATE(G35,H35) -> 清水区庵原村 | J35: ='2010'!E38 -> 49 | K35: ='2010'!F38 -> 48 | L35: ='2010'!G38 -> 1 | M35: ='2010'!H38 -> 1 | N35: ='2010'!I38 -> - | O35: ='2015'!E38 -> 38 | P35: ='2015'!F38 -> 38 | Q35: ='2015'!G38 -> 2 | R35: ='2015'!H38 -> - | S35: ='2015'!I38 -> - | T35: 36 | U35: 34 | V35: - | W35: - | X35: 2
A36: 22 | B36: 00 | C36: 103 | D36: 09 | E36: 静岡県 | G36: 清水区 | H36: 袖師町 | I36: =CONCATENATE(G36,H36) -> 清水区袖師町 | J36: ='2010'!E39 -> 5 | K36: ='2010'!F39 -> 5 | L36: ='2010'!G39 -> - | M36: ='2010'!H39 -> 1 | N36: ='2010'!I39 -> - | O36: ='2015'!E39 -> 5 | P36: ='2015'!F39 -> 5 | Q36: ='2015'!G39 -> - | R36: ='2015'!H39 -> - | S36: ='2015'!I39 -> - | T36: 4 | U36: 4 | V36: - | W36: - | X36: -
A37: 22 | B37: 00 | C37: 103 | D37: 10 | E37: 静岡県 | G37: 清水区 | H37: 蒲原町 | I37: =CONCATENATE(G37,H37) -> 清水区蒲原町 | J37: ='2010'!E40 -> 3 | K37: ='2010'!F40 -> 3 | L37: ='2010'!G40 -> - | M37: ='2010'!H40 -> - | N37: ='2010'!I40 -> - | O37: ='2015'!E40 -> 2 | P37: ='2015'!F40 -> 2 | Q37: ='2015'!G40 -> - | R37: ='2015'!H40 -> - | S37: ='2015'!I40 -> - | T37: 1 | U37: 1 | V37: - | W37: - | X37: -
A38: 22 | B38: 00 | C38: 103 | D38: 11 | E38: 静岡県 | G38: 清水区 | H38: 由比町 | I38: =CONCATENATE(G38,H38) -> 清水区由比町 | J38: ='2010'!E41 -> 5 | K38: ='2010'!F41 -> 5 | L38: ='2010'!G41 -> - | M38: ='2010'!H41 -> - | N38: ='2010'!I41 -> - | O38: ='2015'!E41 -> 3 | P38: ='2015'!F41 -> 3 | Q38: ='2015'!G41 -> - | R38: ='2015'!H41 -> - | S38: ='2015'!I41 -> - | T38: 1 | U38: 1 | V38: - | W38: - | X38: -
A39: 22 | B39: 00 | C39: 130 | D39: 00 | E39: 静岡県 | G39: 浜松市 | I39: =CONCATENATE(G39,H39) -> 浜松市 | J39: ='2010'!E42 -> 1029 | K39: ='2010'!F42 -> 902 | L39: ='2010'!G42 -> 45 | M39: ='2010'!H42 -> 115 | N39: ='2010'!I42 -> 35 | O39: ='2015'!E42 -> 869 | P39: ='2015'!F42 -> 776 | Q39: ='2015'!G42 -> 41 | R39: ='2015'!H42 -> 85 | S39: ='2015'!I42 -> 23 | T39: 641 | U39: 560 | V39: 31 | W39: 69 | X39: 21
A40: 22 | B40: 00 | C40: 131 | D40: 00 | E40: 静岡県 | G40: 中区 | I40: =CONCATENATE(G40,H40) -> 中区 | J40: ='2010'!E43 -> 13 | K40: ='2010'!F43 -> 10 | L40: ='2010'!G43 -> 1 | M40: ='2010'!H43 -> 3 | N40: ='2010'!I43 -> 2 | O40: ='2015'!E43 -> 8 | P40: ='2015'!F43 -> 7 | Q40: ='2015'!G43 -> - | R40: ='2015'!H43 -> 1 | S40: ='2015'!I43 -> - | T40: 5 | U40: 5 | V40: - | W40: - | X40: -
A41: 22 | B41: 00 | C41: 131 | D41: 01 | E41: 静岡県 | G41: 中区 | H41: 浜松市４－１ | I41: =CONCATENATE(G41,H41) -> 中区浜松市４－１ | J41: ='2010'!E44 -> 10 | K41: ='2010'!F44 -> 7 | L41: ='2010'!G44 -> 1 | M41: ='2010'!H44 -> 3 | N41: ='2010'!I44 -> 2 | O41: ='2015'!E44 -> 6 | P41: ='2015'!F44 -> 5 | Q41: ='2015'!G44 -> - | R41: ='2015'!H44 -> 1 | S41: ='2015'!I44 -> - | T41: 3 | U41: 3 | V41: - | W41: - | X41: -
A42: 22 | B42: 00 | C42: 131 | D42: 02 | E42: 静岡県 | G42: 中区 | H42: 入野村２－１ | I42: =CONCATENATE(G42,H42) -> 中区入野村２－１ | J42: ='2010'!E45 -> 2 | K42: ='2010'!F45 -> 2 | L42: ='2010'!G45 -> - | M42: ='2010'!H45 -> - | N42: ='2010'!I45 -> - | O42: ='2015'!E45 -> 2 | P42: ='2015'!F45 -> 2 | Q42: ='2015'!G45 -> - | R42: ='2015'!H45 -> - | S42: ='2015'!I45 -> - | T42: 2 | U42: 2 | V42: - | W42: - | X42: -
A43: 22 | B43: 00 | C43: 131 | D43: 03 | E43: 静岡県 | G43: 中区 | H43: 吉野村２－１ | I43: =CONCATENATE(G43,H43) -> 中区吉野村２－１ | J43: ='2010'!E46 -> 1 | K43: ='2010'!F46 -> 1 | L43: ='2010'!G46 -> - | M43: ='2010'!H46 -> - | N43: ='2010'!I46 -> - | O43: ='2015'!E46 -> - | P43: ='2015'!F46 -> - | Q43: ='2015'!G46 -> - | R43: ='2015'!H46 -> - | S43: ='2015'!I46 -> - | T43: - | U43: - | V43: - | W43: - | X43: -
A44: 22 | B44: 00 | C44: 131 | D44: 04 | E44: 静岡県 | G44: 中区 | H44: 新津村２－１ | I44: =CONCATENATE(G44,H44) -> 中区新津村２－１ | J44: ='2010'!E47 -> - | K44: ='2010'!F47 -> - | L44: ='2010'!G47 -> - | M44: ='2010'!H47 -> - | N44: ='2010'!I47 -> - | O44: ='2015'!E47 -> - | P44: ='2015'!F47 -> - | Q44: ='2015'!G47 -> - | R44: ='2015'!H47 -> - | S44: ='2015'!I47 -> - | T44: - | U44: - | V44: - | W44: - | X44: -
A45: 22 | B45: 00 | C45: 132 | D45: 00 | E45: 静岡県 | G45: 東区 | I45: =CONCATENATE(G45,H45) -> 東区 | J45: ='2010'!E48 -> 28 | K45: ='2010'!F48 -> 16 | L45: ='2010'!G48 -> - | M45: ='2010'!H48 -> 11 | N45: ='2010'!I48 -> 4 | O45: ='2015'!E48 -> 22 | P45: ='2015'!F48 -> 14 | Q45: ='2015'!G48 -> - | R45: ='2015'!H48 -> 8 | S45: ='2015'!I48 -> 3 | T45: 18 | U45: 10 | V45: - | W45: 7 | X45: 1
A46: 22 | B46: 00 | C46: 132 | D46: 01 | E46: 静岡県 | G46: 東区 | H46: 浜松市４－３ | I46: =CONCATENATE(G46,H46) -> 東区浜松市４－３ | J46: ='2010'!E49 -> - | K46: ='2010'!F49 -> - | L46: ='2010'!G49 -> - | M46: ='2010'!H49 -> - | N46: ='2010'!I49 -> - | O46: ='2015'!E49 -> - | P46: ='2015'!F49 -> - | Q46: ='2015'!G49 -> - | R46: ='2015'!H49 -> - | S46: ='2015'!I49 -> - | T46: - | U46: - | V46: - | W46: - | X46: -
A47: 22 | B47: 00 | C47: 132 | D47: 02 | E47: 静岡県 | G47: 東区 | H47: 飯田村２－１ | I47: =CONCATENATE(G47,H47) -> 東区飯田村２－１ | J47: ='2010'!E50 -> - | K47: ='2010'!F50 -> - | L47: ='2010'!G50 -> - | M47: ='2010'!H50 -> - | N47: ='2010'!I50 -> - | O47: ='2015'!E50 -> - | P47: ='2015'!F50 -> - | Q47: ='2015'!G50 -> - | R47: ='2015'!H50 -> - | S47: ='2015'!I50 -> - | T47: - | U47: - | V47: - | W47: - | X47: -
A48: 22 | B48: 00 | C48: 132 | D48: 03 | E48: 静岡県 | G48: 東区 | H48: 和田村 | I48: =CONCATENATE(G48,H48) -> 東区和田村 | J48: ='2010'!E51 -> 3 | K48: ='2010'!F51 -> 3 | L48: ='2010'!G51 -> - | M48: ='2010'!H51 -> - | N48: ='2010'!I51 -> - | O48: ='2015'!E51 -> 1 | P48: ='2015'!F51 -> 1 | Q48: ='2015'!G51 -> - | R48: ='2015'!H51 -> - | S48: ='2015'!I51 -> - | T48: 1 | U48: 1 | V48: - | W48: - | X48: -
A49: 22 | B49: 00 | C49: 132 | D49: 04 | E49: 静岡県 | G49: 東区 | H49: 長上村 | I49: =CONCATENATE(G49,H49) -> 東区長上村 | J49: ='2010'!E52 -> 9 | K49: ='2010'!F52 -> 4 | L49: ='2010'!G52 -> - | M49: ='2010'!H52 -> 5 | N49: ='2010'!I52 -> 2 | O49: ='2015'!E52 -> 6 | P49: ='2015'!F52 -> 3 | Q49: ='2015'!G52 -> - | R49: ='2015'!H52 -> 3 | S49: ='2015'!I52 -> 2 | T49: 4 | U49: 2 | V49: - | W49: 2 | X49: -
A50: 22 | B50: 00 | C50: 132 | D50: 05 | E50: 静岡県 | G50: 東区 | H50: 積志村 | I50: =CONCATENATE(G50,H50) -> 東区積志村 | J50: ='2010'!E53 -> 10 | K50: ='2010'!F53 -> 8 | L50: ='2010'!G53 -> - | M50: ='2010'!H53 -> 2 | N50: ='2010'!I53 -> 1 | O50: ='2015'!E53 -> 8 | P50: ='2015'!F53 -> 7 | Q50: ='2015'!G53 -> - | R50: ='2015'!H53 -> - | S50: ='2015'!I53 -> 1 | T50: 7 | U50: 6 | V50: - | W50: - | X50: 1
A51: 22 | B51: 00 | C51: 132 | D51: 06 | E51: 静岡県 | G51: 東区 | H51: 笠井町 | I51: =CONCATENATE(G51,H51) -> 東区笠井町 | J51: ='2010'!E54 -> 1 | K51: ='2010'!F54 -> 1 | L51: ='2010'!G54 -> - | M51: ='2010'!H54 -> - | N51: ='2010'!I54 -> - | O51: ='2015'!E54 -> 1 | P51: ='2015'!F54 -> 1 | Q51: ='2015'!G54 -> - | R51: ='2015'!H54 -> - | S51: ='2015'!I54 -> - | T51: - | U51: - | V51: - | W51: - | X51: -
A52: 22 | B52: 00 | C52: 132 | D52: 07 | E52: 静岡県 | G52: 東区 | H52: 豊西村 | I52: =CONCATENATE(G52,H52) -> 東区豊西村 | J52: ='2010'!E55 -> 4 | K52: ='2010'!F55 -> - | L52: ='2010'!G55 -> - | M52: ='2010'!H55 -> 4 | N52: ='2010'!I55 -> - | O52: ='2015'!E55 -> 5 | P52: ='2015'!F55 -> 1 | Q52: ='2015'!G55 -> - | R52: ='2015'!H55 -> 5 | S52: ='2015'!I55 -> - | T52: 6 | U52: 1 | V52: - | W52: 5 | X52: -
A53: 22 | B53: 00 | C53: 132 | D53: 08 | E53: 静岡県 | G53: 東区 | H53: 中ノ町村 | I53: =CONCATENATE(G53,H53) -> 東区中ノ町村 | J53: ='2010'!E56 -> 1 | K53: ='2010'!F56 -> - | L53: ='2010'!G56 -> - | M53: ='2010'!H56 -> - | N53: ='2010'!I56 -> 1 | O53: ='2015'!E56 -> 1 | P53: ='2015'!F56 -> 1 | Q53: ='2015'!G56 -> - | R53: ='2015'!H56 -> - | S53: ='2015'!I56 -> - | T53: - | U53: - | V53: - | W53: - | X53: -
A54: 22 | B54: 00 | C54: 132 | D54: 09 | E54: 静岡県 | G54: 東区 | H54: 三方原村２－１ | I54: =CONCATENATE(G54,H54) -> 東区三方原村２－１ | J54: ='2010'!E57 -> - | K54: ='2010'!F57 -> - | L54: ='2010'!G57 -> - | M54: ='2010'!H57 -> - | N54: ='2010'!I57 -> - | O54: ='2015'!E57 -> - | P54: ='2015'!F57 -> - | Q54: ='2015'!G57 -> - | R54: ='2015'!H57 -> - | S54: ='2015'!I57 -> - | T54: - | U54: - | V54: - | W54: - | X54: -
A55: 22 | B55: 00 | C55: 133 | D55: 00 | E55: 静岡県 | G55: 西区 | I55: =CONCATENATE(G55,H55) -> 西区 | J55: ='2010'!E58 -> 537 | K55: ='2010'!F58 -> 503 | L55: ='2010'!G58 -> 38 | M55: ='2010'!H58 -> 27 | N55: ='2010'!I58 -> 12 | O55: ='2015'!E58 -> 395 | P55: ='2015'!F58 -> 364 | Q55: ='2015'!G58 -> 35 | R55: ='2015'!H58 -> 25 | S55: ='2015'!I58 -> 7 | T55: 286 | U55: 261 | V55: 23 | W55: 18 | X55: 6
A56: 22 | B56: 00 | C56: 133 | D56: 01 | E56: 静岡県 | G56: 西区 | H56: 神久呂村 | I56: =CONCATENATE(G56,H56) -> 西区神久呂村 | J56: ='2010'!E59 -> 13 | K56: ='2010'!F59 -> 12 | L56: ='2010'!G59 -> 2 | M56: ='2010'!H59 -> 1 | N56: ='2010'!I59 -> - | O56: ='2015'!E59 -> 12 | P56: ='2015'!F59 -> 11 | Q56: ='2015'!G59 -> 2 | R56: ='2015'!H59 -> 1 | S56: ='2015'!I59 -> 1 | T56: 4 | U56: 3 | V56: - | W56: - | X56: 1
A57: 22 | B57: 00 | C57: 133 | D57: 02 | E57: 静岡県 | G57: 西区 | H57: 入野村２－２ | I57: =CONCATENATE(G57,H57) -> 西区入野村２－２ | J57: ='2010'!E60 -> 15 | K57: ='2010'!F60 -> 14 | L57: ='2010'!G60 -> - | M57: ='2010'!H60 -> 1 | N57: ='2010'!I60 -> - | O57: ='2015'!E60 -> 11 | P57: ='2015'!F60 -> 10 | Q57: ='2015'!G60 -> - | R57: ='2015'!H60 -> 1 | S57: ='2015'!I60 -> 1 | T57: 3 | U57: 2 | V57: 1 | W57: 1 | X57: -
A58: 22 | B58: 00 | C58: 133 | D58: 03 | E58: 静岡県 | G58: 西区 | H58: 吉野村２－２ | I58: =CONCATENATE(G58,H58) -> 西区吉野村２－２ | J58: ='2010'!E61 -> - | K58: ='2010'!F61 -> - | L58: ='2010'!G61 -> - | M58: ='2010'!H61 -> - | N58: ='2010'!I61 -> - | O58: ='2015'!E61 -> 2 | P58: ='2015'!F61 -> - | Q58: ='2015'!G61 -> 2 | R58: ='2015'!H61 -> - | S58: ='2015'!I61 -> - | T58: 2 | U58: 1 | V58: 1 | W58: - | X58: -
A59: 22 | B59: 00 | C59: 133 | D59: 04 | E59: 静岡県 | G59: 西区 | H59: 和地村 | I59: =CONCATENATE(G59,H59) -> 西区和地村 | J59: ='2010'!E62 -> 144 | K59: ='2010'!F62 -> 135 | L59: ='2010'!G62 -> 15 | M59: ='2010'!H62 -> 4 | N59: ='2010'!I62 -> 4 | O59: ='2015'!E62 -> 108 | P59: ='2015'!F62 -> 101 | Q59: ='2015'!G62 -> 8 | R59: ='2015'!H62 -> 4 | S59: ='2015'!I62 -> 2 | T59: 77 | U59: 73 | V59: 3 | W59: 4 | X59: 1
A60: 22 | B60: 00 | C60: 133 | D60: 05 | E60: 静岡県 | G60: 西区 | H60: 伊佐見村 | I60: =CONCATENATE(G60,H60) -> 西区伊佐見村 | J60: ='2010'!E63 -> 132 | K60: ='2010'!F63 -> 129 | L60: ='2010'!G63 -> 5 | M60: ='2010'!H63 -> 2 | N60: ='2010'!I63 -> 1 | O60: ='2015'!E63 -> 99 | P60: ='2015'!F63 -> 96 | Q60: ='2015'!G63 -> 3 | R60: ='2015'!H63 -> 3 | S60: ='2015'!I63 -> 1 | T60: 71 | U60: 67 | V60: 2 | W60: 3 | X60: 2
A61: 22 | B61: 00 | C61: 133 | D61: 06 | E61: 静岡県 | G61: 西区 | H61: 篠原村 | I61: =CONCATENATE(G61,H61) -> 西区篠原村 | J61: ='2010'!E64 -> 5 | K61: ='2010'!F64 -> - | L61: ='2010'!G64 -> - | M61: ='2010'!H64 -> 5 | N61: ='2010'!I64 -> - | O61: ='2015'!E64 -> 4 | P61: ='2015'!F64 -> - | Q61: ='2015'!G64 -> - | R61: ='2015'!H64 -> 4 | S61: ='2015'!I64 -> 1 | T61: 2 | U61: 1 | V61: - | W61: 1 | X61: -
A62: 22 | B62: 00 | C62: 133 | D62: 07 | E62: 静岡県 | G62: 西区 | H62: 北庄内村 | I62: =CONCATENATE(G62,H62) -> 西区北庄内村 | J62: ='2010'!E65 -> 174 | K62: ='2010'!F65 -> 165 | L62: ='2010'!G65 -> 13 | M62: ='2010'!H65 -> 11 | N62: ='2010'!I65 -> 4 | O62: ='2015'!E65 -> 127 | P62: ='2015'!F65 -> 115 | Q62: ='2015'!G65 -> 15 | R62: ='2015'!H65 -> 10 | S62: ='2015'!I65 -> 1 | T62: 104 | U62: 94 | V62: 10 | W62: 7 | X62: 2
A63: 22 | B63: 00 | C63: 133 | D63: 08 | E63: 静岡県 | G63: 西区 | H63: 南庄内村 | I63: =CONCATENATE(G63,H63) -> 西区南庄内村 | J63: ='2010'!E66 -> 24 | K63: ='2010'!F66 -> 22 | L63: ='2010'!G66 -> 2 | M63: ='2010'!H66 -> 1 | N63: ='2010'!I66 -> - | O63: ='2015'!E66 -> 16 | P63: ='2015'!F66 -> 15 | Q63: ='2015'!G66 -> 2 | R63: ='2015'!H66 -> 1 | S63: ='2015'!I66 -> - | T63: 14 | U63: 13 | V63: 3 | W63: 1 | X63: -
A64: 22 | B64: 00 | C64: 133 | D64: 09 | E64: 静岡県 | G64: 西区 | H64: 村櫛村 | I64: =CONCATENATE(G64,H64) -> 西区村櫛村 | J64: ='2010'!E67 -> 19 | K64: ='2010'!F67 -> 19 | L64: ='2010'!G67 -> - | M64: ='2010'!H67 -> - | N64: ='2010'!I67 -> - | O64: ='2015'!E67 -> 13 | P64: ='2015'!F67 -> 13 | Q64: ='2015'!G67 -> 3 | R64: ='2015'!H67 -> - | S64: ='2015'!I67 -> - | T64: 7 | U64: 6 | V64: 3 | W64: - | X64: -
A65: 22 | B65: 00 | C65: 133 | D65: 10 | E65: 静岡県 | G65: 西区 | H65: 舞阪町 | I65: =CONCATENATE(G65,H65) -> 西区舞阪町 | J65: ='2010'!E68 -> - | K65: ='2010'!F68 -> - | L65: ='2010'!G68 -> - | M65: ='2010'!H68 -> - | N65: ='2010'!I68 -> - | O65: ='2015'!E68 -> - | P65: ='2015'!F68 -> - | Q65: ='2015'!G68 -> - | R65: ='2015'!H68 -> - | S65: ='2015'!I68 -> - | T65: 1 | U65: - | V65: - | W65: 1 | X65: -
A66: 22 | B66: 00 | C66: 133 | D66: 11 | E66: 静岡県 | G66: 西区 | H66: 雄踏町 | I66: =CONCATENATE(G66,H66) -> 西区雄踏町 | J66: ='2010'!E69 -> 11 | K66: ='2010'!F69 -> 7 | L66: ='2010'!G69 -> 1 | M66: ='2010'!H69 -> 2 | N66: ='2010'!I69 -> 3 | O66: ='2015'!E69 -> 3 | P66: ='2015'!F69 -> 3 | Q66: ='2015'!G69 -> - | R66: ='2015'!H69 -> 1 | S66: ='2015'!I69 -> - | T66: 1 | U66: 1 | V66: - | W66: - | X66: -
A67: 22 | B67: 00 | C67: 133 | D67: 12 | E67: 静岡県 | G67: 西区 | H67: 浜松市４－２ | I67: =CONCATENATE(G67,H67) -> 西区浜松市４－２ | J67: ='2010'!E70 -> - | K67: ='2010'!F70 -> - | L67: ='2010'!G70 -> - | M67: ='2010'!H70 -> - | N67: ='2010'!I70 -> - | O67: ='2015'!E70 -> - | P67: ='2015'!F70 -> - | Q67: ='2015'!G70 -> - | R67: ='2015'!H70 -> - | S67: ='2015'!I70 -> - | T67: - | U67: - | V67: - | W67: - | X67: -
A68: 22 | B68: 00 | C68: 134 | D68: 00 | E68: 静岡県 | G68: 南区 | I68: =CONCATENATE(G68,H68) -> 南区 | J68: ='2010'!E71 -> 47 | K68: ='2010'!F71 -> 41 | L68: ='2010'!G71 -> 1 | M68: ='2010'!H71 -> 5 | N68: ='2010'!I71 -> 1 | O68: ='2015'!E71 -> 24 | P68: ='2015'!F71 -> 22 | Q68: ='2015'!G71 -> - | R68: ='2015'!H71 -> 3 | S68: ='2015'!I71 -> - | T68: 18 | U68: 16 | V68: 1 | W68: 2 | X68: -
A69: 22 | B69: 00 | C69: 134 | D69: 01 | E69: 静岡県 | G69: 南区 | H69: 浜松市４－４ | I69: =CONCATENATE(G69,H69) -> 南区浜松市４－４ | J69: ='2010'!E72 -> 12 | K69: ='2010'!F72 -> 10 | L69: ='2010'!G72 -> 1 | M69: ='2010'!H72 -> 1 | N69: ='2010'!I72 -> - | O69: ='2015'!E72 -> 6 | P69: ='2015'!F72 -> 6 | Q69: ='2015'!G72 -> - | R69: ='2015'!H72 -> - | S69: ='2015'!I72 -> - | T69: 3 | U69: 3 | V69: - | W69: - | X69: -
A70: 22 | B70: 00 | C70: 134 | D70: 02 | E70: 静岡県 | G70: 南区 | H70: 芳川村 | I70: =CONCATENATE(G70,H70) -> 南区芳川村 | J70: ='2010'!E73 -> 9 | K70: ='2010'!F73 -> 9 | L70: ='2010'!G73 -> - | M70: ='2010'!H73 -> - | N70: ='2010'!I73 -> - | O70: ='2015'!E73 -> 7 | P70: ='2015'!F73 -> 7 | Q70: ='2015'!G73 -> - | R70: ='2015'!H73 -> - | S70: ='2015'!I73 -> - | T70: 4 | U70: 4 | V70: - | W70: - | X70: -
A71: 22 | B71: 00 | C71: 134 | D71: 03 | E71: 静岡県 | G71: 南区 | H71: 飯田村２－２ | I71: =CONCATENATE(G71,H71) -> 南区飯田村２－２ | J71: ='2010'!E74 -> 1 | K71: ='2010'!F74 -> 1 | L71: ='2010'!G74 -> - | M71: ='2010'!H74 -> - | N71: ='2010'!I74 -> - | O71: ='2015'!E74 -> - | P71: ='2015'!F74 -> - | Q71: ='2015'!G74 -> - | R71: ='2015'!H74 -> - | S71: ='2015'!I74 -> - | T71: 1 | U71: 1 | V71: - | W71: - | X71: -
A72: 22 | B72: 00 | C72: 134 | D72: 04 | E72: 静岡県 | G72: 南区 | H72: 河輪村 | I72: =CONCATENATE(G72,H72) -> 南区河輪村 | J72: ='2010'!E75 -> 16 | K72: ='2010'!F75 -> 16 | L72: ='2010'!G75 -> - | M72: ='2010'!H75 -> - | N72: ='2010'!I75 -> - | O72: ='2015'!E75 -> 6 | P72: ='2015'!F75 -> 6 | Q72: ='2015'!G75 -> - | R72: ='2015'!H75 -> - | S72: ='2015'!I75 -> - | T72: 6 | U72: 6 | V72: 1 | W72: - | X72: -
A73: 22 | B73: 00 | C73: 134 | D73: 05 | E73: 静岡県 | G73: 南区 | H73: 五島村 | I73: =CONCATENATE(G73,H73) -> 南区五島村 | J73: ='2010'!E76 -> 5 | K73: ='2010'!F76 -> 4 | L73: ='2010'!G76 -> - | M73: ='2010'!H76 -> 1 | N73: ='2010'!I76 -> - | O73: ='2015'!E76 -> 3 | P73: ='2015'!F76 -> 2 | Q73: ='2015'!G76 -> - | R73: ='2015'!H76 -> 1 | S73: ='2015'!I76 -> - | T73: 2 | U73: 2 | V73: - | W73: - | X73: -
A74: 22 | B74: 00 | C74: 134 | D74: 06 | E74: 静岡県 | G74: 南区 | H74: 新津村２－２ | I74: =CONCATENATE(G74,H74) -> 南区新津村２－２ | J74: ='2010'!E77 -> 1 | K74: ='2010'!F77 -> - | L74: ='2010'!G77 -> - | M74: ='2010'!H77 -> 1 | N74: ='2010'!I77 -> - | O74: ='2015'!E77 -> 1 | P74: ='2015'!F77 -> - | Q74: ='2015'!G77 -> - | R74: ='2015'!H77 -> 1 | S74: ='2015'!I77 -> - | T74: 2 | U74: - | V74: - | W74: 2 | X74: -
A75: 22 | B75: 00 | C75: 134 | D75: 07 | E75: 静岡県 | G75: 南区 | H75: 可美村 | I75: =CONCATENATE(G75,H75) -> 南区可美村 | J75: ='2010'!E78 -> 3 | K75: ='2010'!F78 -> 1 | L75: ='2010'!G78 -> - | M75: ='2010'!H78 -> 2 | N75: ='2010'!I78 -> 1 | O75: ='2015'!E78 -> 1 | P75: ='2015'!F78 -> 1 | Q75: ='2015'!G78 -> - | R75: ='2015'!H78 -> 1 | S75: ='2015'!I78 -> - | T75: - | U75: - | V75: - | W75: - | X75: -
A76: 22 | B76: 00 | C76: 135 | D76: 00 | E76: 静岡県 | G76: 北区 | I76: =CONCATENATE(G76,H76) -> 北区 | J76: ='2010'!E79 -> 353 | K76: ='2010'!F79 -> 309 | L76: ='2010'!G79 -> 5 | M76: ='2010'!H79 -> 46 | N76: ='2010'!I79 -> 8 | O76: ='2015'!E79 -> 340 | P76: ='2015'!F79 -> 312 | Q76: ='2015'!G79 -> 5 | R76: ='2015'!H79 -> 29 | S76: ='2015'!I79 -> 6 | T76: 252 | U76: 224 | V76: 6 | W76: 27 | X76: 8
A77: 22 | B77: 00 | C77: 135 | D77: 01 | E77: 静岡県 | G77: 北区 | H77: 三方原村２－２ | I77: =CONCATENATE(G77,H77) -> 北区三方原村２－２ | J77: ='2010'!E80 -> 35 | K77: ='2010'!F80 -> 27 | L77: ='2010'!G80 -> 2 | M77: ='2010'!H80 -> 9 | N77: ='2010'!I80 -> 1 | O77: ='2015'!E80 -> 19 | P77: ='2015'!F80 -> 15 | Q77: ='2015'!G80 -> 1 | R77: ='2015'!H80 -> 5 | S77: ='2015'!I80 -> - | T77: 21 | U77: 13 | V77: 2 | W77: 8 | X77: 3
A78: 22 | B78: 00 | C78: 135 | D78: 02 | E78: 静岡県 | G78: 北区 | H78: 都田村 | I78: =CONCATENATE(G78,H78) -> 北区都田村 | J78: ='2010'!E81 -> 39 | K78: ='2010'!F81 -> 28 | L78: ='2010'!G81 -> - | M78: ='2010'!H81 -> 10 | N78: ='2010'!I81 -> 3 | O78: ='2015'!E81 -> 35 | P78: ='2015'!F81 -> 24 | Q78: ='2015'!G81 -> - | R78: ='2015'!H81 -> 8 | S78: ='2015'!I81 -> 4 | T78: 32 | U78: 24 | V78: - | W78: 7 | X78: 2
A79: 22 | B79: 00 | C79: 135 | D79: 03 | E79: 静岡県 | G79: 北区 | H79: 気賀町 | I79: =CONCATENATE(G79,H79) -> 北区気賀町 | J79: ='2010'!E82 -> 23 | K79: ='2010'!F82 -> 22 | L79: ='2010'!G82 -> - | M79: ='2010'!H82 -> 2 | N79: ='2010'!I82 -> - | O79: ='2015'!E82 -> 31 | P79: ='2015'!F82 -> 31 | Q79: ='2015'!G82 -> - | R79: ='2015'!H82 -> - | S79: ='2015'!I82 -> - | T79: 19 | U79: 19 | V79: 1 | W79: - | X79: -
A80: 22 | B80: 00 | C80: 135 | D80: 04 | E80: 静岡県 | G80: 北区 | H80: 中川村 | I80: =CONCATENATE(G80,H80) -> 北区中川村 | J80: ='2010'!E83 -> 8 | K80: ='2010'!F83 -> 4 | L80: ='2010'!G83 -> - | M80: ='2010'!H83 -> 4 | N80: ='2010'!I83 -> - | O80: ='2015'!E83 -> 8 | P80: ='2015'!F83 -> 7 | Q80: ='2015'!G83 -> - | R80: ='2015'!H83 -> 3 | S80: ='2015'!I83 -> - | T80: 7 | U80: 6 | V80: - | W80: 1 | X80: -
A81: 22 | B81: 00 | C81: 135 | D81: 05 | E81: 静岡県 | G81: 北区 | H81: 金指町 | I81: =CONCATENATE(G81,H81) -> 北区金指町 | J81: ='2010'!E84 -> - | K81: ='2010'!F84 -> - | L81: ='2010'!G84 -> - | M81: ='2010'!H84 -> - | N81: ='2010'!I84 -> - | O81: ='2015'!E84 -> - | P81: ='2015'!F84 -> - | Q81: ='2015'!G84 -> - | R81: ='2015'!H84 -> - | S81: ='2015'!I84 -> - | T81: 1 | U81: 1 | V81: - | W81: - | X81: -
A82: 22 | B82: 00 | C82: 135 | D82: 06 | E82: 静岡県 | G82: 北区 | H82: 井伊谷村 | I82: =CONCATENATE(G82,H82) -> 北区井伊谷村 | J82: ='2010'!E85 -> 76 | K82: ='2010'!F85 -> 72 | L82: ='2010'!G85 -> 1 | M82: ='2010'!H85 -> 6 | N82: ='2010'!I85 -> 1 | O82: ='2015'!E85 -> 60 | P82: ='2015'!F85 -> 57 | Q82: ='2015'!G85 -> 1 | R82: ='2015'!H85 -> 3 | S82: ='2015'!I85 -> - | T82: 51 | U82: 48 | V82: 1 | W82: 2 | X82: 1
A83: 22 | B83: 00 | C83: 135 | D83: 07 | E83: 静岡県 | G83: 北区 | H83: 奥山村 | I83: =CONCATENATE(G83,H83) -> 北区奥山村 | J83: ='2010'!E86 -> 57 | K83: ='2010'!F86 -> 57 | L83: ='2010'!G86 -> - | M83: ='2010'!H86 -> - | N83: ='2010'!I86 -> - | O83: ='2015'!E86 -> 59 | P83: ='2015'!F86 -> 59 | Q83: ='2015'!G86 -> 1 | R83: ='2015'!H86 -> 1 | S83: ='2015'!I86 -> - | T83: 35 | U83: 34 | V83: 1 | W83: - | X83: -
A84: 22 | B84: 00 | C84: 135 | D84: 08 | E84: 静岡県 | G84: 北区 | H84: 伊平村 | I84: =CONCATENATE(G84,H84) -> 北区伊平村 | J84: ='2010'!E87 -> 37 | K84: ='2010'!F87 -> 36 | L84: ='2010'!G87 -> 2 | M84: ='2010'!H87 -> 2 | N84: ='2010'!I87 -> - | O84: ='2015'!E87 -> 37 | P84: ='2015'!F87 -> 36 | Q84: ='2015'!G87 -> 2 | R84: ='2015'!H87 -> 1 | S84: ='2015'!I87 -> 1 | T84: 37 | U84: 37 | V84: - | W84: 1 | X84: -
A85: 22 | B85: 00 | C85: 135 | D85: 09 | E85: 静岡県 | G85: 北区 | H85: 鎮玉村 | I85: =CONCATENATE(G85,H85) -> 北区鎮玉村 | J85: ='2010'!E88 -> 46 | K85: ='2010'!F88 -> 46 | L85: ='2010'!G88 -> - | M85: ='2010'!H88 -> - | N85: ='2010'!I88 -> - | O85: ='2015'!E88 -> 63 | P85: ='2015'!F88 -> 62 | Q85: ='2015'!G88 -> - | R85: ='2015'!H88 -> 1 | S85: ='2015'!I88 -> - | T85: 23 | U85: 23 | V85: - | W85: - | X85: -
A86: 22 | B86: 00 | C86: 135 | D86: 10 | E86: 静岡県 | G86: 北区 | H86: 三ヶ日町 | I86: =CONCATENATE(G86,H86) -> 北区三ヶ日町 | J86: ='2010'!E89 -> 19 | K86: ='2010'!F89 -> 10 | L86: ='2010'!G89 -> - | M86: ='2010'!H89 -> 9 | N86: ='2010'!I89 -> - | O86: ='2015'!E89 -> 17 | P86: ='2015'!F89 -> 13 | Q86: ='2015'!G89 -> - | R86: ='2015'!H89 -> 5 | S86: ='2015'!I89 -> - | T86: 18 | U86: 14 | V86: 1 | W86: 6 | X86: 1
A87: 22 | B87: 00 | C87: 135 | D87: 11 | E87: 静岡県 | G87: 北区 | H87: 東浜名村 | I87: =CONCATENATE(G87,H87) -> 北区東浜名村 | J87: ='2010'!E90 -> 13 | K87: ='2010'!F90 -> 7 | L87: ='2010'!G90 -> - | M87: ='2010'!H90 -> 4 | N87: ='2010'!I90 -> 3 | O87: ='2015'!E90 -> 11 | P87: ='2015'!F90 -> 8 | Q87: ='2015'!G90 -> - | R87: ='2015'!H90 -> 2 | S87: ='2015'!I90 -> 1 | T87: 8 | U87: 5 | V87: - | W87: 2 | X87: 1
A88: 22 | B88: 00 | C88: 136 | D88: 00 | E88: 静岡県 | G88: 浜北区 | I88: =CONCATENATE(G88,H88) -> 浜北区 | J88: ='2010'!E91 -> 42 | K88: ='2010'!F91 -> 14 | L88: ='2010'!G91 -> - | M88: ='2010'!H91 -> 23 | N88: ='2010'!I91 -> 8 | O88: ='2015'!E91 -> 41 | P88: ='2015'!F91 -> 19 | Q88: ='2015'!G91 -> 1 | R88: ='2015'!H91 -> 19 | S88: ='2015'!I91 -> 6 | T88: 33 | U88: 16 | V88: 1 | W88: 14 | X88: 6
A89: 22 | B89: 00 | C89: 136 | D89: 01 | E89: 静岡県 | G89: 浜北区 | H89: 小野口村 | I89: =CONCATENATE(G89,H89) -> 浜北区小野口村 | J89: ='2010'!E92 -> 5 | K89: ='2010'!F92 -> - | L89: ='2010'!G92 -> - | M89: ='2010'!H92 -> 4 | N89: ='2010'!I92 -> 1 | O89: ='2015'!E92 -> 7 | P89: ='2015'!F92 -> 3 | Q89: ='2015'!G92 -> - | R89: ='2015'!H92 -> 3 | S89: ='2015'!I92 -> 1 | T89: 3 | U89: 1 | V89: - | W89: 2 | X89: -
A90: 22 | B90: 00 | C90: 136 | D90: 02 | E90: 静岡県 | G90: 浜北区 | H90: 北浜村 | I90: =CONCATENATE(G90,H90) -> 浜北区北浜村 | J90: ='2010'!E93 -> 8 | K90: ='2010'!F93 -> 2 | L90: ='2010'!G93 -> - | M90: ='2010'!H93 -> 4 | N90: ='2010'!I93 -> 3 | O90: ='2015'!E93 -> 4 | P90: ='2015'!F93 -> 2 | Q90: ='2015'!G93 -> - | R90: ='2015'!H93 -> 2 | S90: ='2015'!I93 -> - | T90: 2 | U90: - | V90: - | W90: 1 | X90: 1
A91: 22 | B91: 00 | C91: 136 | D91: 03 | E91: 静岡県 | G91: 浜北区 | H91: 竜池村 | I91: =CONCATENATE(G91,H91) -> 浜北区竜池村 | J91: ='2010'!E94 -> 1 | K91: ='2010'!F94 -> 1 | L91: ='2010'!G94 -> - | M91: ='2010'!H94 -> - | N91: ='2010'!I94 -> - | O91: ='2015'!E94 -> - | P91: ='2015'!F94 -> - | Q91: ='2015'!G94 -> - | R91: ='2015'!H94 -> - | S91: ='2015'!I94 -> - | T91: - | U91: - | V91: - | W91: - | X91: -
A92: 22 | B92: 00 | C92: 136 | D92: 04 | E92: 静岡県 | G92: 浜北区 | H92: 中瀬村 | I92: =CONCATENATE(G92,H92) -> 浜北区中瀬村 | J92: ='2010'!E95 -> 4 | K92: ='2010'!F95 -> 2 | L92: ='2010'!G95 -> - | M92: ='2010'!H95 -> 1 | N92: ='2010'!I95 -> 1 | O92: ='2015'!E95 -> 3 | P92: ='2015'!F95 -> 2 | Q92: ='2015'!G95 -> - | R92: ='2015'!H95 -> - | S92: ='2015'!I95 -> 1 | T92: 4 | U92: 3 | V92: - | W92: - | X92: 1
A93: 22 | B93: 00 | C93: 136 | D93: 05 | E93: 静岡県 | G93: 浜北区 | H93: 赤佐村 | I93: =CONCATENATE(G93,H93) -> 浜北区赤佐村 | J93: ='2010'!E96 -> 3 | K93: ='2010'!F96 -> 3 | L93: ='2010'!G96 -> - | M93: ='2010'!H96 -> - | N93: ='2010'!I96 -> - | O93: ='2015'!E96 -> 5 | P93: ='2015'!F96 -> 3 | Q93: ='2015'!G96 -> - | R93: ='2015'!H96 -> 2 | S93: ='2015'!I96 -> - | T93: 1 | U93: 1 | V93: - | W93: - | X93: -
A94: 22 | B94: 00 | C94: 136 | D94: 06 | E94: 静岡県 | G94: 浜北区 | H94: 麁玉村 | I94: =CONCATENATE(G94,H94) -> 浜北区麁玉村 | J94: ='2010'!E97 -> 21 | K94: ='2010'!F97 -> 6 | L94: ='2010'!G97 -> - | M94: ='2010'!H97 -> 14 | N94: ='2010'!I97 -> 3 | O94: ='2015'!E97 -> 22 | P94: ='2015'!F97 -> 9 | Q94: ='2015'!G97 -> 1 | R94: ='2015'!H97 -> 12 | S94: ='2015'!I97 -> 4 | T94: 23 | U94: 11 | V94: 1 | W94: 11 | X94: 4
A95: 22 | B95: 00 | C95: 137 | D95: 00 | E95: 静岡県 | G95: 天竜区 | I95: =CONCATENATE(G95,H95) -> 天竜区 | J95: ='2010'!E98 -> 9 | K95: ='2010'!F98 -> 9 | L95: ='2010'!G98 -> - | M95: ='2010'!H98 -> - | N95: ='2010'!I98 -> - | O95: ='2015'!E98 -> 39 | P95: ='2015'!F98 -> 38 | Q95: ='2015'!G98 -> - | R95: ='2015'!H98 -> - | S95: ='2015'!I98 -> 1 | T95: 29 | U95: 28 | V95: - | W95: 1 | X95: -
A96: 22 | B96: 00 | C96: 137 | D96: 01 | E96: 静岡県 | G96: 天竜区 | H96: 二俣町 | I96: =CONCATENATE(G96,H96) -> 天竜区二俣町 | J96: ='2010'!E99 -> X | K96: ='2010'!F99 -> X | L96: ='2010'!G99 -> X | M96: ='2010'!H99 -> X | N96: ='2010'!I99 -> X | O96: ='2015'!E99 -> - | P96: ='2015'!F99 -> - | Q96: ='2015'!G99 -> - | R96: ='2015'!H99 -> - | S96: ='2015'!I99 -> - | T96: x | U96: x | V96: x | W96: x | X96: x
A97: 22 | B97: 00 | C97: 137 | D97: 02 | E97: 静岡県 | G97: 天竜区 | H97: 光明村 | I97: =CONCATENATE(G97,H97) -> 天竜区光明村 | J97: ='2010'!E100 -> - | K97: ='2010'!F100 -> - | L97: ='2010'!G100 -> - | M97: ='2010'!H100 -> - | N97: ='2010'!I100 -> - | O97: ='2015'!E100 -> 4 | P97: ='2015'!F100 -> 4 | Q97: ='2015'!G100 -> - | R97: ='2015'!H100 -> - | S97: ='2015'!I100 -> - | T97: 2 | U97: 2 | V97: - | W97: - | X97: -
A98: 22 | B98: 00 | C98: 137 | D98: 03 | E98: 静岡県 | G98: 天竜区 | H98: 上阿多古村 | I98: =CONCATENATE(G98,H98) -> 天竜区上阿多古村 | J98: ='2010'!E101 -> - | K98: ='2010'!F101 -> - | L98: ='2010'!G101 -> - | M98: ='2010'!H101 -> - | N98: ='2010'!I101 -> - | O98: ='2015'!E101 -> - | P98: ='2015'!F101 -> - | Q98: ='2015'!G101 -> - | R98: ='2015'!H101 -> - | S98: ='2015'!I101 -> - | T98: 4 | U98: 3 | V98: - | W98: 1 | X98: -
A99: 22 | B99: 00 | C99: 137 | D99: 04 | E99: 静岡県 | G99: 天竜区 | H99: 下阿多古村 | I99: =CONCATENATE(G99,H99) -> 天竜区下阿多古村 | J99: ='2010'!E102 -> - | K99: ='2010'!F102 -> - | L99: ='2010'!G102 -> - | M99: ='2010'!H102 -> - | N99: ='2010'!I102 -> - | O99: ='2015'!E102 -> 1 | P99: ='2015'!F102 -> 1 | Q99: ='2015'!G102 -> - | R99: ='2015'!H102 -> - | S99: ='2015'!I102 -> - | T99: 1 | U99: 1 | V99: - | W99: - | X99: -
A100: 22 | B100: 00 | C100: 137 | D100: 05 | E100: 静岡県 | G100: 天竜区 | H100: 熊村 | I100: =CONCATENATE(G100,H100) -> 天竜区熊村 | J100: ='2010'!E103 -> - | K100: ='2010'!F103 -> - | L100: ='2010'!G103 -> - | M100: ='2010'!H103 -> - | N100: ='2010'!I103 -> - | O100: ='2015'!E103 -> 21 | P100: ='2015'!F103 -> 20 | Q100: ='2015'!G103 -> - | R100: ='2015'!H103 -> - | S100: ='2015'!I103 -> 1 | T100: 9 | U100: 9 | V100: - | W100: - | X100: -
A101: 22 | B101: 00 | C101: 137 | D101: 06 | E101: 静岡県 | G101: 天竜区 | H101: 竜川村 | I101: =CONCATENATE(G101,H101) -> 天竜区竜川村 | J101: ='2010'!E104 -> - | K101: ='2010'!F104 -> - | L101: ='2010'!G104 -> - | M101: ='2010'!H104 -> - | N101: ='2010'!I104 -> - | O101: ='2015'!E104 -> - | P101: ='2015'!F104 -> - | Q101: ='2015'!G104 -> - | R101: ='2015'!H104 -> - | S101: ='2015'!I104 -> - | T101: 1 | U101: 1 | V101: - | W101: - | X101: -
A102: 22 | B102: 00 | C102: 137 | D102: 07 | E102: 静岡県 | G102: 天竜区 | H102: 犬居町 | I102: =CONCATENATE(G102,H102) -> 天竜区犬居町 | J102: ='2010'!E105 -> - | K102: ='2010'!F105 -> - | L102: ='2010'!G105 -> - | M102: ='2010'!H105 -> - | N102: ='2010'!I105 -> - | O102: ='2015'!E105 -> - | P102: ='2015'!F105 -> - | Q102: ='2015'!G105 -> - | R102: ='2015'!H105 -> - | S102: ='2015'!I105 -> - | T102: - | U102: - | V102: - | W102: - | X102: -
...

Sheet グラフ
B1: 販売目的の花き栽培経営体数の推移
C2: 2010年 | D2: 2015年 | E2: 2020年 | F2: 2025年
B3: 実農家数 | C3: =_xlfn.XLOOKUP($B$10,累年!$I$10:$I$376,累年!J$10:J$376) -> 2580 | D3: =_xlfn.XLOOKUP($B$10,累年!$I$10:$I$376,累年!O$10:O$376) -> 2167 | E3: =_xlfn.XLOOKUP($B$10,累年!$I$10:$I$376,累年!T$10:T$376) -> 1671 | F3: =_xlfn.XLOOKUP($B$10,累年!$I$10:$I$376,累年!Y$10:Y$376) -> 0
B4: 花り花類 | C4: =_xlfn.XLOOKUP($B$10,累年!$I$10:$I$376,累年!K$10:K$376) -> 2194 | D4: =_xlfn.XLOOKUP($B$10,累年!$I$10:$I$376,累年!P$10:P$376) -> 1883 | E4: =_xlfn.XLOOKUP($B$10,累年!$I$10:$I$376,累年!U$10:U$376) -> 1412 | F4: =_xlfn.XLOOKUP($B$10,累年!$I$10:$I$376,累年!Z$10:Z$376) -> 0
B5: 球根類 | C5: =_xlfn.XLOOKUP($B$10,累年!$I$10:$I$376,累年!L$10:L$376) -> 93 | D5: =_xlfn.XLOOKUP($B$10,累年!$I$10:$I$376,累年!Q$10:Q$376) -> 76 | E5: =_xlfn.XLOOKUP($B$10,累年!$I$10:$I$376,累年!V$10:V$376) -> 66 | F5: =_xlfn.XLOOKUP($B$10,累年!$I$10:$I$376,累年!AA$10:AA$376) -> 0
B6: 鉢物類 | C6: =_xlfn.XLOOKUP($B$10,累年!$I$10:$I$376,累年!M$10:M$376) -> 338 | D6: =_xlfn.XLOOKUP($B$10,累年!$I$10:$I$376,累年!R$10:R$376) -> 254 | E6: =_xlfn.XLOOKUP($B$10,累年!$I$10:$I$376,累年!W$10:W$376) -> 189 | F6: =_xlfn.XLOOKUP($B$10,累年!$I$10:$I$376,累年!AB$10:AB$376) -> 0
B7: 花壇用苗もの類 | C7: =_xlfn.XLOOKUP($B$10,累年!$I$10:$I$376,累年!N$10:N$376) -> 161 | D7: =_xlfn.XLOOKUP($B$10,累年!$I$10:$I$376,累年!S$10:S$376) -> 118 | E7: =_xlfn.XLOOKUP($B$10,累年!$I$10:$I$376,累年!X$10:X$376) -> 107 | F7: =_xlfn.XLOOKUP($B$10,累年!$I$10:$I$376,累年!AB$10:AB$376) -> 0
B9: 選択市町（旧市町村）
B10: 静岡県
B29: 出典：農林業センサス（2010年から2020年）
