Workbook
Name 花きD: 累年!$I$10:$AC$376

Sheet 2010
A1: Ⅱ 農業経営体
A2: 10 販売目的の花き類の類別栽培経営体数
I7: 単位：経営体
A8: 新旧市区町村
I9: 花壇用 苗もの類
E10: 実経営体数 | F10: 切り花類 | G10: 球根類 | H10: 鉢もの類
A13: 県計 | D13: 000-00 | E13: 2580 | F13: 2194 | G13: 93 | H13: 338 | I13: 161
B14: 静岡市 | D14: 100-00 | E14: 309 | F14: 289 | G14: 9 | H14: 21 | I14: 10
B15: 葵区 | D15: 101-00 | E15: 104 | F15: 98 | G15: 2 | H15: 8 | I15: 3
C16: 静岡市２－１ | D16: 101-01 | E16: 58 | F16: 54 | G16: 1 | H16: 6 | I16: 2
C17: 美和村 | D17: 101-02 | E17: 14 | F17: 13 | G17: - | H17: 1 | I17: -
C18: 服織村 | D18: 101-03 | E18: 7 | F18: 7 | G18: 1 | H18: - | I18: -
C19: 中藁科村 | D19: 101-04 | E19: 7 | F19: 6 | G19: - | H19: 1 | I19: 1
C20: 南藁科村 | D20: 101-05 | E20: 3 | F20: 3 | G20: - | H20: - | I20: -
C21: 大河内村 | D21: 101-06 | E21: 5 | F21: 5 | G21: - | H21: - | I21: -
C22: 梅ヶ島村 | D22: 101-07 | E22: 4 | F22: 4 | G22: - | H22: - | I22: -
C23: 玉川村 | D23: 101-08 | E23: - | F23: - | G23: - | H23: - | I23: -
C24: 井川村 | D24: 101-09 | E24: - | F24: - | G24: - | H24: - | I24: -
C25: 清沢村 | D25: 101-10 | E25: 3 | F25: 3 | G25: - | H25: - | I25: -
C26: 大川村 | D26: 101-11 | E26: 3 | F26: 3 | G26: - | H26: - | I26: -
B27: 駿河区 | D27: 102-00 | E27: 54 | F27: 46 | G27: 3 | H27: 6 | I27: 5
C28: 静岡市２－２ | D28: 102-01 | E28: 53 | F28: 45 | G28: 3 | H28: 6 | I28: 5
C29: 有度村２－２ | D29: 102-02 | E29: 1 | F29: 1 | G29: - | H29: - | I29: -
B30: 清水区 | D30: 103-00 | E30: 151 | F30: 145 | G30: 4 | H30: 7 | I30: 2
C31: 清水市 | D31: 103-01 | E31: 4 | F31: 4 | G31: - | H31: - | I31: -
C32: 飯田村 | D32: 103-02 | E32: 9 | F32: 8 | G32: - | H32: 1 | I32: -
C33: 高部村 | D33: 103-03 | E33: 9 | F33: 7 | G33: 1 | H33: 1 | I33: 2
C34: 有度村２－１ | D34: 103-04 | E34: 8 | F34: 8 | G34: - | H34: - | I34: -
C35: 興津町 | D35: 103-05 | E35: 28 | F35: 26 | G35: 1 | H35: 3 | I35: -
C36: 小島村 | D36: 103-06 | E36: 25 | F36: 25 | G36: 1 | H36: - | I36: -
C37: 両河内村 | D37: 103-07 | E37: 6 | F37: 6 | G37: - | H37: - | I37: -
C38: 庵原村 | D38: 103-08 | E38: 49 | F38: 48 | G38: 1 | H38: 1 | I38: -
C39: 袖師町 | D39: 103-09 | E39: 5 | F39: 5 | G39: - | H39: 1 | I39: -
C40: 蒲原町 | D40: 103-10 | E40: 3 | F40: 3 | G40: - | H40: - | I40: -
C41: 由比町 | D41: 103-11 | E41: 5 | F41: 5 | G41: - | H41: - | I41: -
B42: 浜松市 | D42: 130-00 | E42: 1029 | F42: 902 | G42: 45 | H42: 115 | I42: 35
B43: 中区 | D43: 131-00 | E43: 13 | F43: 10 | G43: 1 | H43: 3 | I43: 2
C44: 浜松市４－１ | D44: 131-01 | E44: 10 | F44: 7 | G44: 1 | H44: 3 | I44: 2
C45: 入野村２－１ | D45: 131-02 | E45: 2 | F45: 2 | G45: - | H45: - | I45: -
C46: 吉野村２－１ | D46: 131-03 | E46: 1 | F46: 1 | G46: - | H46: - | I46: -
...

Sheet 2015
A1: Ⅱ 農業経営体
A2: 13 販売目的で栽培した花き類の品目別栽培経営体数
I5: 単位：経営体
A6: 新旧市区町村 | E6: 栽 培 実経営体数 | F6: 切り花類 | G6: 球 根 類 | H6: 鉢もの類 | I6: 花 壇 用 苗もの類
A13: 静岡県 | E13: 2167 | F13: 1883 | G13: 76 | H13: 254 | I13: 118
B14: 静岡市 | D14: 100-00 | E14: 242 | F14: 229 | G14: 8 | H14: 9 | I14: 10
B15: 葵区 | D15: 101-00 | E15: 97 | F15: 91 | G15: 3 | H15: 5 | I15: 5
C16: 静岡市２－１ | D16: 101-01 | E16: 51 | F16: 48 | G16: - | H16: 2 | I16: 3
C17: 美和村 | D17: 101-02 | E17: 14 | F17: 13 | G17: - | H17: - | I17: 1
C18: 服織村 | D18: 101-03 | E18: 6 | F18: 6 | G18: 1 | H18: - | I18: -
C19: 中藁科村 | D19: 101-04 | E19: 6 | F19: 4 | G19: - | H19: 2 | I19: -
C20: 南藁科村 | D20: 101-05 | E20: 7 | F20: 7 | G20: - | H20: - | I20: -
C21: 大河内村 | D21: 101-06 | E21: 6 | F21: 6 | G21: - | H21: - | I21: -
C22: 梅ヶ島村 | D22: 101-07 | E22: 3 | F22: 3 | G22: - | H22: - | I22: -
C23: 玉川村 | D23: 101-08 | E23: 1 | F23: 1 | G23: 1 | H23: 1 | I23: 1
C24: 井川村 | D24: 101-09 | E24: - | F24: - | G24: - | H24: - | I24: -
C25: 清沢村 | D25: 101-10 | E25: 1 | F25: 1 | G25: - | H25: - | I25: -
C26: 大川村 | D26: 101-11 | E26: 2 | F26: 2 | G26: 1 | H26: - | I26: -
B27: 駿河区 | D27: 102-00 | E27: 37 | F27: 32 | G27: 2 | H27: 1 | I27: 4
C28: 静岡市２－２ | D28: 102-01 | E28: 37 | F28: 32 | G28: 2 | H28: 1 | I28: 4
C29: 有度村２－２ | D29: 102-02 | E29: - | F29: - | G29: - | H29: - | I29: -
B30: 清水区 | D30: 103-00 | E30: 108 | F30: 106 | G30: 3 | H30: 3 | I30: 1
C31: 清水市 | D31: 103-01 | E31: 2 | F31: 2 | G31: - | H31: - | I31: -
C32: 飯田村 | D32: 103-02 | E32: 6 | F32: 6 | G32: - | H32: 1 | I32: -
C33: 高部村 | D33: 103-03 | E33: 5 | F33: 4 | G33: - | H33: 1 | I33: -
C34: 有度村２－１ | D34: 103-04 | E34: 6 | F34: 5 | G34: 1 | H34: - | I34: 1
C35: 興津町 | D35: 103-05 | E35: 17 | F35: 17 | G35: - | H35: 1 | I35: -
C36: 小島村 | D36: 103-06 | E36: 20 | F36: 20 | G36: - | H36: - | I36: -
C37: 両河内村 | D37: 103-07 | E37: 4 | F37: 4 | G37: - | H37: - | I37: -
C38: 庵原村 | D38: 103-08 | E38: 38 | F38: 38 | G38: 2 | H38: - | I38: -
C39: 袖師町 | D39: 103-09 | E39: 5 | F39: 5 | G39: - | H39: - | I39: -
C40: 蒲原町 | D40: 103-10 | E40: 2 | F40: 2 | G40: - | H40: - | I40: -
C41: 由比町 | D41: 103-11 | E41: 3 | F41: 3 | G41: - | H41: - | I41: -
B42: 浜松市 | D42: 130-00 | E42: 869 | F42: 776 | G42: 41 | H42: 85 | I42: 23
B43: 中区 | D43: 131-00 | E43: 8 | F43: 7 | G43: - | H43: 1 | I43: -
C44: 浜松市４－１ | D44: 131-01 | E44: 6 | F44: 5 | G44: - | H44: 1 | I44: -
C45: 入野村２－１ | D45: 131-02 | E45: 2 | F45: 2 | G45: - | H45: - | I45: -
C46: 吉野村２－１ | D46: 131-03 | E46: - | F46: - | G46: - | H46: - | I46: -
C47: 新津村２－１ | D47: 131-04 | E47: - | F47: - | G47: - | H47: - | I47: -
B48: 東区 | D48: 132-00 | E48: 22 | F48: 14 | G48: - | H48: 8 | I48: 3
...

Sheet 2020
A1: Ⅱ 農業経営体（総数）
A2: 17 販売目的の花き類の品目別作付（栽培）経営体数
M3: 単位：経営体
A4: 新旧市区町村 | I4: 作 付 （栽 培） 実経営体数 | J4: 切り花類 | K4: 球根類 | L4: 鉢もの類 | M4: 花 壇 用 苗もの類
A6: コード | E6: 名称
A7: 都道府県 | B7: 振興局 | C7: 市区町村 | D7: 旧市区町村 | E7: 都道府県 | F7: 振興局 | G7: 市区町村 | H7: 旧市区町村
A10: 22 | B10: 00 | C10: 000 | D10: 00 | E10: 静岡県 | I10: 1671 | J10: 1412 | K10: 66 | L10: 189 | M10: 107
A11: 22 | B11: 00 | C11: 100 | D11: 00 | E11: 静岡県 | G11: 静岡市 | I11: 210 | J11: 197 | K11: 7 | L11: 7 | M11: 9
A12: 22 | B12: 00 | C12: 101 | D12: 00 | E12: 静岡県 | G12: 葵区 | I12: 71 | J12: 66 | K12: 5 | L12: 3 | M12: 3
A13: 22 | B13: 00 | C13: 101 | D13: 01 | E13: 静岡県 | G13: 葵区 | H13: 静岡市２－１ | I13: 40 | J13: 35 | K13: 2 | L13: 3 | M13: 2
A14: 22 | B14: 00 | C14: 101 | D14: 02 | E14: 静岡県 | G14: 葵区 | H14: 美和村 | I14: 9 | J14: 9 | K14: - | L14: - | M14: -
A15: 22 | B15: 00 | C15: 101 | D15: 03 | E15: 静岡県 | G15: 葵区 | H15: 服織村 | I15: 3 | J15: 3 | K15: 1 | L15: - | M15: -
A16: 22 | B16: 00 | C16: 101 | D16: 04 | E16: 静岡県 | G16: 葵区 | H16: 中藁科村 | I16: 8 | J16: 8 | K16: 1 | L16: - | M16: 1
A17: 22 | B17: 00 | C17: 101 | D17: 05 | E17: 静岡県 | G17: 葵区 | H17: 南藁科村 | I17: 3 | J17: 3 | K17: 1 | L17: - | M17: -
A18: 22 | B18: 00 | C18: 101 | D18: 06 | E18: 静岡県 | G18: 葵区 | H18: 大河内村 | I18: 2 | J18: 2 | K18: - | L18: - | M18: -
A19: 22 | B19: 00 | C19: 101 | D19: 07 | E19: 静岡県 | G19: 葵区 | H19: 梅ヶ島村 | I19: 3 | J19: 3 | K19: - | L19: - | M19: -
A20: 22 | B20: 00 | C20: 101 | D20: 08 | E20: 静岡県 | G20: 葵区 | H20: 玉川村 | I20: - | J20: - | K20: - | L20: - | M20: -
A21: 22 | B21: 00 | C21: 101 | D21: 09 | E21: 静岡県 | G21: 葵区 | H21: 井川村 | I21: - | J21: - | K21: - | L21: - | M21: -
A22: 22 | B22: 00 | C22: 101 | D22: 10 | E22: 静岡県 | G22: 葵区 | H22: 清沢村 | I22: 2 | J22: 2 | K22: - | L22: - | M22: -
A23: 22 | B23: 00 | C23: 101 | D23: 11 | E23: 静岡県 | G23: 葵区 | H23: 大川村 | I23: 1 | J23: 1 | K23: - | L23: - | M23: -
A24: 22 | B24: 00 | C24: 102 | D24: 00 | E24: 静岡県 | G24: 駿河区 | I24: 33 | J24: 30 | K24: 1 | L24: 1 | M24: 3
A25: 22 | B25: 00 | C25: 102 | D25: 01 | E25: 静岡県 | G25: 駿河区 | H25: 静岡市２－２ | I25: 31 | J25: 28 | K25: - | L25: 1 | M25: 3
A26: 22 | B26: 00 | C26: 102 | D26: 02 | E26: 静岡県 | G26: 駿河区 | H26: 有度村２－２ | I26: 2 | J26: 2 | K26: 1 | L26: - | M26: -
A27: 22 | B27: 00 | C27: 103 | D27: 00 | E27: 静岡県 | G27: 清水区 | I27: 106 | J27: 101 | K27: 1 | L27: 3 | M27: 3
A28: 22 | B28: 00 | C28: 103 | D28: 01 | E28: 静岡県 | G28: 清水区 | H28: 清水市 | I28: 1 | J28: 1 | K28: - | L28: - | M28: -
A29: 22 | B29: 00 | C29: 103 | D29: 02 | E29: 静岡県 | G29: 清水区 | H29: 飯田村 | I29: 11 | J29: 10 | K29: - | L29: 1 | M29: -
A30: 22 | B30: 00 | C30: 103 | D30: 03 | E30: 静岡県 | G30: 清水区 | H30: 高部村 | I30: 6 | J30: 5 | K30: 1 | L30: 1 | M30: 1
A31: 22 | B31: 00 | C31: 103 | D31: 04 | E31: 静岡県 | G31: 清水区 | H31: 有度村２－１ | I31: 10 | J31: 9 | K31: - | L31: 1 | M31: -
A32: 22 | B32: 00 | C32: 103 | D32: 05 | E32: 静岡県 | G32: 清水区 | H32: 興津町 | I32: 13 | J32: 13 | K32: - | L32: - | M32: -
A33: 22 | B33: 00 | C33: 103 | D33: 06 | E33: 静岡県 | G33: 清水区 | H33: 小島村 | I33: 15 | J33: 15 | K33: - | L33: - | M33: -
A34: 22 | B34: 00 | C34: 103 | D34: 07 | E34: 静岡県 | G34: 清水区 | H34: 両河内村 | I34: 8 | J34: 8 | K34: - | L34: - | M34: -
A35: 22 | B35: 00 | C35: 103 | D35: 08 | E35: 静岡県 | G35: 清水区 | H35: 庵原村 | I35: 36 | J35: 34 | K35: - | L35: - | M35: 2
A36: 22 | B36: 00 | C36: 103 | D36: 09 | E36: 静岡県 | G36: 清水区 | H36: 袖師町 | I36: 4 | J36: 4 | K36: - | L36: - | M36: -
A37: 22 | B37: 00 | C37: 103 | D37: 10 | E37: 静岡県 | G37: 清水区 | H37: 蒲原町 | I37: 1 | J37: 1 | K37: - | L37: - | M37: -
A38: 22 | B38: 00 | C38: 103 | D38: 11 | E38: 静岡県 | G38: 清水区 | H38: 由比町 | I38: 1 | J38: 1 | K38: - | L38: - | M38: -
A39: 22 | B39: 00 | C39: 130 | D39: 00 | E39: 静岡県 | G39: 浜松市 | I39: 641 | J39: 560 | K39: 31 | L39: 69 | M39: 21
A40: 22 | B40: 00 | C40: 131 | D40: 00 | E40: 静岡県 | G40: 中区 | I40: 5 | J40: 5 | K40: - | L40: - | M40: -
A41: 22 | B41: 00 | C41: 131 | D41: 01 | E41: 静岡県 | G41: 中区 | H41: 浜松市４－１ | I41: 3 | J41: 3 | K41: - | L41: - | M41: -
A42: 22 | B42: 00 | C42: 131 | D42: 02 | E42: 静岡県 | G42: 中区 | H42: 入野村２－１ | I42: 2 | J42: 2 | K42: - | L42: - | M42: -
A43: 22 | B43: 00 | C43: 131 | D43: 03 | E43: 静岡県 | G43: 中区 | H43: 吉野村２－１ | I43: - | J43: - | K43: - | L43: - | M43: -
...

Sheet 累年
A1: Ⅱ 農業経営体（総数）
A2: 17 販売目的の花き類の品目別作付（栽培）経営体数
J3: 2010年 | N3: 単位：経営体 | O3: 2015年 | S3: 単位：経営体 | T3: 2020年 | X3: 単位：経営体 | Y3: 2025年 | Z3: 2026年4月以降 | AC3: 単位：経営体
A4: 新旧市区町村 | J4: 作 付 （栽 培） 実経営体数 | K4: 切り花類 | L4: 球根類 | M4: 鉢もの類 | N4: 花 壇 用 苗もの類 | O4: 作 付 （栽 培） 実経営体数 | P4: 切り花類 | Q4: 球根類 | R4: 鉢もの類 | S4: 花 壇 用 苗もの類 | T4: 作 付 （栽 培） 実経営体数 | U4: 切り花類 | V4: 球根類 | W4: 鉢もの類 | X4: 花 壇 用 苗もの類 | Y4: 作 付 （栽 培） 実経営体数 | Z4: 切り花類 | AA4: 球根類 | AB4: 鉢もの類 | AC4: 花 壇 用 苗もの類
A6: コード | E6: 名称
A7: 都道府県 | B7: 振興局 | C7: 市区町村 | D7: 旧市区町村 | E7: 都道府県 | F7: 振興局 | G7: 市区町村 | H7: 旧市区町村
I9: 1 | J9: 2 | K9: 3 | L9: 4 | M9: 5 | N9: 6 | O9: 7 | P9: 8 | Q9: 9 | R9: 10 | S9: 11 | T9: 12 | U9: 13 | V9: 14 | W9: 15 | X9: 16 | Y9: 17 | Z9: 18 | AA9: 19 | AB9: 20 | AC9: 21
A10: 22 | B10: 00 | C10: 000 | D10: 00 | E10: 静岡県 | I10: =CONCATENATE(E10,H10) -> 静岡県 | J10: ='2010'!E13 -> 2580 | K10: ='2010'!F13 -> 2194 | L10: ='2010'!G13 -> 93 | M10: ='2010'!H13 -> 338 | N10: ='2010'!I13 -> 161 | O10: ='2015'!E13 -> 2167 | P10: ='2015'!F13 -> 1883 | Q10: ='2015'!G13 -> 76 | R10: ='2015'!H13 -> 254 | S10: ='2015'!I13 -> 118 | T10: 1671 | U10: 1412 | V10: 66 | W10: 189 | X10: 107
A11: 22 | B11: 00 | C11: 100 | D11: 00 | E11: 静岡県 | G11: 静岡市 | I11: =CONCATENATE(G11,H11) -> 静岡市 | J11: ='2010'!E14 -> 309 | K11: ='2010'!F14 -> 289 | L11: ='2010'!G14 -> 9 | M11: ='2010'!H14 -> 21 | N11: ='2010'!I14 -> 10 | O11: ='2015'!E14 -> 242 | P11: ='2015'!F14 -> 229 | Q11: ='2015'!G14 -> 8 | R11: ='2015'!H14 -> 9 | S11: ='2015'!I14 -> 10 | T11: 210 | U11: 197 | V11: 7 | W11: 7 | X11: 9
A12: 22 | B12: 00 | C12: 101 | D12: 00 | E12: 静岡県 | G12: 葵区 | I12: =CONCATENATE(G12,H12) -> 葵区 | J12: ='2010'!E15 -> 104 | K12: ='2010'!F15 -> 98 | L12: ='2010'!G15 -> 2 | M12: ='2010'!H15 -> 8 | N12: ='2010'!I15 -> 3 | O12: ='2015'!E15 -> 97 | P12: ='2015'!F15 -> 91 | Q12: ='2015'!G15 -> 3 | R12: ='2015'!H15 -> 5 | S12: ='2015'!I15 -> 5 | T12: 71 | U12: 66 | V12: 5 | W12: 3 | X12: 3
A13: 22 | B13: 00 | C13: 101 | D13: 01 | E13: 静岡県 | G13: 葵区 | H13: 静岡市２－１ | I13: =CONCATENATE(G13,H13) -> 葵区静岡市２－１ | J13: ='2010'!E16 -> 58 | K13: ='2010'!F16 -> 54 | L13: ='2010'!G16 -> 1 | M13: ='2010'!H16 -> 6 | N13: ='2010'!I16 -> 2 | O13: ='2015'!E16 -> 51 | P13: ='2015'!F16 -> 48 | Q13: ='2015'!G16 -> - | R13: ='2015'!H16 -> 2 | S13: ='2015'!I16 -> 3 | T13: 40 | U13: 35 | V13: 2 | W13: 3 | X13: 2
A14: 22 | B14: 00 | C14: 101 | D14: 02 | E14: 静岡県 | G14: 葵区 | H14: 美和村 | I14: =CONCATENATE(G14,H14) -> 葵区美和村 | J14: ='2010'!E17 -> 14 | K14: ='2010'!F17 -> 13 | L14: ='2010'!G17 -> - | M14: ='2010'!H17 -> 1 | N14: ='2010'!I17 -> - | O14: ='2015'!E17 -> 14 | P14: ='2015'!F17 -> 13 | Q14: ='2015'!G17 -> - | R14: ='2015'!H17 -> - | S14: ='2015'!I17 -> 1 | T14: 9 | U14: 9 | V14: - | W14: - | X14: -
A15: 22 | B15: 00 | C15: 101 | D15: 03 | E15: 静岡県 | G15: 葵区 | H15: 服織村 | I15: =CONCATENATE(G15,H15) -> 葵区服織村 | J15: ='2010'!E18 -> 7 | K15: ='2010'!F18 -> 7 | L15: ='2010'!G18 -> 1 | M15: ='2010'!H18 -> - | N15: ='2010'!I18 -> - | O15: ='2015'!E18 -> 6 | P15: ='2015'!F18 -> 6 | Q15: ='2015'!G18 -> 1 | R15: ='2015'!H18 -> - | S15: ='2015'!I18 -> - | T15: 3 | U15: 3 | V15: 1 | W15: - | X15: -
A16: 22 | B16: 00 | C16: 101 | D16: 04 | E16: 静岡県 | G16: 葵区 | H16: 中藁科村 | I16: =CONCATENATE(G16,H16) -> 葵区中藁科村 | J16: ='2010'!E19 -> 7 | K16: ='2010'!F19 -> 6 | L16: ='2010'!G19 -> - | M16: ='2010'!H19 -> 1 | N16: ='2010'!I19 -> 1 | O16: ='2015'!E19 -> 6 | P16: ='2015'!F19 -> 4 | Q16: ='2015'!G19 -> - | R16: ='2015'!H19 -> 2 | S16: ='2015'!I19 -> - | T16: 8 | U16: 8 | V16: 1 | W16: - | X16: 1
A17: 22 | B17: 00 | C17: 101 | D17: 05 | E17: 静岡県 | G17: 葵区 | H17: 南藁科村 | I17: =CONCATENATE(G17,H17) -> 葵区南藁科村 | J17: ='2010'!E20 -> 3 | K17: ='2010'!F20 -> 3 | L17: ='2010'!G20 -> - | M17: ='2010'!H20 -> - | N17: ='2010'!I20 -> - | O17: ='2015'!E20 -> 7 | P17: ='2015'!F20 -> 7 | Q17: ='2015'!G20 -> - | R17: ='2015'!H20 -> - | S17: ='2015'!I20 -> - | T17: 3 | U17: 3 | V17: 1 | W17: - | X17: -
A18: 22 | B18: 00 | C18: 101 | D18: 06 | E18: 静岡県 | G18: 葵区 | H18: 大河内村 | I18: =CONCATENATE(G18,H18) -> 葵区大河内村 | J18: ='2010'!E21 -> 5 | K18: ='2010'!F21 -> 5 | L18: ='2010'!G21 -> - | M18: ='2010'!H21 -> - | N18: ='2010'!I21 -> - | O18: ='2015'!E21 -> 6 | P18: ='2015'!F21 -> 6 | Q18: ='2015'!G21 -> - | R18: ='2015'!H21 -> - | S18: ='2015'!I21 -> - | T18: 2 | U18: 2 | V18: - | W18: - | X18: -
A19: 22 | B19: 00 | C19: 101 | D19: 07 | E19: 静岡県 | G19: 葵区 | H19: 梅ヶ島村 | I19: =CONCATENATE(G19,H19) -> 葵区梅ヶ島村 | J19: ='2010'!E22 -> 4 | K19: ='2010'!F22 -> 4 | L19: ='2010'!G22 -> - | M19: ='2010'!H22 -> - | N19: ='2010'!I22 -> - | O19: ='2015'!E22 -> 3 | P19: ='2015'!F22 -> 3 | Q19: ='2015'!G22 -> - | R19: ='2015'!H22 -> - | S19: ='2015'!I22 -> - | T19: 3 | U19: 3 | V19: - | W19: - | X19: -
A20: 22 | B20: 00 | C20: 101 | D20: 08 | E20: 静岡県 | G20: 葵区 | H20: 玉川村 | I20: =CONCATENATE(G20,H20) -> 葵区玉川村 | J20: ='2010'!E23 -> - | K20: ='2010'!F23 -> - | L20: ='2010'!G23 -> - | M20: ='2010'!H23 -> - | N20: ='2010'!I23 -> - | O20: ='2015'!E23 -> 1 | P20: ='2015'!F23 -> 1 | Q20: ='2015'!G23 -> 1 | R20: ='2015'!H23 -> 1 | S20: ='2015'!I23 -> 1 | T20: - | U20: - | V20: - | W20: - | X20: -
A21: 22 | B21: 00 | C21: 101 | D21: 09 | E21: 静岡県 | G21: 葵区 | H21: 井川村 | I21: =CONCATENATE(G21,H21) -> 葵区井川村 | J21: ='2010'!E24 -> - | K21: ='2010'!F24 -> - | L21: ='2010'!G24 -> - | M21: ='2010'!H24 -> - | N21: ='2010'!I24 -> - | O21: ='2015'!E24 -> - | P21: ='2015'!F24 -> - | Q21: ='2015'!G24 -> - | R21: ='2015'!H24 -> - | S21: ='2015'!I24 -> - | T21: - | U21: - | V21: - | W21: - | X21: -
A22: 22 | B22: 00 | C22: 101 | D22: 10 | E22: 静岡県 | G22: 葵区 | H22: 清沢村 | I22: =CONCATENATE(G22,H22) -> 葵区清沢村 | J22: ='2010'!E25 -> 3 | K22: ='2010'!F25 -> 3 | L22: ='2010'!G25 -> - | M22: ='2010'!H25 -> - | N22: ='2010'!I25 -> - | O22: ='2015'!E25 -> 1 | P22: ='2015'!F25 -> 1 | Q22: ='2015'!G25 -> - | R22: ='2015'!H25 -> - | S22: ='2015'!I25 -> - | T22: 2 | U22: 2 | V22: - | W22: - | X22: -
A23: 22 | B23: 00 | C23: 101 | D23: 11 | E23: 静岡県 | G23: 葵区 | H23: 大川村 | I23: =CONCATENATE(G23,H23) -> 葵区大川村 | J23: ='2010'!E26 -> 3 | K23: ='2010'!F26 -> 3 | L23: ='2010'!G26 -> - | M23: ='2010'!H26 -> - | N23: ='2010'!I26 -> - | O23: ='2015'!E26 -> 2 | P23: ='2015'!F26 -> 2 | Q23: ='2015'!G26 -> 1 | R23: ='2015'!H26 -> - | S23: ='2015'!I26 -> - | T23: 1 | U23: 1 | V23: - | W23: - | X23: -
A24: 22 | B24: 00 | C24: 102 | D24: 00 | E24: 静岡県 | G24: 駿河区 | I24: =CONCATENATE(G24,H24) -> 駿河区 | J24: ='2010'!E27 -> 54 | K24: ='2010'!F27 -> 46 | L24: ='2010'!G27 -> 3 | M24: ='2010'!H27 -> 6 | N24: ='2010'!I27 -> 5 | O24: ='2015'!E27 -> 37 | P24: ='2015'!F27 -> 32 | Q24: ='2015'!G27 -> 2 | R24: ='2015'!H27 -> 1 | S24: ='2015'!I27 -> 4 | T24: 33 | U24: 30 | V24: 1 | W24: 1 | X24: 3
A25: 22 | B25: 00 | C25: 102 | D25: 01 | E25: 静岡県 | G25: 駿河区 | H25: 静岡市２－２ | I25: =CONCATENATE(G25,H25) -> 駿河区静岡市２－２ | J25: ='2010'!E28 -> 53 | K25: ='2010'!F28 -> 45 | L25: ='2010'!G28 -> 3 | M25: ='2010'!H28 -> 6 | N25: ='2010'!I28 -> 5 | O25: ='2015'!E28 -> 37 | P25: ='2015'!F28 -> 32 | Q25: ='2015'!G28 -> 2 | R25: ='2015'!H28 -> 1 | S25: ='2015'!I28 -> 4 | T25: 31 | U25: 28 | V25: - | W25: 1 | X25: 3
A26: 22 | B26: 00 | C26: 102 | D26: 02 | E26: 静岡県 | G26: 駿河区 | H26: 有度村２－２ | I26: =CONCATENATE(G26,H26) -> 駿河区有度村２－２ | J26: ='2010'!E29 -> 1 | K26: ='2010'!F29 -> 1 | L26: ='2010'!G29 -> - | M26: ='2010'!H29 -> - | N26: ='2010'!I29 -> - | O26: ='2015'!E29 -> - | P26: ='2015'!F29 -> - | Q26: ='2015'!G29 -> - | R26: ='2015'!H29 -> - | S26: ='2015'!I29 -> - | T26: 2 | U26: 2 | V26: 1 | W26: - | X26: -
A27: 22 | B27: 00 | C27: 103 | D27: 00 | E27: 静岡県 | G27: 清水区 | I27: =CONCATENATE(G27,H27) -> 清水区 | J27: ='2010'!E30 -> 151 | K27: ='2010'!F30 -> 145 | L27: ='2010'!G30 -> 4 | M27: ='2010'!H30 -> 7 | N27: ='2010'!I30 -> 2 | O27: ='2015'!E30 -> 108 | P27: ='2015'!F30 -> 106 | Q27: ='2015'!G30 -> 3 | R27: ='2015'!H30 -> 3 | S27: ='2015'!I30 -> 1 | T27: 106 | U27: 101 | V27: 1 | W27: 3 | X27: 3
A28: 22 | B28: 00 | C28: 103 | D28: 01 | E28: 静岡県 | G28: 清水区 | H28: 清水市 | I28: =CONCATENATE(G28,H28) -> 清水区清水市 | J28: ='2010'!E31 -> 4 | K28: ='2010'!F31 -> 4 | L28: ='2010'!G31 -> - | M28: ='2010'!H31 -> - | N28: ='2010'!I31 -> - | O28: ='2015'!E31 -> 2 | P28: ='2015'!F31 -> 2 | Q28: ='2015'!G31 -> - | R28: ='2015'!H31 -> - | S28: ='2015'!I31 -> - | T28: 1 | U28: 1 | V28: - | W28: - | X28: -
A29: 22 | B29: 00 | C29: 103 | D29: 02 | E29: 静岡県 | G29: 清水区 | H29: 飯田村 | I29: =CONCATENATE(G29,H29) -> 清水区飯田村 | J29: ='2010'!E32 -> 9 | K29: ='2010'!F32 -> 8 | L29: ='2010'!G32 -> - | M29: ='2010'!H32 -> 1 | N29: ='2010'!I32 -> - | O29: ='2015'!E32 -> 6 | P29: ='2015'!F32 -> 6 | Q29: ='2015'!G32 -> - | R29: ='2015'!H32 -> 1 | S29: ='2015'!I32 -> - | T29: 11 | U29: 10 | V29: - | W29: 1 | X29: -
A30: 22 | B30: 00 | C30: 103 | D30: 03 | E30: 静岡県 | G30: 清水区 | H30: 高部村 | I30: =CONCATENATE(G30,H30) -> 清水区高部村 | J30: ='2010'!E33 -> 9 | K30: ='2010'!F33 -> 7 | L30: ='2010'!G33 -> 1 | M30: ='2010'!H33 -> 1 | N30: ='2010'!I33 -> 2 | O30: ='2015'!E33 -> 5 | P30: ='2015'!F33 -> 4 | Q30: ='2015'!G33 -> - | R30: ='2015'!H33 -> 1 | S30: ='2015'!I33 -> - | T30: 6 | U30: 5 | V30: 1 | W30: 1 | X30: 1
A31: 22 | B31: 00 | C31: 103 | D31: 04 | E31: 静岡県 | G31: 清水区 | H31: 有度村２－１ | I31: =CONCATENATE(G31,H31) -> 清水区有度村２－１ | J31: ='2010'!E34 -> 8 | K31: ='2010'!F34 -> 8 | L31: ='2010'!G34 -> - | M31: ='2010'!H34 -> - | N31: ='2010'!I34 -> - | O31: ='2015'!E34 -> 6 | P31: ='2015'!F34 -> 5 | Q31: ='2015'!G34 -> 1 | R31: ='2015'!H34 -> - | S31: ='2015'!I34 -> 1 | T31: 10 | U31: 9 | V31: - | W31: 1 | X31: -
A32: 22 | B32: 00 | C32: 103 | D32: 05 | E32: 静岡県 | G32: 清水区 | H32: 興津町 | I32: =CONCATENATE(G32,H32) -> 清水区興津町 | J32: ='2010'!E35 -> 28 | K32: ='2010'!F35 -> 26 | L32: ='2010'!G35 -> 1 | M32: ='2010'!H35 -> 3 | N32: ='2010'!I35 -> - | O32: ='2015'!E35 -> 17 | P32: ='2015'!F35 -> 17 | Q32: ='2015'!G35 -> - | R32: ='2015'!H35 -> 1 | S32: ='2015'!I35 -> - | T32: 13 | U32: 13 | V32: - | W32: - | X32: -
A33: 22 | B33: 00 | C33: 103 | D33: 06 | E33: 静岡県 | G33: 清水区 | H33: 小島村 | I33: =CONCATENATE(G33,H33) -> 清水区小島村 | J33: ='2010'!E36 -> 25 | K33: ='2010'!F36 -> 25 | L33: ='2010'!G36 -> 1 | M33: ='2010'!H36 -> - | N33: ='2010'!I36 -> - | O33: ='2015'!E36 -> 20 | P33: ='2015'!F36 -> 20 | Q33: ='2015'!G36 -> - | R33: ='2015'!H36 -> - | S33: ='2015'!I36 -> - | T33: 15 | U33: 15 | V33: - | W33: - | X33: -
A34: 22 | B34: 00 | C34: 103 | D34: 07 | E34: 静岡県 | G34: 清水区 | H34: 両河内村 | I34: =CONCATENATE(G34,H34) -> 清水区両河内村 | J34: ='2010'!E37 -> 6 | K34: ='2010'!F37 -> 6 | L34: ='2010'!G37 -> - | M34: ='2010'!H37 -> - | N34: ='2010'!I37 -> - | O34: ='2015'!E37 -> 4 | P34: ='2015'!F37 -> 4 | Q34: ='2015'!G37 -> - | R34: ='2015'!H37 -> - | S34: ='2015'!I37 -> - | T34: 8 | U34: 8 | V34: - | W34: - | X34: -
A35: 22 | B35: 00 | C35: 103 | D35: 08 | E35: 静岡県 | G35: 清水区 | H35: 庵原村 | I35: =CONCATENATE(G35,H35) -> 清水区庵原村 | J35: ='2010'!E38 -> 49 | K35: ='2010'!F38 -> 48 | L35: ='2010'!G38 -> 1 | M35: ='2010'!H38 -> 1 | N35: ='2010'!I38 -> - | O35: ='2015'!E38 -> 38 | P35: ='2015'!F38 -> 38 | Q35: ='2015'!G38 -> 2 | R35: ='2015'!H38 -> - | S35: ='2015'!I38 -> - | T35: 36 | U35: 34 | V35: - | W35: - | X35: 2
A36: 22 | B36: 00 | C36: 103 | D36: 09 | E36: 静岡県 | G36: 清水区 | H36: 袖師町 | I36: =CONCATENATE(G36,H36) -> 清水区袖師町 | J36: ='2010'!E39 -> 5 | K36: ='2010'!F39 -> 5 | L36: ='2010'!G39 -> - | M36: ='2010'!H39 -> 1 | N36: ='2010'!I39 -> - | O36: ='2015'!E39 -> 5 | P36: ='2015'!F39 -> 5 | Q36: ='2015'!G39 -> - | R36: ='2015'!H39 -> - | S36: ='2015'!I39 -> - | T36: 4 | U36: 4 | V36: - | W36: - | X36: -
A37: 22 | B37: 00 | C37: 103 | D37: 10 | E37: 静岡県 | G37: 清水区 | H37: 蒲原町 | I37: =CONCATENATE(G37,H37) -> 清水区蒲原町 | J37: ='2010'!E40 -> 3 | K37: ='2010'!F40 -> 3 | L37: ='2010'!G40 -> - | M37: ='2010'!H40 -> - | N37: ='2010'!I40 -> - | O37: ='2015'!E40 -> 2 | P37: ='2015'!F40 -> 2 | Q37: ='2015'!G40 -> - | R37: ='2015'!H40 -> - | S37: ='2015'!I40 -> - | T37: 1 | U37: 1 | V37: - | W37: - | X37: -
A38: 22 | B38: 00 | C38: 103 | D38: 11 | E38: 静岡県 | G38: 清水区 | H38: 由比町 | I38: =CONCATENATE(G38,H38) -> 清水区由比町 | J38: ='2010'!E41 -> 5 | K38: ='2010'!F41 -> 5 | L38: ='2010'!G41 -> - | M38: ='2010'!H41 -> - | N38: ='2010'!I41 -> - | O38: ='2015'!E41 -> 3 | P38: ='2015'!F41 -> 3 | Q38: ='2015'!G41 -> - | R38: ='2015'!H41 -> - | S38: ='2015'!I41 -> - | T38: 1 | U38: 1 | V38: - | W38: - | X38: -
A39: 22 | B39: 00 | C39: 130 | D39: 00 | E39: 静岡県 | G39: 浜松市 | I39: =CONCATENATE(G39,H39) -> 浜松市 | J39: ='2010'!E42 -> 1029 | K39: ='2010'!F42 -> 902 | L39: ='2010'!G42 -> 45 | M39: ='2010'!H42 -> 115 | N39: ='2010'!I42 -> 35 | O39: ='2015'!E42 -> 869 | P39: ='2015'!F42 -> 776 | Q39: ='2015'!G42 -> 41 | R39: ='2015'!H42 -> 85 | S39: ='2015'!I42 -> 23 | T39: 641 | U39: 560 | V39: 31 | W39: 69 | X39: 21
A40: 22 | B40: 00 | C40: 131 | D40: 00 | E40: 静岡県 | G40: 中区 | I40: =CONCATENATE(G40,H40) -> 中区 | J40: ='2010'!E43 -> 13 | K40: ='2010'!F43 -> 10 | L40: ='2010'!G43 -> 1 | M40: ='2010'!H43 -> 3 | N40: ='2010'!I43 -> 2 | O40: ='2015'!E43 -> 8 | P40: ='2015'!F43 -> 7 | Q40: ='2015'!G43 -> - | R40: ='2015'!H43 -> 1 | S40: ='2015'!I43 -> - | T40: 5 | U40: 5 | V40: - | W40: - | X40: -
A41: 22 | B41: 00 | C41: 131 | D41: 01 | E41: 静岡県 | G41: 中区 | H41: 浜松市４－１ | I41: =CONCATENATE(G41,H41) -> 中区浜松市４－１ | J41: ='2010'!E44 -> 10 | K41: ='2010'!F44 -> 7 | L41: ='2010'!G44 -> 1 | M41: ='2010'!H44 -> 3 | N41: ='2010'!I44 -> 2 | O41: ='2015'!E44 -> 6 | P41: ='2015'!F44 -> 5 | Q41: ='2015'!G44 -> - | R41: ='2015'!H44 -> 1 | S41: ='2015'!I44 -> - | T41: 3 | U41: 3 | V41: - | W41: - | X41: -
A42: 22 | B42: 00 | C42: 131 | D42: 02 | E42: 静岡県 | G42: 中区 | H42: 入野村２－１ | I42: =CONCATENATE(G42,H42) -> 中区入野村２－１ | J42: ='2010'!E45 -> 2 | K42: ='2010'!F45 -> 2 | L42: ='2010'!G45 -> - | M42: ='2010'!H45 -> - | N42: ='2010'!I45 -> - | O42: ='2015'!E45 -> 2 | P42: ='2015'!F45 -> 2 | Q42: ='2015'!G45 -> - | R42: ='2015'!H45 -> - | S42: ='2015'!I45 -> - | T42: 2 | U42: 2 | V42: - | W42: - | X42: -
...

Sheet グラフ
B1: 販売目的の花き栽培経営体数の推移
C2: 2010年 | D2: 2015年 | E2: 2020年 | F2: 2025年
B3: 実農家数 | C3: =_xlfn.XLOOKUP($B$10,累年!$I$10:$I$376,累年!J$10:J$376) -> 2580 | D3: =_xlfn.XLOOKUP($B$10,累年!$I$10:$I$376,累年!O$10:O$376) -> 2167 | E3: =_xlfn.XLOOKUP($B$10,累年!$I$10:$I$376,累年!T$10:T$376) -> 1671 | F3: =_xlfn.XLOOKUP($B$10,累年!$I$10:$I$376,累年!Y$10:Y$376) -> 0
B4: 花り花類 | C4: =_xlfn.XLOOKUP($B$10,累年!$I$10:$I$376,累年!K$10:K$376) -> 2194 | D4: =_xlfn.XLOOKUP($B$10,累年!$I$10:$I$376,累年!P$10:P$376) -> 1883 | E4: =_xlfn.XLOOKUP($B$10,累年!$I$10:$I$376,累年!U$10:U$376) -> 1412 | F4: =_xlfn.XLOOKUP($B$10,累年!$I$10:$I$376,累年!Z$10:Z$376) -> 0
B5: 球根類 | C5: =_xlfn.XLOOKUP($B$10,累年!$I$10:$I$376,累年!L$10:L$376) -> 93 | D5: =_xlfn.XLOOKUP($B$10,累年!$I$10:$I$376,累年!Q$10:Q$376) -> 76 | E5: =_xlfn.XLOOKUP($B$10,累年!$I$10:$I$376,累年!V$10:V$376) -> 66 | F5: =_xlfn.XLOOKUP($B$10,累年!$I$10:$I$376,累年!AA$10:AA$376) -> 0
B6: 鉢物類 | C6: =_xlfn.XLOOKUP($B$10,累年!$I$10:$I$376,累年!M$10:M$376) -> 338 | D6: =_xlfn.XLOOKUP($B$10,累年!$I$10:$I$376,累年!R$10:R$376) -> 254 | E6: =_xlfn.XLOOKUP($B$10,累年!$I$10:$I$376,累年!W$10:W$376) -> 189 | F6: =_xlfn.XLOOKUP($B$10,累年!$I$10:$I$376,累年!AB$10:AB$376) -> 0
B7: 花壇用苗もの類 | C7: =_xlfn.XLOOKUP($B$10,累年!$I$10:$I$376,累年!N$10:N$376) -> 161 | D7: =_xlfn.XLOOKUP($B$10,累年!$I$10:$I$376,累年!S$10:S$376) -> 118 | E7: =_xlfn.XLOOKUP($B$10,累年!$I$10:$I$376,累年!X$10:X$376) -> 107 | F7: =_xlfn.XLOOKUP($B$10,累年!$I$10:$I$376,累年!AB$10:AB$376) -> 0
B9: 選択市町（旧市町村）
B10: 静岡県
B29: 出典：農林業センサス（2010年から2020年）
