Workbook

Sheet 2010
A1: Ⅱ 農業経営体
A2: ８ 販売目的の工芸農作物の作物別作付（栽培）経営体数
H7: 単位：経営体
A8: 新旧市区町村 | G8: こんにゃくいも | H8: その他
E10: たばこ | F10: 茶
A13: 県計 | D13: 000-00 | E13: 17 | F13: 14025 | G13: 62 | H13: 240
B14: 静岡市 | D14: 100-00 | E14: - | F14: 2222 | G14: 10 | H14: 29
B15: 葵区 | D15: 101-00 | E15: - | F15: 1381 | G15: 5 | H15: 12
C16: 静岡市２－１ | D16: 101-01 | E16: - | F16: 274 | G16: 1 | H16: 2
C17: 美和村 | D17: 101-02 | E17: - | F17: 261 | G17: - | H17: 2
C18: 服織村 | D18: 101-03 | E18: - | F18: 99 | G18: - | H18: 1
C19: 中藁科村 | D19: 101-04 | E19: - | F19: 163 | G19: - | H19: 1
C20: 南藁科村 | D20: 101-05 | E20: - | F20: 83 | G20: 1 | H20: 1
C21: 大河内村 | D21: 101-06 | E21: - | F21: 116 | G21: - | H21: 3
C22: 梅ヶ島村 | D22: 101-07 | E22: - | F22: 54 | G22: - | H22: 1
C23: 玉川村 | D23: 101-08 | E23: - | F23: 96 | G23: - | H23: -
C24: 井川村 | D24: 101-09 | E24: - | F24: 20 | G24: - | H24: -
C25: 清沢村 | D25: 101-10 | E25: - | F25: 121 | G25: 3 | H25: -
C26: 大川村 | D26: 101-11 | E26: - | F26: 94 | G26: - | H26: 1
B27: 駿河区 | D27: 102-00 | E27: - | F27: 226 | G27: 1 | H27: 2
C28: 静岡市２－２ | D28: 102-01 | E28: - | F28: 216 | G28: 1 | H28: 2
C29: 有度村２－２ | D29: 102-02 | E29: - | F29: 10 | G29: - | H29: -
B30: 清水区 | D30: 103-00 | E30: - | F30: 615 | G30: 4 | H30: 15
C31: 清水市 | D31: 103-01 | E31: - | F31: 22 | G31: 1 | H31: -
C32: 飯田村 | D32: 103-02 | E32: - | F32: 5 | G32: - | H32: 1
C33: 高部村 | D33: 103-03 | E33: - | F33: 18 | G33: 1 | H33: 2
C34: 有度村２－１ | D34: 103-04 | E34: - | F34: 44 | G34: 1 | H34: 1
C35: 興津町 | D35: 103-05 | E35: - | F35: 15 | G35: - | H35: -
C36: 小島村 | D36: 103-06 | E36: - | F36: 135 | G36: - | H36: 2
C37: 両河内村 | D37: 103-07 | E37: - | F37: 186 | G37: - | H37: 5
C38: 庵原村 | D38: 103-08 | E38: - | F38: 176 | G38: 1 | H38: 3
C39: 袖師町 | D39: 103-09 | E39: - | F39: 9 | G39: - | H39: -
C40: 蒲原町 | D40: 103-10 | E40: - | F40: - | G40: - | H40: -
C41: 由比町 | D41: 103-11 | E41: - | F41: 5 | G41: - | H41: 1
B42: 浜松市 | D42: 130-00 | E42: 1 | F42: 812 | G42: 5 | H42: 24
B43: 中区 | D43: 131-00 | E43: - | F43: 29 | G43: - | H43: -
C44: 浜松市４－１ | D44: 131-01 | E44: - | F44: 14 | G44: - | H44: -
C45: 入野村２－１ | D45: 131-02 | E45: - | F45: 4 | G45: - | H45: -
C46: 吉野村２－１ | D46: 131-03 | E46: - | F46: 11 | G46: - | H46: -
C47: 新津村２－１ | D47: 131-04 | E47: - | F47: - | G47: - | H47: -
...

Sheet 2015
A1: Ⅱ 農業経営体
A2: 10 販売目的の工芸農作物の作物別作付（栽培）経営体数と作付（栽培）面積
A6: 新旧市区町村 | E6: さとうきび | G6: た ば こ | I6: 茶 | K6: てんさい（ビート） | M6: こんにゃくいも | O6: その他の工芸農作物
E8: 作 付 経営体数 | F8: 作付面積 | G8: 作 付 経営体数 | H8: 作付面積 | I8: 作 付 経営体数 | J8: 作付面積 | K8: 作 付 経営体数 | L8: 作付面積 | M8: 作 付 経営体数 | N8: 作付面積 | O8: 作 付 経営体数 | P8: 作付面積
E12: 経営体 | F12: ha | G12: 経営体 | H12: ha | I12: 経営体 | J12: ha | K12: 経営体 | L12: ha | M12: 経営体 | N12: ha | O12: 経営体 | P12: ha
A13: 静岡県 | E13: 17 | F13: 3 | G13: 15 | H13: 23 | I13: 9617 | J13: 12513 | K13: - | L13: - | M13: 55 | N13: 5 | O13: 151 | P13: 109
B14: 静岡市 | D14: 100-00 | E14: 1 | F14: X | G14: 1 | H14: X | I14: 1493 | J14: 1135 | K14: - | L14: - | M14: 10 | N14: 0 | O14: 29 | P14: 7
B15: 葵区 | D15: 101-00 | E15: - | F15: - | G15: - | H15: - | I15: 970 | J15: 734 | K15: - | L15: - | M15: 7 | N15: 0 | O15: 22 | P15: 4
C16: 静岡市２－１ | D16: 101-01 | E16: - | F16: - | G16: - | H16: - | I16: 170 | J16: 111 | K16: - | L16: - | M16: 1 | N16: X | O16: 4 | P16: 0
C17: 美和村 | D17: 101-02 | E17: - | F17: - | G17: - | H17: - | I17: 182 | J17: 177 | K17: - | L17: - | M17: - | N17: - | O17: 4 | P17: 0
C18: 服織村 | D18: 101-03 | E18: - | F18: - | G18: - | H18: - | I18: 80 | J18: 69 | K18: - | L18: - | M18: 1 | N18: X | O18: 2 | P18: X
C19: 中藁科村 | D19: 101-04 | E19: - | F19: - | G19: - | H19: - | I19: 119 | J19: 98 | K19: - | L19: - | M19: - | N19: - | O19: - | P19: -
C20: 南藁科村 | D20: 101-05 | E20: - | F20: - | G20: - | H20: - | I20: 51 | J20: 38 | K20: - | L20: - | M20: 1 | N20: X | O20: 1 | P20: X
C21: 大河内村 | D21: 101-06 | E21: - | F21: - | G21: - | H21: - | I21: 78 | J21: 35 | K21: - | L21: - | M21: - | N21: - | O21: 2 | P21: X
C22: 梅ヶ島村 | D22: 101-07 | E22: - | F22: - | G22: - | H22: - | I22: 44 | J22: 28 | K22: - | L22: - | M22: 2 | N22: X | O22: 3 | P22: 1
C23: 玉川村 | D23: 101-08 | E23: - | F23: - | G23: - | H23: - | I23: 75 | J23: 47 | K23: - | L23: - | M23: - | N23: - | O23: 1 | P23: X
C24: 井川村 | D24: 101-09 | E24: - | F24: - | G24: - | H24: - | I24: 13 | J24: 5 | K24: - | L24: - | M24: 1 | N24: X | O24: 1 | P24: X
C25: 清沢村 | D25: 101-10 | E25: - | F25: - | G25: - | H25: - | I25: 89 | J25: 62 | K25: - | L25: - | M25: 1 | N25: X | O25: - | P25: -
C26: 大川村 | D26: 101-11 | E26: - | F26: - | G26: - | H26: - | I26: 69 | J26: 65 | K26: - | L26: - | M26: - | N26: - | O26: 4 | P26: 1
B27: 駿河区 | D27: 102-00 | E27: 1 | F27: X | G27: - | H27: - | I27: 135 | J27: 63 | K27: - | L27: - | M27: 2 | N27: X | O27: 1 | P27: X
C28: 静岡市２－２ | D28: 102-01 | E28: - | F28: - | G28: - | H28: - | I28: 128 | J28: 58 | K28: - | L28: - | M28: 2 | N28: X | O28: 1 | P28: X
C29: 有度村２－２ | D29: 102-02 | E29: 1 | F29: X | G29: - | H29: - | I29: 7 | J29: 4 | K29: - | L29: - | M29: - | N29: - | O29: - | P29: -
B30: 清水区 | D30: 103-00 | E30: - | F30: - | G30: 1 | H30: X | I30: 388 | J30: 338 | K30: - | L30: - | M30: 1 | N30: X | O30: 6 | P30: X
C31: 清水市 | D31: 103-01 | E31: - | F31: - | G31: - | H31: - | I31: 13 | J31: 2 | K31: - | L31: - | M31: - | N31: - | O31: 1 | P31: X
C32: 飯田村 | D32: 103-02 | E32: - | F32: - | G32: - | H32: - | I32: 3 | J32: X | K32: - | L32: - | M32: - | N32: - | O32: - | P32: -
C33: 高部村 | D33: 103-03 | E33: - | F33: - | G33: - | H33: - | I33: 9 | J33: 7 | K33: - | L33: - | M33: - | N33: - | O33: 1 | P33: X
C34: 有度村２－１ | D34: 103-04 | E34: - | F34: - | G34: - | H34: - | I34: 33 | J34: 18 | K34: - | L34: - | M34: - | N34: - | O34: - | P34: -
C35: 興津町 | D35: 103-05 | E35: - | F35: - | G35: - | H35: - | I35: 5 | J35: 2 | K35: - | L35: - | M35: - | N35: - | O35: - | P35: -
C36: 小島村 | D36: 103-06 | E36: - | F36: - | G36: 1 | H36: X | I36: 77 | J36: 50 | K36: - | L36: - | M36: 1 | N36: X | O36: 1 | P36: X
C37: 両河内村 | D37: 103-07 | E37: - | F37: - | G37: - | H37: - | I37: 148 | J37: 168 | K37: - | L37: - | M37: - | N37: - | O37: 1 | P37: X
C38: 庵原村 | D38: 103-08 | E38: - | F38: - | G38: - | H38: - | I38: 94 | J38: 89 | K38: - | L38: - | M38: - | N38: - | O38: 2 | P38: X
C39: 袖師町 | D39: 103-09 | E39: - | F39: - | G39: - | H39: - | I39: 2 | J39: X | K39: - | L39: - | M39: - | N39: - | O39: - | P39: -
C40: 蒲原町 | D40: 103-10 | E40: - | F40: - | G40: - | H40: - | I40: - | J40: - | K40: - | L40: - | M40: - | N40: - | O40: - | P40: -
C41: 由比町 | D41: 103-11 | E41: - | F41: - | G41: - | H41: - | I41: 4 | J41: 1 | K41: - | L41: - | M41: - | N41: - | O41: - | P41: -
B42: 浜松市 | D42: 130-00 | E42: 4 | F42: 0 | G42: 1 | H42: X | I42: 514 | J42: 368 | K42: - | L42: - | M42: 1 | N42: X | O42: 18 | P42: 4
B43: 中区 | D43: 131-00 | E43: - | F43: - | G43: - | H43: - | I43: 6 | J43: X | K43: - | L43: - | M43: - | N43: - | O43: - | P43: -
C44: 浜松市４－１ | D44: 131-01 | E44: - | F44: - | G44: - | H44: - | I44: 5 | J44: 3 | K44: - | L44: - | M44: - | N44: - | O44: - | P44: -
C45: 入野村２－１ | D45: 131-02 | E45: - | F45: - | G45: - | H45: - | I45: - | J45: - | K45: - | L45: - | M45: - | N45: - | O45: - | P45: -
C46: 吉野村２－１ | D46: 131-03 | E46: - | F46: - | G46: - | H46: - | I46: 1 | J46: X | K46: - | L46: - | M46: - | N46: - | O46: - | P46: -
C47: 新津村２－１ | D47: 131-04 | E47: - | F47: - | G47: - | H47: - | I47: - | J47: - | K47: - | L47: - | M47: - | N47: - | O47: - | P47: -
...

Sheet 2020
A1: Ⅱ 農業経営体（総数）
A2: 13 販売目的の工芸農作物の作物別作付（栽培）経営体数と作付（栽培）面積
A4: 新旧市区町村 | I4: さ と う き び | K4: な た ね | M4: 茶 | O4: てんさい（ビート） | Q4: こんにゃくいも | S4: その他の工芸農作物
A6: コード | E6: 名称 | I6: 栽 培 経営体数 | J6: 栽培面積 | K6: 作 付 経営体数 | L6: 作付面積 | M6: 栽 培 経営体数 | N6: 栽培面積 | O6: 作 付 経営体数 | P6: 作付面積 | Q6: 栽 培 経営体数 | R6: 栽培面積 | S6: 作付（栽培） 経営体数 | T6: 作付（栽培） 面積
A7: 都道府県 | B7: 振興局 | C7: 市区町村 | D7: 旧市区町村 | E7: 都道府県 | F7: 振興局 | G7: 市区町村 | H7: 旧市区町村
I9: 経営体 | J9: ha | K9: 経営体 | L9: ha | M9: 経営体 | N9: ha | O9: 経営体 | P9: ha | Q9: 経営体 | R9: ha | S9: 経営体 | T9: ha
A10: 22 | B10: 00 | C10: 000 | D10: 00 | E10: 静岡県 | I10: 2 | J10: 0 | K10: 13 | L10: 6 | M10: 5827 | N10: 8907 | O10: - | P10: - | Q10: 37 | R10: 1 | S10: 578 | T10: 155
A11: 22 | B11: 00 | C11: 100 | D11: 00 | E11: 静岡県 | G11: 静岡市 | I11: x | J11: x | K11: 1 | L11: x | M11: 851 | N11: 714 | O11: - | P11: - | Q11: 2 | R11: x | S11: 100 | T11: 17
A12: 22 | B12: 00 | C12: 101 | D12: 00 | E12: 静岡県 | G12: 葵区 | I12: x | J12: x | K12: 1 | L12: x | M12: 606 | N12: 493 | O12: - | P12: - | Q12: 2 | R12: x | S12: 53 | T12: 4
A13: 22 | B13: 00 | C13: 101 | D13: 01 | E13: 静岡県 | G13: 葵区 | H13: 静岡市２－１ | I13: x | J13: x | K13: 1 | L13: x | M13: 110 | N13: 72 | O13: - | P13: - | Q13: - | R13: - | S13: 14 | T13: 1
A14: 22 | B14: 00 | C14: 101 | D14: 02 | E14: 静岡県 | G14: 葵区 | H14: 美和村 | I14: x | J14: x | K14: - | L14: - | M14: 129 | N14: 144 | O14: - | P14: - | Q14: - | R14: - | S14: 7 | T14: 1
A15: 22 | B15: 00 | C15: 101 | D15: 03 | E15: 静岡県 | G15: 葵区 | H15: 服織村 | I15: x | J15: x | K15: - | L15: - | M15: 47 | N15: 43 | O15: - | P15: - | Q15: - | R15: - | S15: 1 | T15: x
A16: 22 | B16: 00 | C16: 101 | D16: 04 | E16: 静岡県 | G16: 葵区 | H16: 中藁科村 | I16: x | J16: x | K16: - | L16: - | M16: 72 | N16: 64 | O16: - | P16: - | Q16: 1 | R16: x | S16: 3 | T16: 0
A17: 22 | B17: 00 | C17: 101 | D17: 05 | E17: 静岡県 | G17: 葵区 | H17: 南藁科村 | I17: x | J17: x | K17: - | L17: - | M17: 21 | N17: 15 | O17: - | P17: - | Q17: - | R17: - | S17: 2 | T17: x
A18: 22 | B18: 00 | C18: 101 | D18: 06 | E18: 静岡県 | G18: 葵区 | H18: 大河内村 | I18: x | J18: x | K18: - | L18: - | M18: 48 | N18: 24 | O18: - | P18: - | Q18: - | R18: - | S18: 14 | T18: 1
A19: 22 | B19: 00 | C19: 101 | D19: 07 | E19: 静岡県 | G19: 葵区 | H19: 梅ヶ島村 | I19: x | J19: x | K19: - | L19: - | M19: 36 | N19: 20 | O19: - | P19: - | Q19: - | R19: - | S19: 2 | T19: x
A20: 22 | B20: 00 | C20: 101 | D20: 08 | E20: 静岡県 | G20: 葵区 | H20: 玉川村 | I20: x | J20: x | K20: - | L20: - | M20: 51 | N20: 34 | O20: - | P20: - | Q20: - | R20: - | S20: 4 | T20: 0
A21: 22 | B21: 00 | C21: 101 | D21: 09 | E21: 静岡県 | G21: 葵区 | H21: 井川村 | I21: x | J21: x | K21: - | L21: - | M21: 5 | N21: 2 | O21: - | P21: - | Q21: 1 | R21: x | S21: 1 | T21: x
A22: 22 | B22: 00 | C22: 101 | D22: 10 | E22: 静岡県 | G22: 葵区 | H22: 清沢村 | I22: x | J22: x | K22: - | L22: - | M22: 48 | N22: 35 | O22: - | P22: - | Q22: - | R22: - | S22: 1 | T22: x
A23: 22 | B23: 00 | C23: 101 | D23: 11 | E23: 静岡県 | G23: 葵区 | H23: 大川村 | I23: x | J23: x | K23: - | L23: - | M23: 39 | N23: 41 | O23: - | P23: - | Q23: - | R23: - | S23: 4 | T23: 0
A24: 22 | B24: 00 | C24: 102 | D24: 00 | E24: 静岡県 | G24: 駿河区 | I24: x | J24: x | K24: - | L24: - | M24: 65 | N24: 27 | O24: - | P24: - | Q24: - | R24: - | S24: 18 | T24: 5
A25: 22 | B25: 00 | C25: 102 | D25: 01 | E25: 静岡県 | G25: 駿河区 | H25: 静岡市２－２ | I25: x | J25: x | K25: - | L25: - | M25: 60 | N25: 25 | O25: - | P25: - | Q25: - | R25: - | S25: 18 | T25: 5
A26: 22 | B26: 00 | C26: 102 | D26: 02 | E26: 静岡県 | G26: 駿河区 | H26: 有度村２－２ | I26: x | J26: x | K26: - | L26: - | M26: 5 | N26: 2 | O26: - | P26: - | Q26: - | R26: - | S26: - | T26: -
A27: 22 | B27: 00 | C27: 103 | D27: 00 | E27: 静岡県 | G27: 清水区 | I27: x | J27: x | K27: - | L27: - | M27: 180 | N27: 194 | O27: - | P27: - | Q27: - | R27: - | S27: 29 | T27: 7
A28: 22 | B28: 00 | C28: 103 | D28: 01 | E28: 静岡県 | G28: 清水区 | H28: 清水市 | I28: x | J28: x | K28: - | L28: - | M28: 6 | N28: 2 | O28: - | P28: - | Q28: - | R28: - | S28: - | T28: -
A29: 22 | B29: 00 | C29: 103 | D29: 02 | E29: 静岡県 | G29: 清水区 | H29: 飯田村 | I29: x | J29: x | K29: - | L29: - | M29: - | N29: - | O29: - | P29: - | Q29: - | R29: - | S29: - | T29: -
A30: 22 | B30: 00 | C30: 103 | D30: 03 | E30: 静岡県 | G30: 清水区 | H30: 高部村 | I30: x | J30: x | K30: - | L30: - | M30: 4 | N30: 4 | O30: - | P30: - | Q30: - | R30: - | S30: 2 | T30: x
A31: 22 | B31: 00 | C31: 103 | D31: 04 | E31: 静岡県 | G31: 清水区 | H31: 有度村２－１ | I31: x | J31: x | K31: - | L31: - | M31: 14 | N31: 11 | O31: - | P31: - | Q31: - | R31: - | S31: 2 | T31: x
A32: 22 | B32: 00 | C32: 103 | D32: 05 | E32: 静岡県 | G32: 清水区 | H32: 興津町 | I32: x | J32: x | K32: - | L32: - | M32: 3 | N32: 0 | O32: - | P32: - | Q32: - | R32: - | S32: 1 | T32: x
A33: 22 | B33: 00 | C33: 103 | D33: 06 | E33: 静岡県 | G33: 清水区 | H33: 小島村 | I33: x | J33: x | K33: - | L33: - | M33: 35 | N33: 27 | O33: - | P33: - | Q33: - | R33: - | S33: 3 | T33: 1
A34: 22 | B34: 00 | C34: 103 | D34: 07 | E34: 静岡県 | G34: 清水区 | H34: 両河内村 | I34: x | J34: x | K34: - | L34: - | M34: 63 | N34: 104 | O34: - | P34: - | Q34: - | R34: - | S34: 16 | T34: 4
A35: 22 | B35: 00 | C35: 103 | D35: 08 | E35: 静岡県 | G35: 清水区 | H35: 庵原村 | I35: x | J35: x | K35: - | L35: - | M35: 52 | N35: 46 | O35: - | P35: - | Q35: - | R35: - | S35: 5 | T35: 1
A36: 22 | B36: 00 | C36: 103 | D36: 09 | E36: 静岡県 | G36: 清水区 | H36: 袖師町 | I36: x | J36: x | K36: - | L36: - | M36: 1 | N36: x | O36: - | P36: - | Q36: - | R36: - | S36: - | T36: -
A37: 22 | B37: 00 | C37: 103 | D37: 10 | E37: 静岡県 | G37: 清水区 | H37: 蒲原町 | I37: x | J37: x | K37: - | L37: - | M37: - | N37: - | O37: - | P37: - | Q37: - | R37: - | S37: - | T37: -
A38: 22 | B38: 00 | C38: 103 | D38: 11 | E38: 静岡県 | G38: 清水区 | H38: 由比町 | I38: x | J38: x | K38: - | L38: - | M38: 2 | N38: x | O38: - | P38: - | Q38: - | R38: - | S38: - | T38: -
A39: 22 | B39: 00 | C39: 130 | D39: 00 | E39: 静岡県 | G39: 浜松市 | I39: x | J39: x | K39: 1 | L39: x | M39: 346 | N39: 258 | O39: - | P39: - | Q39: 1 | R39: x | S39: 81 | T39: 21
A40: 22 | B40: 00 | C40: 131 | D40: 00 | E40: 静岡県 | G40: 中区 | I40: x | J40: x | K40: - | L40: - | M40: 5 | N40: x | O40: - | P40: - | Q40: - | R40: - | S40: 3 | T40: 1
A41: 22 | B41: 00 | C41: 131 | D41: 01 | E41: 静岡県 | G41: 中区 | H41: 浜松市４－１ | I41: x | J41: x | K41: - | L41: - | M41: 5 | N41: x | O41: - | P41: - | Q41: - | R41: - | S41: 3 | T41: 1
A42: 22 | B42: 00 | C42: 131 | D42: 02 | E42: 静岡県 | G42: 中区 | H42: 入野村２－１ | I42: x | J42: x | K42: - | L42: - | M42: - | N42: - | O42: - | P42: - | Q42: - | R42: - | S42: - | T42: -
A43: 22 | B43: 00 | C43: 131 | D43: 03 | E43: 静岡県 | G43: 中区 | H43: 吉野村２－１ | I43: x | J43: x | K43: - | L43: - | M43: - | N43: - | O43: - | P43: - | Q43: - | R43: - | S43: - | T43: -
...

Sheet 2020と2010年
A1: 県名 | B1: 市区町村名 | C1: 旧市町村名 （S.25) | D1: 2020年 | F1: 2010年 | H1: 差 | I1: 増減率
A2: ='2020'!E10 -> 静岡県 | B2: ='2020'!G10 -> 0 | D2: 5827 | F2: 14025 | H2: =IF(D2="x",,IF(F2="x",,F2-D2)) -> 8198 | I2: =H2/F2*100 -> 58.452763
A3: ='2020'!E11 -> 静岡県 | B3: ='2020'!G11 -> 静岡市 | D3: 851 | F3: 2222 | H3: =IF(D3="x",,IF(F3="x",,F3-D3)) -> 1371 | I3: =H3/F3*100 -> 61.70117
A4: ='2020'!E12 -> 静岡県 | B4: ='2020'!G12 -> 葵区 | C4: ='2020'!H12 -> 0 | D4: 606 | F4: 1381 | H4: =IF(D4="x",,IF(F4="x",,F4-D4)) -> 775 | I4: =H4/F4*100 -> 56.118755
A5: ='2020'!E13 -> 静岡県 | B5: ='2020'!G13 -> 葵区 | C5: ='2020'!H13 -> 静岡市２－１ | D5: 110 | F5: 274 | H5: =IF(D5="x",,IF(F5="x",,F5-D5)) -> 164 | I5: =H5/F5*100 -> 59.854015
A6: ='2020'!E14 -> 静岡県 | B6: ='2020'!G14 -> 葵区 | C6: ='2020'!H14 -> 美和村 | D6: 129 | F6: 261 | H6: =IF(D6="x",,IF(F6="x",,F6-D6)) -> 132 | I6: =H6/F6*100 -> 50.574713
A7: ='2020'!E15 -> 静岡県 | B7: ='2020'!G15 -> 葵区 | C7: ='2020'!H15 -> 服織村 | D7: 47 | F7: 99 | H7: =IF(D7="x",,IF(F7="x",,F7-D7)) -> 52 | I7: =H7/F7*100 -> 52.525253
A8: ='2020'!E16 -> 静岡県 | B8: ='2020'!G16 -> 葵区 | C8: ='2020'!H16 -> 中藁科村 | D8: 72 | F8: 163 | H8: =IF(D8="x",,IF(F8="x",,F8-D8)) -> 91 | I8: =H8/F8*100 -> 55.828221
A9: ='2020'!E17 -> 静岡県 | B9: ='2020'!G17 -> 葵区 | C9: ='2020'!H17 -> 南藁科村 | D9: 21 | F9: 83 | H9: =IF(D9="x",,IF(F9="x",,F9-D9)) -> 62 | I9: =H9/F9*100 -> 74.698795
A10: ='2020'!E18 -> 静岡県 | B10: ='2020'!G18 -> 葵区 | C10: ='2020'!H18 -> 大河内村 | D10: 48 | F10: 116 | H10: =IF(D10="x",,IF(F10="x",,F10-D10)) -> 68 | I10: =H10/F10*100 -> 58.62069
A11: ='2020'!E19 -> 静岡県 | B11: ='2020'!G19 -> 葵区 | C11: ='2020'!H19 -> 梅ヶ島村 | D11: 36 | F11: 54 | H11: =IF(D11="x",,IF(F11="x",,F11-D11)) -> 18 | I11: =H11/F11*100 -> 33.333333
A12: ='2020'!E20 -> 静岡県 | B12: ='2020'!G20 -> 葵区 | C12: ='2020'!H20 -> 玉川村 | D12: 51 | F12: 96 | H12: =IF(D12="x",,IF(F12="x",,F12-D12)) -> 45 | I12: =H12/F12*100 -> 46.875
A13: ='2020'!E21 -> 静岡県 | B13: ='2020'!G21 -> 葵区 | C13: ='2020'!H21 -> 井川村 | D13: 5 | F13: 20 | H13: =IF(D13="x",,IF(F13="x",,F13-D13)) -> 15 | I13: =H13/F13*100 -> 75
A14: ='2020'!E22 -> 静岡県 | B14: ='2020'!G22 -> 葵区 | C14: ='2020'!H22 -> 清沢村 | D14: 48 | F14: 121 | H14: =IF(D14="x",,IF(F14="x",,F14-D14)) -> 73 | I14: =H14/F14*100 -> 60.330579
A15: ='2020'!E23 -> 静岡県 | B15: ='2020'!G23 -> 葵区 | C15: ='2020'!H23 -> 大川村 | D15: 39 | F15: 94 | H15: =IF(D15="x",,IF(F15="x",,F15-D15)) -> 55 | I15: =H15/F15*100 -> 58.510638 | K15: 9
A16: ='2020'!E24 -> 静岡県 | B16: ='2020'!G24 -> 駿河区 | C16: ='2020'!H24 -> 0 | D16: 65 | F16: 226 | H16: =IF(D16="x",,IF(F16="x",,F16-D16)) -> 161 | I16: =H16/F16*100 -> 71.238938
A17: ='2020'!E25 -> 静岡県 | B17: ='2020'!G25 -> 駿河区 | C17: ='2020'!H25 -> 静岡市２－２ | D17: 60 | F17: 216 | H17: =IF(D17="x",,IF(F17="x",,F17-D17)) -> 156 | I17: =H17/F17*100 -> 72.222222
A18: ='2020'!E26 -> 静岡県 | B18: ='2020'!G26 -> 駿河区 | C18: ='2020'!H26 -> 有度村２－２ | D18: 5 | F18: 10 | H18: =IF(D18="x",,IF(F18="x",,F18-D18)) -> 5 | I18: =H18/F18*100 -> 50 | K18: 2
A19: ='2020'!E27 -> 静岡県 | B19: ='2020'!G27 -> 清水区 | C19: ='2020'!H27 -> 0 | D19: 180 | F19: 615 | H19: =IF(D19="x",,IF(F19="x",,F19-D19)) -> 435 | I19: =H19/F19*100 -> 70.731707
A20: ='2020'!E28 -> 静岡県 | B20: ='2020'!G28 -> 清水区 | C20: ='2020'!H28 -> 清水市 | D20: 6 | F20: 22 | H20: =IF(D20="x",,IF(F20="x",,F20-D20)) -> 16 | I20: =H20/F20*100 -> 72.727273
A21: ='2020'!E29 -> 静岡県 | B21: ='2020'!G29 -> 清水区 | C21: ='2020'!H29 -> 飯田村 | F21: 5 | H21: 5 | I21: =H21/F21*100 -> 100
A22: ='2020'!E30 -> 静岡県 | B22: ='2020'!G30 -> 清水区 | C22: ='2020'!H30 -> 高部村 | D22: 4 | F22: 18 | H22: =IF(D22="x",,IF(F22="x",,F22-D22)) -> 14 | I22: =H22/F22*100 -> 77.777778
A23: ='2020'!E31 -> 静岡県 | B23: ='2020'!G31 -> 清水区 | C23: ='2020'!H31 -> 有度村２－１ | D23: 14 | F23: 44 | H23: =IF(D23="x",,IF(F23="x",,F23-D23)) -> 30 | I23: =H23/F23*100 -> 68.181818
A24: ='2020'!E32 -> 静岡県 | B24: ='2020'!G32 -> 清水区 | C24: ='2020'!H32 -> 興津町 | D24: 3 | F24: 15 | H24: =IF(D24="x",,IF(F24="x",,F24-D24)) -> 12 | I24: =H24/F24*100 -> 80
A25: ='2020'!E33 -> 静岡県 | B25: ='2020'!G33 -> 清水区 | C25: ='2020'!H33 -> 小島村 | D25: 35 | F25: 135 | H25: =IF(D25="x",,IF(F25="x",,F25-D25)) -> 100 | I25: =H25/F25*100 -> 74.074074
A26: ='2020'!E34 -> 静岡県 | B26: ='2020'!G34 -> 清水区 | C26: ='2020'!H34 -> 両河内村 | D26: 63 | F26: 186 | H26: =IF(D26="x",,IF(F26="x",,F26-D26)) -> 123 | I26: =H26/F26*100 -> 66.129032
A27: ='2020'!E35 -> 静岡県 | B27: ='2020'!G35 -> 清水区 | C27: ='2020'!H35 -> 庵原村 | D27: 52 | F27: 176 | H27: =IF(D27="x",,IF(F27="x",,F27-D27)) -> 124 | I27: =H27/F27*100 -> 70.454545
A28: ='2020'!E36 -> 静岡県 | B28: ='2020'!G36 -> 清水区 | C28: ='2020'!H36 -> 袖師町 | D28: 1 | F28: 9 | H28: =IF(D28="x",,IF(F28="x",,F28-D28)) -> 8 | I28: =H28/F28*100 -> 88.888889
A29: ='2020'!E37 -> 静岡県 | B29: ='2020'!G37 -> 清水区 | C29: ='2020'!H37 -> 蒲原町
A30: ='2020'!E38 -> 静岡県 | B30: ='2020'!G38 -> 清水区 | C30: ='2020'!H38 -> 由比町 | D30: 2 | F30: 5 | H30: =IF(D30="x",,IF(F30="x",,F30-D30)) -> 3 | I30: =H30/F30*100 -> 60 | K30: 10
A31: ='2020'!E39 -> 静岡県 | B31: ='2020'!G39 -> 浜松市 | C31: ='2020'!H39 -> 0 | D31: 346 | F31: 812 | H31: =IF(D31="x",,IF(F31="x",,F31-D31)) -> 466 | I31: =H31/F31*100 -> 57.389163
A32: ='2020'!E40 -> 静岡県 | B32: ='2020'!G40 -> 中区 | C32: ='2020'!H40 -> 0 | D32: 5 | F32: 29 | H32: =IF(D32="x",,IF(F32="x",,F32-D32)) -> 24 | I32: =H32/F32*100 -> 82.758621
A33: ='2020'!E41 -> 静岡県 | B33: ='2020'!G41 -> 中区 | C33: ='2020'!H41 -> 浜松市４－１ | D33: 5 | F33: 14 | H33: =IF(D33="x",,IF(F33="x",,F33-D33)) -> 9 | I33: =H33/F33*100 -> 64.285714
A34: ='2020'!E42 -> 静岡県 | B34: ='2020'!G42 -> 中区 | C34: ='2020'!H42 -> 入野村２－１ | F34: 4 | H34: 4 | I34: =H34/F34*100 -> 100
A35: ='2020'!E43 -> 静岡県 | B35: ='2020'!G43 -> 中区 | C35: ='2020'!H43 -> 吉野村２－１ | F35: 11 | H35: 11 | I35: =H35/F35*100 -> 100
A36: ='2020'!E44 -> 静岡県 | B36: ='2020'!G44 -> 中区 | C36: ='2020'!H44 -> 新津村２－１
A37: ='2020'!E45 -> 静岡県 | B37: ='2020'!G45 -> 東区 | C37: ='2020'!H45 -> 0 | D37: 1 | F37: 1 | H37: =IF(D37="x",,IF(F37="x",,F37-D37)) -> 0 | I37: =H37/F37*100 -> 0
A38: ='2020'!E46 -> 静岡県 | B38: ='2020'!G46 -> 東区 | C38: ='2020'!H46 -> 浜松市４－３
A39: ='2020'!E47 -> 静岡県 | B39: ='2020'!G47 -> 東区 | C39: ='2020'!H47 -> 飯田村２－１
A40: ='2020'!E48 -> 静岡県 | B40: ='2020'!G48 -> 東区 | C40: ='2020'!H48 -> 和田村
...
