Workbook

Sheet 2010
A1: Ⅱ 農業経営体
A2: ８ 販売目的の工芸農作物の作物別作付（栽培）経営体数
H7: 単位：経営体
A8: 新旧市区町村 | G8: こんにゃくいも | H8: その他
E10: たばこ | F10: 茶
A13: 県計 | D13: 000-00 | E13: 17 | F13: 14025 | G13: 62 | H13: 240
B14: 静岡市 | D14: 100-00 | E14: - | F14: 2222 | G14: 10 | H14: 29
B15: 葵区 | D15: 101-00 | E15: - | F15: 1381 | G15: 5 | H15: 12
C16: 静岡市２－１ | D16: 101-01 | E16: - | F16: 274 | G16: 1 | H16: 2
C17: 美和村 | D17: 101-02 | E17: - | F17: 261 | G17: - | H17: 2
C18: 服織村 | D18: 101-03 | E18: - | F18: 99 | G18: - | H18: 1
C19: 中藁科村 | D19: 101-04 | E19: - | F19: 163 | G19: - | H19: 1
C20: 南藁科村 | D20: 101-05 | E20: - | F20: 83 | G20: 1 | H20: 1
C21: 大河内村 | D21: 101-06 | E21: - | F21: 116 | G21: - | H21: 3
C22: 梅ヶ島村 | D22: 101-07 | E22: - | F22: 54 | G22: - | H22: 1
C23: 玉川村 | D23: 101-08 | E23: - | F23: 96 | G23: - | H23: -
C24: 井川村 | D24: 101-09 | E24: - | F24: 20 | G24: - | H24: -
C25: 清沢村 | D25: 101-10 | E25: - | F25: 121 | G25: 3 | H25: -
C26: 大川村 | D26: 101-11 | E26: - | F26: 94 | G26: - | H26: 1
B27: 駿河区 | D27: 102-00 | E27: - | F27: 226 | G27: 1 | H27: 2
C28: 静岡市２－２ | D28: 102-01 | E28: - | F28: 216 | G28: 1 | H28: 2
C29: 有度村２－２ | D29: 102-02 | E29: - | F29: 10 | G29: - | H29: -
B30: 清水区 | D30: 103-00 | E30: - | F30: 615 | G30: 4 | H30: 15
C31: 清水市 | D31: 103-01 | E31: - | F31: 22 | G31: 1 | H31: -
C32: 飯田村 | D32: 103-02 | E32: - | F32: 5 | G32: - | H32: 1
C33: 高部村 | D33: 103-03 | E33: - | F33: 18 | G33: 1 | H33: 2
C34: 有度村２－１ | D34: 103-04 | E34: - | F34: 44 | G34: 1 | H34: 1
C35: 興津町 | D35: 103-05 | E35: - | F35: 15 | G35: - | H35: -
C36: 小島村 | D36: 103-06 | E36: - | F36: 135 | G36: - | H36: 2
C37: 両河内村 | D37: 103-07 | E37: - | F37: 186 | G37: - | H37: 5
C38: 庵原村 | D38: 103-08 | E38: - | F38: 176 | G38: 1 | H38: 3
C39: 袖師町 | D39: 103-09 | E39: - | F39: 9 | G39: - | H39: -
C40: 蒲原町 | D40: 103-10 | E40: - | F40: - | G40: - | H40: -
C41: 由比町 | D41: 103-11 | E41: - | F41: 5 | G41: - | H41: 1
B42: 浜松市 | D42: 130-00 | E42: 1 | F42: 812 | G42: 5 | H42: 24
B43: 中区 | D43: 131-00 | E43: - | F43: 29 | G43: - | H43: -
C44: 浜松市４－１ | D44: 131-01 | E44: - | F44: 14 | G44: - | H44: -
C45: 入野村２－１ | D45: 131-02 | E45: - | F45: 4 | G45: - | H45: -
C46: 吉野村２－１ | D46: 131-03 | E46: - | F46: 11 | G46: - | H46: -
C47: 新津村２－１ | D47: 131-04 | E47: - | F47: - | G47: - | H47: -
B48: 東区 | D48: 132-00 | E48: 1 | F48: 1 | G48: - | H48: 3
C49: 浜松市４－３ | D49: 132-01 | E49: - | F49: - | G49: - | H49: -
C50: 飯田村２－１ | D50: 132-02 | E50: - | F50: - | G50: - | H50: -
C51: 和田村 | D51: 132-03 | E51: - | F51: - | G51: - | H51: -
C52: 長上村 | D52: 132-04 | E52: - | F52: - | G52: - | H52: -
C53: 積志村 | D53: 132-05 | E53: - | F53: - | G53: - | H53: 2
C54: 笠井町 | D54: 132-06 | E54: - | F54: 1 | G54: - | H54: -
C55: 豊西村 | D55: 132-07 | E55: - | F55: - | G55: - | H55: 1
C56: 中ノ町村 | D56: 132-08 | E56: 1 | F56: - | G56: - | H56: -
C57: 三方原村２－１ | D57: 132-09 | E57: - | F57: - | G57: - | H57: -
B58: 西区 | D58: 133-00 | E58: - | F58: 45 | G58: - | H58: 10
C59: 神久呂村 | D59: 133-01 | E59: - | F59: 21 | G59: - | H59: 1
C60: 入野村２－２ | D60: 133-02 | E60: - | F60: 2 | G60: - | H60: 2
C61: 吉野村２－２ | D61: 133-03 | E61: - | F61: - | G61: - | H61: -
C62: 和地村 | D62: 133-04 | E62: - | F62: 13 | G62: - | H62: -
C63: 伊佐見村 | D63: 133-05 | E63: - | F63: 7 | G63: - | H63: -
C64: 篠原村 | D64: 133-06 | E64: - | F64: - | G64: - | H64: -
C65: 北庄内村 | D65: 133-07 | E65: - | F65: 2 | G65: - | H65: 5
C66: 南庄内村 | D66: 133-08 | E66: - | F66: - | G66: - | H66: 1
C67: 村櫛村 | D67: 133-09 | E67: - | F67: - | G67: - | H67: -
C68: 舞阪町 | D68: 133-10 | E68: - | F68: - | G68: - | H68: -
C69: 雄踏町 | D69: 133-11 | E69: - | F69: - | G69: - | H69: 1
C70: 浜松市４－２ | D70: 133-12 | E70: - | F70: - | G70: - | H70: -
B71: 南区 | D71: 134-00 | E71: - | F71: 1 | G71: - | H71: 1
C72: 浜松市４－４ | D72: 134-01 | E72: - | F72: 1 | G72: - | H72: 1
C73: 芳川村 | D73: 134-02 | E73: - | F73: - | G73: - | H73: -
C74: 飯田村２－１ | D74: 134-03 | E74: - | F74: - | G74: - | H74: -
C75: 河輪村 | D75: 134-04 | E75: - | F75: - | G75: - | H75: -
C76: 五島村 | D76: 134-05 | E76: - | F76: - | G76: - | H76: -
C77: 新津村２－２ | D77: 134-06 | E77: - | F77: - | G77: - | H77: -
C78: 可美村 | D78: 134-07 | E78: - | F78: - | G78: - | H78: -
B79: 北区 | D79: 135-00 | E79: - | F79: 176 | G79: 2 | H79: 5
C80: 三方原村２－２ | D80: 135-01 | E80: - | F80: 33 | G80: - | H80: 3
C81: 都田村 | D81: 135-02 | E81: - | F81: 33 | G81: - | H81: 2
C82: 気賀町 | D82: 135-03 | E82: - | F82: 13 | G82: - | H82: -
C83: 中川村 | D83: 135-04 | E83: - | F83: 33 | G83: - | H83: -
C84: 金指町 | D84: 135-05 | E84: - | F84: - | G84: - | H84: -
C85: 井伊谷村 | D85: 135-06 | E85: - | F85: 1 | G85: - | H85: -
C86: 奥山村 | D86: 135-07 | E86: - | F86: 8 | G86: 2 | H86: -
C87: 伊平村 | D87: 135-08 | E87: - | F87: 6 | G87: - | H87: -
C88: 鎮玉村 | D88: 135-09 | E88: - | F88: 49 | G88: - | H88: -
C89: 三ヶ日町 | D89: 135-10 | E89: - | F89: - | G89: - | H89: -
C90: 東浜名村 | D90: 135-11 | E90: - | F90: - | G90: - | H90: -
B91: 浜北区 | D91: 136-00 | E91: - | F91: 36 | G91: - | H91: 2
C92: 小野口村 | D92: 136-01 | E92: - | F92: 14 | G92: - | H92: -
C93: 北浜村 | D93: 136-02 | E93: - | F93: 1 | G93: - | H93: 1
C94: 竜池村 | D94: 136-03 | E94: - | F94: - | G94: - | H94: -
C95: 中瀬村 | D95: 136-04 | E95: - | F95: 2 | G95: - | H95: -
C96: 赤佐村 | D96: 136-05 | E96: - | F96: - | G96: - | H96: -
C97: 麁玉村 | D97: 136-06 | E97: - | F97: 19 | G97: - | H97: 1
B98: 天竜区 | D98: 137-00 | E98: - | F98: 524 | G98: 3 | H98: 3
C99: 二俣町 | D99: 137-01 | E99: X | F99: X | G99: X | H99: X
C100: 光明村 | D100: 137-02 | E100: - | F100: 37 | G100: - | H100: -
C101: 上阿多古村 | D101: 137-03 | E101: - | F101: 50 | G101: - | H101: -
C102: 下阿多古村 | D102: 137-04 | E102: - | F102: 12 | G102: - | H102: -
C103: 熊村 | D103: 137-05 | E103: - | F103: 39 | G103: - | H103: -
C104: 竜川村 | D104: 137-06 | E104: - | F104: 27 | G104: - | H104: -
C105: 犬居町 | D105: 137-07 | E105: - | F105: 41 | G105: - | H105: -
C106: 気多村 | D106: 137-08 | E106: - | F106: 25 | G106: - | H106: -
C107: 熊切村 | D107: 137-09 | E107: - | F107: 183 | G107: - | H107: -
...

Sheet 2015
A1: Ⅱ 農業経営体
A2: 10 販売目的の工芸農作物の作物別作付（栽培）経営体数と作付（栽培）面積
A6: 新旧市区町村 | E6: さとうきび | G6: た ば こ | I6: 茶 | K6: てんさい（ビート） | M6: こんにゃくいも | O6: その他の工芸農作物
E8: 作 付 経営体数 | F8: 作付面積 | G8: 作 付 経営体数 | H8: 作付面積 | I8: 作 付 経営体数 | J8: 作付面積 | K8: 作 付 経営体数 | L8: 作付面積 | M8: 作 付 経営体数 | N8: 作付面積 | O8: 作 付 経営体数 | P8: 作付面積
E12: 経営体 | F12: ha | G12: 経営体 | H12: ha | I12: 経営体 | J12: ha | K12: 経営体 | L12: ha | M12: 経営体 | N12: ha | O12: 経営体 | P12: ha
A13: 静岡県 | E13: 17 | F13: 3 | G13: 15 | H13: 23 | I13: 9617 | J13: 12513 | K13: - | L13: - | M13: 55 | N13: 5 | O13: 151 | P13: 109
B14: 静岡市 | D14: 100-00 | E14: 1 | F14: X | G14: 1 | H14: X | I14: 1493 | J14: 1135 | K14: - | L14: - | M14: 10 | N14: 0 | O14: 29 | P14: 7
B15: 葵区 | D15: 101-00 | E15: - | F15: - | G15: - | H15: - | I15: 970 | J15: 734 | K15: - | L15: - | M15: 7 | N15: 0 | O15: 22 | P15: 4
C16: 静岡市２－１ | D16: 101-01 | E16: - | F16: - | G16: - | H16: - | I16: 170 | J16: 111 | K16: - | L16: - | M16: 1 | N16: X | O16: 4 | P16: 0
C17: 美和村 | D17: 101-02 | E17: - | F17: - | G17: - | H17: - | I17: 182 | J17: 177 | K17: - | L17: - | M17: - | N17: - | O17: 4 | P17: 0
C18: 服織村 | D18: 101-03 | E18: - | F18: - | G18: - | H18: - | I18: 80 | J18: 69 | K18: - | L18: - | M18: 1 | N18: X | O18: 2 | P18: X
C19: 中藁科村 | D19: 101-04 | E19: - | F19: - | G19: - | H19: - | I19: 119 | J19: 98 | K19: - | L19: - | M19: - | N19: - | O19: - | P19: -
C20: 南藁科村 | D20: 101-05 | E20: - | F20: - | G20: - | H20: - | I20: 51 | J20: 38 | K20: - | L20: - | M20: 1 | N20: X | O20: 1 | P20: X
C21: 大河内村 | D21: 101-06 | E21: - | F21: - | G21: - | H21: - | I21: 78 | J21: 35 | K21: - | L21: - | M21: - | N21: - | O21: 2 | P21: X
C22: 梅ヶ島村 | D22: 101-07 | E22: - | F22: - | G22: - | H22: - | I22: 44 | J22: 28 | K22: - | L22: - | M22: 2 | N22: X | O22: 3 | P22: 1
C23: 玉川村 | D23: 101-08 | E23: - | F23: - | G23: - | H23: - | I23: 75 | J23: 47 | K23: - | L23: - | M23: - | N23: - | O23: 1 | P23: X
C24: 井川村 | D24: 101-09 | E24: - | F24: - | G24: - | H24: - | I24: 13 | J24: 5 | K24: - | L24: - | M24: 1 | N24: X | O24: 1 | P24: X
C25: 清沢村 | D25: 101-10 | E25: - | F25: - | G25: - | H25: - | I25: 89 | J25: 62 | K25: - | L25: - | M25: 1 | N25: X | O25: - | P25: -
C26: 大川村 | D26: 101-11 | E26: - | F26: - | G26: - | H26: - | I26: 69 | J26: 65 | K26: - | L26: - | M26: - | N26: - | O26: 4 | P26: 1
B27: 駿河区 | D27: 102-00 | E27: 1 | F27: X | G27: - | H27: - | I27: 135 | J27: 63 | K27: - | L27: - | M27: 2 | N27: X | O27: 1 | P27: X
C28: 静岡市２－２ | D28: 102-01 | E28: - | F28: - | G28: - | H28: - | I28: 128 | J28: 58 | K28: - | L28: - | M28: 2 | N28: X | O28: 1 | P28: X
C29: 有度村２－２ | D29: 102-02 | E29: 1 | F29: X | G29: - | H29: - | I29: 7 | J29: 4 | K29: - | L29: - | M29: - | N29: - | O29: - | P29: -
B30: 清水区 | D30: 103-00 | E30: - | F30: - | G30: 1 | H30: X | I30: 388 | J30: 338 | K30: - | L30: - | M30: 1 | N30: X | O30: 6 | P30: X
C31: 清水市 | D31: 103-01 | E31: - | F31: - | G31: - | H31: - | I31: 13 | J31: 2 | K31: - | L31: - | M31: - | N31: - | O31: 1 | P31: X
C32: 飯田村 | D32: 103-02 | E32: - | F32: - | G32: - | H32: - | I32: 3 | J32: X | K32: - | L32: - | M32: - | N32: - | O32: - | P32: -
C33: 高部村 | D33: 103-03 | E33: - | F33: - | G33: - | H33: - | I33: 9 | J33: 7 | K33: - | L33: - | M33: - | N33: - | O33: 1 | P33: X
C34: 有度村２－１ | D34: 103-04 | E34: - | F34: - | G34: - | H34: - | I34: 33 | J34: 18 | K34: - | L34: - | M34: - | N34: - | O34: - | P34: -
C35: 興津町 | D35: 103-05 | E35: - | F35: - | G35: - | H35: - | I35: 5 | J35: 2 | K35: - | L35: - | M35: - | N35: - | O35: - | P35: -
C36: 小島村 | D36: 103-06 | E36: - | F36: - | G36: 1 | H36: X | I36: 77 | J36: 50 | K36: - | L36: - | M36: 1 | N36: X | O36: 1 | P36: X
C37: 両河内村 | D37: 103-07 | E37: - | F37: - | G37: - | H37: - | I37: 148 | J37: 168 | K37: - | L37: - | M37: - | N37: - | O37: 1 | P37: X
C38: 庵原村 | D38: 103-08 | E38: - | F38: - | G38: - | H38: - | I38: 94 | J38: 89 | K38: - | L38: - | M38: - | N38: - | O38: 2 | P38: X
C39: 袖師町 | D39: 103-09 | E39: - | F39: - | G39: - | H39: - | I39: 2 | J39: X | K39: - | L39: - | M39: - | N39: - | O39: - | P39: -
C40: 蒲原町 | D40: 103-10 | E40: - | F40: - | G40: - | H40: - | I40: - | J40: - | K40: - | L40: - | M40: - | N40: - | O40: - | P40: -
C41: 由比町 | D41: 103-11 | E41: - | F41: - | G41: - | H41: - | I41: 4 | J41: 1 | K41: - | L41: - | M41: - | N41: - | O41: - | P41: -
B42: 浜松市 | D42: 130-00 | E42: 4 | F42: 0 | G42: 1 | H42: X | I42: 514 | J42: 368 | K42: - | L42: - | M42: 1 | N42: X | O42: 18 | P42: 4
B43: 中区 | D43: 131-00 | E43: - | F43: - | G43: - | H43: - | I43: 6 | J43: X | K43: - | L43: - | M43: - | N43: - | O43: - | P43: -
C44: 浜松市４－１ | D44: 131-01 | E44: - | F44: - | G44: - | H44: - | I44: 5 | J44: 3 | K44: - | L44: - | M44: - | N44: - | O44: - | P44: -
C45: 入野村２－１ | D45: 131-02 | E45: - | F45: - | G45: - | H45: - | I45: - | J45: - | K45: - | L45: - | M45: - | N45: - | O45: - | P45: -
C46: 吉野村２－１ | D46: 131-03 | E46: - | F46: - | G46: - | H46: - | I46: 1 | J46: X | K46: - | L46: - | M46: - | N46: - | O46: - | P46: -
C47: 新津村２－１ | D47: 131-04 | E47: - | F47: - | G47: - | H47: - | I47: - | J47: - | K47: - | L47: - | M47: - | N47: - | O47: - | P47: -
B48: 東区 | D48: 132-00 | E48: - | F48: - | G48: - | H48: - | I48: 1 | J48: X | K48: - | L48: - | M48: - | N48: - | O48: 4 | P48: 1
C49: 浜松市４－３ | D49: 132-01 | E49: - | F49: - | G49: - | H49: - | I49: - | J49: - | K49: - | L49: - | M49: - | N49: - | O49: - | P49: -
C50: 飯田村２－１ | D50: 132-02 | E50: - | F50: - | G50: - | H50: - | I50: - | J50: - | K50: - | L50: - | M50: - | N50: - | O50: - | P50: -
C51: 和田村 | D51: 132-03 | E51: - | F51: - | G51: - | H51: - | I51: - | J51: - | K51: - | L51: - | M51: - | N51: - | O51: 1 | P51: X
C52: 長上村 | D52: 132-04 | E52: - | F52: - | G52: - | H52: - | I52: - | J52: - | K52: - | L52: - | M52: - | N52: - | O52: - | P52: -
C53: 積志村 | D53: 132-05 | E53: - | F53: - | G53: - | H53: - | I53: - | J53: - | K53: - | L53: - | M53: - | N53: - | O53: 3 | P53: X
C54: 笠井町 | D54: 132-06 | E54: - | F54: - | G54: - | H54: - | I54: 1 | J54: X | K54: - | L54: - | M54: - | N54: - | O54: - | P54: -
C55: 豊西村 | D55: 132-07 | E55: - | F55: - | G55: - | H55: - | I55: - | J55: - | K55: - | L55: - | M55: - | N55: - | O55: - | P55: -
C56: 中ノ町村 | D56: 132-08 | E56: - | F56: - | G56: - | H56: - | I56: - | J56: - | K56: - | L56: - | M56: - | N56: - | O56: - | P56: -
C57: 三方原村２－１ | D57: 132-09 | E57: - | F57: - | G57: - | H57: - | I57: - | J57: - | K57: - | L57: - | M57: - | N57: - | O57: - | P57: -
B58: 西区 | D58: 133-00 | E58: - | F58: - | G58: - | H58: - | I58: 20 | J58: 32 | K58: - | L58: - | M58: - | N58: - | O58: 5 | P58: 1
C59: 神久呂村 | D59: 133-01 | E59: - | F59: - | G59: - | H59: - | I59: 11 | J59: 21 | K59: - | L59: - | M59: - | N59: - | O59: - | P59: -
C60: 入野村２－２ | D60: 133-02 | E60: - | F60: - | G60: - | H60: - | I60: 2 | J60: X | K60: - | L60: - | M60: - | N60: - | O60: - | P60: -
C61: 吉野村２－２ | D61: 133-03 | E61: - | F61: - | G61: - | H61: - | I61: 1 | J61: X | K61: - | L61: - | M61: - | N61: - | O61: - | P61: -
C62: 和地村 | D62: 133-04 | E62: - | F62: - | G62: - | H62: - | I62: 4 | J62: 6 | K62: - | L62: - | M62: - | N62: - | O62: - | P62: -
C63: 伊佐見村 | D63: 133-05 | E63: - | F63: - | G63: - | H63: - | I63: - | J63: - | K63: - | L63: - | M63: - | N63: - | O63: 3 | P63: 1
C64: 篠原村 | D64: 133-06 | E64: - | F64: - | G64: - | H64: - | I64: 1 | J64: X | K64: - | L64: - | M64: - | N64: - | O64: - | P64: -
C65: 北庄内村 | D65: 133-07 | E65: - | F65: - | G65: - | H65: - | I65: 1 | J65: X | K65: - | L65: - | M65: - | N65: - | O65: 1 | P65: X
C66: 南庄内村 | D66: 133-08 | E66: - | F66: - | G66: - | H66: - | I66: - | J66: - | K66: - | L66: - | M66: - | N66: - | O66: 1 | P66: X
C67: 村櫛村 | D67: 133-09 | E67: - | F67: - | G67: - | H67: - | I67: - | J67: - | K67: - | L67: - | M67: - | N67: - | O67: - | P67: -
C68: 舞阪町 | D68: 133-10 | E68: - | F68: - | G68: - | H68: - | I68: - | J68: - | K68: - | L68: - | M68: - | N68: - | O68: - | P68: -
C69: 雄踏町 | D69: 133-11 | E69: - | F69: - | G69: - | H69: - | I69: - | J69: - | K69: - | L69: - | M69: - | N69: - | O69: - | P69: -
C70: 浜松市４－２ | D70: 133-12 | E70: - | F70: - | G70: - | H70: - | I70: - | J70: - | K70: - | L70: - | M70: - | N70: - | O70: - | P70: -
B71: 南区 | D71: 134-00 | E71: 1 | F71: X | G71: - | H71: - | I71: - | J71: - | K71: - | L71: - | M71: 1 | N71: X | O71: 1 | P71: X
C72: 浜松市４－４ | D72: 134-01 | E72: - | F72: - | G72: - | H72: - | I72: - | J72: - | K72: - | L72: - | M72: - | N72: - | O72: - | P72: -
C73: 芳川村 | D73: 134-02 | E73: - | F73: - | G73: - | H73: - | I73: - | J73: - | K73: - | L73: - | M73: - | N73: - | O73: - | P73: -
C74: 飯田村２－１ | D74: 134-03 | E74: - | F74: - | G74: - | H74: - | I74: - | J74: - | K74: - | L74: - | M74: - | N74: - | O74: - | P74: -
C75: 河輪村 | D75: 134-04 | E75: 1 | F75: X | G75: - | H75: - | I75: - | J75: - | K75: - | L75: - | M75: - | N75: - | O75: - | P75: -
C76: 五島村 | D76: 134-05 | E76: - | F76: - | G76: - | H76: - | I76: - | J76: - | K76: - | L76: - | M76: - | N76: - | O76: 1 | P76: X
C77: 新津村２－２ | D77: 134-06 | E77: - | F77: - | G77: - | H77: - | I77: - | J77: - | K77: - | L77: - | M77: 1 | N77: X | O77: - | P77: -
C78: 可美村 | D78: 134-07 | E78: - | F78: - | G78: - | H78: - | I78: - | J78: - | K78: - | L78: - | M78: - | N78: - | O78: - | P78: -
B79: 北区 | D79: 135-00 | E79: 1 | F79: X | G79: - | H79: - | I79: 78 | J79: 49 | K79: - | L79: - | M79: - | N79: - | O79: 3 | P79: 0
C80: 三方原村２－２ | D80: 135-01 | E80: 1 | F80: X | G80: - | H80: - | I80: 15 | J80: 15 | K80: - | L80: - | M80: - | N80: - | O80: - | P80: -
C81: 都田村 | D81: 135-02 | E81: - | F81: - | G81: - | H81: - | I81: 13 | J81: 16 | K81: - | L81: - | M81: - | N81: - | O81: - | P81: -
C82: 気賀町 | D82: 135-03 | E82: - | F82: - | G82: - | H82: - | I82: 2 | J82: X | K82: - | L82: - | M82: - | N82: - | O82: 1 | P82: X
C83: 中川村 | D83: 135-04 | E83: - | F83: - | G83: - | H83: - | I83: 12 | J83: 9 | K83: - | L83: - | M83: - | N83: - | O83: - | P83: -
C84: 金指町 | D84: 135-05 | E84: - | F84: - | G84: - | H84: - | I84: - | J84: - | K84: - | L84: - | M84: - | N84: - | O84: - | P84: -
C85: 井伊谷村 | D85: 135-06 | E85: - | F85: - | G85: - | H85: - | I85: - | J85: - | K85: - | L85: - | M85: - | N85: - | O85: - | P85: -
C86: 奥山村 | D86: 135-07 | E86: - | F86: - | G86: - | H86: - | I86: 6 | J86: 1 | K86: - | L86: - | M86: - | N86: - | O86: 1 | P86: X
C87: 伊平村 | D87: 135-08 | E87: - | F87: - | G87: - | H87: - | I87: 2 | J87: X | K87: - | L87: - | M87: - | N87: - | O87: 1 | P87: X
C88: 鎮玉村 | D88: 135-09 | E88: - | F88: - | G88: - | H88: - | I88: 28 | J88: 6 | K88: - | L88: - | M88: - | N88: - | O88: - | P88: -
C89: 三ヶ日町 | D89: 135-10 | E89: - | F89: - | G89: - | H89: - | I89: - | J89: - | K89: - | L89: - | M89: - | N89: - | O89: - | P89: -
C90: 東浜名村 | D90: 135-11 | E90: - | F90: - | G90: - | H90: - | I90: - | J90: - | K90: - | L90: - | M90: - | N90: - | O90: - | P90: -
B91: 浜北区 | D91: 136-00 | E91: 1 | F91: X | G91: - | H91: - | I91: 23 | J91: 18 | K91: - | L91: - | M91: - | N91: - | O91: 4 | P91: 1
C92: 小野口村 | D92: 136-01 | E92: 1 | F92: X | G92: - | H92: - | I92: 9 | J92: 9 | K92: - | L92: - | M92: - | N92: - | O92: 1 | P92: X
C93: 北浜村 | D93: 136-02 | E93: - | F93: - | G93: - | H93: - | I93: 2 | J93: X | K93: - | L93: - | M93: - | N93: - | O93: 1 | P93: X
C94: 竜池村 | D94: 136-03 | E94: - | F94: - | G94: - | H94: - | I94: - | J94: - | K94: - | L94: - | M94: - | N94: - | O94: - | P94: -
C95: 中瀬村 | D95: 136-04 | E95: - | F95: - | G95: - | H95: - | I95: - | J95: - | K95: - | L95: - | M95: - | N95: - | O95: - | P95: -
C96: 赤佐村 | D96: 136-05 | E96: - | F96: - | G96: - | H96: - | I96: 1 | J96: X | K96: - | L96: - | M96: - | N96: - | O96: - | P96: -
C97: 麁玉村 | D97: 136-06 | E97: - | F97: - | G97: - | H97: - | I97: 11 | J97: 8 | K97: - | L97: - | M97: - | N97: - | O97: 2 | P97: X
B98: 天竜区 | D98: 137-00 | E98: 1 | F98: X | G98: 1 | H98: X | I98: 386 | J98: 262 | K98: - | L98: - | M98: - | N98: - | O98: 1 | P98: X
C99: 二俣町 | D99: 137-01 | E99: - | F99: - | G99: - | H99: - | I99: 1 | J99: X | K99: - | L99: - | M99: - | N99: - | O99: - | P99: -
C100: 光明村 | D100: 137-02 | E100: 1 | F100: X | G100: - | H100: - | I100: 22 | J100: 14 | K100: - | L100: - | M100: - | N100: - | O100: - | P100: -
C101: 上阿多古村 | D101: 137-03 | E101: - | F101: - | G101: - | H101: - | I101: 37 | J101: 22 | K101: - | L101: - | M101: - | N101: - | O101: - | P101: -
C102: 下阿多古村 | D102: 137-04 | E102: - | F102: - | G102: - | H102: - | I102: 11 | J102: 4 | K102: - | L102: - | M102: - | N102: - | O102: - | P102: -
C103: 熊村 | D103: 137-05 | E103: - | F103: - | G103: - | H103: - | I103: 31 | J103: 17 | K103: - | L103: - | M103: - | N103: - | O103: - | P103: -
C104: 竜川村 | D104: 137-06 | E104: - | F104: - | G104: 1 | H104: X | I104: 22 | J104: 17 | K104: - | L104: - | M104: - | N104: - | O104: - | P104: -
C105: 犬居町 | D105: 137-07 | E105: - | F105: - | G105: - | H105: - | I105: 33 | J105: 20 | K105: - | L105: - | M105: - | N105: - | O105: - | P105: -
C106: 気多村 | D106: 137-08 | E106: - | F106: - | G106: - | H106: - | I106: 12 | J106: 5 | K106: - | L106: - | M106: - | N106: - | O106: - | P106: -
C107: 熊切村 | D107: 137-09 | E107: - | F107: - | G107: - | H107: - | I107: 134 | J107: 125 | K107: - | L107: - | M107: - | N107: - | O107: 1 | P107: X
...

Sheet 2020
A1: Ⅱ 農業経営体（総数）
A2: 13 販売目的の工芸農作物の作物別作付（栽培）経営体数と作付（栽培）面積
A4: 新旧市区町村 | I4: さ と う き び | K4: な た ね | M4: 茶 | O4: てんさい（ビート） | Q4: こんにゃくいも | S4: その他の工芸農作物
A6: コード | E6: 名称 | I6: 栽 培 経営体数 | J6: 栽培面積 | K6: 作 付 経営体数 | L6: 作付面積 | M6: 栽 培 経営体数 | N6: 栽培面積 | O6: 作 付 経営体数 | P6: 作付面積 | Q6: 栽 培 経営体数 | R6: 栽培面積 | S6: 作付（栽培） 経営体数 | T6: 作付（栽培） 面積
A7: 都道府県 | B7: 振興局 | C7: 市区町村 | D7: 旧市区町村 | E7: 都道府県 | F7: 振興局 | G7: 市区町村 | H7: 旧市区町村
I9: 経営体 | J9: ha | K9: 経営体 | L9: ha | M9: 経営体 | N9: ha | O9: 経営体 | P9: ha | Q9: 経営体 | R9: ha | S9: 経営体 | T9: ha
A10: 22 | B10: 00 | C10: 000 | D10: 00 | E10: 静岡県 | I10: 2 | J10: 0 | K10: 13 | L10: 6 | M10: 5827 | N10: 8907 | O10: - | P10: - | Q10: 37 | R10: 1 | S10: 578 | T10: 155
A11: 22 | B11: 00 | C11: 100 | D11: 00 | E11: 静岡県 | G11: 静岡市 | I11: x | J11: x | K11: 1 | L11: x | M11: 851 | N11: 714 | O11: - | P11: - | Q11: 2 | R11: x | S11: 100 | T11: 17
A12: 22 | B12: 00 | C12: 101 | D12: 00 | E12: 静岡県 | G12: 葵区 | I12: x | J12: x | K12: 1 | L12: x | M12: 606 | N12: 493 | O12: - | P12: - | Q12: 2 | R12: x | S12: 53 | T12: 4
A13: 22 | B13: 00 | C13: 101 | D13: 01 | E13: 静岡県 | G13: 葵区 | H13: 静岡市２－１ | I13: x | J13: x | K13: 1 | L13: x | M13: 110 | N13: 72 | O13: - | P13: - | Q13: - | R13: - | S13: 14 | T13: 1
A14: 22 | B14: 00 | C14: 101 | D14: 02 | E14: 静岡県 | G14: 葵区 | H14: 美和村 | I14: x | J14: x | K14: - | L14: - | M14: 129 | N14: 144 | O14: - | P14: - | Q14: - | R14: - | S14: 7 | T14: 1
A15: 22 | B15: 00 | C15: 101 | D15: 03 | E15: 静岡県 | G15: 葵区 | H15: 服織村 | I15: x | J15: x | K15: - | L15: - | M15: 47 | N15: 43 | O15: - | P15: - | Q15: - | R15: - | S15: 1 | T15: x
A16: 22 | B16: 00 | C16: 101 | D16: 04 | E16: 静岡県 | G16: 葵区 | H16: 中藁科村 | I16: x | J16: x | K16: - | L16: - | M16: 72 | N16: 64 | O16: - | P16: - | Q16: 1 | R16: x | S16: 3 | T16: 0
A17: 22 | B17: 00 | C17: 101 | D17: 05 | E17: 静岡県 | G17: 葵区 | H17: 南藁科村 | I17: x | J17: x | K17: - | L17: - | M17: 21 | N17: 15 | O17: - | P17: - | Q17: - | R17: - | S17: 2 | T17: x
A18: 22 | B18: 00 | C18: 101 | D18: 06 | E18: 静岡県 | G18: 葵区 | H18: 大河内村 | I18: x | J18: x | K18: - | L18: - | M18: 48 | N18: 24 | O18: - | P18: - | Q18: - | R18: - | S18: 14 | T18: 1
A19: 22 | B19: 00 | C19: 101 | D19: 07 | E19: 静岡県 | G19: 葵区 | H19: 梅ヶ島村 | I19: x | J19: x | K19: - | L19: - | M19: 36 | N19: 20 | O19: - | P19: - | Q19: - | R19: - | S19: 2 | T19: x
A20: 22 | B20: 00 | C20: 101 | D20: 08 | E20: 静岡県 | G20: 葵区 | H20: 玉川村 | I20: x | J20: x | K20: - | L20: - | M20: 51 | N20: 34 | O20: - | P20: - | Q20: - | R20: - | S20: 4 | T20: 0
A21: 22 | B21: 00 | C21: 101 | D21: 09 | E21: 静岡県 | G21: 葵区 | H21: 井川村 | I21: x | J21: x | K21: - | L21: - | M21: 5 | N21: 2 | O21: - | P21: - | Q21: 1 | R21: x | S21: 1 | T21: x
A22: 22 | B22: 00 | C22: 101 | D22: 10 | E22: 静岡県 | G22: 葵区 | H22: 清沢村 | I22: x | J22: x | K22: - | L22: - | M22: 48 | N22: 35 | O22: - | P22: - | Q22: - | R22: - | S22: 1 | T22: x
A23: 22 | B23: 00 | C23: 101 | D23: 11 | E23: 静岡県 | G23: 葵区 | H23: 大川村 | I23: x | J23: x | K23: - | L23: - | M23: 39 | N23: 41 | O23: - | P23: - | Q23: - | R23: - | S23: 4 | T23: 0
A24: 22 | B24: 00 | C24: 102 | D24: 00 | E24: 静岡県 | G24: 駿河区 | I24: x | J24: x | K24: - | L24: - | M24: 65 | N24: 27 | O24: - | P24: - | Q24: - | R24: - | S24: 18 | T24: 5
A25: 22 | B25: 00 | C25: 102 | D25: 01 | E25: 静岡県 | G25: 駿河区 | H25: 静岡市２－２ | I25: x | J25: x | K25: - | L25: - | M25: 60 | N25: 25 | O25: - | P25: - | Q25: - | R25: - | S25: 18 | T25: 5
A26: 22 | B26: 00 | C26: 102 | D26: 02 | E26: 静岡県 | G26: 駿河区 | H26: 有度村２－２ | I26: x | J26: x | K26: - | L26: - | M26: 5 | N26: 2 | O26: - | P26: - | Q26: - | R26: - | S26: - | T26: -
A27: 22 | B27: 00 | C27: 103 | D27: 00 | E27: 静岡県 | G27: 清水区 | I27: x | J27: x | K27: - | L27: - | M27: 180 | N27: 194 | O27: - | P27: - | Q27: - | R27: - | S27: 29 | T27: 7
A28: 22 | B28: 00 | C28: 103 | D28: 01 | E28: 静岡県 | G28: 清水区 | H28: 清水市 | I28: x | J28: x | K28: - | L28: - | M28: 6 | N28: 2 | O28: - | P28: - | Q28: - | R28: - | S28: - | T28: -
A29: 22 | B29: 00 | C29: 103 | D29: 02 | E29: 静岡県 | G29: 清水区 | H29: 飯田村 | I29: x | J29: x | K29: - | L29: - | M29: - | N29: - | O29: - | P29: - | Q29: - | R29: - | S29: - | T29: -
A30: 22 | B30: 00 | C30: 103 | D30: 03 | E30: 静岡県 | G30: 清水区 | H30: 高部村 | I30: x | J30: x | K30: - | L30: - | M30: 4 | N30: 4 | O30: - | P30: - | Q30: - | R30: - | S30: 2 | T30: x
A31: 22 | B31: 00 | C31: 103 | D31: 04 | E31: 静岡県 | G31: 清水区 | H31: 有度村２－１ | I31: x | J31: x | K31: - | L31: - | M31: 14 | N31: 11 | O31: - | P31: - | Q31: - | R31: - | S31: 2 | T31: x
A32: 22 | B32: 00 | C32: 103 | D32: 05 | E32: 静岡県 | G32: 清水区 | H32: 興津町 | I32: x | J32: x | K32: - | L32: - | M32: 3 | N32: 0 | O32: - | P32: - | Q32: - | R32: - | S32: 1 | T32: x
A33: 22 | B33: 00 | C33: 103 | D33: 06 | E33: 静岡県 | G33: 清水区 | H33: 小島村 | I33: x | J33: x | K33: - | L33: - | M33: 35 | N33: 27 | O33: - | P33: - | Q33: - | R33: - | S33: 3 | T33: 1
A34: 22 | B34: 00 | C34: 103 | D34: 07 | E34: 静岡県 | G34: 清水区 | H34: 両河内村 | I34: x | J34: x | K34: - | L34: - | M34: 63 | N34: 104 | O34: - | P34: - | Q34: - | R34: - | S34: 16 | T34: 4
A35: 22 | B35: 00 | C35: 103 | D35: 08 | E35: 静岡県 | G35: 清水区 | H35: 庵原村 | I35: x | J35: x | K35: - | L35: - | M35: 52 | N35: 46 | O35: - | P35: - | Q35: - | R35: - | S35: 5 | T35: 1
A36: 22 | B36: 00 | C36: 103 | D36: 09 | E36: 静岡県 | G36: 清水区 | H36: 袖師町 | I36: x | J36: x | K36: - | L36: - | M36: 1 | N36: x | O36: - | P36: - | Q36: - | R36: - | S36: - | T36: -
A37: 22 | B37: 00 | C37: 103 | D37: 10 | E37: 静岡県 | G37: 清水区 | H37: 蒲原町 | I37: x | J37: x | K37: - | L37: - | M37: - | N37: - | O37: - | P37: - | Q37: - | R37: - | S37: - | T37: -
A38: 22 | B38: 00 | C38: 103 | D38: 11 | E38: 静岡県 | G38: 清水区 | H38: 由比町 | I38: x | J38: x | K38: - | L38: - | M38: 2 | N38: x | O38: - | P38: - | Q38: - | R38: - | S38: - | T38: -
A39: 22 | B39: 00 | C39: 130 | D39: 00 | E39: 静岡県 | G39: 浜松市 | I39: x | J39: x | K39: 1 | L39: x | M39: 346 | N39: 258 | O39: - | P39: - | Q39: 1 | R39: x | S39: 81 | T39: 21
A40: 22 | B40: 00 | C40: 131 | D40: 00 | E40: 静岡県 | G40: 中区 | I40: x | J40: x | K40: - | L40: - | M40: 5 | N40: x | O40: - | P40: - | Q40: - | R40: - | S40: 3 | T40: 1
A41: 22 | B41: 00 | C41: 131 | D41: 01 | E41: 静岡県 | G41: 中区 | H41: 浜松市４－１ | I41: x | J41: x | K41: - | L41: - | M41: 5 | N41: x | O41: - | P41: - | Q41: - | R41: - | S41: 3 | T41: 1
A42: 22 | B42: 00 | C42: 131 | D42: 02 | E42: 静岡県 | G42: 中区 | H42: 入野村２－１ | I42: x | J42: x | K42: - | L42: - | M42: - | N42: - | O42: - | P42: - | Q42: - | R42: - | S42: - | T42: -
A43: 22 | B43: 00 | C43: 131 | D43: 03 | E43: 静岡県 | G43: 中区 | H43: 吉野村２－１ | I43: x | J43: x | K43: - | L43: - | M43: - | N43: - | O43: - | P43: - | Q43: - | R43: - | S43: - | T43: -
A44: 22 | B44: 00 | C44: 131 | D44: 04 | E44: 静岡県 | G44: 中区 | H44: 新津村２－１ | I44: x | J44: x | K44: - | L44: - | M44: - | N44: - | O44: - | P44: - | Q44: - | R44: - | S44: - | T44: -
A45: 22 | B45: 00 | C45: 132 | D45: 00 | E45: 静岡県 | G45: 東区 | I45: x | J45: x | K45: - | L45: - | M45: 1 | N45: x | O45: - | P45: - | Q45: - | R45: - | S45: 4 | T45: 2
A46: 22 | B46: 00 | C46: 132 | D46: 01 | E46: 静岡県 | G46: 東区 | H46: 浜松市４－３ | I46: x | J46: x | K46: - | L46: - | M46: - | N46: - | O46: - | P46: - | Q46: - | R46: - | S46: - | T46: -
A47: 22 | B47: 00 | C47: 132 | D47: 02 | E47: 静岡県 | G47: 東区 | H47: 飯田村２－１ | I47: x | J47: x | K47: - | L47: - | M47: - | N47: - | O47: - | P47: - | Q47: - | R47: - | S47: - | T47: -
A48: 22 | B48: 00 | C48: 132 | D48: 03 | E48: 静岡県 | G48: 東区 | H48: 和田村 | I48: x | J48: x | K48: - | L48: - | M48: - | N48: - | O48: - | P48: - | Q48: - | R48: - | S48: 1 | T48: x
A49: 22 | B49: 00 | C49: 132 | D49: 04 | E49: 静岡県 | G49: 東区 | H49: 長上村 | I49: x | J49: x | K49: - | L49: - | M49: - | N49: - | O49: - | P49: - | Q49: - | R49: - | S49: 1 | T49: x
A50: 22 | B50: 00 | C50: 132 | D50: 05 | E50: 静岡県 | G50: 東区 | H50: 積志村 | I50: x | J50: x | K50: - | L50: - | M50: - | N50: - | O50: - | P50: - | Q50: - | R50: - | S50: - | T50: -
A51: 22 | B51: 00 | C51: 132 | D51: 06 | E51: 静岡県 | G51: 東区 | H51: 笠井町 | I51: x | J51: x | K51: - | L51: - | M51: 1 | N51: x | O51: - | P51: - | Q51: - | R51: - | S51: 1 | T51: x
A52: 22 | B52: 00 | C52: 132 | D52: 07 | E52: 静岡県 | G52: 東区 | H52: 豊西村 | I52: x | J52: x | K52: - | L52: - | M52: - | N52: - | O52: - | P52: - | Q52: - | R52: - | S52: 1 | T52: x
A53: 22 | B53: 00 | C53: 132 | D53: 08 | E53: 静岡県 | G53: 東区 | H53: 中ノ町村 | I53: x | J53: x | K53: - | L53: - | M53: - | N53: - | O53: - | P53: - | Q53: - | R53: - | S53: - | T53: -
A54: 22 | B54: 00 | C54: 132 | D54: 09 | E54: 静岡県 | G54: 東区 | H54: 三方原村２－１ | I54: x | J54: x | K54: - | L54: - | M54: - | N54: - | O54: - | P54: - | Q54: - | R54: - | S54: - | T54: -
A55: 22 | B55: 00 | C55: 133 | D55: 00 | E55: 静岡県 | G55: 西区 | I55: x | J55: x | K55: 1 | L55: x | M55: 7 | N55: 16 | O55: - | P55: - | Q55: - | R55: - | S55: 9 | T55: 2
A56: 22 | B56: 00 | C56: 133 | D56: 01 | E56: 静岡県 | G56: 西区 | H56: 神久呂村 | I56: x | J56: x | K56: - | L56: - | M56: 3 | N56: x | O56: - | P56: - | Q56: - | R56: - | S56: - | T56: -
A57: 22 | B57: 00 | C57: 133 | D57: 02 | E57: 静岡県 | G57: 西区 | H57: 入野村２－２ | I57: x | J57: x | K57: - | L57: - | M57: - | N57: - | O57: - | P57: - | Q57: - | R57: - | S57: 1 | T57: x
A58: 22 | B58: 00 | C58: 133 | D58: 03 | E58: 静岡県 | G58: 西区 | H58: 吉野村２－２ | I58: x | J58: x | K58: - | L58: - | M58: 1 | N58: x | O58: - | P58: - | Q58: - | R58: - | S58: - | T58: -
A59: 22 | B59: 00 | C59: 133 | D59: 04 | E59: 静岡県 | G59: 西区 | H59: 和地村 | I59: x | J59: x | K59: - | L59: - | M59: 3 | N59: 2 | O59: - | P59: - | Q59: - | R59: - | S59: 2 | T59: x
A60: 22 | B60: 00 | C60: 133 | D60: 05 | E60: 静岡県 | G60: 西区 | H60: 伊佐見村 | I60: x | J60: x | K60: - | L60: - | M60: - | N60: - | O60: - | P60: - | Q60: - | R60: - | S60: 2 | T60: x
A61: 22 | B61: 00 | C61: 133 | D61: 06 | E61: 静岡県 | G61: 西区 | H61: 篠原村 | I61: x | J61: x | K61: 1 | L61: x | M61: - | N61: - | O61: - | P61: - | Q61: - | R61: - | S61: 2 | T61: x
A62: 22 | B62: 00 | C62: 133 | D62: 07 | E62: 静岡県 | G62: 西区 | H62: 北庄内村 | I62: x | J62: x | K62: - | L62: - | M62: - | N62: - | O62: - | P62: - | Q62: - | R62: - | S62: - | T62: -
A63: 22 | B63: 00 | C63: 133 | D63: 08 | E63: 静岡県 | G63: 西区 | H63: 南庄内村 | I63: x | J63: x | K63: - | L63: - | M63: - | N63: - | O63: - | P63: - | Q63: - | R63: - | S63: - | T63: -
A64: 22 | B64: 00 | C64: 133 | D64: 09 | E64: 静岡県 | G64: 西区 | H64: 村櫛村 | I64: x | J64: x | K64: - | L64: - | M64: - | N64: - | O64: - | P64: - | Q64: - | R64: - | S64: 1 | T64: x
A65: 22 | B65: 00 | C65: 133 | D65: 10 | E65: 静岡県 | G65: 西区 | H65: 舞阪町 | I65: x | J65: x | K65: - | L65: - | M65: - | N65: - | O65: - | P65: - | Q65: - | R65: - | S65: - | T65: -
A66: 22 | B66: 00 | C66: 133 | D66: 11 | E66: 静岡県 | G66: 西区 | H66: 雄踏町 | I66: x | J66: x | K66: - | L66: - | M66: - | N66: - | O66: - | P66: - | Q66: - | R66: - | S66: 1 | T66: x
A67: 22 | B67: 00 | C67: 133 | D67: 12 | E67: 静岡県 | G67: 西区 | H67: 浜松市４－２ | I67: x | J67: x | K67: - | L67: - | M67: - | N67: - | O67: - | P67: - | Q67: - | R67: - | S67: - | T67: -
A68: 22 | B68: 00 | C68: 134 | D68: 00 | E68: 静岡県 | G68: 南区 | I68: x | J68: x | K68: - | L68: - | M68: - | N68: - | O68: - | P68: - | Q68: - | R68: - | S68: 12 | T68: 4
A69: 22 | B69: 00 | C69: 134 | D69: 01 | E69: 静岡県 | G69: 南区 | H69: 浜松市４－４ | I69: x | J69: x | K69: - | L69: - | M69: - | N69: - | O69: - | P69: - | Q69: - | R69: - | S69: 1 | T69: x
A70: 22 | B70: 00 | C70: 134 | D70: 02 | E70: 静岡県 | G70: 南区 | H70: 芳川村 | I70: x | J70: x | K70: - | L70: - | M70: - | N70: - | O70: - | P70: - | Q70: - | R70: - | S70: 2 | T70: x
A71: 22 | B71: 00 | C71: 134 | D71: 03 | E71: 静岡県 | G71: 南区 | H71: 飯田村２－２ | I71: x | J71: x | K71: - | L71: - | M71: - | N71: - | O71: - | P71: - | Q71: - | R71: - | S71: - | T71: -
A72: 22 | B72: 00 | C72: 134 | D72: 04 | E72: 静岡県 | G72: 南区 | H72: 河輪村 | I72: x | J72: x | K72: - | L72: - | M72: - | N72: - | O72: - | P72: - | Q72: - | R72: - | S72: 1 | T72: x
A73: 22 | B73: 00 | C73: 134 | D73: 05 | E73: 静岡県 | G73: 南区 | H73: 五島村 | I73: x | J73: x | K73: - | L73: - | M73: - | N73: - | O73: - | P73: - | Q73: - | R73: - | S73: 5 | T73: 2
A74: 22 | B74: 00 | C74: 134 | D74: 06 | E74: 静岡県 | G74: 南区 | H74: 新津村２－２ | I74: x | J74: x | K74: - | L74: - | M74: - | N74: - | O74: - | P74: - | Q74: - | R74: - | S74: 2 | T74: x
A75: 22 | B75: 00 | C75: 134 | D75: 07 | E75: 静岡県 | G75: 南区 | H75: 可美村 | I75: x | J75: x | K75: - | L75: - | M75: - | N75: - | O75: - | P75: - | Q75: - | R75: - | S75: 1 | T75: x
A76: 22 | B76: 00 | C76: 135 | D76: 00 | E76: 静岡県 | G76: 北区 | I76: x | J76: x | K76: - | L76: - | M76: 35 | N76: 31 | O76: - | P76: - | Q76: 1 | R76: x | S76: 25 | T76: 8
A77: 22 | B77: 00 | C77: 135 | D77: 01 | E77: 静岡県 | G77: 北区 | H77: 三方原村２－２ | I77: x | J77: x | K77: - | L77: - | M77: 3 | N77: x | O77: - | P77: - | Q77: - | R77: - | S77: 9 | T77: 4
A78: 22 | B78: 00 | C78: 135 | D78: 02 | E78: 静岡県 | G78: 北区 | H78: 都田村 | I78: x | J78: x | K78: - | L78: - | M78: 5 | N78: 16 | O78: - | P78: - | Q78: - | R78: - | S78: 3 | T78: 1
A79: 22 | B79: 00 | C79: 135 | D79: 03 | E79: 静岡県 | G79: 北区 | H79: 気賀町 | I79: x | J79: x | K79: - | L79: - | M79: - | N79: - | O79: - | P79: - | Q79: - | R79: - | S79: 2 | T79: x
A80: 22 | B80: 00 | C80: 135 | D80: 04 | E80: 静岡県 | G80: 北区 | H80: 中川村 | I80: x | J80: x | K80: - | L80: - | M80: 11 | N80: 10 | O80: - | P80: - | Q80: 1 | R80: x | S80: 1 | T80: x
A81: 22 | B81: 00 | C81: 135 | D81: 05 | E81: 静岡県 | G81: 北区 | H81: 金指町 | I81: x | J81: x | K81: - | L81: - | M81: - | N81: - | O81: - | P81: - | Q81: - | R81: - | S81: - | T81: -
A82: 22 | B82: 00 | C82: 135 | D82: 06 | E82: 静岡県 | G82: 北区 | H82: 井伊谷村 | I82: x | J82: x | K82: - | L82: - | M82: - | N82: - | O82: - | P82: - | Q82: - | R82: - | S82: 2 | T82: x
A83: 22 | B83: 00 | C83: 135 | D83: 07 | E83: 静岡県 | G83: 北区 | H83: 奥山村 | I83: x | J83: x | K83: - | L83: - | M83: 3 | N83: 1 | O83: - | P83: - | Q83: - | R83: - | S83: 2 | T83: x
A84: 22 | B84: 00 | C84: 135 | D84: 08 | E84: 静岡県 | G84: 北区 | H84: 伊平村 | I84: x | J84: x | K84: - | L84: - | M84: 1 | N84: x | O84: - | P84: - | Q84: - | R84: - | S84: 2 | T84: x
A85: 22 | B85: 00 | C85: 135 | D85: 09 | E85: 静岡県 | G85: 北区 | H85: 鎮玉村 | I85: x | J85: x | K85: - | L85: - | M85: 12 | N85: 5 | O85: - | P85: - | Q85: - | R85: - | S85: 2 | T85: x
A86: 22 | B86: 00 | C86: 135 | D86: 10 | E86: 静岡県 | G86: 北区 | H86: 三ヶ日町 | I86: x | J86: x | K86: - | L86: - | M86: - | N86: - | O86: - | P86: - | Q86: - | R86: - | S86: 1 | T86: x
A87: 22 | B87: 00 | C87: 135 | D87: 11 | E87: 静岡県 | G87: 北区 | H87: 東浜名村 | I87: x | J87: x | K87: - | L87: - | M87: - | N87: - | O87: - | P87: - | Q87: - | R87: - | S87: 1 | T87: x
A88: 22 | B88: 00 | C88: 136 | D88: 00 | E88: 静岡県 | G88: 浜北区 | I88: x | J88: x | K88: - | L88: - | M88: 14 | N88: 14 | O88: - | P88: - | Q88: - | R88: - | S88: 13 | T88: 2
A89: 22 | B89: 00 | C89: 136 | D89: 01 | E89: 静岡県 | G89: 浜北区 | H89: 小野口村 | I89: x | J89: x | K89: - | L89: - | M89: 7 | N89: 8 | O89: - | P89: - | Q89: - | R89: - | S89: 4 | T89: 0
A90: 22 | B90: 00 | C90: 136 | D90: 02 | E90: 静岡県 | G90: 浜北区 | H90: 北浜村 | I90: x | J90: x | K90: - | L90: - | M90: 1 | N90: x | O90: - | P90: - | Q90: - | R90: - | S90: 2 | T90: x
A91: 22 | B91: 00 | C91: 136 | D91: 03 | E91: 静岡県 | G91: 浜北区 | H91: 竜池村 | I91: x | J91: x | K91: - | L91: - | M91: - | N91: - | O91: - | P91: - | Q91: - | R91: - | S91: - | T91: -
A92: 22 | B92: 00 | C92: 136 | D92: 04 | E92: 静岡県 | G92: 浜北区 | H92: 中瀬村 | I92: x | J92: x | K92: - | L92: - | M92: 1 | N92: x | O92: - | P92: - | Q92: - | R92: - | S92: 5 | T92: 1
A93: 22 | B93: 00 | C93: 136 | D93: 05 | E93: 静岡県 | G93: 浜北区 | H93: 赤佐村 | I93: x | J93: x | K93: - | L93: - | M93: 1 | N93: x | O93: - | P93: - | Q93: - | R93: - | S93: - | T93: -
A94: 22 | B94: 00 | C94: 136 | D94: 06 | E94: 静岡県 | G94: 浜北区 | H94: 麁玉村 | I94: x | J94: x | K94: - | L94: - | M94: 4 | N94: 5 | O94: - | P94: - | Q94: - | R94: - | S94: 2 | T94: x
A95: 22 | B95: 00 | C95: 137 | D95: 00 | E95: 静岡県 | G95: 天竜区 | I95: x | J95: x | K95: - | L95: - | M95: 284 | N95: 194 | O95: - | P95: - | Q95: - | R95: - | S95: 15 | T95: 2
A96: 22 | B96: 00 | C96: 137 | D96: 01 | E96: 静岡県 | G96: 天竜区 | H96: 二俣町 | I96: x | J96: x | K96: x | L96: x | M96: x | N96: x | O96: x | P96: x | Q96: x | R96: x | S96: x | T96: x
A97: 22 | B97: 00 | C97: 137 | D97: 02 | E97: 静岡県 | G97: 天竜区 | H97: 光明村 | I97: x | J97: x | K97: - | L97: - | M97: 21 | N97: 10 | O97: - | P97: - | Q97: - | R97: - | S97: 1 | T97: x
A98: 22 | B98: 00 | C98: 137 | D98: 03 | E98: 静岡県 | G98: 天竜区 | H98: 上阿多古村 | I98: x | J98: x | K98: - | L98: - | M98: 29 | N98: 14 | O98: - | P98: - | Q98: - | R98: - | S98: 2 | T98: x
A99: 22 | B99: 00 | C99: 137 | D99: 04 | E99: 静岡県 | G99: 天竜区 | H99: 下阿多古村 | I99: x | J99: x | K99: - | L99: - | M99: 6 | N99: 7 | O99: - | P99: - | Q99: - | R99: - | S99: - | T99: -
A100: 22 | B100: 00 | C100: 137 | D100: 05 | E100: 静岡県 | G100: 天竜区 | H100: 熊村 | I100: x | J100: x | K100: - | L100: - | M100: 26 | N100: 15 | O100: - | P100: - | Q100: - | R100: - | S100: - | T100: -
A101: 22 | B101: 00 | C101: 137 | D101: 06 | E101: 静岡県 | G101: 天竜区 | H101: 竜川村 | I101: x | J101: x | K101: - | L101: - | M101: 16 | N101: 16 | O101: - | P101: - | Q101: - | R101: - | S101: - | T101: -
A102: 22 | B102: 00 | C102: 137 | D102: 07 | E102: 静岡県 | G102: 天竜区 | H102: 犬居町 | I102: x | J102: x | K102: - | L102: - | M102: 18 | N102: 12 | O102: - | P102: - | Q102: - | R102: - | S102: - | T102: -
A103: 22 | B103: 00 | C103: 137 | D103: 08 | E103: 静岡県 | G103: 天竜区 | H103: 気多村 | I103: x | J103: x | K103: - | L103: - | M103: 10 | N103: 4 | O103: - | P103: - | Q103: - | R103: - | S103: 1 | T103: x
...

Sheet 2020と2010年
A1: 県名 | B1: 市区町村名 | C1: 旧市町村名 （S.25) | D1: 2020年 | F1: 2010年 | H1: 差 | I1: 増減率
A2: ='2020'!E10 -> 静岡県 | B2: ='2020'!G10 -> 0 | D2: 5827 | F2: 14025 | H2: =IF(D2="x",,IF(F2="x",,F2-D2)) -> 8198 | I2: =H2/F2*100 -> 58.452763
A3: ='2020'!E11 -> 静岡県 | B3: ='2020'!G11 -> 静岡市 | D3: 851 | F3: 2222 | H3: =IF(D3="x",,IF(F3="x",,F3-D3)) -> 1371 | I3: =H3/F3*100 -> 61.70117
A4: ='2020'!E12 -> 静岡県 | B4: ='2020'!G12 -> 葵区 | C4: ='2020'!H12 -> 0 | D4: 606 | F4: 1381 | H4: =IF(D4="x",,IF(F4="x",,F4-D4)) -> 775 | I4: =H4/F4*100 -> 56.118755
A5: ='2020'!E13 -> 静岡県 | B5: ='2020'!G13 -> 葵区 | C5: ='2020'!H13 -> 静岡市２－１ | D5: 110 | F5: 274 | H5: =IF(D5="x",,IF(F5="x",,F5-D5)) -> 164 | I5: =H5/F5*100 -> 59.854015
A6: ='2020'!E14 -> 静岡県 | B6: ='2020'!G14 -> 葵区 | C6: ='2020'!H14 -> 美和村 | D6: 129 | F6: 261 | H6: =IF(D6="x",,IF(F6="x",,F6-D6)) -> 132 | I6: =H6/F6*100 -> 50.574713
A7: ='2020'!E15 -> 静岡県 | B7: ='2020'!G15 -> 葵区 | C7: ='2020'!H15 -> 服織村 | D7: 47 | F7: 99 | H7: =IF(D7="x",,IF(F7="x",,F7-D7)) -> 52 | I7: =H7/F7*100 -> 52.525253
A8: ='2020'!E16 -> 静岡県 | B8: ='2020'!G16 -> 葵区 | C8: ='2020'!H16 -> 中藁科村 | D8: 72 | F8: 163 | H8: =IF(D8="x",,IF(F8="x",,F8-D8)) -> 91 | I8: =H8/F8*100 -> 55.828221
A9: ='2020'!E17 -> 静岡県 | B9: ='2020'!G17 -> 葵区 | C9: ='2020'!H17 -> 南藁科村 | D9: 21 | F9: 83 | H9: =IF(D9="x",,IF(F9="x",,F9-D9)) -> 62 | I9: =H9/F9*100 -> 74.698795
A10: ='2020'!E18 -> 静岡県 | B10: ='2020'!G18 -> 葵区 | C10: ='2020'!H18 -> 大河内村 | D10: 48 | F10: 116 | H10: =IF(D10="x",,IF(F10="x",,F10-D10)) -> 68 | I10: =H10/F10*100 -> 58.62069
A11: ='2020'!E19 -> 静岡県 | B11: ='2020'!G19 -> 葵区 | C11: ='2020'!H19 -> 梅ヶ島村 | D11: 36 | F11: 54 | H11: =IF(D11="x",,IF(F11="x",,F11-D11)) -> 18 | I11: =H11/F11*100 -> 33.333333
A12: ='2020'!E20 -> 静岡県 | B12: ='2020'!G20 -> 葵区 | C12: ='2020'!H20 -> 玉川村 | D12: 51 | F12: 96 | H12: =IF(D12="x",,IF(F12="x",,F12-D12)) -> 45 | I12: =H12/F12*100 -> 46.875
A13: ='2020'!E21 -> 静岡県 | B13: ='2020'!G21 -> 葵区 | C13: ='2020'!H21 -> 井川村 | D13: 5 | F13: 20 | H13: =IF(D13="x",,IF(F13="x",,F13-D13)) -> 15 | I13: =H13/F13*100 -> 75
A14: ='2020'!E22 -> 静岡県 | B14: ='2020'!G22 -> 葵区 | C14: ='2020'!H22 -> 清沢村 | D14: 48 | F14: 121 | H14: =IF(D14="x",,IF(F14="x",,F14-D14)) -> 73 | I14: =H14/F14*100 -> 60.330579
A15: ='2020'!E23 -> 静岡県 | B15: ='2020'!G23 -> 葵区 | C15: ='2020'!H23 -> 大川村 | D15: 39 | F15: 94 | H15: =IF(D15="x",,IF(F15="x",,F15-D15)) -> 55 | I15: =H15/F15*100 -> 58.510638 | K15: 9
A16: ='2020'!E24 -> 静岡県 | B16: ='2020'!G24 -> 駿河区 | C16: ='2020'!H24 -> 0 | D16: 65 | F16: 226 | H16: =IF(D16="x",,IF(F16="x",,F16-D16)) -> 161 | I16: =H16/F16*100 -> 71.238938
A17: ='2020'!E25 -> 静岡県 | B17: ='2020'!G25 -> 駿河区 | C17: ='2020'!H25 -> 静岡市２－２ | D17: 60 | F17: 216 | H17: =IF(D17="x",,IF(F17="x",,F17-D17)) -> 156 | I17: =H17/F17*100 -> 72.222222
A18: ='2020'!E26 -> 静岡県 | B18: ='2020'!G26 -> 駿河区 | C18: ='2020'!H26 -> 有度村２－２ | D18: 5 | F18: 10 | H18: =IF(D18="x",,IF(F18="x",,F18-D18)) -> 5 | I18: =H18/F18*100 -> 50 | K18: 2
A19: ='2020'!E27 -> 静岡県 | B19: ='2020'!G27 -> 清水区 | C19: ='2020'!H27 -> 0 | D19: 180 | F19: 615 | H19: =IF(D19="x",,IF(F19="x",,F19-D19)) -> 435 | I19: =H19/F19*100 -> 70.731707
A20: ='2020'!E28 -> 静岡県 | B20: ='2020'!G28 -> 清水区 | C20: ='2020'!H28 -> 清水市 | D20: 6 | F20: 22 | H20: =IF(D20="x",,IF(F20="x",,F20-D20)) -> 16 | I20: =H20/F20*100 -> 72.727273
A21: ='2020'!E29 -> 静岡県 | B21: ='2020'!G29 -> 清水区 | C21: ='2020'!H29 -> 飯田村 | F21: 5 | H21: 5 | I21: =H21/F21*100 -> 100
A22: ='2020'!E30 -> 静岡県 | B22: ='2020'!G30 -> 清水区 | C22: ='2020'!H30 -> 高部村 | D22: 4 | F22: 18 | H22: =IF(D22="x",,IF(F22="x",,F22-D22)) -> 14 | I22: =H22/F22*100 -> 77.777778
A23: ='2020'!E31 -> 静岡県 | B23: ='2020'!G31 -> 清水区 | C23: ='2020'!H31 -> 有度村２－１ | D23: 14 | F23: 44 | H23: =IF(D23="x",,IF(F23="x",,F23-D23)) -> 30 | I23: =H23/F23*100 -> 68.181818
A24: ='2020'!E32 -> 静岡県 | B24: ='2020'!G32 -> 清水区 | C24: ='2020'!H32 -> 興津町 | D24: 3 | F24: 15 | H24: =IF(D24="x",,IF(F24="x",,F24-D24)) -> 12 | I24: =H24/F24*100 -> 80
A25: ='2020'!E33 -> 静岡県 | B25: ='2020'!G33 -> 清水区 | C25: ='2020'!H33 -> 小島村 | D25: 35 | F25: 135 | H25: =IF(D25="x",,IF(F25="x",,F25-D25)) -> 100 | I25: =H25/F25*100 -> 74.074074
A26: ='2020'!E34 -> 静岡県 | B26: ='2020'!G34 -> 清水区 | C26: ='2020'!H34 -> 両河内村 | D26: 63 | F26: 186 | H26: =IF(D26="x",,IF(F26="x",,F26-D26)) -> 123 | I26: =H26/F26*100 -> 66.129032
A27: ='2020'!E35 -> 静岡県 | B27: ='2020'!G35 -> 清水区 | C27: ='2020'!H35 -> 庵原村 | D27: 52 | F27: 176 | H27: =IF(D27="x",,IF(F27="x",,F27-D27)) -> 124 | I27: =H27/F27*100 -> 70.454545
A28: ='2020'!E36 -> 静岡県 | B28: ='2020'!G36 -> 清水区 | C28: ='2020'!H36 -> 袖師町 | D28: 1 | F28: 9 | H28: =IF(D28="x",,IF(F28="x",,F28-D28)) -> 8 | I28: =H28/F28*100 -> 88.888889
A29: ='2020'!E37 -> 静岡県 | B29: ='2020'!G37 -> 清水区 | C29: ='2020'!H37 -> 蒲原町
A30: ='2020'!E38 -> 静岡県 | B30: ='2020'!G38 -> 清水区 | C30: ='2020'!H38 -> 由比町 | D30: 2 | F30: 5 | H30: =IF(D30="x",,IF(F30="x",,F30-D30)) -> 3 | I30: =H30/F30*100 -> 60 | K30: 10
A31: ='2020'!E39 -> 静岡県 | B31: ='2020'!G39 -> 浜松市 | C31: ='2020'!H39 -> 0 | D31: 346 | F31: 812 | H31: =IF(D31="x",,IF(F31="x",,F31-D31)) -> 466 | I31: =H31/F31*100 -> 57.389163
A32: ='2020'!E40 -> 静岡県 | B32: ='2020'!G40 -> 中区 | C32: ='2020'!H40 -> 0 | D32: 5 | F32: 29 | H32: =IF(D32="x",,IF(F32="x",,F32-D32)) -> 24 | I32: =H32/F32*100 -> 82.758621
A33: ='2020'!E41 -> 静岡県 | B33: ='2020'!G41 -> 中区 | C33: ='2020'!H41 -> 浜松市４－１ | D33: 5 | F33: 14 | H33: =IF(D33="x",,IF(F33="x",,F33-D33)) -> 9 | I33: =H33/F33*100 -> 64.285714
A34: ='2020'!E42 -> 静岡県 | B34: ='2020'!G42 -> 中区 | C34: ='2020'!H42 -> 入野村２－１ | F34: 4 | H34: 4 | I34: =H34/F34*100 -> 100
A35: ='2020'!E43 -> 静岡県 | B35: ='2020'!G43 -> 中区 | C35: ='2020'!H43 -> 吉野村２－１ | F35: 11 | H35: 11 | I35: =H35/F35*100 -> 100
A36: ='2020'!E44 -> 静岡県 | B36: ='2020'!G44 -> 中区 | C36: ='2020'!H44 -> 新津村２－１
A37: ='2020'!E45 -> 静岡県 | B37: ='2020'!G45 -> 東区 | C37: ='2020'!H45 -> 0 | D37: 1 | F37: 1 | H37: =IF(D37="x",,IF(F37="x",,F37-D37)) -> 0 | I37: =H37/F37*100 -> 0
A38: ='2020'!E46 -> 静岡県 | B38: ='2020'!G46 -> 東区 | C38: ='2020'!H46 -> 浜松市４－３
A39: ='2020'!E47 -> 静岡県 | B39: ='2020'!G47 -> 東区 | C39: ='2020'!H47 -> 飯田村２－１
A40: ='2020'!E48 -> 静岡県 | B40: ='2020'!G48 -> 東区 | C40: ='2020'!H48 -> 和田村
A41: ='2020'!E49 -> 静岡県 | B41: ='2020'!G49 -> 東区 | C41: ='2020'!H49 -> 長上村
A42: ='2020'!E50 -> 静岡県 | B42: ='2020'!G50 -> 東区 | C42: ='2020'!H50 -> 積志村
A43: ='2020'!E51 -> 静岡県 | B43: ='2020'!G51 -> 東区 | C43: ='2020'!H51 -> 笠井町 | D43: 1 | F43: 1 | H43: =IF(D43="x",,IF(F43="x",,F43-D43)) -> 0 | I43: =H43/F43*100 -> 0
A44: ='2020'!E52 -> 静岡県 | B44: ='2020'!G52 -> 東区 | C44: ='2020'!H52 -> 豊西村
A45: ='2020'!E53 -> 静岡県 | B45: ='2020'!G53 -> 東区 | C45: ='2020'!H53 -> 中ノ町村
A46: ='2020'!E54 -> 静岡県 | B46: ='2020'!G54 -> 東区 | C46: ='2020'!H54 -> 三方原村２－１
A47: ='2020'!E55 -> 静岡県 | B47: ='2020'!G55 -> 西区 | C47: ='2020'!H55 -> 0 | D47: 7 | F47: 45 | H47: =IF(D47="x",,IF(F47="x",,F47-D47)) -> 38 | I47: =H47/F47*100 -> 84.444444
A48: ='2020'!E56 -> 静岡県 | B48: ='2020'!G56 -> 西区 | C48: ='2020'!H56 -> 神久呂村 | D48: 3 | F48: 21 | H48: =IF(D48="x",,IF(F48="x",,F48-D48)) -> 18 | I48: =H48/F48*100 -> 85.714286
A49: ='2020'!E57 -> 静岡県 | B49: ='2020'!G57 -> 西区 | C49: ='2020'!H57 -> 入野村２－２ | F49: 2 | H49: 2 | I49: =H49/F49*100 -> 100
A50: ='2020'!E58 -> 静岡県 | B50: ='2020'!G58 -> 西区 | C50: ='2020'!H58 -> 吉野村２－２ | D50: 1 | H50: -1
A51: ='2020'!E59 -> 静岡県 | B51: ='2020'!G59 -> 西区 | C51: ='2020'!H59 -> 和地村 | D51: 3 | F51: 13 | H51: =IF(D51="x",,IF(F51="x",,F51-D51)) -> 10 | I51: =H51/F51*100 -> 76.923077
A52: ='2020'!E60 -> 静岡県 | B52: ='2020'!G60 -> 西区 | C52: ='2020'!H60 -> 伊佐見村 | F52: 7 | H52: 7 | I52: =H52/F52*100 -> 100
A53: ='2020'!E61 -> 静岡県 | B53: ='2020'!G61 -> 西区 | C53: ='2020'!H61 -> 篠原村
A54: ='2020'!E62 -> 静岡県 | B54: ='2020'!G62 -> 西区 | C54: ='2020'!H62 -> 北庄内村 | F54: 2 | H54: 2 | I54: =H54/F54*100 -> 100
A55: ='2020'!E63 -> 静岡県 | B55: ='2020'!G63 -> 西区 | C55: ='2020'!H63 -> 南庄内村
A56: ='2020'!E64 -> 静岡県 | B56: ='2020'!G64 -> 西区 | C56: ='2020'!H64 -> 村櫛村
A57: ='2020'!E65 -> 静岡県 | B57: ='2020'!G65 -> 西区 | C57: ='2020'!H65 -> 舞阪町
A58: ='2020'!E66 -> 静岡県 | B58: ='2020'!G66 -> 西区 | C58: ='2020'!H66 -> 雄踏町
A59: ='2020'!E67 -> 静岡県 | B59: ='2020'!G67 -> 西区 | C59: ='2020'!H67 -> 浜松市４－２
A60: ='2020'!E68 -> 静岡県 | B60: ='2020'!G68 -> 南区 | C60: ='2020'!H68 -> 0 | F60: 1 | H60: 1 | I60: =H60/F60*100 -> 100
A61: ='2020'!E69 -> 静岡県 | B61: ='2020'!G69 -> 南区 | C61: ='2020'!H69 -> 浜松市４－４ | F61: 1 | H61: 1 | I61: =H61/F61*100 -> 100
A62: ='2020'!E70 -> 静岡県 | B62: ='2020'!G70 -> 南区 | C62: ='2020'!H70 -> 芳川村
A63: ='2020'!E71 -> 静岡県 | B63: ='2020'!G71 -> 南区 | C63: ='2020'!H71 -> 飯田村２－２
A64: ='2020'!E72 -> 静岡県 | B64: ='2020'!G72 -> 南区 | C64: ='2020'!H72 -> 河輪村
A65: ='2020'!E73 -> 静岡県 | B65: ='2020'!G73 -> 南区 | C65: ='2020'!H73 -> 五島村
A66: ='2020'!E74 -> 静岡県 | B66: ='2020'!G74 -> 南区 | C66: ='2020'!H74 -> 新津村２－２
A67: ='2020'!E75 -> 静岡県 | B67: ='2020'!G75 -> 南区 | C67: ='2020'!H75 -> 可美村
A68: ='2020'!E76 -> 静岡県 | B68: ='2020'!G76 -> 北区 | C68: ='2020'!H76 -> 0 | D68: 35 | F68: 176 | H68: =IF(D68="x",,IF(F68="x",,F68-D68)) -> 141 | I68: =H68/F68*100 -> 80.113636
A69: ='2020'!E77 -> 静岡県 | B69: ='2020'!G77 -> 北区 | C69: ='2020'!H77 -> 三方原村２－２ | D69: 3 | F69: 33 | H69: =IF(D69="x",,IF(F69="x",,F69-D69)) -> 30 | I69: =H69/F69*100 -> 90.909091
A70: ='2020'!E78 -> 静岡県 | B70: ='2020'!G78 -> 北区 | C70: ='2020'!H78 -> 都田村 | D70: 5 | F70: 33 | H70: =IF(D70="x",,IF(F70="x",,F70-D70)) -> 28 | I70: =H70/F70*100 -> 84.848485
A71: ='2020'!E79 -> 静岡県 | B71: ='2020'!G79 -> 北区 | C71: ='2020'!H79 -> 気賀町 | F71: 13 | H71: 13 | I71: =H71/F71*100 -> 100
A72: ='2020'!E80 -> 静岡県 | B72: ='2020'!G80 -> 北区 | C72: ='2020'!H80 -> 中川村 | D72: 11 | F72: 33 | H72: =IF(D72="x",,IF(F72="x",,F72-D72)) -> 22 | I72: =H72/F72*100 -> 66.666667
A73: ='2020'!E81 -> 静岡県 | B73: ='2020'!G81 -> 北区 | C73: ='2020'!H81 -> 金指町
A74: ='2020'!E82 -> 静岡県 | B74: ='2020'!G82 -> 北区 | C74: ='2020'!H82 -> 井伊谷村 | F74: 1 | H74: 1 | I74: =H74/F74*100 -> 100
A75: ='2020'!E83 -> 静岡県 | B75: ='2020'!G83 -> 北区 | C75: ='2020'!H83 -> 奥山村 | D75: 3 | F75: 8 | H75: =IF(D75="x",,IF(F75="x",,F75-D75)) -> 5 | I75: =H75/F75*100 -> 62.5
A76: ='2020'!E84 -> 静岡県 | B76: ='2020'!G84 -> 北区 | C76: ='2020'!H84 -> 伊平村 | D76: 1 | F76: 6 | H76: =IF(D76="x",,IF(F76="x",,F76-D76)) -> 5 | I76: =H76/F76*100 -> 83.333333
A77: ='2020'!E85 -> 静岡県 | B77: ='2020'!G85 -> 北区 | C77: ='2020'!H85 -> 鎮玉村 | D77: 12 | F77: 49 | H77: =IF(D77="x",,IF(F77="x",,F77-D77)) -> 37 | I77: =H77/F77*100 -> 75.510204
A78: ='2020'!E86 -> 静岡県 | B78: ='2020'!G86 -> 北区 | C78: ='2020'!H86 -> 三ヶ日町
A79: ='2020'!E87 -> 静岡県 | B79: ='2020'!G87 -> 北区 | C79: ='2020'!H87 -> 東浜名村
A80: ='2020'!E88 -> 静岡県 | B80: ='2020'!G88 -> 浜北区 | C80: ='2020'!H88 -> 0 | D80: 14 | F80: 36 | H80: =IF(D80="x",,IF(F80="x",,F80-D80)) -> 22 | I80: =H80/F80*100 -> 61.111111
A81: ='2020'!E89 -> 静岡県 | B81: ='2020'!G89 -> 浜北区 | C81: ='2020'!H89 -> 小野口村 | D81: 7 | F81: 14 | H81: =IF(D81="x",,IF(F81="x",,F81-D81)) -> 7 | I81: =H81/F81*100 -> 50
A82: ='2020'!E90 -> 静岡県 | B82: ='2020'!G90 -> 浜北区 | C82: ='2020'!H90 -> 北浜村 | D82: 1 | F82: 1 | H82: =IF(D82="x",,IF(F82="x",,F82-D82)) -> 0 | I82: =H82/F82*100 -> 0
A83: ='2020'!E91 -> 静岡県 | B83: ='2020'!G91 -> 浜北区 | C83: ='2020'!H91 -> 竜池村
A84: ='2020'!E92 -> 静岡県 | B84: ='2020'!G92 -> 浜北区 | C84: ='2020'!H92 -> 中瀬村 | D84: 1 | F84: 2 | H84: =IF(D84="x",,IF(F84="x",,F84-D84)) -> 1 | I84: =H84/F84*100 -> 50
A85: ='2020'!E93 -> 静岡県 | B85: ='2020'!G93 -> 浜北区 | C85: ='2020'!H93 -> 赤佐村 | D85: 1 | H85: -1
A86: ='2020'!E94 -> 静岡県 | B86: ='2020'!G94 -> 浜北区 | C86: ='2020'!H94 -> 麁玉村 | D86: 4 | F86: 19 | H86: =IF(D86="x",,IF(F86="x",,F86-D86)) -> 15 | I86: =H86/F86*100 -> 78.947368
A87: ='2020'!E95 -> 静岡県 | B87: ='2020'!G95 -> 天竜区 | C87: ='2020'!H95 -> 0 | D87: 284 | F87: 524 | H87: =IF(D87="x",,IF(F87="x",,F87-D87)) -> 240 | I87: =H87/F87*100 -> 45.801527
A88: ='2020'!E96 -> 静岡県 | B88: ='2020'!G96 -> 天竜区 | C88: ='2020'!H96 -> 二俣町 | D88: x | F88: X
A89: ='2020'!E97 -> 静岡県 | B89: ='2020'!G97 -> 天竜区 | C89: ='2020'!H97 -> 光明村 | D89: 21 | F89: 37 | H89: =IF(D89="x",,IF(F89="x",,F89-D89)) -> 16 | I89: =H89/F89*100 -> 43.243243
A90: ='2020'!E98 -> 静岡県 | B90: ='2020'!G98 -> 天竜区 | C90: ='2020'!H98 -> 上阿多古村 | D90: 29 | F90: 50 | H90: =IF(D90="x",,IF(F90="x",,F90-D90)) -> 21 | I90: =H90/F90*100 -> 42
A91: ='2020'!E99 -> 静岡県 | B91: ='2020'!G99 -> 天竜区 | C91: ='2020'!H99 -> 下阿多古村 | D91: 6 | F91: 12 | H91: =IF(D91="x",,IF(F91="x",,F91-D91)) -> 6 | I91: =H91/F91*100 -> 50
A92: ='2020'!E100 -> 静岡県 | B92: ='2020'!G100 -> 天竜区 | C92: ='2020'!H100 -> 熊村 | D92: 26 | F92: 39 | H92: =IF(D92="x",,IF(F92="x",,F92-D92)) -> 13 | I92: =H92/F92*100 -> 33.333333
A93: ='2020'!E101 -> 静岡県 | B93: ='2020'!G101 -> 天竜区 | C93: ='2020'!H101 -> 竜川村 | D93: 16 | F93: 27 | H93: =IF(D93="x",,IF(F93="x",,F93-D93)) -> 11 | I93: =H93/F93*100 -> 40.740741
A94: ='2020'!E102 -> 静岡県 | B94: ='2020'!G102 -> 天竜区 | C94: ='2020'!H102 -> 犬居町 | D94: 18 | F94: 41 | H94: =IF(D94="x",,IF(F94="x",,F94-D94)) -> 23 | I94: =H94/F94*100 -> 56.097561
A95: ='2020'!E103 -> 静岡県 | B95: ='2020'!G103 -> 天竜区 | C95: ='2020'!H103 -> 気多村 | D95: 10 | F95: 25 | H95: =IF(D95="x",,IF(F95="x",,F95-D95)) -> 15 | I95: =H95/F95*100 -> 60
A96: ='2020'!E104 -> 静岡県 | B96: ='2020'!G104 -> 天竜区 | C96: ='2020'!H104 -> 熊切村 | D96: 100 | F96: 183 | H96: =IF(D96="x",,IF(F96="x",,F96-D96)) -> 83 | I96: =H96/F96*100 -> 45.355191
A97: ='2020'!E105 -> 静岡県 | B97: ='2020'!G105 -> 天竜区 | C97: ='2020'!H105 -> 龍山村 | D97: 19 | F97: 40 | H97: =IF(D97="x",,IF(F97="x",,F97-D97)) -> 21 | I97: =H97/F97*100 -> 52.5
A98: ='2020'!E106 -> 静岡県 | B98: ='2020'!G106 -> 天竜区 | C98: ='2020'!H106 -> 浦川町 | D98: x | F98: 7 | H98: 7 | I98: =H98/F98*100 -> 100
A99: ='2020'!E107 -> 静岡県 | B99: ='2020'!G107 -> 天竜区 | C99: ='2020'!H107 -> 佐久間村 | D99: 2 | F99: X
A100: ='2020'!E108 -> 静岡県 | B100: ='2020'!G108 -> 天竜区 | C100: ='2020'!H108 -> 山香村 | D100: 12 | F100: 21 | H100: =IF(D100="x",,IF(F100="x",,F100-D100)) -> 9 | I100: =H100/F100*100 -> 42.857143
...
