Workbook

Sheet 全国
A1: 果樹生産出荷統計
A2: 品目別結果樹面積、収穫量及び出荷量累年統計
A3: くり
A4: 全国
A5: 年次 | B5: くり
B6: 結果樹面積 | C6: 収穫量 | D6: 出荷量
B7: ha | C7: t | D7: t
A8: 昭.48(1973) | B8: 35900 | C8: 63100 | D8: 53600
A9: 昭.49(1974) | B9: 37400 | C9: 58000 | D9: 48500
A10: 昭.50(1975) | B10: 37900 | C10: 59800 | D10: 50000
A11: 昭.51(1976) | B11: 38000 | C11: 56200 | D11: 46900
A12: 昭.52(1977) | B12: 38000 | C12: 59100 | D12: 49500
A13: 昭.53(1978) | B13: 38300 | C13: 60600 | D13: 50900
A14: 昭.54(1979) | B14: 38700 | C14: 65300 | D14: 55100
A15: 昭.55(1980) | B15: 39100 | C15: 47000 | D15: 38100
A16: 昭.56(1981) | B16: 38900 | C16: 59100 | D16: 49100
A17: 昭.57(1982) | B17: 39200 | C17: 51500 | D17: 42100
A18: 昭.58(1983) | B18: 39200 | C18: 53500 | D18: 43200
A19: 昭.59(1984) | B19: 39100 | C19: 54300 | D19: 43900
... A59: 令.6(2024) | B59: 15200 | C59: 14000 | D59: 11400

Sheet 静岡
A1: 果樹生産出荷統計
A2: 品目別結果樹面積、収穫量及び出荷量累年統計
A3: くり
A4: 静岡
A5: 年次 | B5: くり
B6: 結果樹面積 | C6: 収穫量 | D6: 出荷量
B7: ha | C7: t | D7: t
A8: 昭.48(1973) | B8: 196 | C8: 598 | D8: 476
A9: 昭.49(1974) | B9: 208 | C9: 601 | D9: 483
A10: 昭.50(1975) | B10: 218 | C10: 661 | D10: 536
A11: 昭.51(1976) | B11: 227 | C11: 680 | D11: 550
A12: 昭.52(1977) | B12: 244 | C12: 749 | D12: 591
A13: 昭.53(1978) | B13: 256 | C13: 790 | D13: 628
A14: 昭.54(1979) | B14: 271 | C14: 833 | D14: 661
A15: 昭.55(1980) | B15: 288 | C15: 752 | D15: 553
A16: 昭.56(1981) | B16: 294 | C16: 805 | D16: 557
A17: 昭.57(1982) | B17: 289 | C17: 535 | D17: 304
A18: 昭.58(1983) | B18: 303 | C18: 781 | D18: 485
A19: 昭.59(1984) | B19: 318 | C19: 755 | D19: 469
... A45: 平.22(2010) | B45: 328 | C45: 394 | D45: 220
A46: 平.23(2011) | B46: … | C46: … | D46: …
A47: 平.24(2012) | B47: … | C47: … | D47: …
A48: 平.25(2013) | B48: … | C48: … | D48: …
A49: 平.26(2014) | B49: 295 | C49: 389 | D49: 233
A50: 平.27(2015) | B50: … | C50: … | D50: …
A51: 平.28(2016) | B51: … | C51: … | D51: …
A52: 平.29(2017) | B52: 261 | C52: 345 | D52: 207
A53: 平.30(2018) | B53: 242 | C53: 257 | D53: 154
A54: 令.元(2019) | B54: 227 | C54: 225 | D54: 135
A55: 令.2(2020) | B55: 208 | C55: 220 | D55: 149
A56: 令.3(2021) | B56: 194 | C56: 211 | D56: 143
A57: 令.4(2022) | B57: 186 | C57: 182 | D57: 128
A58: 令.5(2023) | B58: 181 | C58: 195 | D58: 137
A59: 令.6(2024) | B59: 167 | C59: 142 | D59: 100

Sheet R5統計表（くり)
A3: ３ 令和５年産都道府県別の結果樹面積・10ａ当たり収量・収穫量・出荷量
A5: (12) くり
B8: 全国 ・ 都道府県 | E8: 結果樹 面積 | F8: 10ａ当たり 収量 | G8: 収穫量 | H8: 出荷量 | I8: 対前年産比
I9: 結果樹 面積 | J9: 10ａ当たり 収量 | K9: 収穫量 | L9: 出荷量
E11: ha | F11: kg | G11: ｔ | H11: ｔ | I11: ％ | J11: ％ | K11: ％ | L11: ％
B12: 全国 | E12: 15800 | F12: 95 | G12: 15000 | H12: 12200 | I12: 97 | J12: 99 | K12: 96 | L12: 96
B14: うち | C14: 茨城 | E14: 3070 | F14: 126 | G14: 3870 | H14: 3550 | I14: 98 | J14: 108 | K14: 105 | L14: 105
C15: 栃木 | E15: 458 | F15: 118 | G15: 540 | H15: 482 | I15: 100 | J15: 108 | K15: 108 | L15: 110
C16: 埼玉 | E16: 446 | F16: 112 | G16: 500 | H16: 387 | I16: 90 | J16: 105 | K16: 95 | L16: 86
C17: 千葉 | E17: 290 | F17: 99 | G17: 287 | H17: 224 | I17: 86 | J17: 98 | K17: 84 | L17: 84
C18: 東京 | E18: 303 | F18: 76 | G18: 230 | H18: 184 | I18: 87 | J18: 84 | K18: 73 | L18: 75
C19: 神奈川 | E19: 385 | F19: 94 | G19: 362 | H19: 293 | I19: 97 | J19: 101 | K19: 98 | L19: 98
C20: 石川 | E20: 113 | F20: 108 | G20: 122 | H20: 113 | I20: 100 | J20: 111 | K20: 111 | L20: 106
C21: 長野 | E21: 228 | F21: 171 | G21: 390 | H21: 374 | I21: 98 | J21: 63 | K21: 62 | L21: 61
C22: 岐阜 | E22: 425 | F22: 182 | G22: 774 | H22: 674 | I22: 100 | J22: 103 | K22: 103 | L22: 107
C23: 静岡 | E23: 181 | F23: 108 | G23: 195 | H23: 137 | I23: 97 | J23: 110 | K23: 107 | L23: 107
C24: 京都 | E24: 263 | F24: 67 | G24: 176 | H24: 153 | I24: 89 | J24: 94 | K24: 83 | L24: 104
C25: 大阪 | E25: 132 | F25: 58 | G25: 77 | H25: 60 | I25: 99 | J25: 126 | K25: 126 | L25: 125
C26: 兵庫 | E26: 457 | F26: 91 | G26: 416 | H26: 362 | I26: 96 | J26: 108 | K26: 104 | L26: 114
... C35: 宮崎 | E35: 581 | F35: 56 | G35: 325 | H35: 283 | I35: 94 | J35: 80 | K35: 75 | L35: 75

Sheet R6統計表（くり)
A3: ３ 令和６年産都道府県別の結果樹面積・10ａ当たり収量・収穫量・出荷量
A5: (12) くり
B8: 全国 ・ 都道府県 | E8: 結果樹 面積 | F8: 10ａ当たり 収量 | G8: 収穫量 | H8: 出荷量 | I8: 対前年産比
I9: 結果樹 面積 | J9: 10ａ当たり 収量 | K9: 収穫量 | L9: 出荷量
E11: ha | F11: kg | G11: ｔ | H11: ｔ | I11: ％ | J11: ％ | K11: ％ | L11: ％
B12: 全国 | E12: 15200 | F12: 92 | G12: 14000 | H12: 11400 | I12: 96 | J12: 97 | K12: 93 | L12: 93
B14: うち | C14: 茨城 | E14: 3050 | F14: 124 | G14: 3780 | H14: 3470 | I14: 99 | J14: 98 | K14: 98 | L14: 98
C15: 栃木 | E15: 417 | F15: 114 | G15: 475 | H15: 424 | I15: 91 | J15: 97 | K15: 88 | L15: 88
C16: 埼玉 | E16: 396 | F16: 115 | G16: 455 | H16: 354 | I16: 89 | J16: 103 | K16: 91 | L16: 91
C17: 千葉 | E17: 277 | F17: 97 | G17: 269 | H17: 210 | I17: 96 | J17: 98 | K17: 94 | L17: 94
C18: 東京 | E18: 248 | F18: 79 | G18: 196 | H18: 157 | I18: 82 | J18: 104 | K18: 85 | L18: 85
C19: 神奈川 | E19: 361 | F19: 93 | G19: 336 | H19: 272 | I19: 94 | J19: 99 | K19: 93 | L19: 93
C20: 石川 | E20: 103 | F20: 77 | G20: 79 | H20: 75 | I20: 91 | J20: 71 | K20: 65 | L20: 66
C21: 長野 | E21: 218 | F21: 202 | G21: 440 | H21: 422 | I21: 96 | J21: 118 | K21: 113 | L21: 113
C22: 岐阜 | E22: 427 | F22: 154 | G22: 658 | H22: 574 | I22: 100 | J22: 85 | K22: 85 | L22: 85
C23: 静岡 | E23: 167 | F23: 85 | G23: 142 | H23: 100 | I23: 92 | J23: 79 | K23: 73 | L23: 73
C24: 京都 | E24: 228 | F24: 92 | G24: 210 | H24: 190 | I24: 87 | J24: 137 | K24: 119 | L24: 124
C25: 大阪 | E25: 130 | F25: 53 | G25: 69 | H25: 57 | I25: 98 | J25: 91 | K25: 90 | L25: 95
C26: 兵庫 | E26: 430 | F26: 81 | G26: 348 | H26: 301 | I26: 94 | J26: 89 | K26: 84 | L26: 83
... C35: 宮崎 | E35: 556 | F35: 60 | G35: 334 | H35: 290 | I35: 96 | J35: 107 | K35: 103 | L35: 102

Sheet くり（全国・静岡）
A1: 果樹生産出荷統計 | G1: 果樹生産出荷統計
A2: 品目別結果樹面積、収穫量及び出荷量累年統計 | G2: 品目別結果樹面積、収穫量及び出荷量累年統計
A3: くり | G3: くり
A4: 全国 | G4: 静岡
A5: 年次 | B5: くり | G5: 年次 | H5: くり
B6: 結果樹面積 | C6: 収穫量 | D6: 出荷量 | H6: 結果樹面積 | I6: 収穫量 | J6: 出荷量
B7: ha | C7: t | D7: t | H7: ha | I7: t | J7: t
A8: 平.29(2017) | B8: =全国!B52 -> 18800 | C8: =全国!C52 -> 18700 | D8: =全国!D52 -> 14500 | G8: 平.29(2017) | H8: =静岡!B52 -> 261 | I8: =静岡!C52 -> 345 | J8: =静岡!D52 -> 207
A9: 平.30(2018) | B9: =全国!B53 -> 18300 | C9: =全国!C53 -> 16500 | D9: =全国!D53 -> 13000 | G9: 平.30(2018) | H9: =静岡!B53 -> 242 | I9: =静岡!C53 -> 257 | J9: =静岡!D53 -> 154
A10: 令.元(2019) | B10: =全国!B54 -> 17800 | C10: =全国!C54 -> 15700 | D10: =全国!D54 -> 12500 | G10: 令.元(2019) | H10: =静岡!B54 -> 227 | I10: =静岡!C54 -> 225 | J10: =静岡!D54 -> 135
A11: 令.2(2020) | B11: =全国!B55 -> 17400 | C11: =全国!C55 -> 16900 | D11: =全国!D55 -> 13600 | G11: 令.2(2020) | H11: =静岡!B55 -> 208 | I11: =静岡!C55 -> 220 | J11: =静岡!D55 -> 149
A12: 令.3(2021) | B12: =全国!B56 -> 16800 | C12: =全国!C56 -> 15700 | D12: =全国!D56 -> 12800 | G12: 令.3(2021) | H12: =静岡!B56 -> 194 | I12: =静岡!C56 -> 211 | J12: =静岡!D56 -> 143
A13: 令.4(2022) | B13: =全国!B57 -> 16300 | C13: =全国!C57 -> 15600 | D13: =全国!D57 -> 12700 | G13: 令.4(2022) | H13: =静岡!B57 -> 186 | I13: =静岡!C57 -> 182 | J13: =静岡!D57 -> 128
A14: 令.5(2023) | B14: =全国!B58 -> 15800 | C14: =全国!C58 -> 15000 | D14: =全国!D58 -> 12200 | G14: 令.5(2023) | H14: =静岡!B58 -> 181 | I14: =静岡!C58 -> 195 | J14: =静岡!D58 -> 137
A15: 令.6(2024) | B15: =全国!B59 -> 15200 | C15: =全国!C59 -> 14000 | D15: =全国!D59 -> 11400 | G15: 令.6(2024) | H15: =静岡!B59 -> 167 | I15: =静岡!C59 -> 142 | J15: =静岡!D59 -> 100
