Workbook

Sheet 全国
A1: 果樹生産出荷統計
A2: 品目別結果樹面積、収穫量及び出荷量累年統計
A3: キウイフルーツ
A4: 全国
A5: 年次 | B5: キウイフルーツ
B6: 結果樹面積 | C6: 収穫量 | D6: 出荷量
B7: ha | C7: t | D7: t
A8: 昭.48(1973) | B8: … | C8: … | D8: …
A9: 昭.49(1974) | B9: … | C9: … | D9: …
A10: 昭.50(1975) | B10: … | C10: … | D10: …
A11: 昭.51(1976) | B11: … | C11: … | D11: …
A12: 昭.52(1977) | B12: … | C12: … | D12: …
A13: 昭.53(1978) | B13: … | C13: … | D13: …
A14: 昭.54(1979) | B14: … | C14: … | D14: …
A15: 昭.55(1980) | B15: … | C15: … | D15: …
A16: 昭.56(1981) | B16: … | C16: … | D16: …
A17: 昭.57(1982) | B17: … | C17: … | D17: …
A18: 昭.58(1983) | B18: … | C18: … | D18: …
A19: 昭.59(1984) | B19: … | C19: … | D19: …
A20: 昭.60(1985) | B20: … | C20: … | D20: …
A21: 昭.61(1986) | B21: 2260 | C21: 28300 | D21: 25600
A22: 昭.62(1987) | B22: 2820 | C22: 34600 | D22: 31000
A23: 昭.63(1988) | B23: 3310 | C23: 47200 | D23: 42400
A24: 平.元(1989) | B24: 3800 | C24: 43700 | D24: 38100
A25: 平.2(1990) | B25: 4370 | C25: 69100 | D25: 61000
A26: 平.3(1991) | B26: 4540 | C26: 45700 | D26: 38400
A27: 平.4(1992) | B27: 4490 | C27: 53800 | D27: 45500
A28: 平.5(1993) | B28: 4400 | C28: 52100 | D28: 43900
A29: 平.6(1994) | B29: 4240 | C29: 52900 | D29: 44700
A30: 平.7(1995) | B30: 4000 | C30: 48500 | D30: 40400
A31: 平.8(1996) | B31: 3740 | C31: 44200 | D31: 36700
A32: 平.9(1997) | B32: 3510 | C32: 39400 | D32: 32000
... A59: 令.6(2024) | B59: 1820 | C59: 20600 | D59: 18300

Sheet 静岡
A1: 果樹生産出荷統計
A2: 品目別結果樹面積、収穫量及び出荷量累年統計
A3: キウイフルーツ
A4: 静岡
A5: 年次 | B5: キウイフルーツ
B6: 結果樹面積 | C6: 収穫量 | D6: 出荷量
B7: ha | C7: t | D7: t
A8: 昭.48(1973) | B8: … | C8: … | D8: …
A9: 昭.49(1974) | B9: … | C9: … | D9: …
A10: 昭.50(1975) | B10: … | C10: … | D10: …
A11: 昭.51(1976) | B11: … | C11: … | D11: …
A12: 昭.52(1977) | B12: … | C12: … | D12: …
A13: 昭.53(1978) | B13: … | C13: … | D13: …
A14: 昭.54(1979) | B14: … | C14: … | D14: …
A15: 昭.55(1980) | B15: … | C15: … | D15: …
A16: 昭.56(1981) | B16: … | C16: … | D16: …
A17: 昭.57(1982) | B17: … | C17: … | D17: …
A18: 昭.58(1983) | B18: … | C18: … | D18: …
A19: 昭.59(1984) | B19: … | C19: … | D19: …
A20: 昭.60(1985) | B20: … | C20: … | D20: …
A21: 昭.61(1986) | B21: 142 | C21: 2070 | D21: 1701
A22: 昭.62(1987) | B22: 180 | C22: 2280 | D22: 1842
A23: 昭.63(1988) | B23: 211 | C23: 3280 | D23: 2655
A24: 平.元(1989) | B24: 251 | C24: 3220 | D24: 2616
A25: 平.2(1990) | B25: 282 | C25: 3840 | D25: 3090
A26: 平.3(1991) | B26: 295 | C26: 3680 | D26: 2910
A27: 平.4(1992) | B27: 287 | C27: 3740 | D27: 2980
A28: 平.5(1993) | B28: 286 | C28: 3600 | D28: 2880
A29: 平.6(1994) | B29: 270 | C29: 3470 | D29: 2780
A30: 平.7(1995) | B30: 262 | C30: 2890 | D30: 2230
A31: 平.8(1996) | B31: 233 | C31: 2510 | D31: 1940
A32: 平.9(1997) | B32: 204 | C32: 2250 | D32: 1710
... A59: 令.6(2024) | B59: 87 | C59: 726 | D59: 597

Sheet R5統計表（キウイフルーツ)
A3: ３ 令和５年産都道府県別の結果樹面積・10ａ当たり収量・収穫量・出荷量
A5: (14) キウイフルーツ
B8: 全国 ・ 都道府県 | E8: 結果樹 面積 | F8: 10ａ当たり 収量 | G8: 収穫量 | H8: 出荷量 | I8: 対前年産比
I9: 結果樹 面積 | J9: 10ａ当たり 収量 | K9: 収穫量 | L9: 出荷量
E11: ha | F11: kg | G11: ｔ | H11: ｔ | I11: ％ | J11: ％ | K11: ％ | L11: ％
B12: 全国 | E12: 1840 | F12: 1200 | G12: 22100 | H12: 19900 | I12: 99 | J12: 98 | K12: 97 | L12: 97
B14: うち | C14: 茨城 | E14: 18 | F14: 822 | G14: 148 | H14: 113 | I14: 86 | J14: 88 | K14: 76 | L14: 76
C15: 栃木 | E15: 50 | F15: 1280 | G15: 640 | H15: 583 | I15: 89 | J15: 98 | K15: 87 | L15: 90
C16: 群馬 | E16: 72 | F16: 1240 | G16: 893 | H16: 820 | I16: 100 | J16: 108 | K16: 108 | L16: 108
C17: 埼玉 | E17: 23 | F17: 1070 | G17: 246 | H17: 222 | I17: 96 | J17: 104 | K17: 100 | L17: 107
C18: 千葉 | E18: 42 | F18: 862 | G18: 362 | H18: 338 | I18: 93 | J18: 99 | K18: 92 | L18: 92
C19: 神奈川 | E19: 118 | F19: 1010 | G19: 1190 | H19: 1130 | I19: 96 | J19: 109 | K19: 104 | L19: 105
C20: 新潟 | E20: 26 | F20: 588 | G20: 153 | H20: 122 | I20: 90 | J20: 62 | K20: 56 | L20: 55
C21: 山梨 | E21: 53 | F21: 1200 | G21: 636 | H21: 557 | I21: 98 | J21: 83 | K21: 82 | L21: 82
C22: 長野 | E22: 26 | F22: 515 | G22: 134 | H22: 109 | I22: 96 | J22: 72 | K22: 69 | L22: 68
C23: 静岡 | E23: 98 | F23: 802 | G23: 786 | H23: 646 | I23: 98 | J23: 100 | K23: 98 | L23: 98
C24: 愛知 | E24: 27 | F24: 989 | G24: 267 | H24: 236 | I24: 104 | J24: 88 | K24: 92 | L24: 93
C25: 和歌山 | E25: 163 | F25: 2020 | G25: 3290 | H25: 3220 | I25: 101 | J25: 98 | K25: 98 | L25: 105
C26: 広島 | E26: 39 | F26: 677 | G26: 264 | H26: 190 | I26: 100 | J26: 97 | K26: 97 | L26: 97
... C31: 大分 | E31: 51 | F31: 1390 | G31: 709 | H31: 620 | I31: 100 | J31: 120 | K31: 120 | L31: 119

Sheet R6統計表（キウイフルーツ)
A3: ３ 令和６年産都道府県別の結果樹面積・10ａ当たり収量・収穫量・出荷量
A5: (14) キウイフルーツ
B8: 全国 ・ 都道府県 | E8: 結果樹 面積 | F8: 10ａ当たり 収量 | G8: 収穫量 | H8: 出荷量 | I8: 対前年産比
I9: 結果樹 面積 | J9: 10ａ当たり 収量 | K9: 収穫量 | L9: 出荷量
E11: ha | F11: kg | G11: ｔ | H11: ｔ | I11: ％ | J11: ％ | K11: ％ | L11: ％
B12: 全国 | E12: 1820 | F12: 1130 | G12: 20600 | H12: 18300 | I12: 99 | J12: 94 | K12: 93 | L12: 92
B14: うち | C14: 茨城 | E14: 18 | F14: 839 | G14: 151 | H14: 115 | I14: 100 | J14: 102 | K14: 102 | L14: 102
C15: 栃木 | E15: 44 | F15: 1350 | G15: 594 | H15: 526 | I15: 88 | J15: 105 | K15: 93 | L15: 90
C16: 群馬 | E16: 72 | F16: 1290 | G16: 929 | H16: 853 | I16: 100 | J16: 104 | K16: 104 | L16: 104
C17: 埼玉 | E17: 22 | F17: 1030 | G17: 227 | H17: 203 | I17: 96 | J17: 96 | K17: 92 | L17: 91
C18: 千葉 | E18: 38 | F18: 853 | G18: 324 | H18: 303 | I18: 90 | J18: 99 | K18: 90 | L18: 90
C19: 神奈川 | E19: 110 | F19: 1100 | G19: 1210 | H19: 1150 | I19: 93 | J19: 109 | K19: 102 | L19: 102
C20: 新潟 | E20: 26 | F20: 677 | G20: 176 | H20: 141 | I20: 100 | J20: 115 | K20: 115 | L20: 116
C21: 山梨 | E21: 53 | F21: 1350 | G21: 716 | H21: 631 | I21: 100 | J21: 113 | K21: 113 | L21: 113
C22: 長野 | E22: 25 | F22: 692 | G22: 173 | H22: 143 | I22: 96 | J22: 134 | K22: 129 | L22: 131
C23: 静岡 | E23: 87 | F23: 834 | G23: 726 | H23: 597 | I23: 89 | J23: 104 | K23: 92 | L23: 92
C24: 愛知 | E24: 28 | F24: 896 | G24: 251 | H24: 214 | I24: 104 | J24: 91 | K24: 94 | L24: 91
C25: 和歌山 | E25: 164 | F25: 1990 | G25: 3260 | H25: 3080 | I25: 101 | J25: 99 | K25: 99 | L25: 96
C26: 広島 | E26: 39 | F26: 589 | G26: 230 | H26: 166 | I26: 100 | J26: 87 | K26: 87 | L26: 87
... C31: 大分 | E31: 55 | F31: 1400 | G31: 770 | H31: 676 | I31: 108 | J31: 101 | K31: 109 | L31: 109

Sheet キウイフルーツ（全国・静岡）
A1: 果樹生産出荷統計 | G1: 果樹生産出荷統計
A2: 品目別結果樹面積、収穫量及び出荷量累年統計 | G2: 品目別結果樹面積、収穫量及び出荷量累年統計
A3: キウイフルーツ | G3: キウイフルーツ
A4: 全国 | G4: 静岡
A5: 年次 | B5: キウイフルーツ | G5: 年次 | H5: キウイフルーツ
B6: 結果樹面積 | C6: 収穫量 | D6: 出荷量 | H6: 結果樹面積 | I6: 収穫量 | J6: 出荷量
B7: ha | C7: t | D7: t | H7: ha | I7: t | J7: t
A8: 平.29(2017) | B8: =全国!B52 -> 2000 | C8: =全国!C52 -> 30000 | D8: =全国!D52 -> 26200 | G8: 平.29(2017) | H8: =静岡!B52 -> 120 | I8: =静岡!C52 -> 1550 | J8: =静岡!D52 -> 1220
A9: 平.30(2018) | B9: =全国!B53 -> 1950 | C9: =全国!C53 -> 25000 | D9: =全国!D53 -> 21800 | G9: 平.30(2018) | H9: =静岡!B53 -> 118 | I9: =静岡!C53 -> 1320 | J9: =静岡!D53 -> 990
A10: 令.元(2019) | B10: =全国!B54 -> 1900 | C10: =全国!C54 -> 25300 | D10: =全国!D54 -> 22500 | G10: 令.元(2019) | H10: =静岡!B54 -> 111 | I10: =静岡!C54 -> 949 | J10: =静岡!D54 -> 780
A11: 令.2(2020) | B11: =全国!B55 -> 1900 | C11: =全国!C55 -> 22500 | D11: =全国!D55 -> 19900 | G11: 令.2(2020) | H11: =静岡!B55 -> 107 | I11: =静岡!C55 -> 967 | J11: =静岡!D55 -> 795
A12: 令.3(2021) | B12: =全国!B56 -> 1880 | C12: =全国!C56 -> 19700 | D12: =全国!D56 -> 17400 | G12: 令.3(2021) | H12: =静岡!B56 -> 100 | I12: =静岡!C56 -> 790 | J12: =静岡!D56 -> 650
A13: 令.4(2022) | B13: =全国!B57 -> 1860 | C13: =全国!C57 -> 22900 | D13: =全国!D57 -> 20500 | G13: 令.4(2022) | H13: =静岡!B57 -> 100 | I13: =静岡!C57 -> 805 | J13: =静岡!D57 -> 662
A14: 令.5(2023) | B14: =全国!B58 -> 1840 | C14: =全国!C58 -> 22100 | D14: =全国!D58 -> 19900 | G14: 令.5(2023) | H14: =静岡!B58 -> 98 | I14: =静岡!C58 -> 786 | J14: =静岡!D58 -> 646
A15: 令.6(2024) | B15: =全国!B59 -> 1820 | C15: =全国!C59 -> 20600 | D15: =全国!D59 -> 18300 | G15: 令.6(2024) | H15: =静岡!B59 -> 87 | I15: =静岡!C59 -> 726 | J15: =静岡!D59 -> 597
