Workbook

Sheet 全国
A1: 果樹生産出荷統計
A2: 品目別結果樹面積、収穫量及び出荷量累年統計
A3: うめ
A4: 全国
A5: 年次 | B5: うめ | E5: 南高 | H5: 白加賀 | K5: その他
B6: 結果樹面積 | C6: 収穫量 | D6: 出荷量 | E6: 結果樹面積 | F6: 収穫量 | G6: 出荷量 | H6: 結果樹面積 | I6: 収穫量 | J6: 出荷量 | K6: 結果樹面積 | L6: 収穫量 | M6: 出荷量
B7: ha | C7: t | D7: t | E7: ha | F7: t | G7: t | H7: ha | I7: t | J7: t | K7: ha | L7: t | M7: t
A8: 昭.48(1973) | B8: 14100 | C8: 60200 | D8: 44000 | E8: … | F8: … | G8: … | H8: … | I8: … | J8: … | K8: … | L8: … | M8: …
A9: 昭.49(1974) | B9: 14300 | C9: 72300 | D9: 53400 | E9: … | F9: … | G9: … | H9: … | I9: … | J9: … | K9: … | L9: … | M9: …
A10: 昭.50(1975) | B10: 14500 | C10: 62500 | D10: 45100 | E10: … | F10: … | G10: … | H10: … | I10: … | J10: … | K10: … | L10: … | M10: …
A11: 昭.51(1976) | B11: 14600 | C11: 57100 | D11: 41600 | E11: … | F11: … | G11: … | H11: … | I11: … | J11: … | K11: … | L11: … | M11: …
A12: 昭.52(1977) | B12: 14400 | C12: 67900 | D12: 49400 | E12: … | F12: … | G12: … | H12: … | I12: … | J12: … | K12: … | L12: … | M12: …
A13: 昭.53(1978) | B13: 14400 | C13: 63200 | D13: 46000 | E13: … | F13: … | G13: … | H13: … | I13: … | J13: … | K13: … | L13: … | M13: …
A14: 昭.54(1979) | B14: 14300 | C14: 58200 | D14: 42500 | E14: … | F14: … | G14: … | H14: … | I14: … | J14: … | K14: … | L14: … | M14: …
A15: 昭.55(1980) | B15: 14300 | C15: 64000 | D15: 47300 | E15: … | F15: … | G15: … | H15: … | I15: … | J15: … | K15: … | L15: … | M15: …
A16: 昭.56(1981) | B16: 14200 | C16: 53000 | D16: 38000 | E16: … | F16: … | G16: … | H16: … | I16: … | J16: … | K16: … | L16: … | M16: …
A17: 昭.57(1982) | B17: 14300 | C17: 65900 | D17: 49900 | E17: … | F17: … | G17: … | H17: … | I17: … | J17: … | K17: … | L17: … | M17: …
A18: 昭.58(1983) | B18: 14500 | C18: 67200 | D18: 51400 | E18: … | F18: … | G18: … | H18: … | I18: … | J18: … | K18: … | L18: … | M18: …
A19: 昭.59(1984) | B19: 14800 | C19: 78200 | D19: 62700 | E19: … | F19: … | G19: … | H19: … | I19: … | J19: … | K19: … | L19: … | M19: …
... A37: 平.14(2002) | B37: 17900 | C37: 112600 | D37: 96200 | E37: … | F37: … | G37: … | H37: … | I37: … | J37: … | K37: … | L37: … | M37: …
A38: 平.15(2003) | B38: 18200 | C38: 88300 | D38: 75300 | E38: 4730 | F38: 45000 | G38: 42200 | H38: 3220 | I38: 11100 | J38: 8560 | K38: 10200 | L38: 32200 | M38: 24500
A39: 平.16(2004) | B39: 17300 | C39: 113600 | D39: 95600 | E39: 5170 | F39: 60700 | G39: 56400 | H39: 3720 | I39: 15300 | J39: 11100 | K39: 8390 | L39: 37600 | M39: 28100
A40: 平.17(2005) | B40: 17800 | C40: 123000 | D40: 105100 | E40: 5530 | F40: 70500 | G40: 66500 | H40: 3630 | I40: 15200 | J40: 11200 | K40: 8660 | L40: 37400 | M40: 27400
A41: 平.18(2006) | B41: 18000 | C41: 119700 | D41: 101100 | E41: 5750 | F41: 67700 | G41: 63700 | H41: 3590 | I41: 15200 | J41: 10500 | K41: 8680 | L41: 36700 | M41: 27000
A42: 平.19(2007) | B42: 17500 | C42: 120600 | D42: 102800 | E42: … | F42: … | G42: … | H42: … | I42: … | J42: … | K42: … | L42: … | M42: …
A43: 平.20(2008) | B43: 17400 | C43: 121000 | D43: 103600 | E43: … | F43: … | G43: … | H43: … | I43: … | J43: … | K43: … | L43: … | M43: …
A44: 平.21(2009) | B44: 17100 | C44: 115200 | D44: 99700 | E44: … | F44: … | G44: … | H44: … | I44: … | J44: … | K44: … | L44: … | M44: …
A45: 平.22(2010) | B45: 16900 | C45: 92400 | D45: 79700 | E45: … | F45: … | G45: … | H45: … | I45: … | J45: … | K45: … | L45: … | M45: …
A46: 平.23(2011) | B46: 16600 | C46: 106900 | D46: 92700 | E46: … | F46: … | G46: … | H46: … | I46: … | J46: … | K46: … | L46: … | M46: …
A47: 平.24(2012) | B47: 16400 | C47: 90000 | D47: 78100 | E47: … | F47: … | G47: … | H47: … | I47: … | J47: … | K47: … | L47: … | M47: …
A48: 平.25(2013) | B48: 16200 | C48: 123700 | D48: 107400 | E48: … | F48: … | G48: … | H48: … | I48: … | J48: … | K48: … | L48: … | M48: …
A49: 平.26(2014) | B49: 16200 | C49: 111400 | D49: 97100 | E49: … | F49: … | G49: … | H49: … | I49: … | J49: … | K49: … | L49: … | M49: …
A50: 平.27(2015) | B50: 15900 | C50: 97900 | D50: 85000 | E50: … | F50: … | G50: … | H50: … | I50: … | J50: … | K50: … | L50: … | M50: …
A51: 平.28(2016) | B51: 15600 | C51: 92700 | D51: 80800 | E51: … | F51: … | G51: … | H51: … | I51: … | J51: … | K51: … | L51: … | M51: …
A52: 平.29(2017) | B52: 15100 | C52: 86800 | D52: 75600 | E52: … | F52: … | G52: … | H52: … | I52: … | J52: … | K52: … | L52: … | M52: …
A53: 平.30(2018) | B53: 14800 | C53: 112400 | D53: 99200 | E53: … | F53: … | G53: … | H53: … | I53: … | J53: … | K53: … | L53: … | M53: …
... A58: 令.5(2023) | B58: 13200 | C58: 95500 | D58: 84600 | E58: … | F58: … | G58: … | H58: … | I58: … | J58: … | K58: … | L58: … | M58: …
A59: 令.6(2024) | B59: 12900 | C59: 51600 | D59: 45300

Sheet 静岡
A1: 果樹生産出荷統計
A2: 品目別結果樹面積、収穫量及び出荷量累年統計
A3: うめ
A4: 静岡
A5: 年次 | B5: うめ | E5: 南高 | H5: 白加賀 | K5: その他
B6: 結果樹面積 | C6: 収穫量 | D6: 出荷量 | E6: 結果樹面積 | F6: 収穫量 | G6: 出荷量 | H6: 結果樹面積 | I6: 収穫量 | J6: 出荷量 | K6: 結果樹面積 | L6: 収穫量 | M6: 出荷量
B7: ha | C7: t | D7: t | E7: ha | F7: t | G7: t | H7: ha | I7: t | J7: t | K7: ha | L7: t | M7: t
A8: 昭.48(1973) | B8: 255 | C8: 616 | D8: 391 | E8: … | F8: … | G8: … | H8: … | I8: … | J8: … | K8: … | L8: … | M8: …
A9: 昭.49(1974) | B9: 268 | C9: 721 | D9: 485 | E9: … | F9: … | G9: … | H9: … | I9: … | J9: … | K9: … | L9: … | M9: …
A10: 昭.50(1975) | B10: 290 | C10: 815 | D10: 530 | E10: … | F10: … | G10: … | H10: … | I10: … | J10: … | K10: … | L10: … | M10: …
A11: 昭.51(1976) | B11: 295 | C11: 762 | D11: 485 | E11: … | F11: … | G11: … | H11: … | I11: … | J11: … | K11: … | L11: … | M11: …
A12: 昭.52(1977) | B12: 294 | C12: 980 | D12: 629 | E12: … | F12: … | G12: … | H12: … | I12: … | J12: … | K12: … | L12: … | M12: …
A13: 昭.53(1978) | B13: 290 | C13: 877 | D13: 560 | E13: … | F13: … | G13: … | H13: … | I13: … | J13: … | K13: … | L13: … | M13: …
A14: 昭.54(1979) | B14: 291 | C14: 893 | D14: 574 | E14: … | F14: … | G14: … | H14: … | I14: … | J14: … | K14: … | L14: … | M14: …
A15: 昭.55(1980) | B15: 296 | C15: 988 | D15: 666 | E15: … | F15: … | G15: … | H15: … | I15: … | J15: … | K15: … | L15: … | M15: …
A16: 昭.56(1981) | B16: 298 | C16: 1180 | D16: 850 | E16: … | F16: … | G16: … | H16: … | I16: … | J16: … | K16: … | L16: … | M16: …
A17: 昭.57(1982) | B17: 304 | C17: 1150 | D17: 825 | E17: … | F17: … | G17: … | H17: … | I17: … | J17: … | K17: … | L17: … | M17: …
A18: 昭.58(1983) | B18: 307 | C18: 1050 | D18: 713 | E18: … | F18: … | G18: … | H18: … | I18: … | J18: … | K18: … | L18: … | M18: …
A19: 昭.59(1984) | B19: 312 | C19: 1170 | D19: 849 | E19: … | F19: … | G19: … | H19: … | I19: … | J19: … | K19: … | L19: … | M19: …
... A36: 平.13(2001) | B36: 301 | C36: 1200 | D36: 754 | E36: … | F36: … | G36: … | H36: … | I36: … | J36: … | K36: … | L36: … | M36: …
A37: 平.14(2002) | B37: … | C37: … | D37: … | E37: … | F37: … | G37: … | H37: … | I37: … | J37: … | K37: … | L37: … | M37: …
A38: 平.15(2003) | B38: … | C38: … | D38: … | E38: … | F38: … | G38: … | H38: … | I38: … | J38: … | K38: … | L38: … | M38: …
A39: 平.16(2004) | B39: 303 | C39: 1110 | D39: 700 | E39: 70 | F39: 282 | G39: 196 | H39: 71 | I39: 260 | J39: 152 | K39: 162 | L39: 568 | M39: 352
A40: 平.17(2005) | B40: … | C40: … | D40: … | E40: … | F40: … | G40: … | H40: … | I40: … | J40: … | K40: … | L40: … | M40: …
A41: 平.18(2006) | B41: … | C41: … | D41: … | E41: … | F41: … | G41: … | H41: … | I41: … | J41: … | K41: … | L41: … | M41: …
A42: 平.19(2007) | B42: … | C42: … | D42: … | E42: … | F42: … | G42: … | H42: … | I42: … | J42: … | K42: … | L42: … | M42: …
A43: 平.20(2008) | B43: … | C43: … | D43: … | E43: … | F43: … | G43: … | H43: … | I43: … | J43: … | K43: … | L43: … | M43: …
A44: 平.21(2009) | B44: 309 | C44: 1030 | D44: 583 | E44: … | F44: … | G44: … | H44: … | I44: … | J44: … | K44: … | L44: … | M44: …
A45: 平.22(2010) | B45: … | C45: … | D45: … | E45: … | F45: … | G45: … | H45: … | I45: … | J45: … | K45: … | L45: … | M45: …
A46: 平.23(2011) | B46: … | C46: … | D46: … | E46: … | F46: … | G46: … | H46: … | I46: … | J46: … | K46: … | L46: … | M46: …
A47: 平.24(2012) | B47: … | C47: … | D47: … | E47: … | F47: … | G47: … | H47: … | I47: … | J47: … | K47: … | L47: … | M47: …
A48: 平.25(2013) | B48: … | C48: … | D48: … | E48: … | F48: … | G48: … | H48: … | I48: … | J48: … | K48: … | L48: … | M48: …
A49: 平.26(2014) | B49: 279 | C49: 893 | D49: 521 | E49: … | F49: … | G49: … | H49: … | I49: … | J49: … | K49: … | L49: … | M49: …
A50: 平.27(2015) | B50: … | C50: … | D50: … | E50: … | F50: … | G50: … | H50: … | I50: … | J50: … | K50: … | L50: … | M50: …
A51: 平.28(2016) | B51: … | C51: … | D51: … | E51: … | F51: … | G51: … | H51: … | I51: … | J51: … | K51: … | L51: … | M51: …
A52: 平.29(2017) | B52: 234 | C52: 784 | D52: 457 | E52: … | F52: … | G52: … | H52: … | I52: … | J52: … | K52: … | L52: … | M52: …
A53: 平.30(2018) | B53: 232 | C53: 812 | D53: 473 | E53: … | F53: … | G53: … | H53: … | I53: … | J53: … | K53: … | L53: … | M53: …
A54: 令.元(2019) | B54: 217 | C54: 790 | D54: 460 | E54: … | F54: … | G54: … | H54: … | I54: … | J54: … | K54: … | L54: … | M54: …
A55: 令.2(2020) | B55: 205 | C55: 660 | D55: 380 | E55: … | F55: … | G55: … | H55: … | I55: … | J55: … | K55: … | L55: … | M55: …
A56: 令.3(2021) | B56: 202 | C56: 790 | D56: 455 | E56: … | F56: … | G56: … | H56: … | I56: … | J56: … | K56: … | L56: … | M56: …
...

Sheet R5統計表（うめ)
A3: ３ 令和５年産都道府県別の結果樹面積・10ａ当たり収量・収穫量・出荷量
A5: (10) うめ
B8: 全国 ・ 都道府県 | E8: 結果樹 面積 | F8: 10ａ当たり 収量 | G8: 収穫量 | H8: 出荷量 | I8: 対前年産比
I9: 結果樹 面積 | J9: 10ａ当たり 収量 | K9: 収穫量 | L9: 出荷量
E11: ha | F11: kg | G11: ｔ | H11: ｔ | I11: ％ | J11: ％ | K11: ％ | L11: ％
B12: 全国 | E12: 13200 | F12: 723 | G12: 95500 | H12: 84600 | I12: 98 | J12: 101 | K12: 99 | L12: 98
B14: うち | C14: 青森 | E14: 212 | F14: 680 | G14: 1440 | H14: 1230 | I14: 96 | J14: 125 | K14: 120 | L14: 123
C15: 宮城 | E15: 337 | F15: 374 | G15: 1260 | H15: 688 | I15: 94 | J15: 120 | K15: 114 | L15: 113
C16: 福島 | E16: 313 | F16: 257 | G16: 804 | H16: 326 | I16: 95 | J16: 103 | K16: 98 | L16: 98
C17: 茨城 | E17: 289 | F17: 341 | G17: 985 | H17: 798 | I17: 93 | J17: 139 | K17: 130 | L17: 130
C18: 栃木 | E18: 234 | F18: 349 | G18: 817 | H18: 710 | I18: 97 | J18: 109 | K18: 106 | L18: 102
C19: 群馬 | E19: 844 | F19: 654 | G19: 5520 | H19: 5040 | I19: 98 | J19: 152 | K19: 150 | L19: 148
C20: 埼玉 | E20: 227 | F20: 382 | G20: 867 | H20: 748 | I20: 98 | J20: 98 | K20: 96 | L20: 98
C21: 千葉 | E21: 249 | F21: 210 | G21: 523 | H21: 340 | I21: 93 | J21: 121 | K21: 112 | L21: 137
C22: 神奈川 | E22: 311 | F22: 455 | G22: 1420 | H22: 1290 | I22: 95 | J22: 108 | K22: 102 | L22: 106
C23: 福井 | E23: 459 | F23: 377 | G23: 1730 | H23: 1620 | I23: 99 | J23: 119 | K23: 118 | L23: 118
C24: 山梨 | E24: 350 | F24: 472 | G24: 1650 | H24: 1500 | I24: 98 | J24: 99 | K24: 96 | L24: 97
C25: 長野 | E25: 298 | F25: 375 | G25: 1120 | H25: 980 | I25: 89 | J25: 103 | K25: 92 | L25: 92
C26: 静岡 | E26: 198 | F26: 348 | G26: 689 | H26: 397 | I26: 101 | J26: 92 | K26: 92 | L26: 93
... C34: 大分 | E34: 234 | F34: 471 | G34: 1100 | H34: 754 | I34: 96 | J34: 97 | K34: 93 | L34: 93

Sheet R6統計表（うめ）
A3: ３ 令和６年産都道府県別の結果樹面積・10ａ当たり収量・収穫量・出荷量
A5: (10) うめ
B8: 全国 ・ 都道府県 | E8: 結果樹 面積 | F8: 10ａ当たり 収量 | G8: 収穫量 | H8: 出荷量 | I8: 対前年産比
I9: 結果樹 面積 | J9: 10ａ当たり 収量 | K9: 収穫量 | L9: 出荷量
E11: ha | F11: kg | G11: ｔ | H11: ｔ | I11: ％ | J11: ％ | K11: ％ | L11: ％
B12: 全国 | E12: 12900 | F12: 400 | G12: 51600 | H12: 45300 | I12: 98 | J12: 55 | K12: 54 | L12: 54
B14: うち | C14: 青森 | E14: 204 | F14: 331 | G14: 675 | H14: 582 | I14: 96 | J14: 49 | K14: 47 | L14: 47
C15: 宮城 | E15: 308 | F15: 348 | G15: 1070 | H15: 594 | I15: 91 | J15: 93 | K15: 85 | L15: 86
C16: 福島 | E16: 290 | F16: 220 | G16: 638 | H16: 260 | I16: 93 | J16: 86 | K16: 79 | L16: 80
C17: 茨城 | E17: 277 | F17: 255 | G17: 706 | H17: 562 | I17: 96 | J17: 75 | K17: 72 | L17: 70
C18: 栃木 | E18: 225 | F18: 219 | G18: 493 | H18: 427 | I18: 96 | J18: 63 | K18: 60 | L18: 60
C19: 群馬 | E19: 829 | F19: 500 | G19: 4150 | H19: 3790 | I19: 98 | J19: 76 | K19: 75 | L19: 75
C20: 埼玉 | E20: 218 | F20: 255 | G20: 556 | H20: 480 | I20: 96 | J20: 67 | K20: 64 | L20: 64
C21: 千葉 | E21: 235 | F21: 145 | G21: 341 | H21: 247 | I21: 94 | J21: 69 | K21: 65 | L21: 73
C22: 神奈川 | E22: 306 | F22: 351 | G22: 1070 | H22: 941 | I22: 98 | J22: 77 | K22: 75 | L22: 73
C23: 福井 | E23: 455 | F23: 164 | G23: 746 | H23: 631 | I23: 99 | J23: 44 | K23: 43 | L23: 39
C24: 山梨 | E24: 338 | F24: 359 | G24: 1210 | H24: 1100 | I24: 97 | J24: 76 | K24: 73 | L24: 73
C25: 長野 | E25: 285 | F25: 320 | G25: 912 | H25: 796 | I25: 96 | J25: 85 | K25: 81 | L25: 81
C26: 静岡 | E26: 177 | F26: 284 | G26: 503 | H26: 290 | I26: 89 | J26: 82 | K26: 73 | L26: 73
... C34: 大分 | E34: 227 | F34: 305 | G34: 692 | H34: 467 | I34: 97 | J34: 65 | K34: 63 | L34: 62

Sheet うめ（全国・静岡）
A1: 果樹生産出荷統計 | G1: 果樹生産出荷統計
A2: 品目別結果樹面積、収穫量及び出荷量累年統計 | G2: 品目別結果樹面積、収穫量及び出荷量累年統計
A3: うめ | G3: うめ
A4: 全国 | G4: 静岡
A5: 年次 | B5: うめ | G5: 年次 | H5: うめ
B6: 結果樹面積 | C6: 収穫量 | D6: 出荷量 | H6: 結果樹面積 | I6: 収穫量 | J6: 出荷量
B7: ha | C7: t | D7: t | H7: ha | I7: t | J7: t
A8: 平.29(2017) | B8: =全国!B52 -> 15100 | C8: =全国!C52 -> 86800 | D8: =全国!D52 -> 75600 | G8: 平.29(2017) | H8: =静岡!B52 -> 234 | I8: =静岡!C52 -> 784 | J8: =静岡!D52 -> 457
A9: 平.30(2018) | B9: =全国!B53 -> 14800 | C9: =全国!C53 -> 112400 | D9: =全国!D53 -> 99200 | G9: 平.30(2018) | H9: =静岡!B53 -> 232 | I9: =静岡!C53 -> 812 | J9: =静岡!D53 -> 473
A10: 令.元(2019) | B10: =全国!B54 -> 14500 | C10: =全国!C54 -> 88100 | D10: =全国!D54 -> 77700 | G10: 令.元(2019) | H10: =静岡!B54 -> 217 | I10: =静岡!C54 -> 790 | J10: =静岡!D54 -> 460
A11: 令.2(2020) | B11: =全国!B55 -> 14100 | C11: =全国!C55 -> 71100 | D11: =全国!D55 -> 62200 | G11: 令.2(2020) | H11: =静岡!B55 -> 205 | I11: =静岡!C55 -> 660 | J11: =静岡!D55 -> 380
A12: 令.3(2021) | B12: =全国!B56 -> 13800 | C12: =全国!C56 -> 104600 | D12: =全国!D56 -> 93200 | G12: 令.3(2021) | H12: =静岡!B56 -> 202 | I12: =静岡!C56 -> 790 | J12: =静岡!D56 -> 455
A13: 令.4(2022) | B13: =全国!B57 -> 13500 | C13: =全国!C57 -> 96600 | D13: =全国!D57 -> 86400 | G13: 令.4(2022) | H13: =静岡!B57 -> 197 | I13: =静岡!C57 -> 745 | J13: =静岡!D57 -> 429
A14: 令.5(2023) | B14: =全国!B58 -> 13200 | C14: =全国!C58 -> 95500 | D14: =全国!D58 -> 84600 | G14: 令.5(2023) | H14: =静岡!B58 -> 198 | I14: =静岡!C58 -> 689 | J14: =静岡!D58 -> 397
A15: 令.6(2024) | B15: =全国!B59 -> 12900 | C15: =全国!C59 -> 51600 | D15: =全国!D59 -> 45300 | G15: 令.6(2024) | H15: =静岡!B59 -> 177 | I15: =静岡!C59 -> 503 | J15: =静岡!D59 -> 290
