Workbook

Sheet 全国（根菜類）
A1: 野菜生産出荷統計
A2: 品目別（季節区分別）作付面積、収穫量及び出荷量累年統計
A3: 根菜類
A4: 全国
A5: 年次 | B5: だいこん | E5: 春だいこん | H5: 夏だいこん | K5: 秋冬だいこん | N5: かぶ | Q5: にんじん | T5: 春夏にんじん | W5: 秋にんじん | Z5: 冬にんじん | AC5: ごぼう | AF5: れんこん | AI5: ばれいしょ | AL5: 春植えばれいしょ | AO5: 秋植えばれいしょ | AR5: さといも | AU5: 秋冬さといも | AX5: その他さといも | BA5: やまのいも | BD5: ながいも
B6: 作付面積 | C6: 収穫量 | D6: 出荷量 | E6: 作付面積 | F6: 収穫量 | G6: 出荷量 | H6: 作付面積 | I6: 収穫量 | J6: 出荷量 | K6: 作付面積 | L6: 収穫量 | M6: 出荷量 | N6: 作付面積 | O6: 収穫量 | P6: 出荷量 | Q6: 作付面積 | R6: 収穫量 | S6: 出荷量 | T6: 作付面積 | U6: 収穫量 | V6: 出荷量 | W6: 作付面積 | X6: 収穫量 | Y6: 出荷量 | Z6: 作付面積 | AA6: 収穫量 | AB6: 出荷量 | AC6: 作付面積 | AD6: 収穫量 | AE6: 出荷量 | AF6: 作付面積 | AG6: 収穫量 | AH6: 出荷量 | AI6: 作付面積 | AJ6: 収穫量 | AK6: 出荷量 | AL6: 作付面積 | AM6: 収穫量 | AN6: 出荷量 | AO6: 作付面積 | AP6: 収穫量 | AQ6: 出荷量 | AR6: 作付面積 | AS6: 収穫量 | AT6: 出荷量 | AU6: 作付面積 | AV6: 収穫量 | AW6: 出荷量 | AX6: 作付面積 | AY6: 収穫量 | AZ6: 出荷量 | BA6: 作付面積 | BB6: 収穫量 | BC6: 出荷量 | BD6: 作付面積 | BE6: 収穫量 | BF6: 出荷量
B7: ha | C7: t | D7: t | E7: ha | F7: t | G7: t | H7: ha | I7: t | J7: t | K7: ha | L7: t | M7: t | N7: ha | O7: t | P7: t | Q7: ha | R7: t | S7: t | T7: ha | U7: t | V7: t | W7: ha | X7: t | Y7: t | Z7: ha | AA7: t | AB7: t | AC7: ha | AD7: t | AE7: t | AF7: ha | AG7: t | AH7: t | AI7: ha | AJ7: t | AK7: t | AL7: ha | AM7: t | AN7: t | AO7: ha | AP7: t | AQ7: t | AR7: ha | AS7: t | AT7: t | AU7: ha | AV7: t | AW7: t | AX7: ha | AY7: t | AZ7: t | BA7: ha | BB7: t | BC7: t | BD7: ha | BE7: t | BF7: t
A8: 昭.48(1973) | B8: 76000 | C8: 2681000 | D8: 1738000 | E8: 4910 | F8: 164400 | G8: 133800 | H8: 9940 | I8: 271000 | J8: 197800 | K8: 61200 | L8: 2246000 | M8: 1407000 | N8: 7900 | O8: 200000 | P8: 136800 | Q8: 23300 | R8: 477500 | S8: 372400 | T8: 4400 | U8: 90700 | V8: 77000 | W8: 6880 | X8: 130400 | Y8: 100300 | Z8: 12000 | AA8: 256500 | AB8: 195200 | AC8: 16200 | AD8: 268200 | AE8: 186600 | AF8: 6180 | AG8: 104400 | AH8: 86000 | AI8: 147100 | AJ8: 3413000 | AK8: 2331000 | AL8: … | AM8: … | AN8: … | AO8: … | AP8: … | AQ8: … | AR8: 33200 | AS8: 384600 | AT8: 201100 | AU8: 31300 | AV8: 369100 | AW8: 188400 | AX8: 1950 | AY8: 15400 | AZ8: 12700 | BA8: 7280 | BB8: 130100 | BC8: 99200 | BD8: … | BE8: … | BF8: …
A9: 昭.49(1974) | B9: 74400 | C9: 2724000 | D9: 1795000 | E9: 4970 | F9: 161000 | G9: 131500 | H9: 9940 | I9: 279600 | J9: 209500 | K9: 59500 | L9: 2283000 | M9: 1454000 | N9: 7710 | O9: 201100 | P9: 139500 | Q9: 23800 | R9: 513800 | S9: 405600 | T9: 4610 | U9: 99300 | V9: 84300 | W9: 7280 | X9: 147300 | Y9: 115400 | Z9: 11900 | AA9: 267100 | AB9: 205900 | AC9: 15200 | AD9: 248200 | AE9: 171500 | AF9: 5940 | AG9: 95100 | AH9: 80100 | AI9: 138500 | AJ9: 2942000 | AK9: 1987000 | AL9: … | AM9: … | AN9: … | AO9: … | AP9: … | AQ9: … | AR9: 31400 | AS9: 430300 | AT9: 231900 | AU9: 29600 | AV9: 412500 | AW9: 216800 | AX9: 1800 | AY9: 17800 | AZ9: 15100 | BA9: 6910 | BB9: 124200 | BC9: 92900 | BD9: … | BE9: … | BF9: …
A10: 昭.50(1975) | B10: 73200 | C10: 2545000 | D10: 1701000 | E10: 5050 | F10: 174100 | G10: 145100 | H10: 9960 | I10: 280100 | J10: 215400 | K10: 58200 | L10: 2091000 | M10: 1341000 | N10: 7450 | O10: 195800 | P10: 136800 | Q10: 22900 | R10: 495200 | S10: 391900 | T10: 4690 | U10: 104000 | V10: 88800 | W10: 6710 | X10: 137600 | Y10: 107400 | Z10: 11500 | AA10: 253500 | AB10: 195800 | AC10: 15000 | AD10: 261400 | AE10: 187700 | AF10: 5540 | AG10: 89100 | AH10: 75200 | AI10: 139100 | AJ10: 3261000 | AK10: 2258000 | AL10: … | AM10: … | AN10: … | AO10: … | AP10: … | AQ10: … | AR10: 31200 | AS10: 370200 | AT10: 197200 | AU10: 29300 | AV10: 352700 | AW10: 183100 | AX10: 1970 | AY10: 17500 | AZ10: 14200 | BA10: 6730 | BB10: 124400 | BC10: 94400 | BD10: … | BE10: … | BF10: …
A11: 昭.51(1976) | B11: 73500 | C11: 2671000 | D11: 1836000 | E11: 5070 | F11: 169700 | G11: 140200 | H11: 9770 | I11: 283000 | J11: 222300 | K11: 58700 | L11: 2218000 | M11: 1473000 | N11: 7400 | O11: 191200 | P11: 133600 | Q11: 23900 | R11: 542100 | S11: 437200 | T11: 5080 | U11: 110800 | V11: 93200 | W11: 7140 | X11: 150900 | Y11: 121100 | Z11: 11700 | AA11: 280500 | AB11: 222900 | AC11: 15100 | AD11: 261500 | AE11: 189700 | AF11: 5410 | AG11: 82800 | AH11: 70700 | AI11: 137600 | AJ11: 3742000 | AK11: 2731000 | AL11: … | AM11: … | AN11: … | AO11: … | AP11: … | AQ11: … | AR11: 31100 | AS11: 425500 | AT11: 241000 | AU11: 29900 | AV11: 414300 | AW11: 231800 | AX11: 1180 | AY11: 11200 | AZ11: 9240 | BA11: 6890 | BB11: 121200 | BC11: 91100 | BD11: … | BE11: … | BF11: …
A12: 昭.52(1977) | B12: 72800 | C12: 2759000 | D12: 1898000 | E12: 4990 | F12: 175000 | G12: 143800 | H12: 10000 | I12: 294700 | J12: 234600 | K12: 57800 | L12: 2289000 | M12: 1520000 | N12: 7510 | O12: 201000 | P12: 143900 | Q12: 24100 | R12: 584900 | S12: 475900 | T12: 5040 | U12: 113500 | V12: 96600 | W12: 7260 | X12: 161900 | Y12: 132400 | Z12: 11800 | AA12: 309500 | AB12: 246900 | AC12: 14400 | AD12: 265000 | AE12: 194800 | AF12: 5340 | AG12: 87800 | AH12: 75000 | AI12: 131400 | AJ12: 3520000 | AK12: 2562000 | AL12: … | AM12: … | AN12: … | AO12: … | AP12: … | AQ12: … | AR12: 30600 | AS12: 430200 | AT12: 246600 | AU12: 29200 | AV12: 417300 | AW12: 235400 | AX12: 1330 | AY12: 12900 | AZ12: 11200 | BA12: 7450 | BB12: 140400 | BC12: 104800 | BD12: … | BE12: … | BF12: …
A13: 昭.53(1978) | B13: 70900 | C13: 2705000 | D13: 1873000 | E13: 5100 | F13: 185700 | G13: 155600 | H13: 10000 | I13: 283100 | J13: 227600 | K13: 55800 | L13: 2236000 | M13: 1490000 | N13: 7660 | O13: 208000 | P13: 150300 | Q13: 23300 | R13: 545900 | S13: 445700 | T13: 5030 | U13: 118900 | V13: 102200 | W13: 7330 | X13: 158900 | Y13: 131000 | Z13: 10900 | AA13: 268000 | AB13: 212500 | AC13: 14400 | AD13: 265100 | AE13: 198300 | AF13: 6000 | AG13: 99400 | AH13: 84300 | AI13: 128100 | AJ13: 3316000 | AK13: 2420000 | AL13: … | AM13: … | AN13: … | AO13: … | AP13: … | AQ13: … | AR13: 30900 | AS13: 340600 | AT13: 184600 | AU13: 29900 | AV13: 331900 | AW13: 177700 | AX13: 988 | AY13: 8710 | AZ13: 6950 | BA13: 8730 | BB13: 170500 | BC13: 134700 | BD13: … | BE13: … | BF13: …
A14: 昭.54(1979) | B14: 71100 | C14: 2575000 | D14: 1790000 | E14: 5350 | F14: 200000 | G14: 169100 | H14: 10300 | I14: 301100 | J14: 244900 | K14: 55500 | L14: 2074000 | M14: 1376000 | N14: 7620 | O14: 206800 | P14: 151500 | Q14: 24000 | R14: 586000 | S14: 485100 | T14: 4920 | U14: 125400 | V14: 109900 | W14: 7390 | X14: 169300 | Y14: 141300 | Z14: 11700 | AA14: 291200 | AB14: 233900 | AC14: 14200 | AD14: 258200 | AE14: 193400 | AF14: 6040 | AG14: 98100 | AH14: 82100 | AI14: 125100 | AJ14: 3381000 | AK14: 2538000 | AL14: … | AM14: … | AN14: … | AO14: … | AP14: … | AQ14: … | AR14: 31300 | AS14: 446800 | AT14: 265300 | AU14: 30200 | AV14: 436200 | AW14: 256600 | AX14: 1130 | AY14: 10600 | AZ14: 8690 | BA14: 8190 | BB14: 162300 | BC14: 127000 | BD14: … | BE14: … | BF14: …
A15: 昭.55(1980) | B15: 72600 | C15: 2690000 | D15: 1917000 | E15: 5670 | F15: 208800 | G15: 178200 | H15: 10400 | I15: 290300 | J15: 236500 | K15: 56500 | L15: 2190000 | M15: 1502000 | N15: 7680 | O15: 193100 | P15: 139800 | Q15: 24200 | R15: 600100 | S15: 501300 | T15: 5270 | U15: 132900 | V15: 116700 | W15: 7360 | X15: 170800 | Y15: 144200 | Z15: 11600 | AA15: 296400 | AB15: 240300 | AC15: 13900 | AD15: 249000 | AE15: 188100 | AF15: 6170 | AG15: 85700 | AH15: 70700 | AI15: 123400 | AJ15: 3421000 | AK15: 2545000 | AL15: … | AM15: … | AN15: … | AO15: … | AP15: … | AQ15: … | AR15: 31700 | AS15: 458500 | AT15: 270500 | AU15: 30200 | AV15: 443700 | AW15: 258000 | AX15: 1490 | AY15: 14800 | AZ15: 12500 | BA15: 7920 | BB15: 134200 | BC15: 100300 | BD15: … | BE15: … | BF15: …
A16: 昭.56(1981) | B16: 71500 | C16: 2687000 | D16: 1917000 | E16: 5800 | F16: 211600 | G16: 181500 | H16: 10800 | I16: 305400 | J16: 246400 | K16: 54900 | L16: 2170000 | M16: 1490000 | N16: 7810 | O16: 206500 | P16: 153000 | Q16: 24200 | R16: 606300 | S16: 507300 | T16: 5200 | U16: 135100 | V16: 118500 | W16: 7590 | X16: 164600 | Y16: 139000 | Z16: 11400 | AA16: 306600 | AB16: 249800 | AC16: 14700 | AD16: 273600 | AE16: 209100 | AF16: 6220 | AG16: 88900 | AH16: 73900 | AI16: 125600 | AJ16: 3095000 | AK16: 2234000 | AL16: … | AM16: … | AN16: … | AO16: … | AP16: … | AQ16: … | AR16: 28700 | AS16: 385800 | AT16: 218900 | AU16: 27500 | AV16: 374200 | AW16: 209600 | AX16: 1200 | AY16: 11500 | AZ16: 9300 | BA16: 7690 | BB16: 134000 | BC16: 102100 | BD16: … | BE16: … | BF16: …
A17: 昭.57(1982) | B17: 69900 | C17: 2709000 | D17: 1938000 | E17: 5930 | F17: 225100 | G17: 192400 | H17: 10800 | I17: 307400 | J17: 248300 | K17: 53200 | L17: 2177000 | M17: 1497000 | N17: 7770 | O17: 208900 | P17: 154400 | Q17: 24400 | R17: 627100 | S17: 527300 | T17: 5150 | U17: 147000 | V17: 130500 | W17: 8030 | X17: 181200 | Y17: 154300 | Z17: 11200 | AA17: 298800 | AB17: 242500 | AC17: 14100 | AD17: 246000 | AE17: 184400 | AF17: 6350 | AG17: 82200 | AH17: 68300 | AI17: 127200 | AJ17: 3775000 | AK17: 2869000 | AL17: … | AM17: … | AN17: … | AO17: … | AP17: … | AQ17: … | AR17: 29000 | AS17: 400100 | AT17: 229700 | AU17: 27800 | AV17: 389000 | AW17: 221000 | AX17: 1150 | AY17: 11100 | AZ17: 8660 | BA17: 7760 | BB17: 139800 | BC17: 105900 | BD17: … | BE17: … | BF17: …
A18: 昭.58(1983) | B18: 68500 | C18: 2548000 | D18: 1826000 | E18: 5940 | F18: 228300 | G18: 195400 | H18: 11000 | I18: 309400 | J18: 253100 | K18: 51600 | L18: 2010000 | M18: 1377000 | N18: 7700 | O18: 203400 | P18: 150300 | Q18: 24200 | R18: 628600 | S18: 530700 | T18: 5170 | U18: 149500 | V18: 132400 | W18: 7950 | X18: 182400 | Y18: 156300 | Z18: 11100 | AA18: 296800 | AB18: 242000 | AC18: 13900 | AD18: 246900 | AE18: 186500 | AF18: 6420 | AG18: 92000 | AH18: 76800 | AI18: 127800 | AJ18: 3566000 | AK18: 2683000 | AL18: 122300 | AM18: 3480000 | AN18: … | AO18: 5520 | AP18: 85600 | AQ18: … | AR18: 28900 | AS18: 393200 | AT18: 226900 | AU18: 27500 | AV18: 379200 | AW18: 215800 | AX18: 1340 | AY18: 14000 | AZ18: 11100 | BA18: 7700 | BB18: 131800 | BC18: 99300 | BD18: … | BE18: … | BF18: …
A19: 昭.59(1984) | B19: 68500 | C19: 2631000 | D19: 1902000 | E19: 6160 | F19: 231300 | G19: 198200 | H19: 11400 | I19: 319900 | J19: 263300 | K19: 51000 | L19: 2079000 | M19: 1440000 | N19: 7630 | O19: 199200 | P19: 147300 | Q19: 24600 | R19: 643000 | S19: 541400 | T19: 5150 | U19: 144100 | V19: 127600 | W19: 8350 | X19: 196100 | Y19: 167900 | Z19: 11100 | AA19: 302800 | AB19: 245800 | AC19: 14600 | AD19: 272100 | AE19: 207200 | AF19: 6370 | AG19: 94500 | AH19: 78700 | AI19: 130900 | AJ19: 3707000 | AK19: 2854000 | AL19: 125400 | AM19: 3621000 | AN19: … | AO19: 5480 | AP19: 86400 | AQ19: … | AR19: 28500 | AS19: 347100 | AT19: 199800 | AU19: 27200 | AV19: 330700 | AW19: 186500 | AX19: 1380 | AY19: 16500 | AZ19: 13300 | BA19: 8120 | BB19: 160200 | BC19: 124200 | BD19: … | BE19: … | BF19: …
A20: 昭.60(1985) | B20: 66900 | C20: 2544000 | D20: 1856000 | E20: 6240 | F20: 242700 | G20: 207800 | H20: 11100 | I20: 305500 | J20: 248800 | K20: 49500 | L20: 1996000 | M20: 1399000 | N20: 7700 | O20: 208600 | P20: 157100 | Q20: 25000 | R20: 662600 | S20: 560700 | T20: 5330 | U20: 160600 | V20: 142500 | W20: 8860 | X20: 212900 | Y20: 181600 | Z20: 10800 | AA20: 288900 | AB20: 236700 | AC20: 14400 | AD20: 263400 | AE20: 204200 | AF20: 6090 | AG20: 89400 | AH20: 73800 | AI20: 130100 | AJ20: 3727000 | AK20: 2897000 | AL20: 124800 | AM20: 3649000 | AN20: … | AO20: 5350 | AP20: 77700 | AQ20: … | AR20: 28500 | AS20: 375100 | AT20: 225300 | AU20: 27100 | AV20: 357800 | AW20: 211500 | AX20: 1420 | AY20: 17200 | AZ20: 13900 | BA20: 8390 | BB20: 167600 | BC20: 133000 | BD20: … | BE20: … | BF20: …
A21: 昭.61(1986) | B21: 66300 | C21: 2655000 | D21: 1929000 | E21: 6320 | F21: 246300 | G21: 211900 | H21: 11700 | I21: 342500 | J21: 281800 | K21: 48300 | L21: 2066000 | M21: 1435000 | N21: 7810 | O21: 211500 | P21: 159900 | Q21: 24400 | R21: 670800 | S21: 570500 | T21: 5510 | U21: 160100 | V21: 142600 | W21: 8290 | X21: 203100 | Y21: 174200 | Z21: 10600 | AA21: 307800 | AB21: 253700 | AC21: 14400 | AD21: 268600 | AE21: 209100 | AF21: 6050 | AG21: 92400 | AH21: 74900 | AI21: 130100 | AJ21: 4073000 | AK21: 3235000 | AL21: 124700 | AM21: 3980000 | AN21: … | AO21: 5360 | AP21: 93100 | AQ21: … | AR21: 28300 | AS21: 384900 | AT21: 233200 | AU21: 26900 | AV21: 368200 | AW21: 219200 | AX21: 1400 | AY21: 16700 | AZ21: 14000 | BA21: 8440 | BB21: 152300 | BC21: 118900 | BD21: … | BE21: … | BF21: …
A22: 昭.62(1987) | B22: 64900 | C22: 2534000 | D22: 1839000 | E22: 6320 | F22: 251400 | G22: 215500 | H22: 11900 | I22: 338000 | J22: 276300 | K22: 46700 | L22: 1945000 | M22: 1347000 | N22: 7800 | O22: 216600 | P22: 166000 | Q22: 23800 | R22: 669300 | S22: 570800 | T22: 5820 | U22: 180300 | V22: 161300 | W22: 7650 | X22: 191800 | Y22: 164200 | Z22: 10300 | AA22: 297400 | AB22: 243300 | AC22: 14500 | AD22: 268800 | AE22: 212300 | AF22: 6050 | AG22: 86900 | AH22: 70800 | AI22: 127500 | AJ22: 3955000 | AK22: 3140000 | AL22: 122200 | AM22: 3880000 | AN22: … | AO22: 5330 | AP22: 75400 | AQ22: … | AR22: 28500 | AS22: 391500 | AT22: 236200 | AU22: 27000 | AV22: 373500 | AW22: 220900 | AX22: 1520 | AY22: 18000 | AZ22: 15300 | BA22: 8530 | BB22: 166100 | BC22: 130000 | BD22: … | BE22: … | BF22: …
A23: 昭.63(1988) | B23: 63200 | C23: 2457000 | D23: 1789000 | E23: 6360 | F23: 260500 | G23: 224400 | H23: 10900 | I23: 311600 | J23: 267600 | K23: 45900 | L23: 1884000 | M23: 1297000 | N23: 7670 | O23: 212800 | P23: 161800 | Q23: 24500 | R23: 678600 | S23: 578800 | T23: 5900 | U23: 182000 | V23: 161600 | W23: 8180 | X23: 206900 | Y23: 179100 | Z23: 10500 | AA23: 290000 | AB23: 238200 | AC23: 14700 | AD23: 253100 | AE23: 199500 | AF23: 5690 | AG23: 85800 | AH23: 69900 | AI23: 124700 | AJ23: 3763000 | AK23: 2990000 | AL23: 119400 | AM23: 3689000 | AN23: … | AO23: 5200 | AP23: 74000 | AQ23: … | AR23: 28400 | AS23: 397300 | AT23: 238600 | AU23: 26700 | AV23: 375100 | AW23: 220000 | AX23: 1700 | AY23: 22100 | AZ23: 18600 | BA23: 8670 | BB23: 146700 | BC23: 113000 | BD23: … | BE23: … | BF23: …
A24: 平.元(1989) | B24: 62300 | C24: 2449000 | D24: 1794000 | E24: 6380 | F24: 268800 | G24: 232400 | H24: 11300 | I24: 329100 | J24: 282700 | K24: 44600 | L24: 1851000 | M24: 1279000 | N24: 7610 | O24: 210200 | P24: 160200 | Q24: 24000 | R24: 685200 | S24: 584900 | T24: 5800 | U24: 183500 | V24: 163800 | W24: 8210 | X24: 206100 | Y24: 177900 | Z24: 10000 | AA24: 295500 | AB24: 243100 | AC24: 15200 | AD24: 274300 | AE24: 219000 | AF24: 5960 | AG24: 84500 | AH24: 70300 | AI24: 119800 | AJ24: 3587000 | AK24: 2762000 | AL24: 114900 | AM24: 3514000 | AN24: … | AO24: 4840 | AP24: 72500 | AQ24: … | AR24: 26800 | AS24: 363600 | AT24: 213100 | AU24: 25100 | AV24: 341800 | AW24: 194500 | AX24: 1680 | AY24: 21800 | AZ24: 18600 | BA24: 8920 | BB24: 165600 | BC24: 127800 | BD24: … | BE24: … | BF24: …
A25: 平.2(1990) | B25: 60900 | C25: 2336000 | D25: 1721000 | E25: 6380 | F25: 270500 | G25: 234100 | H25: 11200 | I25: 328500 | J25: 284300 | K25: 43300 | L25: 1737000 | M25: 1203000 | N25: 7480 | O25: 209300 | P25: 160500 | Q25: 23500 | R25: 654600 | S25: 560200 | T25: 5650 | U25: 173000 | V25: 154600 | W25: 8300 | X25: 213400 | Y25: 185700 | Z25: 9590 | AA25: 268300 | AB25: 220000 | AC25: 14800 | AD25: 270300 | AE25: 216700 | AF25: 5860 | AG25: 87600 | AH25: 73500 | AI25: 115800 | AJ25: 3552000 | AK25: 2746000 | AL25: 111300 | AM25: 3478000 | AN25: … | AO25: 4530 | AP25: 73900 | AQ25: … | AR25: 26000 | AS25: 315300 | AT25: 185300 | AU25: 24400 | AV25: 294700 | AW25: 167800 | AX25: 1600 | AY25: 20600 | AZ25: 17400 | BA25: 9530 | BB25: 200900 | BC25: 157900 | BD25: … | BE25: … | BF25: …
A26: 平.3(1991) | B26: 59800 | C26: 2317000 | D26: 1722000 | E26: 6380 | F26: 270900 | G26: 234500 | H26: 11000 | I26: 327900 | J26: 287100 | K26: 42400 | L26: 1718000 | M26: 1200000 | N26: 7370 | O26: 200700 | P26: 153600 | Q26: 23900 | R26: 660200 | S26: 570300 | T26: 5650 | U26: 172700 | V26: 154600 | W26: 8670 | X26: 233400 | Y26: 207700 | Z26: 9610 | AA26: 254100 | AB26: 208000 | AC26: 14100 | AD26: 235500 | AE26: 187300 | AF26: 5840 | AG26: 76200 | AH26: 64700 | AI26: 111800 | AJ26: 3609000 | AK26: 2804000 | AL26: 107600 | AM26: 3550000 | AN26: … | AO26: 4240 | AP26: 59200 | AQ26: … | AR26: 25800 | AS26: 353400 | AT26: 210700 | AU26: 24200 | AV26: 332700 | AW26: 193000 | AX26: 1590 | AY26: 20700 | AZ26: 17700 | BA26: 9620 | BB26: 184900 | BC26: 143500 | BD26: … | BE26: … | BF26: …
A27: 平.4(1992) | B27: 58500 | C27: 2346000 | D27: 1744000 | E27: 6360 | F27: 275200 | G27: 239200 | H27: 11300 | I27: 338800 | J27: 294800 | K27: 40800 | L27: 1732000 | M27: 1210000 | N27: 7280 | O27: 197700 | P27: 150900 | Q27: 23600 | R27: 690300 | S27: 596400 | T27: 5670 | U27: 187100 | V27: 168300 | W27: 8410 | X27: 215500 | Y27: 188700 | Z27: 9490 | AA27: 287700 | AB27: 239400 | AC27: 14600 | AD27: 269200 | AE27: 217300 | AF27: 5740 | AG27: 75500 | AH27: 63200 | AI27: 111400 | AJ27: 3494000 | AK27: 2690000 | AL27: 107300 | AM27: 3427000 | AN27: 2652000 | AO27: 4170 | AP27: 67400 | AQ27: 38300 | AR27: 25000 | AS27: 304600 | AT27: 179500 | AU27: 23300 | AV27: 283500 | AW27: 161700 | AX27: 1700 | AY27: 21100 | AZ27: 17800 | BA27: 8780 | BB27: 165300 | BC27: 127600 | BD27: … | BE27: … | BF27: …
A28: 平.5(1993) | B28: 56600 | C28: 2224000 | D28: 1660000 | E28: 6210 | F28: 267900 | G28: 233100 | H28: 11200 | I28: 329100 | J28: 288900 | K28: 39200 | L28: 1627000 | M28: 1138000 | N28: 7170 | O28: 201900 | P28: 155800 | Q28: 23500 | R28: 709200 | S28: 615600 | T28: 5490 | U28: 184200 | V28: 165500 | W28: 8540 | X28: 232100 | Y28: 205400 | Z28: 9480 | AA28: 292900 | AB28: 244700 | AC28: 13700 | AD28: 237000 | AE28: 191900 | AF28: 5660 | AG28: 53200 | AH28: 43400 | AI28: 111200 | AJ28: 3390000 | AK28: 2664000 | AL28: 107200 | AM28: 3325000 | AN28: 2626000 | AO28: 4020 | AP28: 64200 | AQ28: 37800 | AR28: 24100 | AS28: 299000 | AT28: 174700 | AU28: 22400 | AV28: 279500 | AW28: 158600 | AX28: 1710 | AY28: 19600 | AZ28: 16200 | BA28: 8690 | BB28: 137300 | BC28: 104400 | BD28: … | BE28: … | BF28: …
A29: 平.6(1994) | B29: 54800 | C29: 2154000 | D29: 1610000 | E29: 6150 | F29: 272100 | G29: 236700 | H29: 11000 | I29: 325000 | J29: 286100 | K29: 37700 | L29: 1557000 | M29: 1087000 | N29: 7080 | O29: 200500 | P29: 155900 | Q29: 23100 | R29: 658300 | S29: 569300 | T29: 5360 | U29: 177700 | V29: 159000 | W29: 8330 | X29: 219500 | Y29: 192700 | Z29: 9440 | AA29: 261000 | AB29: 217600 | AC29: 13400 | AD29: 243800 | AE29: 199100 | AF29: 5460 | AG29: 86700 | AH29: 70200 | AI29: 108200 | AJ29: 3377000 | AK29: 2663000 | AL29: 104300 | AM29: 3328000 | AN29: 2637000 | AO29: 3860 | AP29: 48300 | AQ29: 26000 | AR29: 23200 | AS29: 238400 | AT29: 136800 | AU29: 21500 | AV29: 222700 | AW29: 124200 | AX29: 1640 | AY29: 15700 | AZ29: 12500 | BA29: 8680 | BB29: 180900 | BC29: 139800 | BD29: … | BE29: … | BF29: …
A30: 平.7(1995) | B30: 53300 | C30: 2148000 | D30: 1609000 | E30: 6070 | F30: 270300 | G30: 235500 | H30: 10700 | I30: 338000 | J30: 296600 | K30: 36500 | L30: 1540000 | M30: 1077000 | N30: 6870 | O30: 193300 | P30: 149600 | Q30: 24500 | R30: 724700 | S30: 630000 | T30: 5290 | U30: 171900 | V30: 154700 | W30: 9260 | X30: 257600 | Y30: 228600 | Z30: 9940 | AA30: 295200 | AB30: 246800 | AC30: 12800 | AD30: 231600 | AE30: 189600 | AF30: 5360 | AG30: 81000 | AH30: 65100 | AI30: 104400 | AJ30: 3365000 | AK30: 2618000 | AL30: 100700 | AM30: 3304000 | AN30: 2580000 | AO30: 3680 | AP30: 61000 | AQ30: 38000 | AR30: 22400 | AS30: 254300 | AT30: 147500 | AU30: 20900 | AV30: 238200 | AW30: 134300 | AX30: 1510 | AY30: 16200 | AZ30: 13200 | BA30: 8710 | BB30: 172200 | BC30: 135900 | BD30: … | BE30: … | BF30: …
A31: 平.8(1996) | B31: 51800 | C31: 2132000 | D31: 1592000 | E31: 5980 | F31: 261400 | G31: 227600 | H31: 10300 | I31: 330600 | J31: 286900 | K31: 35500 | L31: 1540000 | M31: 1077000 | N31: 6770 | O31: 195500 | P31: 151200 | Q31: 24300 | R31: 736200 | S31: 633800 | T31: 5150 | U31: 160900 | V31: 143800 | W31: 9200 | X31: 261500 | Y31: 228000 | Z31: 9980 | AA31: 313800 | AB31: 262000 | AC31: 13200 | AD31: 248200 | AE31: 200700 | AF31: 5210 | AG31: 69900 | AH31: 55400 | AI31: 103000 | AJ31: 3087000 | AK31: 2447000 | AL31: 99500 | AM31: 3028000 | AN31: 2412000 | AO31: 3550 | AP31: 58400 | AQ31: 35100 | AR31: 22000 | AS31: 254100 | AT31: 149400 | AU31: 20500 | AV31: 238500 | AW31: 136800 | AX31: 1470 | AY31: 15600 | AZ31: 12600 | BA31: 8750 | BB31: 170200 | BC31: 133300 | BD31: … | BE31: … | BF31: …
A32: 平.9(1997) | B32: 49800 | C32: 2020000 | D32: 1487000 | E32: 5900 | F32: 264900 | G32: 229600 | H32: 9950 | I32: 312900 | J32: 272100 | K32: 33900 | L32: 1442000 | M32: 985300 | N32: 6690 | O32: 195200 | P32: 151200 | Q32: 23200 | R32: 716100 | S32: 615800 | T32: 5110 | U32: 174700 | V32: 156200 | W32: 8650 | X32: 242300 | Y32: 211600 | Z32: 9430 | AA32: 299100 | AB32: 247900 | AC32: 12100 | AD32: 227200 | AE32: 183900 | AF32: 4920 | AG32: 68100 | AH32: 53300 | AI32: 103000 | AJ32: 3395000 | AK32: 2736000 | AL32: 99500 | AM32: 3344000 | AN32: 2706000 | AO32: 3480 | AP32: 51300 | AQ32: 30000 | AR32: 21400 | AS32: 270000 | AT32: 163900 | AU32: 21100 | AV32: 266800 | AW32: 161300 | AX32: 257 | AY32: 3230 | AZ32: 2620 | BA32: 8740 | BB32: 183400 | BC32: 142000 | BD32: … | BE32: … | BF32: …
A33: 平.10(1998) | B33: 48500 | C33: 1902000 | D33: 1434000 | E33: 5830 | F33: 256200 | G33: 222800 | H33: 9710 | I33: 307800 | J33: 270600 | K33: 33000 | L33: 1338000 | M33: 940400 | N33: 6660 | O33: 190700 | P33: 147500 | Q33: 22400 | R33: 648100 | S33: 561100 | T33: 4950 | U33: 158700 | V33: 141800 | W33: 8100 | X33: 222000 | Y33: 196100 | Z33: 9310 | AA33: 267300 | AB33: 223200 | AC33: 11700 | AD33: 188400 | AE33: 151400 | AF33: 4900 | AG33: 71900 | AH33: 55200 | AI33: 99900 | AJ33: 3073000 | AK33: 2428000 | AL33: 96500 | AM33: 3024000 | AN33: 2399000 | AO33: 3450 | AP33: 48900 | AQ33: 29600 | AR33: 20800 | AS33: 258400 | AT33: 153200 | AU33: 20500 | AV33: 255400 | AW33: 150800 | AX33: 245 | AY33: 2980 | AZ33: 2410 | BA33: 8910 | BB33: 176900 | BC33: 137600 | BD33: … | BE33: … | BF33: …
A34: 平.11(1999) | B34: 47700 | C34: 1948000 | D34: 1466000 | E34: 5750 | F34: 264500 | G34: 230900 | H34: 9710 | I34: 298700 | J34: 262600 | K34: 32200 | L34: 1385000 | M34: 972900 | N34: 6530 | O34: 179100 | P34: 137900 | Q34: 22600 | R34: 676700 | S34: 588500 | T34: 4840 | U34: 160500 | V34: 144400 | W34: 8370 | X34: 227000 | Y34: 200900 | Z34: 9360 | AA34: 289300 | AB34: 243200 | AC34: 11400 | AD34: 203800 | AE34: 164900 | AF34: 4790 | AG34: 75200 | AH34: 58100 | AI34: 97700 | AJ34: 2963000 | AK34: 2369000 | AL34: 94200 | AM34: 2916000 | AN34: 2341000 | AO34: 3440 | AP34: 46500 | AQ34: 28300 | AR34: 20000 | AS34: 247700 | AT34: 148100 | AU34: 19700 | AV34: 245200 | AW34: 146100 | AX34: 219 | AY34: 2510 | AZ34: 2020 | BA34: 8880 | BB34: 193100 | BC34: 150600 | BD34: … | BE34: … | BF34: …
A35: 平.12(2000) | B35: 45700 | C35: 1876000 | D35: 1419000 | E35: 5560 | F35: 260800 | G35: 227400 | H35: 9340 | I35: 300800 | J35: 265700 | K35: 30800 | L35: 1314000 | M35: 925400 | N35: 6470 | O35: 187200 | P35: 145400 | Q35: 22300 | R35: 681700 | S35: 593000 | T35: 4720 | U35: 172900 | V35: 154500 | W35: 8280 | X35: 225100 | Y35: 198600 | Z35: 9330 | AA35: 283700 | AB35: 239900 | AC35: 10700 | AD35: 189900 | AE35: 153900 | AF35: 4660 | AG35: 75500 | AH35: 58900 | AI35: 94600 | AJ35: 2898000 | AK35: 2312000 | AL35: 91300 | AM35: 2844000 | AN35: 2278000 | AO35: 3310 | AP35: 54500 | AQ35: 34600 | AR35: 18800 | AS35: 230500 | AT35: 138300 | AU35: 18600 | AV35: 228400 | AW35: 136600 | AX35: 187 | AY35: 2130 | AZ35: 1720 | BA35: 8880 | BB35: 201200 | BC35: 156300 | BD35: … | BE35: … | BF35: …
A36: 平.13(2001) | B36: 44100 | C36: 1868000 | D36: 1413000 | E36: 5550 | F36: 262600 | G36: 229000 | H36: 9040 | I36: 300900 | J36: 263600 | K36: 29500 | L36: 1305000 | M36: 920500 | N36: 6270 | O36: 182200 | P36: 142100 | Q36: 21700 | R36: 691300 | S36: 603600 | T36: 4640 | U36: 164700 | V36: 147200 | W36: 7730 | X36: 224500 | Y36: 199000 | Z36: 9300 | AA36: 302200 | AB36: 257300 | AC36: 10100 | AD36: 177900 | AE36: 143600 | AF36: 4560 | AG36: 75300 | AH36: 58800 | AI36: 92900 | AJ36: 2959000 | AK36: 2385000 | AL36: 89600 | AM36: 2902000 | AN36: 2349000 | AO36: 3210 | AP36: 56600 | AQ36: 36300 | AR36: 17800 | AS36: 217800 | AT36: 129200 | AU36: 17700 | AV36: 215800 | AW36: 127600 | AX36: 165 | AY36: 1990 | AZ36: 1630 | BA36: 8770 | BB36: 182400 | BC36: 142000 | BD36: … | BE36: … | BF36: …
A37: 平.14(2002) | B37: 42500 | C37: 1780000 | D37: 1361000 | E37: 5350 | F37: 257400 | G37: 225000 | H37: 8710 | I37: 296000 | J37: 261200 | K37: 28500 | L37: 1227000 | M37: 874800 | N37: 6180 | O37: 183600 | P37: 144800 | Q37: 20500 | R37: 643700 | S37: 561700 | T37: 4540 | U37: 164900 | V37: 147400 | W37: 6900 | X37: 194100 | Y37: 172200 | Z37: 9050 | AA37: 284700 | AB37: 242100 | AC37: 9660 | AD37: 166500 | AE37: 134500 | AF37: 4490 | AG37: 72800 | AH37: 56900 | AI37: 92100 | AJ37: 3074000 | AK37: 2498000 | AL37: 89100 | AM37: 3018000 | AN37: 2459000 | AO37: 3060 | AP37: 55600 | AQ37: 38400 | AR37: 17100 | AS37: 208900 | AT37: 123400 | AU37: 17000 | AV37: 208200 | AW37: 122900 | AX37: 77 | AY37: 675 | AZ37: 522 | BA37: 8810 | BB37: 181700 | BC37: 143700 | BD37: … | BE37: … | BF37: …
A38: 平.15(2003) | B38: 41500 | C38: 1752000 | D38: 1334000 | E38: 5270 | F38: 249200 | G38: 218600 | H38: 8530 | I38: 295400 | J38: 261600 | K38: 27700 | L38: 1208000 | M38: 854000 | N38: 6120 | O38: 179100 | P38: 140600 | Q38: 20300 | R38: 658900 | S38: 576400 | T38: 4380 | U38: 155700 | V38: 139500 | W38: 7110 | X38: 213600 | Y38: 190600 | Z38: 8800 | AA38: 289500 | AB38: 246300 | AC38: 9760 | AD38: 171000 | AE38: 139300 | AF38: 4380 | AG38: 60200 | AH38: 48300 | AI38: 88300 | AJ38: 2939000 | AK38: 2401000 | AL38: 85300 | AM38: 2896000 | AN38: 2374000 | AO38: 3000 | AP38: 43000 | AQ38: 27900 | AR38: 16400 | AS38: 209400 | AT38: 124800 | AU38: 16300 | AV38: 209000 | AW38: 124500 | AX38: 54 | AY38: 456 | AZ38: 346 | BA38: 8870 | BB38: 177300 | BC38: 137200 | BD38: … | BE38: … | BF38: …
A39: 平.16(2004) | B39: 40000 | C39: 1620000 | D39: 1241000 | E39: 5150 | F39: 249500 | G39: 218900 | H39: 8030 | I39: 278000 | J39: 245500 | K39: 26800 | L39: 1092000 | M39: 776800 | N39: 5710 | O39: 167800 | P39: 132200 | Q39: 19500 | R39: 615700 | S39: 532600 | T39: 4360 | U39: 157100 | V39: 140800 | W39: 6680 | X39: 216400 | Y39: 188100 | Z39: 8490 | AA39: 242100 | AB39: 203700 | AC39: 9240 | AD39: 171500 | AE39: 140800 | AF39: 4210 | AG39: 60700 | AH39: 49100 | AI39: 87200 | AJ39: 2888000 | AK39: 2357000 | AL39: 84200 | AM39: 2842000 | AN39: 2326000 | AO39: 2960 | AP39: 45500 | AQ39: 31100 | AR39: 15800 | AS39: 184800 | AT39: 110100 | AU39: 15700 | AV39: 184500 | AW39: 109900 | AX39: 47 | AY39: 338 | AZ39: 227 | BA39: 8640 | BB39: 197900 | BC39: 159200 | BD39: … | BE39: … | BF39: …
A40: 平.17(2005) | B40: 39100 | C40: 1627000 | D40: 1248000 | E40: 4970 | F40: 239600 | G40: 210200 | H40: 7950 | I40: 275800 | J40: 243400 | K40: 26100 | L40: 1112000 | M40: 794400 | N40: 5470 | O40: 153200 | P40: 120800 | Q40: 19000 | R40: 614900 | S40: 539700 | T40: 4240 | U40: 148900 | V40: 133600 | W40: 6400 | X40: 205100 | Y40: 184600 | Z40: 8350 | AA40: 261000 | AB40: 221500 | AC40: 8780 | AD40: 161700 | AE40: 132900 | AF40: 4170 | AG40: 64200 | AH40: 51300 | AI40: 86900 | AJ40: 2752000 | AK40: 2242000 | AL40: 84000 | AM40: 2712000 | AN40: 2215000 | AO40: 2890 | AP40: 40600 | AQ40: 26800 | AR40: 15000 | AS40: 184500 | AT40: 108500 | AU40: 14900 | AV40: 184200 | AW40: 108300 | AX40: … | AY40: … | AZ40: … | BA40: 8750 | BB40: 204100 | BC40: 163700 | BD40: … | BE40: … | BF40: …
A41: 平.18(2006) | B41: 38300 | C41: 1650000 | D41: 1264000 | E41: 4970 | F41: 231100 | G41: 202200 | H41: 7800 | I41: 283900 | J41: 252300 | K41: 25500 | L41: 1135000 | M41: 809400 | N41: 5390 | O41: 150700 | P41: 119800 | Q41: 18800 | R41: 624100 | S41: 548200 | T41: 4130 | U41: 149800 | V41: 131600 | W41: 6390 | X41: 187200 | Y41: 169900 | Z41: 8270 | AA41: 287000 | AB41: 246700 | AC41: 8690 | AD41: 159300 | AE41: 130900 | AF41: 4130 | AG41: 58400 | AH41: 46800 | AI41: 86600 | AJ41: 2635000 | AK41: 2135000 | AL41: 83600 | AM41: 2590000 | AN41: 2104000 | AO41: 2930 | AP41: 45700 | AQ41: 31500 | AR41: 14400 | AS41: 174700 | AT41: 102700 | AU41: 14400 | AV41: 174300 | AW41: 102500 | AX41: 44 | AY41: 309 | AZ41: 208 | BA41: 8540 | BB41: 192200 | BC41: 154300 | BD41: … | BE41: … | BF41: …
A42: 平.19(2007) | B42: 37200 | C42: 1626000 | D42: 1258000 | E42: 5010 | F42: 247000 | G42: 217800 | H42: 7400 | I42: 270100 | J42: 239600 | K42: 24800 | L42: 1109000 | M42: 800500 | N42: 5360 | O42: 159300 | P42: 128500 | Q42: 19100 | R42: 665900 | S42: 584800 | T42: 4260 | U42: 160400 | V42: 145100 | W42: 6580 | X42: 218500 | Y42: 192900 | Z42: 8260 | AA42: 286800 | AB42: 246700 | AC42: 8800 | AD42: 163100 | AE42: 136200 | AF42: 4060 | AG42: 58200 | AH42: 47100 | AI42: 87400 | AJ42: 2873000 | AK42: 2370000 | AL42: 84500 | AM42: 2828000 | AN42: 2340000 | AO42: 2890 | AP42: 44400 | AQ42: 30500 | AR42: 14100 | AS42: 173200 | AT42: 104300 | AU42: 14100 | AV42: 172800 | AW42: 104100 | AX42: 48 | AY42: 349 | AZ42: 214 | BA42: 8250 | BB42: 190400 | BC42: 154500 | BD42: 5700 | BE42: 158700 | BF42: 131400
A43: 平.20(2008) | B43: 36600 | C43: 1603000 | D43: 1250000 | E43: 5010 | F43: 250800 | G43: 222100 | H43: 7150 | I43: 258900 | J43: 230000 | K43: 24500 | L43: 1093000 | M43: 797700 | N43: 5280 | O43: 159100 | P43: 128600 | Q43: 19300 | R43: 656800 | S43: 577100 | T43: 4320 | U43: 157900 | V43: 142700 | W43: 6590 | X43: 222500 | Y43: 196800 | Z43: 8360 | AA43: 276400 | AB43: 237700 | AC43: 8980 | AD43: 167200 | AE43: 140300 | AF43: 4010 | AG43: 63300 | AH43: 52700 | AI43: 84900 | AJ43: 2743000 | AK43: 2251000 | AL43: 82000 | AM43: 2697000 | AN43: 2218000 | AO43: 2870 | AP43: 46100 | AQ43: 33000 | AR43: 14000 | AS43: 179700 | AT43: 110200 | AU43: 14000 | AV43: 179400 | AW43: 110000 | AX43: 42 | AY43: 311 | AZ43: 188 | BA43: 8050 | BB43: 181200 | BC43: 146300 | BD43: 5560 | BE43: 150100 | BF43: 123600
A44: 平.21(2009) | B44: 36400 | C44: 1593000 | D44: 1250000 | E44: 5000 | F44: 243300 | G44: 215100 | H44: 7170 | I44: 256500 | J44: 228500 | K44: 24200 | L44: 1093000 | M44: 806700 | N44: 5240 | O44: 155000 | P44: 125300 | Q44: 19000 | R44: 650100 | S44: 577300 | T44: 4290 | U44: 162500 | V44: 147200 | W44: 6380 | X44: 198800 | Y44: 180800 | Z44: 8290 | AA44: 288900 | AB44: 249300 | AC44: 9270 | AD44: 173400 | AE44: 146000 | AF44: 3970 | AG44: 62200 | AH44: 51900 | AI44: 83100 | AJ44: 2459000 | AK44: 2001000 | AL44: 80300 | AM44: 2412000 | AN44: 1967000 | AO44: 2820 | AP44: 46700 | AQ44: 33700 | AR44: 14100 | AS44: 182400 | AT44: 112400 | AU44: 14000 | AV44: 182000 | AW44: 112200 | AX44: 41 | AY44: 387 | AZ44: 246 | BA44: 7900 | BB44: 167100 | BC44: 135000 | BD44: 5460 | BE44: 138000 | BF44: 114000
A45: 平.22(2010) | B45: 35700 | C45: 1496000 | D45: 1175000 | E45: 4930 | F45: 231800 | G45: 204600 | H45: 6880 | I45: 233500 | J45: 209600 | K45: 23900 | L45: 1031000 | M45: 760400 | N45: 4990 | O45: 144600 | P45: 117100 | Q45: 19000 | R45: 595700 | S45: 526600 | T45: 4220 | U45: 150300 | V45: 135300 | W45: 6550 | X45: 184400 | Y45: 166200 | Z45: 8270 | AA45: 261100 | AB45: 225100 | AC45: 8830 | AD45: 161100 | AE45: 136300 | AF45: 4010 | AG45: 60400 | AH45: 50000 | AI45: 82500 | AJ45: 2290000 | AK45: 1864000 | AL45: 79600 | AM45: 2237000 | AN45: 1824000 | AO45: 2910 | AP45: 52500 | AQ45: 39300 | AR45: 13800 | AS45: 167600 | AT45: 103700 | AU45: 13800 | AV45: 167100 | AW45: 103400 | AX45: 40 | AY45: 424 | AZ45: 318 | BA45: 7640 | BB45: 173400 | BC45: 142400 | BD45: 5250 | BE45: 145200 | BF45: 121900
A46: 平.23(2011) | B46: 34900 | C46: 1493000 | D46: 1180000 | E46: 4890 | F46: 237200 | G46: 209900 | H46: 6840 | I46: 249200 | J46: 224600 | K46: 23200 | L46: 1006000 | M46: 745800 | N46: 4910 | O46: 139400 | P46: 113300 | Q46: 19200 | R46: 617300 | S46: 546500 | T46: 4480 | U46: 166400 | V46: 150300 | W46: 6450 | X46: 186600 | Y46: 168600 | Z46: 8240 | AA46: 264400 | AB46: 227600 | AC46: 8810 | AD46: 161800 | AE46: 136600 | AF46: 4020 | AG46: 58400 | AH46: 48200 | AI46: 81000 | AJ46: 2387000 | AK46: 1961000 | AL46: 78000 | AM46: 2339000 | AN46: 1925000 | AO46: 2950 | AP46: 48500 | AQ46: 35800 | AR46: 13600 | AS46: 171300 | AT46: 107000 | AU46: 13600 | AV46: 170900 | AW46: 106700 | AX46: 26 | AY46: 322 | AZ46: 251 | BA46: 7510 | BB46: 165900 | BC46: 134800 | BD46: 5140 | BE46: 137000 | BF46: 113900
A47: 平.24(2012) | B47: 34400 | C47: 1469000 | D47: 1168000 | E47: 4710 | F47: 221100 | G47: 195200 | H47: 6890 | I47: 258300 | J47: 234000 | K47: 22800 | L47: 989600 | M47: 739200 | N47: 4830 | O47: 136100 | P47: 110600 | Q47: 18900 | R47: 613200 | S47: 544100 | T47: 4470 | U47: 159200 | V47: 144100 | W47: 6340 | X47: 199800 | Y47: 181600 | Z47: 8140 | AA47: 254100 | AB47: 218400 | AC47: 8810 | AD47: 167500 | AE47: 142600 | AF47: 4000 | AG47: 62500 | AH47: 52100 | AI47: 81200 | AJ47: 2500000 | AK47: 2061000 | AL47: 78300 | AM47: 2447000 | AN47: 2021000 | AO47: 2950 | AP47: 53200 | AQ47: 40700 | AR47: 13400 | AS47: 172500 | AT47: 109300 | AU47: 13400 | AV47: 172300 | AW47: 109100 | AX47: 20 | AY47: 210 | AZ47: 165 | BA47: 7480 | BB47: 166100 | BC47: 135300 | BD47: 5130 | BE47: 138900 | BF47: 115900
A48: 平.25(2013) | B48: 33700 | C48: 1457000 | D48: 1172000 | E48: 4740 | F48: 229900 | G48: 203600 | H48: 6490 | I48: 248300 | J48: 225600 | K48: 22400 | L48: 979200 | M48: 742400 | N48: 4750 | O48: 132500 | P48: 108500 | Q48: 18500 | R48: 603900 | S48: 535900 | T48: 4550 | U48: 170100 | V48: 154200 | W48: 5920 | X48: 184500 | Y48: 167500 | Z48: 8070 | AA48: 249300 | AB48: 214200 | AC48: 8570 | AD48: 157600 | AE48: 133600 | AF48: 3960 | AG48: 63500 | AH48: 53000 | AI48: 79700 | AJ48: 2408000 | AK48: 1999000 | AL48: 76900 | AM48: 2360000 | AN48: 1963000 | AO48: 2800 | AP48: 47300 | AQ48: 36000 | AR48: 13000 | AS48: 162100 | AT48: 102700 | AU48: 13000 | AV48: 161600 | AW48: 102300 | AX48: 50 | AY48: 476 | AZ48: 412 | BA48: 7350 | BB48: 159800 | BC48: 131600 | BD48: 5200 | BE48: 136500 | BF48: 114900
A49: 平.26(2014) | B49: 33300 | C49: 1452000 | D49: 1170000 | E49: 4670 | F49: 223500 | G49: 198200 | H49: 6480 | I49: 257000 | J49: 232900 | K49: 22100 | L49: 971900 | M49: 738700 | N49: 4710 | O49: 130700 | P49: 107200 | Q49: 18400 | R49: 633200 | S49: 562900 | T49: 4510 | U49: 172800 | V49: 155900 | W49: 5770 | X49: 200500 | Y49: 182500 | Z49: 8120 | AA49: 259900 | AB49: 224500 | AC49: 8100 | AD49: 155100 | AE49: 134700 | AF49: 3910 | AG49: 56300 | AH49: 46700 | AI49: 78300 | AJ49: 2456000 | AK49: 2055000 | AL49: 75500 | AM49: 2409000 | AN49: 2019000 | AO49: 2780 | AP49: 46700 | AQ49: 35500 | AR49: 12900 | AS49: 165700 | AT49: 106300 | AU49: 12800 | AV49: 165100 | AW49: 105800 | AX49: 59 | AY49: 595 | AZ49: 519 | BA49: 7260 | BB49: 164800 | BC49: 134400 | BD49: 5160 | BE49: 141400 | BF49: 117800
A50: 平.27(2015) | B50: 32900 | C50: 1434000 | D50: 1161000 | E50: 4600 | F50: 217400 | G50: 193500 | H50: 6370 | I50: 263900 | J50: 240100 | K50: 21900 | L50: 952700 | M50: 727400 | N50: 4630 | O50: 131900 | P50: 108400 | Q50: 18100 | R50: 633100 | S50: 563000 | T50: 4520 | U50: 165800 | V50: 149900 | W50: 5530 | X50: 201500 | Y50: 182500 | Z50: 8060 | AA50: 265800 | AB50: 230500 | AC50: 8000 | AD50: 152600 | AE50: 131100 | AF50: 3950 | AG50: 56700 | AH50: 47400 | AI50: 77400 | AJ50: 2406000 | AK50: 2006000 | AL50: 74600 | AM50: 2365000 | AN50: 1974000 | AO50: 2730 | AP50: 41800 | AQ50: 31300 | AR50: 12500 | AS50: 153300 | AT50: 97800 | AU50: 12500 | AV50: 153200 | AW50: 97700 | AX50: 12 | AY50: 74 | AZ50: 69 | BA50: 7270 | BB50: 163200 | BC50: 134300 | BD50: 5200 | BE50: 138200 | BF50: 116600
A51: 平.28(2016) | B51: 32300 | C51: 1362000 | D51: 1105000 | E51: 4590 | F51: 218000 | G51: 194500 | H51: 6240 | I51: 237200 | J51: 216300 | K51: 21500 | L51: 906500 | M51: 694500 | N51: 4510 | O51: 128700 | P51: 106300 | Q51: 17800 | R51: 566800 | S51: 502800 | T51: 4420 | U51: 169100 | V51: 153200 | W51: 5580 | X51: 156800 | Y51: 142200 | Z51: 7830 | AA51: 240900 | AB51: 207400 | AC51: 8040 | AD51: 137600 | AE51: 117800 | AF51: 3930 | AG51: 59800 | AH51: 49900 | AI51: 77200 | AJ51: 2199000 | AK51: 1818000 | AL51: 74600 | AM51: 2158000 | AN51: 1787000 | AO51: 2670 | AP51: 40800 | AQ51: 30400 | AR51: 12200 | AS51: 154600 | AT51: 98600 | AU51: 12200 | AV51: 154500 | AW51: 98500 | AX51: 16 | AY51: 97 | AZ51: 87 | BA51: 7120 | BB51: 145700 | BC51: 120800 | BD51: 5150 | BE51: 124700 | BF51: 105800
A52: 平.29(2017) | B52: 32000 | C52: 1325000 | D52: 1087000 | E52: 4530 | F52: 219700 | G52: 200200 | H52: 6270 | I52: 260400 | J52: 237800 | K52: 21200 | L52: 845000 | M52: 649400 | N52: 4420 | O52: 119300 | P52: 98800 | Q52: 17900 | R52: 596500 | S52: 533700 | T52: 4290 | U52: 165900 | V52: 153700 | W52: 5840 | X52: 206600 | Y52: 187400 | Z52: 7800 | AA52: 224000 | AB52: 192600 | AC52: 7950 | AD52: 142100 | AE52: 122800 | AF52: 3970 | AG52: 61500 | AH52: 51600 | AI52: 77200 | AJ52: 2395000 | AK52: 1996000 | AL52: 74500 | AM52: 2355000 | AN52: 1966000 | AO52: 2640 | AP52: 40100 | AQ52: 30100 | AR52: 12000 | AS52: 148600 | AT52: 97000 | AU52: 11900 | AV52: 148500 | AW52: 96900 | AX52: 15 | AY52: 94 | AZ52: 84 | BA52: 7150 | BB52: 159300 | BC52: 134300 | BD52: 5200 | BE52: 138300 | BF52: 119000
A53: 平.30(2018) | B53: 31400 | C53: 1328000 | D53: 1089000 | E53: 4450 | F53: 210400 | G53: 191700 | H53: 5990 | I53: 240200 | J53: 218900 | K53: 21000 | L53: 876900 | M53: 678300 | N53: 4300 | O53: 117700 | P53: 97900 | Q53: 17200 | R53: 574700 | S53: 512500 | T53: 4190 | U53: 155500 | V53: 142900 | W53: 5410 | X53: 178500 | Y53: 161400 | Z53: 7630 | AA53: 241000 | AB53: 208200 | AC53: 7710 | AD53: 135300 | AE53: 117200 | AF53: 4000 | AG53: 61300 | AH53: 51600 | AI53: 76500 | AJ53: 2260000 | AK53: 1889000 | AL53: 74000 | AM53: 2215000 | AN53: 1855000 | AO53: 2510 | AP53: 45600 | AQ53: 34700 | AR53: 11500 | AS53: 144800 | AT53: 95300 | AU53: 11500 | AV53: 144700 | AW53: 95300 | AX53: 11 | AY53: 65 | AZ53: 58 | BA53: 7120 | BB53: 157400 | BC53: 134400 | BD53: 5180 | BE53: 134400 | BF53: 117700
... A58: 令.5(2023) | B58: 27300 | C58: 1141000 | D58: 959300 | E58: 4070 | F58: 194100 | G58: 178400 | H58: 5170 | I58: 200300 | J58: 185500 | K58: 18100 | L58: 747000 | M58: 595300 | N58: 3720 | O58: 98600 | P58: 82400 | Q58: 16300 | R58: 567000 | S58: 512400 | T58: 3930 | U58: 158800 | V58: 146700 | W58: 5030 | X58: 168500 | Y58: 154100 | Z58: 7300 | AA58: 239800 | AB58: 211600 | AC58: 6880 | AD58: 119000 | AE58: 104700 | AF58: 4040 | AG58: 56200 | AH58: 47500 | AI58: 71200 | AJ58: 2364000 | AK58: 2021000 | AL58: 69000 | AM58: 2326000 | AN58: 1991000 | AO58: 2200 | AP58: 38100 | AQ58: 29700 | AR58: 9580 | AS58: 126700 | AT58: 86300 | AU58: 9570 | AV58: 126600 | AW58: 86300 | AX58: 9 | AY58: 56 | AZ58: 41 | BA58: 6350 | BB58: 163700 | BC58: 138800 | BD58: 4780 | BE58: 146600 | BF58: 126200
A59: 令.6(2024) | B59: 26600 | C59: 1082000 | D59: 912800 | E59: 3930 | F59: 184500 | G59: 169800 | H59: 4890 | I59: 194900 | J59: 180900 | K59: 17800 | L59: 702400 | M59: 562100 | N59: 3680 | O59: 94300 | P59: 78900 | Q59: 16000 | R59: 530900 | S59: 480500 | T59: 3770 | U59: 144900 | V59: 134000 | W59: 5060 | X59: 191700 | Y59: 175000 | Z59: 7140 | AA59: 194300 | AB59: 171500 | AC59: 6700 | AD59: 117100 | AE59: 103100 | AF59: 4030 | AG59: 51900 | AH59: 43700 | AI59: 70900 | AJ59: 2295000 | AK59: 1972000 | AL59: 68700 | AM59: 2263000 | AN59: 1947000 | AO59: 2140 | AP59: 32100 | AQ59: 24500 | AR59: 9260 | AS59: 118900 | AT59: 81000 | AU59: 9260 | AV59: 118800 | AW59: 80900 | AX59: 9 | AY59: 56 | AZ59: 42 | BA59: 6170 | BB59: 148400 | BC59: 126800
B64: （注記）
B65: 平成9年産から野菜生産出荷安定法施行令の一部改正に伴い、主たる出荷期間を秋冬さといもは8月～3月を6月～3月、その他さといもは4月～7月を4月～5月に変更した。
B66: 品目 | C66: 区分 | D66: 作付面積（ha） | E66: 10a当たり収量（kg） | F66: 収穫量（t） | G66: 出荷量（t）
B67: さといも | C67: 秋冬 | D67: 9260 | E67: 1280 | F67: 118800 | G67: 80900
B68: たまねぎ | C68: 計 | D68: 25000 | E68: 4500 | F68: 1126000 | G68: 1024000
B69: だいこん | C69: 秋冬 | D69: 17800 | E69: 3950 | F69: 702400 | G69: 562100
B70: にんじん | C70: 春夏 | D70: 3770 | E70: 3840 | F70: 144900 | G70: 134000
B71: ねぎ | C71: 秋冬 | D71: 13200 | E71: 1830 | F71: 242200 | G71: 191400
B72: ばれいしょ | C72: 春植え | D72: 68700 | E72: 3290 | F72: 2263000 | G72: 1947000
B73: ばれいしょ | C73: 秋植え | D73: 2140 | E73: 1500 | F73: 32100 | G73: 24500
B74: ばれいしょ | C74: 計 | D74: 70900 | E74: 3240 | F74: 2295000 | G74: 1972000
B75: キャベツ | C75: 冬 | D75: 14500 | E75: 3370 | F75: 488900 | G75: 444400
B76: トマト | C76: 冬春 | D76: 3560 | E76: 10200 | F76: 364800 | G76: 347400
B77: レタス | C77: 冬 | D77: 7260 | E77: 2380 | F77: 172900 | G77: 160800

Sheet 全国（葉茎菜類）
A1: 野菜生産出荷統計
A2: 品目別（季節区分別）作付面積、収穫量及び出荷量累年統計
A3: 葉茎菜類
A4: 全国
A5: 年次 | B5: はくさい | E5: 春はくさい | H5: 夏はくさい | K5: 秋冬はくさい | N5: こまつな | Q5: キャベツ | T5: 春キャベツ | W5: 夏秋キャベツ | Z5: 冬キャベツ | AC5: ちんげんさい | AF5: ほうれんそう | AI5: 冬春ほうれんそう | AL5: 夏ほうれんそう | AO5: その他ほうれんそう | AR5: ふき | AU5: みつば | AX5: しゅんぎく | BA5: みずな | BD5: セルリー | BG5: アスパラガス | BJ5: カリフラワー | BM5: ブロッコリー | BP5: レタス | BS5: レタスのうちサラダ菜 | BV5: 春レタス | BY5: 春レタスのうちサラダ菜 | CB5: 夏秋レタス | CE5: 夏秋レタスのうちサラダ菜 | CH5: 冬レタス | CK5: 冬レタスのうちサラダ菜 | CN5: ねぎ | CQ5: 春ねぎ | CT5: 夏ねぎ | CW5: 秋冬ねぎ | CZ5: その他ねぎ | DC5: にら | DF5: たまねぎ | DI5: にんにく
B6: 作付面積 | C6: 収穫量 | D6: 出荷量 | E6: 作付面積 | F6: 収穫量 | G6: 出荷量 | H6: 作付面積 | I6: 収穫量 | J6: 出荷量 | K6: 作付面積 | L6: 収穫量 | M6: 出荷量 | N6: 作付面積 | O6: 収穫量 | P6: 出荷量 | Q6: 作付面積 | R6: 収穫量 | S6: 出荷量 | T6: 作付面積 | U6: 収穫量 | V6: 出荷量 | W6: 作付面積 | X6: 収穫量 | Y6: 出荷量 | Z6: 作付面積 | AA6: 収穫量 | AB6: 出荷量 | AC6: 作付面積 | AD6: 収穫量 | AE6: 出荷量 | AF6: 作付面積 | AG6: 収穫量 | AH6: 出荷量 | AI6: 作付面積 | AJ6: 収穫量 | AK6: 出荷量 | AL6: 作付面積 | AM6: 収穫量 | AN6: 出荷量 | AO6: 作付面積 | AP6: 収穫量 | AQ6: 出荷量 | AR6: 作付面積 | AS6: 収穫量 | AT6: 出荷量 | AU6: 作付面積 | AV6: 収穫量 | AW6: 出荷量 | AX6: 作付面積 | AY6: 収穫量 | AZ6: 出荷量 | BA6: 作付面積 | BB6: 収穫量 | BC6: 出荷量 | BD6: 作付面積 | BE6: 収穫量 | BF6: 出荷量 | BG6: 作付面積 | BH6: 収穫量 | BI6: 出荷量 | BJ6: 作付面積 | BK6: 収穫量 | BL6: 出荷量 | BM6: 作付面積 | BN6: 収穫量 | BO6: 出荷量 | BP6: 作付面積 | BQ6: 収穫量 | BR6: 出荷量 | BS6: 作付面積 | BT6: 収穫量 | BU6: 出荷量 | BV6: 作付面積 | BW6: 収穫量 | BX6: 出荷量 | BY6: 作付面積 | BZ6: 収穫量 | CA6: 出荷量 | CB6: 作付面積 | CC6: 収穫量 | CD6: 出荷量 | CE6: 作付面積 | CF6: 収穫量 | CG6: 出荷量 | CH6: 作付面積 | CI6: 収穫量 | CJ6: 出荷量 | CK6: 作付面積 | CL6: 収穫量 | CM6: 出荷量 | CN6: 作付面積 | CO6: 収穫量 | CP6: 出荷量 | CQ6: 作付面積 | CR6: 収穫量 | CS6: 出荷量 | CT6: 作付面積 | CU6: 収穫量 | CV6: 出荷量 | CW6: 作付面積 | CX6: 収穫量 | CY6: 出荷量 | CZ6: 作付面積 | DA6: 収穫量 | DB6: 出荷量 | DC6: 作付面積 | DD6: 収穫量 | DE6: 出荷量 | DF6: 作付面積 | DG6: 収穫量 | DH6: 出荷量 | DI6: 作付面積 | DJ6: 収穫量 | DK6: 出荷量
B7: ha | C7: t | D7: t | E7: ha | F7: t | G7: t | H7: ha | I7: t | J7: t | K7: ha | L7: t | M7: t | N7: ha | O7: t | P7: t | Q7: ha | R7: t | S7: t | T7: ha | U7: t | V7: t | W7: ha | X7: t | Y7: t | Z7: ha | AA7: t | AB7: t | AC7: ha | AD7: t | AE7: t | AF7: ha | AG7: t | AH7: t | AI7: ha | AJ7: t | AK7: t | AL7: ha | AM7: t | AN7: t | AO7: ha | AP7: t | AQ7: t | AR7: ha | AS7: t | AT7: t | AU7: ha | AV7: t | AW7: t | AX7: ha | AY7: t | AZ7: t | BA7: ha | BB7: t | BC7: t | BD7: ha | BE7: t | BF7: t | BG7: ha | BH7: t | BI7: t | BJ7: ha | BK7: t | BL7: t | BM7: ha | BN7: t | BO7: t | BP7: ha | BQ7: t | BR7: t | BS7: ha | BT7: t | BU7: t | BV7: ha | BW7: t | BX7: t | BY7: ha | BZ7: t | CA7: t | CB7: ha | CC7: t | CD7: t | CE7: ha | CF7: t | CG7: t | CH7: ha | CI7: t | CJ7: t | CK7: ha | CL7: t | CM7: t | CN7: ha | CO7: t | CP7: t | CQ7: ha | CR7: t | CS7: t | CT7: ha | CU7: t | CV7: t | CW7: ha | CX7: t | CY7: t | CZ7: ha | DA7: t | DB7: t | DC7: ha | DD7: t | DE7: t | DF7: ha | DG7: t | DH7: t | DI7: ha | DJ7: t | DK7: t
A8: 昭.48(1973) | B8: 45200 | C8: 1779000 | D8: 1285000 | E8: 1910 | F8: 66500 | G8: 55700 | H8: 4140 | I8: 200900 | J8: 180900 | K8: 39200 | L8: 1511000 | M8: 1048000 | N8: … | O8: … | P8: … | Q8: 42000 | R8: 1386000 | S8: 1109000 | T8: 12800 | U8: 410400 | V8: 306800 | W8: 12600 | X8: 446200 | Y8: 367000 | Z8: 16600 | AA8: 529900 | AB8: 435200 | AC8: … | AD8: … | AE8: … | AF8: 22900 | AG8: 343700 | AH8: 243300 | AI8: 22600 | AJ8: 339800 | AK8: 240500 | AL8: … | AM8: … | AN8: … | AO8: 340 | AP8: 4030 | AQ8: 2770 | AR8: … | AS8: … | AT8: … | AU8: … | AV8: … | AW8: … | AX8: … | AY8: … | AZ8: … | BA8: … | BB8: … | BC8: … | BD8: 643 | BE8: 28600 | BF8: 27000 | BG8: … | BH8: … | BI8: … | BJ8: 3580 | BK8: 64000 | BL8: 55500 | BM8: … | BN8: … | BO8: … | BP8: 11900 | BQ8: 225900 | BR8: 209500 | BS8: … | BT8: … | BU8: … | BV8: 2250 | BW8: 42600 | BX8: 38000 | BY8: … | BZ8: … | CA8: … | CB8: 5020 | CC8: 112600 | CD8: 106500 | CE8: … | CF8: … | CG8: … | CH8: 4600 | CI8: 70800 | CJ8: 65000 | CK8: … | CL8: … | CM8: … | CN8: 25300 | CO8: 566300 | CP8: 384000 | CQ8: … | CR8: … | CS8: … | CT8: … | CU8: … | CV8: … | CW8: 21200 | CX8: 471200 | CY8: 308000 | CZ8: 4110 | DA8: 95200 | DB8: 76000 | DC8: … | DD8: … | DE8: … | DF8: 29000 | DG8: 993900 | DH8: 777500 | DI8: … | DJ8: … | DK8: …
A9: 昭.49(1974) | B9: 42900 | C9: 1712000 | D9: 1231000 | E9: 1930 | F9: 73000 | G9: 61100 | H9: 3970 | I9: 187300 | J9: 167400 | K9: 37000 | L9: 1451000 | M9: 1002000 | N9: … | O9: … | P9: … | Q9: 41700 | R9: 1433000 | S9: 1158000 | T9: 12800 | U9: 395500 | V9: 298200 | W9: 12500 | X9: 458800 | Y9: 377000 | Z9: 16300 | AA9: 578500 | AB9: 482800 | AC9: … | AD9: … | AE9: … | AF9: 22600 | AG9: 334900 | AH9: 239000 | AI9: 22200 | AJ9: 330400 | AK9: 235700 | AL9: … | AM9: … | AN9: … | AO9: 346 | AP9: 4460 | AQ9: 3290 | AR9: … | AS9: … | AT9: … | AU9: … | AV9: … | AW9: … | AX9: … | AY9: … | AZ9: … | BA9: … | BB9: … | BC9: … | BD9: 706 | BE9: 32100 | BF9: 30800 | BG9: … | BH9: … | BI9: … | BJ9: 3590 | BK9: 67500 | BL9: 59300 | BM9: … | BN9: … | BO9: … | BP9: 12600 | BQ9: 246100 | BR9: 227300 | BS9: … | BT9: … | BU9: … | BV9: 2460 | BW9: 46100 | BX9: 41300 | BY9: … | BZ9: … | CA9: … | CB9: 5270 | CC9: 113700 | CD9: 106100 | CE9: … | CF9: … | CG9: … | CH9: 4820 | CI9: 86300 | CJ9: 80000 | CK9: … | CL9: … | CM9: … | CN9: 24500 | CO9: 554500 | CP9: 372700 | CQ9: … | CR9: … | CS9: … | CT9: … | CU9: … | CV9: … | CW9: 20600 | CX9: 464300 | CY9: 300300 | CZ9: 3910 | DA9: 90300 | DB9: 72400 | DC9: … | DD9: … | DE9: … | DF9: 29500 | DG9: 1031000 | DH9: 815600 | DI9: … | DJ9: … | DK9: …
A10: 昭.50(1975) | B10: 41900 | C10: 1607000 | D10: 1178000 | E10: 1840 | F10: 72600 | G10: 62600 | H10: 4180 | I10: 204100 | J10: 182700 | K10: 35900 | L10: 1330000 | M10: 932700 | N10: … | O10: … | P10: … | Q10: 41100 | R10: 1423000 | S10: 1154000 | T10: 12800 | U10: 435200 | V10: 334400 | W10: 12700 | X10: 484900 | Y10: 402500 | Z10: 15600 | AA10: 502700 | AB10: 417300 | AC10: … | AD10: … | AE10: … | AF10: 22400 | AG10: 345900 | AH10: 250500 | AI10: 22000 | AJ10: 341700 | AK10: 247200 | AL10: … | AM10: … | AN10: … | AO10: 339 | AP10: 4290 | AQ10: 3310 | AR10: … | AS10: … | AT10: … | AU10: … | AV10: … | AW10: … | AX10: … | AY10: … | AZ10: … | BA10: … | BB10: … | BC10: … | BD10: 727 | BE10: 32200 | BF10: 30900 | BG10: … | BH10: … | BI10: … | BJ10: 3890 | BK10: 72000 | BL10: 62900 | BM10: … | BN10: … | BO10: … | BP10: 13100 | BQ10: 258400 | BR10: 239200 | BS10: … | BT10: … | BU10: … | BV10: 2490 | BW10: 48400 | BX10: 43300 | BY10: … | BZ10: … | CA10: … | CB10: 5780 | CC10: 128000 | CD10: 120200 | CE10: … | CF10: … | CG10: … | CH10: 4850 | CI10: 82000 | CJ10: 75700 | CK10: … | CL10: … | CM10: … | CN10: 24400 | CO10: 554600 | CP10: 382800 | CQ10: … | CR10: … | CS10: … | CT10: … | CU10: … | CV10: … | CW10: 20400 | CX10: 460600 | CY10: 304400 | CZ10: 3930 | DA10: 94100 | DB10: 78400 | DC10: … | DD10: … | DE10: … | DF10: 29900 | DG10: 1032000 | DH10: 821600 | DI10: … | DJ10: … | DK10: …
A11: 昭.51(1976) | B11: 41500 | C11: 1668000 | D11: 1245000 | E11: 1870 | F11: 76800 | G11: 67300 | H11: 4270 | I11: 219800 | J11: 200200 | K11: 35300 | L11: 1372000 | M11: 977200 | N11: … | O11: … | P11: … | Q11: 41500 | R11: 1468000 | S11: 1207000 | T11: 12200 | U11: 397000 | V11: 306100 | W11: 12000 | X11: 466800 | Y11: 393000 | Z11: 17200 | AA11: 604600 | AB11: 508200 | AC11: … | AD11: … | AE11: … | AF11: 22100 | AG11: 331300 | AH11: 239100 | AI11: 21800 | AJ11: 327300 | AK11: 236100 | AL11: … | AM11: … | AN11: … | AO11: 323 | AP11: 40101 | AQ11: 3040 | AR11: … | AS11: … | AT11: … | AU11: … | AV11: … | AW11: … | AX11: … | AY11: … | AZ11: … | BA11: … | BB11: … | BC11: … | BD11: 781 | BE11: 36600 | BF11: 35100 | BG11: … | BH11: … | BI11: … | BJ11: 4240 | BK11: 75500 | BL11: 66100 | BM11: … | BN11: … | BO11: … | BP11: 14400 | BQ11: 281800 | BR11: 261900 | BS11: … | BT11: … | BU11: … | BV11: 2510 | BW11: 49500 | BX11: 44800 | BY11: … | BZ11: … | CA11: … | CB11: 6440 | CC11: 139200 | CD11: 131300 | CE11: … | CF11: … | CG11: … | CH11: 5430 | CI11: 93100 | CJ11: 85800 | CK11: … | CL11: … | CM11: … | CN11: 23900 | CO11: 537100 | CP11: 371400 | CQ11: … | CR11: … | CS11: … | CT11: 2810 | CU11: 60800 | CV11: 50500 | CW11: 19900 | CX11: 441500 | CY11: 291900 | CZ11: 1240 | DA11: 34800 | DB11: 29000 | DC11: … | DD11: … | DE11: … | DF11: 28600 | DG11: 1123000 | DH11: 922200 | DI11: … | DJ11: … | DK11: …
A12: 昭.52(1977) | B12: 40500 | C12: 1743000 | D12: 1293000 | E12: 1890 | F12: 81100 | G12: 72300 | H12: 4390 | I12: 236500 | J12: 216600 | K12: 34200 | L12: 1426000 | M12: 1005000 | N12: … | O12: … | P12: … | Q12: 41600 | R12: 1532000 | S12: 1263000 | T12: 12400 | U12: 419100 | V12: 323800 | W12: 11800 | X12: 449200 | Y12: 378900 | Z12: 17300 | AA12: 663700 | AB12: 560300 | AC12: … | AD12: … | AE12: … | AF12: 22600 | AG12: 351700 | AH12: 259600 | AI12: 22300 | AJ12: 347800 | AK12: 256400 | AL12: … | AM12: … | AN12: … | AO12: 319 | AP12: 3910 | AQ12: 3180 | AR12: … | AS12: … | AT12: … | AU12: … | AV12: … | AW12: … | AX12: … | AY12: … | AZ12: … | BA12: … | BB12: … | BC12: … | BD12: 806 | BE12: 38500 | BF12: 36700 | BG12: … | BH12: … | BI12: … | BJ12: 4730 | BK12: 89700 | BL12: 79100 | BM12: … | BN12: … | BO12: … | BP12: 15400 | BQ12: 322800 | BR12: 300100 | BS12: … | BT12: … | BU12: … | BV12: 2590 | BW12: 53000 | BX12: 48500 | BY12: … | BZ12: … | CA12: … | CB12: 6880 | CC12: 156400 | CD12: 147600 | CE12: … | CF12: … | CG12: … | CH12: 5960 | CI12: 113400 | CJ12: 104000 | CK12: … | CL12: … | CM12: … | CN12: 24000 | CO12: 554100 | CP12: 388400 | CQ12: … | CR12: … | CS12: … | CT12: 2910 | CU12: 64800 | CV12: 54900 | CW12: 19800 | CX12: 451600 | CY12: 302600 | CZ12: 1430 | DA12: 37700 | DB12: 30800 | DC12: … | DD12: … | DE12: … | DF12: 29500 | DG12: 1121000 | DH12: 908000 | DI12: … | DJ12: … | DK12: …
A13: 昭.53(1978) | B13: 39900 | C13: 1731000 | D13: 1284000 | E13: 1860 | F13: 81300 | G13: 73600 | H13: 4600 | I13: 233000 | J13: 213000 | K13: 33500 | L13: 1417000 | M13: 997500 | N13: … | O13: … | P13: … | Q13: 41600 | R13: 1505000 | S13: 1244000 | T13: 12000 | U13: 382800 | V13: 292900 | W13: 12100 | X13: 440200 | Y13: 372500 | Z13: 17400 | AA13: 681700 | AB13: 578800 | AC13: … | AD13: … | AE13: … | AF13: 23100 | AG13: 373000 | AH13: 278200 | AI13: 22700 | AJ13: 368600 | AK13: 274800 | AL13: … | AM13: … | AN13: … | AO13: 409 | AP13: 4350 | AQ13: 3380 | AR13: … | AS13: … | AT13: … | AU13: … | AV13: … | AW13: … | AX13: … | AY13: … | AZ13: … | BA13: … | BB13: … | BC13: … | BD13: 869 | BE13: 41400 | BF13: 39300 | BG13: … | BH13: … | BI13: … | BJ13: 5230 | BK13: 98000 | BL13: 85600 | BM13: … | BN13: … | BO13: … | BP13: 15900 | BQ13: 337500 | BR13: 313800 | BS13: … | BT13: … | BU13: … | BV13: 2630 | BW13: 54800 | BX13: 49900 | BY13: … | BZ13: … | CA13: … | CB13: 7260 | CC13: 160400 | CD13: 152100 | CE13: … | CF13: … | CG13: … | CH13: 6010 | CI13: 122300 | CJ13: 111900 | CK13: … | CL13: … | CM13: … | CN13: 24200 | CO13: 564500 | CP13: 397500 | CQ13: … | CR13: … | CS13: … | CT13: 3110 | CU13: 67500 | CV13: 57300 | CW13: 19800 | CX13: 459300 | CY13: 308100 | CZ13: 1320 | DA13: 37700 | DB13: 32100 | DC13: … | DD13: … | DE13: … | DF13: 30200 | DG13: 1114000 | DH13: 890600 | DI13: … | DJ13: … | DK13: …
A14: 昭.54(1979) | B14: 37500 | C14: 1411000 | D14: 1038000 | E14: 1870 | F14: 83400 | G14: 75200 | H14: 4550 | I14: 237900 | J14: 218000 | K14: 31000 | L14: 1090000 | M14: 744600 | N14: … | O14: … | P14: … | Q14: 42300 | R14: 1545000 | S14: 1286000 | T14: 12500 | U14: 439100 | V14: 343000 | W14: 12700 | X14: 507000 | Y14: 435600 | Z14: 17200 | AA14: 599300 | AB14: 507000 | AC14: … | AD14: … | AE14: … | AF14: 23400 | AG14: 376600 | AH14: 283300 | AI14: 23000 | AJ14: 371900 | AK14: 279500 | AL14: … | AM14: … | AN14: … | AO14: 418 | AP14: 4640 | AQ14: 3840 | AR14: … | AS14: … | AT14: … | AU14: … | AV14: … | AW14: … | AX14: … | AY14: … | AZ14: … | BA14: … | BB14: … | BC14: … | BD14: 913 | BE14: 44400 | BF14: 42500 | BG14: … | BH14: … | BI14: … | BJ14: 5360 | BK14: 84900 | BL14: 73400 | BM14: … | BN14: … | BO14: … | BP14: 16900 | BQ14: 347600 | BR14: 324700 | BS14: … | BT14: … | BU14: … | BV14: 2840 | BW14: 62200 | BX14: 57100 | BY14: … | BZ14: … | CA14: … | CB14: 8070 | CC14: 185200 | CD14: 176300 | CE14: … | CF14: … | CG14: … | CH14: 5950 | CI14: 100100 | CJ14: 91400 | CK14: … | CL14: … | CM14: … | CN14: 24000 | CO14: 549600 | CP14: 385000 | CQ14: … | CR14: … | CS14: … | CT14: 3360 | CU14: 75800 | CV14: 64700 | CW14: 19300 | CX14: 435200 | CY14: 287200 | CZ14: 1360 | DA14: 38700 | DB14: 33100 | DC14: … | DD14: … | DE14: … | DF14: 29600 | DG14: 1254000 | DH14: 1013000 | DI14: … | DJ14: … | DK14: …
A15: 昭.55(1980) | B15: 38500 | C15: 1616000 | D15: 1199000 | E15: 2090 | F15: 93200 | G15: 84400 | H15: 4540 | I15: 234000 | J15: 212800 | K15: 31800 | L15: 1289000 | M15: 902100 | N15: … | O15: … | P15: … | Q15: 42600 | R15: 1545000 | S15: 1302000 | T15: 12400 | U15: 425900 | V15: 340600 | W15: 12800 | X15: 480600 | Y15: 413800 | Z15: 17400 | AA15: 637600 | AB15: 547900 | AC15: … | AD15: … | AE15: … | AF15: 23800 | AG15: 352100 | AH15: 263600 | AI15: 23300 | AJ15: 346100 | AK15: 258800 | AL15: … | AM15: … | AN15: … | AO15: 547 | AP15: 6000 | AQ15: 4770 | AR15: … | AS15: … | AT15: … | AU15: … | AV15: … | AW15: … | AX15: … | AY15: … | AZ15: … | BA15: … | BB15: … | BC15: … | BD15: 1040 | BE15: 49400 | BF15: 47200 | BG15: … | BH15: … | BI15: … | BJ15: 5750 | BK15: 89500 | BL15: 77300 | BM15: … | BN15: … | BO15: … | BP15: 18400 | BQ15: 381300 | BR15: 356600 | BS15: … | BT15: … | BU15: … | BV15: 3030 | BW15: 65100 | BX15: 59500 | BY15: … | BZ15: … | CA15: … | CB15: 8800 | CC15: 195200 | CD15: 186200 | CE15: … | CF15: … | CG15: … | CH15: 6550 | CI15: 120900 | CJ15: 110900 | CK15: … | CL15: … | CM15: … | CN15: 23800 | CO15: 538900 | CP15: 379200 | CQ15: … | CR15: … | CS15: … | CT15: 3380 | CU15: 75700 | CV15: 64500 | CW15: 19000 | CX15: 424200 | CY15: 282100 | CZ15: 1410 | DA15: 39100 | DB15: 32600 | DC15: … | DD15: … | DE15: … | DF15: 28200 | DG15: 1152000 | DH15: 955600 | DI15: … | DJ15: … | DK15: …
A16: 昭.56(1981) | B16: 38000 | C16: 1637000 | D16: 1212000 | E16: 2180 | F16: 97300 | G16: 88800 | H16: 4490 | I16: 236300 | J16: 212600 | K16: 31300 | L16: 1304000 | M16: 910500 | N16: … | O16: … | P16: … | Q16: 43300 | R16: 1624000 | S16: 1365000 | T16: 12400 | U16: 433400 | V16: 350500 | W16: 13000 | X16: 501400 | Y16: 429300 | Z16: 17800 | AA16: 688700 | AB16: 585100 | AC16: … | AD16: … | AE16: … | AF16: 24600 | AG16: 369200 | AH16: 281700 | AI16: 24000 | AJ16: 362800 | AK16: 276500 | AL16: … | AM16: … | AN16: … | AO16: 597 | AP16: 6290 | AQ16: 5180 | AR16: … | AS16: … | AT16: … | AU16: … | AV16: … | AW16: … | AX16: … | AY16: … | AZ16: … | BA16: … | BB16: … | BC16: … | BD16: 1020 | BE16: 48400 | BF16: 45700 | BG16: … | BH16: … | BI16: … | BJ16: 6160 | BK16: 104900 | BL16: 91100 | BM16: … | BN16: … | BO16: … | BP16: 19000 | BQ16: 411600 | BR16: 384100 | BS16: … | BT16: … | BU16: … | BV16: 3240 | BW16: 70500 | BX16: 63900 | BY16: … | BZ16: … | CA16: … | CB16: 8710 | CC16: 197600 | CD16: 188200 | CE16: … | CF16: … | CG16: … | CH16: 7050 | CI16: 143500 | CJ16: 132000 | CK16: … | CL16: … | CM16: … | CN16: 24100 | CO16: 568300 | CP16: 401800 | CQ16: … | CR16: … | CS16: … | CT16: 3560 | CU16: 78900 | CV16: 66600 | CW16: 19100 | CX16: 446700 | CY16: 299500 | CZ16: 1480 | DA16: 42500 | DB16: 35600 | DC16: … | DD16: … | DE16: … | DF16: 28100 | DG16: 1042000 | DH16: 853100 | DI16: … | DJ16: … | DK16: …
A17: 昭.57(1982) | B17: 37000 | C17: 1638000 | D17: 1186000 | E17: 2100 | F17: 97900 | G17: 88700 | H17: 4430 | I17: 222100 | J17: 198800 | K17: 30400 | L17: 1319000 | M17: 898500 | N17: … | O17: … | P17: … | Q17: 42800 | R17: 1625000 | S17: 1361000 | T17: 12300 | U17: 443000 | V17: 355000 | W17: 13100 | X17: 498300 | Y17: 429100 | Z17: 17500 | AA17: 684300 | AB17: 576700 | AC17: … | AD17: … | AE17: … | AF17: 25200 | AG17: 380300 | AH17: 292600 | AI17: 24400 | AJ17: 372200 | AK17: 285900 | AL17: … | AM17: … | AN17: … | AO17: 779 | AP17: 8030 | AQ17: 6680 | AR17: … | AS17: … | AT17: … | AU17: … | AV17: … | AW17: … | AX17: … | AY17: … | AZ17: … | BA17: … | BB17: … | BC17: … | BD17: 1030 | BE17: 50000 | BF17: 47100 | BG17: … | BH17: … | BI17: … | BJ17: 6780 | BK17: 109400 | BL17: 94500 | BM17: … | BN17: … | BO17: … | BP17: 19800 | BQ17: 435200 | BR17: 406100 | BS17: … | BT17: … | BU17: … | BV17: 3400 | BW17: 75700 | BX17: 68400 | BY17: … | BZ17: … | CA17: … | CB17: 9060 | CC17: 211000 | CD17: 201100 | CE17: … | CF17: … | CG17: … | CH17: 7350 | CI17: 148600 | CJ17: 136600 | CK17: … | CL17: … | CM17: … | CN17: 23700 | CO17: 520800 | CP17: 365900 | CQ17: … | CR17: … | CS17: … | CT17: 3800 | CU17: 83100 | CV17: 70000 | CW17: 18500 | CX17: 395500 | CY17: 260200 | CZ17: 1460 | DA17: 42100 | DB17: 35700 | DC17: … | DD17: … | DE17: … | DF17: 29400 | DG17: 1257000 | DH17: 1051000 | DI17: … | DJ17: … | DK17: …
A18: 昭.58(1983) | B18: 35700 | C18: 1507000 | D18: 1090000 | E18: 2060 | F18: 96500 | G18: 87400 | H18: 4340 | I18: 209400 | J18: 186900 | K18: 29300 | L18: 1201000 | M18: 80560 | N18: … | O18: … | P18: … | Q18: 43000 | R18: 1568000 | S18: 1324000 | T18: 12100 | U18: 428500 | V18: 342700 | W18: 13400 | X18: 505700 | Y18: 438000 | Z18: 17500 | AA18: 633500 | AB18: 543400 | AC18: … | AD18: … | AE18: … | AF18: 25500 | AG18: 381400 | AH18: 291600 | AI18: 24600 | AJ18: 373100 | AK18: 284800 | AL18: … | AM18: … | AN18: … | AO18: 871 | AP18: 8220 | AQ18: 6840 | AR18: … | AS18: … | AT18: … | AU18: … | AV18: … | AW18: … | AX18: … | AY18: … | AZ18: … | BA18: … | BB18: … | BC18: … | BD18: 1010 | BE18: 48100 | BF18: 45100 | BG18: … | BH18: … | BI18: … | BJ18: 7610 | BK18: 109000 | BL18: 94000 | BM18: … | BN18: … | BO18: … | BP18: 20400 | BQ18: 434200 | BR18: 405200 | BS18: … | BT18: … | BU18: … | BV18: 3520 | BW18: 78600 | BX18: 71000 | BY18: … | BZ18: … | CA18: … | CB18: 9350 | CC18: 216200 | CD18: 206000 | CE18: … | CF18: … | CG18: … | CH18: 7590 | CI18: 139300 | CJ18: 128200 | CK18: … | CL18: … | CM18: … | CN18: 24000 | CO18: 548500 | CP18: 390700 | CQ18: … | CR18: … | CS18: … | CT18: 3880 | CU18: 86200 | CV18: 72800 | CW18: 18700 | CX18: 421900 | CY18: 283500 | CZ18: 1480 | DA18: 40800 | DB18: 34400 | DC18: … | DD18: … | DE18: … | DF18: 29300 | DG18: 1170000 | DH18: 971600 | DI18: … | DJ18: … | DK18: …
A19: 昭.59(1984) | B19: 34800 | C19: 1549000 | D19: 1111000 | E19: 2000 | F19: 89100 | G19: 80200 | H19: 4330 | I19: 222300 | J19: 198400 | K19: 28400 | L19: 1237000 | M19: 832400 | N19: … | O19: … | P19: … | Q19: 43200 | R19: 1614000 | S19: 1326000 | T19: 11900 | U19: 407000 | V19: 317200 | W19: 13600 | X19: 525800 | Y19: 445100 | Z19: 17700 | AA19: 680900 | AB19: 564000 | AC19: … | AD19: … | AE19: … | AF19: 25800 | AG19: 366400 | AH19: 280300 | AI19: 24800 | AJ19: 357600 | AK19: 273100 | AL19: … | AM19: … | AN19: … | AO19: 957 | AP19: 8640 | AQ19: 7150 | AR19: … | AS19: … | AT19: … | AU19: … | AV19: … | AW19: … | AX19: … | AY19: … | AZ19: … | BA19: … | BB19: … | BC19: … | BD19: 1000 | BE19: 48300 | BF19: 45400 | BG19: … | BH19: … | BI19: … | BJ19: 8450 | BK19: 129100 | BL19: 112000 | BM19: … | BN19: … | BO19: … | BP19: 21100 | BQ19: 477500 | BR19: 445900 | BS19: … | BT19: … | BU19: … | BV19: 3680 | BW19: 80100 | BX19: 72600 | BY19: … | BZ19: … | CA19: … | CB19: 9640 | CC19: 235700 | CD19: 224700 | CE19: … | CF19: … | CG19: … | CH19: 7810 | CI19: 161600 | CJ19: 148500 | CK19: … | CL19: … | CM19: … | CN19: 24100 | CO19: 562600 | CP19: 401600 | CQ19: … | CR19: … | CS19: … | CT19: 3970 | CU19: 87100 | CV19: 73100 | CW19: 18600 | CX19: 432200 | CY19: 291900 | CZ19: 1580 | DA19: 43400 | DB19: 36600 | DC19: … | DD19: … | DE19: … | DF19: 29500 | DG19: 1099000 | DH19: 919900 | DI19: … | DJ19: … | DK19: …
A20: 昭.60(1985) | B20: 33900 | C20: 1478000 | D20: 1069000 | E20: 1960 | F20: 93000 | G20: 84000 | H20: 4400 | I20: 219100 | J20: 193700 | K20: 27600 | L20: 1165000 | M20: 791400 | N20: … | O20: … | P20: … | Q20: 42400 | R20: 1589000 | S20: 1336000 | T20: 12000 | U20: 432600 | V20: 349900 | W20: 13400 | X20: 510700 | Y20: 433700 | Z20: 17000 | AA20: 646000 | AB20: 552700 | AC20: … | AD20: … | AE20: … | AF20: 26000 | AG20: 382500 | AH20: 295600 | AI20: 25000 | AJ20: 372800 | AK20: 287200 | AL20: … | AM20: … | AN20: … | AO20: 1040 | AP20: 9740 | AQ20: 8440 | AR20: … | AS20: … | AT20: … | AU20: … | AV20: … | AW20: … | AX20: … | AY20: … | AZ20: … | BA20: … | BB20: … | BC20: … | BD20: 957 | BE20: 46000 | BF20: 43100 | BG20: … | BH20: … | BI20: … | BJ20: 8940 | BK20: 128900 | BL20: 110600 | BM20: … | BN20: … | BO20: … | BP20: 20800 | BQ20: 459000 | BR20: 421100 | BS20: … | BT20: … | BU20: … | BV20: 3830 | BW20: 83700 | BX20: 75300 | BY20: … | BZ20: … | CA20: … | CB20: 9220 | CC20: 228200 | CD20: 210400 | CE20: … | CF20: … | CG20: … | CH20: 7720 | CI20: 146900 | CJ20: 135400 | CK20: … | CL20: … | CM20: … | CN20: 24000 | CO20: 552600 | CP20: 396600 | CQ20: … | CR20: … | CS20: … | CT20: 4110 | CU20: 89400 | CV20: 75000 | CW20: 18200 | CX20: 418900 | CY20: 283700 | CZ20: 1650 | DA20: 44400 | DB20: 37900 | DC20: … | DD20: … | DE20: … | DF20: 30800 | DG20: 1326000 | DH20: 1097000 | DI20: … | DJ20: … | DK20: …
A21: 昭.61(1986) | B21: 33100 | C21: 1513000 | D21: 1083000 | E21: 1970 | F21: 93700 | G21: 84500 | H21: 4390 | I21: 238700 | J21: 210900 | K21: 26700 | L21: 1181000 | M21: 787200 | N21: … | O21: … | P21: … | Q21: 42200 | R21: 1667000 | S21: 1387000 | T21: 11700 | U21: 424500 | V21: 345000 | W21: 13500 | X21: 544500 | Y21: 459600 | Z21: 17100 | AA21: 698100 | AB21: 582400 | AC21: … | AD21: … | AE21: … | AF21: 26200 | AG21: 385500 | AH21: 298800 | AI21: 25100 | AJ21: 374700 | AK21: 289400 | AL21: … | AM21: … | AN21: … | AO21: 1110 | AP21: 11000 | AQ21: 9420 | AR21: … | AS21: … | AT21: … | AU21: … | AV21: … | AW21: … | AX21: … | AY21: … | AZ21: … | BA21: … | BB21: … | BC21: … | BD21: 938 | BE21: 48600 | BF21: 45400 | BG21: … | BH21: … | BI21: … | BJ21: 9470 | BK21: 140500 | BL21: 120700 | BM21: … | BN21: … | BO21: … | BP21: 21300 | BQ21: 500500 | BR21: 462200 | BS21: … | BT21: … | BU21: … | BV21: 4010 | BW21: 87800 | BX21: 78900 | BY21: … | BZ21: … | CA21: … | CB21: 9370 | CC21: 243100 | CD21: 226300 | CE21: … | CF21: … | CG21: … | CH21: 7910 | CI21: 169600 | CJ21: 157000 | CK21: … | CL21: … | CM21: … | CN21: 24200 | CO21: 573000 | CP21: 411800 | CQ21: … | CR21: … | CS21: … | CT21: 4320 | CU21: 97800 | CV21: 82200 | CW21: 18100 | CX21: 431400 | CY21: 292100 | CZ21: 1710 | DA21: 43700 | DB21: 37500 | DC21: … | DD21: … | DE21: … | DF21: 29700 | DG21: 1252000 | DH21: 1055000 | DI21: … | DJ21: … | DK21: …
A22: 昭.62(1987) | B22: 31900 | C22: 1432000 | D22: 1028000 | E22: 2290 | F22: 110800 | G22: 99900 | H22: 3580 | I22: 202700 | J22: 180500 | K22: 26000 | L22: 1118000 | M22: 747300 | N22: … | O22: … | P22: … | Q22: 41500 | R22: 1631000 | S22: 1374000 | T22: 11500 | U22: 419300 | V22: 341300 | W22: 13100 | X22: 522900 | Y22: 450200 | Z22: 16800 | AA22: 687900 | AB22: 582500 | AC22: … | AD22: … | AE22: … | AF22: 27200 | AG22: 400100 | AH22: 312000 | AI22: 25600 | AJ22: 385900 | AK22: 300200 | AL22: … | AM22: … | AN22: … | AO22: 1560 | AP22: 14000 | AQ22: 11800 | AR22: … | AS22: … | AT22: … | AU22: … | AV22: … | AW22: … | AX22: … | AY22: … | AZ22: … | BA22: … | BB22: … | BC22: … | BD22: 916 | BE22: 46600 | BF22: 43800 | BG22: … | BH22: … | BI22: … | BJ22: 10000 | BK22: 140700 | BL22: 120900 | BM22: … | BN22: … | BO22: … | BP22: 21200 | BQ22: 496800 | BR22: 460700 | BS22: … | BT22: … | BU22: … | BV22: 4160 | BW22: 93100 | BX22: 83700 | BY22: … | BZ22: … | CA22: … | CB22: 8900 | CC22: 230800 | CD22: 216900 | CE22: … | CF22: … | CG22: … | CH22: 8160 | CI22: 172800 | CJ22: 160100 | CK22: … | CL22: … | CM22: … | CN22: 24000 | CO22: 563500 | CP22: 406300 | CQ22: … | CR22: … | CS22: … | CT22: 4540 | CU22: 102100 | CV22: 86000 | CW22: 17700 | CX22: 414300 | CY22: 279700 | CZ22: 1760 | DA22: 47200 | DB22: 40600 | DC22: … | DD22: … | DE22: … | DF22: 29400 | DG22: 1307000 | DH22: 1115000 | DI22: … | DJ22: … | DK22: …
A23: 昭.63(1988) | B23: 30600 | C23: 1302000 | D23: 937100 | E23: 2350 | F23: 120500 | G23: 109200 | H23: 3500 | I23: 185600 | J23: 166000 | K23: 24800 | L23: 996300 | M23: 661900 | N23: … | O23: … | P23: … | Q23: 41200 | R23: 1573000 | S23: 1327000 | T23: 11100 | U23: 418800 | V23: 344300 | W23: 13200 | X23: 497100 | Y23: 430200 | Z23: 16900 | AA23: 656800 | AB23: 553000 | AC23: … | AD23: … | AE23: … | AF23: 27500 | AG23: 396000 | AH23: 309200 | AI23: 25300 | AJ23: 377200 | AK23: 293300 | AL23: … | AM23: … | AN23: … | AO23: 2130 | AP23: 18800 | AQ23: 15900 | AR23: … | AS23: … | AT23: … | AU23: … | AV23: … | AW23: … | AX23: … | AY23: … | AZ23: … | BA23: … | BB23: … | BC23: … | BD23: 925 | BE23: 44900 | BF23: 42200 | BG23: … | BH23: … | BI23: … | BJ23: 10500 | BK23: 133800 | BL23: 113800 | BM23: … | BN23: … | BO23: … | BP23: 22000 | BQ23: 495400 | BR23: 457600 | BS23: … | BT23: … | BU23: … | BV23: 4270 | BW23: 97800 | BX23: 89000 | BY23: … | BZ23: … | CA23: … | CB23: 9200 | CC23: 220700 | CD23: 206300 | CE23: … | CF23: … | CG23: … | CH23: 8570 | CI23: 176800 | CJ23: 162400 | CK23: … | CL23: … | CM23: … | CN23: 23900 | CO23: 522400 | CP23: 377800 | CQ23: … | CR23: … | CS23: … | CT23: 4620 | CU23: 98000 | CV23: 81700 | CW23: 17300 | CX23: 371400 | CY23: 250400 | CZ23: 1940 | DA23: 52900 | DB23: 45800 | DC23: … | DD23: … | DE23: … | DF23: 28400 | DG23: 1251000 | DH23: 1058000 | DI23: … | DJ23: … | DK23: …
A24: 平.元(1989) | B24: 29900 | C24: 1334000 | D24: 961900 | E24: 2420 | F24: 125800 | G24: 113900 | H24: 3520 | I24: 191000 | J24: 172000 | K24: 24000 | L24: 1017000 | M24: 676000 | N24: … | O24: … | P24: … | Q24: 41400 | R24: 1623000 | S24: 1369000 | T24: 11000 | U24: 425500 | V24: 351000 | W24: 13600 | X24: 526400 | Y24: 453700 | Z24: 16800 | AA24: 671200 | AB24: 563700 | AC24: … | AD24: … | AE24: … | AF24: 27500 | AG24: 378000 | AH24: 295300 | AI24: 25100 | AJ24: 357200 | AK24: 277400 | AL24: … | AM24: … | AN24: … | AO24: 2370 | AP24: 20900 | AQ24: 17900 | AR24: … | AS24: … | AT24: … | AU24: … | AV24: … | AW24: … | AX24: … | AY24: … | AZ24: … | BA24: … | BB24: … | BC24: … | BD24: 908 | BE24: 44800 | BF24: 42000 | BG24: … | BH24: … | BI24: … | BJ24: 2740 | BK24: 52800 | BL24: 43600 | BM24: 8150 | BN24: 88800 | BO24: 77000 | BP24: 22500 | BQ24: 520900 | BR24: 481300 | BS24: 325 | BT24: 6100 | BU24: 5550 | BV24: 4580 | BW24: 106000 | BX24: 96700 | BY24: 89 | BZ24: 1790 | CA24: 1630 | CB24: 9300 | CC24: 227000 | CD24: 212000 | CE24: 95 | CF24: 1430 | CG24: 1260 | CH24: 8610 | CI24: 187900 | CJ24: 172400 | CK24: 142 | CL24: 2890 | CM24: 2660 | CN24: 24000 | CO24: 541900 | CP24: 394700 | CQ24: … | CR24: … | CS24: … | CT24: 4290 | CU24: 87300 | CV24: 72200 | CW24: 17200 | CX24: 391500 | CY24: 268200 | CZ24: 2490 | DA24: 63000 | DB24: 54300 | DC24: … | DD24: … | DE24: … | DF24: 28200 | DG24: 1269000 | DH24: 1074000 | DI24: … | DJ24: … | DK24: …
A25: 平.2(1990) | B25: 28700 | C25: 1220000 | D25: 884500 | E25: 2460 | F25: 129700 | G25: 117900 | H25: 3510 | I25: 198400 | J25: 180900 | K25: 22700 | L25: 891400 | M25: 585700 | N25: … | O25: … | P25: … | Q25: 40400 | R25: 1544000 | S25: 1301000 | T25: 10700 | U25: 410300 | V25: 338000 | W25: 13400 | X25: 519100 | Y25: 446300 | Z25: 16300 | AA25: 614300 | AB25: 516300 | AC25: … | AD25: … | AE25: … | AF25: 27300 | AG25: 384100 | AH25: 301300 | AI25: 24900 | AJ25: 363200 | AK25: 283500 | AL25: … | AM25: … | AN25: … | AO25: 2410 | AP25: 21000 | AQ25: 17900 | AR25: … | AS25: … | AT25: … | AU25: … | AV25: … | AW25: … | AX25: … | AY25: … | AZ25: … | BA25: … | BB25: … | BC25: … | BD25: 901 | BE25: 44700 | BF25: 41900 | BG25: … | BH25: … | BI25: … | BJ25: 2590 | BK25: 47700 | BL25: 39300 | BM25: 8800 | BN25: 89100 | BO25: 77000 | BP25: 22400 | BQ25: 517600 | BR25: 476400 | BS25: 386 | BT25: 6940 | BU25: 6300 | BV25: 4660 | BW25: 110400 | BX25: 100600 | BY25: 91 | BZ25: 1820 | CA25: 1660 | CB25: 9280 | CC25: 237800 | CD25: 220900 | CE25: 118 | CF25: 1640 | CG25: 1440 | CH25: 8440 | CI25: 169500 | CJ25: 154900 | CK25: 177 | CL25: 3460 | CM25: 3190 | CN25: 24100 | CO25: 557700 | CP25: 410200 | CQ25: … | CR25: … | CS25: … | CT25: 4430 | CU25: 88800 | CV25: 73700 | CW25: 17200 | CX25: 397200 | CY25: 274600 | CZ25: 2570 | DA25: 71600 | DB25: 61900 | DC25: … | DD25: … | DE25: … | DF25: 29000 | DG25: 1317000 | DH25: 1121000 | DI25: … | DJ25: … | DK25: …
A26: 平.3(1991) | B26: 28000 | C26: 1154000 | D26: 844400 | E26: 2460 | F26: 130900 | G26: 119000 | H26: 3580 | I26: 206100 | J26: 188600 | K26: 22000 | L26: 817400 | M26: 536900 | N26: … | O26: … | P26: … | Q26: 40800 | R26: 1569000 | S26: 1326000 | T26: 10700 | U26: 402400 | V26: 332700 | W26: 13700 | X26: 536500 | Y26: 464700 | Z26: 16500 | AA26: 629900 | AB26: 528500 | AC26: … | AD26: … | AE26: … | AF26: 27400 | AG26: 373700 | AH26: 293900 | AI26: 24900 | AJ26: 352100 | AK26: 275600 | AL26: … | AM26: … | AN26: … | AO26: 2470 | AP26: 21600 | AQ26: 18400 | AR26: … | AS26: … | AT26: … | AU26: … | AV26: … | AW26: … | AX26: … | AY26: … | AZ26: … | BA26: … | BB26: … | BC26: … | BD26: 877 | BE26: 43600 | BF26: 40900 | BG26: … | BH26: … | BI26: … | BJ26: 2520 | BK26: 45100 | BL26: 37100 | BM26: 9260 | BN26: 89800 | BO26: 77500 | BP26: 23000 | BQ26: 520200 | BR26: 479000 | BS26: 487 | BT26: 8570 | BU26: 7880 | BV26: 4740 | BW26: 113700 | BX26: 103800 | BY26: 121 | BZ26: 2310 | CA26: 2120 | CB26: 9500 | CC26: 234900 | CD26: 218600 | CE26: 154 | CF26: 2200 | CG26: 2000 | CH26: 8720 | CI26: 171600 | CJ26: 156600 | CK26: 217 | CL26: 4060 | CM26: 3750 | CN26: 24200 | CO26: 516700 | CP26: 382300 | CQ26: … | CR26: … | CS26: … | CT26: 4590 | CU26: 90200 | CV26: 75300 | CW26: 17100 | CX26: 335100 | CY26: 245200 | CZ26: 2570 | DA26: 71400 | DB26: 61700 | DC26: … | DD26: … | DE26: … | DF26: 29800 | DG26: 1307000 | DH26: 1126000 | DI26: … | DJ26: … | DK26: …
A27: 平.4(1992) | B27: 27300 | C27: 1205000 | D27: 882100 | E27: 2510 | F27: 131500 | G27: 119600 | H27: 3580 | I27: 208400 | J27: 190000 | K27: 21200 | L27: 864900 | M27: 572400 | N27: … | O27: … | P27: … | Q27: 41100 | R27: 1614000 | S27: 1358000 | T27: 10400 | U27: 403300 | V27: 335400 | W27: 14100 | X27: 551700 | Y27: 470200 | Z27: 16500 | AA27: 658900 | AB27: 552000 | AC27: … | AD27: … | AE27: … | AF27: 27100 | AG27: 364900 | AH27: 287700 | AI27: 24500 | AJ27: 342000 | AK27: 268100 | AL27: … | AM27: … | AN27: … | AO27: 2570 | AP27: 22800 | AQ27: 19500 | AR27: … | AS27: … | AT27: … | AU27: … | AV27: … | AW27: … | AX27: … | AY27: … | AZ27: … | BA27: … | BB27: … | BC27: … | BD27: 862 | BE27: 45700 | BF27: 42900 | BG27: … | BH27: … | BI27: … | BJ27: 2510 | BK27: 50300 | BL27: 41700 | BM27: 9500 | BN27: 101100 | BO27: 87400 | BP27: 22600 | BQ27: 535800 | BR27: 482400 | BS27: 516 | BT27: 9290 | BU27: 8560 | BV27: 4610 | BW27: 108100 | BX27: 98600 | BY27: 132 | BZ27: 2530 | CA27: 2330 | CB27: 9430 | CC27: 244100 | CD27: 216600 | CE27: 163 | CF27: 2540 | CG27: 2350 | CH27: 8620 | CI27: 183700 | CJ27: 167200 | CK27: 224 | CL27: 4220 | CM27: 3880 | CN27: 24500 | CO27: 565000 | CP27: 423300 | CQ27: … | CR27: … | CS27: … | CT27: 4660 | CU27: 93900 | CV27: 78900 | CW27: 17200 | CX27: 400300 | CY27: 283300 | CZ27: 2630 | DA27: 70700 | DB27: 61100 | DC27: … | DD27: … | DE27: … | DF27: 30200 | DG27: 1397000 | DH27: 1162000 | DI27: … | DJ27: … | DK27: …
A28: 平.5(1993) | B28: 26700 | C28: 1185000 | D28: 871900 | E28: 2410 | F28: 127200 | G28: 115600 | H28: 3670 | I28: 199400 | J28: 185200 | K28: 20600 | L28: 858600 | M28: 571100 | N28: … | O28: … | P28: … | Q28: 40000 | R28: 1513000 | S28: 1282000 | T28: 10200 | U28: 393000 | V28: 329600 | W28: 13500 | X28: 490900 | Y28: 423600 | Z28: 16200 | AA28: 629100 | AB28: 528800 | AC28: … | AD28: … | AE28: … | AF28: 27400 | AG28: 378400 | AH28: 300400 | AI28: 24700 | AJ28: 356000 | AK28: 281100 | AL28: 2680 | AM28: 22300 | AN28: 19300 | AO28: … | AP28: … | AQ28: … | AR28: … | AS28: … | AT28: … | AU28: … | AV28: … | AW28: … | AX28: … | AY28: … | AZ28: … | BA28: … | BB28: … | BC28: … | BD28: 848 | BE28: 43900 | BF28: 41400 | BG28: … | BH28: … | BI28: … | BJ28: 2390 | BK28: 43500 | BL28: 35700 | BM28: 9370 | BN28: 92900 | BO28: 79900 | BP28: 22200 | BQ28: 493000 | BR28: 455100 | BS28: 492 | BT28: 8750 | BU28: 8060 | BV28: 4550 | BW28: 107700 | BX28: 98300 | BY28: 122 | BZ28: 2420 | CA28: 2230 | CB28: 9080 | CC28: 207800 | CD28: 195400 | CE28: 159 | CF28: 2500 | CG28: 2320 | CH28: 8550 | CI28: 177500 | CJ28: 161300 | CK28: 204 | CL28: 3830 | CM28: 3510 | CN28: 24100 | CO28: 505600 | CP28: 381900 | CQ28: … | CR28: … | CS28: … | CT28: 4820 | CU28: 92100 | CV28: 77900 | CW28: 16500 | CX28: 339300 | CY28: 240000 | CZ28: 2810 | DA28: 74200 | DB28: 64000 | DC28: … | DD28: … | DE28: … | DF28: 28000 | DG28: 1367000 | DH28: 1157000 | DI28: … | DJ28: … | DK28: …
A29: 平.6(1994) | B29: 25800 | C29: 1118000 | D29: 824800 | E29: 2400 | F29: 129300 | G29: 116500 | H29: 3580 | I29: 201200 | J29: 181000 | K29: 19800 | L29: 787900 | M29: 527400 | N29: … | O29: … | P29: … | Q29: 39300 | R29: 1511000 | S29: 1279000 | T29: 10100 | U29: 397500 | V29: 333800 | W29: 13400 | X29: 499900 | Y29: 427600 | Z29: 15800 | AA29: 613200 | AB29: 517300 | AC29: … | AD29: … | AE29: … | AF29: 27300 | AG29: 367300 | AH29: 292200 | AI29: 24400 | AJ29: 345600 | AK29: 273500 | AL29: 2850 | AM29: 21700 | AN29: 18700 | AO29: … | AP29: … | AQ29: … | AR29: … | AS29: … | AT29: … | AU29: … | AV29: … | AW29: … | AX29: … | AY29: … | AZ29: … | BA29: … | BB29: … | BC29: … | BD29: 838 | BE29: 41900 | BF29: 39600 | BG29: … | BH29: … | BI29: … | BJ29: 2240 | BK29: 41500 | BL29: 34000 | BM29: 8810 | BN29: 84100 | BO29: 71500 | BP29: 22300 | BQ29: 528000 | BR29: 487100 | BS29: 500 | BT29: 8800 | BU29: 8090 | BV29: 4560 | BW29: 112100 | BX29: 101300 | BY29: 122 | BZ29: 2370 | CA29: 2140 | CB29: 9140 | CC29: 231400 | CD29: 217700 | CE29: 173 | CF29: 2700 | CG29: 2500 | CH29: 8590 | CI29: 184400 | CJ29: 168000 | CK29: 202 | CL29: 3730 | CM29: 3450 | CN29: 24400 | CO29: 524600 | CP29: 399200 | CQ29: … | CR29: … | CS29: … | CT29: 4940 | CU29: 94800 | CV29: 80500 | CW29: 16700 | CX29: 357800 | CY29: 256700 | CZ29: 2820 | DA29: 72000 | DB29: 62100 | DC29: … | DD29: … | DE29: … | DF29: 27300 | DG29: 1109000 | DH29: 934500 | DI29: … | DJ29: … | DK29: …
A30: 平.7(1995) | B30: 25700 | C30: 1163000 | D30: 865500 | E30: 2460 | F30: 135000 | G30: 121200 | H30: 3560 | I30: 198600 | J30: 179800 | K30: 19600 | L30: 829700 | M30: 564500 | N30: … | O30: … | P30: … | Q30: 39300 | R30: 1544000 | S30: 1314000 | T30: 9870 | U30: 387300 | V30: 326300 | W30: 13800 | X30: 526200 | Y30: 449300 | Z30: 15700 | AA30: 630900 | AB30: 538800 | AC30: … | AD30: … | AE30: … | AF30: 27000 | AG30: 360400 | AH30: 287600 | AI30: … | AJ30: … | AK30: … | AL30: … | AM30: … | AN30: … | AO30: … | AP30: … | AQ30: … | AR30: … | AS30: … | AT30: … | AU30: … | AV30: … | AW30: … | AX30: … | AY30: … | AZ30: … | BA30: … | BB30: … | BC30: … | BD30: 765 | BE30: 40000 | BF30: 37500 | BG30: … | BH30: … | BI30: … | BJ30: 2080 | BK30: 37400 | BL30: 30100 | BM30: 8170 | BN30: 78300 | BO30: 66200 | BP30: 22200 | BQ30: 537300 | BR30: 494400 | BS30: 491 | BT30: 8920 | BU30: 8010 | BV30: 4480 | BW30: 111700 | BX30: 101100 | BY30: 114 | BZ30: 2290 | CA30: 2110 | CB30: 9200 | CC30: 237500 | CD30: 222700 | CE30: 178 | CF30: 2950 | CG30: 2750 | CH30: 8570 | CI30: 188100 | CJ30: 170600 | CK30: 198 | CL30: 3680 | CM30: 3160 | CN30: 24600 | CO30: 533500 | CP30: 406400 | CQ30: … | CR30: … | CS30: … | CT30: 5090 | CU30: 100400 | CV30: 85400 | CW30: 16600 | CX30: 358600 | CY30: 256700 | CZ30: 2890 | DA30: 74600 | DB30: 64300 | DC30: … | DD30: … | DE30: … | DF30: 27000 | DG30: 1278000 | DH30: 1083000 | DI30: … | DJ30: … | DK30: …
A31: 平.8(1996) | B31: 25200 | C31: 1162000 | D31: 858400 | E31: 2490 | F31: 130200 | G31: 115900 | H31: 3560 | I31: 216800 | J31: 187900 | K31: 19100 | L31: 814600 | M31: 554600 | N31: … | O31: … | P31: … | Q31: 38900 | R31: 1539000 | S31: 1296000 | T31: 9750 | U31: 374000 | V31: 314400 | W31: 13600 | X31: 527500 | Y31: 439100 | Z31: 15600 | AA31: 637000 | AB31: 542300 | AC31: … | AD31: … | AE31: … | AF31: 26500 | AG31: 358600 | AH31: 286000 | AI31: … | AJ31: … | AK31: … | AL31: … | AM31: … | AN31: … | AO31: … | AP31: … | AQ31: … | AR31: … | AS31: … | AT31: … | AU31: … | AV31: … | AW31: … | AX31: … | AY31: … | AZ31: … | BA31: … | BB31: … | BC31: … | BD31: 738 | BE31: 39500 | BF31: 37300 | BG31: … | BH31: … | BI31: … | BJ31: 2030 | BK31: 38700 | BL31: 31200 | BM31: 8080 | BN31: 85100 | BO31: 72000 | BP31: 22100 | BQ31: 548400 | BR31: 487600 | BS31: 473 | BT31: 8410 | BU31: 7740 | BV31: 4480 | BW31: 111000 | BX31: 100500 | BY31: 100 | BZ31: 2040 | CA31: 1870 | CB31: 9150 | CC31: 247900 | CD31: 215200 | CE31: 175 | CF31: 2770 | CG31: 2550 | CH31: 8520 | CI31: 189500 | CJ31: 171900 | CK31: 196 | CL31: 3600 | CM31: 3320 | CN31: 24800 | CO31: 546800 | CP31: 417400 | CQ31: … | CR31: … | CS31: … | CT31: 5160 | CU31: 102900 | CV31: 87200 | CW31: 16600 | CX31: 366300 | CY31: 263300 | CZ31: 2970 | DA31: 77700 | DB31: 66900 | DC31: … | DD31: … | DE31: … | DF31: 27200 | DG31: 1262000 | DH31: 1075000 | DI31: … | DJ31: … | DK31: …
A32: 平.9(1997) | B32: 24400 | C32: 1135000 | D32: 841000 | E32: 2460 | F32: 137800 | G32: 122800 | H32: 3500 | I32: 207700 | J32: 185600 | K32: 18400 | L32: 789100 | M32: 532700 | N32: … | O32: … | P32: … | Q32: 37900 | R32: 1502000 | S32: 1276000 | T32: 9500 | U32: 373500 | V32: 314700 | W32: 13200 | X32: 507600 | Y32: 433000 | Z32: 15200 | AA32: 621400 | AB32: 528100 | AC32: … | AD32: … | AE32: … | AF32: 26100 | AG32: 331000 | AH32: 260900 | AI32: … | AJ32: … | AK32: … | AL32: … | AM32: … | AN32: … | AO32: … | AP32: … | AQ32: … | AR32: … | AS32: … | AT32: … | AU32: … | AV32: … | AW32: … | AX32: … | AY32: … | AZ32: … | BA32: … | BB32: … | BC32: … | BD32: 726 | BE32: 38600 | BF32: 36400 | BG32: … | BH32: … | BI32: … | BJ32: 1950 | BK32: 37800 | BL32: 30500 | BM32: 7880 | BN32: 84500 | BO32: 71300 | BP32: 21400 | BQ32: 532700 | BR32: 490300 | BS32: 483 | BT32: 8510 | BU32: 7870 | BV32: 4430 | BW32: 113700 | BX32: 102200 | BY32: 99 | BZ32: 1920 | CA32: 1770 | CB32: 8410 | CC32: 225900 | CD32: 212600 | CE32: 190 | CF32: 3070 | CG32: 2840 | CH32: 8550 | CI32: 193100 | CJ32: 175500 | CK32: 187 | CL32: 3470 | CM32: 3220 | CN32: 24700 | CO32: 549200 | CP32: 420200 | CQ32: … | CR32: … | CS32: … | CT32: 5270 | CU32: 106700 | CV32: 90600 | CW32: 16400 | CX32: 363500 | CY32: 261200 | CZ32: 3010 | DA32: 79000 | DB32: 68400 | DC32: … | DD32: … | DE32: … | DF32: 27200 | DG32: 1257000 | DH32: 1075000 | DI32: … | DJ32: … | DK32: …
A33: 平.10(1998) | B33: 23700 | C33: 989900 | D33: 740400 | E33: 2450 | F33: 133200 | G33: 119200 | H33: 3460 | I33: 183700 | J33: 163600 | K33: 17800 | L33: 672900 | M33: 457600 | N33: … | O33: … | P33: … | Q33: 37500 | R33: 1407000 | S33: 1200000 | T33: 9610 | U33: 363600 | V33: 308100 | W33: 13100 | X33: 504700 | Y33: 428000 | Z33: 14800 | AA33: 539000 | AB33: 463900 | AC33: … | AD33: … | AE33: … | AF33: 25800 | AG33: 322300 | AH33: 255200 | AI33: … | AJ33: … | AK33: … | AL33: … | AM33: … | AN33: … | AO33: … | AP33: … | AQ33: … | AR33: … | AS33: … | AT33: … | AU33: … | AV33: … | AW33: … | AX33: … | AY33: … | AZ33: … | BA33: … | BB33: … | BC33: … | BD33: 721 | BE33: 36900 | BF33: 34700 | BG33: … | BH33: … | BI33: … | BJ33: 1840 | BK33: 28500 | BL33: 22600 | BM33: 7890 | BN33: 73500 | BO33: 61600 | BP33: 21500 | BQ33: 506300 | BR33: 466600 | BS33: 471 | BT33: 8090 | BU33: 7490 | BV33: 4470 | BW33: 111300 | BX33: 100200 | BY33: 98 | BZ33: 1870 | CA33: 1720 | CB33: 8510 | CC33: 214900 | CD33: 202600 | CE33: 184 | CF33: 2920 | CG33: 2700 | CH33: 8550 | CI33: 180100 | CJ33: 163700 | CK33: 188 | CL33: 3300 | CM33: 3080 | CN33: 24700 | CO33: 508500 | CP33: 391800 | CQ33: … | CR33: … | CS33: … | CT33: 5410 | CU33: 105100 | CV33: 89900 | CW33: 16300 | CX33: 325900 | CY33: 235000 | CZ33: 3070 | DA33: 77400 | DB33: 67000 | DC33: … | DD33: … | DE33: … | DF33: 26700 | DG33: 1355000 | DH33: 1167000 | DI33: … | DJ33: … | DK33: …
A34: 平.11(1999) | B34: 23500 | C34: 1079000 | D34: 809500 | E34: 2490 | F34: 140100 | G34: 125200 | H34: 3400 | I34: 186600 | J34: 166600 | K34: 17600 | L34: 752600 | M34: 517700 | N34: … | O34: … | P34: … | Q34: 37400 | R34: 1476000 | S34: 1258000 | T34: 9810 | U34: 393500 | V34: 335800 | W34: 12800 | X34: 465800 | Y34: 395400 | Z34: 14800 | AA34: 616400 | AB34: 527200 | AC34: … | AD34: … | AE34: … | AF34: 25500 | AG34: 329000 | AH34: 260200 | AI34: … | AJ34: … | AK34: … | AL34: … | AM34: … | AN34: … | AO34: … | AP34: … | AQ34: … | AR34: … | AS34: … | AT34: … | AU34: … | AV34: … | AW34: … | AX34: … | AY34: … | AZ34: … | BA34: … | BB34: … | BC34: … | BD34: 722 | BE34: 38400 | BF34: 36200 | BG34: … | BH34: … | BI34: … | BJ34: 1790 | BK34: 32300 | BL34: 25700 | BM34: 8110 | BN34: 83600 | BO34: 70300 | BP34: 21700 | BQ34: 540500 | BR34: 493900 | BS34: 469 | BT34: 8260 | BU34: 7660 | BV34: 4570 | BW34: 121700 | BX34: 109500 | BY34: 96 | BZ34: 1930 | CA34: 1790 | CB34: 8670 | CC34: 225500 | CD34: 208900 | CE34: 191 | CF34: 3050 | CG34: 2830 | CH34: 8500 | CI34: 193300 | CJ34: 175600 | CK34: 187 | CL34: 3280 | CM34: 3040 | CN34: 25300 | CO34: 532400 | CP34: 410800 | CQ34: 3190 | CR34: 81300 | CS34: 70600 | CT34: 5570 | CU34: 107800 | CV34: 92400 | CW34: 16600 | CX34: 343400 | CY34: 247900 | CZ34: … | DA34: … | DB34: … | DC34: … | DD34: … | DE34: … | DF34: 26700 | DG34: 1205000 | DH34: 1030000 | DI34: … | DJ34: … | DK34: …
A35: 平.12(2000) | B35: 22700 | C35: 1036000 | D35: 779900 | E35: 2420 | F35: 132800 | G35: 117400 | H35: 3310 | I35: 193600 | J35: 172900 | K35: 17000 | L35: 709600 | M35: 489500 | N35: … | O35: … | P35: … | Q35: 36900 | R35: 1449000 | S35: 1225000 | T35: 9660 | U35: 382800 | V35: 324500 | W35: 12600 | X35: 495800 | Y35: 412800 | Z35: 14600 | AA35: 570400 | AB35: 487400 | AC35: … | AD35: … | AE35: … | AF35: 25200 | AG35: 316400 | AH35: 250100 | AI35: … | AJ35: … | AK35: … | AL35: … | AM35: … | AN35: … | AO35: … | AP35: … | AQ35: … | AR35: … | AS35: … | AT35: … | AU35: … | AV35: … | AW35: … | AX35: … | AY35: … | AZ35: … | BA35: … | BB35: … | BC35: … | BD35: 723 | BE35: 39900 | BF35: 37600 | BG35: … | BH35: … | BI35: … | BJ35: 1740 | BK35: 31800 | BL35: 25200 | BM35: 8150 | BN35: 82900 | BO35: 69800 | BP35: 21700 | BQ35: 537200 | BR35: 497100 | BS35: 442 | BT35: 7560 | BU35: 7010 | BV35: 4470 | BW35: 120200 | BX35: 108200 | BY35: 86 | BZ35: 1670 | CA35: 1540 | CB35: 8770 | CC35: 235100 | CD35: 222700 | CE35: 182 | CF35: 2870 | CG35: 2670 | CH35: 8470 | CI35: 182000 | CJ35: 166200 | CK35: 172 | CL35: 3020 | CM35: 2800 | CN35: 25100 | CO35: 536700 | CP35: 415900 | CQ35: 3250 | CR35: 80600 | CS35: 69800 | CT35: 5560 | CU35: 108400 | CV35: 92400 | CW35: 16300 | CX35: 347800 | CY35: 253800 | CZ35: … | DA35: … | DB35: … | DC35: … | DD35: … | DE35: … | DF35: 26900 | DG35: 1247000 | DH35: 1072000 | DI35: … | DJ35: … | DK35: …
A36: 平.13(2001) | B36: 22000 | C36: 1038000 | D36: 780100 | E36: 2200 | F36: 125300 | G36: 111400 | H36: 3230 | I36: 187700 | J36: 168100 | K36: 16600 | L36: 725300 | M36: 500600 | N36: … | O36: … | P36: … | Q36: 35800 | R36: 1435000 | S36: 1219000 | T36: 9310 | U36: 371100 | V36: 313300 | W36: 12000 | X36: 471300 | Y36: 399100 | Z36: 14500 | AA36: 592400 | AB36: 506500 | AC36: … | AD36: … | AE36: … | AF36: 24700 | AG36: 319300 | AH36: 254100 | AI36: … | AJ36: … | AK36: … | AL36: … | AM36: … | AN36: … | AO36: … | AP36: … | AQ36: … | AR36: … | AS36: … | AT36: … | AU36: … | AV36: … | AW36: … | AX36: … | AY36: … | AZ36: … | BA36: … | BB36: … | BC36: … | BD36: 715 | BE36: 37000 | BF36: 34800 | BG36: … | BH36: … | BI36: … | BJ36: 1670 | BK36: 31700 | BL36: 25200 | BM36: 8400 | BN36: 89200 | BO36: 75500 | BP36: 21900 | BQ36: 554200 | BR36: 511700 | BS36: 425 | BT36: 7560 | BU36: 7020 | BV36: 4440 | BW36: 122600 | BX36: 110700 | BY36: 79 | BZ36: 1600 | CA36: 1470 | CB36: 8880 | CC36: 231400 | CD36: 218200 | CE36: 177 | CF36: 2830 | CG36: 2650 | CH36: 8560 | CI36: 200300 | CJ36: 182700 | CK36: 173 | CL36: 3130 | CM36: 2900 | CN36: 24400 | CO36: 526800 | CP36: 406100 | CQ36: 3220 | CR36: 80500 | CS36: 69700 | CT36: 5440 | CU36: 106400 | CV36: 90800 | CW36: 15700 | CX36: 339900 | CY36: 245600 | CZ36: … | DA36: … | DB36: … | DC36: … | DD36: … | DE36: … | DF36: 26000 | DG36: 1259000 | DH36: 1085000 | DI36: … | DJ36: … | DK36: …
A37: 平.14(2002) | B37: 21400 | C37: 1005000 | D37: 767100 | E37: 2140 | F37: 124700 | G37: 110600 | H37: 3200 | I37: 190200 | J37: 170600 | K37: 16100 | L37: 690000 | M37: 485900 | N37: 3830 | O37: 67600 | P37: 57700 | Q37: 34900 | R37: 1392000 | S37: 1197000 | T37: 9050 | U37: 365300 | V37: 309000 | W37: 11500 | X37: 462800 | Y37: 401600 | Z37: 14400 | AA37: 564000 | AB37: 486400 | AC37: 2070 | AD37: 45700 | AE37: 40100 | AF37: 24400 | AG37: 311800 | AH37: 249600 | AI37: … | AJ37: … | AK37: … | AL37: … | AM37: … | AN37: … | AO37: … | AP37: … | AQ37: … | AR37: 679 | AS37: 18900 | AT37: 17000 | AU37: 1270 | AV37: 18900 | AW37: 17800 | AX37: 2500 | AY37: 42900 | AZ37: 35600 | BA37: … | BB37: … | BC37: … | BD37: 719 | BE37: 37300 | BF37: 35200 | BG37: 6400 | BH37: 28400 | BI37: 24600 | BJ37: 1650 | BK37: 30300 | BL37: 24200 | BM37: 9250 | BN37: 94200 | BO37: 79800 | BP37: 22000 | BQ37: 561600 | BR37: 519200 | BS37: 422 | BT37: 7390 | BU37: 6860 | BV37: 4460 | BW37: 124600 | BX37: 112400 | BY37: 81 | BZ37: 1600 | CA37: 1480 | CB37: 9010 | CC37: 243400 | CD37: 229200 | CE37: 168 | CF37: 2720 | CG37: 2530 | CH37: 8560 | CI37: 193700 | CJ37: 177600 | CK37: 174 | CL37: 3070 | CM37: 2860 | CN37: 23900 | CO37: 518700 | CP37: 401800 | CQ37: 3280 | CR37: 83800 | CS37: 72500 | CT37: 5280 | CU37: 107400 | CV37: 91900 | CW37: 15300 | CX37: 327500 | CY37: 237300 | CZ37: … | DA37: … | DB37: … | DC37: 2070 | DD37: 66600 | DE37: 60500 | DF37: 25400 | DG37: 1274000 | DH37: 1042000 | DI37: 1990 | DJ37: 20200 | DK37: 14000
A38: 平.15(2003) | B38: 20700 | C38: 964500 | D38: 727500 | E38: 2090 | F38: 121500 | G38: 108600 | H38: 3140 | I38: 182300 | J38: 162400 | K38: 15400 | L38: 660600 | M38: 456500 | N38: 3870 | O38: 67000 | P38: 57000 | Q38: 34400 | R38: 1376000 | S38: 1179000 | T38: 8900 | U38: 351200 | V38: 299200 | W38: 11100 | X38: 450600 | Y38: 392400 | Z38: 14300 | AA38: 574400 | AB38: 487000 | AC38: 2060 | AD38: 45300 | AE38: 39700 | AF38: 24300 | AG38: 311800 | AH38: 251000 | AI38: … | AJ38: … | AK38: … | AL38: … | AM38: … | AN38: … | AO38: … | AP38: … | AQ38: … | AR38: 662 | AS38: 17500 | AT38: 15800 | AU38: 1230 | AV38: 18600 | AW38: 17600 | AX38: 2430 | AY38: 41300 | AZ38: 34200 | BA38: … | BB38: … | BC38: … | BD38: 709 | BE38: 36200 | BF38: 34100 | BG38: 6380 | BH38: 28100 | BI38: 24400 | BJ38: 1600 | BK38: 29400 | BL38: 23200 | BM38: 10200 | BN38: 107500 | BO38: 91300 | BP38: 22000 | BQ38: 548600 | BR38: 508000 | BS38: 430 | BT38: 7400 | BU38: 6880 | BV38: 4500 | BW38: 123300 | BX38: 112900 | BY38: 88 | BZ38: 1710 | CA38: 1580 | CB38: 9050 | CC38: 234100 | CD38: 220600 | CE38: 162 | CF38: 2540 | CG38: 2370 | CH38: 8500 | CI38: 191200 | CJ38: 174500 | CK38: 183 | CL38: 3160 | CM38: 2930 | CN38: 23600 | CO38: 514600 | CP38: 396700 | CQ38: 3310 | CR38: 83500 | CS38: 72300 | CT38: 5290 | CU38: 106200 | CV38: 90400 | CW38: 15000 | CX38: 324900 | CY38: 234100 | CZ38: … | DA38: … | DB38: … | DC38: 2010 | DD38: 62100 | DE38: 56600 | DF38: 23500 | DG38: 1172000 | DH38: 1025000 | DI38: 1740 | DJ38: 16700 | DK38: 11400
A39: 平.16(2004) | B39: 20200 | C39: 887600 | D39: 673300 | E39: 2050 | F39: 119300 | G39: 106500 | H39: 3090 | I39: 182700 | J39: 161800 | K39: 15100 | L39: 585500 | M39: 405000 | N39: 5510 | O39: 86600 | P39: 71200 | Q39: 33300 | R39: 1279000 | S39: 1100000 | T39: 8830 | U39: 354800 | V39: 302500 | W39: 10700 | X39: 428700 | Y39: 372100 | Z39: 13700 | AA39: 495600 | AB39: 425600 | AC39: 2320 | AD39: 47100 | AE39: 39800 | AF39: 23800 | AG39: 288700 | AH39: 231900 | AI39: … | AJ39: … | AK39: … | AL39: … | AM39: … | AN39: … | AO39: … | AP39: … | AQ39: … | AR39: 867 | AS39: 18300 | AT39: 14700 | AU39: 1330 | AV39: 18800 | AW39: 17600 | AX39: 2580 | AY39: 41200 | AZ39: 32600 | BA39: … | BB39: … | BC39: … | BD39: 715 | BE39: 36100 | BF39: 34100 | BG39: 6480 | BH39: 29100 | BI39: 25200 | BJ39: 1460 | BK39: 23500 | BL39: 18400 | BM39: 10000 | BN39: 93500 | BO39: 80000 | BP39: 21800 | BQ39: 509300 | BR39: 473200 | BS39: 430 | BT39: 7270 | BU39: 6710 | BV39: 4450 | BW39: 119800 | BX39: 110000 | BY39: 89 | BZ39: 1670 | CA39: 1550 | CB39: 9060 | CC39: 231200 | CD39: 218700 | CE39: 164 | CF39: 2500 | CG39: 2300 | CH39: 8280 | CI39: 158300 | CJ39: 144500 | CK39: 181 | CL39: 3110 | CM39: 2860 | CN39: 23500 | CO39: 485500 | CP39: 375100 | CQ39: 3360 | CR39: 85200 | CS39: 73600 | CT39: 5310 | CU39: 101200 | CV39: 86000 | CW39: 14800 | CX39: 299100 | CY39: 215500 | CZ39: … | DA39: … | DB39: … | DC39: 2180 | DD39: 61600 | DE39: 54400 | DF39: 23100 | DG39: 1128000 | DH39: 985500 | DI39: 1920 | DJ39: 19300 | DK39: 11500
A40: 平.17(2005) | B40: 19800 | C40: 924300 | D40: 702200 | E40: 1980 | F40: 112700 | G40: 99800 | H40: 2980 | I40: 178900 | J40: 156600 | K40: 14800 | L40: 632600 | M40: 445800 | N40: 5590 | O40: 87900 | P40: 72300 | Q40: 33500 | R40: 1364000 | S40: 1161000 | T40: 8800 | U40: 356900 | V40: 302300 | W40: 10400 | X40: 441900 | Y40: 366100 | Z40: 14200 | AA40: 565600 | AB40: 492500 | AC40: 2370 | AD40: 50100 | AE40: 42800 | AF40: 23700 | AG40: 298200 | AH40: 239500 | AI40: … | AJ40: … | AK40: … | AL40: … | AM40: … | AN40: … | AO40: … | AP40: … | AQ40: … | AR40: 802 | AS40: 17000 | AT40: 13700 | AU40: 1290 | AV40: 18600 | AW40: 17300 | AX40: 2530 | AY40: 40900 | AZ40: 32300 | BA40: … | BB40: … | BC40: … | BD40: 678 | BE40: 34900 | BF40: 33000 | BG40: 6370 | BH40: 28300 | BI40: 24400 | BJ40: 1430 | BK40: 25400 | BL40: 20000 | BM40: 10700 | BN40: 105200 | BO40: 90800 | BP40: 21500 | BQ40: 551700 | BR40: 506500 | BS40: 421 | BT40: 7240 | BU40: 6650 | BV40: 4430 | BW40: 118100 | BX40: 109400 | BY40: 86 | BZ40: 1570 | CA40: 1460 | CB40: 8870 | CC40: 248400 | CD40: 226900 | CE40: 157 | CF40: 2610 | CG40: 2400 | CH40: 8170 | CI40: 185300 | CJ40: 170100 | CK40: 178 | CL40: 3060 | CM40: 2800 | CN40: 23100 | CO40: 493500 | CP40: 380800 | CQ40: 3320 | CR40: 83000 | CS40: 71300 | CT40: 5160 | CU40: 101300 | CV40: 85700 | CW40: 14600 | CX40: 309200 | CY40: 223800 | CZ40: … | DA40: … | DB40: … | DC40: 2170 | DD40: 61100 | DE40: 54400 | DF40: 23000 | DG40: 1087000 | DH40: 944400 | DI40: 1940 | DJ40: 18300 | DK40: 11100
A41: 平.18(2006) | B41: 19300 | C41: 942300 | D41: 714600 | E41: 1930 | F41: 113100 | G41: 100000 | H41: 2890 | I41: 169600 | J41: 150100 | K41: 14400 | L41: 659600 | M41: 464500 | N41: 5650 | O41: 90800 | P41: 74800 | Q41: 33000 | R41: 1372000 | S41: 1181000 | T41: 8570 | U41: 343000 | V41: 295400 | W41: 10200 | X41: 439000 | Y41: 378100 | Z41: 14200 | AA41: 589900 | AB41: 508000 | AC41: 2330 | AD41: 48600 | AE41: 41500 | AF41: 23300 | AG41: 298800 | AH41: 239800 | AI41: … | AJ41: … | AK41: … | AL41: … | AM41: … | AN41: … | AO41: … | AP41: … | AQ41: … | AR41: 690 | AS41: 16900 | AT41: 13700 | AU41: 1240 | AV41: 18400 | AW41: 17200 | AX41: 2490 | AY41: 40400 | AZ41: 31900 | BA41: … | BB41: … | BC41: … | BD41: 686 | BE41: 35100 | BF41: 33200 | BG41: 6380 | BH41: 28200 | BI41: 24300 | BJ41: 1390 | BK41: 26500 | BL41: 20900 | BM41: 11400 | BN41: 122000 | BO41: 105900 | BP41: 20900 | BQ41: 545400 | BR41: 510600 | BS41: 427 | BT41: 7670 | BU41: 7080 | BV41: 4400 | BW41: 114500 | BX41: 107200 | BY41: 90 | BZ41: 1690 | CA41: 1560 | CB41: 8590 | CC41: 240000 | CD41: 229800 | CE41: 158 | CF41: 2760 | CG41: 2480 | CH41: 7960 | CI41: 190900 | CJ41: 173600 | CK41: 179 | CL41: 3220 | CM41: 3050 | CN41: 22700 | CO41: 491900 | CP41: 378800 | CQ41: 3410 | CR41: 78700 | CS41: 68200 | CT41: 5000 | CU41: 93500 | CV41: 79600 | CW41: 14300 | CX41: 319700 | CY41: 231100 | CZ41: … | DA41: … | DB41: … | DC41: 2200 | DD41: 62700 | DE41: 56000 | DF41: 23600 | DG41: 1161000 | DH41: 1019000 | DI41: 1950 | DJ41: 19100 | DK41: 11600
A42: 平.19(2007) | B42: 18700 | C42: 917500 | D42: 704700 | E42: 1850 | F42: 106800 | G42: 94900 | H42: 2850 | I42: 177800 | J42: 160500 | K42: 14000 | L42: 632900 | M42: 449300 | N42: 5730 | O42: 92700 | P42: 77500 | Q42: 32700 | R42: 1359000 | S42: 1183000 | T42: 8710 | U42: 350900 | V42: 303800 | W42: 10000 | X42: 441200 | Y42: 385000 | Z42: 13900 | AA42: 566800 | AB42: 494300 | AC42: 2350 | AD42: 48900 | AE42: 42400 | AF42: 22900 | AG42: 298200 | AH42: 241900 | AI42: … | AJ42: … | AK42: … | AL42: … | AM42: … | AN42: … | AO42: … | AP42: … | AQ42: … | AR42: 741 | AS42: 16200 | AT42: 13400 | AU42: 1210 | AV42: 17800 | AW42: 16700 | AX42: 2440 | AY42: 40300 | AZ42: 32200 | BA42: … | BB42: … | BC42: … | BD42: 669 | BE42: 35300 | BF42: 33400 | BG42: 6530 | BH42: 31100 | BI42: 26900 | BJ42: 1410 | BK42: 25400 | BL42: 20400 | BM42: 11900 | BN42: 125000 | BO42: 109900 | BP42: 20900 | BQ42: 543700 | BR42: 509700 | BS42: 449 | BT42: 7990 | BU42: 7310 | BV42: 4250 | BW42: 113300 | BX42: 105200 | BY42: 87 | BZ42: 1660 | CA42: 1530 | CB42: 8600 | CC42: 237000 | CD42: 226500 | CE42: 158 | CF42: 2690 | CG42: 2480 | CH42: 8050 | CI42: 193600 | CJ42: 178200 | CK42: 202 | CL42: 3640 | CM42: 3300 | CN42: 22500 | CO42: 494800 | CP42: 385900 | CQ42: 3330 | CR42: 84200 | CS42: 72900 | CT42: 4950 | CU42: 95700 | CV42: 81300 | CW42: 14300 | CX42: 314900 | CY42: 231600 | CZ42: … | DA42: … | DB42: … | DC42: 2160 | DD42: 63900 | DE42: 57600 | DF42: 24300 | DG42: 1265000 | DH42: 1118000 | DI42: 2030 | DJ42: 19200 | DK42: 12300
A43: 平.20(2008) | B43: 18600 | C43: 921400 | D43: 711400 | E43: 1810 | F43: 105600 | G43: 94700 | H43: 2830 | I43: 177300 | J43: 157200 | K43: 14000 | L43: 638500 | M43: 459400 | N43: 5840 | O43: 95000 | P43: 79600 | Q43: 33000 | R43: 1389000 | S43: 1208000 | T43: 8840 | U43: 364000 | V43: 316900 | W43: 10200 | X43: 461100 | Y43: 399400 | Z43: 14000 | AA43: 563500 | AB43: 491700 | AC43: 2410 | AD43: 50300 | AE43: 43800 | AF43: 22500 | AG43: 292700 | AH43: 238300 | AI43: … | AJ43: … | AK43: … | AL43: … | AM43: … | AN43: … | AO43: … | AP43: … | AQ43: … | AR43: 716 | AS43: 15600 | AT43: 12800 | AU43: 1170 | AV43: 17500 | AW43: 16300 | AX43: 2380 | AY43: 38800 | AZ43: 31200 | BA43: … | BB43: … | BC43: … | BD43: 657 | BE43: 34200 | BF43: 32400 | BG43: 6540 | BH43: 30800 | BI43: 26500 | BJ43: 1360 | BK43: 24500 | BL43: 19700 | BM43: 12700 | BN43: 136900 | BO43: 120800 | BP43: 20600 | BQ43: 544300 | BR43: 510700 | BS43: 439 | BT43: 7940 | BU43: 7270 | BV43: 4270 | BW43: 121100 | BX43: 112700 | BY43: 103 | BZ43: 1950 | CA43: 1820 | CB43: 8520 | CC43: 237400 | CD43: 227100 | CE43: 151 | CF43: 2610 | CG43: 2410 | CH43: 7800 | CI43: 185800 | CJ43: 170900 | CK43: 185 | CL43: 3390 | CM43: 3040 | CN43: 23000 | CO43: 510200 | CP43: 400300 | CQ43: 3390 | CR43: 86100 | CS43: 74600 | CT43: 5070 | CU43: 98900 | CV43: 84400 | CW43: 14500 | CX43: 325100 | CY43: 241200 | CZ43: … | DA43: … | DB43: … | DC43: 2240 | DD43: 65300 | DE43: 58900 | DF43: 24100 | DG43: 1271000 | DH43: 1121000 | DI43: 2050 | DJ43: 19700 | DK43: 12300
A44: 平.21(2009) | B44: 18600 | C44: 924100 | D44: 718700 | E44: 1880 | F44: 113300 | G44: 102200 | H44: 2800 | I44: 177300 | J44: 152400 | K44: 13900 | L44: 633600 | M44: 464000 | N44: 5930 | O44: 97800 | P44: 82600 | Q44: 33200 | R44: 1385000 | S44: 1211000 | T44: 8870 | U44: 364500 | V44: 317900 | W44: 10200 | X44: 455800 | Y44: 399300 | Z44: 14200 | AA44: 564600 | AB44: 493700 | AC44: 2430 | AD44: 50600 | AE44: 44200 | AF44: 22400 | AG44: 286300 | AH44: 234200 | AI44: … | AJ44: … | AK44: … | AL44: … | AM44: … | AN44: … | AO44: … | AP44: … | AQ44: … | AR44: 707 | AS44: 14900 | AT44: 12200 | AU44: 1140 | AV44: 17100 | AW44: 15800 | AX44: 2320 | AY44: 37600 | AZ44: 30100 | BA44: … | BB44: … | BC44: … | BD44: 673 | BE44: 36700 | BF44: 34900 | BG44: 6510 | BH44: 31100 | BI44: 27100 | BJ44: 1360 | BK44: 24400 | BL44: 19700 | BM44: 13400 | BN44: 141100 | BO44: 124800 | BP44: 20600 | BQ44: 549800 | BR44: 510200 | BS44: 478 | BT44: 8490 | BU44: 7710 | BV44: 4220 | BW44: 118200 | BX44: 109800 | BY44: 104 | BZ44: 1960 | CA44: 1800 | CB44: 8600 | CC44: 250900 | CD44: 234600 | CE44: 163 | CF44: 2790 | CG44: 2580 | CH44: 7800 | CI44: 180700 | CJ44: 165800 | CK44: 211 | CL44: 3730 | CM44: 3330 | CN44: 23100 | CO44: 508400 | CP44: 400000 | CQ44: 3410 | CR44: 86600 | CS44: 75200 | CT44: 5160 | CU44: 99200 | CV44: 85000 | CW44: 14600 | CX44: 322600 | CY44: 239800 | CZ44: … | DA44: … | DB44: … | DC44: 2260 | DD44: 66700 | DE44: 60100 | DF44: 24000 | DG44: 1161000 | DH44: 1022000 | DI44: 2140 | DJ44: 19800 | DK44: 12900
A45: 平.22(2010) | B45: 18300 | C45: 888700 | D45: 701200 | E45: 1940 | F45: 116500 | G45: 105600 | H45: 2710 | I45: 166600 | J45: 147400 | K45: 13700 | L45: 605600 | M45: 448200 | N45: 6090 | O45: 99100 | P45: 84700 | Q45: 33300 | R45: 1360000 | S45: 1193000 | T45: 8840 | U45: 358400 | V45: 313500 | W45: 10100 | X45: 440900 | Y45: 388200 | Z45: 14400 | AA45: 560100 | AB45: 490800 | AC45: 2380 | AD45: 48400 | AE45: 42500 | AF45: 22100 | AG45: 269000 | AH45: 220700 | AI45: … | AJ45: … | AK45: … | AL45: … | AM45: … | AN45: … | AO45: … | AP45: … | AQ45: … | AR45: 713 | AS45: 14400 | AT45: 11900 | AU45: 1110 | AV45: 16400 | AW45: 15300 | AX45: 2250 | AY45: 34900 | AZ45: 27900 | BA45: 2230 | BB45: 38000 | BC45: 33300 | BD45: 632 | BE45: 32300 | BF45: 30600 | BG45: 6490 | BH45: 31400 | BI45: 27300 | BJ45: 1320 | BK45: 22500 | BL45: 18200 | BM45: 13400 | BN45: 129200 | BO45: 114200 | BP45: 20900 | BQ45: 537900 | BR45: 501100 | BS45: 456 | BT45: 8060 | BU45: 7300 | BV45: 4270 | BW45: 111200 | BX45: 103300 | BY45: 105 | BZ45: 1890 | CA45: 1720 | CB45: 8860 | CC45: 250100 | CD45: 235600 | CE45: 173 | CF45: 2880 | CG45: 2660 | CH45: 7750 | CI45: 176500 | CJ45: 162200 | CK45: 178 | CL45: 3300 | CM45: 2920 | CN45: 23100 | CO45: 477500 | CP45: 376200 | CQ45: 3390 | CR45: 82300 | CS45: 71100 | CT45: 5120 | CU45: 91000 | CV45: 78000 | CW45: 14600 | CX45: 304200 | CY45: 227100 | CZ45: … | DA45: … | DB45: … | DC45: 2240 | DD45: 63800 | DE45: 57400 | DF45: 24000 | DG45: 1042000 | DH45: 915100 | DI45: 2240 | DJ45: 19700 | DK45: 12800
A46: 平.23(2011) | B46: 18100 | C46: 897400 | D46: 707600 | E46: 1870 | F46: 113200 | G46: 101900 | H46: 2660 | I46: 169700 | J46: 148200 | K46: 13600 | L46: 614500 | M46: 457500 | N46: 6180 | O46: 102300 | P46: 87700 | Q46: 33700 | R46: 1375000 | S46: 1209000 | T46: 8930 | U46: 365300 | V46: 321400 | W46: 10100 | X46: 448300 | Y46: 395500 | Z46: 14700 | AA46: 561100 | AB46: 492300 | AC46: 2470 | AD46: 48200 | AE46: 42200 | AF46: 21800 | AG46: 263500 | AH46: 217300 | AI46: … | AJ46: … | AK46: … | AL46: … | AM46: … | AN46: … | AO46: … | AP46: … | AQ46: … | AR46: 703 | AS46: 14300 | AT46: 11700 | AU46: 1090 | AV46: 16000 | AW46: 14900 | AX46: 2150 | AY46: 33700 | AZ46: 27000 | BA46: 2450 | BB46: 42500 | BC46: 37400 | BD46: 618 | BE46: 32100 | BF46: 30600 | BG46: 6290 | BH46: 28800 | BI46: 25100 | BJ46: 1320 | BK46: 22200 | BL46: 17800 | BM46: 13400 | BN46: 130200 | BO46: 115300 | BP46: 20800 | BQ46: 542400 | BR46: 508600 | BS46: 459 | BT46: 7870 | BU46: 7130 | BV46: 4240 | BW46: 112200 | BX46: 104000 | BY46: 107 | BZ46: 1840 | CA46: 1680 | CB46: 8820 | CC46: 254500 | CD46: 242000 | CE46: 170 | CF46: 2790 | CG46: 2570 | CH46: 7760 | CI46: 175800 | CJ46: 162600 | CK46: 182 | CL46: 3250 | CM46: 2880 | CN46: 23100 | CO46: 485100 | CP46: 383900 | CQ46: 3420 | CR46: 85200 | CS46: 74000 | CT46: 5110 | CU46: 91600 | CV46: 78900 | CW46: 14600 | CX46: 308300 | CY46: 231000 | CZ46: … | DA46: … | DB46: … | DC46: 2240 | DD46: 64400 | DE46: 58000 | DF46: 24600 | DG46: 1070000 | DH46: 942100 | DI46: 2240 | DJ46: 20600 | DK46: 13400
A47: 平.24(2012) | B47: 18000 | C47: 920700 | D47: 723400 | E47: 1880 | F47: 113000 | G47: 102600 | H47: 2650 | I47: 192200 | J47: 159400 | K47: 13400 | L47: 615600 | M47: 461400 | N47: 6390 | O47: 100500 | P47: 86300 | Q47: 34100 | R47: 1443000 | S47: 1265000 | T47: 9020 | U47: 372700 | V47: 330000 | W47: 10100 | X47: 473400 | Y47: 409100 | Z47: 15000 | AA47: 596500 | AB47: 525700 | AC47: 2450 | AD47: 48400 | AE47: 42300 | AF47: 21700 | AG47: 263500 | AH47: 217800 | AI47: … | AJ47: … | AK47: … | AL47: … | AM47: … | AN47: … | AO47: … | AP47: … | AQ47: … | AR47: 668 | AS47: 13200 | AT47: 10900 | AU47: 1080 | AV47: 16100 | AW47: 14900 | AX47: 2070 | AY47: 31900 | AZ47: 25500 | BA47: 2530 | BB47: 42200 | BC47: 37000 | BD47: 610 | BE47: 32900 | BF47: 31200 | BG47: 6030 | BH47: 28600 | BI47: 24900 | BJ47: 1270 | BK47: 21800 | BL47: 17600 | BM47: 13600 | BN47: 137500 | BO47: 122500 | BP47: 20900 | BQ47: 566100 | BR47: 529100 | BS47: 456 | BT47: 7950 | BU47: 7240 | BV47: 4280 | BW47: 111600 | BX47: 103800 | BY47: 109 | BZ47: 1940 | CA47: 1780 | CB47: 8840 | CC47: 278800 | CD47: 263700 | CE47: 159 | CF47: 2650 | CG47: 2440 | CH47: 7760 | CI47: 175700 | CJ47: 161600 | CK47: 188 | CL47: 3370 | CM47: 3010 | CN47: 23000 | CO47: 480900 | CP47: 382800 | CQ47: 3420 | CR47: 84200 | CS47: 73700 | CT47: 5080 | CU47: 92600 | CV47: 80000 | CW47: 14500 | CX47: 304000 | CY47: 229100 | CZ47: … | DA47: … | DB47: … | DC47: 2260 | DD47: 63200 | DE47: 56900 | DF47: 24900 | DG47: 1098000 | DH47: 968700 | DI47: 2300 | DJ47: 20100 | DK47: 13300
A48: 平.25(2013) | B48: 17800 | C48: 906300 | D48: 730600 | E48: 1880 | F48: 113100 | G48: 102900 | H48: 2550 | I48: 181300 | J48: 163800 | K48: 13400 | L48: 611900 | M48: 463900 | N48: 6450 | O48: 105200 | P48: 91100 | Q48: 34300 | R48: 1440000 | S48: 1276000 | T48: 9150 | U48: 378700 | V48: 336500 | W48: 10100 | X48: 464400 | Y48: 411300 | Z48: 15100 | AA48: 597400 | AB48: 528100 | AC48: 2380 | AD48: 47000 | AE48: 41200 | AF48: 21300 | AG48: 250300 | AH48: 208000 | AI48: … | AJ48: … | AK48: … | AL48: … | AM48: … | AN48: … | AO48: … | AP48: … | AQ48: … | AR48: 616 | AS48: 12400 | AT48: 10400 | AU48: 1060 | AV48: 15800 | AW48: 14700 | AX48: 2010 | AY48: 30700 | AZ48: 24600 | BA48: 2490 | BB48: 41800 | BC48: 37200 | BD48: 604 | BE48: 34000 | BF48: 32300 | BG48: 5770 | BH48: 29600 | BI48: 26100 | BJ48: 1290 | BK48: 22200 | BL48: 18500 | BM48: 13700 | BN48: 137000 | BO48: 122400 | BP48: 21300 | BQ48: 579000 | BR48: 547100 | BS48: 463 | BT48: 8250 | BU48: 7520 | BV48: 4330 | BW48: 115000 | BX48: 107500 | BY48: 103 | BZ48: 1890 | CA48: 1740 | CB48: 9110 | CC48: 284100 | CD48: 273600 | CE48: 168 | CF48: 2920 | CG48: 2700 | CH48: 7820 | CI48: 179900 | CJ48: 166000 | CK48: 192 | CL48: 3450 | CM48: 3070 | CN48: 22900 | CO48: 477500 | CP48: 380700 | CQ48: 3460 | CR48: 86100 | CS48: 75300 | CT48: 5000 | CU48: 89300 | CV48: 77300 | CW48: 14400 | CX48: 302000 | CY48: 228100 | CZ48: … | DA48: … | DB48: … | DC48: 2210 | DD48: 63900 | DE48: 57800 | DF48: 25200 | DG48: 1068000 | DH48: 940700 | DI48: 2340 | DJ48: 20900 | DK48: 14500
A49: 平.26(2014) | B49: 17800 | C49: 914400 | D49: 736600 | E49: 1890 | F49: 115700 | G49: 105500 | H49: 2490 | I49: 175800 | J49: 158900 | K49: 13400 | L49: 622900 | M49: 472200 | N49: 6800 | O49: 113200 | P49: 98200 | Q49: 34700 | R49: 1480000 | S49: 1316000 | T49: 9180 | U49: 387100 | V49: 345400 | W49: 10200 | X49: 474700 | Y49: 421200 | Z49: 15300 | AA49: 618600 | AB49: 549300 | AC49: 2260 | AD49: 44800 | AE49: 39400 | AF49: 21200 | AG49: 257400 | AH49: 215000 | AI49: … | AJ49: … | AK49: … | AL49: … | AM49: … | AN49: … | AO49: … | AP49: … | AQ49: … | AR49: 609 | AS49: 11700 | AT49: 9720 | AU49: 1040 | AV49: 15900 | AW49: 14800 | AX49: 2010 | AY49: 31000 | AZ49: 24800 | BA49: 2500 | BB49: 41800 | BC49: 37500 | BD49: 601 | BE49: 34000 | BF49: 32300 | BG49: 5580 | BH49: 28500 | BI49: 25100 | BJ49: 1280 | BK49: 22300 | BL49: 18600 | BM49: 14100 | BN49: 145600 | BO49: 130400 | BP49: 21300 | BQ49: 577800 | BR49: 546700 | BS49: 447 | BT49: 7990 | BU49: 7290 | BV49: 4320 | BW49: 115400 | BX49: 108100 | BY49: 95 | BZ49: 1730 | CA49: 1610 | CB49: 9110 | CC49: 274800 | CD49: 265100 | CE49: 168 | CF49: 2960 | CG49: 2740 | CH49: 7910 | CI49: 187600 | CJ49: 173500 | CK49: 184 | CL49: 3300 | CM49: 2940 | CN49: 22900 | CO49: 483900 | CP49: 389100 | CQ49: 3500 | CR49: 85200 | CS49: 74800 | CT49: 5050 | CU49: 93000 | CV49: 81000 | CW49: 14300 | CX49: 305700 | CY49: 233300 | CZ49: … | DA49: … | DB49: … | DC49: 2180 | DD49: 61400 | DE49: 55600 | DF49: 25300 | DG49: 1169000 | DH49: 1027000 | DI49: 2310 | DJ49: 20100 | DK49: 14000
A50: 平.27(2015) | B50: 17600 | C50: 894600 | D50: 723700 | E50: 1870 | F50: 110100 | G50: 100600 | H50: 2490 | I50: 176300 | J50: 159200 | K50: 13200 | L50: 608300 | M50: 463900 | N50: 6860 | O50: 115400 | P50: 100200 | Q50: 34700 | R50: 1469000 | S50: 1310000 | T50: 9110 | U50: 369900 | V50: 330100 | W50: 10200 | X50: 463900 | Y50: 415600 | Z50: 15400 | AA50: 634900 | AB50: 564700 | AC50: 2220 | AD50: 44100 | AE50: 38600 | AF50: 21000 | AG50: 250800 | AH50: 209800 | AI50: … | AJ50: … | AK50: … | AL50: … | AM50: … | AN50: … | AO50: … | AP50: … | AQ50: … | AR50: 592 | AS50: 11500 | AT50: 9640 | AU50: 1030 | AV50: 15600 | AW50: 14600 | AX50: 2000 | AY50: 31700 | AZ50: 25500 | BA50: 2550 | BB50: 44000 | BC50: 39500 | BD50: 589 | BE50: 32300 | BF50: 30600 | BG50: 5470 | BH50: 29100 | BI50: 25700 | BJ50: 1260 | BK50: 22100 | BL50: 18400 | BM50: 14500 | BN50: 150900 | BO50: 135500 | BP50: 21500 | BQ50: 568000 | BR50: 537700 | BS50: 450 | BT50: 8180 | BU50: 7450 | BV50: 4330 | BW50: 113200 | BX50: 105900 | BY50: 95 | BZ50: 1730 | CA50: 1610 | CB50: 9150 | CC50: 272200 | CD50: 262400 | CE50: 170 | CF50: 3080 | CG50: 2840 | CH50: 8050 | CI50: 182600 | CJ50: 169400 | CK50: 185 | CL50: 3370 | CM50: 3010 | CN50: 22800 | CO50: 474500 | CP50: 383100 | CQ50: 3490 | CR50: 83900 | CS50: 73800 | CT50: 5040 | CU50: 90900 | CV50: 79300 | CW50: 14200 | CX50: 299700 | CY50: 230100 | CZ50: … | DA50: … | DB50: … | DC50: 2150 | DD50: 61500 | DE50: 55500 | DF50: 25700 | DG50: 1265000 | DH50: 1124000 | DI50: 2330 | DJ50: 20500 | DK50: 14300
A51: 平.28(2016) | B51: 17300 | C51: 888700 | D51: 715800 | E51: 1860 | F51: 113600 | G51: 103800 | H51: 2490 | I51: 181100 | J51: 158400 | K51: 13000 | L51: 594100 | M51: 453700 | N51: 6890 | O51: 113600 | P51: 99100 | Q51: 34600 | R51: 1446000 | S51: 1298000 | T51: 9000 | U51: 366800 | V51: 328800 | W51: 10200 | X51: 474300 | Y51: 429700 | Z51: 15400 | AA51: 605300 | AB51: 539600 | AC51: 2220 | AD51: 44100 | AE51: 38700 | AF51: 20700 | AG51: 247300 | AH51: 207300 | AI51: … | AJ51: … | AK51: … | AL51: … | AM51: … | AN51: … | AO51: … | AP51: … | AQ51: … | AR51: 571 | AS51: 11200 | AT51: 9380 | AU51: 979 | AV51: 15300 | AW51: 14300 | AX51: 1960 | AY51: 30000 | AZ51: 24200 | BA51: 2510 | BB51: 43600 | BC51: 39400 | BD51: 585 | BE51: 33500 | BF51: 31600 | BG51: 5420 | BH51: 30400 | BI51: 26800 | BJ51: 1220 | BK51: 20400 | BL51: 17200 | BM51: 14600 | BN51: 142300 | BO51: 127900 | BP51: 21600 | BQ51: 585700 | BR51: 555200 | BS51: 447 | BT51: 7960 | BU51: 7270 | BV51: 4340 | BW51: 116500 | BX51: 109400 | BY51: 104 | BZ51: 1800 | CA51: 1660 | CB51: 9190 | CC51: 280600 | CD51: 270800 | CE51: 157 | CF51: 2660 | CG51: 2470 | CH51: 8050 | CI51: 188600 | CJ51: 174900 | CK51: 186 | CL51: 3500 | CM51: 3140 | CN51: 22600 | CO51: 464800 | CP51: 375600 | CQ51: 3460 | CR51: 84000 | CS51: 73800 | CT51: 5000 | CU51: 90500 | CV51: 79000 | CW51: 14200 | CX51: 290300 | CY51: 222700 | CZ51: … | DA51: … | DB51: … | DC51: 2120 | DD51: 62100 | DE51: 56200 | DF51: 25800 | DG51: 1243000 | DH51: 1107000 | DI51: 2410 | DJ51: 21100 | DK51: 14700
A52: 平.29(2017) | B52: 17200 | C52: 880900 | D52: 726800 | E52: 1850 | F52: 118500 | G52: 109000 | H52: 2460 | I52: 184500 | J52: 167200 | K52: 12900 | L52: 577900 | M52: 450700 | N52: 7010 | O52: 112100 | P52: 99200 | Q52: 34800 | R52: 1428000 | S52: 1280000 | T52: 9080 | U52: 379300 | V52: 342600 | W52: 10300 | X52: 492400 | Y52: 440200 | Z52: 15400 | AA52: 555800 | AB52: 497300 | AC52: 2200 | AD52: 43100 | AE52: 38000 | AF52: 20500 | AG52: 228100 | AH52: 193300 | AI52: … | AJ52: … | AK52: … | AL52: … | AM52: … | AN52: … | AO52: … | AP52: … | AQ52: … | AR52: 557 | AS52: 10700 | AT52: 9130 | AU52: 957 | AV52: 15400 | AW52: 14400 | AX52: 1930 | AY52: 29000 | AZ52: 23500 | BA52: 2460 | BB52: 42100 | BC52: 38000 | BD52: 580 | BE52: 32200 | BF52: 30600 | BG52: 5330 | BH52: 26200 | BI52: 23000 | BJ52: 1230 | BK52: 20100 | BL52: 17000 | BM52: 14900 | BN52: 144600 | BO52: 130200 | BP52: 21800 | BQ52: 583200 | BR52: 542300 | BS52: 437 | BT52: 7830 | BU52: 7260 | BV52: 4480 | BW52: 123200 | BX52: 115700 | BY52: 101 | BZ52: 1820 | CA52: 1680 | CB52: 9290 | CC52: 294500 | CD52: 273700 | CE52: 156 | CF52: 2680 | CG52: 2500 | CH52: 7990 | CI52: 165500 | CJ52: 152800 | CK52: 180 | CL52: 3340 | CM52: 3080 | CN52: 22600 | CO52: 458800 | CP52: 374400 | CQ52: 3460 | CR52: 82400 | CS52: 72900 | CT52: 5000 | CU52: 91500 | CV52: 81300 | CW52: 14100 | CX52: 284900 | CY52: 220200 | CZ52: … | DA52: … | DB52: … | DC52: 2060 | DD52: 59600 | DE52: 53900 | DF52: 25600 | DG52: 1228000 | DH52: 1099000 | DI52: 2430 | DJ52: 20700 | DK52: 14500
A53: 平.30(2018) | B53: 17000 | C53: 889900 | D53: 734400 | E53: 1840 | F53: 116100 | G53: 106900 | H53: 2420 | I53: 179200 | J53: 162700 | K53: 12700 | L53: 594800 | M53: 464800 | N53: 7250 | O53: 115600 | P53: 102500 | Q53: 34600 | R53: 1467000 | S53: 1319000 | T53: 9040 | U53: 376800 | V53: 340600 | W53: 10200 | X53: 499500 | Y53: 447900 | Z53: 15400 | AA53: 590100 | AB53: 530100 | AC53: 2170 | AD53: 42000 | AE53: 37500 | AF53: 20300 | AG53: 228300 | AH53: 194800 | AI53: … | AJ53: … | AK53: … | AL53: … | AM53: … | AN53: … | AO53: … | AP53: … | AQ53: … | AR53: 538 | AS53: 10200 | AT53: 8560 | AU53: 931 | AV53: 15000 | AW53: 14000 | AX53: 1880 | AY53: 28000 | AZ53: 22600 | BA53: 2510 | BB53: 43100 | BC53: 39000 | BD53: 573 | BE53: 31100 | BF53: 29500 | BG53: 5170 | BH53: 26500 | BI53: 23200 | BJ53: 1200 | BK53: 19700 | BL53: 16600 | BM53: 15400 | BN53: 153800 | BO53: 138900 | BP53: 21700 | BQ53: 585600 | BR53: 553200 | BS53: 426 | BT53: 7940 | BU53: 7360 | BV53: 4390 | BW53: 120700 | BX53: 113400 | BY53: 100 | BZ53: 1850 | CA53: 1700 | CB53: 9260 | CC53: 278500 | CD53: 267200 | CE53: 157 | CF53: 2890 | CG53: 2640 | CH53: 8030 | CI53: 186300 | CJ53: 172700 | CK53: 174 | CL53: 3350 | CM53: 3110 | CN53: 22400 | CO53: 452900 | CP53: 370300 | CQ53: 3430 | CR53: 77500 | CS53: 68700 | CT53: 4920 | CU53: 86200 | CV53: 76600 | CW53: 14000 | CX53: 289300 | CY53: 225100 | CZ53: … | DA53: … | DB53: … | DC53: 2020 | DD53: 58500 | DE53: 52900 | DF53: 26200 | DG53: 1155000 | DH53: 1042000 | DI53: 2470 | DJ53: 20200 | DK53: 14400
A54: 令.元(2019) | B54: 16700 | C54: 874800 | D54: 726500 | E54: 1810 | F54: 116800 | G54: 107600 | H54: 2460 | I54: 179500 | J54: 163200 | K54: 12500 | L54: 578500 | M54: 455700 | N54: 7300 | O54: 114900 | P54: 102100 | Q54: 34600 | R54: 1472000 | S54: 1325000 | T54: 8860 | U54: 356500 | V54: 323700 | W54: 10300 | X54: 500800 | Y54: 449900 | Z54: 15400 | AA54: 614300 | AB54: 551400 | AC54: 2140 | AD54: 41100 | AE54: 36100 | AF54: 19900 | AG54: 217800 | AH54: 184900 | AI54: … | AJ54: … | AK54: … | AL54: … | AM54: … | AN54: … | AO54: … | AP54: … | AQ54: … | AR54: 518 | AS54: 9300 | AT54: 7850 | AU54: 891 | AV54: 14000 | AW54: 13200 | AX54: 1830 | AY54: 26900 | AZ54: 21800 | BA54: 2480 | BB54: 44400 | BC54: 39800 | BD54: 552 | BE54: 31400 | BF54: 30000 | BG54: 5010 | BH54: 26800 | BI54: 23600 | BJ54: 1230 | BK54: 21400 | BL54: 18300 | BM54: 16000 | BN54: 169500 | BO54: 153700 | BP54: 21200 | BQ54: 578100 | BR54: 545600 | BS54: 425 | BT54: 7990 | BU54: 7360 | BV54: 4310 | BW54: 118500 | BX54: 111200 | BY54: 96 | BZ54: 1750 | CA54: 1620 | CB54: 9100 | CC54: 273600 | CD54: 262100 | CE54: 154 | CF54: 3150 | CG54: 2930 | CH54: 7790 | CI54: 186000 | CJ54: 172300 | CK54: 175 | CL54: 3100 | CM54: 2820 | CN54: 22400 | CO54: 465300 | CP54: 382500 | CQ54: 3410 | CR54: 80900 | CS54: 71800 | CT54: 4910 | CU54: 90500 | CV54: 80700 | CW54: 14100 | CX54: 293900 | CY54: 230100 | CZ54: … | DA54: … | DB54: … | DC54: 2000 | DD54: 58300 | DE54: 52900 | DF54: 25900 | DG54: 1334000 | DH54: 1211000 | DI54: 2510 | DJ54: 20800 | DK54: 15000
A55: 令.2(2020) | B55: 16600 | C55: 892300 | D55: 741100 | E55: 1800 | F55: 116200 | G55: 107200 | H55: 2330 | I55: 164100 | J55: 149800 | K55: 12500 | L55: 612000 | M55: 484100 | N55: 7550 | O55: 121900 | P55: 109400 | Q55: 34000 | R55: 1434000 | S55: 1293000 | T55: 8770 | U55: 356200 | V55: 323900 | W55: 10100 | X55: 478600 | Y55: 429900 | Z55: 15100 | AA55: 598800 | AB55: 538700 | AC55: 2150 | AD55: 41400 | AE55: 36800 | AF55: 19600 | AG55: 213900 | AH55: 182700 | AI55: … | AJ55: … | AK55: … | AL55: … | AM55: … | AN55: … | AO55: … | AP55: … | AQ55: … | AR55: 498 | AS55: 8980 | AT55: 7660 | AU55: 874 | AV55: 13400 | AW55: 12400 | AX55: 1830 | AY55: 27400 | AZ55: 22600 | BA55: 2490 | BB55: 43800 | BC55: 38900 | BD55: 540 | BE55: 29500 | BF55: 28100 | BG55: 4800 | BH55: 26700 | BI55: 23600 | BJ55: 1220 | BK55: 21000 | BL55: 18000 | BM55: 16600 | BN55: 174500 | BO55: 158200 | BP55: 20700 | BQ55: 563900 | BR55: 531600 | BS55: 412 | BT55: 8790 | BU55: 8390 | BV55: 4150 | BW55: 115200 | BX55: 108000 | BY55: 83 | BZ55: 1580 | CA55: 1500 | CB55: 8840 | CC55: 264200 | CD55: 252200 | CE55: 166 | CF55: 4370 | CG55: 4270 | CH55: 7740 | CI55: 184600 | CJ55: 171300 | CK55: 163 | CL55: 2840 | CM55: 2630 | CN55: 22000 | CO55: 441100 | CP55: 364100 | CQ55: 3370 | CR55: 80000 | CS55: 71300 | CT55: 4800 | CU55: 88100 | CV55: 78900 | CW55: 13800 | CX55: 273000 | CY55: 213900 | CZ55: … | DA55: … | DB55: … | DC55: 1980 | DD55: 57000 | DE55: 51500 | DF55: 25500 | DG55: 1357000 | DH55: 1218000 | DI55: 2530 | DJ55: 21200 | DK55: 15000
A56: 令.3(2021) | B56: 16500 | C56: 899900 | D56: 744800 | E56: 1830 | F56: 118800 | G56: 109900 | H56: 2380 | I56: 166900 | J56: 149500 | K56: 12300 | L56: 614200 | M56: 485300 | N56: 7420 | O56: 119300 | P56: 106900 | Q56: 34300 | R56: 1485000 | S56: 1330000 | T56: 8900 | U56: 372500 | V56: 339300 | W56: 10500 | X56: 516800 | Y56: 453600 | Z56: 15000 | AA56: 595900 | AB56: 536900 | AC56: 2100 | AD56: 41800 | AE56: 37200 | AF56: 19300 | AG56: 210500 | AH56: 179700 | AI56: … | AJ56: … | AK56: … | AL56: … | AM56: … | AN56: … | AO56: … | AP56: … | AQ56: … | AR56: 456 | AS56: 8420 | AT56: 7190 | AU56: 862 | AV56: 13700 | AW56: 12700 | AX56: 1800 | AY56: 27200 | AZ56: 22400 | BA56: 2420 | BB56: 41300 | BC56: 36800 | BD56: 541 | BE56: 30000 | BF56: 28800 | BG56: 4500 | BH56: 25200 | BI56: 22400 | BJ56: 1240 | BK56: 21600 | BL56: 18500 | BM56: 16900 | BN56: 171600 | BO56: 155500 | BP56: 20000 | BQ56: 546800 | BR56: 516400 | BS56: 452 | BT56: 9780 | BU56: 9100 | BV56: 4090 | BW56: 113800 | BX56: 107100 | BY56: 80 | BZ56: 1400 | CA56: 1320 | CB56: 8390 | CC56: 255100 | CD56: 244800 | CE56: 225 | CF56: 5750 | CG56: 5380 | CH56: 7520 | CI56: 177800 | CJ56: 164600 | CK56: 147 | CL56: 2630 | CM56: 2400 | CN56: 21800 | CO56: 440400 | CP56: 364700 | CQ56: 3280 | CR56: 75200 | CS56: 67200 | CT56: 4840 | CU56: 89600 | CV56: 80400 | CW56: 13700 | CX56: 275600 | CY56: 217200 | CZ56: … | DA56: … | DB56: … | DC56: 1930 | DD56: 56300 | DE56: 51500 | DF56: 25500 | DG56: 1096000 | DH56: 992900 | DI56: 2520 | DJ56: 20200 | DK56: 14000
... A58: 令.5(2023) | B58: 15600 | C58: 852100 | D58: 713700 | E58: 1790 | F58: 116800 | G58: 108400 | H58: 2240 | I58: 159700 | J58: 146300 | K58: 11600 | L58: 575600 | M58: 459100 | N58: 7440 | O58: 120900 | P58: 108900 | Q58: 33700 | R58: 1434000 | S58: 1291000 | T58: 8770 | U58: 353900 | V58: 322500 | W58: 10200 | X58: 482800 | Y58: 425400 | Z58: 14800 | AA58: 597600 | AB58: 543500 | AC58: 2020 | AD58: 38700 | AE58: 34500 | AF58: 18700 | AG58: 206800 | AH58: 177100 | AI58: … | AJ58: … | AK58: … | AL58: … | AM58: … | AN58: … | AO58: … | AP58: … | AQ58: … | AR58: 391 | AS58: 6960 | AT58: 5960 | AU58: 802 | AV58: 13100 | AW58: 12200 | AX58: 1680 | AY58: 24600 | AZ58: 20500 | BA58: 2220 | BB58: 36100 | BC58: 32300 | BD58: 534 | BE58: 28700 | BF58: 27500 | BG58: 4140 | BH58: 24600 | BI58: 22000 | BJ58: 1240 | BK58: 22100 | BL58: 19000 | BM58: 17300 | BN58: 171400 | BO58: 156400 | BP58: 19700 | BQ58: 546100 | BR58: 516400 | BS58: 306 | BT58: 5350 | BU58: 5050 | BV58: 3790 | BW58: 106000 | BX58: 99700 | BY58: 70 | BZ58: 1180 | CA58: 1090 | CB58: 8480 | CC58: 259500 | CD58: 249100 | CE58: 94 | CF58: 1510 | CG58: 1470 | CH58: 7390 | CI58: 180600 | CJ58: 167700 | CK58: 142 | CL58: 2670 | CM58: 2490 | CN58: 21500 | CO58: 416300 | CP58: 347700 | CQ58: 3330 | CR58: 74900 | CS58: 67000 | CT58: 4750 | CU58: 86700 | CV58: 78000 | CW58: 13400 | CX58: 254700 | CY58: 202800 | CZ58: … | DA58: … | DB58: … | DC58: 1850 | DD58: 55100 | DE58: 50700 | DF58: 25500 | DG58: 1174000 | DH58: 1066000 | DI58: 2540 | DJ58: 20200 | DK58: 13800
A59: 令.6(2024) | B59: 15300 | C59: 827000 | D59: 696500 | E59: 1770 | F59: 116400 | G59: 108500 | H59: 2170 | I59: 154100 | J59: 141000 | K59: 11400 | L59: 556400 | M59: 446900 | N59: 7380 | O59: 118200 | P59: 106600 | Q59: 32700 | R59: 1294000 | S59: 1177000 | T59: 8590 | U59: 338900 | V59: 308600 | W59: 9670 | X59: 466400 | Y59: 423900 | Z59: 14500 | AA59: 488900 | AB59: 444400 | AC59: 2050 | AD59: 38700 | AE59: 34300 | AF59: 17900 | AG59: 189900 | AH59: 163100 | AR59: 361 | AS59: 6280 | AT59: 5380 | AU59: 787 | AV59: 12900 | AW59: 12100 | AX59: 1650 | AY59: 23200 | AZ59: 19400 | BA59: 2190 | BB59: 34100 | BC59: 30500 | BD59: 540 | BE59: 28900 | BF59: 27700 | BG59: 4010 | BH59: 22300 | BI59: 20000 | BJ59: 1190 | BK59: 19400 | BL59: 16700 | BM59: 17300 | BN59: 160500 | BO59: 146400 | BP59: =[1]Sheet１!L79 -> 19300 | BQ59: =[1]Sheet１!X79 -> 534300 | BR59: =[1]Sheet１!AD79 -> 506300 | BV59: =[1]Sheet１!L80 -> 3800 | BW59: =[1]Sheet１!X80 -> 104500 | BX59: =[1]Sheet１!AD80 -> 98300 | CB59: =[1]Sheet１!L81 -> 8260 | CC59: =[1]Sheet１!X81 -> 257000 | CD59: =[1]Sheet１!AD81 -> 247200 | CH59: =[1]Sheet１!L82 -> 7260 | CI59: =[1]Sheet１!X82 -> 172900 | CJ59: =[1]Sheet１!AD82 -> 160800 | CN59: =[1]Sheet１!L84 -> 21200 | CO59: =[1]Sheet１!X84 -> 399200 | CP59: =[1]Sheet１!AD84 -> 333000 | CQ59: =[1]Sheet１!L85 -> 3350 | CR59: =[1]Sheet１!X85 -> 74100 | CS59: =[1]Sheet１!AD85 -> 66300 | CT59: =[1]Sheet１!L86 -> 4720 | CU59: =[1]Sheet１!X86 -> 82900 | CV59: =[1]Sheet１!AD86 -> 75300 | CW59: =[1]Sheet１!L87 -> 13200 | CX59: =[1]Sheet１!X87 -> 242200 | CY59: =[1]Sheet１!AD87 -> 191400 | DC59: =[1]Sheet１!L89 -> 1870 | DD59: =[1]Sheet１!X89 -> 55200 | DE59: =[1]Sheet１!AD89 -> 50700 | DF59: 25000 | DG59: 1126000 | DH59: 1024000 | DI59: 2520 | DJ59: 17600 | DK59: 12100
Z60: 0 | AA60: 0 | AB60: 0 | AC60: 0 | AD60: 0 | AE60: 0 | AF60: 0 | AG60: 0 | AH60: 0 | AR60: 0 | AS60: 0 | AT60: 0 | AU60: 0 | AV60: 0 | AW60: 0 | AX60: 0 | AY60: 0 | AZ60: 0 | BA60: 0 | BB60: 0 | BC60: 0 | BD60: 0 | BE60: 0 | BF60: 0 | BG60: 0 | BH60: 0 | BI60: 0 | CH60: =[1]Sheet１!L83 -> 0 | CI60: =[1]Sheet１!X83 -> 0 | CJ60: =[1]Sheet１!AD83 -> 0 | CW60: =[1]Sheet１!L88 -> 0 | CX60: =[1]Sheet１!X88 -> 0 | CY60: =[1]Sheet１!AD88 -> 0 | DF60: 0 | DG60: 0 | DH60: 0
BG62: 0 | BH62: 0 | BI62: 0
B64: （注記）
B65: 平成元年産よりカリフラワーに含まれていたブロッコリーを分離した。

Sheet 全国（果菜類）
A1: 野菜生産出荷統計
A2: 品目別（季節区分別）作付面積、収穫量及び出荷量累年統計
A3: 果菜類
A4: 全国
A5: 年次 | B5: きゅうり | E5: 冬春きゅうり | H5: 夏秋きゅうり | K5: かぼちゃ | N5: なす | Q5: 冬春なす | T5: 夏秋なす | W5: トマト | Z5: トマトのうち、加工用トマト | AC5: トマトのうち、ミニトマト | AF5: 冬春トマト | AI5: 冬春トマトのうち、ミニトマト | AL5: 夏秋トマト | AO5: 夏秋トマトのうち、加工用トマト | AR5: 夏秋トマトのうち、ミニトマト | AU5: ピーマン | AX5: ピーマンのうちししとう | BA5: 冬春ピーマン | BD5: 冬春ピーマンのうちししとう | BG5: 夏秋ピーマン | BJ5: 夏秋ピーマンのうちししとう | BM5: 未成熟トウモロコシ（スイートコーン） | BP5: さやいんげん | BS5: さやえんどう | BV5: グリーンピース | BY5: そらまめ | CB5: えだまめ
B6: 作付面積 | C6: 収穫量 | D6: 出荷量 | E6: 作付面積 | F6: 収穫量 | G6: 出荷量 | H6: 作付面積 | I6: 収穫量 | J6: 出荷量 | K6: 作付面積 | L6: 収穫量 | M6: 出荷量 | N6: 作付面積 | O6: 収穫量 | P6: 出荷量 | Q6: 作付面積 | R6: 収穫量 | S6: 出荷量 | T6: 作付面積 | U6: 収穫量 | V6: 出荷量 | W6: 作付面積 | X6: 収穫量 | Y6: 出荷量 | Z6: 作付面積 | AA6: 収穫量 | AB6: 出荷量 | AC6: 作付面積 | AD6: 収穫量 | AE6: 出荷量 | AF6: 作付面積 | AG6: 収穫量 | AH6: 出荷量 | AI6: 作付面積 | AJ6: 収穫量 | AK6: 出荷量 | AL6: 作付面積 | AM6: 収穫量 | AN6: 出荷量 | AO6: 作付面積 | AP6: 収穫量 | AQ6: 出荷量 | AR6: 作付面積 | AS6: 収穫量 | AT6: 出荷量 | AU6: 作付面積 | AV6: 収穫量 | AW6: 出荷量 | AX6: 作付面積 | AY6: 収穫量 | AZ6: 出荷量 | BA6: 作付面積 | BB6: 収穫量 | BC6: 出荷量 | BD6: 作付面積 | BE6: 収穫量 | BF6: 出荷量 | BG6: 作付面積 | BH6: 収穫量 | BI6: 出荷量 | BJ6: 作付面積 | BK6: 収穫量 | BL6: 出荷量 | BM6: 作付面積 | BN6: 収穫量 | BO6: 出荷量 | BP6: 作付面積 | BQ6: 収穫量 | BR6: 出荷量 | BS6: 作付面積 | BT6: 収穫量 | BU6: 出荷量 | BV6: 作付面積 | BW6: 収穫量 | BX6: 出荷量 | BY6: 作付面積 | BZ6: 収穫量 | CA6: 出荷量 | CB6: 作付面積 | CC6: 収穫量 | CD6: 出荷量
B7: ha | C7: t | D7: t | E7: ha | F7: t | G7: t | H7: ha | I7: t | J7: t | K7: ha | L7: t | M7: t | N7: ha | O7: t | P7: t | Q7: ha | R7: t | S7: t | T7: ha | U7: t | V7: t | W7: ha | X7: t | Y7: t | Z7: ha | AA7: t | AB7: t | AC7: ha | AD7: t | AE7: t | AF7: ha | AG7: t | AH7: t | AI7: ha | AJ7: t | AK7: t | AL7: ha | AM7: t | AN7: t | AO7: ha | AP7: t | AQ7: t | AR7: ha | AS7: t | AT7: t | AU7: ha | AV7: t | AW7: t | AX7: ha | AY7: t | AZ7: t | BA7: ha | BB7: t | BC7: t | BD7: ha | BE7: t | BF7: t | BG7: ha | BH7: t | BI7: t | BJ7: ha | BK7: t | BL7: t | BM7: ha | BN7: t | BO7: t | BP7: ha | BQ7: t | BR7: t | BS7: ha | BT7: t | BU7: t | BV7: ha | BW7: t | BX7: t | BY7: ha | BZ7: t | CA7: t | CB7: ha | CC7: t | CD7: t
A8: 昭.48(1973) | B8: 28200 | C8: 1001000 | D8: 790800 | E8: 6140 | F8: 393800 | G8: 370300 | H8: 22100 | I8: 606800 | J8: 420500 | K8: 15300 | L8: 259700 | M8: 160900 | N8: 25100 | O8: 713700 | P8: 453600 | Q8: 1940 | R8: 120900 | S8: 115300 | T8: 23100 | U8: 592900 | V8: 338300 | W8: 18800 | X8: 865000 | Y8: 758000 | Z8: … | AA8: … | AB8: … | AC8: … | AD8: … | AE8: … | AF8: 4260 | AG8: 277600 | AH8: 261900 | AI8: … | AJ8: … | AK8: … | AL8: 14500 | AM8: 587400 | AN8: 496100 | AO8: … | AP8: … | AQ8: … | AR8: … | AS8: … | AT8: … | AU8: 4390 | AV8: 144000 | AW8: 128100 | AX8: … | AY8: … | AZ8: … | BA8: 606 | BB8: 55800 | BC8: 54500 | BD8: … | BE8: … | BF8: … | BG8: 3780 | BH8: 88300 | BI8: 73500 | BJ8: … | BK8: … | BL8: … | BM8: 27100 | BN8: 295500 | BO8: 167300 | BP8: 11900 | BQ8: 89500 | BR8: 55800 | BS8: 12100 | BT8: 69800 | BU8: 47100 | BV8: … | BW8: … | BX8: … | BY8: … | BZ8: … | CA8: … | CB8: 10600 | CC8: 93100 | CD8: 65900
A9: 昭.49(1974) | B9: 26600 | C9: 962500 | D9: 761000 | E9: 5870 | F9: 378100 | G9: 357600 | H9: 20800 | I9: 584200 | J9: 403300 | K9: 14900 | L9: 254000 | M9: 161600 | N9: 23600 | O9: 662500 | P9: 416200 | Q9: 1940 | R9: 127800 | S9: 121900 | T9: 21700 | U9: 534700 | V9: 294400 | W9: 18200 | X9: 821500 | Y9: 717800 | Z9: … | AA9: … | AB9: … | AC9: … | AD9: … | AE9: … | AF9: 4050 | AG9: 266100 | AH9: 251100 | AI9: … | AJ9: … | AK9: … | AL9: 14100 | AM9: 555400 | AN9: 466800 | AO9: … | AP9: … | AQ9: … | AR9: … | AS9: … | AT9: … | AU9: 4210 | AV9: 139500 | AW9: 123600 | AX9: … | AY9: … | AZ9: … | BA9: 729 | BB9: 61800 | BC9: 60600 | BD9: … | BE9: … | BF9: … | BG9: 3480 | BH9: 77700 | BI9: 63000 | BJ9: … | BK9: … | BL9: … | BM9: 27500 | BN9: 303500 | BO9: 183200 | BP9: 11500 | BQ9: 88200 | BR9: 55100 | BS9: 11400 | BT9: 66900 | BU9: 45800 | BV9: … | BW9: … | BX9: … | BY9: … | BZ9: … | CA9: … | CB9: 10700 | CC9: 95400 | CD9: 69200
A10: 昭.50(1975) | B10: 26200 | C10: 1023000 | D10: 821000 | E10: 5860 | F10: 400600 | G10: 377100 | H10: 20400 | I10: 622200 | J10: 444000 | K10: 14200 | L10: 247700 | M10: 160300 | N10: 22700 | O10: 668400 | P10: 432000 | Q10: 1850 | R10: 122100 | S10: 116600 | T10: 20800 | U10: 546400 | V10: 315500 | W10: 19000 | X10: 1024000 | Y10: 921600 | Z10: … | AA10: … | AB10: … | AC10: … | AD10: … | AE10: … | AF10: 3950 | AG10: 269900 | AH10: 255500 | AI10: … | AJ10: … | AK10: … | AL10: 15100 | AM10: 754300 | AN10: 666000 | AO10: … | AP10: … | AQ10: … | AR10: … | AS10: … | AT10: … | AU10: 4260 | AV10: 146800 | AW10: 130200 | AX10: … | AY10: … | AZ10: … | BA10: 682 | BB10: 58300 | BC10: 57400 | BD10: … | BE10: … | BF10: … | BG10: 3580 | BH10: 88500 | BI10: 72800 | BJ10: … | BK10: … | BL10: … | BM10: 27400 | BN10: 302900 | BO10: 186700 | BP10: 11200 | BQ10: 87600 | BR10: 56200 | BS10: 11100 | BT10: 65100 | BU10: 44100 | BV10: … | BW10: … | BX10: … | BY10: … | BZ10: … | CA10: … | CB10: 10800 | CC10: 98600 | CD10: 72500
A11: 昭.51(1976) | B11: 26000 | C11: 996400 | D11: 805200 | E11: 5900 | F11: 409700 | G11: 387900 | H11: 20100 | I11: 586600 | J11: 417300 | K11: 13900 | L11: 231800 | M11: 151800 | N11: 21900 | O11: 623600 | P11: 402300 | Q11: 1900 | R11: 124700 | S11: 119200 | T11: 19900 | U11: 498700 | V11: 283100 | W11: 18100 | X11: 900200 | Y11: 800900 | Z11: … | AA11: … | AB11: … | AC11: … | AD11: … | AE11: … | AF11: 4060 | AG11: 276700 | AH11: 261400 | AI11: … | AJ11: … | AK11: … | AL11: 14100 | AM11: 623600 | AN11: 539400 | AO11: … | AP11: … | AQ11: … | AR11: … | AS11: … | AT11: … | AU11: 4370 | AV11: 149100 | AW11: 131000 | AX11: … | AY11: … | AZ11: … | BA11: 766 | BB11: 63200 | BC11: 61800 | BD11: … | BE11: … | BF11: … | BG11: 3600 | BH11: 85800 | BI11: 69100 | BJ11: … | BK11: … | BL11: … | BM11: 27300 | BN11: 298800 | BO11: 197100 | BP11: 11400 | BQ11: 87500 | BR11: 57000 | BS11: 10700 | BT11: 61700 | BU11: 42200 | BV11: … | BW11: … | BX11: … | BY11: … | BZ11: … | CA11: … | CB11: 11500 | CC11: 100600 | CD11: 75700
A12: 昭.52(1977) | B12: 25400 | C12: 1068000 | D12: 870400 | E12: 5790 | F12: 424500 | G12: 403100 | H12: 19600 | I12: 643500 | J12: 467200 | K12: 14700 | L12: 264600 | M12: 182400 | N12: 21400 | O12: 658000 | P12: 428700 | Q12: 1890 | R12: 130900 | S12: 124700 | T12: 19500 | U12: 527100 | V12: 304000 | W12: 18100 | X12: 974200 | Y12: 872600 | Z12: … | AA12: … | AB12: … | AC12: … | AD12: … | AE12: … | AF12: 4030 | AG12: 284500 | AH12: 269400 | AI12: … | AJ12: … | AK12: … | AL12: 14100 | AM12: 689500 | AN12: 603300 | AO12: … | AP12: … | AQ12: … | AR12: … | AS12: … | AT12: … | AU12: 4570 | AV12: 166400 | AW12: 145700 | AX12: … | AY12: … | AZ12: … | BA12: 819 | BB12: 69300 | BC12: 67500 | BD12: … | BE12: … | BF12: … | BG12: 3750 | BH12: 97200 | BI12: 78200 | BJ12: … | BK12: … | BL12: … | BM12: 29200 | BN12: 319700 | BO12: 218300 | BP12: 11600 | BQ12: 94700 | BR12: 62400 | BS12: 10600 | BT12: 61000 | BU12: 42100 | BV12: … | BW12: … | BX12: … | BY12: … | BZ12: … | CA12: … | CB12: 11800 | CC12: 105700 | CD12: 79300
A13: 昭.53(1978) | B13: 25300 | C13: 1065000 | D13: 865800 | E13: 5850 | F13: 444500 | G13: 421100 | H13: 19400 | I13: 619900 | J13: 444600 | K13: 14900 | L13: 263700 | M13: 182000 | N13: 21700 | O13: 662600 | P13: 434300 | Q13: 1920 | R13: 140200 | S13: 133800 | T13: 19700 | U13: 522300 | V13: 300600 | W13: 18600 | X13: 992500 | Y13: 887800 | Z13: … | AA13: … | AB13: … | AC13: … | AD13: … | AE13: … | AF13: 3950 | AG13: 296000 | AH13: 280100 | AI13: … | AJ13: … | AK13: … | AL13: 14600 | AM13: 696500 | AN13: 607700 | AO13: … | AP13: … | AQ13: … | AR13: … | AS13: … | AT13: … | AU13: 4560 | AV13: 168700 | AW13: 147800 | AX13: … | AY13: … | AZ13: … | BA13: 926 | BB13: 78500 | BC13: 76200 | BD13: … | BE13: … | BF13: … | BG13: 3640 | BH13: 90200 | BI13: 71600 | BJ13: … | BK13: … | BL13: … | BM13: 30500 | BN13: 332900 | BO13: 228900 | BP13: 11600 | BQ13: 93000 | BR13: 61500 | BS13: 10900 | BT13: 68800 | BU13: 49700 | BV13: … | BW13: … | BX13: … | BY13: … | BZ13: … | CA13: … | CB13: 13200 | CC13: 111000 | CD13: 82200
A14: 昭.54(1979) | B14: 25300 | C14: 1089000 | D14: 889400 | E14: 5900 | F14: 461100 | G14: 436600 | H14: 19400 | I14: 627800 | J14: 452800 | K14: 14200 | L14: 233600 | M14: 153600 | N14: 21600 | O14: 661600 | P14: 430300 | Q14: 1900 | R14: 142100 | S14: 136000 | T14: 19700 | U14: 519700 | V14: 294400 | W14: 19000 | X14: 1038000 | Y14: 930500 | Z14: … | AA14: … | AB14: … | AC14: … | AD14: … | AE14: … | AF14: 3940 | AG14: 303900 | AH14: 287400 | AI14: … | AJ14: … | AK14: … | AL14: 15100 | AM14: 734500 | AN14: 643100 | AO14: … | AP14: … | AQ14: … | AR14: … | AS14: … | AT14: … | AU14: 4620 | AV14: 173000 | AW14: 149800 | AX14: … | AY14: … | AZ14: … | BA14: 881 | BB14: 74300 | BC14: 72100 | BD14: … | BE14: … | BF14: … | BG14: 3730 | BH14: 98600 | BI14: 77700 | BJ14: … | BK14: … | BL14: … | BM14: 28700 | BN14: 301800 | BO14: 200800 | BP14: 11800 | BQ14: 97400 | BR14: 64200 | BS14: 10800 | BT14: 73600 | BU14: 53700 | BV14: … | BW14: … | BX14: … | BY14: … | BZ14: … | CA14: … | CB14: 13400 | CC14: 116700 | CD14: 85900
A15: 昭.55(1980) | B15: 25300 | C15: 1018000 | D15: 834100 | E15: 5810 | F15: 444900 | G15: 421200 | H15: 19400 | I15: 573400 | J15: 412900 | K15: 16200 | L15: 252000 | M15: 175100 | N15: 21500 | O15: 618700 | P15: 406300 | Q15: 1900 | R15: 141300 | S15: 135400 | T15: 19600 | U15: 477400 | V15: 270900 | W15: 19300 | X15: 1014000 | Y15: 912100 | Z15: … | AA15: … | AB15: … | AC15: … | AD15: … | AE15: … | AF15: 3870 | AG15: 300500 | AH15: 285000 | AI15: … | AJ15: … | AK15: … | AL15: 15400 | AM15: 713300 | AN15: 627100 | AO15: … | AP15: … | AQ15: … | AR15: … | AS15: … | AT15: … | AU15: 4730 | AV15: 161400 | AW15: 139200 | AX15: … | AY15: … | AZ15: … | BA15: 862 | BB15: 67900 | BC15: 66000 | BD15: … | BE15: … | BF15: … | BG15: 3870 | BH15: 93500 | BI15: 73200 | BJ15: … | BK15: … | BL15: … | BM15: 30400 | BN15: 311900 | BO15: 216300 | BP15: 12000 | BQ15: 94200 | BR15: 61300 | BS15: 10400 | BT15: 64200 | BU15: 45600 | BV15: … | BW15: … | BX15: … | BY15: … | BZ15: … | CA15: … | CB15: 14100 | CC15: 118400 | CD15: 87700
A16: 昭.56(1981) | B16: 25400 | C16: 1072000 | D16: 880200 | E16: 5730 | F16: 449100 | G16: 425500 | H16: 19700 | I16: 623400 | J16: 454700 | K16: 17800 | L16: 269600 | M16: 188100 | N16: 21400 | O16: 650300 | P16: 429100 | Q16: 1890 | R16: 145800 | S16: 139800 | T16: 19600 | U16: 504400 | V16: 289300 | W16: 18300 | X16: 944600 | Y16: 837400 | Z16: … | AA16: … | AB16: … | AC16: … | AD16: … | AE16: … | AF16: 3830 | AG16: 293100 | AH16: 277900 | AI16: … | AJ16: … | AK16: … | AL16: 14400 | AM16: 651700 | AN16: 559500 | AO16: … | AP16: … | AQ16: … | AR16: … | AS16: … | AT16: … | AU16: 4790 | AV16: 176200 | AW16: 152000 | AX16: … | AY16: … | AZ16: … | BA16: 852 | BB16: 76500 | BC16: 74700 | BD16: … | BE16: … | BF16: … | BG16: 3940 | BH16: 99700 | BI16: 77300 | BJ16: … | BK16: … | BL16: … | BM16: 34700 | BN16: 332600 | BO16: 233500 | BP16: 12000 | BQ16: 96300 | BR16: 62800 | BS16: 10200 | BT16: 62000 | BU16: 43100 | BV16: … | BW16: … | BX16: … | BY16: … | BZ16: … | CA16: … | CB16: 14800 | CC16: 119100 | CD16: 86800
A17: 昭.57(1982) | B17: 24900 | C17: 1071000 | D17: 887100 | E17: 5680 | F17: 466100 | G17: 441800 | H17: 19200 | I17: 605300 | J17: 445300 | K17: 17900 | L17: 279100 | M17: 198100 | N17: 20800 | O17: 608400 | P17: 402000 | Q17: 1900 | R17: 152400 | S17: 145800 | T17: 18900 | U17: 456000 | V17: 256300 | W17: 17000 | X17: 890500 | Y17: 782800 | Z17: … | AA17: … | AB17: … | AC17: … | AD17: … | AE17: … | AF17: 3810 | AG17: 304800 | AH17: 288600 | AI17: … | AJ17: … | AK17: … | AL17: 13200 | AM17: 585600 | AN17: 494200 | AO17: … | AP17: … | AQ17: … | AR17: … | AS17: … | AT17: … | AU17: 4800 | AV17: 174700 | AW17: 149700 | AX17: … | AY17: … | AZ17: … | BA17: 905 | BB17: 75800 | BC17: 73800 | BD17: … | BE17: … | BF17: … | BG17: 3890 | BH17: 98800 | BI17: 75900 | BJ17: … | BK17: … | BL17: … | BM17: 36800 | BN17: 373100 | BO17: 273300 | BP17: 11900 | BQ17: 96000 | BR17: 62400 | BS17: 10300 | BT17: 68100 | BU17: 48600 | BV17: … | BW17: … | BX17: … | BY17: … | BZ17: … | CA17: … | CB17: 14800 | CC17: 121900 | CD17: 87900
A18: 昭.58(1983) | B18: 24400 | C18: 1048000 | D18: 864800 | E18: 5570 | F18: 447200 | G18: 422100 | H18: 18900 | I18: 600400 | J18: 442700 | K18: 17300 | L18: 252600 | M18: 174700 | N18: 20400 | O18: 629400 | P18: 421200 | Q18: 1890 | R18: 150000 | S18: 143200 | T18: 18600 | U18: 479700 | V18: 278000 | W18: 15800 | X18: 790800 | Y18: 685500 | Z18: … | AA18: … | AB18: … | AC18: … | AD18: … | AE18: … | AF18: 3790 | AG18: 300900 | AH18: 284900 | AI18: … | AJ18: … | AK18: … | AL18: 12000 | AM18: 490100 | AN18: 400500 | AO18: … | AP18: … | AQ18: … | AR18: … | AS18: … | AT18: … | AU18: 4760 | AV18: 168200 | AW18: 143500 | AX18: … | AY18: … | AZ18: … | BA18: 871 | BB18: 67600 | BC18: 65700 | BD18: … | BE18: … | BF18: … | BG18: 3890 | BH18: 100500 | BI18: 77900 | BJ18: … | BK18: … | BL18: … | BM18: 37600 | BN18: 342200 | BO18: 240300 | BP18: 12000 | BQ18: 98400 | BR18: 64200 | BS18: 10100 | BT18: 64100 | BU18: 45000 | BV18: … | BW18: … | BX18: … | BY18: … | BZ18: … | CA18: … | CB18: 14600 | CC18: 116400 | CD18: 83000
A19: 昭.59(1984) | B19: 23900 | C19: 1070000 | D19: 882100 | E19: 5390 | F19: 440900 | G19: 416200 | H19: 18500 | I19: 628400 | J19: 465900 | K19: 18500 | L19: 296700 | M19: 211000 | N19: 20000 | O19: 636600 | P19: 426200 | Q19: 1870 | R19: 150100 | S19: 143500 | T19: 18100 | U19: 486400 | V19: 282700 | W19: 15300 | X19: 804200 | Y19: 695000 | Z19: … | AA19: … | AB19: … | AC19: … | AD19: … | AE19: … | AF19: 3790 | AG19: 300900 | AH19: 284500 | AI19: … | AJ19: … | AK19: … | AL19: 11500 | AM19: 503500 | AN19: 410500 | AO19: … | AP19: … | AQ19: … | AR19: … | AS19: … | AT19: … | AU19: 4790 | AV19: 180300 | AW19: 154400 | AX19: … | AY19: … | AZ19: … | BA19: 890 | BB19: 74900 | BC19: 72700 | BD19: … | BE19: … | BF19: … | BG19: 3900 | BH19: 105400 | BI19: 81700 | BJ19: … | BK19: … | BL19: … | BM19: 37900 | BN19: 386600 | BO19: 279300 | BP19: 11900 | BQ19: 99100 | BR19: 64500 | BS19: 9980 | BT19: 68000 | BU19: 49000 | BV19: … | BW19: … | BX19: … | BY19: … | BZ19: … | CA19: … | CB19: 14500 | CC19: 120100 | CD19: 84600
... A23: 昭.63(1988) | B23: 21600 | C23: 975300 | D23: 804700 | E23: 5090 | F23: 446500 | G23: 418700 | H23: 16500 | I23: 528900 | J23: 385900 | K23: 18700 | L23: 283000 | M23: 205900 | N23: 18200 | O23: 564200 | P23: 383700 | Q23: 1820 | R23: 159800 | S23: 151400 | T23: 16300 | U23: 404100 | V23: 232300 | W23: 14900 | X23: 775500 | Y23: 668300 | Z23: … | AA23: … | AB23: … | AC23: … | AD23: … | AE23: … | AF23: 3940 | AG23: 330800 | AH23: 311300 | AI23: … | AJ23: … | AK23: … | AL23: 11000 | AM23: 444600 | AN23: 357000 | AO23: … | AP23: … | AQ23: … | AR23: … | AS23: … | AT23: … | AU23: 4710 | AV23: 170400 | AW23: 144400 | AX23: … | AY23: … | AZ23: … | BA23: 858 | BB23: 73900 | BC23: 70500 | BD23: … | BE23: … | BF23: … | BG23: 3850 | BH23: 96500 | BI23: 73900 | BJ23: … | BK23: … | BL23: … | BM23: 39300 | BN23: 383600 | BO23: 290400 | BP23: 12100 | BQ23: 93000 | BR23: 59200 | BS23: 9050 | BT23: 61900 | BU23: 42700 | BV23: … | BW23: … | BX23: … | BY23: … | BZ23: … | CA23: … | CB23: 14400 | CC23: 104500 | CD23: 69400
A24: 平.元(1989) | B24: 20900 | C24: 975000 | D24: 806800 | E24: 5020 | F24: 444900 | G24: 417600 | H24: 15900 | I24: 529800 | J24: 389200 | K24: 19300 | L24: 296500 | M24: 215100 | N24: 17700 | O24: 567400 | P24: 387000 | Q24: 1780 | R24: 162200 | S24: 153400 | T24: 15900 | U24: 405100 | V24: 233600 | W24: 14500 | X24: 773100 | Y24: 664800 | Z24: 1280 | AA24: 85600 | AB24: 84400 | AC24: … | AD24: … | AE24: … | AF24: 4010 | AG24: 332200 | AH24: 312100 | AI24: … | AJ24: … | AK24: … | AL24: 10500 | AM24: 440800 | AN24: 352800 | AO24: 1280 | AP24: 85600 | AQ24: 84400 | AR24: … | AS24: … | AT24: … | AU24: 4770 | AV24: 182400 | AW24: 155400 | AX24: 394 | AY24: 12200 | AZ24: 10800 | BA24: 895 | BB24: 81800 | BC24: 78000 | BD24: 87 | BE24: 5260 | BF24: 5180 | BG24: 3880 | BH24: 100600 | BI24: 77500 | BJ24: 308 | BK24: 6970 | BL24: 5620 | BM24: 39300 | BN24: 386600 | BO24: 290400 | BP24: 11900 | BQ24: 95300 | BR24: 60200 | BS24: 8840 | BT24: 60400 | BU24: 41300 | BV24: … | BW24: … | BX24: … | BY24: … | BZ24: … | CA24: … | CB24: 14100 | CC24: 104000 | CD24: 68900
A25: 平.2(1990) | B25: 20200 | C25: 931100 | D25: 769600 | E25: 4960 | F25: 429100 | G25: 401800 | H25: 15300 | I25: 502000 | J25: 367800 | K25: 18500 | L25: 286400 | M25: 204800 | N25: 17200 | O25: 554400 | P25: 378300 | Q25: 1770 | R25: 159000 | S25: 149500 | T25: 15400 | U25: 395400 | V25: 228800 | W25: 14200 | X25: 767100 | Y25: 658900 | Z25: 1060 | AA25: 77000 | AB25: 75800 | AC25: 1140 | AD25: 64400 | AE25: 59000 | AF25: 4140 | AG25: 341900 | AH25: 320800 | AI25: 589 | AJ25: 43900 | AK25: 41400 | AL25: 10100 | AM25: 425300 | AN25: 338100 | AO25: 1060 | AP25: 77000 | AQ25: 75800 | AR25: 547 | AS25: 20500 | AT25: 17600 | AU25: 4580 | AV25: 171300 | AW25: 145200 | AX25: 422 | AY25: 13000 | AZ25: 11500 | BA25: 816 | BB25: 73800 | BC25: 70100 | BD25: 90 | BE25: 5480 | BF25: 5390 | BG25: 3760 | BH25: 97500 | BI25: 75100 | BJ25: 333 | BK25: 7550 | BL25: 6050 | BM25: 39200 | BN25: 408500 | BO25: 307700 | BP25: 11800 | BQ25: 90300 | BR25: 56200 | BS25: 8520 | BT25: 58100 | BU25: 39300 | BV25: … | BW25: … | BX25: … | BY25: … | BZ25: … | CA25: … | CB25: 14000 | CC25: 102700 | CD25: 68200
A26: 平.3(1991) | B26: 19600 | C26: 889100 | D26: 734700 | E26: 4840 | F26: 424800 | G26: 397300 | H26: 14800 | I26: 464300 | J26: 337400 | K26: 18200 | L26: 269400 | M26: 194500 | N26: 16600 | O26: 514000 | P26: 356600 | Q26: 1730 | R26: 154600 | S26: 146000 | T26: 14800 | U26: 359400 | V26: 210600 | W26: 14100 | X26: 746100 | Y26: 641300 | Z26: 957 | AA26: 68600 | AB26: 67500 | AC26: 1270 | AD26: 71200 | AE26: 65100 | AF26: 4160 | AG26: 346300 | AH26: 324900 | AI26: 644 | AJ26: 47900 | AK26: 45000 | AL26: 9930 | AM26: 399700 | AN26: 316500 | AO26: 957 | AP26: 68600 | AQ26: 67500 | AR26: 621 | AS26: 22700 | AT26: 19500 | AU26: 4470 | AV26: 155700 | AW26: 130300 | AX26: 425 | AY26: 12400 | AZ26: 10700 | BA26: 708 | BB26: 63300 | BC26: 59900 | BD26: 77 | BE26: 4660 | BF26: 4460 | BG26: 3760 | BH26: 92400 | BI26: 70400 | BJ26: 347 | BK26: 7780 | BL26: 6200 | BM26: 39100 | BN26: 393800 | BO26: 298600 | BP26: 11300 | BQ26: 82400 | BR26: 50700 | BS26: 8200 | BT26: 52400 | BU26: 34700 | BV26: … | BW26: … | BX26: … | BY26: … | BZ26: … | CA26: … | CB26: 14000 | CC26: 99200 | CD26: 65300
A27: 平.4(1992) | B27: 19000 | C27: 898900 | D27: 745100 | E27: 4760 | F27: 423200 | G27: 396800 | H27: 14200 | I27: 475600 | J27: 348300 | K27: 18400 | L27: 278000 | M27: 201400 | N27: 16000 | O27: 519400 | P27: 359800 | Q27: 1690 | R27: 152600 | S27: 144300 | T27: 14400 | U27: 366800 | V27: 215400 | W27: 14000 | X27: 771700 | Y27: 665600 | Z27: 934 | AA27: 68300 | AB27: 67300 | AC27: 1360 | AD27: 78200 | AE27: 71400 | AF27: 4190 | AG27: 350300 | AH27: 329300 | AI27: 669 | AJ27: 50000 | AK27: 47000 | AL27: 9830 | AM27: 421400 | AN27: 336400 | AO27: 934 | AP27: 68300 | AQ27: 67300 | AR27: 696 | AS27: 28200 | AT27: 24400 | AU27: 4460 | AV27: 166500 | AW27: 140500 | AX27: 426 | AY27: 12800 | AZ27: 11000 | BA27: 705 | BB27: 65600 | BC27: 62300 | BD27: 80 | BE27: 4880 | BF27: 4670 | BG27: 3760 | BH27: 100900 | BI27: 78200 | BJ27: 346 | BK27: 7900 | BL27: 6380 | BM27: 37700 | BN27: 376400 | BO27: 283700 | BP27: 10900 | BQ27: 83600 | BR27: 51400 | BS27: 7790 | BT27: 52100 | BU27: 34200 | BV27: … | BW27: … | BX27: … | BY27: … | BZ27: … | CA27: … | CB27: 14000 | CC27: 99800 | CD27: 65000
A28: 平.5(1993) | B28: 18400 | C28: 835500 | D28: 702000 | E28: 4670 | F28: 427400 | G28: 401000 | H28: 13700 | I28: 408100 | J28: 301000 | K28: 18200 | L28: 256800 | M28: 187200 | N28: 15500 | O28: 448800 | P28: 321900 | Q28: 1690 | R28: 158300 | S28: 150800 | T28: 13800 | U28: 290400 | V28: 171100 | W28: 14000 | X28: 737500 | Y28: 643900 | Z28: 965 | AA28: 59200 | AB28: 58300 | AC28: 1350 | AD28: 76300 | AE28: 69500 | AF28: 4230 | AG28: 371500 | AH28: 348600 | AI28: 655 | AJ28: 51900 | AK28: 48600 | AL28: 9730 | AM28: 366000 | AN28: 295300 | AO28: 965 | AP28: 59200 | AQ28: 58300 | AR28: 691 | AS28: 24400 | AT28: 20900 | AU28: 4360 | AV28: 156100 | AW28: 133100 | AX28: 430 | AY28: 11700 | AZ28: 10200 | BA28: 738 | BB28: 75100 | BC28: 71200 | BD28: 82 | BE28: 5060 | BF28: 4910 | BG28: 3620 | BH28: 81000 | BI28: 61900 | BJ28: 347 | BK28: 6670 | BL28: 5300 | BM28: 37300 | BN28: 342600 | BO28: 262900 | BP28: 10500 | BQ28: 74800 | BR28: 46600 | BS28: 7510 | BT28: 49900 | BU28: 33000 | BV28: … | BW28: … | BX28: … | BY28: … | BZ28: … | CA28: … | CB28: 13400 | CC28: 81600 | CD28: 52900
A29: 平.6(1994) | B29: 18000 | C29: 865500 | D29: 726500 | E29: 4640 | F29: 425200 | G29: 398600 | H29: 13400 | I29: 440300 | J29: 327900 | K29: 17500 | L29: 264900 | M29: 192400 | N29: 15100 | O29: 510100 | P29: 364800 | Q29: 1680 | R29: 159700 | S29: 152100 | T29: 13400 | U29: 350400 | V29: 212700 | W29: 13800 | X29: 757700 | Y29: 660500 | Z29: 932 | AA29: 61600 | AB29: 60700 | AC29: 1360 | AD29: 75300 | AE29: 68400 | AF29: 4190 | AG29: 364000 | AH29: 342000 | AI29: 638 | AJ29: 48800 | AK29: 45700 | AL29: 9600 | AM29: 393700 | AN29: 318500 | AO29: 932 | AP29: 61600 | AQ29: 60700 | AR29: 722 | AS29: 26500 | AT29: 22700 | AU29: 4370 | AV29: 164800 | AW29: 140100 | AX29: 445 | AY29: 12600 | AZ29: 11000 | BA29: 727 | BB29: 69200 | BC29: 65200 | BD29: 81 | BE29: 4760 | BF29: 4650 | BG29: 3640 | BH29: 95600 | BI29: 74900 | BJ29: 364 | BK29: 7820 | BL29: 6310 | BM29: 36000 | BN29: 369000 | BO29: 274600 | BP29: 10200 | BQ29: 75100 | BR29: 45900 | BS29: 7220 | BT29: 46900 | BU29: 30700 | BV29: … | BW29: … | BX29: … | BY29: … | BZ29: … | CA29: … | CB29: 12900 | CC29: 84200 | CD29: 55500
A30: 平.7(1995) | B30: 17400 | C30: 826500 | D30: 692600 | E30: 4450 | F30: 404100 | G30: 378600 | H30: 12900 | I30: 422400 | J30: 314000 | K30: 16400 | L30: 241800 | M30: 175900 | N30: 14600 | O30: 478400 | P30: 343700 | Q30: 1680 | R30: 161100 | S30: 153700 | T30: 12900 | U30: 317300 | V30: 190000 | W30: 13700 | X30: 753100 | Y30: 657900 | Z30: 939 | AA30: 55800 | AB30: 55000 | AC30: 1370 | AD30: 76100 | AE30: 68900 | AF30: 4200 | AG30: 367900 | AH30: 345900 | AI30: 632 | AJ30: 49100 | AK30: 45800 | AL30: 9510 | AM30: 385200 | AN30: 312000 | AO30: 939 | AP30: 55800 | AQ30: 55000 | AR30: 740 | AS30: 27000 | AT30: 23100 | AU30: 4360 | AV30: 169300 | AW30: 144400 | AX30: 431 | AY30: 12200 | AZ30: 10600 | BA30: 748 | BB30: 74700 | BC30: 70400 | BD30: 80 | BE30: 4930 | BF30: 4830 | BG30: 3610 | BH30: 94600 | BI30: 74100 | BJ30: 348 | BK30: 7270 | BL30: 5730 | BM30: 33300 | BN30: 319600 | BO30: 245200 | BP30: 9870 | BQ30: 75200 | BR30: 46500 | BS30: 6830 | BT30: 44700 | BU30: 28600 | BV30: … | BW30: … | BX30: … | BY30: … | BZ30: … | CA30: … | CB30: 12800 | CC30: 79100 | CD30: 51400
A31: 平.8(1996) | B31: 16900 | C31: 823000 | D31: 688400 | E31: 4370 | F31: 410900 | G31: 385500 | H31: 12600 | I31: 412000 | J31: 303000 | K31: 16100 | L31: 234400 | M31: 169500 | N31: 14300 | O31: 481000 | P31: 344900 | Q31: 1650 | R31: 163100 | S31: 155600 | T31: 12700 | U31: 318000 | V31: 189300 | W31: 13800 | X31: 796300 | Y31: 696900 | Z31: 962 | AA31: 73100 | AB31: 72100 | AC31: 1420 | AD31: 80700 | AE31: 73000 | AF31: 4240 | AG31: 381000 | AH31: 357900 | AI31: 651 | AJ31: 52000 | AK31: 48700 | AL31: 9570 | AM31: 415300 | AN31: 339000 | AO31: 962 | AP31: 73100 | AQ31: 72100 | AR31: 769 | AS31: 28700 | AT31: 24300 | AU31: 4260 | AV31: 166300 | AW31: 141800 | AX31: 410 | AY31: 12000 | AZ31: 10300 | BA31: 730 | BB31: 74900 | BC31: 70900 | BD31: 71 | BE31: 4680 | BF31: 4580 | BG31: 3530 | BH31: 91400 | BI31: 70900 | BJ31: 337 | BK31: 7310 | BL31: 5750 | BM31: 30900 | BN31: 286000 | BO31: 217200 | BP31: 9740 | BQ31: 75500 | BR31: 47100 | BS31: 6570 | BT31: 42200 | BU31: 27000 | BV31: … | BW31: … | BX31: … | BY31: … | BZ31: … | CA31: … | CB31: 12900 | CC31: 81700 | CD31: 52900
A32: 平.9(1997) | B32: 16400 | C32: 797600 | D32: 667400 | E32: 4230 | F32: 401600 | G32: 376500 | H32: 12200 | I32: 396100 | J32: 290900 | K32: 17100 | L32: 247000 | M32: 177600 | N32: 14000 | O32: 475000 | P32: 344300 | Q32: 1610 | R32: 164000 | S32: 156400 | T32: 12400 | U32: 311100 | V32: 187900 | W32: 13700 | X32: 780400 | Y32: 682400 | Z32: 920 | AA32: 67900 | AB32: 66800 | AC32: 1360 | AD32: 77200 | AE32: 69700 | AF32: 4220 | AG32: 380500 | AH32: 357500 | AI32: 628 | AJ32: 49900 | AK32: 46700 | AL32: 9440 | AM32: 399900 | AN32: 325000 | AO32: 920 | AP32: 67900 | AQ32: 66800 | AR32: 736 | AS32: 27300 | AT32: 23000 | AU32: 4240 | AV32: 168600 | AW32: 144500 | AX32: 423 | AY32: 11900 | AZ32: 10200 | BA32: 725 | BB32: 73500 | BC32: 69800 | BD32: 71 | BE32: 4420 | BF32: 4330 | BG32: 3510 | BH32: 95000 | BI32: 74700 | BJ32: 349 | BK32: 7460 | BL32: 5870 | BM32: 31600 | BN32: 302000 | BO32: 226100 | BP32: 9350 | BQ32: 71400 | BR32: 44100 | BS32: 6240 | BT32: 41200 | BU32: 26600 | BV32: … | BW32: … | BX32: … | BY32: … | BZ32: … | CA32: … | CB32: 12800 | CC32: 79800 | CD32: 51600
A33: 平.10(1998) | B33: 16000 | C33: 746300 | D33: 622400 | E33: 4070 | F33: 367200 | G33: 343800 | H33: 11900 | I33: 379200 | J33: 278600 | K33: 18000 | L33: 257800 | M33: 187800 | N33: 13900 | O33: 458800 | P33: 333300 | Q33: 1600 | R33: 154200 | S33: 146800 | T33: 12300 | U33: 304600 | V33: 186500 | W33: 13600 | X33: 763600 | Y33: 667400 | Z33: 922 | AA33: 63600 | AB33: 62400 | AC33: 1360 | AD33: 75100 | AE33: 67700 | AF33: 4180 | AG33: 364900 | AH33: 342400 | AI33: 608 | AJ33: 47400 | AK33: 44400 | AL33: 9450 | AM33: 398600 | AN33: 325000 | AO33: 922 | AP33: 63600 | AQ33: 62400 | AR33: 758 | AS33: 27700 | AT33: 23400 | AU33: 4210 | AV33: 160000 | AW33: 136200 | AX33: 422 | AY33: 11900 | AZ33: 10200 | BA33: 711 | BB33: 64800 | BC33: 61500 | BD33: 72 | BE33: 4440 | BF33: 4340 | BG33: 3500 | BH33: 95200 | BI33: 74600 | BJ33: 350 | BK33: 7490 | BL33: 5890 | BM33: 31200 | BN33: 285500 | BO33: 213300 | BP33: 9160 | BQ33: 66300 | BR33: 40600 | BS33: 5900 | BT33: 36200 | BU33: 23200 | BV33: … | BW33: … | BX33: … | BY33: … | BZ33: … | CA33: … | CB33: 12900 | CC33: 78600 | CD33: 50800
A34: 平.11(1999) | B34: 15600 | C34: 766000 | D34: 644400 | E34: 3980 | F34: 389900 | G34: 366300 | H34: 11600 | I34: 376100 | J34: 278100 | K34: 18600 | L34: 265600 | M34: 194600 | N34: 13600 | O34: 473300 | P34: 348500 | Q34: 1610 | R34: 168500 | S34: 160500 | T34: 12000 | U34: 304800 | V34: 188100 | W34: 13600 | X34: 769000 | Y34: 673700 | Z34: 895 | AA34: 58400 | AB34: 57300 | AC34: 1390 | AD34: 74800 | AE34: 67500 | AF34: 4180 | AG34: 382700 | AH34: 359700 | AI34: 603 | AJ34: 48800 | AK34: 45900 | AL34: 9430 | AM34: 386200 | AN34: 314000 | AO34: 895 | AP34: 58400 | AQ34: 57300 | AR34: 788 | AS34: 26000 | AT34: 21700 | AU34: 4170 | AV34: 165100 | AW34: 141000 | AX34: 434 | AY34: 12200 | AZ34: 10400 | BA34: 737 | BB34: 73300 | BC34: 69700 | BD34: 80 | BE34: 4990 | BF34: 4860 | BG34: 3430 | BH34: 91800 | BI34: 71300 | BJ34: 353 | BK34: 7210 | BL34: 5550 | BM34: 30400 | BN34: 294400 | BO34: 222400 | BP34: 8910 | BQ34: 62000 | BR34: 37800 | BS34: 5630 | BT34: 36000 | BU34: 23200 | BV34: … | BW34: … | BX34: … | BY34: … | BZ34: … | CA34: … | CB34: 12700 | CC34: 80300 | CD34: 52400
A35: 平.12(2000) | B35: 15200 | C35: 766500 | D35: 644500 | E35: 3860 | F35: 386500 | G35: 362700 | H35: 11400 | I35: 379900 | J35: 281900 | K35: 17700 | L35: 253600 | M35: 184900 | N35: 13300 | O35: 476900 | P35: 352500 | Q35: 1600 | R35: 167000 | S35: 159200 | T35: 11700 | U35: 309900 | V35: 193300 | W35: 13600 | X35: 806300 | Y35: 708500 | Z35: 909 | AA35: 66200 | AB35: 64900 | AC35: 1400 | AD35: 78700 | AE35: 70500 | AF35: 4110 | AG35: 386400 | AH35: 362900 | AI35: 585 | AJ35: 49000 | AK35: 46000 | AL35: 9510 | AM35: 420000 | AN35: 345600 | AO35: 909 | AP35: 66200 | AQ35: 64900 | AR35: 812 | AS35: 29700 | AT35: 24600 | AU35: 4110 | AV35: 171400 | AW35: 146400 | AX35: 418 | AY35: 12200 | AZ35: 10400 | BA35: 732 | BB35: 75800 | BC35: 72000 | BD35: 73 | BE35: 4860 | BF35: 4730 | BG35: 3380 | BH35: 95600 | BI35: 74400 | BJ35: 345 | BK35: 7380 | BL35: 5690 | BM35: 29200 | BN35: 289200 | BO35: 218100 | BP35: 8690 | BQ35: 63900 | BR35: 39400 | BS35: 5500 | BT35: 37300 | BU35: 24200 | BV35: … | BW35: … | BX35: … | BY35: … | BZ35: … | CA35: … | CB35: 12700 | CC35: 80800 | CD35: 52500
A36: 平.13(2001) | B36: 14800 | C36: 735500 | D36: 616400 | E36: 3790 | F36: 366400 | G36: 342000 | H36: 11000 | I36: 369100 | J36: 274400 | K36: 16100 | L36: 227500 | M36: 165300 | N36: 12800 | O36: 448000 | P36: 327700 | Q36: 1540 | R36: 158000 | S36: 148500 | T36: 11300 | U36: 290000 | V36: 179200 | W36: 13600 | X36: 797800 | Y36: 699800 | Z36: 894 | AA36: 62200 | AB36: 61100 | AC36: 1450 | AD36: 81600 | AE36: 73200 | AF36: 4180 | AG36: 389600 | AH36: 365300 | AI36: 611 | AJ36: 50900 | AK36: 47700 | AL36: 9380 | AM36: 408200 | AN36: 334500 | AO36: 894 | AP36: 62200 | AQ36: 61100 | AR36: 842 | AS36: 30700 | AT36: 25600 | AU36: 3960 | AV36: 159400 | AW36: 134300 | AX36: 415 | AY36: 11800 | AZ36: 9810 | BA36: 900 | BB36: 78700 | BC36: 74000 | BD36: 71 | BE36: 4520 | BF36: 4230 | BG36: 3060 | BH36: 80600 | BI36: 60200 | BJ36: 343 | BK36: 7330 | BL36: 5580 | BM36: 28600 | BN36: 273100 | BO36: 205500 | BP36: 8420 | BQ36: 62200 | BR36: 38000 | BS36: 5110 | BT36: 32400 | BU36: 20500 | BV36: … | BW36: … | BX36: … | BY36: … | BZ36: … | CA36: … | CB36: 12400 | CC36: 77500 | CD36: 49900
A37: 平.14(2002) | B37: 14400 | C37: 729200 | D37: 612400 | E37: 3710 | F37: 371100 | G37: 345100 | H37: 10700 | I37: 358100 | J37: 267300 | K37: 16000 | L37: 219500 | M37: 160100 | N37: 12400 | O37: 432300 | P37: 317200 | Q37: 1480 | R37: 153900 | S37: 144700 | T37: 10900 | U37: 278400 | V37: 172500 | W37: 13300 | X37: 784900 | Y37: 688600 | Z37: 807 | AA37: 58400 | AB37: 56900 | AC37: 1590 | AD37: 88600 | AE37: 79900 | AF37: 4170 | AG37: 395400 | AH37: 370800 | AI37: 647 | AJ37: 54900 | AK37: 51500 | AL37: 9170 | AM37: 389400 | AN37: 317700 | AO37: 807 | AP37: 58400 | AQ37: 56900 | AR37: 943 | AS37: 33500 | AT37: 28200 | AU37: 3860 | AV37: 161000 | AW37: 136500 | AX37: 411 | AY37: 11600 | AZ37: 9580 | BA37: 888 | BB37: 84000 | BC37: 79100 | BD37: 67 | BE37: 4290 | BF37: 4010 | BG37: 2970 | BH37: 77000 | BI37: 57400 | BJ37: 344 | BK37: 7350 | BL37: 5560 | BM37: 28300 | BN37: 278100 | BO37: 210800 | BP37: 8070 | BQ37: 58700 | BR37: 35800 | BS37: 4950 | BT37: 33300 | BU37: 21300 | BV37: … | BW37: … | BX37: … | BY37: 2510 | BZ37: 21200 | CA37: 16600 | CB37: 12300 | CC37: 75200 | CD37: 48400
A38: 平.15(2003) | B38: 14100 | C38: 684100 | D38: 572200 | E38: 3640 | F38: 352900 | G38: 326000 | H38: 10500 | I38: 331100 | J38: 246200 | K38: 16800 | L38: 233500 | M38: 172100 | N38: 12000 | O38: 395800 | P38: 292700 | Q38: 1470 | R38: 145900 | S38: 137300 | T38: 10600 | U38: 249900 | V38: 155500 | W38: 13200 | X38: 759900 | Y38: 669000 | Z38: 713 | AA38: 49600 | AB38: 48400 | AC38: 1650 | AD38: 87400 | AE38: 78800 | AF38: 4190 | AG38: 383600 | AH38: 359100 | AI38: 682 | AJ38: 54200 | AK38: 50800 | AL38: 9030 | AM38: 376300 | AN38: 309800 | AO38: 713 | AP38: 49600 | AQ38: 48400 | AR38: 969 | AS38: 33200 | AT38: 28000 | AU38: 3760 | AV38: 151500 | AW38: 128800 | AX38: 391 | AY38: 10700 | AZ38: 8730 | BA38: 841 | BB38: 77100 | BC38: 72800 | BD38: 65 | BE38: 4050 | BF38: 3790 | BG38: 2920 | BH38: 74400 | BI38: 56000 | BJ38: 323 | BK38: 6610 | BL38: 4940 | BM38: 27700 | BN38: 267600 | BO38: 203800 | BP38: 7950 | BQ38: 57000 | BR38: 35400 | BS38: 4790 | BT38: 28900 | BU38: 18400 | BV38: … | BW38: … | BX38: … | BY38: 2480 | BZ38: 20500 | CA38: 16300 | CB38: 12800 | CC38: 76800 | CD38: 49900
A39: 平.16(2004) | B39: 13700 | C39: 673000 | D39: 566100 | E39: 3570 | F39: 357700 | G39: 331500 | H39: 10200 | I39: 315300 | J39: 234600 | K39: 16800 | L39: 225500 | M39: 168100 | N39: 11700 | O39: 390200 | P39: 290400 | Q39: 1450 | R39: 148100 | S39: 139200 | T39: 10300 | U39: 242000 | V39: 151200 | W39: 13100 | X39: 754900 | Y39: 666000 | Z39: 634 | AA39: 44900 | AB39: 43700 | AC39: 1750 | AD39: 91600 | AE39: 82700 | AF39: 4180 | AG39: 390600 | AH39: 365900 | AI39: 714 | AJ39: 57700 | AK39: 54100 | AL39: 8890 | AM39: 364400 | AN39: 300100 | AO39: 634 | AP39: 44900 | AQ39: 43700 | AR39: 1040 | AS39: 33800 | AT39: 28600 | AU39: 3680 | AV39: 153400 | AW39: 130800 | AX39: 393 | AY39: 10200 | AZ39: 8280 | BA39: 831 | BB39: 81100 | BC39: 76500 | BD39: 65 | BE39: 4140 | BF39: 3870 | BG39: 2850 | BH39: 72300 | BI39: 54400 | BJ39: 326 | BK39: 6020 | BL39: 4410 | BM39: 26900 | BN39: 265600 | BO39: 204500 | BP39: 7660 | BQ39: 52900 | BR39: 32800 | BS39: 4730 | BT39: 28600 | BU39: 17600 | BV39: … | BW39: … | BX39: … | BY39: 2770 | BZ39: 23300 | CA39: 16700 | CB39: 13100 | CC39: 73300 | CD39: 48900
A40: 平.17(2005) | B40: 13400 | C40: 674600 | D40: 566300 | E40: 3490 | F40: 349600 | G40: 324200 | H40: 9950 | I40: 325000 | J40: 242100 | K40: 16900 | L40: 234100 | M40: 175900 | N40: 11400 | O40: 395700 | P40: 293600 | Q40: 1420 | R40: 145900 | S40: 137400 | T40: 9990 | U40: 249800 | V40: 156200 | W40: 13000 | X40: 759200 | Y40: 668100 | Z40: 616 | AA40: 42700 | AB40: 41700 | AC40: 1780 | AD40: 97100 | AE40: 87900 | AF40: 4170 | AG40: 386800 | AH40: 362700 | AI40: 723 | AJ40: 58300 | AK40: 54700 | AL40: 8790 | AM40: 372400 | AN40: 305400 | AO40: 616 | AP40: 42700 | AQ40: 41700 | AR40: 1060 | AS40: 38700 | AT40: 33200 | AU40: 3620 | AV40: 153800 | AW40: 131100 | AX40: 393 | AY40: 10500 | AZ40: 8590 | BA40: 826 | BB40: 78400 | BC40: 73800 | BD40: 64 | BE40: 3940 | BF40: 3680 | BG40: 2790 | BH40: 75500 | BI40: 57300 | BJ40: 329 | BK40: 6590 | BL40: 4910 | BM40: 25900 | BN40: 251000 | BO40: 191900 | BP40: 7440 | BQ40: 52600 | BR40: 32800 | BS40: 4660 | BT40: 29200 | BU40: 17900 | BV40: … | BW40: … | BX40: … | BY40: 2710 | BZ40: 23000 | CA40: 16600 | CB40: 13000 | CC40: 77100 | CD40: 52100
A41: 平.18(2006) | B41: 13100 | C41: 628500 | D41: 526300 | E41: 3380 | F41: 319400 | G41: 296200 | H41: 9710 | I41: 309100 | J41: 230100 | K41: 16900 | L41: 220400 | M41: 166100 | N41: 11100 | O41: 371900 | P41: 275200 | Q41: 1450 | R41: 141300 | S41: 132100 | T41: 9670 | U41: 230600 | V41: 143100 | W41: 12900 | X41: 728300 | Y41: 642200 | Z41: 627 | AA41: 39900 | AB41: 38900 | AC41: 1800 | AD41: 96100 | AE41: 87000 | AF41: 4120 | AG41: 378700 | AH41: 353200 | AI41: 738 | AJ41: 59600 | AK41: 55700 | AL41: 8750 | AM41: 349600 | AN41: 289000 | AO41: 627 | AP41: 39900 | AQ41: 38900 | AR41: 1060 | AS41: 36500 | AT41: 31300 | AU41: 3540 | AV41: 146800 | AW41: 125300 | AX41: 382 | AY41: 9860 | AZ41: 8030 | BA41: 815 | BB41: 76300 | BC41: 71400 | BD41: 57 | BE41: 3650 | BF41: 3450 | BG41: 2730 | BH41: 70500 | BI41: 53900 | BJ41: 325 | BK41: 6210 | BL41: 4580 | BM41: 25400 | BN41: 231400 | BO41: 176700 | BP41: 7220 | BQ41: 48900 | BR41: 30500 | BS41: 4460 | BT41: 27100 | BU41: 16700 | BV41: … | BW41: … | BX41: … | BY41: 2540 | BZ41: 20300 | CA41: 14400 | CB41: 12900 | CC41: 71000 | CD41: 47700
A42: 平.19(2007) | B42: 12800 | C42: 641000 | D42: 539800 | E42: 3290 | F42: 333300 | G42: 309300 | H42: 9490 | I42: 307800 | J42: 230400 | K42: 17200 | L42: 228000 | M42: 173700 | N42: 10800 | O42: 371800 | P42: 278100 | Q42: 1350 | R42: 141800 | S42: 133600 | T42: 9470 | U42: 229800 | V42: 144500 | W42: 12700 | X42: 749200 | Y42: 663800 | Z42: 627 | AA42: 42200 | AB42: 41100 | AC42: 1870 | AD42: 104700 | AE42: 95100 | AF42: 4140 | AG42: 395400 | AH42: 372100 | AI42: 790 | AJ42: 66400 | AK42: 62400 | AL42: 8560 | AM42: 353700 | AN42: 291700 | AO42: 627 | AP42: 42200 | AQ42: 41100 | AR42: 1070 | AS42: 38200 | AT42: 32600 | AU42: 3500 | AV42: 149600 | AW42: 128300 | AX42: 383 | AY42: 9850 | AZ42: 8060 | BA42: 800 | BB42: 77300 | BC42: 72800 | BD42: 58 | BE42: 3470 | BF42: 3320 | BG42: 2700 | BH42: 72300 | BI42: 55400 | BJ42: 326 | BK42: 6380 | BL42: 4740 | BM42: 25600 | BN42: 256700 | BO42: 198200 | BP42: 7040 | BQ42: 48900 | BR42: 30700 | BS42: 4380 | BT42: 27500 | BU42: 17300 | BV42: … | BW42: … | BX42: … | BY42: 2520 | BZ42: 21500 | CA42: 15200 | CB42: 12800 | CC42: 71300 | CD42: 48900
A43: 平.20(2008) | B43: 12500 | C43: 627400 | D43: 527900 | E43: 3240 | F43: 325700 | G43: 302800 | H43: 9270 | I43: 301700 | J43: 225100 | K43: 18000 | L43: 242800 | M43: 187100 | N43: 10600 | O43: 365900 | P43: 273300 | Q43: 1300 | R43: 134800 | S43: 126800 | T43: 9320 | U43: 231000 | V43: 146600 | W43: 12500 | X43: 732800 | Y43: 648300 | Z43: 599 | AA43: 43100 | AB43: 42200 | AC43: 1890 | AD43: 104800 | AE43: 95600 | AF43: 4060 | AG43: 377500 | AH43: 355000 | AI43: 790 | AJ43: 65900 | AK43: 62200 | AL43: 8470 | AM43: 355300 | AN43: 293300 | AO43: 599 | AP43: 43100 | AQ43: 42200 | AR43: 1100 | AS43: 38900 | AT43: 33400 | AU43: 3460 | AV43: 150300 | AW43: 129200 | AX43: 386 | AY43: 9980 | AZ43: 8110 | BA43: 769 | BB43: 76700 | BC43: 72400 | BD43: 59 | BE43: 3510 | BF43: 3320 | BG43: 2690 | BH43: 73700 | BI43: 56900 | BJ43: 327 | BK43: 6470 | BL43: 4800 | BM43: 25800 | BN43: 266000 | BO43: 208400 | BP43: 7030 | BQ43: 50900 | BR43: 32200 | BS43: 4310 | BT43: 28600 | BU43: 18000 | BV43: … | BW43: … | BX43: … | BY43: 2450 | BZ43: 21100 | CA43: 15000 | CB43: 13000 | CC43: 74200 | CD43: 51800
A44: 平.21(2009) | B44: 12400 | C44: 620200 | D44: 524100 | E44: 3190 | F44: 322200 | G44: 300500 | H44: 9170 | I44: 298000 | J44: 223500 | K44: 18200 | L44: 214100 | M44: 163700 | N44: 10400 | O44: 349100 | P44: 263200 | Q44: 1250 | R44: 131400 | S44: 124000 | T44: 9170 | U44: 217800 | V44: 139200 | W44: 12400 | X44: 717600 | Y44: 634600 | Z44: 590 | AA44: 38500 | AB44: 37800 | AC44: 1990 | AD44: 109600 | AE44: 99700 | AF44: 4000 | AG44: 372200 | AH44: 349900 | AI44: 828 | AJ44: 68700 | AK44: 64700 | AL44: 8430 | AM44: 345400 | AN44: 284800 | AO44: 590 | AP44: 38500 | AQ44: 37800 | AR44: 1160 | AS44: 40900 | AT44: 34900 | AU44: 3400 | AV44: 142700 | AW44: 122300 | AX44: 392 | AY44: 9420 | AZ44: 7640 | BA44: 734 | BB44: 70900 | BC44: 66700 | BD44: 54 | BE44: 3080 | BF44: 2910 | BG44: 2660 | BH44: 71800 | BI44: 55600 | BJ44: 338 | BK44: 6340 | BL44: 4730 | BM44: 25500 | BN44: 235900 | BO44: 183600 | BP44: 7120 | BQ44: 50600 | BR44: 32500 | BS44: 4230 | BT44: 28000 | BU44: 17700 | BV44: … | BW44: … | BX44: … | BY44: 2340 | BZ44: 19600 | CA44: 13900 | CB44: 13300 | CC44: 72500 | CD44: 50900
A45: 平.22(2010) | B45: 12100 | C45: 587800 | D45: 495400 | E45: 3110 | F45: 303900 | G45: 282300 | H45: 9000 | I45: 283800 | J45: 213000 | K45: 18000 | L45: 220500 | M45: 171900 | N45: 10300 | O45: 330100 | P45: 247200 | Q45: 1210 | R45: 115200 | S45: 108400 | T45: 9050 | U45: 214800 | V45: 138800 | W45: 12300 | X45: 690900 | Y45: 613500 | Z45: 582 | AA45: 37900 | AB45: 37200 | AC45: 2000 | AD45: 105900 | AE45: 96400 | AF45: 3970 | AG45: 368100 | AH45: 346300 | AI45: 836 | AJ45: 67700 | AK45: 63900 | AL45: 8340 | AM45: 322700 | AN45: 267000 | AO45: 582 | AP45: 37900 | AQ45: 37200 | AR45: 1160 | AS45: 38200 | AT45: 32400 | AU45: 3430 | AV45: 137300 | AW45: 118100 | AX45: 390 | AY45: 8660 | AZ45: 6960 | BA45: 766 | BB45: 70400 | BC45: 66300 | BD45: 52 | BE45: 2830 | BF45: 2710 | BG45: 2660 | BH45: 66900 | BI45: 51900 | BJ45: 338 | BK45: 5830 | BL45: 4260 | BM45: 25300 | BN45: 234700 | BO45: 185700 | BP45: 6830 | BQ45: 44900 | BR45: 29200 | BS45: 4130 | BT45: 26200 | BU45: 16900 | BV45: … | BW45: … | BX45: … | BY45: 2290 | BZ45: 19600 | CA45: 13900 | CB45: 13200 | CC45: 70600 | CD45: 50800
A46: 平.23(2011) | B46: 11700 | C46: 584600 | D46: 492700 | E46: 3080 | F46: 308200 | G46: 285500 | H46: 8650 | I46: 276400 | J46: 207200 | K46: 17900 | L46: 209200 | M46: 162900 | N46: 10000 | O46: 322400 | P46: 243400 | Q46: 1200 | R46: 119000 | S46: 112200 | T46: 8800 | U46: 203400 | V46: 131100 | W46: 12000 | X46: 703100 | Y46: 625900 | Z46: 471 | AA46: 28900 | AB46: 28200 | AC46: 2020 | AD46: 109300 | AE46: 100000 | AF46: 3950 | AG46: 379500 | AH46: 357700 | AI46: 838 | AJ46: 69300 | AK46: 65600 | AL46: 8080 | AM46: 323600 | AN46: 268200 | AO46: 471 | AP46: 28900 | AQ46: 28200 | AR46: 1180 | AS46: 40000 | AT46: 34400 | AU46: 3400 | AV46: 141800 | AW46: 122400 | AX46: 375 | AY46: 8480 | AZ46: 6860 | BA46: 760 | BB46: 74100 | BC46: 69600 | BD46: 48 | BE46: 2670 | BF46: 2550 | BG46: 2640 | BH46: 67700 | BI46: 52800 | BJ46: 327 | BK46: 5810 | BL46: 4310 | BM46: 25000 | BN46: 240300 | BO46: 192500 | BP46: 6430 | BQ46: 42600 | BR46: 27800 | BS46: 4060 | BT46: 27200 | BU46: 17700 | BV46: … | BW46: … | BX46: … | BY46: 2230 | BZ46: 18600 | CA46: 13000 | CB46: 12800 | CC46: 66100 | CD46: 47400
A47: 平.24(2012) | B47: 11600 | C47: 586600 | D47: 495100 | E47: 3040 | F47: 299400 | G47: 278400 | H47: 8600 | I47: 287200 | J47: 216600 | K47: 17800 | L47: 227100 | M47: 177900 | N47: 9860 | O47: 327400 | P47: 246700 | Q47: 1160 | R47: 113900 | S47: 107600 | T47: 8700 | U47: 213500 | V47: 139100 | W47: 12000 | X47: 722400 | Y47: 644500 | Z47: 480 | AA47: 39400 | AB47: 38300 | AC47: 2090 | AD47: 115800 | AE47: 105900 | AF47: 3920 | AG47: 369800 | AH47: 349500 | AI47: 848 | AJ47: 69600 | AK47: 65900 | AL47: 8100 | AM47: 352600 | AN47: 294900 | AO47: 480 | AP47: 39400 | AQ47: 38300 | AR47: 1240 | AS47: 46200 | AT47: 40100 | AU47: 3420 | AV47: 145000 | AW47: 125400 | AX47: 367 | AY47: 8060 | AZ47: 6480 | BA47: 748 | BB47: 73300 | BC47: 68900 | BD47: 41 | BE47: 2290 | BF47: 2190 | BG47: 2670 | BH47: 71700 | BI47: 56400 | BJ47: 326 | BK47: 5770 | BL47: 4290 | BM47: 25000 | BN47: 255300 | BO47: 205200 | BP47: 6240 | BQ47: 42000 | BR47: 27300 | BS47: 4000 | BT47: 25800 | BU47: 16500 | BV47: … | BW47: … | BX47: … | BY47: 2150 | BZ47: 17100 | CA47: 11700 | CB47: 12700 | CC47: 70000 | CD47: 50000
A48: 平.25(2013) | B48: 11400 | C48: 574400 | D48: 487400 | E48: 2990 | F48: 308000 | G48: 286900 | H48: 8420 | I48: 266400 | J48: 200500 | K48: 16600 | L48: 211800 | M48: 168000 | N48: 9700 | O48: 321200 | P48: 245900 | Q48: 1130 | R48: 118300 | S48: 111700 | T48: 8570 | U48: 202900 | V48: 134200 | W48: 12100 | X48: 747500 | Y48: 670500 | Z48: 474 | AA48: 35400 | AB48: 34500 | AC48: 2160 | AD48: 125900 | AE48: 115400 | AF48: 3940 | AG48: 402700 | AH48: 381800 | AI48: 892 | AJ48: 78600 | AK48: 74300 | AL48: 8120 | AM48: 344800 | AN48: 288800 | AO48: 474 | AP48: 35400 | AQ48: 34500 | AR48: 1270 | AS48: 47300 | AT48: 41100 | AU48: 3360 | AV48: 145300 | AW48: 126300 | AX48: 365 | AY48: 7990 | AZ48: 6510 | BA48: 759 | BB48: 77300 | BC48: 72900 | BD48: 45 | BE48: 2630 | BF48: 2490 | BG48: 2600 | BH48: 67900 | BI48: 53500 | BJ48: 320 | BK48: 5360 | BL48: 4030 | BM48: 24400 | BN48: 236800 | BO48: 191000 | BP48: 5990 | BQ48: 41300 | BR48: 27000 | BS48: 3110 | BT48: 20400 | BU48: 12800 | BV48: 828 | BW48: 6530 | BX48: 5150 | BY48: 2110 | BZ48: 18000 | CA48: 12800 | CB48: 12400 | CC48: 62700 | CD48: 46100
A49: 平.26(2014) | B49: 11100 | C49: 548800 | D49: 465500 | E49: 2920 | F49: 288500 | G49: 269600 | H49: 8210 | I49: 260300 | J49: 195900 | K49: 16200 | L49: 200000 | M49: 158100 | N49: 9570 | O49: 322700 | P49: 248600 | Q49: 1120 | R49: 119400 | S49: 113200 | T49: 8450 | U49: 203300 | V49: 135400 | W49: 12100 | X49: 739900 | Y49: 665600 | Z49: 503 | AA49: 34100 | AB49: 33700 | AC49: 2260 | AD49: 131900 | AE49: 122000 | AF49: 3960 | AG49: 391300 | AH49: 371700 | AI49: 907 | AJ49: 78600 | AK49: 75000 | AL49: 8170 | AM49: 348600 | AN49: 293900 | AO49: 503 | AP49: 34100 | AQ49: 33700 | AR49: 1350 | AS49: 53300 | AT49: 46900 | AU49: 3320 | AV49: 145300 | AW49: 127200 | AX49: 367 | AY49: 8260 | AZ49: 6750 | BA49: 746 | BB49: 77400 | BC49: 73300 | BD49: 48 | BE49: 2760 | BF49: 2600 | BG49: 2570 | BH49: 67900 | BI49: 53900 | BJ49: 319 | BK49: 5500 | BL49: 4150 | BM49: 24400 | BN49: 249500 | BO49: 201400 | BP49: 5820 | BQ49: 41000 | BR49: 26600 | BS49: 3020 | BT49: 20100 | BU49: 12700 | BV49: 859 | BW49: 6700 | BX49: 5280 | BY49: 2070 | BZ49: 17800 | CA49: 12600 | CB49: 12500 | CC49: 67000 | CD49: 49700
A50: 平.27(2015) | B50: 11000 | C50: 549900 | D50: 468400 | E50: 2850 | F50: 289200 | G50: 270300 | H50: 8200 | I50: 260700 | J50: 198100 | K50: 16100 | L50: 202400 | M50: 160400 | N50: 9410 | O50: 308900 | P50: 237400 | Q50: 1090 | R50: 113200 | S50: 107000 | T50: 8320 | U50: 195600 | V50: 130300 | W50: 12100 | X50: 727000 | Y50: 653400 | Z50: 497 | AA50: 32900 | AB50: 32500 | AC50: 2320 | AD50: 131300 | AE50: 121100 | AF50: 3970 | AG50: 382100 | AH50: 362700 | AI50: 928 | AJ50: 77500 | AK50: 73800 | AL50: 8170 | AM50: 344900 | AN50: 290800 | AO50: 497 | AP50: 32900 | AQ50: 32500 | AR50: 1390 | AS50: 53800 | AT50: 47400 | AU50: 3270 | AV50: 140400 | AW50: 122800 | AX50: 354 | AY50: 7680 | AZ50: 6250 | BA50: 735 | BB50: 74600 | BC50: 70400 | BD50: 44 | BE50: 2400 | BF50: 2250 | BG50: 2540 | BH50: 65800 | BI50: 52400 | BJ50: 310 | BK50: 5290 | BL50: 4000 | BM50: 24100 | BN50: 240300 | BO50: 194100 | BP50: 5760 | BQ50: 40300 | BR50: 26300 | BS50: 2980 | BT50: 19300 | BU50: 12100 | BV50: 827 | BW50: 5910 | BX50: 4590 | BY50: 2020 | BZ50: 16800 | CA50: 11800 | CB50: 12500 | CC50: 65900 | CD50: 49100
A51: 平.28(2016) | B51: 10900 | C51: 550300 | D51: 470600 | E51: 2860 | F51: 293400 | G51: 274000 | H51: 8060 | I51: 256900 | J51: 196600 | K51: 16000 | L51: 185300 | M51: 145600 | N51: 9280 | O51: 306000 | P51: 236100 | Q51: 1090 | R51: 112600 | S51: 106300 | T51: 8190 | U51: 193400 | V51: 129700 | W51: 12100 | X51: 743200 | Y51: 670200 | Z51: 444 | AA51: 32300 | AB51: 31800 | AC51: 2380 | AD51: 137100 | AE51: 126600 | AF51: 4010 | AG51: 400900 | AH51: 380100 | AI51: 972 | AJ51: 83700 | AK51: 79500 | AL51: 8100 | AM51: 342300 | AN51: 290100 | AO51: 444 | AP51: 32300 | AQ51: 31800 | AR51: 1410 | AS51: 53400 | AT51: 47100 | AU51: 3270 | AV51: 144800 | AW51: 127000 | AX51: 352 | AY51: 7720 | AZ51: 6330 | BA51: 733 | BB51: 76700 | BC51: 72400 | BD51: 43 | BE51: 2390 | BF51: 2270 | BG51: 2540 | BH51: 68100 | BI51: 54600 | BJ51: 309 | BK51: 5330 | BL51: 4070 | BM51: 24000 | BN51: 196200 | BO51: 150700 | BP51: 5650 | BQ51: 39500 | BR51: 25700 | BS51: 3070 | BT51: 18400 | BU51: 11300 | BV51: 805 | BW51: 5520 | BX51: 4300 | BY51: 1980 | BZ51: 14700 | CA51: 9990 | CB51: 12800 | CC51: 66000 | CD51: 49700
A52: 平.29(2017) | B52: 10800 | C52: 559500 | D52: 483200 | E52: 2830 | F52: 304800 | G52: 286500 | H52: 7940 | I52: 254800 | J52: 196700 | K52: 15800 | L52: 201300 | M52: 161000 | N52: 9160 | O52: 307800 | P52: 241400 | Q52: 1080 | R52: 119200 | S52: 112400 | T52: 8080 | U52: 188600 | V52: 129000 | W52: 12000 | X52: 737200 | Y52: 667800 | Z52: 422 | AA52: 29700 | AB52: 29700 | AC52: 2480 | AD52: 142700 | AE52: 131900 | AF52: 4030 | AG52: 402300 | AH52: 381700 | AI52: 1040 | AJ52: 87500 | AK52: 83200 | AL52: 7980 | AM52: 334900 | AN52: 286100 | AO52: 422 | AP52: 29700 | AQ52: 29700 | AR52: 1440 | AS52: 55200 | AT52: 48700 | AU52: 3250 | AV52: 147000 | AW52: 129800 | AX52: 346 | AY52: 7830 | AZ52: 6420 | BA52: 739 | BB52: 78100 | BC52: 73900 | BD52: 44 | BE52: 2610 | BF52: 2430 | BG52: 2510 | BH52: 68900 | BI52: 55900 | BJ52: 302 | BK52: 5220 | BL52: 3990 | BM52: 22700 | BN52: 231700 | BO52: 186300 | BP52: 5590 | BQ52: 39800 | BR52: 26400 | BS52: 3050 | BT52: 21700 | BU52: 13800 | BV52: 772 | BW52: 6410 | BX52: 5060 | BY52: 1900 | BZ52: 15500 | CA52: 10700 | CB52: 12900 | CC52: 67700 | CD52: 51800
A53: 平.30(2018) | B53: 10600 | C53: 550000 | D53: 476100 | E53: 2760 | F53: 298100 | G53: 280500 | H53: 7810 | I53: 251800 | J53: 195600 | K53: 15200 | L53: 159300 | M53: 125200 | N53: 8970 | O53: 300400 | P53: 236100 | Q53: 1080 | R53: 116900 | S53: 110300 | T53: 7890 | U53: 183500 | V53: 125800 | W53: 11800 | X53: 724200 | Y53: 657100 | Z53: 400 | AA53: 25700 | AB53: 25700 | AC53: 2520 | AD53: 144800 | AE53: 134100 | AF53: 3970 | AG53: 409600 | AH53: 388800 | AI53: 1060 | AJ53: 91000 | AK53: 86700 | AL53: 7810 | AM53: 314600 | AN53: 268300 | AO53: 400 | AP53: 25700 | AQ53: 25700 | AR53: 1460 | AS53: 53800 | AT53: 47400 | AU53: 3220 | AV53: 140300 | AW53: 124500 | AX53: 335 | AY53: 7270 | AZ53: 5990 | BA53: 741 | BB53: 75900 | BC53: 71900 | BD53: 43 | BE53: 2450 | BF53: 2280 | BG53: 2480 | BH53: 64400 | BI53: 52600 | BJ53: 292 | BK53: 4830 | BL53: 3710 | BM53: 23100 | BN53: 217600 | BO53: 174400 | BP53: 5330 | BQ53: 37400 | BR53: 24900 | BS53: 2910 | BT53: 19600 | BU53: 12500 | BV53: 760 | BW53: 5940 | BX53: 4680 | BY53: 1810 | BZ53: 14500 | CA53: 10100 | CB53: 12800 | CC53: 63800 | CD53: 48700
A54: 令.元(2019) | B54: 10300 | C54: 548100 | D54: 474700 | E54: 2720 | F54: 290100 | G54: 272100 | H54: 7580 | I54: 258000 | J54: 202600 | K54: 15300 | L54: 185600 | M54: 149700 | N54: 8650 | O54: 301700 | P54: 239500 | Q54: 1070 | R54: 119700 | S54: 112900 | T54: 7580 | U54: 182000 | V54: 126500 | W54: 11600 | X54: 720600 | Y54: 653800 | Z54: 382 | AA54: 25200 | AB54: 25100 | AC54: 2600 | AD54: 151800 | AE54: 140500 | AF54: 3920 | AG54: 400400 | AH54: 379600 | AI54: 1110 | AJ54: 95900 | AK54: 91200 | AL54: 7660 | AM54: 320200 | AN54: 274200 | AO54: 382 | AP54: 25200 | AQ54: 25100 | AR54: 1490 | AS54: 55900 | AT54: 49300 | AU54: 3200 | AV54: 145700 | AW54: 129500 | AX54: 321 | AY54: 6670 | AZ54: 5460 | BA54: 745 | BB54: 78200 | BC54: 74000 | BD54: 38 | BE54: 2210 | BF54: 2080 | BG54: 2460 | BH54: 67600 | BI54: 55600 | BJ54: 283 | BK54: 4460 | BL54: 3390 | BM54: 23000 | BN54: 239000 | BO54: 195000 | BP54: 5190 | BQ54: 38300 | BR54: 25800 | BS54: 2870 | BT54: 20000 | BU54: 12800 | BV54: 731 | BW54: 6290 | BX54: 5000 | BY54: 1790 | BZ54: 14100 | CA54: 9970 | CB54: 13000 | CC54: 66100 | CD54: 50500
A55: 令.2(2020) | B55: 10100 | C55: 539200 | D55: 468000 | E55: 2660 | F55: 283100 | G55: 266200 | H55: 7440 | I55: 256100 | J55: 201900 | K55: 14800 | L55: 186600 | M55: 151000 | N55: 8420 | O55: 297000 | P55: 236400 | Q55: 1050 | R55: 116200 | S55: 109100 | T55: 7370 | U55: 180800 | V55: 127300 | W55: 11400 | X55: 706000 | Y55: 640900 | Z55: 372 | AA55: 20500 | AB55: 20500 | AC55: 2630 | AD55: 154600 | AE55: 143600 | AF55: 3870 | AG55: 384600 | AH55: 364700 | AI55: 1120 | AJ55: 97400 | AK55: 92700 | AL55: 7550 | AM55: 321300 | AN55: 276200 | AO55: 372 | AP55: 20500 | AQ55: 20500 | AR55: 1510 | AS55: 57200 | AT55: 50800 | AU55: 3160 | AV55: 143100 | AW55: 127400 | AX55: 303 | AY55: 6170 | AZ55: 5050 | BA55: 729 | BB55: 74000 | BC55: 70300 | BD55: 33 | BE55: 1900 | BF55: 1780 | BG55: 2430 | BH55: 69200 | BI55: 57100 | BJ55: 270 | BK55: 4270 | BL55: 3270 | BM55: 22400 | BN55: 234700 | BO55: 192600 | BP55: 5020 | BQ55: 38900 | BR55: 26500 | BS55: 2800 | BT55: 19500 | BU55: 12500 | BV55: 685 | BW55: 5600 | BX55: 4450 | BY55: 1770 | BZ55: 15300 | CA55: 10900 | CB55: 12800 | CC55: 66300 | CD55: 51200
A56: 令.3(2021) | B56: 9940 | C56: 551300 | D56: 478800 | E56: 2630 | F56: 289700 | G56: 272500 | H56: 7320 | I56: 261500 | J56: 206400 | K56: 14500 | L56: 174300 | M56: 140400 | N56: 8260 | O56: 297700 | P56: 237800 | Q56: 1040 | R56: 114500 | S56: 107800 | T56: 7230 | U56: 183200 | V56: 130000 | W56: 11400 | X56: 725200 | Y56: 659900 | Z56: 415 | AA56: 24200 | AB56: 24100 | AC56: 2680 | AD56: 161600 | AE56: 150900 | AF56: 3840 | AG56: 394900 | AH56: 375400 | AI56: 1150 | AJ56: 102400 | AK56: 98100 | AL56: 7550 | AM56: 330300 | AN56: 284500 | AO56: 415 | AP56: 24200 | AQ56: 24100 | AR56: 1530 | AS56: 59200 | AT56: 52800 | AU56: 3190 | AV56: 148500 | AW56: 132200 | AX56: 293 | AY56: 5700 | AZ56: 4760 | BA56: 725 | BB56: 75800 | BC56: 71600 | BD56: 31 | BE56: 1750 | BF56: 1660 | BG56: 2470 | BH56: 72700 | BI56: 60500 | BJ56: 262 | BK56: 3950 | BL56: 3100 | BM56: 21500 | BN56: 218800 | BO56: 178400 | BP56: 4810 | BQ56: 36600 | BR56: 24400 | BS56: 2740 | BT56: 19800 | BU56: 13000 | BV56: 633 | BW56: 5600 | BX56: 4440 | BY56: 1690 | BZ56: 13900 | CA56: 9910 | CB56: 12800 | CC56: 71500 | CD56: 56100
A57: 令.4(2022) | B57: 9770 | C57: 548600 | D57: 476900 | E57: 2580 | F57: 286100 | G57: 269200 | H57: 7190 | I57: 262400 | J57: 207800 | K57: 14500 | L57: 182900 | M57: 149200 | N57: 7950 | O57: 294600 | P57: 236900 | Q57: 1030 | R57: 114600 | S57: 108000 | T57: 6920 | U57: 180000 | V57: 128900 | W57: 11200 | X57: 707900 | Y57: 645300 | Z57: 435 | AA57: 24700 | AB57: 24600 | AC57: 2690 | AD57: 157300 | AE57: 146800 | AF57: 3790 | AG57: 385900 | AH57: 366200 | AI57: 1170 | AJ57: 100600 | AK57: 96100 | AL57: 7380 | AM57: 322000 | AN57: 279100 | AO57: 435 | AP57: 24700 | AQ57: 24600 | AR57: 1530 | AS57: 56800 | AT57: 50700 | AU57: 3170 | AV57: 150000 | AW57: 134100 | AX57: 293 | AY57: 5960 | AZ57: 4910 | BA57: 746 | BB57: 78900 | BC57: 74600 | BD57: 30 | BE57: 1780 | BF57: 1660 | BG57: 2420 | BH57: 71200 | BI57: 59500 | BJ57: 263 | BK57: 4190 | BL57: 3250 | BM57: 21300 | BN57: 208800 | BO57: 172600 | BP57: 4460 | BQ57: 33100 | BR57: 22100 | BS57: 2650 | BT57: 19300 | BU57: 13100 | BV57: 600 | BW57: 4900 | BX57: 3880 | BY57: 1580 | BZ57: 13200 | CA57: 9470 | CB57: 12700 | CC57: 65200 | CD57: 52200
A58: 令.5(2023) | B58: 9490 | C58: 530200 | D58: 461700 | E58: 2490 | F58: 272000 | G58: 256000 | H58: 7000 | I58: 258200 | J58: 205700 | K58: 13800 | L58: 159900 | M58: 132900 | N58: 7730 | O58: 288800 | P58: 233500 | Q58: 1030 | R58: 114900 | S58: 108100 | T58: 6690 | U58: 174000 | V58: 125400 | W58: 10900 | X58: 681400 | Y58: 622500 | Z58: 479 | AA58: 26100 | AB58: 25900 | AC58: 2670 | AD58: 155400 | AE58: 145700 | AF58: 3680 | AG58: 377800 | AH58: 359100 | AI58: 1160 | AJ58: 101400 | AK58: 97100 | AL58: 7270 | AM58: 303600 | AN58: 263400 | AO58: 479 | AP58: 26100 | AQ58: 25900 | AR58: 1510 | AS58: 54000 | AT58: 48500 | AU58: 3090 | AV58: 144000 | AW58: 128700 | AX58: 280 | AY58: 5570 | AZ58: 4580 | BA58: 727 | BB58: 74600 | BC58: 70400 | BD58: 31 | BE58: 1680 | BF58: 1570 | BG58: 2360 | BH58: 69500 | BI58: 58400 | BJ58: 249 | BK58: 3900 | BL58: 3020 | BM58: 20900 | BN58: 212400 | BO58: 175100 | BP58: 4370 | BQ58: 30700 | BR58: 20600 | BS58: 2570 | BT58: 16700 | BU58: 11000 | BV58: 566 | BW58: 4410 | BX58: 3530 | BY58: 1480 | BZ58: 11400 | CA58: 7970 | CB58: 12300 | CC58: 62000 | CD58: 49700
A59: 令.6(2024) | B59: 9160 | C59: 502900 | D59: 440200 | E59: 2440 | F59: 261000 | G59: 245800 | H59: 6720 | I59: 241900 | J59: 194500 | K59: 13600 | L59: 164400 | M59: 135100 | N59: 7500 | O59: 280200 | P59: 227000 | Q59: 1020 | R59: 108800 | S59: 102400 | T59: 6480 | U59: 171300 | V59: 124500 | W59: 10600 | X59: 663600 | Y59: 607900 | AF59: 3560 | AG59: 364800 | AH59: 347400 | AL59: 7060 | AM59: 298700 | AN59: 260600 | AU59: 3050 | AV59: 143000 | AW59: 128700 | BA59: 724 | BB59: 74700 | BC59: 70700 | BG59: 2320 | BH59: 68300 | BI59: 57900 | BM59: 20900 | BN59: 211900 | BO59: 175100 | BP59: 4300 | BQ59: 29700 | BR59: 19900 | BS59: 2540 | BT59: 18300 | BU59: 12600 | BV59: 555 | BW59: 4110 | BX59: 3300 | BY59: 1430 | BZ59: 11500 | CA59: 8240 | CB59: 11900 | CC59: 58200 | CD59: 46300
H60: 0 | I60: 0 | J60: 0 | K60: 0 | L60: 0 | M60: 0 | BG60: 0 | BH60: 0 | BI60: 0 | BM60: 0 | BN60: 0 | BO60: 0 | BP60: 0 | BQ60: 0 | BR60: 0 | BS60: 0 | BT60: 0 | BU60: 0 | BV60: 0 | BW60: 0 | BX60: 0 | BY60: 0 | BZ60: 0 | CA60: 0
B69: （注記）
B70: 平成25年産よりさやえんどうに含まれていたグリーンピースを分離した。

Sheet 全国（しょうが）
A1: 野菜生産出荷統計
A2: 品目別（季節区分別）作付面積、収穫量及び出荷量累年統計
A3: 香辛野菜
A4: 全国
A5: 年次 | B5: しょうが
B6: 作付面積 | C6: 収穫量 | D6: 出荷量
B7: ha | C7: t | D7: t
A8: 昭.48(1973) | B8: … | C8: … | D8: …
A9: 昭.49(1974) | B9: … | C9: … | D9: …
A10: 昭.50(1975) | B10: … | C10: … | D10: …
A11: 昭.51(1976) | B11: … | C11: … | D11: …
A12: 昭.52(1977) | B12: … | C12: … | D12: …
A13: 昭.53(1978) | B13: … | C13: … | D13: …
A14: 昭.54(1979) | B14: … | C14: … | D14: …
A15: 昭.55(1980) | B15: … | C15: … | D15: …
A16: 昭.56(1981) | B16: … | C16: … | D16: …
A17: 昭.57(1982) | B17: … | C17: … | D17: …
A18: 昭.58(1983) | B18: … | C18: … | D18: …
A19: 昭.59(1984) | B19: … | C19: … | D19: …
... A36: 平.13(2001) | B36: … | C36: … | D36: …
A37: 平.14(2002) | B37: 1460 | C37: 32100 | D37: 23500
A38: 平.15(2003) | B38: 1450 | C38: 31200 | D38: 22600
A39: 平.16(2004) | B39: 1900 | C39: 38400 | D39: 26700
A40: 平.17(2005) | B40: 1840 | C40: 39400 | D40: 27600
A41: 平.18(2006) | B41: 1810 | C41: 38100 | D41: 26700
A42: 平.19(2007) | B42: 1870 | C42: 42700 | D42: 31100
A43: 平.20(2008) | B43: 1920 | C43: 49800 | D43: 37600
A44: 平.21(2009) | B44: 1980 | C44: 53200 | D44: 39900
A45: 平.22(2010) | B45: 1980 | C45: 53800 | D45: 41500
A46: 平.23(2011) | B46: 1950 | C46: 54200 | D46: 41800
A47: 平.24(2012) | B47: 1920 | C47: 54600 | D47: 42700
A48: 平.25(2013) | B48: 1930 | C48: 49200 | D48: 38600
... A59: 令.6(2024) | B59: 1550 | C59: 40900 | D59: 32000

Sheet 全国（果実的野菜）
A1: 野菜生産出荷統計
A2: 品目別（季節区分別）作付面積、収穫量及び出荷量累年統計
A3: 果実的野菜
A4: 全国
A5: 年次 | B5: いちご | E5: 冬春いちご | H5: メロン | K5: 露地メロン | N5: 温室メロン | Q5: すいか | T5: 夏すいか
B6: 作付面積 | C6: 収穫量 | D6: 出荷量 | E6: 作付面積 | F6: 収穫量 | G6: 出荷量 | H6: 作付面積 | I6: 収穫量 | J6: 出荷量 | K6: 作付面積 | L6: 収穫量 | M6: 出荷量 | N6: 作付面積 | O6: 収穫量 | P6: 出荷量 | Q6: 作付面積 | R6: 収穫量 | S6: 出荷量 | T6: 作付面積 | U6: 収穫量 | V6: 出荷量
B7: ha | C7: t | D7: t | E7: ha | F7: t | G7: t | H7: ha | I7: t | J7: t | K7: ha | L7: t | M7: t | N7: ha | O7: t | P7: t | Q7: ha | R7: t | S7: t | T7: ha | U7: t | V7: t
A8: 昭.48(1973) | B8: 13600 | C8: 184400 | D8: 170600 | E8: 12900 | F8: 181100 | G8: 167800 | H8: … | I8: … | J8: … | K8: 12700 | L8: 225900 | M8: 194600 | N8: 736 | O8: 22600 | P8: 22300 | Q8: 38800 | R8: 1209000 | S8: 1035000 | T8: 38700 | U8: 1205000 | V8: 1030000
A9: 昭.49(1974) | B9: 12900 | C9: 168300 | D9: 154300 | E9: 12200 | F9: 164500 | G9: 151000 | H9: … | I9: … | J9: … | K9: 11800 | L9: 211500 | M9: 181300 | N9: 809 | O9: 24500 | P9: 24200 | Q9: 37200 | R9: 1082000 | S9: 914300 | T9: 37100 | U9: 1077000 | V9: 909000
A10: 昭.50(1975) | B10: 11900 | C10: 164900 | D10: 150200 | E10: 11200 | F10: 161600 | G10: 147500 | H10: … | I10: … | J10: … | K10: 11500 | L10: 216000 | M10: 185500 | N10: 862 | O10: 26300 | P10: 25800 | Q10: 36200 | R10: 1167000 | S10: 997800 | T10: 36000 | U10: 1161000 | V10: 991200
A11: 昭.51(1976) | B11: 11700 | C11: 164700 | D11: 150400 | E11: 11000 | F11: 161300 | G11: 147500 | H11: … | I11: … | J11: … | K11: 11500 | L11: 213700 | M11: 184800 | N11: 867 | O11: 26700 | P11: 26400 | Q11: 35800 | R11: 1120000 | S11: 953300 | T11: 35600 | U11: 1112000 | V11: 946000
A12: 昭.52(1977) | B12: 11700 | C12: 176100 | D12: 161400 | E12: 11100 | F12: 172500 | G12: 158400 | H12: … | I12: … | J12: … | K12: 12200 | L12: 247600 | M12: 217100 | N12: 979 | O12: 29900 | P12: 29500 | Q12: 34100 | R12: 1154000 | S12: 985100 | T12: 33700 | U12: 1143000 | V12: 974700
A13: 昭.53(1978) | B13: 11900 | C13: 184600 | D13: 169000 | E13: 11200 | F13: 180900 | G13: 165900 | H13: … | I13: … | J13: … | K13: 12700 | L13: 265700 | M13: 234500 | N13: 1070 | O13: 32900 | P13: 32500 | Q13: 33500 | R13: 1134000 | S13: 969400 | T13: 33200 | U13: 1124000 | V13: 960200
A14: 昭.54(1979) | B14: 12000 | C14: 196700 | D14: 180600 | E14: 11300 | F14: 193000 | G14: 177600 | H14: … | I14: … | J14: … | K14: 12800 | L14: 266400 | M14: 235300 | N14: 1170 | O14: 36100 | P14: 35500 | Q14: 33200 | R14: 1086000 | S14: 924400 | T14: 32900 | U14: 1076000 | V14: 914900
A15: 昭.55(1980) | B15: 11900 | C15: 193300 | D15: 176700 | E15: 11400 | F15: 190000 | G15: 174000 | H15: … | I15: … | J15: … | K15: 13100 | L15: 263900 | M15: 233800 | N15: 1210 | O15: 34900 | P15: 34000 | Q15: 33000 | R15: 975700 | S15: 824600 | T15: 32800 | U15: 966200 | V15: 816600
A16: 昭.56(1981) | B16: 11700 | C16: 192500 | D16: 175800 | E16: 11100 | F16: 189700 | G16: 173500 | H16: … | I16: … | J16: … | K16: 13200 | L16: 263300 | M16: 233000 | N16: 1370 | O16: 40300 | P16: 39300 | Q16: 30900 | R16: 963000 | S16: 801400 | T16: 30500 | U16: 951800 | V16: 790700
A17: 昭.57(1982) | B17: 11500 | C17: 199300 | D17: 182300 | E17: 11000 | F17: 196500 | G17: 179900 | H17: 15400 | I17: 350600 | J17: 317400 | K17: 14000 | L17: 311300 | M17: 279500 | N17: 1380 | O17: 39200 | P17: 37900 | Q17: 29700 | R17: 932600 | S17: 773800 | T17: 29400 | U17: 921300 | V17: 763200
A18: 昭.58(1983) | B18: 11400 | C18: 196700 | D18: 179800 | E18: 10800 | F18: 193300 | G18: 177000 | H18: 16100 | I18: 350700 | J18: 317000 | K18: 14700 | L18: 310800 | M18: 277700 | N18: 1380 | O18: 40000 | P18: 39300 | Q18: 28100 | R18: 865900 | S18: 717000 | T18: 27800 | U18: 855400 | V18: 707200
A19: 昭.59(1984) | B19: 11100 | C19: 198100 | D19: 181700 | E19: 10600 | F19: 195100 | G19: 179200 | H19: 16400 | I19: 370400 | J19: 335400 | K19: 15100 | L19: 332400 | M19: 297900 | N19: 1280 | O19: 38100 | P19: 37500 | Q19: 26600 | R19: 876100 | S19: 724600 | T19: 26300 | U19: 867500 | V19: 716600
A20: 昭.60(1985) | B20: 11000 | C20: 195700 | D20: 179200 | E20: 10500 | F20: 192400 | G20: 176400 | H20: 16500 | I20: 366300 | J20: 332200 | K20: 15200 | L20: 329100 | M20: 295700 | N20: 1270 | O20: 37100 | P20: 36600 | Q20: 26400 | R20: 820400 | S20: 680200 | T20: 26100 | U20: 812100 | V20: 672500
A21: 昭.61(1986) | B21: 10800 | C21: 200500 | D21: 183900 | E21: 10300 | F21: 197100 | G21: 181000 | H21: 16700 | I21: 378800 | J21: 344200 | K21: 15400 | L21: 338900 | M21: 305300 | N21: 1350 | O21: 39900 | P21: 39000 | Q21: 25900 | R21: 840400 | S21: 702500 | T21: 25600 | U21: 832700 | V21: 695400
A22: 昭.62(1987) | B22: 10600 | C22: 210200 | D22: 191800 | E22: 10200 | F22: 207000 | G22: 189100 | H22: 17500 | I22: 410800 | J22: 374100 | K22: 15900 | L22: 366000 | M22: 330300 | N22: 1520 | O22: 44900 | P22: 43800 | Q22: 25500 | R22: 863300 | S22: 730900 | T22: 25200 | U22: 854200 | V22: 722600
A23: 昭.63(1988) | B23: 10500 | C23: 219400 | D23: 198700 | E23: 10300 | F23: 218300 | G23: 197900 | H23: 17600 | I23: 403400 | J23: 367300 | K23: 16200 | L23: 361500 | M23: 326400 | N23: 1430 | O23: 41900 | P23: 40900 | Q23: 24300 | R23: 789500 | S23: 666700 | T23: 24000 | U23: 778900 | V23: 657000
A24: 平.元(1989) | B24: 10300 | C24: 215500 | D24: 194800 | E24: 10100 | F24: 214400 | G24: 194000 | H24: 17900 | I24: 415300 | J24: 378700 | K24: 16600 | L24: 375200 | M24: 339600 | N24: 1350 | O24: 40100 | P24: 39100 | Q24: 23200 | R24: 763600 | S24: 644500 | T24: 22800 | U24: 750600 | V24: 632700
A25: 平.2(1990) | B25: 10200 | C25: 217100 | D25: 196200 | E25: 10100 | F25: 216100 | G25: 195500 | H25: 18100 | I25: 420700 | J25: 384300 | K25: 16700 | L25: 379500 | M25: 344100 | N25: 1380 | O25: 41200 | P25: 40200 | Q25: 22500 | R25: 753000 | S25: 638900 | T25: 22100 | U25: 741900 | V25: 628600
A26: 平.3(1991) | B26: 9830 | C26: 213300 | D26: 192300 | E26: … | F26: … | G26: … | H26: 18100 | I26: 379700 | J26: 346200 | K26: 16700 | L26: 340400 | M26: 307900 | N26: 1360 | O26: 39300 | P26: 38300 | Q26: 22100 | R26: 687200 | S26: 583100 | T26: … | U26: … | V26: …
A27: 平.4(1992) | B27: 9350 | C27: 208000 | D27: 187700 | E27: … | F27: … | G27: … | H27: 17700 | I27: 397200 | J27: 362600 | K27: 16400 | L27: 357700 | M27: 324200 | N27: 1340 | O27: 39500 | P27: 38400 | Q27: 21400 | R27: 736700 | S27: 626400 | T27: … | U27: … | V27: …
A28: 平.5(1993) | B28: 9000 | C28: 207400 | D28: 187200 | E28: … | F28: … | G28: … | H28: 17300 | I28: 369400 | J28: 338100 | K28: 15900 | L28: 328700 | M28: 298500 | N28: 1410 | O28: 40700 | P28: 39600 | Q28: 20600 | R28: 631600 | S28: 539700 | T28: … | U28: … | V28: …
A29: 平.6(1994) | B29: 8610 | C29: 197800 | D29: 179100 | E29: … | F29: … | G29: … | H29: 16900 | I29: 396700 | J29: 363800 | K29: 15500 | L29: 353700 | M29: 322000 | N29: 1430 | O29: 43000 | P29: 41800 | Q29: 19400 | R29: 654700 | S29: 560000 | T29: … | U29: … | V29: …
A30: 平.7(1995) | B30: 8310 | C30: 201400 | D30: 182700 | E30: … | F30: … | G30: … | H30: 16500 | I30: 366400 | J30: 336100 | K30: 15100 | L30: 325400 | M30: 296300 | N30: 1400 | O30: 41000 | P30: 39800 | Q30: 19100 | R30: 616800 | S30: 528100 | T30: … | U30: … | V30: …
A31: 平.8(1996) | B31: 8050 | C31: 208100 | D31: 189300 | E31: … | F31: … | G31: … | H31: 16300 | I31: 366200 | J31: 334600 | K31: 14900 | L31: 326100 | M31: 295600 | N31: 1350 | O31: 40100 | P31: 39000 | Q31: 19000 | R31: 632500 | S31: 542700 | T31: … | U31: … | V31: …
A32: 平.9(1997) | B32: 7800 | C32: 200000 | D32: 181500 | E32: … | F32: … | G32: … | H32: 15700 | I32: 359100 | J32: 327100 | K32: 14400 | L32: 318600 | M32: 287700 | N32: 1370 | O32: 40500 | P32: 39400 | Q32: 18500 | R32: 614200 | S32: 526800 | T32: … | U32: … | V32: …
A33: 平.10(1998) | B33: 7640 | C33: 181000 | D33: 164200 | E33: … | F33: … | G33: … | H33: 15200 | I33: 336300 | J33: 305900 | K33: 13900 | L33: 299200 | M33: 269900 | N33: 1310 | O33: 37100 | P33: 36000 | Q33: 18200 | R33: 603200 | S33: 520200 | T33: … | U33: … | V33: …
A34: 平.11(1999) | B34: 7540 | C34: 203100 | D34: 184300 | E34: … | F34: … | G34: … | H34: 14400 | I34: 316700 | J34: 289000 | K34: 13100 | L34: 278200 | M34: 251600 | N34: 1330 | O34: 38500 | P34: 37400 | Q34: 17700 | R34: 595300 | S34: 514800 | T34: … | U34: … | V34: …
A35: 平.12(2000) | B35: 7450 | C35: 205300 | D35: 186300 | E35: … | F35: … | G35: … | H35: 13800 | I35: 317500 | J35: 289700 | K35: … | L35: … | M35: … | N35: … | O35: … | P35: … | Q35: 16900 | R35: 580600 | S35: 497900 | T35: … | U35: … | V35: …
A36: 平.13(2001) | B36: 7430 | C36: 208700 | D36: 189600 | E36: … | F36: … | G36: … | H36: 13300 | I36: 307400 | J36: 279100 | K36: … | L36: … | M36: … | N36: … | O36: … | P36: … | Q36: 16500 | R36: 573300 | S36: 492700 | T36: … | U36: … | V36: …
A37: 平.14(2002) | B37: 7360 | C37: 210500 | D37: 191200 | E37: … | F37: … | G37: … | H37: 12700 | I37: 286700 | J37: 260600 | K37: … | L37: … | M37: … | N37: … | O37: … | P37: … | Q37: 15900 | R37: 526900 | S37: 451000 | T37: … | U37: … | V37: …
A38: 平.15(2003) | B38: 7240 | C38: 202900 | D38: 183200 | E38: … | F38: … | G38: … | H38: 11900 | I38: 268600 | J38: 243900 | K38: … | L38: … | M38: … | N38: … | O38: … | P38: … | Q38: 15000 | R38: 487300 | S38: 415700 | T38: … | U38: … | V38: …
A39: 平.16(2004) | B39: 7000 | C39: 198200 | D39: 179500 | E39: … | F39: … | G39: … | H39: 11100 | I39: 248600 | J39: 226100 | K39: … | L39: … | M39: … | N39: … | O39: … | P39: … | Q39: 13900 | R39: 454000 | S39: 386800 | T39: … | U39: … | V39: …
A40: 平.17(2005) | B40: 6880 | C40: 196200 | D40: 177600 | E40: … | F40: … | G40: … | H40: 10400 | I40: 241800 | J40: 220300 | K40: … | L40: … | M40: … | N40: … | O40: … | P40: … | Q40: 13400 | R40: 450200 | S40: 384600 | T40: … | U40: … | V40: …
A41: 平.18(2006) | B41: 6790 | C41: 190700 | D41: 172700 | E41: … | F41: … | G41: … | H41: 9830 | I41: 216600 | J41: 197200 | K41: … | L41: … | M41: … | N41: … | O41: … | P41: … | Q41: 13000 | R41: 418700 | S41: 357100 | T41: … | U41: … | V41: …
A42: 平.19(2007) | B42: 6580 | C42: 191400 | D42: 173400 | E42: … | F42: … | G42: … | H42: 9530 | I42: 221300 | J42: 201100 | K42: … | L42: … | M42: … | N42: 1110 | O42: 30700 | P42: 29300 | Q42: 12600 | R42: 421600 | S42: 361000 | T42: … | U42: … | V42: …
A43: 平.20(2008) | B43: 6470 | C43: 190700 | D43: 173000 | E43: … | F43: … | G43: … | H43: 9210 | I43: 208500 | J43: 189500 | K43: … | L43: … | M43: … | N43: 1070 | O43: 29000 | P43: 27800 | Q43: 12300 | R43: 402000 | S43: 343600 | T43: … | U43: … | V43: …
A44: 平.21(2009) | B44: 6360 | C44: 184700 | D44: 168100 | E44: … | F44: … | G44: … | H44: 8870 | I44: 199400 | J44: 181100 | K44: … | L44: … | M44: … | N44: 995 | O44: 26200 | P44: 25000 | Q44: 12100 | R44: 389900 | S44: 333600 | T44: … | U44: … | V44: …
A45: 平.22(2010) | B45: 6150 | C45: 177500 | D45: 161800 | E45: … | F45: … | G45: … | H45: 8560 | I45: 188100 | J45: 169900 | K45: … | L45: … | M45: … | N45: 966 | O45: 25600 | P45: 24300 | Q45: 11700 | R45: 369200 | S45: 314500 | T45: … | U45: … | V45: …
A46: 平.23(2011) | B46: 6020 | C46: 177300 | D46: 161600 | E46: … | F46: … | G46: … | H46: 8180 | I46: 180400 | J46: 163100 | K46: … | L46: … | M46: … | N46: 914 | O46: 23700 | P46: 22500 | Q46: 11400 | R46: 362500 | S46: 309200 | T46: … | U46: … | V46: …
A47: 平.24(2012) | B47: 5720 | C47: 163200 | D47: 149000 | E47: … | F47: … | G47: … | H47: 7860 | I47: 176300 | J47: 159600 | K47: … | L47: … | M47: … | N47: 877 | O47: 22800 | P47: 21500 | Q47: 11300 | R47: 370300 | S47: 316200 | T47: … | U47: … | V47: …
A48: 平.25(2013) | B48: 5600 | C48: 165600 | D48: 151800 | E48: … | F48: … | G48: … | H48: 7560 | I48: 168700 | J48: 153100 | K48: … | L48: … | M48: … | N48: 810 | O48: 21900 | P48: 21100 | Q48: 11000 | R48: 355300 | S48: 304700 | T48: … | U48: … | V48: …
A49: 平.26(2014) | B49: 5570 | C49: 164000 | D49: 150200 | E49: … | F49: … | G49: … | H49: 7300 | I49: 167600 | J49: 152300 | K49: … | L49: … | M49: … | N49: 794 | O49: 21200 | P49: 20400 | Q49: 10800 | R49: 357500 | S49: 307800 | T49: … | U49: … | V49: …
A50: 平.27(2015) | B50: 5450 | C50: 158700 | D50: 145200 | E50: … | F50: … | G50: … | H50: 7080 | I50: 158000 | J50: 143300 | K50: … | L50: … | M50: … | N50: 762 | O50: 20300 | P50: 19500 | Q50: 10600 | R50: 339800 | S50: 292400 | T50: … | U50: … | V50: …
A51: 平.28(2016) | B51: 5370 | C51: 159000 | D51: 145000 | E51: … | F51: … | G51: … | H51: 6950 | I51: 158200 | J51: 143600 | K51: … | L51: … | M51: … | N51: 720 | O51: 19700 | P51: 18900 | Q51: 10400 | R51: 344800 | S51: 296400 | T51: … | U51: … | V51: …
A52: 平.29(2017) | B52: 5280 | C52: 163700 | D52: 150200 | E52: … | F52: … | G52: … | H52: 6770 | I52: 155000 | J52: 140700 | K52: … | L52: … | M52: … | N52: 701 | O52: 18700 | P52: 17900 | Q52: 10200 | R52: 331100 | S52: 284400 | T52: … | U52: … | V52: …
A53: 平.30(2018) | B53: 5200 | C53: 161800 | D53: 148600 | E53: … | F53: … | G53: … | H53: 6630 | I53: 152900 | J53: 138700 | K53: … | L53: … | M53: … | N53: 678 | O53: 18500 | P53: 17700 | Q53: 9970 | R53: 320600 | S53: 276500 | T53: … | U53: … | V53: …
... A58: 令.5(2023) | B58: 4780 | C58: 161800 | D58: 149900 | E58: … | F58: … | G58: … | H58: 5640 | I58: 145200 | J58: 133100 | K58: … | L58: … | M58: … | N58: 583 | O58: 15500 | P58: 14900 | Q58: 8690 | R58: 303700 | S58: 265000 | T58: … | U58: … | V58: …
A59: 令.6(2024) | B59: 4700 | C59: 156600 | D59: 145400 | H59: 5520 | I59: 137500 | J59: 126000 | Q59: 8600 | R59: 299000 | S59: 261400
B60: 0 | C60: 0 | D60: 0
B62: 0 | C62: 0 | D62: 0

Sheet 静岡（根菜類）
A1: 野菜生産出荷統計
A2: 品目別（季節区分別）作付面積、収穫量及び出荷量累年統計
A3: 根菜類
A4: 静岡
A5: 年次 | B5: だいこん | E5: 春だいこん | H5: 夏だいこん | K5: 秋冬だいこん | N5: かぶ | Q5: にんじん | T5: 春夏にんじん | W5: 秋にんじん | Z5: 冬にんじん | AC5: ごぼう | AF5: れんこん | AI5: ばれいしょ | AL5: 春植えばれいしょ | AO5: 秋植えばれいしょ | AR5: さといも | AU5: 秋冬さといも | AX5: その他さといも | BA5: やまのいも | BD5: ながいも
B6: 作付面積 | C6: 収穫量 | D6: 出荷量 | E6: 作付面積 | F6: 収穫量 | G6: 出荷量 | H6: 作付面積 | I6: 収穫量 | J6: 出荷量 | K6: 作付面積 | L6: 収穫量 | M6: 出荷量 | N6: 作付面積 | O6: 収穫量 | P6: 出荷量 | Q6: 作付面積 | R6: 収穫量 | S6: 出荷量 | T6: 作付面積 | U6: 収穫量 | V6: 出荷量 | W6: 作付面積 | X6: 収穫量 | Y6: 出荷量 | Z6: 作付面積 | AA6: 収穫量 | AB6: 出荷量 | AC6: 作付面積 | AD6: 収穫量 | AE6: 出荷量 | AF6: 作付面積 | AG6: 収穫量 | AH6: 出荷量 | AI6: 作付面積 | AJ6: 収穫量 | AK6: 出荷量 | AL6: 作付面積 | AM6: 収穫量 | AN6: 出荷量 | AO6: 作付面積 | AP6: 収穫量 | AQ6: 出荷量 | AR6: 作付面積 | AS6: 収穫量 | AT6: 出荷量 | AU6: 作付面積 | AV6: 収穫量 | AW6: 出荷量 | AX6: 作付面積 | AY6: 収穫量 | AZ6: 出荷量 | BA6: 作付面積 | BB6: 収穫量 | BC6: 出荷量 | BD6: 作付面積 | BE6: 収穫量 | BF6: 出荷量
B7: ha | C7: t | D7: t | E7: ha | F7: t | G7: t | H7: ha | I7: t | J7: t | K7: ha | L7: t | M7: t | N7: ha | O7: t | P7: t | Q7: ha | R7: t | S7: t | T7: ha | U7: t | V7: t | W7: ha | X7: t | Y7: t | Z7: ha | AA7: t | AB7: t | AC7: ha | AD7: t | AE7: t | AF7: ha | AG7: t | AH7: t | AI7: ha | AJ7: t | AK7: t | AL7: ha | AM7: t | AN7: t | AO7: ha | AP7: t | AQ7: t | AR7: ha | AS7: t | AT7: t | AU7: ha | AV7: t | AW7: t | AX7: ha | AY7: t | AZ7: t | BA7: ha | BB7: t | BC7: t | BD7: ha | BE7: t | BF7: t
A8: 昭.48(1973) | B8: 1920 | C8: 84400 | D8: 58714 | E8: 226 | F8: 6690 | G8: 6075 | H8: - | I8: - | J8: - | K8: 1690 | L8: 77700 | M8: 52639 | N8: 174 | O8: 3380 | P8: 2817 | Q8: 606 | R8: 11000 | S8: 8165 | T8: 83 | U8: 1390 | V8: 1091 | W8: 27 | X8: 402 | Y8: 170 | Z8: 496 | AA8: 9200 | AB8: 6904 | AC8: 245 | AD8: 4200 | AE8: 2727 | AF8: 67 | AG8: 876 | AH8: 803 | AI8: 2010 | AJ8: 28400 | AK8: 16869 | AL8: … | AM8: … | AN8: … | AO8: … | AP8: … | AQ8: … | AR8: 1320 | AS8: 18500 | AT8: 7406 | AU8: 1320 | AV8: 18500 | AW8: 7406 | AX8: … | AY8: … | AZ8: … | BA8: 39 | BB8: 464 | BC8: 374 | BD8: … | BE8: … | BF8: …
A9: 昭.49(1974) | B9: 1880 | C9: 87800 | D9: 61767 | E9: 221 | F9: 6520 | G9: 5953 | H9: - | I9: - | J9: - | K9: 1660 | L9: 81300 | M9: 55814 | N9: 172 | O9: 3480 | P9: 2879 | Q9: 544 | R9: 9470 | S9: 6843 | T9: 89 | U9: 1470 | V9: 1183 | W9: 25 | X9: 362 | Y9: 158 | Z9: 430 | AA9: 7640 | AB9: 5502 | AC9: 228 | AD9: 3780 | AE9: 2367 | AF9: 66 | AG9: 726 | AH9: 677 | AI9: 1930 | AJ9: 28300 | AK9: 17740 | AL9: … | AM9: … | AN9: … | AO9: … | AP9: … | AQ9: … | AR9: 1290 | AS9: 18400 | AT9: 7707 | AU9: 1290 | AV9: 18400 | AW9: 7707 | AX9: … | AY9: … | AZ9: … | BA9: 37 | BB9: 403 | BC9: 315 | BD9: … | BE9: … | BF9: …
A10: 昭.50(1975) | B10: 1880 | C10: 78400 | D10: 56044 | E10: 224 | F10: 6780 | G10: 6212 | H10: - | I10: - | J10: - | K10: 1660 | L10: 71600 | M10: 49832 | N10: 169 | O10: 3200 | P10: 2649 | Q10: 519 | R10: 8310 | S10: 6020 | T10: 101 | U10: 1690 | V10: 1404 | W10: 23 | X10: 328 | Y10: 138 | Z10: 395 | AA10: 6290 | AB10: 4478 | AC10: 196 | AD10: 3000 | AE10: 1805 | AF10: 61 | AG10: 763 | AH10: 678 | AI10: 1900 | AJ10: 28800 | AK10: 17920 | AL10: … | AM10: … | AN10: … | AO10: … | AP10: … | AQ10: … | AR10: 1280 | AS10: 17300 | AT10: 7252 | AU10: 1280 | AV10: 17300 | AW10: 7252 | AX10: … | AY10: … | AZ10: … | BA10: 34 | BB10: 349 | BC10: 263 | BD10: … | BE10: … | BF10: …
A11: 昭.51(1976) | B11: 1860 | C11: 83700 | D11: 60072 | E11: 215 | F11: 6400 | G11: 5825 | H11: - | I11: - | J11: - | K11: 1640 | L11: 77300 | M11: 54247 | N11: 170 | O11: 3470 | P11: 2887 | Q11: 498 | R11: 8550 | S11: 6369 | T11: 96 | U11: 1610 | V11: 1320 | W11: 19 | X11: 271 | Y11: 107 | Z11: 383 | AA11: 6670 | AB11: 4942 | AC11: 184 | AD11: 2680 | AE11: 1553 | AF11: 66 | AG11: 835 | AH11: 750 | AI11: 1960 | AJ11: 29900 | AK11: 19123 | AL11: … | AM11: … | AN11: … | AO11: … | AP11: … | AQ11: … | AR11: 1280 | AS11: 18300 | AT11: 8391 | AU11: 1280 | AV11: 18300 | AW11: 8391 | AX11: … | AY11: … | AZ11: … | BA11: 31 | BB11: 337 | BC11: 253 | BD11: … | BE11: … | BF11: …
A12: 昭.52(1977) | B12: 1800 | C12: 83000 | D12: 59736 | E12: 108 | F12: 3260 | G12: 2818 | H12: 93 | I12: 2400 | J12: 2275 | K12: 1600 | L12: 77300 | M12: 54643 | N12: 168 | O12: 3440 | P12: 2854 | Q12: 477 | R12: 7730 | S12: 5720 | T12: 102 | U12: 1700 | V12: 1431 | W12: 21 | X12: 302 | Y12: 157 | Z12: 354 | AA12: 5710 | AB12: 4132 | AC12: 174 | AD12: 2360 | AE12: 1348 | AF12: 64 | AG12: 808 | AH12: 735 | AI12: 1990 | AJ12: 32200 | AK12: 21107 | AL12: … | AM12: … | AN12: … | AO12: … | AP12: … | AQ12: … | AR12: 1240 | AS12: 18100 | AT12: 8216 | AU12: 1240 | AV12: 18100 | AW12: 8216 | AX12: … | AY12: … | AZ12: … | BA12: 29 | BB12: 339 | BC12: 253 | BD12: … | BE12: … | BF12: …
A13: 昭.53(1978) | B13: 1800 | C13: 85600 | D13: 62288 | E13: 105 | F13: 3370 | G13: 2897 | H13: 105 | I13: 2650 | J13: 2486 | K13: 1590 | L13: 79600 | M13: 56905 | N13: 166 | O13: 3440 | P13: 2835 | Q13: 452 | R13: 7080 | S13: 5211 | T13: 107 | U13: 1820 | V13: 1537 | W13: 20 | X13: 277 | Y13: 141 | Z13: 325 | AA13: 4980 | AB13: 3533 | AC13: 161 | AD13: 2300 | AE13: 1350 | AF13: 71 | AG13: 957 | AH13: 892 | AI13: 2030 | AJ13: 34000 | AK13: 23378 | AL13: … | AM13: … | AN13: … | AO13: … | AP13: … | AQ13: … | AR13: 1220 | AS13: 13300 | AT13: 5450 | AU13: 1220 | AV13: 13300 | AW13: 5450 | AX13: … | AY13: … | AZ13: … | BA13: 30 | BB13: 369 | BC13: 275 | BD13: … | BE13: … | BF13: …
A14: 昭.54(1979) | B14: 1770 | C14: 74100 | D14: 53373 | E14: 106 | F14: 3340 | G14: 2850 | H14: 96 | I14: 2390 | J14: 2208 | K14: 1570 | L14: 68400 | M14: 48315 | N14: 165 | O14: 3400 | P14: 2745 | Q14: 451 | R14: 7380 | S14: 5510 | T14: 103 | U14: 1800 | V14: 1523 | W14: 21 | X14: 294 | Y14: 152 | Z14: 327 | AA14: 5290 | AB14: 3835 | AC14: 144 | AD14: 1970 | AE14: 986 | AF14: 83 | AG14: 1110 | AH14: 978 | AI14: 2030 | AJ14: 33600 | AK14: 22498 | AL14: … | AM14: … | AN14: … | AO14: … | AP14: … | AQ14: … | AR14: 1200 | AS14: 16400 | AT14: 7479 | AU14: 1200 | AV14: 16400 | AW14: 7479 | AX14: … | AY14: … | AZ14: … | BA14: 43 | BB14: 506 | BC14: 377 | BD14: … | BE14: … | BF14: …
A15: 昭.55(1980) | B15: 1800 | C15: 73900 | D15: 52461 | E15: 105 | F15: 3240 | G15: 2800 | H15: 95 | I15: 2400 | J15: 2168 | K15: 1600 | L15: 68300 | M15: 47493 | N15: 170 | O15: 3510 | P15: 2886 | Q15: 430 | R15: 7700 | S15: 5765 | T15: 115 | U15: 2200 | V15: 1947 | W15: 21 | X15: 302 | Y15: 170 | Z15: 294 | AA15: 5200 | AB15: 3648 | AC15: 124 | AD15: 1510 | AE15: 812 | AF15: 85 | AG15: 995 | AH15: 878 | AI15: 1890 | AJ15: 28100 | AK15: 17602 | AL15: … | AM15: … | AN15: … | AO15: … | AP15: … | AQ15: … | AR15: 1170 | AS15: 16500 | AT15: 7710 | AU15: 1170 | AV15: 16500 | AW15: 7710 | AX15: … | AY15: … | AZ15: … | BA15: 41 | BB15: 487 | BC15: 312 | BD15: … | BE15: … | BF15: …
A16: 昭.56(1981) | B16: 1720 | C16: 72900 | D16: 52286 | E16: 109 | F16: 3690 | G16: 3127 | H16: 95 | I16: 2480 | J16: 2229 | K16: 1520 | L16: 66700 | M16: 46930 | N16: 163 | O16: 3410 | P16: 2740 | Q16: 400 | R16: 7770 | S16: 6034 | T16: 125 | U16: 2520 | V16: 2186 | W16: 20 | X16: 308 | Y16: 181 | Z16: 255 | AA16: 4940 | AB16: 3667 | AC16: 118 | AD16: 1680 | AE16: 951 | AF16: 86 | AG16: 1030 | AH16: 935 | AI16: 1820 | AJ16: 31800 | AK16: 20554 | AL16: … | AM16: … | AN16: … | AO16: … | AP16: … | AQ16: … | AR16: 1120 | AS16: 14900 | AT16: 6742 | AU16: 1120 | AV16: 14900 | AW16: 6742 | AX16: … | AY16: … | AZ16: … | BA16: 43 | BB16: 501 | BC16: 345 | BD16: … | BE16: … | BF16: …
A17: 昭.57(1982) | B17: 1710 | C17: 74700 | D17: 54013 | E17: 118 | F17: 4090 | G17: 3643 | H17: 95 | I17: 2390 | J17: 2114 | K17: 1500 | L17: 68200 | M17: 48256 | N17: 165 | O17: 3290 | P17: 2612 | Q17: 363 | R17: 6020 | S17: 4278 | T17: 145 | U17: 2880 | V17: 2514 | W17: 17 | X17: 252 | Y17: 129 | Z17: 201 | AA17: 2890 | AB17: 1635 | AC17: 100 | AD17: 1290 | AE17: 615 | AF17: 75 | AG17: 747 | AH17: 674 | AI17: 1810 | AJ17: 33000 | AK17: 22350 | AL17: … | AM17: … | AN17: … | AO17: … | AP17: … | AQ17: … | AR17: 1110 | AS17: 14700 | AT17: 6497 | AU17: 1110 | AV17: 14700 | AW17: 6497 | AX17: … | AY17: … | AZ17: … | BA17: 39 | BB17: 434 | BC17: 315 | BD17: … | BE17: … | BF17: …
A18: 昭.58(1983) | B18: 1600 | C18: 66700 | D18: 49003 | E18: 116 | F18: 4000 | G18: 3543 | H18: 90 | I18: 2260 | J18: 1984 | K18: 1400 | L18: 60400 | M18: 43476 | N18: 158 | O18: 3220 | P18: 2455 | Q18: 368 | R18: 6660 | S18: 5072 | T18: 151 | U18: 3060 | V18: 2671 | W18: 17 | X18: 241 | Y18: 107 | Z18: 200 | AA18: 3350 | AB18: 2294 | AC18: 94 | AD18: 1250 | AE18: 601 | AF18: 133 | AG18: 665 | AH18: 586 | AI18: 1850 | AJ18: 30800 | AK18: 20404 | AL18: 1740 | AM18: 29100 | AN18: … | AO18: 107 | AP18: 1650 | AQ18: … | AR18: 1060 | AS18: 13900 | AT18: 6495 | AU18: 1060 | AV18: 13900 | AW18: 6495 | AX18: … | AY18: … | AZ18: … | BA18: 35 | BB18: 501 | BC18: 379 | BD18: … | BE18: … | BF18: …
A19: 昭.59(1984) | B19: 1510 | C19: 65400 | D19: 49659 | E19: 119 | F19: 4230 | G19: 3607 | H19: 76 | I19: 1880 | J19: 1650 | K19: 1310 | L19: 59300 | M19: 44402 | N19: 154 | O19: 3150 | P19: 2366 | Q19: 349 | R19: 6210 | S19: 4695 | T19: 153 | U19: 3190 | V19: 2792 | W19: 15 | X19: 200 | Y19: 67 | Z19: 181 | AA19: 2820 | AB19: 1836 | AC19: 93 | AD19: 1250 | AE19: 618 | AF19: 127 | AG19: 849 | AH19: 761 | AI19: 1830 | AJ19: 32200 | AK19: 22256 | AL19: 1710 | AM19: 30400 | AN19: … | AO19: 119 | AP19: 1830 | AQ19: … | AR19: 1040 | AS19: 12600 | AT19: 5583 | AU19: 1040 | AV19: 12600 | AW19: 5583 | AX19: … | AY19: … | AZ19: … | BA19: 35 | BB19: 472 | BC19: 339 | BD19: … | BE19: … | BF19: …
A20: 昭.60(1985) | B20: 1430 | C20: 62600 | D20: 48435 | E20: 112 | F20: 4110 | G20: 3545 | H20: 79 | I20: 1940 | J20: 1725 | K20: 1240 | L20: 56500 | M20: 43165 | N20: 155 | O20: 3330 | P20: 2614 | Q20: 346 | R20: 6240 | S20: 4760 | T20: 154 | U20: 3340 | V20: 2884 | W20: 12 | X20: 161 | Y20: 70 | Z20: 180 | AA20: 2740 | AB20: 1806 | AC20: 80 | AD20: 1090 | AE20: 568 | AF20: 125 | AG20: 852 | AH20: 770 | AI20: 1810 | AJ20: 31700 | AK20: 22204 | AL20: 1690 | AM20: 29900 | AN20: … | AO20: 116 | AP20: 1820 | AQ20: … | AR20: 1010 | AS20: 12800 | AT20: 5661 | AU20: 1010 | AV20: 12800 | AW20: 5661 | AX20: … | AY20: … | AZ20: … | BA20: 35 | BB20: 478 | BC20: 338 | BD20: … | BE20: … | BF20: …
A21: 昭.61(1986) | B21: 1360 | C21: 61400 | D21: 47802 | E21: 107 | F21: 3930 | G21: 3419 | H21: 69 | I21: 1780 | J21: 1544 | K21: 1190 | L21: 55700 | M21: 42839 | N21: 157 | O21: 3360 | P21: 2624 | Q21: 333 | R21: 6500 | S21: 4976 | T21: 149 | U21: 3500 | V21: 3014 | W21: 11 | X21: 163 | Y21: 73 | Z21: 173 | AA21: 2830 | AB21: 1889 | AC21: 78 | AD21: 1180 | AE21: 712 | AF21: 114 | AG21: 876 | AH21: 792 | AI21: 1690 | AJ21: 30000 | AK21: 21601 | AL21: 1570 | AM21: 28100 | AN21: … | AO21: 122 | AP21: 1900 | AQ21: … | AR21: 964 | AS21: 13700 | AT21: 6552 | AU21: 964 | AV21: 13700 | AW21: 6552 | AX21: … | AY21: … | AZ21: … | BA21: 37 | BB21: 534 | BC21: 402 | BD21: … | BE21: … | BF21: …
