Workbook

Sheet 全国（根菜類）
A1: 野菜生産出荷統計
A2: 品目別（季節区分別）作付面積、収穫量及び出荷量累年統計
A3: 根菜類
A4: 全国
A5: 年次 | B5: だいこん | E5: 春だいこん | H5: 夏だいこん | K5: 秋冬だいこん | N5: かぶ | Q5: にんじん | T5: 春夏にんじん | W5: 秋にんじん | Z5: 冬にんじん | AC5: ごぼう | AF5: れんこん | AI5: ばれいしょ | AL5: 春植えばれいしょ | AO5: 秋植えばれいしょ | AR5: さといも | AU5: 秋冬さといも | AX5: その他さといも | BA5: やまのいも | BD5: ながいも
B6: 作付面積 | C6: 収穫量 | D6: 出荷量 | E6: 作付面積 | F6: 収穫量 | G6: 出荷量 | H6: 作付面積 | I6: 収穫量 | J6: 出荷量 | K6: 作付面積 | L6: 収穫量 | M6: 出荷量 | N6: 作付面積 | O6: 収穫量 | P6: 出荷量 | Q6: 作付面積 | R6: 収穫量 | S6: 出荷量 | T6: 作付面積 | U6: 収穫量 | V6: 出荷量 | W6: 作付面積 | X6: 収穫量 | Y6: 出荷量 | Z6: 作付面積 | AA6: 収穫量 | AB6: 出荷量 | AC6: 作付面積 | AD6: 収穫量 | AE6: 出荷量 | AF6: 作付面積 | AG6: 収穫量 | AH6: 出荷量 | AI6: 作付面積 | AJ6: 収穫量 | AK6: 出荷量 | AL6: 作付面積 | AM6: 収穫量 | AN6: 出荷量 | AO6: 作付面積 | AP6: 収穫量 | AQ6: 出荷量 | AR6: 作付面積 | AS6: 収穫量 | AT6: 出荷量 | AU6: 作付面積 | AV6: 収穫量 | AW6: 出荷量 | AX6: 作付面積 | AY6: 収穫量 | AZ6: 出荷量 | BA6: 作付面積 | BB6: 収穫量 | BC6: 出荷量 | BD6: 作付面積 | BE6: 収穫量 | BF6: 出荷量
B7: ha | C7: t | D7: t | E7: ha | F7: t | G7: t | H7: ha | I7: t | J7: t | K7: ha | L7: t | M7: t | N7: ha | O7: t | P7: t | Q7: ha | R7: t | S7: t | T7: ha | U7: t | V7: t | W7: ha | X7: t | Y7: t | Z7: ha | AA7: t | AB7: t | AC7: ha | AD7: t | AE7: t | AF7: ha | AG7: t | AH7: t | AI7: ha | AJ7: t | AK7: t | AL7: ha | AM7: t | AN7: t | AO7: ha | AP7: t | AQ7: t | AR7: ha | AS7: t | AT7: t | AU7: ha | AV7: t | AW7: t | AX7: ha | AY7: t | AZ7: t | BA7: ha | BB7: t | BC7: t | BD7: ha | BE7: t | BF7: t
A8: 昭.48(1973) | B8: 76000 | C8: 2681000 | D8: 1738000 | E8: 4910 | F8: 164400 | G8: 133800 | H8: 9940 | I8: 271000 | J8: 197800 | K8: 61200 | L8: 2246000 | M8: 1407000 | N8: 7900 | O8: 200000 | P8: 136800 | Q8: 23300 | R8: 477500 | S8: 372400 | T8: 4400 | U8: 90700 | V8: 77000 | W8: 6880 | X8: 130400 | Y8: 100300 | Z8: 12000 | AA8: 256500 | AB8: 195200 | AC8: 16200 | AD8: 268200 | AE8: 186600 | AF8: 6180 | AG8: 104400 | AH8: 86000 | AI8: 147100 | AJ8: 3413000 | AK8: 2331000 | AL8: … | AM8: … | AN8: … | AO8: … | AP8: … | AQ8: … | AR8: 33200 | AS8: 384600 | AT8: 201100 | AU8: 31300 | AV8: 369100 | AW8: 188400 | AX8: 1950 | AY8: 15400 | AZ8: 12700 | BA8: 7280 | BB8: 130100 | BC8: 99200 | BD8: … | BE8: … | BF8: …
A9: 昭.49(1974) | B9: 74400 | C9: 2724000 | D9: 1795000 | E9: 4970 | F9: 161000 | G9: 131500 | H9: 9940 | I9: 279600 | J9: 209500 | K9: 59500 | L9: 2283000 | M9: 1454000 | N9: 7710 | O9: 201100 | P9: 139500 | Q9: 23800 | R9: 513800 | S9: 405600 | T9: 4610 | U9: 99300 | V9: 84300 | W9: 7280 | X9: 147300 | Y9: 115400 | Z9: 11900 | AA9: 267100 | AB9: 205900 | AC9: 15200 | AD9: 248200 | AE9: 171500 | AF9: 5940 | AG9: 95100 | AH9: 80100 | AI9: 138500 | AJ9: 2942000 | AK9: 1987000 | AL9: … | AM9: … | AN9: … | AO9: … | AP9: … | AQ9: … | AR9: 31400 | AS9: 430300 | AT9: 231900 | AU9: 29600 | AV9: 412500 | AW9: 216800 | AX9: 1800 | AY9: 17800 | AZ9: 15100 | BA9: 6910 | BB9: 124200 | BC9: 92900 | BD9: … | BE9: … | BF9: …
A10: 昭.50(1975) | B10: 73200 | C10: 2545000 | D10: 1701000 | E10: 5050 | F10: 174100 | G10: 145100 | H10: 9960 | I10: 280100 | J10: 215400 | K10: 58200 | L10: 2091000 | M10: 1341000 | N10: 7450 | O10: 195800 | P10: 136800 | Q10: 22900 | R10: 495200 | S10: 391900 | T10: 4690 | U10: 104000 | V10: 88800 | W10: 6710 | X10: 137600 | Y10: 107400 | Z10: 11500 | AA10: 253500 | AB10: 195800 | AC10: 15000 | AD10: 261400 | AE10: 187700 | AF10: 5540 | AG10: 89100 | AH10: 75200 | AI10: 139100 | AJ10: 3261000 | AK10: 2258000 | AL10: … | AM10: … | AN10: … | AO10: … | AP10: … | AQ10: … | AR10: 31200 | AS10: 370200 | AT10: 197200 | AU10: 29300 | AV10: 352700 | AW10: 183100 | AX10: 1970 | AY10: 17500 | AZ10: 14200 | BA10: 6730 | BB10: 124400 | BC10: 94400 | BD10: … | BE10: … | BF10: …
A11: 昭.51(1976) | B11: 73500 | C11: 2671000 | D11: 1836000 | E11: 5070 | F11: 169700 | G11: 140200 | H11: 9770 | I11: 283000 | J11: 222300 | K11: 58700 | L11: 2218000 | M11: 1473000 | N11: 7400 | O11: 191200 | P11: 133600 | Q11: 23900 | R11: 542100 | S11: 437200 | T11: 5080 | U11: 110800 | V11: 93200 | W11: 7140 | X11: 150900 | Y11: 121100 | Z11: 11700 | AA11: 280500 | AB11: 222900 | AC11: 15100 | AD11: 261500 | AE11: 189700 | AF11: 5410 | AG11: 82800 | AH11: 70700 | AI11: 137600 | AJ11: 3742000 | AK11: 2731000 | AL11: … | AM11: … | AN11: … | AO11: … | AP11: … | AQ11: … | AR11: 31100 | AS11: 425500 | AT11: 241000 | AU11: 29900 | AV11: 414300 | AW11: 231800 | AX11: 1180 | AY11: 11200 | AZ11: 9240 | BA11: 6890 | BB11: 121200 | BC11: 91100 | BD11: … | BE11: … | BF11: …
A12: 昭.52(1977) | B12: 72800 | C12: 2759000 | D12: 1898000 | E12: 4990 | F12: 175000 | G12: 143800 | H12: 10000 | I12: 294700 | J12: 234600 | K12: 57800 | L12: 2289000 | M12: 1520000 | N12: 7510 | O12: 201000 | P12: 143900 | Q12: 24100 | R12: 584900 | S12: 475900 | T12: 5040 | U12: 113500 | V12: 96600 | W12: 7260 | X12: 161900 | Y12: 132400 | Z12: 11800 | AA12: 309500 | AB12: 246900 | AC12: 14400 | AD12: 265000 | AE12: 194800 | AF12: 5340 | AG12: 87800 | AH12: 75000 | AI12: 131400 | AJ12: 3520000 | AK12: 2562000 | AL12: … | AM12: … | AN12: … | AO12: … | AP12: … | AQ12: … | AR12: 30600 | AS12: 430200 | AT12: 246600 | AU12: 29200 | AV12: 417300 | AW12: 235400 | AX12: 1330 | AY12: 12900 | AZ12: 11200 | BA12: 7450 | BB12: 140400 | BC12: 104800 | BD12: … | BE12: … | BF12: …
A13: 昭.53(1978) | B13: 70900 | C13: 2705000 | D13: 1873000 | E13: 5100 | F13: 185700 | G13: 155600 | H13: 10000 | I13: 283100 | J13: 227600 | K13: 55800 | L13: 2236000 | M13: 1490000 | N13: 7660 | O13: 208000 | P13: 150300 | Q13: 23300 | R13: 545900 | S13: 445700 | T13: 5030 | U13: 118900 | V13: 102200 | W13: 7330 | X13: 158900 | Y13: 131000 | Z13: 10900 | AA13: 268000 | AB13: 212500 | AC13: 14400 | AD13: 265100 | AE13: 198300 | AF13: 6000 | AG13: 99400 | AH13: 84300 | AI13: 128100 | AJ13: 3316000 | AK13: 2420000 | AL13: … | AM13: … | AN13: … | AO13: … | AP13: … | AQ13: … | AR13: 30900 | AS13: 340600 | AT13: 184600 | AU13: 29900 | AV13: 331900 | AW13: 177700 | AX13: 988 | AY13: 8710 | AZ13: 6950 | BA13: 8730 | BB13: 170500 | BC13: 134700 | BD13: … | BE13: … | BF13: …
A14: 昭.54(1979) | B14: 71100 | C14: 2575000 | D14: 1790000 | E14: 5350 | F14: 200000 | G14: 169100 | H14: 10300 | I14: 301100 | J14: 244900 | K14: 55500 | L14: 2074000 | M14: 1376000 | N14: 7620 | O14: 206800 | P14: 151500 | Q14: 24000 | R14: 586000 | S14: 485100 | T14: 4920 | U14: 125400 | V14: 109900 | W14: 7390 | X14: 169300 | Y14: 141300 | Z14: 11700 | AA14: 291200 | AB14: 233900 | AC14: 14200 | AD14: 258200 | AE14: 193400 | AF14: 6040 | AG14: 98100 | AH14: 82100 | AI14: 125100 | AJ14: 3381000 | AK14: 2538000 | AL14: … | AM14: … | AN14: … | AO14: … | AP14: … | AQ14: … | AR14: 31300 | AS14: 446800 | AT14: 265300 | AU14: 30200 | AV14: 436200 | AW14: 256600 | AX14: 1130 | AY14: 10600 | AZ14: 8690 | BA14: 8190 | BB14: 162300 | BC14: 127000 | BD14: … | BE14: … | BF14: …
A15: 昭.55(1980) | B15: 72600 | C15: 2690000 | D15: 1917000 | E15: 5670 | F15: 208800 | G15: 178200 | H15: 10400 | I15: 290300 | J15: 236500 | K15: 56500 | L15: 2190000 | M15: 1502000 | N15: 7680 | O15: 193100 | P15: 139800 | Q15: 24200 | R15: 600100 | S15: 501300 | T15: 5270 | U15: 132900 | V15: 116700 | W15: 7360 | X15: 170800 | Y15: 144200 | Z15: 11600 | AA15: 296400 | AB15: 240300 | AC15: 13900 | AD15: 249000 | AE15: 188100 | AF15: 6170 | AG15: 85700 | AH15: 70700 | AI15: 123400 | AJ15: 3421000 | AK15: 2545000 | AL15: … | AM15: … | AN15: … | AO15: … | AP15: … | AQ15: … | AR15: 31700 | AS15: 458500 | AT15: 270500 | AU15: 30200 | AV15: 443700 | AW15: 258000 | AX15: 1490 | AY15: 14800 | AZ15: 12500 | BA15: 7920 | BB15: 134200 | BC15: 100300 | BD15: … | BE15: … | BF15: …
A16: 昭.56(1981) | B16: 71500 | C16: 2687000 | D16: 1917000 | E16: 5800 | F16: 211600 | G16: 181500 | H16: 10800 | I16: 305400 | J16: 246400 | K16: 54900 | L16: 2170000 | M16: 1490000 | N16: 7810 | O16: 206500 | P16: 153000 | Q16: 24200 | R16: 606300 | S16: 507300 | T16: 5200 | U16: 135100 | V16: 118500 | W16: 7590 | X16: 164600 | Y16: 139000 | Z16: 11400 | AA16: 306600 | AB16: 249800 | AC16: 14700 | AD16: 273600 | AE16: 209100 | AF16: 6220 | AG16: 88900 | AH16: 73900 | AI16: 125600 | AJ16: 3095000 | AK16: 2234000 | AL16: … | AM16: … | AN16: … | AO16: … | AP16: … | AQ16: … | AR16: 28700 | AS16: 385800 | AT16: 218900 | AU16: 27500 | AV16: 374200 | AW16: 209600 | AX16: 1200 | AY16: 11500 | AZ16: 9300 | BA16: 7690 | BB16: 134000 | BC16: 102100 | BD16: … | BE16: … | BF16: …
A17: 昭.57(1982) | B17: 69900 | C17: 2709000 | D17: 1938000 | E17: 5930 | F17: 225100 | G17: 192400 | H17: 10800 | I17: 307400 | J17: 248300 | K17: 53200 | L17: 2177000 | M17: 1497000 | N17: 7770 | O17: 208900 | P17: 154400 | Q17: 24400 | R17: 627100 | S17: 527300 | T17: 5150 | U17: 147000 | V17: 130500 | W17: 8030 | X17: 181200 | Y17: 154300 | Z17: 11200 | AA17: 298800 | AB17: 242500 | AC17: 14100 | AD17: 246000 | AE17: 184400 | AF17: 6350 | AG17: 82200 | AH17: 68300 | AI17: 127200 | AJ17: 3775000 | AK17: 2869000 | AL17: … | AM17: … | AN17: … | AO17: … | AP17: … | AQ17: … | AR17: 29000 | AS17: 400100 | AT17: 229700 | AU17: 27800 | AV17: 389000 | AW17: 221000 | AX17: 1150 | AY17: 11100 | AZ17: 8660 | BA17: 7760 | BB17: 139800 | BC17: 105900 | BD17: … | BE17: … | BF17: …
A18: 昭.58(1983) | B18: 68500 | C18: 2548000 | D18: 1826000 | E18: 5940 | F18: 228300 | G18: 195400 | H18: 11000 | I18: 309400 | J18: 253100 | K18: 51600 | L18: 2010000 | M18: 1377000 | N18: 7700 | O18: 203400 | P18: 150300 | Q18: 24200 | R18: 628600 | S18: 530700 | T18: 5170 | U18: 149500 | V18: 132400 | W18: 7950 | X18: 182400 | Y18: 156300 | Z18: 11100 | AA18: 296800 | AB18: 242000 | AC18: 13900 | AD18: 246900 | AE18: 186500 | AF18: 6420 | AG18: 92000 | AH18: 76800 | AI18: 127800 | AJ18: 3566000 | AK18: 2683000 | AL18: 122300 | AM18: 3480000 | AN18: … | AO18: 5520 | AP18: 85600 | AQ18: … | AR18: 28900 | AS18: 393200 | AT18: 226900 | AU18: 27500 | AV18: 379200 | AW18: 215800 | AX18: 1340 | AY18: 14000 | AZ18: 11100 | BA18: 7700 | BB18: 131800 | BC18: 99300 | BD18: … | BE18: … | BF18: …
A19: 昭.59(1984) | B19: 68500 | C19: 2631000 | D19: 1902000 | E19: 6160 | F19: 231300 | G19: 198200 | H19: 11400 | I19: 319900 | J19: 263300 | K19: 51000 | L19: 2079000 | M19: 1440000 | N19: 7630 | O19: 199200 | P19: 147300 | Q19: 24600 | R19: 643000 | S19: 541400 | T19: 5150 | U19: 144100 | V19: 127600 | W19: 8350 | X19: 196100 | Y19: 167900 | Z19: 11100 | AA19: 302800 | AB19: 245800 | AC19: 14600 | AD19: 272100 | AE19: 207200 | AF19: 6370 | AG19: 94500 | AH19: 78700 | AI19: 130900 | AJ19: 3707000 | AK19: 2854000 | AL19: 125400 | AM19: 3621000 | AN19: … | AO19: 5480 | AP19: 86400 | AQ19: … | AR19: 28500 | AS19: 347100 | AT19: 199800 | AU19: 27200 | AV19: 330700 | AW19: 186500 | AX19: 1380 | AY19: 16500 | AZ19: 13300 | BA19: 8120 | BB19: 160200 | BC19: 124200 | BD19: … | BE19: … | BF19: …
A20: 昭.60(1985) | B20: 66900 | C20: 2544000 | D20: 1856000 | E20: 6240 | F20: 242700 | G20: 207800 | H20: 11100 | I20: 305500 | J20: 248800 | K20: 49500 | L20: 1996000 | M20: 1399000 | N20: 7700 | O20: 208600 | P20: 157100 | Q20: 25000 | R20: 662600 | S20: 560700 | T20: 5330 | U20: 160600 | V20: 142500 | W20: 8860 | X20: 212900 | Y20: 181600 | Z20: 10800 | AA20: 288900 | AB20: 236700 | AC20: 14400 | AD20: 263400 | AE20: 204200 | AF20: 6090 | AG20: 89400 | AH20: 73800 | AI20: 130100 | AJ20: 3727000 | AK20: 2897000 | AL20: 124800 | AM20: 3649000 | AN20: … | AO20: 5350 | AP20: 77700 | AQ20: … | AR20: 28500 | AS20: 375100 | AT20: 225300 | AU20: 27100 | AV20: 357800 | AW20: 211500 | AX20: 1420 | AY20: 17200 | AZ20: 13900 | BA20: 8390 | BB20: 167600 | BC20: 133000 | BD20: … | BE20: … | BF20: …
A21: 昭.61(1986) | B21: 66300 | C21: 2655000 | D21: 1929000 | E21: 6320 | F21: 246300 | G21: 211900 | H21: 11700 | I21: 342500 | J21: 281800 | K21: 48300 | L21: 2066000 | M21: 1435000 | N21: 7810 | O21: 211500 | P21: 159900 | Q21: 24400 | R21: 670800 | S21: 570500 | T21: 5510 | U21: 160100 | V21: 142600 | W21: 8290 | X21: 203100 | Y21: 174200 | Z21: 10600 | AA21: 307800 | AB21: 253700 | AC21: 14400 | AD21: 268600 | AE21: 209100 | AF21: 6050 | AG21: 92400 | AH21: 74900 | AI21: 130100 | AJ21: 4073000 | AK21: 3235000 | AL21: 124700 | AM21: 3980000 | AN21: … | AO21: 5360 | AP21: 93100 | AQ21: … | AR21: 28300 | AS21: 384900 | AT21: 233200 | AU21: 26900 | AV21: 368200 | AW21: 219200 | AX21: 1400 | AY21: 16700 | AZ21: 14000 | BA21: 8440 | BB21: 152300 | BC21: 118900 | BD21: … | BE21: … | BF21: …
A22: 昭.62(1987) | B22: 64900 | C22: 2534000 | D22: 1839000 | E22: 6320 | F22: 251400 | G22: 215500 | H22: 11900 | I22: 338000 | J22: 276300 | K22: 46700 | L22: 1945000 | M22: 1347000 | N22: 7800 | O22: 216600 | P22: 166000 | Q22: 23800 | R22: 669300 | S22: 570800 | T22: 5820 | U22: 180300 | V22: 161300 | W22: 7650 | X22: 191800 | Y22: 164200 | Z22: 10300 | AA22: 297400 | AB22: 243300 | AC22: 14500 | AD22: 268800 | AE22: 212300 | AF22: 6050 | AG22: 86900 | AH22: 70800 | AI22: 127500 | AJ22: 3955000 | AK22: 3140000 | AL22: 122200 | AM22: 3880000 | AN22: … | AO22: 5330 | AP22: 75400 | AQ22: … | AR22: 28500 | AS22: 391500 | AT22: 236200 | AU22: 27000 | AV22: 373500 | AW22: 220900 | AX22: 1520 | AY22: 18000 | AZ22: 15300 | BA22: 8530 | BB22: 166100 | BC22: 130000 | BD22: … | BE22: … | BF22: …
A23: 昭.63(1988) | B23: 63200 | C23: 2457000 | D23: 1789000 | E23: 6360 | F23: 260500 | G23: 224400 | H23: 10900 | I23: 311600 | J23: 267600 | K23: 45900 | L23: 1884000 | M23: 1297000 | N23: 7670 | O23: 212800 | P23: 161800 | Q23: 24500 | R23: 678600 | S23: 578800 | T23: 5900 | U23: 182000 | V23: 161600 | W23: 8180 | X23: 206900 | Y23: 179100 | Z23: 10500 | AA23: 290000 | AB23: 238200 | AC23: 14700 | AD23: 253100 | AE23: 199500 | AF23: 5690 | AG23: 85800 | AH23: 69900 | AI23: 124700 | AJ23: 3763000 | AK23: 2990000 | AL23: 119400 | AM23: 3689000 | AN23: … | AO23: 5200 | AP23: 74000 | AQ23: … | AR23: 28400 | AS23: 397300 | AT23: 238600 | AU23: 26700 | AV23: 375100 | AW23: 220000 | AX23: 1700 | AY23: 22100 | AZ23: 18600 | BA23: 8670 | BB23: 146700 | BC23: 113000 | BD23: … | BE23: … | BF23: …
A24: 平.元(1989) | B24: 62300 | C24: 2449000 | D24: 1794000 | E24: 6380 | F24: 268800 | G24: 232400 | H24: 11300 | I24: 329100 | J24: 282700 | K24: 44600 | L24: 1851000 | M24: 1279000 | N24: 7610 | O24: 210200 | P24: 160200 | Q24: 24000 | R24: 685200 | S24: 584900 | T24: 5800 | U24: 183500 | V24: 163800 | W24: 8210 | X24: 206100 | Y24: 177900 | Z24: 10000 | AA24: 295500 | AB24: 243100 | AC24: 15200 | AD24: 274300 | AE24: 219000 | AF24: 5960 | AG24: 84500 | AH24: 70300 | AI24: 119800 | AJ24: 3587000 | AK24: 2762000 | AL24: 114900 | AM24: 3514000 | AN24: … | AO24: 4840 | AP24: 72500 | AQ24: … | AR24: 26800 | AS24: 363600 | AT24: 213100 | AU24: 25100 | AV24: 341800 | AW24: 194500 | AX24: 1680 | AY24: 21800 | AZ24: 18600 | BA24: 8920 | BB24: 165600 | BC24: 127800 | BD24: … | BE24: … | BF24: …
A25: 平.2(1990) | B25: 60900 | C25: 2336000 | D25: 1721000 | E25: 6380 | F25: 270500 | G25: 234100 | H25: 11200 | I25: 328500 | J25: 284300 | K25: 43300 | L25: 1737000 | M25: 1203000 | N25: 7480 | O25: 209300 | P25: 160500 | Q25: 23500 | R25: 654600 | S25: 560200 | T25: 5650 | U25: 173000 | V25: 154600 | W25: 8300 | X25: 213400 | Y25: 185700 | Z25: 9590 | AA25: 268300 | AB25: 220000 | AC25: 14800 | AD25: 270300 | AE25: 216700 | AF25: 5860 | AG25: 87600 | AH25: 73500 | AI25: 115800 | AJ25: 3552000 | AK25: 2746000 | AL25: 111300 | AM25: 3478000 | AN25: … | AO25: 4530 | AP25: 73900 | AQ25: … | AR25: 26000 | AS25: 315300 | AT25: 185300 | AU25: 24400 | AV25: 294700 | AW25: 167800 | AX25: 1600 | AY25: 20600 | AZ25: 17400 | BA25: 9530 | BB25: 200900 | BC25: 157900 | BD25: … | BE25: … | BF25: …
A26: 平.3(1991) | B26: 59800 | C26: 2317000 | D26: 1722000 | E26: 6380 | F26: 270900 | G26: 234500 | H26: 11000 | I26: 327900 | J26: 287100 | K26: 42400 | L26: 1718000 | M26: 1200000 | N26: 7370 | O26: 200700 | P26: 153600 | Q26: 23900 | R26: 660200 | S26: 570300 | T26: 5650 | U26: 172700 | V26: 154600 | W26: 8670 | X26: 233400 | Y26: 207700 | Z26: 9610 | AA26: 254100 | AB26: 208000 | AC26: 14100 | AD26: 235500 | AE26: 187300 | AF26: 5840 | AG26: 76200 | AH26: 64700 | AI26: 111800 | AJ26: 3609000 | AK26: 2804000 | AL26: 107600 | AM26: 3550000 | AN26: … | AO26: 4240 | AP26: 59200 | AQ26: … | AR26: 25800 | AS26: 353400 | AT26: 210700 | AU26: 24200 | AV26: 332700 | AW26: 193000 | AX26: 1590 | AY26: 20700 | AZ26: 17700 | BA26: 9620 | BB26: 184900 | BC26: 143500 | BD26: … | BE26: … | BF26: …
A27: 平.4(1992) | B27: 58500 | C27: 2346000 | D27: 1744000 | E27: 6360 | F27: 275200 | G27: 239200 | H27: 11300 | I27: 338800 | J27: 294800 | K27: 40800 | L27: 1732000 | M27: 1210000 | N27: 7280 | O27: 197700 | P27: 150900 | Q27: 23600 | R27: 690300 | S27: 596400 | T27: 5670 | U27: 187100 | V27: 168300 | W27: 8410 | X27: 215500 | Y27: 188700 | Z27: 9490 | AA27: 287700 | AB27: 239400 | AC27: 14600 | AD27: 269200 | AE27: 217300 | AF27: 5740 | AG27: 75500 | AH27: 63200 | AI27: 111400 | AJ27: 3494000 | AK27: 2690000 | AL27: 107300 | AM27: 3427000 | AN27: 2652000 | AO27: 4170 | AP27: 67400 | AQ27: 38300 | AR27: 25000 | AS27: 304600 | AT27: 179500 | AU27: 23300 | AV27: 283500 | AW27: 161700 | AX27: 1700 | AY27: 21100 | AZ27: 17800 | BA27: 8780 | BB27: 165300 | BC27: 127600 | BD27: … | BE27: … | BF27: …
A28: 平.5(1993) | B28: 56600 | C28: 2224000 | D28: 1660000 | E28: 6210 | F28: 267900 | G28: 233100 | H28: 11200 | I28: 329100 | J28: 288900 | K28: 39200 | L28: 1627000 | M28: 1138000 | N28: 7170 | O28: 201900 | P28: 155800 | Q28: 23500 | R28: 709200 | S28: 615600 | T28: 5490 | U28: 184200 | V28: 165500 | W28: 8540 | X28: 232100 | Y28: 205400 | Z28: 9480 | AA28: 292900 | AB28: 244700 | AC28: 13700 | AD28: 237000 | AE28: 191900 | AF28: 5660 | AG28: 53200 | AH28: 43400 | AI28: 111200 | AJ28: 3390000 | AK28: 2664000 | AL28: 107200 | AM28: 3325000 | AN28: 2626000 | AO28: 4020 | AP28: 64200 | AQ28: 37800 | AR28: 24100 | AS28: 299000 | AT28: 174700 | AU28: 22400 | AV28: 279500 | AW28: 158600 | AX28: 1710 | AY28: 19600 | AZ28: 16200 | BA28: 8690 | BB28: 137300 | BC28: 104400 | BD28: … | BE28: … | BF28: …
A29: 平.6(1994) | B29: 54800 | C29: 2154000 | D29: 1610000 | E29: 6150 | F29: 272100 | G29: 236700 | H29: 11000 | I29: 325000 | J29: 286100 | K29: 37700 | L29: 1557000 | M29: 1087000 | N29: 7080 | O29: 200500 | P29: 155900 | Q29: 23100 | R29: 658300 | S29: 569300 | T29: 5360 | U29: 177700 | V29: 159000 | W29: 8330 | X29: 219500 | Y29: 192700 | Z29: 9440 | AA29: 261000 | AB29: 217600 | AC29: 13400 | AD29: 243800 | AE29: 199100 | AF29: 5460 | AG29: 86700 | AH29: 70200 | AI29: 108200 | AJ29: 3377000 | AK29: 2663000 | AL29: 104300 | AM29: 3328000 | AN29: 2637000 | AO29: 3860 | AP29: 48300 | AQ29: 26000 | AR29: 23200 | AS29: 238400 | AT29: 136800 | AU29: 21500 | AV29: 222700 | AW29: 124200 | AX29: 1640 | AY29: 15700 | AZ29: 12500 | BA29: 8680 | BB29: 180900 | BC29: 139800 | BD29: … | BE29: … | BF29: …
A30: 平.7(1995) | B30: 53300 | C30: 2148000 | D30: 1609000 | E30: 6070 | F30: 270300 | G30: 235500 | H30: 10700 | I30: 338000 | J30: 296600 | K30: 36500 | L30: 1540000 | M30: 1077000 | N30: 6870 | O30: 193300 | P30: 149600 | Q30: 24500 | R30: 724700 | S30: 630000 | T30: 5290 | U30: 171900 | V30: 154700 | W30: 9260 | X30: 257600 | Y30: 228600 | Z30: 9940 | AA30: 295200 | AB30: 246800 | AC30: 12800 | AD30: 231600 | AE30: 189600 | AF30: 5360 | AG30: 81000 | AH30: 65100 | AI30: 104400 | AJ30: 3365000 | AK30: 2618000 | AL30: 100700 | AM30: 3304000 | AN30: 2580000 | AO30: 3680 | AP30: 61000 | AQ30: 38000 | AR30: 22400 | AS30: 254300 | AT30: 147500 | AU30: 20900 | AV30: 238200 | AW30: 134300 | AX30: 1510 | AY30: 16200 | AZ30: 13200 | BA30: 8710 | BB30: 172200 | BC30: 135900 | BD30: … | BE30: … | BF30: …
A31: 平.8(1996) | B31: 51800 | C31: 2132000 | D31: 1592000 | E31: 5980 | F31: 261400 | G31: 227600 | H31: 10300 | I31: 330600 | J31: 286900 | K31: 35500 | L31: 1540000 | M31: 1077000 | N31: 6770 | O31: 195500 | P31: 151200 | Q31: 24300 | R31: 736200 | S31: 633800 | T31: 5150 | U31: 160900 | V31: 143800 | W31: 9200 | X31: 261500 | Y31: 228000 | Z31: 9980 | AA31: 313800 | AB31: 262000 | AC31: 13200 | AD31: 248200 | AE31: 200700 | AF31: 5210 | AG31: 69900 | AH31: 55400 | AI31: 103000 | AJ31: 3087000 | AK31: 2447000 | AL31: 99500 | AM31: 3028000 | AN31: 2412000 | AO31: 3550 | AP31: 58400 | AQ31: 35100 | AR31: 22000 | AS31: 254100 | AT31: 149400 | AU31: 20500 | AV31: 238500 | AW31: 136800 | AX31: 1470 | AY31: 15600 | AZ31: 12600 | BA31: 8750 | BB31: 170200 | BC31: 133300 | BD31: … | BE31: … | BF31: …
A32: 平.9(1997) | B32: 49800 | C32: 2020000 | D32: 1487000 | E32: 5900 | F32: 264900 | G32: 229600 | H32: 9950 | I32: 312900 | J32: 272100 | K32: 33900 | L32: 1442000 | M32: 985300 | N32: 6690 | O32: 195200 | P32: 151200 | Q32: 23200 | R32: 716100 | S32: 615800 | T32: 5110 | U32: 174700 | V32: 156200 | W32: 8650 | X32: 242300 | Y32: 211600 | Z32: 9430 | AA32: 299100 | AB32: 247900 | AC32: 12100 | AD32: 227200 | AE32: 183900 | AF32: 4920 | AG32: 68100 | AH32: 53300 | AI32: 103000 | AJ32: 3395000 | AK32: 2736000 | AL32: 99500 | AM32: 3344000 | AN32: 2706000 | AO32: 3480 | AP32: 51300 | AQ32: 30000 | AR32: 21400 | AS32: 270000 | AT32: 163900 | AU32: 21100 | AV32: 266800 | AW32: 161300 | AX32: 257 | AY32: 3230 | AZ32: 2620 | BA32: 8740 | BB32: 183400 | BC32: 142000 | BD32: … | BE32: … | BF32: …
A33: 平.10(1998) | B33: 48500 | C33: 1902000 | D33: 1434000 | E33: 5830 | F33: 256200 | G33: 222800 | H33: 9710 | I33: 307800 | J33: 270600 | K33: 33000 | L33: 1338000 | M33: 940400 | N33: 6660 | O33: 190700 | P33: 147500 | Q33: 22400 | R33: 648100 | S33: 561100 | T33: 4950 | U33: 158700 | V33: 141800 | W33: 8100 | X33: 222000 | Y33: 196100 | Z33: 9310 | AA33: 267300 | AB33: 223200 | AC33: 11700 | AD33: 188400 | AE33: 151400 | AF33: 4900 | AG33: 71900 | AH33: 55200 | AI33: 99900 | AJ33: 3073000 | AK33: 2428000 | AL33: 96500 | AM33: 3024000 | AN33: 2399000 | AO33: 3450 | AP33: 48900 | AQ33: 29600 | AR33: 20800 | AS33: 258400 | AT33: 153200 | AU33: 20500 | AV33: 255400 | AW33: 150800 | AX33: 245 | AY33: 2980 | AZ33: 2410 | BA33: 8910 | BB33: 176900 | BC33: 137600 | BD33: … | BE33: … | BF33: …
A34: 平.11(1999) | B34: 47700 | C34: 1948000 | D34: 1466000 | E34: 5750 | F34: 264500 | G34: 230900 | H34: 9710 | I34: 298700 | J34: 262600 | K34: 32200 | L34: 1385000 | M34: 972900 | N34: 6530 | O34: 179100 | P34: 137900 | Q34: 22600 | R34: 676700 | S34: 588500 | T34: 4840 | U34: 160500 | V34: 144400 | W34: 8370 | X34: 227000 | Y34: 200900 | Z34: 9360 | AA34: 289300 | AB34: 243200 | AC34: 11400 | AD34: 203800 | AE34: 164900 | AF34: 4790 | AG34: 75200 | AH34: 58100 | AI34: 97700 | AJ34: 2963000 | AK34: 2369000 | AL34: 94200 | AM34: 2916000 | AN34: 2341000 | AO34: 3440 | AP34: 46500 | AQ34: 28300 | AR34: 20000 | AS34: 247700 | AT34: 148100 | AU34: 19700 | AV34: 245200 | AW34: 146100 | AX34: 219 | AY34: 2510 | AZ34: 2020 | BA34: 8880 | BB34: 193100 | BC34: 150600 | BD34: … | BE34: … | BF34: …
A35: 平.12(2000) | B35: 45700 | C35: 1876000 | D35: 1419000 | E35: 5560 | F35: 260800 | G35: 227400 | H35: 9340 | I35: 300800 | J35: 265700 | K35: 30800 | L35: 1314000 | M35: 925400 | N35: 6470 | O35: 187200 | P35: 145400 | Q35: 22300 | R35: 681700 | S35: 593000 | T35: 4720 | U35: 172900 | V35: 154500 | W35: 8280 | X35: 225100 | Y35: 198600 | Z35: 9330 | AA35: 283700 | AB35: 239900 | AC35: 10700 | AD35: 189900 | AE35: 153900 | AF35: 4660 | AG35: 75500 | AH35: 58900 | AI35: 94600 | AJ35: 2898000 | AK35: 2312000 | AL35: 91300 | AM35: 2844000 | AN35: 2278000 | AO35: 3310 | AP35: 54500 | AQ35: 34600 | AR35: 18800 | AS35: 230500 | AT35: 138300 | AU35: 18600 | AV35: 228400 | AW35: 136600 | AX35: 187 | AY35: 2130 | AZ35: 1720 | BA35: 8880 | BB35: 201200 | BC35: 156300 | BD35: … | BE35: … | BF35: …
A36: 平.13(2001) | B36: 44100 | C36: 1868000 | D36: 1413000 | E36: 5550 | F36: 262600 | G36: 229000 | H36: 9040 | I36: 300900 | J36: 263600 | K36: 29500 | L36: 1305000 | M36: 920500 | N36: 6270 | O36: 182200 | P36: 142100 | Q36: 21700 | R36: 691300 | S36: 603600 | T36: 4640 | U36: 164700 | V36: 147200 | W36: 7730 | X36: 224500 | Y36: 199000 | Z36: 9300 | AA36: 302200 | AB36: 257300 | AC36: 10100 | AD36: 177900 | AE36: 143600 | AF36: 4560 | AG36: 75300 | AH36: 58800 | AI36: 92900 | AJ36: 2959000 | AK36: 2385000 | AL36: 89600 | AM36: 2902000 | AN36: 2349000 | AO36: 3210 | AP36: 56600 | AQ36: 36300 | AR36: 17800 | AS36: 217800 | AT36: 129200 | AU36: 17700 | AV36: 215800 | AW36: 127600 | AX36: 165 | AY36: 1990 | AZ36: 1630 | BA36: 8770 | BB36: 182400 | BC36: 142000 | BD36: … | BE36: … | BF36: …
A37: 平.14(2002) | B37: 42500 | C37: 1780000 | D37: 1361000 | E37: 5350 | F37: 257400 | G37: 225000 | H37: 8710 | I37: 296000 | J37: 261200 | K37: 28500 | L37: 1227000 | M37: 874800 | N37: 6180 | O37: 183600 | P37: 144800 | Q37: 20500 | R37: 643700 | S37: 561700 | T37: 4540 | U37: 164900 | V37: 147400 | W37: 6900 | X37: 194100 | Y37: 172200 | Z37: 9050 | AA37: 284700 | AB37: 242100 | AC37: 9660 | AD37: 166500 | AE37: 134500 | AF37: 4490 | AG37: 72800 | AH37: 56900 | AI37: 92100 | AJ37: 3074000 | AK37: 2498000 | AL37: 89100 | AM37: 3018000 | AN37: 2459000 | AO37: 3060 | AP37: 55600 | AQ37: 38400 | AR37: 17100 | AS37: 208900 | AT37: 123400 | AU37: 17000 | AV37: 208200 | AW37: 122900 | AX37: 77 | AY37: 675 | AZ37: 522 | BA37: 8810 | BB37: 181700 | BC37: 143700 | BD37: … | BE37: … | BF37: …
A38: 平.15(2003) | B38: 41500 | C38: 1752000 | D38: 1334000 | E38: 5270 | F38: 249200 | G38: 218600 | H38: 8530 | I38: 295400 | J38: 261600 | K38: 27700 | L38: 1208000 | M38: 854000 | N38: 6120 | O38: 179100 | P38: 140600 | Q38: 20300 | R38: 658900 | S38: 576400 | T38: 4380 | U38: 155700 | V38: 139500 | W38: 7110 | X38: 213600 | Y38: 190600 | Z38: 8800 | AA38: 289500 | AB38: 246300 | AC38: 9760 | AD38: 171000 | AE38: 139300 | AF38: 4380 | AG38: 60200 | AH38: 48300 | AI38: 88300 | AJ38: 2939000 | AK38: 2401000 | AL38: 85300 | AM38: 2896000 | AN38: 2374000 | AO38: 3000 | AP38: 43000 | AQ38: 27900 | AR38: 16400 | AS38: 209400 | AT38: 124800 | AU38: 16300 | AV38: 209000 | AW38: 124500 | AX38: 54 | AY38: 456 | AZ38: 346 | BA38: 8870 | BB38: 177300 | BC38: 137200 | BD38: … | BE38: … | BF38: …
A39: 平.16(2004) | B39: 40000 | C39: 1620000 | D39: 1241000 | E39: 5150 | F39: 249500 | G39: 218900 | H39: 8030 | I39: 278000 | J39: 245500 | K39: 26800 | L39: 1092000 | M39: 776800 | N39: 5710 | O39: 167800 | P39: 132200 | Q39: 19500 | R39: 615700 | S39: 532600 | T39: 4360 | U39: 157100 | V39: 140800 | W39: 6680 | X39: 216400 | Y39: 188100 | Z39: 8490 | AA39: 242100 | AB39: 203700 | AC39: 9240 | AD39: 171500 | AE39: 140800 | AF39: 4210 | AG39: 60700 | AH39: 49100 | AI39: 87200 | AJ39: 2888000 | AK39: 2357000 | AL39: 84200 | AM39: 2842000 | AN39: 2326000 | AO39: 2960 | AP39: 45500 | AQ39: 31100 | AR39: 15800 | AS39: 184800 | AT39: 110100 | AU39: 15700 | AV39: 184500 | AW39: 109900 | AX39: 47 | AY39: 338 | AZ39: 227 | BA39: 8640 | BB39: 197900 | BC39: 159200 | BD39: … | BE39: … | BF39: …
A40: 平.17(2005) | B40: 39100 | C40: 1627000 | D40: 1248000 | E40: 4970 | F40: 239600 | G40: 210200 | H40: 7950 | I40: 275800 | J40: 243400 | K40: 26100 | L40: 1112000 | M40: 794400 | N40: 5470 | O40: 153200 | P40: 120800 | Q40: 19000 | R40: 614900 | S40: 539700 | T40: 4240 | U40: 148900 | V40: 133600 | W40: 6400 | X40: 205100 | Y40: 184600 | Z40: 8350 | AA40: 261000 | AB40: 221500 | AC40: 8780 | AD40: 161700 | AE40: 132900 | AF40: 4170 | AG40: 64200 | AH40: 51300 | AI40: 86900 | AJ40: 2752000 | AK40: 2242000 | AL40: 84000 | AM40: 2712000 | AN40: 2215000 | AO40: 2890 | AP40: 40600 | AQ40: 26800 | AR40: 15000 | AS40: 184500 | AT40: 108500 | AU40: 14900 | AV40: 184200 | AW40: 108300 | AX40: … | AY40: … | AZ40: … | BA40: 8750 | BB40: 204100 | BC40: 163700 | BD40: … | BE40: … | BF40: …
...

Sheet 全国（葉茎菜類）
A1: 野菜生産出荷統計
A2: 品目別（季節区分別）作付面積、収穫量及び出荷量累年統計
A3: 葉茎菜類
A4: 全国
A5: 年次 | B5: はくさい | E5: 春はくさい | H5: 夏はくさい | K5: 秋冬はくさい | N5: こまつな | Q5: キャベツ | T5: 春キャベツ | W5: 夏秋キャベツ | Z5: 冬キャベツ | AC5: ちんげんさい | AF5: ほうれんそう | AI5: 冬春ほうれんそう | AL5: 夏ほうれんそう | AO5: その他ほうれんそう | AR5: ふき | AU5: みつば | AX5: しゅんぎく | BA5: みずな | BD5: セルリー | BG5: アスパラガス | BJ5: カリフラワー | BM5: ブロッコリー | BP5: レタス | BS5: レタスのうちサラダ菜 | BV5: 春レタス | BY5: 春レタスのうちサラダ菜 | CB5: 夏秋レタス | CE5: 夏秋レタスのうちサラダ菜 | CH5: 冬レタス | CK5: 冬レタスのうちサラダ菜 | CN5: ねぎ | CQ5: 春ねぎ | CT5: 夏ねぎ | CW5: 秋冬ねぎ | CZ5: その他ねぎ | DC5: にら | DF5: たまねぎ | DI5: にんにく
B6: 作付面積 | C6: 収穫量 | D6: 出荷量 | E6: 作付面積 | F6: 収穫量 | G6: 出荷量 | H6: 作付面積 | I6: 収穫量 | J6: 出荷量 | K6: 作付面積 | L6: 収穫量 | M6: 出荷量 | N6: 作付面積 | O6: 収穫量 | P6: 出荷量 | Q6: 作付面積 | R6: 収穫量 | S6: 出荷量 | T6: 作付面積 | U6: 収穫量 | V6: 出荷量 | W6: 作付面積 | X6: 収穫量 | Y6: 出荷量 | Z6: 作付面積 | AA6: 収穫量 | AB6: 出荷量 | AC6: 作付面積 | AD6: 収穫量 | AE6: 出荷量 | AF6: 作付面積 | AG6: 収穫量 | AH6: 出荷量 | AI6: 作付面積 | AJ6: 収穫量 | AK6: 出荷量 | AL6: 作付面積 | AM6: 収穫量 | AN6: 出荷量 | AO6: 作付面積 | AP6: 収穫量 | AQ6: 出荷量 | AR6: 作付面積 | AS6: 収穫量 | AT6: 出荷量 | AU6: 作付面積 | AV6: 収穫量 | AW6: 出荷量 | AX6: 作付面積 | AY6: 収穫量 | AZ6: 出荷量 | BA6: 作付面積 | BB6: 収穫量 | BC6: 出荷量 | BD6: 作付面積 | BE6: 収穫量 | BF6: 出荷量 | BG6: 作付面積 | BH6: 収穫量 | BI6: 出荷量 | BJ6: 作付面積 | BK6: 収穫量 | BL6: 出荷量 | BM6: 作付面積 | BN6: 収穫量 | BO6: 出荷量 | BP6: 作付面積 | BQ6: 収穫量 | BR6: 出荷量 | BS6: 作付面積 | BT6: 収穫量 | BU6: 出荷量 | BV6: 作付面積 | BW6: 収穫量 | BX6: 出荷量 | BY6: 作付面積 | BZ6: 収穫量 | CA6: 出荷量 | CB6: 作付面積 | CC6: 収穫量 | CD6: 出荷量 | CE6: 作付面積 | CF6: 収穫量 | CG6: 出荷量 | CH6: 作付面積 | CI6: 収穫量 | CJ6: 出荷量 | CK6: 作付面積 | CL6: 収穫量 | CM6: 出荷量 | CN6: 作付面積 | CO6: 収穫量 | CP6: 出荷量 | CQ6: 作付面積 | CR6: 収穫量 | CS6: 出荷量 | CT6: 作付面積 | CU6: 収穫量 | CV6: 出荷量 | CW6: 作付面積 | CX6: 収穫量 | CY6: 出荷量 | CZ6: 作付面積 | DA6: 収穫量 | DB6: 出荷量 | DC6: 作付面積 | DD6: 収穫量 | DE6: 出荷量 | DF6: 作付面積 | DG6: 収穫量 | DH6: 出荷量 | DI6: 作付面積 | DJ6: 収穫量 | DK6: 出荷量
B7: ha | C7: t | D7: t | E7: ha | F7: t | G7: t | H7: ha | I7: t | J7: t | K7: ha | L7: t | M7: t | N7: ha | O7: t | P7: t | Q7: ha | R7: t | S7: t | T7: ha | U7: t | V7: t | W7: ha | X7: t | Y7: t | Z7: ha | AA7: t | AB7: t | AC7: ha | AD7: t | AE7: t | AF7: ha | AG7: t | AH7: t | AI7: ha | AJ7: t | AK7: t | AL7: ha | AM7: t | AN7: t | AO7: ha | AP7: t | AQ7: t | AR7: ha | AS7: t | AT7: t | AU7: ha | AV7: t | AW7: t | AX7: ha | AY7: t | AZ7: t | BA7: ha | BB7: t | BC7: t | BD7: ha | BE7: t | BF7: t | BG7: ha | BH7: t | BI7: t | BJ7: ha | BK7: t | BL7: t | BM7: ha | BN7: t | BO7: t | BP7: ha | BQ7: t | BR7: t | BS7: ha | BT7: t | BU7: t | BV7: ha | BW7: t | BX7: t | BY7: ha | BZ7: t | CA7: t | CB7: ha | CC7: t | CD7: t | CE7: ha | CF7: t | CG7: t | CH7: ha | CI7: t | CJ7: t | CK7: ha | CL7: t | CM7: t | CN7: ha | CO7: t | CP7: t | CQ7: ha | CR7: t | CS7: t | CT7: ha | CU7: t | CV7: t | CW7: ha | CX7: t | CY7: t | CZ7: ha | DA7: t | DB7: t | DC7: ha | DD7: t | DE7: t | DF7: ha | DG7: t | DH7: t | DI7: ha | DJ7: t | DK7: t
A8: 昭.48(1973) | B8: 45200 | C8: 1779000 | D8: 1285000 | E8: 1910 | F8: 66500 | G8: 55700 | H8: 4140 | I8: 200900 | J8: 180900 | K8: 39200 | L8: 1511000 | M8: 1048000 | N8: … | O8: … | P8: … | Q8: 42000 | R8: 1386000 | S8: 1109000 | T8: 12800 | U8: 410400 | V8: 306800 | W8: 12600 | X8: 446200 | Y8: 367000 | Z8: 16600 | AA8: 529900 | AB8: 435200 | AC8: … | AD8: … | AE8: … | AF8: 22900 | AG8: 343700 | AH8: 243300 | AI8: 22600 | AJ8: 339800 | AK8: 240500 | AL8: … | AM8: … | AN8: … | AO8: 340 | AP8: 4030 | AQ8: 2770 | AR8: … | AS8: … | AT8: … | AU8: … | AV8: … | AW8: … | AX8: … | AY8: … | AZ8: … | BA8: … | BB8: … | BC8: … | BD8: 643 | BE8: 28600 | BF8: 27000 | BG8: … | BH8: … | BI8: … | BJ8: 3580 | BK8: 64000 | BL8: 55500 | BM8: … | BN8: … | BO8: … | BP8: 11900 | BQ8: 225900 | BR8: 209500 | BS8: … | BT8: … | BU8: … | BV8: 2250 | BW8: 42600 | BX8: 38000 | BY8: … | BZ8: … | CA8: … | CB8: 5020 | CC8: 112600 | CD8: 106500 | CE8: … | CF8: … | CG8: … | CH8: 4600 | CI8: 70800 | CJ8: 65000 | CK8: … | CL8: … | CM8: … | CN8: 25300 | CO8: 566300 | CP8: 384000 | CQ8: … | CR8: … | CS8: … | CT8: … | CU8: … | CV8: … | CW8: 21200 | CX8: 471200 | CY8: 308000 | CZ8: 4110 | DA8: 95200 | DB8: 76000 | DC8: … | DD8: … | DE8: … | DF8: 29000 | DG8: 993900 | DH8: 777500 | DI8: … | DJ8: … | DK8: …
A9: 昭.49(1974) | B9: 42900 | C9: 1712000 | D9: 1231000 | E9: 1930 | F9: 73000 | G9: 61100 | H9: 3970 | I9: 187300 | J9: 167400 | K9: 37000 | L9: 1451000 | M9: 1002000 | N9: … | O9: … | P9: … | Q9: 41700 | R9: 1433000 | S9: 1158000 | T9: 12800 | U9: 395500 | V9: 298200 | W9: 12500 | X9: 458800 | Y9: 377000 | Z9: 16300 | AA9: 578500 | AB9: 482800 | AC9: … | AD9: … | AE9: … | AF9: 22600 | AG9: 334900 | AH9: 239000 | AI9: 22200 | AJ9: 330400 | AK9: 235700 | AL9: … | AM9: … | AN9: … | AO9: 346 | AP9: 4460 | AQ9: 3290 | AR9: … | AS9: … | AT9: … | AU9: … | AV9: … | AW9: … | AX9: … | AY9: … | AZ9: … | BA9: … | BB9: … | BC9: … | BD9: 706 | BE9: 32100 | BF9: 30800 | BG9: … | BH9: … | BI9: … | BJ9: 3590 | BK9: 67500 | BL9: 59300 | BM9: … | BN9: … | BO9: … | BP9: 12600 | BQ9: 246100 | BR9: 227300 | BS9: … | BT9: … | BU9: … | BV9: 2460 | BW9: 46100 | BX9: 41300 | BY9: … | BZ9: … | CA9: … | CB9: 5270 | CC9: 113700 | CD9: 106100 | CE9: … | CF9: … | CG9: … | CH9: 4820 | CI9: 86300 | CJ9: 80000 | CK9: … | CL9: … | CM9: … | CN9: 24500 | CO9: 554500 | CP9: 372700 | CQ9: … | CR9: … | CS9: … | CT9: … | CU9: … | CV9: … | CW9: 20600 | CX9: 464300 | CY9: 300300 | CZ9: 3910 | DA9: 90300 | DB9: 72400 | DC9: … | DD9: … | DE9: … | DF9: 29500 | DG9: 1031000 | DH9: 815600 | DI9: … | DJ9: … | DK9: …
A10: 昭.50(1975) | B10: 41900 | C10: 1607000 | D10: 1178000 | E10: 1840 | F10: 72600 | G10: 62600 | H10: 4180 | I10: 204100 | J10: 182700 | K10: 35900 | L10: 1330000 | M10: 932700 | N10: … | O10: … | P10: … | Q10: 41100 | R10: 1423000 | S10: 1154000 | T10: 12800 | U10: 435200 | V10: 334400 | W10: 12700 | X10: 484900 | Y10: 402500 | Z10: 15600 | AA10: 502700 | AB10: 417300 | AC10: … | AD10: … | AE10: … | AF10: 22400 | AG10: 345900 | AH10: 250500 | AI10: 22000 | AJ10: 341700 | AK10: 247200 | AL10: … | AM10: … | AN10: … | AO10: 339 | AP10: 4290 | AQ10: 3310 | AR10: … | AS10: … | AT10: … | AU10: … | AV10: … | AW10: … | AX10: … | AY10: … | AZ10: … | BA10: … | BB10: … | BC10: … | BD10: 727 | BE10: 32200 | BF10: 30900 | BG10: … | BH10: … | BI10: … | BJ10: 3890 | BK10: 72000 | BL10: 62900 | BM10: … | BN10: … | BO10: … | BP10: 13100 | BQ10: 258400 | BR10: 239200 | BS10: … | BT10: … | BU10: … | BV10: 2490 | BW10: 48400 | BX10: 43300 | BY10: … | BZ10: … | CA10: … | CB10: 5780 | CC10: 128000 | CD10: 120200 | CE10: … | CF10: … | CG10: … | CH10: 4850 | CI10: 82000 | CJ10: 75700 | CK10: … | CL10: … | CM10: … | CN10: 24400 | CO10: 554600 | CP10: 382800 | CQ10: … | CR10: … | CS10: … | CT10: … | CU10: … | CV10: … | CW10: 20400 | CX10: 460600 | CY10: 304400 | CZ10: 3930 | DA10: 94100 | DB10: 78400 | DC10: … | DD10: … | DE10: … | DF10: 29900 | DG10: 1032000 | DH10: 821600 | DI10: … | DJ10: … | DK10: …
A11: 昭.51(1976) | B11: 41500 | C11: 1668000 | D11: 1245000 | E11: 1870 | F11: 76800 | G11: 67300 | H11: 4270 | I11: 219800 | J11: 200200 | K11: 35300 | L11: 1372000 | M11: 977200 | N11: … | O11: … | P11: … | Q11: 41500 | R11: 1468000 | S11: 1207000 | T11: 12200 | U11: 397000 | V11: 306100 | W11: 12000 | X11: 466800 | Y11: 393000 | Z11: 17200 | AA11: 604600 | AB11: 508200 | AC11: … | AD11: … | AE11: … | AF11: 22100 | AG11: 331300 | AH11: 239100 | AI11: 21800 | AJ11: 327300 | AK11: 236100 | AL11: … | AM11: … | AN11: … | AO11: 323 | AP11: 40101 | AQ11: 3040 | AR11: … | AS11: … | AT11: … | AU11: … | AV11: … | AW11: … | AX11: … | AY11: … | AZ11: … | BA11: … | BB11: … | BC11: … | BD11: 781 | BE11: 36600 | BF11: 35100 | BG11: … | BH11: … | BI11: … | BJ11: 4240 | BK11: 75500 | BL11: 66100 | BM11: … | BN11: … | BO11: … | BP11: 14400 | BQ11: 281800 | BR11: 261900 | BS11: … | BT11: … | BU11: … | BV11: 2510 | BW11: 49500 | BX11: 44800 | BY11: … | BZ11: … | CA11: … | CB11: 6440 | CC11: 139200 | CD11: 131300 | CE11: … | CF11: … | CG11: … | CH11: 5430 | CI11: 93100 | CJ11: 85800 | CK11: … | CL11: … | CM11: … | CN11: 23900 | CO11: 537100 | CP11: 371400 | CQ11: … | CR11: … | CS11: … | CT11: 2810 | CU11: 60800 | CV11: 50500 | CW11: 19900 | CX11: 441500 | CY11: 291900 | CZ11: 1240 | DA11: 34800 | DB11: 29000 | DC11: … | DD11: … | DE11: … | DF11: 28600 | DG11: 1123000 | DH11: 922200 | DI11: … | DJ11: … | DK11: …
A12: 昭.52(1977) | B12: 40500 | C12: 1743000 | D12: 1293000 | E12: 1890 | F12: 81100 | G12: 72300 | H12: 4390 | I12: 236500 | J12: 216600 | K12: 34200 | L12: 1426000 | M12: 1005000 | N12: … | O12: … | P12: … | Q12: 41600 | R12: 1532000 | S12: 1263000 | T12: 12400 | U12: 419100 | V12: 323800 | W12: 11800 | X12: 449200 | Y12: 378900 | Z12: 17300 | AA12: 663700 | AB12: 560300 | AC12: … | AD12: … | AE12: … | AF12: 22600 | AG12: 351700 | AH12: 259600 | AI12: 22300 | AJ12: 347800 | AK12: 256400 | AL12: … | AM12: … | AN12: … | AO12: 319 | AP12: 3910 | AQ12: 3180 | AR12: … | AS12: … | AT12: … | AU12: … | AV12: … | AW12: … | AX12: … | AY12: … | AZ12: … | BA12: … | BB12: … | BC12: … | BD12: 806 | BE12: 38500 | BF12: 36700 | BG12: … | BH12: … | BI12: … | BJ12: 4730 | BK12: 89700 | BL12: 79100 | BM12: … | BN12: … | BO12: … | BP12: 15400 | BQ12: 322800 | BR12: 300100 | BS12: … | BT12: … | BU12: … | BV12: 2590 | BW12: 53000 | BX12: 48500 | BY12: … | BZ12: … | CA12: … | CB12: 6880 | CC12: 156400 | CD12: 147600 | CE12: … | CF12: … | CG12: … | CH12: 5960 | CI12: 113400 | CJ12: 104000 | CK12: … | CL12: … | CM12: … | CN12: 24000 | CO12: 554100 | CP12: 388400 | CQ12: … | CR12: … | CS12: … | CT12: 2910 | CU12: 64800 | CV12: 54900 | CW12: 19800 | CX12: 451600 | CY12: 302600 | CZ12: 1430 | DA12: 37700 | DB12: 30800 | DC12: … | DD12: … | DE12: … | DF12: 29500 | DG12: 1121000 | DH12: 908000 | DI12: … | DJ12: … | DK12: …
A13: 昭.53(1978) | B13: 39900 | C13: 1731000 | D13: 1284000 | E13: 1860 | F13: 81300 | G13: 73600 | H13: 4600 | I13: 233000 | J13: 213000 | K13: 33500 | L13: 1417000 | M13: 997500 | N13: … | O13: … | P13: … | Q13: 41600 | R13: 1505000 | S13: 1244000 | T13: 12000 | U13: 382800 | V13: 292900 | W13: 12100 | X13: 440200 | Y13: 372500 | Z13: 17400 | AA13: 681700 | AB13: 578800 | AC13: … | AD13: … | AE13: … | AF13: 23100 | AG13: 373000 | AH13: 278200 | AI13: 22700 | AJ13: 368600 | AK13: 274800 | AL13: … | AM13: … | AN13: … | AO13: 409 | AP13: 4350 | AQ13: 3380 | AR13: … | AS13: … | AT13: … | AU13: … | AV13: … | AW13: … | AX13: … | AY13: … | AZ13: … | BA13: … | BB13: … | BC13: … | BD13: 869 | BE13: 41400 | BF13: 39300 | BG13: … | BH13: … | BI13: … | BJ13: 5230 | BK13: 98000 | BL13: 85600 | BM13: … | BN13: … | BO13: … | BP13: 15900 | BQ13: 337500 | BR13: 313800 | BS13: … | BT13: … | BU13: … | BV13: 2630 | BW13: 54800 | BX13: 49900 | BY13: … | BZ13: … | CA13: … | CB13: 7260 | CC13: 160400 | CD13: 152100 | CE13: … | CF13: … | CG13: … | CH13: 6010 | CI13: 122300 | CJ13: 111900 | CK13: … | CL13: … | CM13: … | CN13: 24200 | CO13: 564500 | CP13: 397500 | CQ13: … | CR13: … | CS13: … | CT13: 3110 | CU13: 67500 | CV13: 57300 | CW13: 19800 | CX13: 459300 | CY13: 308100 | CZ13: 1320 | DA13: 37700 | DB13: 32100 | DC13: … | DD13: … | DE13: … | DF13: 30200 | DG13: 1114000 | DH13: 890600 | DI13: … | DJ13: … | DK13: …
A14: 昭.54(1979) | B14: 37500 | C14: 1411000 | D14: 1038000 | E14: 1870 | F14: 83400 | G14: 75200 | H14: 4550 | I14: 237900 | J14: 218000 | K14: 31000 | L14: 1090000 | M14: 744600 | N14: … | O14: … | P14: … | Q14: 42300 | R14: 1545000 | S14: 1286000 | T14: 12500 | U14: 439100 | V14: 343000 | W14: 12700 | X14: 507000 | Y14: 435600 | Z14: 17200 | AA14: 599300 | AB14: 507000 | AC14: … | AD14: … | AE14: … | AF14: 23400 | AG14: 376600 | AH14: 283300 | AI14: 23000 | AJ14: 371900 | AK14: 279500 | AL14: … | AM14: … | AN14: … | AO14: 418 | AP14: 4640 | AQ14: 3840 | AR14: … | AS14: … | AT14: … | AU14: … | AV14: … | AW14: … | AX14: … | AY14: … | AZ14: … | BA14: … | BB14: … | BC14: … | BD14: 913 | BE14: 44400 | BF14: 42500 | BG14: … | BH14: … | BI14: … | BJ14: 5360 | BK14: 84900 | BL14: 73400 | BM14: … | BN14: … | BO14: … | BP14: 16900 | BQ14: 347600 | BR14: 324700 | BS14: … | BT14: … | BU14: … | BV14: 2840 | BW14: 62200 | BX14: 57100 | BY14: … | BZ14: … | CA14: … | CB14: 8070 | CC14: 185200 | CD14: 176300 | CE14: … | CF14: … | CG14: … | CH14: 5950 | CI14: 100100 | CJ14: 91400 | CK14: … | CL14: … | CM14: … | CN14: 24000 | CO14: 549600 | CP14: 385000 | CQ14: … | CR14: … | CS14: … | CT14: 3360 | CU14: 75800 | CV14: 64700 | CW14: 19300 | CX14: 435200 | CY14: 287200 | CZ14: 1360 | DA14: 38700 | DB14: 33100 | DC14: … | DD14: … | DE14: … | DF14: 29600 | DG14: 1254000 | DH14: 1013000 | DI14: … | DJ14: … | DK14: …
A15: 昭.55(1980) | B15: 38500 | C15: 1616000 | D15: 1199000 | E15: 2090 | F15: 93200 | G15: 84400 | H15: 4540 | I15: 234000 | J15: 212800 | K15: 31800 | L15: 1289000 | M15: 902100 | N15: … | O15: … | P15: … | Q15: 42600 | R15: 1545000 | S15: 1302000 | T15: 12400 | U15: 425900 | V15: 340600 | W15: 12800 | X15: 480600 | Y15: 413800 | Z15: 17400 | AA15: 637600 | AB15: 547900 | AC15: … | AD15: … | AE15: … | AF15: 23800 | AG15: 352100 | AH15: 263600 | AI15: 23300 | AJ15: 346100 | AK15: 258800 | AL15: … | AM15: … | AN15: … | AO15: 547 | AP15: 6000 | AQ15: 4770 | AR15: … | AS15: … | AT15: … | AU15: … | AV15: … | AW15: … | AX15: … | AY15: … | AZ15: … | BA15: … | BB15: … | BC15: … | BD15: 1040 | BE15: 49400 | BF15: 47200 | BG15: … | BH15: … | BI15: … | BJ15: 5750 | BK15: 89500 | BL15: 77300 | BM15: … | BN15: … | BO15: … | BP15: 18400 | BQ15: 381300 | BR15: 356600 | BS15: … | BT15: … | BU15: … | BV15: 3030 | BW15: 65100 | BX15: 59500 | BY15: … | BZ15: … | CA15: … | CB15: 8800 | CC15: 195200 | CD15: 186200 | CE15: … | CF15: … | CG15: … | CH15: 6550 | CI15: 120900 | CJ15: 110900 | CK15: … | CL15: … | CM15: … | CN15: 23800 | CO15: 538900 | CP15: 379200 | CQ15: … | CR15: … | CS15: … | CT15: 3380 | CU15: 75700 | CV15: 64500 | CW15: 19000 | CX15: 424200 | CY15: 282100 | CZ15: 1410 | DA15: 39100 | DB15: 32600 | DC15: … | DD15: … | DE15: … | DF15: 28200 | DG15: 1152000 | DH15: 955600 | DI15: … | DJ15: … | DK15: …
A16: 昭.56(1981) | B16: 38000 | C16: 1637000 | D16: 1212000 | E16: 2180 | F16: 97300 | G16: 88800 | H16: 4490 | I16: 236300 | J16: 212600 | K16: 31300 | L16: 1304000 | M16: 910500 | N16: … | O16: … | P16: … | Q16: 43300 | R16: 1624000 | S16: 1365000 | T16: 12400 | U16: 433400 | V16: 350500 | W16: 13000 | X16: 501400 | Y16: 429300 | Z16: 17800 | AA16: 688700 | AB16: 585100 | AC16: … | AD16: … | AE16: … | AF16: 24600 | AG16: 369200 | AH16: 281700 | AI16: 24000 | AJ16: 362800 | AK16: 276500 | AL16: … | AM16: … | AN16: … | AO16: 597 | AP16: 6290 | AQ16: 5180 | AR16: … | AS16: … | AT16: … | AU16: … | AV16: … | AW16: … | AX16: … | AY16: … | AZ16: … | BA16: … | BB16: … | BC16: … | BD16: 1020 | BE16: 48400 | BF16: 45700 | BG16: … | BH16: … | BI16: … | BJ16: 6160 | BK16: 104900 | BL16: 91100 | BM16: … | BN16: … | BO16: … | BP16: 19000 | BQ16: 411600 | BR16: 384100 | BS16: … | BT16: … | BU16: … | BV16: 3240 | BW16: 70500 | BX16: 63900 | BY16: … | BZ16: … | CA16: … | CB16: 8710 | CC16: 197600 | CD16: 188200 | CE16: … | CF16: … | CG16: … | CH16: 7050 | CI16: 143500 | CJ16: 132000 | CK16: … | CL16: … | CM16: … | CN16: 24100 | CO16: 568300 | CP16: 401800 | CQ16: … | CR16: … | CS16: … | CT16: 3560 | CU16: 78900 | CV16: 66600 | CW16: 19100 | CX16: 446700 | CY16: 299500 | CZ16: 1480 | DA16: 42500 | DB16: 35600 | DC16: … | DD16: … | DE16: … | DF16: 28100 | DG16: 1042000 | DH16: 853100 | DI16: … | DJ16: … | DK16: …
A17: 昭.57(1982) | B17: 37000 | C17: 1638000 | D17: 1186000 | E17: 2100 | F17: 97900 | G17: 88700 | H17: 4430 | I17: 222100 | J17: 198800 | K17: 30400 | L17: 1319000 | M17: 898500 | N17: … | O17: … | P17: … | Q17: 42800 | R17: 1625000 | S17: 1361000 | T17: 12300 | U17: 443000 | V17: 355000 | W17: 13100 | X17: 498300 | Y17: 429100 | Z17: 17500 | AA17: 684300 | AB17: 576700 | AC17: … | AD17: … | AE17: … | AF17: 25200 | AG17: 380300 | AH17: 292600 | AI17: 24400 | AJ17: 372200 | AK17: 285900 | AL17: … | AM17: … | AN17: … | AO17: 779 | AP17: 8030 | AQ17: 6680 | AR17: … | AS17: … | AT17: … | AU17: … | AV17: … | AW17: … | AX17: … | AY17: … | AZ17: … | BA17: … | BB17: … | BC17: … | BD17: 1030 | BE17: 50000 | BF17: 47100 | BG17: … | BH17: … | BI17: … | BJ17: 6780 | BK17: 109400 | BL17: 94500 | BM17: … | BN17: … | BO17: … | BP17: 19800 | BQ17: 435200 | BR17: 406100 | BS17: … | BT17: … | BU17: … | BV17: 3400 | BW17: 75700 | BX17: 68400 | BY17: … | BZ17: … | CA17: … | CB17: 9060 | CC17: 211000 | CD17: 201100 | CE17: … | CF17: … | CG17: … | CH17: 7350 | CI17: 148600 | CJ17: 136600 | CK17: … | CL17: … | CM17: … | CN17: 23700 | CO17: 520800 | CP17: 365900 | CQ17: … | CR17: … | CS17: … | CT17: 3800 | CU17: 83100 | CV17: 70000 | CW17: 18500 | CX17: 395500 | CY17: 260200 | CZ17: 1460 | DA17: 42100 | DB17: 35700 | DC17: … | DD17: … | DE17: … | DF17: 29400 | DG17: 1257000 | DH17: 1051000 | DI17: … | DJ17: … | DK17: …
A18: 昭.58(1983) | B18: 35700 | C18: 1507000 | D18: 1090000 | E18: 2060 | F18: 96500 | G18: 87400 | H18: 4340 | I18: 209400 | J18: 186900 | K18: 29300 | L18: 1201000 | M18: 80560 | N18: … | O18: … | P18: … | Q18: 43000 | R18: 1568000 | S18: 1324000 | T18: 12100 | U18: 428500 | V18: 342700 | W18: 13400 | X18: 505700 | Y18: 438000 | Z18: 17500 | AA18: 633500 | AB18: 543400 | AC18: … | AD18: … | AE18: … | AF18: 25500 | AG18: 381400 | AH18: 291600 | AI18: 24600 | AJ18: 373100 | AK18: 284800 | AL18: … | AM18: … | AN18: … | AO18: 871 | AP18: 8220 | AQ18: 6840 | AR18: … | AS18: … | AT18: … | AU18: … | AV18: … | AW18: … | AX18: … | AY18: … | AZ18: … | BA18: … | BB18: … | BC18: … | BD18: 1010 | BE18: 48100 | BF18: 45100 | BG18: … | BH18: … | BI18: … | BJ18: 7610 | BK18: 109000 | BL18: 94000 | BM18: … | BN18: … | BO18: … | BP18: 20400 | BQ18: 434200 | BR18: 405200 | BS18: … | BT18: … | BU18: … | BV18: 3520 | BW18: 78600 | BX18: 71000 | BY18: … | BZ18: … | CA18: … | CB18: 9350 | CC18: 216200 | CD18: 206000 | CE18: … | CF18: … | CG18: … | CH18: 7590 | CI18: 139300 | CJ18: 128200 | CK18: … | CL18: … | CM18: … | CN18: 24000 | CO18: 548500 | CP18: 390700 | CQ18: … | CR18: … | CS18: … | CT18: 3880 | CU18: 86200 | CV18: 72800 | CW18: 18700 | CX18: 421900 | CY18: 283500 | CZ18: 1480 | DA18: 40800 | DB18: 34400 | DC18: … | DD18: … | DE18: … | DF18: 29300 | DG18: 1170000 | DH18: 971600 | DI18: … | DJ18: … | DK18: …
A19: 昭.59(1984) | B19: 34800 | C19: 1549000 | D19: 1111000 | E19: 2000 | F19: 89100 | G19: 80200 | H19: 4330 | I19: 222300 | J19: 198400 | K19: 28400 | L19: 1237000 | M19: 832400 | N19: … | O19: … | P19: … | Q19: 43200 | R19: 1614000 | S19: 1326000 | T19: 11900 | U19: 407000 | V19: 317200 | W19: 13600 | X19: 525800 | Y19: 445100 | Z19: 17700 | AA19: 680900 | AB19: 564000 | AC19: … | AD19: … | AE19: … | AF19: 25800 | AG19: 366400 | AH19: 280300 | AI19: 24800 | AJ19: 357600 | AK19: 273100 | AL19: … | AM19: … | AN19: … | AO19: 957 | AP19: 8640 | AQ19: 7150 | AR19: … | AS19: … | AT19: … | AU19: … | AV19: … | AW19: … | AX19: … | AY19: … | AZ19: … | BA19: … | BB19: … | BC19: … | BD19: 1000 | BE19: 48300 | BF19: 45400 | BG19: … | BH19: … | BI19: … | BJ19: 8450 | BK19: 129100 | BL19: 112000 | BM19: … | BN19: … | BO19: … | BP19: 21100 | BQ19: 477500 | BR19: 445900 | BS19: … | BT19: … | BU19: … | BV19: 3680 | BW19: 80100 | BX19: 72600 | BY19: … | BZ19: … | CA19: … | CB19: 9640 | CC19: 235700 | CD19: 224700 | CE19: … | CF19: … | CG19: … | CH19: 7810 | CI19: 161600 | CJ19: 148500 | CK19: … | CL19: … | CM19: … | CN19: 24100 | CO19: 562600 | CP19: 401600 | CQ19: … | CR19: … | CS19: … | CT19: 3970 | CU19: 87100 | CV19: 73100 | CW19: 18600 | CX19: 432200 | CY19: 291900 | CZ19: 1580 | DA19: 43400 | DB19: 36600 | DC19: … | DD19: … | DE19: … | DF19: 29500 | DG19: 1099000 | DH19: 919900 | DI19: … | DJ19: … | DK19: …
A20: 昭.60(1985) | B20: 33900 | C20: 1478000 | D20: 1069000 | E20: 1960 | F20: 93000 | G20: 84000 | H20: 4400 | I20: 219100 | J20: 193700 | K20: 27600 | L20: 1165000 | M20: 791400 | N20: … | O20: … | P20: … | Q20: 42400 | R20: 1589000 | S20: 1336000 | T20: 12000 | U20: 432600 | V20: 349900 | W20: 13400 | X20: 510700 | Y20: 433700 | Z20: 17000 | AA20: 646000 | AB20: 552700 | AC20: … | AD20: … | AE20: … | AF20: 26000 | AG20: 382500 | AH20: 295600 | AI20: 25000 | AJ20: 372800 | AK20: 287200 | AL20: … | AM20: … | AN20: … | AO20: 1040 | AP20: 9740 | AQ20: 8440 | AR20: … | AS20: … | AT20: … | AU20: … | AV20: … | AW20: … | AX20: … | AY20: … | AZ20: … | BA20: … | BB20: … | BC20: … | BD20: 957 | BE20: 46000 | BF20: 43100 | BG20: … | BH20: … | BI20: … | BJ20: 8940 | BK20: 128900 | BL20: 110600 | BM20: … | BN20: … | BO20: … | BP20: 20800 | BQ20: 459000 | BR20: 421100 | BS20: … | BT20: … | BU20: … | BV20: 3830 | BW20: 83700 | BX20: 75300 | BY20: … | BZ20: … | CA20: … | CB20: 9220 | CC20: 228200 | CD20: 210400 | CE20: … | CF20: … | CG20: … | CH20: 7720 | CI20: 146900 | CJ20: 135400 | CK20: … | CL20: … | CM20: … | CN20: 24000 | CO20: 552600 | CP20: 396600 | CQ20: … | CR20: … | CS20: … | CT20: 4110 | CU20: 89400 | CV20: 75000 | CW20: 18200 | CX20: 418900 | CY20: 283700 | CZ20: 1650 | DA20: 44400 | DB20: 37900 | DC20: … | DD20: … | DE20: … | DF20: 30800 | DG20: 1326000 | DH20: 1097000 | DI20: … | DJ20: … | DK20: …
A21: 昭.61(1986) | B21: 33100 | C21: 1513000 | D21: 1083000 | E21: 1970 | F21: 93700 | G21: 84500 | H21: 4390 | I21: 238700 | J21: 210900 | K21: 26700 | L21: 1181000 | M21: 787200 | N21: … | O21: … | P21: … | Q21: 42200 | R21: 1667000 | S21: 1387000 | T21: 11700 | U21: 424500 | V21: 345000 | W21: 13500 | X21: 544500 | Y21: 459600 | Z21: 17100 | AA21: 698100 | AB21: 582400 | AC21: … | AD21: … | AE21: … | AF21: 26200 | AG21: 385500 | AH21: 298800 | AI21: 25100 | AJ21: 374700 | AK21: 289400 | AL21: … | AM21: … | AN21: … | AO21: 1110 | AP21: 11000 | AQ21: 9420 | AR21: … | AS21: … | AT21: … | AU21: … | AV21: … | AW21: … | AX21: … | AY21: … | AZ21: … | BA21: … | BB21: … | BC21: … | BD21: 938 | BE21: 48600 | BF21: 45400 | BG21: … | BH21: … | BI21: … | BJ21: 9470 | BK21: 140500 | BL21: 120700 | BM21: … | BN21: … | BO21: … | BP21: 21300 | BQ21: 500500 | BR21: 462200 | BS21: … | BT21: … | BU21: … | BV21: 4010 | BW21: 87800 | BX21: 78900 | BY21: … | BZ21: … | CA21: … | CB21: 9370 | CC21: 243100 | CD21: 226300 | CE21: … | CF21: … | CG21: … | CH21: 7910 | CI21: 169600 | CJ21: 157000 | CK21: … | CL21: … | CM21: … | CN21: 24200 | CO21: 573000 | CP21: 411800 | CQ21: … | CR21: … | CS21: … | CT21: 4320 | CU21: 97800 | CV21: 82200 | CW21: 18100 | CX21: 431400 | CY21: 292100 | CZ21: 1710 | DA21: 43700 | DB21: 37500 | DC21: … | DD21: … | DE21: … | DF21: 29700 | DG21: 1252000 | DH21: 1055000 | DI21: … | DJ21: … | DK21: …
A22: 昭.62(1987) | B22: 31900 | C22: 1432000 | D22: 1028000 | E22: 2290 | F22: 110800 | G22: 99900 | H22: 3580 | I22: 202700 | J22: 180500 | K22: 26000 | L22: 1118000 | M22: 747300 | N22: … | O22: … | P22: … | Q22: 41500 | R22: 1631000 | S22: 1374000 | T22: 11500 | U22: 419300 | V22: 341300 | W22: 13100 | X22: 522900 | Y22: 450200 | Z22: 16800 | AA22: 687900 | AB22: 582500 | AC22: … | AD22: … | AE22: … | AF22: 27200 | AG22: 400100 | AH22: 312000 | AI22: 25600 | AJ22: 385900 | AK22: 300200 | AL22: … | AM22: … | AN22: … | AO22: 1560 | AP22: 14000 | AQ22: 11800 | AR22: … | AS22: … | AT22: … | AU22: … | AV22: … | AW22: … | AX22: … | AY22: … | AZ22: … | BA22: … | BB22: … | BC22: … | BD22: 916 | BE22: 46600 | BF22: 43800 | BG22: … | BH22: … | BI22: … | BJ22: 10000 | BK22: 140700 | BL22: 120900 | BM22: … | BN22: … | BO22: … | BP22: 21200 | BQ22: 496800 | BR22: 460700 | BS22: … | BT22: … | BU22: … | BV22: 4160 | BW22: 93100 | BX22: 83700 | BY22: … | BZ22: … | CA22: … | CB22: 8900 | CC22: 230800 | CD22: 216900 | CE22: … | CF22: … | CG22: … | CH22: 8160 | CI22: 172800 | CJ22: 160100 | CK22: … | CL22: … | CM22: … | CN22: 24000 | CO22: 563500 | CP22: 406300 | CQ22: … | CR22: … | CS22: … | CT22: 4540 | CU22: 102100 | CV22: 86000 | CW22: 17700 | CX22: 414300 | CY22: 279700 | CZ22: 1760 | DA22: 47200 | DB22: 40600 | DC22: … | DD22: … | DE22: … | DF22: 29400 | DG22: 1307000 | DH22: 1115000 | DI22: … | DJ22: … | DK22: …
A23: 昭.63(1988) | B23: 30600 | C23: 1302000 | D23: 937100 | E23: 2350 | F23: 120500 | G23: 109200 | H23: 3500 | I23: 185600 | J23: 166000 | K23: 24800 | L23: 996300 | M23: 661900 | N23: … | O23: … | P23: … | Q23: 41200 | R23: 1573000 | S23: 1327000 | T23: 11100 | U23: 418800 | V23: 344300 | W23: 13200 | X23: 497100 | Y23: 430200 | Z23: 16900 | AA23: 656800 | AB23: 553000 | AC23: … | AD23: … | AE23: … | AF23: 27500 | AG23: 396000 | AH23: 309200 | AI23: 25300 | AJ23: 377200 | AK23: 293300 | AL23: … | AM23: … | AN23: … | AO23: 2130 | AP23: 18800 | AQ23: 15900 | AR23: … | AS23: … | AT23: … | AU23: … | AV23: … | AW23: … | AX23: … | AY23: … | AZ23: … | BA23: … | BB23: … | BC23: … | BD23: 925 | BE23: 44900 | BF23: 42200 | BG23: … | BH23: … | BI23: … | BJ23: 10500 | BK23: 133800 | BL23: 113800 | BM23: … | BN23: … | BO23: … | BP23: 22000 | BQ23: 495400 | BR23: 457600 | BS23: … | BT23: … | BU23: … | BV23: 4270 | BW23: 97800 | BX23: 89000 | BY23: … | BZ23: … | CA23: … | CB23: 9200 | CC23: 220700 | CD23: 206300 | CE23: … | CF23: … | CG23: … | CH23: 8570 | CI23: 176800 | CJ23: 162400 | CK23: … | CL23: … | CM23: … | CN23: 23900 | CO23: 522400 | CP23: 377800 | CQ23: … | CR23: … | CS23: … | CT23: 4620 | CU23: 98000 | CV23: 81700 | CW23: 17300 | CX23: 371400 | CY23: 250400 | CZ23: 1940 | DA23: 52900 | DB23: 45800 | DC23: … | DD23: … | DE23: … | DF23: 28400 | DG23: 1251000 | DH23: 1058000 | DI23: … | DJ23: … | DK23: …
A24: 平.元(1989) | B24: 29900 | C24: 1334000 | D24: 961900 | E24: 2420 | F24: 125800 | G24: 113900 | H24: 3520 | I24: 191000 | J24: 172000 | K24: 24000 | L24: 1017000 | M24: 676000 | N24: … | O24: … | P24: … | Q24: 41400 | R24: 1623000 | S24: 1369000 | T24: 11000 | U24: 425500 | V24: 351000 | W24: 13600 | X24: 526400 | Y24: 453700 | Z24: 16800 | AA24: 671200 | AB24: 563700 | AC24: … | AD24: … | AE24: … | AF24: 27500 | AG24: 378000 | AH24: 295300 | AI24: 25100 | AJ24: 357200 | AK24: 277400 | AL24: … | AM24: … | AN24: … | AO24: 2370 | AP24: 20900 | AQ24: 17900 | AR24: … | AS24: … | AT24: … | AU24: … | AV24: … | AW24: … | AX24: … | AY24: … | AZ24: … | BA24: … | BB24: … | BC24: … | BD24: 908 | BE24: 44800 | BF24: 42000 | BG24: … | BH24: … | BI24: … | BJ24: 2740 | BK24: 52800 | BL24: 43600 | BM24: 8150 | BN24: 88800 | BO24: 77000 | BP24: 22500 | BQ24: 520900 | BR24: 481300 | BS24: 325 | BT24: 6100 | BU24: 5550 | BV24: 4580 | BW24: 106000 | BX24: 96700 | BY24: 89 | BZ24: 1790 | CA24: 1630 | CB24: 9300 | CC24: 227000 | CD24: 212000 | CE24: 95 | CF24: 1430 | CG24: 1260 | CH24: 8610 | CI24: 187900 | CJ24: 172400 | CK24: 142 | CL24: 2890 | CM24: 2660 | CN24: 24000 | CO24: 541900 | CP24: 394700 | CQ24: … | CR24: … | CS24: … | CT24: 4290 | CU24: 87300 | CV24: 72200 | CW24: 17200 | CX24: 391500 | CY24: 268200 | CZ24: 2490 | DA24: 63000 | DB24: 54300 | DC24: … | DD24: … | DE24: … | DF24: 28200 | DG24: 1269000 | DH24: 1074000 | DI24: … | DJ24: … | DK24: …
A25: 平.2(1990) | B25: 28700 | C25: 1220000 | D25: 884500 | E25: 2460 | F25: 129700 | G25: 117900 | H25: 3510 | I25: 198400 | J25: 180900 | K25: 22700 | L25: 891400 | M25: 585700 | N25: … | O25: … | P25: … | Q25: 40400 | R25: 1544000 | S25: 1301000 | T25: 10700 | U25: 410300 | V25: 338000 | W25: 13400 | X25: 519100 | Y25: 446300 | Z25: 16300 | AA25: 614300 | AB25: 516300 | AC25: … | AD25: … | AE25: … | AF25: 27300 | AG25: 384100 | AH25: 301300 | AI25: 24900 | AJ25: 363200 | AK25: 283500 | AL25: … | AM25: … | AN25: … | AO25: 2410 | AP25: 21000 | AQ25: 17900 | AR25: … | AS25: … | AT25: … | AU25: … | AV25: … | AW25: … | AX25: … | AY25: … | AZ25: … | BA25: … | BB25: … | BC25: … | BD25: 901 | BE25: 44700 | BF25: 41900 | BG25: … | BH25: … | BI25: … | BJ25: 2590 | BK25: 47700 | BL25: 39300 | BM25: 8800 | BN25: 89100 | BO25: 77000 | BP25: 22400 | BQ25: 517600 | BR25: 476400 | BS25: 386 | BT25: 6940 | BU25: 6300 | BV25: 4660 | BW25: 110400 | BX25: 100600 | BY25: 91 | BZ25: 1820 | CA25: 1660 | CB25: 9280 | CC25: 237800 | CD25: 220900 | CE25: 118 | CF25: 1640 | CG25: 1440 | CH25: 8440 | CI25: 169500 | CJ25: 154900 | CK25: 177 | CL25: 3460 | CM25: 3190 | CN25: 24100 | CO25: 557700 | CP25: 410200 | CQ25: … | CR25: … | CS25: … | CT25: 4430 | CU25: 88800 | CV25: 73700 | CW25: 17200 | CX25: 397200 | CY25: 274600 | CZ25: 2570 | DA25: 71600 | DB25: 61900 | DC25: … | DD25: … | DE25: … | DF25: 29000 | DG25: 1317000 | DH25: 1121000 | DI25: … | DJ25: … | DK25: …
A26: 平.3(1991) | B26: 28000 | C26: 1154000 | D26: 844400 | E26: 2460 | F26: 130900 | G26: 119000 | H26: 3580 | I26: 206100 | J26: 188600 | K26: 22000 | L26: 817400 | M26: 536900 | N26: … | O26: … | P26: … | Q26: 40800 | R26: 1569000 | S26: 1326000 | T26: 10700 | U26: 402400 | V26: 332700 | W26: 13700 | X26: 536500 | Y26: 464700 | Z26: 16500 | AA26: 629900 | AB26: 528500 | AC26: … | AD26: … | AE26: … | AF26: 27400 | AG26: 373700 | AH26: 293900 | AI26: 24900 | AJ26: 352100 | AK26: 275600 | AL26: … | AM26: … | AN26: … | AO26: 2470 | AP26: 21600 | AQ26: 18400 | AR26: … | AS26: … | AT26: … | AU26: … | AV26: … | AW26: … | AX26: … | AY26: … | AZ26: … | BA26: … | BB26: … | BC26: … | BD26: 877 | BE26: 43600 | BF26: 40900 | BG26: … | BH26: … | BI26: … | BJ26: 2520 | BK26: 45100 | BL26: 37100 | BM26: 9260 | BN26: 89800 | BO26: 77500 | BP26: 23000 | BQ26: 520200 | BR26: 479000 | BS26: 487 | BT26: 8570 | BU26: 7880 | BV26: 4740 | BW26: 113700 | BX26: 103800 | BY26: 121 | BZ26: 2310 | CA26: 2120 | CB26: 9500 | CC26: 234900 | CD26: 218600 | CE26: 154 | CF26: 2200 | CG26: 2000 | CH26: 8720 | CI26: 171600 | CJ26: 156600 | CK26: 217 | CL26: 4060 | CM26: 3750 | CN26: 24200 | CO26: 516700 | CP26: 382300 | CQ26: … | CR26: … | CS26: … | CT26: 4590 | CU26: 90200 | CV26: 75300 | CW26: 17100 | CX26: 335100 | CY26: 245200 | CZ26: 2570 | DA26: 71400 | DB26: 61700 | DC26: … | DD26: … | DE26: … | DF26: 29800 | DG26: 1307000 | DH26: 1126000 | DI26: … | DJ26: … | DK26: …
A27: 平.4(1992) | B27: 27300 | C27: 1205000 | D27: 882100 | E27: 2510 | F27: 131500 | G27: 119600 | H27: 3580 | I27: 208400 | J27: 190000 | K27: 21200 | L27: 864900 | M27: 572400 | N27: … | O27: … | P27: … | Q27: 41100 | R27: 1614000 | S27: 1358000 | T27: 10400 | U27: 403300 | V27: 335400 | W27: 14100 | X27: 551700 | Y27: 470200 | Z27: 16500 | AA27: 658900 | AB27: 552000 | AC27: … | AD27: … | AE27: … | AF27: 27100 | AG27: 364900 | AH27: 287700 | AI27: 24500 | AJ27: 342000 | AK27: 268100 | AL27: … | AM27: … | AN27: … | AO27: 2570 | AP27: 22800 | AQ27: 19500 | AR27: … | AS27: … | AT27: … | AU27: … | AV27: … | AW27: … | AX27: … | AY27: … | AZ27: … | BA27: … | BB27: … | BC27: … | BD27: 862 | BE27: 45700 | BF27: 42900 | BG27: … | BH27: … | BI27: … | BJ27: 2510 | BK27: 50300 | BL27: 41700 | BM27: 9500 | BN27: 101100 | BO27: 87400 | BP27: 22600 | BQ27: 535800 | BR27: 482400 | BS27: 516 | BT27: 9290 | BU27: 8560 | BV27: 4610 | BW27: 108100 | BX27: 98600 | BY27: 132 | BZ27: 2530 | CA27: 2330 | CB27: 9430 | CC27: 244100 | CD27: 216600 | CE27: 163 | CF27: 2540 | CG27: 2350 | CH27: 8620 | CI27: 183700 | CJ27: 167200 | CK27: 224 | CL27: 4220 | CM27: 3880 | CN27: 24500 | CO27: 565000 | CP27: 423300 | CQ27: … | CR27: … | CS27: … | CT27: 4660 | CU27: 93900 | CV27: 78900 | CW27: 17200 | CX27: 400300 | CY27: 283300 | CZ27: 2630 | DA27: 70700 | DB27: 61100 | DC27: … | DD27: … | DE27: … | DF27: 30200 | DG27: 1397000 | DH27: 1162000 | DI27: … | DJ27: … | DK27: …
