Workbook

Sheet 目次
A2: 【目次】
B4: 統計表
B5: １ 令和７年産水稲の作付面積及び10月25日現在の予想収穫量
B6: ２ 令和７年産水稲玄米のふるい目幅別重量分布状況（10月25日現在）
B7: ３ 令和７年産水稲玄米のふるい目幅別10ａ当たり収量（10月25日現在）
B8: ４ 令和７年産水稲玄米のふるい目幅別収穫量（主食用）（10月25日現在）
B9: ５ 令和７年産水稲玄米のふるい目幅別収穫量（子実用）（10月25日現在）
B10: ６ 令和７年産水稲の作況標本筆の10ａ当たり収量の分布状況（10月25日現在）
B11: ７ 令和７年産水稲の作柄表示地帯別玄米重歩合（10月25日現在）
B12: ８ 令和７年産水稲の作柄表示地帯別10ａ当たり予想収量及び作況単収指数 （生産者が使用しているふるい目幅ベース）（10月25日現在）
B13: ９ 令和７年産水稲の玄米品位の状況（10月25日現在）
B15: 調査の概要
B17: 利用上の注意
... B46: 面積及び10月25日現在の予想収穫量」（農林水産省）による旨を記載してください。

Sheet 統計表１
A1: 【統計表】
AA2: 目次へ戻る
A3: １ 令和７年産水稲の作付面積及び10月25日現在の予想収穫量
A5: 区 分 | D5: 作付面積（主食用） | G5: 生産者が使用しているふるい目幅で選別 | M5: Ｂ 予想収穫量 （生産者ふるい下米） | P5: ふるい目幅1.70mmで選別 | U5: 作付面積（子実用） | X5: 予想収穫量（子実用） | AA5: 作況 単収 指数
G6: 10ａ当たり予想収量 | J6: Ａ 予想収穫量 （主食用（生産者ふるい上米）） | P6: 10ａ当たり予想収量 | R6: Ｃ＝Ａ＋Ｂ 予想収穫量 （主食用(生産者ふるい下米含む)）
D7: 実 数 ① | E7: 前年産との比較 | G7: 最も多い 使用割合 の 目 幅 | H7: 実 数 ② | I7: 前年産との 比較 | J7: 実 数 ③＝①×② | K7: 前年産との比較 | M7: 実 数 ④＝⑥－③ | N7: 前年産との比較 | P7: 実 数 ⑤ | Q7: 前年産との 比較 | R7: 実 数 ⑥＝①×⑤ | S7: 前年産との比較 | U7: 実 数 ⑦ | V7: 前年産との比較 | X7: 実 数 ⑧＝⑦×⑤ | Y7: 前年産との比較
E8: 対差 | F8: 対比 | I8: 対比 | K8: 対差 | L8: 対比 | N8: 対差 | O8: 対比 | Q8: 対比 | S8: 対差 | T8: 対比 | V8: 対差 | W8: 対比 | Y8: 対差 | Z8: 対比
D9: ha | E9: ha | F9: ％ | G9: mm | H9: ㎏ | I9: ％ | J9: ｔ | K9: ｔ | L9: ％ | M9: ｔ | N9: ｔ | O9: ％ | P9: ㎏ | Q9: ％ | R9: ｔ | S9: ｔ | T9: ％ | U9: ha | V9: ha | W9: ％ | X9: ｔ | Y9: ｔ | Z9: ％
A10: 管 内 | C10: 1 | D10: 275400 | E10: 26100 | F10: 110 | G10: … | H10: 524 | I10: 100 | J10: 1441000 | K10: 129000 | L10: 110 | M10: 47000 | N10: 8000 | O10: 121 | P10: 541 | Q10: 100 | R10: 1488000 | S10: 137000 | T10: 110 | U10: 282500 | V10: 20000 | W10: 108 | X10: 1527000 | Y10: 105000 | Z10: 107 | AA10: 100
A12: 茨 城 | C12: 2 | D12: 66700 | E12: 6800 | F12: 111 | G12: 1.85 | H12: 508 | I12: 97 | J12: 338800 | K12: 25500 | L12: 108 | M12: 14000 | N12: 2600 | O12: 123 | P12: 529 | Q12: 98 | R12: 352800 | S12: 28100 | T12: 109 | U12: 68800 | V12: 6300 | W12: 110 | X12: 364000 | Y12: 25200 | Z12: 107 | AA12: 98
B13: 北部･鹿行 | C13: 3 | D13: … | E13: nc | F13: nc | G13: … | H13: 500 | I13: 97 | J13: … | K13: nc | L13: nc | M13: … | N13: nc | O13: nc | P13: 519 | Q13: 97 | R13: … | S13: nc | T13: nc | U13: 24000 | V13: 1500 | W13: 107 | X13: 124600 | Y13: 4400 | Z13: 104 | AA13: 97
B14: 南部･西部 | C14: 4 | D14: … | E14: nc | F14: nc | G14: … | H14: 513 | I14: 98 | J14: … | K14: nc | L14: nc | M14: … | N14: nc | O14: nc | P14: 534 | Q14: 98 | R14: … | S14: nc | T14: nc | U14: 44800 | V14: 4800 | W14: 112 | X14: 239200 | Y14: 20800 | Z14: 110 | AA14: 99
A16: 栃 木 | C16: 5 | D16: 58100 | E16: 9100 | F16: 119 | G16: 1.85 | H16: 521 | I16: 100 | J16: 302700 | K16: 47400 | L16: 119 | M16: 13900 | N16: 4600 | O16: 149 | P16: 545 | Q16: 101 | R16: 316600 | S16: 52000 | T16: 120 | U16: 60000 | V16: 7000 | W16: 113 | X16: 327000 | Y16: 40800 | Z16: 114 | AA16: 100
B17: 北 部 | C17: 6 | D17: … | E17: nc | F17: nc | G17: … | H17: 548 | I17: 101 | J17: … | K17: nc | L17: nc | M17: … | N17: nc | O17: nc | P17: 568 | Q17: 101 | R17: … | S17: nc | T17: nc | U17: 23900 | V17: 2200 | W17: 110 | X17: 135800 | Y17: 14100 | Z17: 112 | AA17: 101
B18: 中 部 | C18: 7 | D18: … | E18: nc | F18: nc | G18: … | H18: 528 | I18: 100 | J18: … | K18: nc | L18: nc | M18: … | N18: nc | O18: nc | P18: 554 | Q18: 101 | R18: … | S18: nc | T18: nc | U18: 20900 | V18: 2700 | W18: 115 | X18: 115800 | Y18: 16100 | Z18: 116 | AA18: 101
B19: 南 部 | C19: 8 | D19: … | E19: nc | F19: nc | G19: … | H19: 471 | I19: 99 | J19: … | K19: nc | L19: nc | M19: … | N19: nc | O19: nc | P19: 496 | Q19: 100 | R19: … | S19: nc | T19: nc | U19: 15300 | V19: 2100 | W19: 116 | X19: 75900 | Y19: 10700 | Z19: 116 | AA19: 98
A21: 群 馬 | C21: 9 | D21: 14700 | E21: 1900 | F21: 115 | G21: 1.8 | H21: 490 | I21: 101 | J21: 72000 | K21: 10200 | L21: 117 | M21: 2400 | N21: 300 | O21: 114 | P21: 506 | Q21: 101 | R21: 74400 | S21: 10500 | T21: 116 | U21: 15000 | V21: 700 | W21: 105 | X21: 75900 | Y21: 4500 | Z21: 106 | AA21: 101
B22: 中 毛 | C22: 10 | D22: … | E22: nc | F22: nc | G22: … | H22: 486 | I22: 102 | J22: … | K22: nc | L22: nc | M22: … | N22: nc | O22: nc | P22: 505 | Q22: 102 | R22: … | S22: nc | T22: nc | U22: 6560 | V22: 540 | W22: 109 | X22: 33100 | Y22: 3300 | Z22: 111 | AA22: 102
B23: 北 毛 | C23: 11 | D23: … | E23: nc | F23: nc | G23: … | H23: 525 | I23: 102 | J23: … | K23: nc | L23: nc | M23: … | N23: nc | O23: nc | P23: 535 | Q23: 102 | R23: … | S23: nc | T23: nc | U23: 1710 | V23: -10 | W23: 99 | X23: 9100 | Y23: 100 | Z23: 101 | AA23: 101
B24: 東 毛 | C24: 12 | D24: … | E24: nc | F24: nc | G24: … | H24: 480 | I24: 100 | J24: … | K24: nc | L24: nc | M24: … | N24: nc | O24: nc | P24: 496 | Q24: 100 | R24: … | S24: nc | T24: nc | U24: 6780 | V24: 200 | W24: 103 | X24: 33600 | Y24: 1000 | Z24: 103 | AA24: 99
A26: 埼 玉 | C26: 13 | D26: 30600 | E26: 2200 | F26: 108 | G26: 1.8 | H26: 464 | I26: 100 | J26: 142000 | K26: 10500 | L26: 108 | M26: 2700 | N26: -1000 | O26: 73 | P26: 473 | Q26: 99 | R26: 144700 | S26: 9500 | T26: 107 | U26: 31000 | V26: 1400 | W26: 105 | X26: 146600 | Y26: 5700 | Z26: 104 | AA26: 96
B27: 東 部 | C27: 14 | D27: … | E27: nc | F27: nc | G27: … | H27: 456 | I27: 97 | J27: … | K27: nc | L27: nc | M27: … | N27: nc | O27: nc | P27: 464 | Q27: 96 | R27: … | S27: nc | T27: nc | U27: 20500 | V27: 700 | W27: 104 | X27: 95100 | Y27: -700 | Z27: 99 | AA27: 93
B28: 西 部 | C28: 15 | D28: … | E28: nc | F28: nc | G28: … | H28: 479 | I28: 107 | J28: … | K28: nc | L28: nc | M28: … | N28: nc | O28: nc | P28: 490 | Q28: 106 | R28: … | S28: nc | T28: nc | U28: 10500 | V28: 760 | W28: 108 | X28: 51500 | Y28: 6600 | Z28: 115 | AA28: 105
A30: 千 葉 | C30: 16 | D30: 53100 | E30: 4800 | F30: 110 | G30: 1.8 | H30: 546 | I30: 98 | J30: 289900 | K30: 19900 | L30: 107 | M30: 5900 | N30: 1100 | O30: 123 | P30: 557 | Q30: 98 | R30: 295800 | S30: 21000 | T30: 108 | U30: 54800 | V30: 4200 | W30: 108 | X30: 305200 | Y30: 17300 | Z30: 106 | AA30: 101
B31: 京 葉 | C31: 17 | D31: … | E31: nc | F31: nc | G31: … | H31: 522 | I31: 100 | J31: … | K31: nc | L31: nc | M31: … | N31: nc | O31: nc | P31: 533 | Q31: 100 | R31: … | S31: nc | T31: nc | U31: 14900 | V31: 1100 | W31: 108 | X31: 79400 | Y31: 5700 | Z31: 108 | AA31: 101
B32: 九十九里 | C32: 18 | D32: … | E32: nc | F32: nc | G32: … | H32: 562 | I32: 96 | J32: … | K32: nc | L32: nc | M32: … | N32: nc | O32: nc | P32: 572 | Q32: 97 | R32: … | S32: nc | T32: nc | U32: 28900 | V32: 2200 | W32: 108 | X32: 165300 | Y32: 7200 | Z32: 105 | AA32: 101
B33: 南 房 総 | C33: 19 | D33: … | E33: nc | F33: nc | G33: … | H33: 536 | I33: 99 | J33: … | K33: nc | L33: nc | M33: … | N33: nc | O33: nc | P33: 549 | Q33: 99 | R33: … | S33: nc | T33: nc | U33: 10900 | V33: 700 | W33: 107 | X33: 59800 | Y33: 3400 | Z33: 106 | AA33: 101
A35: 東 京 | C35: 20 | D35: 112 | E35: 5 | F35: 105 | G35: 1.8 | H35: 408 | I35: 101 | J35: 457 | K35: 24 | L35: 106 | M35: 11 | N35: 1 | O35: 110 | P35: 418 | Q35: 101 | R35: 468 | S35: 25 | T35: 106 | U35: 112 | V35: 5 | W35: 105 | X35: 468 | Y35: 25 | Z35: 106 | AA35: 101
A37: 神 奈 川 | C37: 21 | D37: 2840 | E37: 0 | F37: 100 | G37: 1.8 | H37: 482 | I37: 104 | J37: 13700 | K37: 600 | L37: 105 | M37: 500 | N37: -100 | O37: 83 | P37: 501 | Q37: 104 | R37: 14200 | S37: 500 | T37: 104 | U37: 2840 | V37: 0 | W37: 100 | X37: 14200 | Y37: 500 | Z37: 104 | AA37: 102
A39: 山 梨 | C39: 22 | D39: 4560 | E39: -30 | F39: 99 | G39: 1.85 | H39: 511 | I39: 99 | J39: 23300 | K39: -500 | L39: 98 | M39: 800 | N39: 100 | O39: 114 | P39: 528 | Q39: 99 | R39: 24100 | S39: -400 | T39: 98 | U39: 4630 | V39: -50 | W39: 99 | X39: 24400 | Y39: -600 | Z39: 98 | AA39: 100
A41: 長 野 | C41: 23 | D41: 30000 | E41: 1000 | F41: 103 | G41: 1.85 | H41: 612 | I41: 101 | J41: 183600 | K41: 8400 | L41: 105 | M41: 4200 | N41: -400 | O41: 91 | P41: 626 | Q41: 101 | R41: 187800 | S41: 8000 | T41: 104 | U41: 30600 | V41: 300 | W41: 101 | X41: 191600 | Y41: 3700 | Z41: 102 | AA41: 103
B42: 東 信 | C42: 24 | D42: … | E42: nc | F42: nc | G42: … | H42: 624 | I42: 101 | J42: … | K42: nc | L42: nc | M42: … | N42: nc | O42: nc | P42: 639 | Q42: 100 | R42: … | S42: nc | T42: nc | U42: 6800 | V42: 50 | W42: 101 | X42: 43500 | Y42: 500 | Z42: 101 | AA42: 104
B43: 南 信 | C43: 25 | D43: … | E43: nc | F43: nc | G43: … | H43: 630 | I43: 103 | J43: … | K43: nc | L43: nc | M43: … | N43: nc | O43: nc | P43: 645 | Q43: 104 | R43: … | S43: nc | T43: nc | U43: 7960 | V43: 110 | W43: 101 | X43: 51300 | Y43: 2600 | Z43: 105 | AA43: 104
B44: 中 信 | C44: 26 | D44: … | E44: nc | F44: nc | G44: … | H44: 624 | I44: 101 | J44: … | K44: nc | L44: nc | M44: … | N44: nc | O44: nc | P44: 638 | Q44: 100 | R44: … | S44: nc | T44: nc | U44: 10100 | V44: 180 | W44: 102 | X44: 64400 | Y44: 1200 | Z44: 102 | AA44: 102
B45: 北 信 | C45: 27 | D45: … | E45: nc | F45: nc | G45: … | H45: 552 | I45: 101 | J45: … | K45: nc | L45: nc | M45: … | N45: nc | O45: nc | P45: 566 | Q45: 99 | R45: … | S45: nc | T45: nc | U45: 5720 | V45: -50 | W45: 99 | X45: 32400 | Y45: -500 | Z45: 98 | AA45: 102
A47: 静 岡 | C47: 28 | D47: 14700 | E47: 300 | F47: 102 | G47: 1.85 | H47: 506 | I47: 107 | J47: 74400 | K47: 6400 | L47: 109 | M47: 2300 | N47: 600 | O47: 135 | P47: 522 | Q47: 108 | R47: 76700 | S47: 7000 | T47: 110 | U47: 14800 | V47: 300 | W47: 102 | X47: 77300 | Y47: 7100 | Z47: 110 | AA47: 104
A49: 注：１ 作付面積（主食用）（①）とは、青刈り面積を含めた水稲全体の作付面積から、備蓄米、加工用米、新規需要米等の作付面積を除いた面積である。
A50: ２ 生産者が使用しているふるい目幅で選別された10ａ当たり予想収量（②）及び予想収穫量（主食用（生産者ふるい上米））（③）は、生産者が使用しているふるい目幅で選別された玄米の重量である。
A51: ３ 生産者が使用しているふるい目幅で選別された10ａ当たり予想収量（②）については、都県ごとに、過去５か年に生産者が使用したふるい目幅の分布において、最も多い使用割合の目幅で選別された玄米を基に算出した数値である。
A52: ４ 10ａ当たり予想収量（⑤）及び予想収穫量（主食用（生産者ふるい下米含む））（⑥）は、1.70mmのふるい目幅で選別された玄米の重量である。
A53: ５ 予想収穫量（生産者ふるい下米）（④）とは、予想収穫量（主食用(生産者ふるい下米含む)）（⑥）から予想収穫量（主食用（生産者ふるい上米））（③）を差し引いた玄米の重量である。
A54: ６ 予想収穫量（主食用（生産者ふるい上米））（③）及び予想収穫量（主食用（生産者ふるい下米を含む））（⑥）については都県ごとの積上げ値であるため、表頭の計算は一致しない場合がある。
A55: ７ 作柄表示地帯別の作付面積（主食用）は、把握していないことから「…」で示している。
A56: ８ 作付面積（子実用）とは、青刈り面積を含めた水稲全体の作付面積から青刈り面積（飼料用米・WCS用稲等を含む。）を除いた面積である。
A57: ９ 予想収穫量（子実用）（⑧）は、1.70mmのふるい目幅で選別された玄米の重量である。
A58: 10 予想収穫量（子実用）（⑧）については、都県ごとの積上げ値であるため、表頭の計算は一致しない場合がある。
A59: 11 作況単収指数は、生産者が使用しているふるい目幅ベースで算出した10ａ当たり収量の前年産までの５か年中３年平均（最高、最低除く）に対する10ａ当たり予想収量の比率である。

Sheet 統計表２
P2: 目次へ戻る
A3: ２ 令和７年産水稲玄米のふるい目幅別重量分布状況（10月25日現在）
A5: 区 分 | D5: ふるい目幅別重量分布状況 | K5: 対前年差
D6: 計 | E6: 1.70㎜以上 1.75mm未満 | F6: 1.75 ～1.80 | G6: 1.80 ～1.85 | H6: 1.85 ～1.90 | I6: 1.90 ～2.00 | J6: 2.00㎜ 以 上 | K6: 1.70㎜以上 1.75mm未満 | L6: 1.75 ～1.80 | M6: 1.80 ～1.85 | N6: 1.85 ～1.90 | O6: 1.90 ～2.00 | P6: 2.00㎜ 以 上
D9: ％ | E9: ％ | F9: ％ | G9: ％ | H9: ％ | I9: ％ | J9: ％ | K9: ﾎﾟｲﾝﾄ | L9: ﾎﾟｲﾝﾄ | M9: ﾎﾟｲﾝﾄ | N9: ﾎﾟｲﾝﾄ | O9: ﾎﾟｲﾝﾄ | P9: ﾎﾟｲﾝﾄ
A10: 管 内 | C10: 1 | D10: 100 | E10: 0.8 | F10: 1.5 | G10: 1.9 | H10: 3.2 | I10: 15.8 | J10: 76.8 | K10: 0 | L10: 0.3 | M10: 0.3 | N10: 0.6 | O10: 2.5 | P10: -3.7
A12: 茨 城 | C12: 2 | D12: 100 | E12: 1 | F12: 1.4 | G12: 1.6 | H12: 3 | I12: 14.2 | J12: 78.8 | K12: 0.2 | L12: 0.2 | M12: 0.1 | N12: 0.3 | O12: 0.8 | P12: -1.6
B13: 北部･鹿行 | C13: 3 | D13: 100 | E13: 1 | F13: 1.3 | G13: 1.5 | H13: 2.8 | I13: 13.8 | J13: 79.6 | K13: 0.2 | L13: 0.2 | M13: 0.2 | N13: 0.3 | O13: 1.3 | P13: -2.2
B14: 南部･西部 | C14: 4 | D14: 100 | E14: 1 | F14: 1.4 | G14: 1.7 | H14: 3.1 | I14: 14.5 | J14: 78.3 | K14: 0.2 | L14: 0.2 | M14: 0.1 | N14: 0.3 | O14: 0.6 | P14: -1.4
A16: 栃 木 | C16: 5 | D16: 100 | E16: 0.9 | F16: 1.3 | G16: 2.2 | H16: 2.7 | I16: 17.6 | J16: 75.3 | K16: 0.1 | L16: 0.1 | M16: 0.6 | N16: 0.1 | O16: 1.8 | P16: -2.7
B17: 北 部 | C17: 6 | D17: 100 | E17: 0.7 | F17: 1 | G17: 1.7 | H17: 2.1 | I17: 15.1 | J17: 79.4 | K17: 0 | L17: 0 | M17: 0.4 | N17: -0.1 | O17: 1 | P17: -1.3
B18: 中 部 | C18: 7 | D18: 100 | E18: 0.9 | F18: 1.5 | G18: 2.4 | H18: 2.9 | I18: 19 | J18: 73.3 | K18: 0 | L18: 0.1 | M18: 0.6 | N18: 0 | O18: 1.4 | P18: -2.1
B19: 南 部 | C19: 8 | D19: 100 | E19: 1.1 | F19: 1.7 | G19: 2.6 | H19: 3.5 | I19: 19.7 | J19: 71.4 | K19: 0.2 | L19: 0.3 | M19: 0.9 | N19: 0.7 | O19: 3.6 | P19: -5.7
A21: 群 馬 | C21: 9 | D21: 100 | E21: 1.1 | F21: 1.8 | G21: 2.4 | H21: 4.1 | I21: 19.3 | J21: 71.3 | K21: -0.4 | L21: 0 | M21: -0.1 | N21: 0.4 | O21: 2.4 | P21: -2.3
B22: 中 毛 | C22: 10 | D22: 100 | E22: 1.2 | F22: 2 | G22: 2.8 | H22: 4.6 | I22: 21.9 | J22: 67.5 | K22: -0.3 | L22: -0.1 | M22: -0.6 | N22: -0.6 | O22: -2 | P22: 3.6
B23: 北 毛 | C23: 11 | D23: 100 | E23: 0.8 | F23: 1 | G23: 1.3 | H23: 2.2 | I23: 11.7 | J23: 83 | K23: 0 | L23: 0 | M23: 0.4 | N23: 0.8 | O23: 4.5 | P23: -5.7
B24: 東 毛 | C24: 12 | D24: 100 | E24: 1.1 | F24: 1.7 | G24: 2.2 | H24: 4 | I24: 18.8 | J24: 72.2 | K24: -0.5 | L24: -0.1 | M24: 0.1 | N24: 1.1 | O24: 5.5 | P24: -6.1
A26: 埼 玉 | C26: 13 | D26: 100 | E26: 1.3 | F26: 1.8 | G26: 2.6 | H26: 4.1 | I26: 19 | J26: 71.2 | K26: 0.2 | L26: 0.2 | M26: 0.2 | N26: 0.9 | O26: 1.2 | P26: -2.7
B27: 東 部 | C27: 14 | D27: 100 | E27: 1.4 | F27: 1.9 | G27: 2.6 | H27: 4.1 | I27: 19.1 | J27: 70.9 | K27: 0.4 | L27: 0.4 | M27: 0.2 | N27: 0.9 | O27: 1 | P27: -2.9
B28: 西 部 | C28: 15 | D28: 100 | E28: 1.3 | F28: 1.8 | G28: 2.6 | H28: 4.1 | I28: 18.9 | J28: 71.3 | K28: 0.1 | L28: 0.1 | M28: 0.3 | N28: 1 | O28: 1.7 | P28: -3.2
A30: 千 葉 | C30: 16 | D30: 100 | E30: 0.4 | F30: 1.6 | G30: 1.7 | H30: 3.7 | I30: 16.2 | J30: 76.4 | K30: -0.2 | L30: 0.5 | M30: 0.3 | N30: 1.1 | O30: 5.5 | P30: -7.2
B31: 京 葉 | C31: 17 | D31: 100 | E31: 0.5 | F31: 1.7 | G31: 1.9 | H31: 3.9 | I31: 18.5 | J31: 73.5 | K31: -0.1 | L31: 0.5 | M31: 0.2 | N31: 0.9 | O31: 6.3 | P31: -7.8
B32: 九十九里 | C32: 18 | D32: 100 | E32: 0.4 | F32: 1.4 | G32: 1.5 | H32: 3.3 | I32: 14.6 | J32: 78.8 | K32: -0.2 | L32: 0.4 | M32: 0.2 | N32: 0.9 | O32: 4.9 | P32: -6.2
B33: 南 房 総 | C33: 19 | D33: 100 | E33: 0.5 | F33: 2 | G33: 2 | H33: 4.6 | I33: 17.4 | J33: 73.5 | K33: -0.1 | L33: 0.9 | M33: 0.6 | N33: 1.8 | O33: 6.1 | P33: -9.3
A35: 東 京 | C35: 20 | D35: 100 | E35: 1 | F35: 1.5 | G35: 2.6 | H35: 3.7 | I35: 21.7 | J35: 69.5 | K35: 0.1 | L35: 0.2 | M35: 0.6 | N35: 1.2 | O35: 7.7 | P35: -9.8
A37: 神 奈 川 | C37: 21 | D37: 100 | E37: 1.5 | F37: 2.4 | G37: 2.9 | H37: 5.3 | I37: 21.4 | J37: 66.5 | K37: 0.2 | L37: -0.1 | M37: -0.1 | N37: 1 | O37: -0.5 | P37: -0.5
A39: 山 梨 | C39: 22 | D39: 100 | E39: 0.6 | F39: 1.2 | G39: 1.6 | H39: 2.6 | I39: 14.6 | J39: 79.4 | K39: 0 | L39: 0.2 | M39: 0.2 | N39: 0.2 | O39: 2.2 | P39: -2.8
A41: 長 野 | C41: 23 | D41: 100 | E41: 0.2 | F41: 1.2 | G41: 1.3 | H41: 2.3 | I41: 10.8 | J41: 84.2 | K41: -0.5 | L41: 0.3 | M41: 0.3 | N41: 0.6 | O41: 1.5 | P41: -2.2
B42: 東 信 | C42: 24 | D42: 100 | E42: 0.2 | F42: 1.1 | G42: 1.4 | H42: 2.4 | I42: 12.7 | J42: 82.2 | K42: -0.5 | L42: 0.1 | M42: 0.4 | N42: 0.5 | O42: 2.1 | P42: -2.6
B43: 南 信 | C43: 25 | D43: 100 | E43: 0.2 | F43: 1.1 | G43: 1.2 | H43: 2 | I43: 9.1 | J43: 86.4 | K43: -0.2 | L43: 0.5 | M43: 0.5 | N43: 0.8 | O43: 2.4 | P43: -4
B44: 中 信 | C44: 26 | D44: 100 | E44: 0.2 | F44: 1.3 | G44: 1.4 | H44: 2.3 | I44: 9.7 | J44: 85.1 | K44: -0.5 | L44: 0.4 | M44: 0.4 | N44: 0.7 | O44: 2 | P44: -3
B45: 北 信 | C45: 27 | D45: 100 | E45: 0.2 | F45: 1.1 | G45: 1.3 | H45: 2.4 | I45: 12.7 | J45: 82.3 | K45: -0.7 | L45: -0.2 | M45: -0.1 | N45: -0.2 | O45: -1.8 | P45: 3
A47: 静 岡 | C47: 28 | D47: 100 | E47: 0.4 | F47: 1.4 | G47: 1.7 | H47: 3.1 | I47: 16.1 | J47: 77.3 | K47: -0.1 | L47: 0.5 | M47: 0.6 | N47: 1.1 | O47: 6.2 | P47: -8.3
A49: 注：１ ふるい目幅別重量分布とは、それぞれのふるい目幅で選別された玄米の重量の割合である。
A50: ２ 10月25日現在までに刈取り・調製が終了した作況標本筆等のデータにより取りまとめたものであり、次回公表において数値が変動することがある（以下同じ。）。

Sheet 統計表３
I2: 目次へ戻る
A3: ３ 令和７年産水稲玄米のふるい目幅別10ａ当たり収量（10月25日現在）
I4: 単位：kg
A5: 区 分 | D5: 1.70㎜ 以 上
E6: 1.75㎜ 以 上
F7: 1.80㎜ 以 上
G8: 1.85㎜ 以 上
H9: 1.90㎜ 以 上
I10: 2.00㎜ 以 上
A12: 管 内 | C12: 1 | D12: 541 | E12: 536 | F12: 529 | G12: 519 | H12: 502 | I12: 417
A14: 茨 城 | C14: 2 | D14: 529 | E14: 524 | F14: 516 | G14: 508 | H14: 493 | I14: 417
B15: 北部･鹿行 | C15: 3 | D15: 519 | E15: 514 | F15: 507 | G15: 500 | H15: 485 | I15: 414
B16: 南部･西部 | C16: 4 | D16: 534 | E16: 529 | F16: 521 | G16: 513 | H16: 496 | I16: 419
A18: 栃 木 | C18: 5 | D18: 545 | E18: 541 | F18: 534 | G18: 521 | H18: 508 | I18: 412
B19: 北 部 | C19: 6 | D19: 568 | E19: 564 | F19: 559 | G19: 548 | H19: 536 | I19: 451
B20: 中 部 | C20: 7 | D20: 554 | E20: 549 | F20: 541 | G20: 528 | H20: 512 | I20: 407
B21: 南 部 | C21: 8 | D21: 496 | E21: 491 | F21: 482 | G21: 471 | H21: 454 | I21: 356
A23: 群 馬 | C23: 9 | D23: 506 | E23: 500 | F23: 490 | G23: 477 | H23: 457 | I23: 360
B24: 中 毛 | C24: 10 | D24: 505 | E24: 498 | F24: 486 | G24: 473 | H24: 448 | I24: 338
B25: 北 毛 | C25: 11 | D25: 535 | E25: 531 | F25: 525 | G25: 518 | H25: 507 | I25: 444
B26: 東 毛 | C26: 12 | D26: 496 | E26: 490 | F26: 480 | G26: 469 | H26: 448 | I26: 355
A28: 埼 玉 | C28: 13 | D28: 473 | E28: 466 | F28: 464 | G28: 451 | H28: 432 | I28: 341
B29: 東 部 | C29: 14 | D29: 464 | E29: 458 | F29: 456 | G29: 444 | H29: 424 | I29: 335
B30: 西 部 | C30: 15 | D30: 490 | E30: 484 | F30: 479 | G30: 466 | H30: 446 | I30: 352
A32: 千 葉 | C32: 16 | D32: 557 | E32: 553 | F32: 546 | G32: 536 | H32: 515 | I32: 425
B33: 京 葉 | C33: 17 | D33: 533 | E33: 530 | F33: 522 | G33: 512 | H33: 491 | I33: 392
B34: 九十九里 | C34: 18 | D34: 572 | E34: 570 | F34: 562 | G34: 554 | H34: 534 | I34: 451
B35: 南 房 総 | C35: 19 | D35: 549 | E35: 546 | F35: 536 | G35: 525 | H35: 500 | I35: 404
A37: 東 京 | C37: 20 | D37: 418 | E37: 413 | F37: 408 | G37: 397 | H37: 381 | I37: 290
A39: 神 奈 川 | C39: 21 | D39: 501 | E39: 493 | F39: 482 | G39: 468 | H39: 440 | I39: 334
A41: 山 梨 | C41: 22 | D41: 528 | E41: 525 | F41: 518 | G41: 511 | H41: 499 | I41: 421
A43: 長 野 | C43: 23 | D43: 626 | E43: 625 | F43: 618 | G43: 612 | H43: 597 | I43: 530
B44: 東 信 | C44: 24 | D44: 639 | E44: 638 | F44: 631 | G44: 624 | H44: 607 | I44: 526
B45: 南 信 | C45: 25 | D45: 645 | E45: 643 | F45: 636 | G45: 630 | H45: 616 | I45: 557
B46: 中 信 | C46: 26 | D46: 638 | E46: 637 | F46: 628 | G46: 624 | H46: 609 | I46: 547
B47: 北 信 | C47: 27 | D47: 566 | E47: 565 | F47: 559 | G47: 552 | H47: 538 | I47: 467
A49: 静 岡 | C49: 28 | D49: 522 | E49: 520 | F49: 513 | G49: 506 | H49: 490 | I49: 406
A51: 注：ふるい目幅別10ａ当たり収量とは、管内計、都県別の10ａ当たり予想収量にふるい目幅別重量割合を乗じて算出したものである。

Sheet 統計表４
I2: 目次へ戻る
A3: ４ 令和７年産水稲玄米のふるい目幅別収穫量（主食用）（10月25日現在）
I4: 単位：ｔ
A5: 区 分 | D5: 1.70㎜ 以 上
E6: 1.75㎜ 以 上
F7: 1.80㎜ 以 上
G8: 1.85㎜ 以 上
H9: 1.90㎜ 以 上
I10: 2.00㎜ 以 上
A12: 管 内 | C12: 1 | D12: 1488000 | E12: 1476000 | F12: 1456000 | G12: 1430000 | H12: 1383000 | I12: 1148000
A13: 茨 城 | C13: 2 | D13: 352800 | E13: 349300 | F13: 344300 | G13: 338800 | H13: 328300 | I13: 277800
A14: 栃 木 | C14: 3 | D14: 316600 | E14: 313800 | F14: 309600 | G14: 302700 | H14: 294200 | I14: 238500
A15: 群 馬 | C15: 4 | D15: 74400 | E15: 73600 | F15: 72000 | G15: 70300 | H15: 67200 | I15: 53000
A16: 埼 玉 | C16: 5 | D16: 144700 | E16: 142800 | F16: 142000 | G16: 138200 | H16: 132200 | I16: 104400
A17: 千 葉 | C17: 6 | D17: 295800 | E17: 294600 | F17: 289900 | G17: 285000 | H17: 274000 | I17: 226100
A18: 東 京 | C18: 7 | D18: 468 | E18: 463 | F18: 457 | G18: 445 | H18: 427 | I18: 325
A19: 神 奈 川 | C19: 8 | D19: 14200 | E19: 14000 | F19: 13700 | G19: 13300 | H19: 12500 | I19: 9480
A20: 山 梨 | C20: 9 | D20: 24100 | E20: 24000 | F20: 23700 | G20: 23300 | H20: 22700 | I20: 19200
A21: 長 野 | C21: 10 | D21: 187800 | E21: 187400 | F21: 185200 | G21: 183600 | H21: 179200 | I21: 159000
A22: 静 岡 | C22: 11 | D22: 76700 | E22: 76400 | F22: 75300 | G22: 74400 | H22: 72000 | I22: 59700
A24: 注：１ ふるい目幅別収穫量（主食用）とは、管内計、都県別の予想収穫量にふるい目幅別重量割合を乗じて算出したものである。
A25: ２ 作柄表示地帯別のふるい目幅別収穫量（主食用）については、作付面積（主食用）を把握していないことから予想収穫量を算出していないため表記していない。

Sheet 統計表５
I2: 目次へ戻る
A3: ５ 令和７年産水稲玄米のふるい目幅別収穫量（子実用）（10月25日現在）
I4: 単位：ｔ
A5: 区 分 | D5: 1.70㎜ 以 上
E6: 1.75㎜ 以 上
F7: 1.80㎜ 以 上
G8: 1.85㎜ 以 上
H9: 1.90㎜ 以 上
I10: 2.00㎜ 以 上
A12: 管 内 | C12: 1 | D12: 1527000 | E12: 1515000 | F12: 1495000 | G12: 1467000 | H12: 1419000 | I12: 1178000
A14: 茨 城 | C14: 2 | D14: 364000 | E14: 360200 | F14: 355200 | G14: 349500 | H14: 339000 | I14: 287100
B15: 北部･鹿行 | C15: 3 | D15: 124600 | E15: 123400 | F15: 121700 | G15: 120000 | H15: 116500 | I15: 99400
B16: 南部･西部 | C16: 4 | D16: 239200 | E16: 236800 | F16: 233500 | G16: 229800 | H16: 222400 | I16: 187700
A18: 栃 木 | C18: 5 | D18: 327000 | E18: 324700 | F18: 320300 | G18: 312600 | H18: 304600 | I18: 247100
B19: 北 部 | C19: 6 | D19: 135800 | E19: 134800 | F19: 133500 | G19: 131000 | H19: 128100 | I19: 107700
B20: 中 部 | C20: 7 | D20: 115800 | E20: 114800 | F20: 113000 | G20: 110400 | H20: 107100 | I20: 85000
B21: 南 部 | C21: 8 | D21: 75900 | E21: 75100 | F21: 73800 | G21: 72100 | H21: 69400 | I21: 54400
A23: 群 馬 | C23: 9 | D23: 75900 | E23: 75000 | F23: 73500 | G23: 71600 | H23: 68500 | I23: 54000
B24: 中 毛 | C24: 10 | D24: 33100 | E24: 32700 | F24: 31900 | G24: 31000 | H24: 29400 | I24: 22200
B25: 北 毛 | C25: 11 | D25: 9150 | E25: 9080 | F25: 8980 | G25: 8860 | H25: 8670 | I25: 7600
B26: 東 毛 | C26: 12 | D26: 33600 | E26: 33200 | F26: 32500 | G26: 31800 | H26: 30400 | I26: 24100
A28: 埼 玉 | C28: 13 | D28: 146600 | E28: 144600 | F28: 143800 | G28: 139900 | H28: 133900 | I28: 105600
B29: 東 部 | C29: 14 | D29: 95100 | E29: 93800 | F29: 93500 | G29: 91000 | H29: 87000 | I29: 68600
B30: 西 部 | C30: 15 | D30: 51500 | E30: 50800 | F30: 50300 | G30: 48900 | H30: 46800 | I30: 37000
A32: 千 葉 | C32: 16 | D32: 305200 | E32: 303100 | F32: 299200 | G32: 293500 | H32: 282100 | I32: 232700
B33: 京 葉 | C33: 17 | D33: 79400 | E33: 79000 | F33: 77800 | G33: 76300 | H33: 73200 | I33: 58400
B34: 九十九里 | C34: 18 | D34: 165300 | E34: 164600 | F34: 162400 | G34: 160000 | H34: 154400 | I34: 130200
B35: 南 房 総 | C35: 19 | D35: 59800 | E35: 59500 | F35: 58400 | G35: 57200 | H35: 54500 | I35: 44000
A37: 東 京 | C37: 20 | D37: 468 | E37: 463 | F37: 457 | G37: 445 | H37: 427 | I37: 325
A39: 神 奈 川 | C39: 21 | D39: 14200 | E39: 14000 | F39: 13700 | G39: 13300 | H39: 12500 | I39: 9480
A41: 山 梨 | C41: 22 | D41: 24400 | E41: 24300 | F41: 24000 | G41: 23700 | H41: 23100 | I41: 19500
A43: 長 野 | C43: 23 | D43: 191600 | E43: 191200 | F43: 189000 | G43: 187300 | H43: 182700 | I43: 162100
B44: 東 信 | C44: 24 | D44: 43500 | E44: 43400 | F44: 42900 | G44: 42400 | H44: 41300 | I44: 35800
B45: 南 信 | C45: 25 | D45: 51300 | E45: 51200 | F45: 50600 | G45: 50100 | H45: 49000 | I45: 44300
B46: 中 信 | C46: 26 | D46: 64400 | E46: 64300 | F46: 63400 | G46: 63000 | H46: 61500 | I46: 55200
B47: 北 信 | C47: 27 | D47: 32400 | E47: 32300 | F47: 32000 | G47: 31600 | H47: 30800 | I47: 26700
A49: 静 岡 | C49: 28 | D49: 77300 | E49: 77000 | F49: 75900 | G49: 74900 | H49: 72500 | I49: 60100
A51: 注：ふるい目幅別収穫量（子実用）とは、管内計、都県別の予想収穫量にふるい目幅別重量割合を乗じて算出したものである。

Sheet ×統計表６（修正）
H2: 目次へ戻る
A3: ６ 令和７年産水稲における生産者が使用したふるい目幅の分布
A4: 【令和７年産水稲作況標本（基準）筆生産者からの聞取り結果】
H5: 単位：％
A6: 全国農業地域 ・ 都 道 府 県 | B6: 計 | C6: 1.70mm以上 1.75mm未満 | D6: 1.75 ～1.80 | E6: 1.80 ～1.85 | F6: 1.85 ～1.90 | G6: 1.90 ～2.00 | H6: 2.00mm 以上
A9: 全国 | B9: 100 | C9: 0.1 | D9: 1.2 | E9: 23.2 | F9: 38.9 | G9: 36 | H9: 0.6
A10: (全国農業地域)
A11: 北海道
A12: 東北
A13: 北陸
A14: 関東・東山
A15: 東海
A16: 近畿
A17: 中国
A18: 四国
A19: 九州
A20: 沖縄
A21: (都道府県)
A22: 北海道 | B22: 100 | C22: 0.2 | D22: - | E22: 0.8 | F22: 21 | G22: 75.7 | H22: 2.3
A23: 青森 | B23: 100 | C23: - | D23: - | E23: - | F23: 1.1 | G23: 98.9 | H23: -
A24: 岩手 | B24: 100 | C24: - | D24: - | E24: 0.7 | F24: 2.5 | G24: 96.8 | H24: -
A25: 宮城 | B25: 100 | C25: - | D25: - | E25: - | F25: 5.9 | G25: 94.1 | H25: -
A26: 秋田 | B26: 100 | C26: - | D26: - | E26: 0.8 | F26: 15 | G26: 83.8 | H26: 0.4
A27: 山形 | B27: 100 | C27: - | D27: - | E27: 0.4 | F27: 14.7 | G27: 84.9 | H27: -
A28: 福島 | B28: 100 | C28: - | D28: - | E28: 0.8 | F28: 62.4 | G28: 36.8 | H28: -
A29: 茨城 | B29: 100 | C29: - | D29: - | E29: 10 | F29: 89 | G29: 1 | H29: -
A30: 栃木 | B30: 100 | C30: - | D30: 0.9 | E30: 3.8 | F30: 94.9 | G30: - | H30: 0.4
A31: 群馬 | B31: 100 | C31: 0.9 | D31: 3.7 | E31: 87.9 | F31: 5.6 | G31: 1.9 | H31: -
A32: 埼玉 | B32: 100 | C32: 1.9 | D32: 18.7 | E32: 71.7 | F32: 7.7 | G32: - | H32: -
A33: 千葉 | B33: 100 | C33: - | D33: 0.9 | E33: 86.8 | F33: 11.4 | G33: 0.9 | H33: -
A34: 東京 | B34: 100 | C34: - | D34: - | E34: 50 | F34: 50 | G34: - | H34: -
A35: 神奈川 | B35: 100 | C35: - | D35: 7.1 | E35: 90.5 | F35: 2.4 | G35: - | H35: -
A36: 新潟 | B36: 100 | C36: - | D36: - | E36: 1.6 | F36: 57.2 | G36: 39.3 | H36: 1.9
A37: 富山 | B37: 100 | C37: - | D37: - | E37: 0.5 | F37: 9.8 | G37: 89.7 | H37: -
A38: 石川 | B38: 100 | C38: - | D38: - | E38: 0.5 | F38: 38.4 | G38: 61.1 | H38: -
A39: 福井 | B39: 100 | C39: - | D39: - | E39: 0.5 | F39: 2.1 | G39: 95.8 | H39: 1.6
A40: 山梨 | B40: 100 | C40: - | D40: - | E40: 25.7 | F40: 74.3 | G40: - | H40: -
A41: 長野 | B41: 100 | C41: - | D41: - | E41: 12.1 | F41: 80.1 | G41: 6.8 | H41: 1
A42: 岐阜 | B42: 100 | C42: 1.4 | D42: - | E42: 39.9 | F42: 53.2 | G42: 4.1 | H42: 1.4
A43: 静岡 | B43: 100 | C43: - | D43: 3.2 | E43: 55.2 | F43: 41.6 | G43: - | H43: -
A44: 愛知 | B44: 100 | C44: - | D44: - | E44: 1.7 | F44: 41.1 | G44: 57.2 | H44: -
A45: 三重 | B45: 100 | C45: - | D45: - | E45: 11 | F45: 86.5 | G45: 2.5 | H45: -
A46: 滋賀 | B46: 100 | C46: - | D46: 0.5 | E46: 9.8 | F46: 36.4 | G46: 53.3 | H46: -
A47: 京都 | B47: 100 | C47: 0.9 | D47: - | E47: 24.5 | F47: 53.7 | G47: 20.9 | H47: -
A48: 大阪 | B48: 100 | C48: - | D48: 8.9 | E48: 84.4 | F48: 6.7 | G48: - | H48: -
A49: 兵庫 | B49: 100 | C49: - | D49: 2 | E49: 35.8 | F49: 48 | G49: 5.9 | H49: 8.3
A50: 奈良 | B50: 100 | C50: - | D50: - | E50: 98.7 | F50: 1.3 | G50: - | H50: -
A51: 和歌山 | B51: 100 | C51: - | D51: 21.9 | E51: 71.2 | F51: 5.5 | G51: 1.4 | H51: -
A52: 鳥取 | B52: 100 | C52: - | D52: 2.1 | E52: 7.3 | F52: 89.6 | G52: 1 | H52: -
A53: 島根 | B53: 100 | C53: - | D53: - | E53: 1.3 | F53: 5.8 | G53: 92.3 | H53: 0.6
A54: 岡山 | B54: 100 | C54: - | D54: 0.5 | E54: 12.8 | F54: 84.2 | G54: - | H54: 2.5
A55: 広島 | B55: 100 | C55: - | D55: - | E55: 10.6 | F55: 86.9 | G55: 2.5 | H55: -
A56: 山口 | B56: 100 | C56: - | D56: - | E56: 1.5 | F56: 82.9 | G56: 15.6 | H56: -
A57: 徳島 | B57: 100 | C57: - | D57: 3.2 | E57: 84.8 | F57: 12 | G57: - | H57: -
A58: 香川 | B58: 100 | C58: - | D58: 5.2 | E58: 81.7 | F58: 12.2 | G58: 0.9 | H58: -
A59: 愛媛 | B59: 100 | C59: - | D59: 0.9 | E59: 33.3 | F59: 65.8 | G59: - | H59: -
A60: 高知 | B60: 100 | C60: 1.3 | D60: - | E60: 86.7 | F60: 10.7 | G60: 1.3 | H60: -
A61: 福岡 | B61: 100 | C61: - | D61: - | E61: 11.9 | F61: 86 | G61: 2.1 | H61: -
A62: 佐賀 | B62: 100 | C62: - | D62: - | E62: - | F62: 48.4 | G62: 51.6 | H62: -
A63: 長崎 | B63: 100 | C63: 1 | D63: 5.8 | E63: 79.8 | F63: 6.7 | G63: 6.7 | H63: -
A64: 熊本 | B64: 100 | C64: - | D64: 0.5 | E64: 29.8 | F64: 69.7 | G64: - | H64: -
A65: 大分 | B65: 100 | C65: - | D65: 1.3 | E65: 52.2 | F65: 46.5 | G65: - | H65: -
A66: 宮崎 | B66: 100 | C66: - | D66: 1.2 | E66: 98.8 | F66: - | G66: - | H66: -
A67: 鹿児島 | B67: 100 | C67: - | D67: - | E67: 97.1 | F67: 1.9 | G67: 1 | H67: -
A68: 沖縄 | B68: 100 | C68: - | D68: 25 | E68: 75 | F68: - | G68: - | H68: -
A70: 注：生産者が使用したふるい目幅の分布とは、水稲作況標本（基準）筆生産者が使用したふるい目幅別の生産者数割合を示したものである。

Sheet 統計表６
L2: 目次へ戻る
A3: ６ 令和７年産水稲の作況標本筆の10ａ当たり収量の分布状況（10月25日現在）
M4: 単位：％
A5: 区 分 | D5: 計 | E5: 100kg未満 | F5: 100 ～200 | G5: 200 ～300 | H5: 300 ～400 | I5: 400 ～500 | J5: 500 ～600 | K5: 600 ～700 | L5: 700 ～800 | M5: 800kg以上
A7: 管 内 | C7: 1 | D7: 100 | E7: 0.1 | F7: 0.6 | G7: 1.4 | H7: 9.3 | I7: 26.9 | J7: 37.7 | K7: 20.1 | L7: 3.8 | M7: 0.1
A9: 茨 城 | C9: 2 | D9: 100 | E9: - | F9: - | G9: 0.4 | H9: 7 | I9: 34.3 | J9: 52.6 | K9: 5.7 | L9: - | M9: -
B10: 北部･鹿行 | C10: 3 | D10: 100 | E10: - | F10: - | G10: 1.1 | H10: 8.4 | I10: 33.7 | J10: 51.5 | K10: 5.3 | L10: - | M10: -
B11: 南部･西部 | C11: 4 | D11: 100 | E11: - | F11: - | G11: - | H11: 5.9 | I11: 34.8 | J11: 53.4 | K11: 5.9 | L11: - | M11: -
A13: 栃 木 | C13: 5 | D13: 100 | E13: - | F13: 0.4 | G13: 1.3 | H13: 8.4 | I13: 25.9 | J13: 43.5 | K13: 18.8 | L13: 1.7 | M13: -
B14: 北 部 | C14: 6 | D14: 100 | E14: - | F14: - | G14: 1 | H14: 4.8 | I14: 21 | J14: 43.6 | K14: 26.7 | L14: 2.9 | M14: -
B15: 中 部 | C15: 7 | D15: 100 | E15: - | F15: - | G15: - | H15: 5.5 | I15: 30.1 | J15: 47.9 | K15: 15.1 | L15: 1.4 | M15: -
B16: 南 部 | C16: 8 | D16: 100 | E16: - | F16: 1.6 | G16: 3.3 | H16: 18 | I16: 29.5 | J16: 37.8 | K16: 9.8 | L16: - | M16: -
A18: 群 馬 | C18: 9 | D18: 100 | E18: - | F18: 3.2 | G18: 3.2 | H18: 9.5 | I18: 42.8 | J18: 28.6 | K18: 11.1 | L18: 1.6 | M18: -
B19: 中 毛 | C19: 10 | D19: 100 | E19: - | F19: - | G19: - | H19: 20 | I19: 40 | J19: 35 | K19: 5 | L19: - | M19: -
B20: 北 毛 | C20: 11 | D20: 100 | E20: - | F20: - | G20: - | H20: 5.6 | I20: 49.9 | J20: 22.2 | K20: 16.7 | L20: 5.6 | M20: -
B21: 東 毛 | C21: 12 | D21: 100 | E21: - | F21: 8 | G21: 8 | H21: 4 | I21: 40 | J21: 28 | K21: 12 | L21: - | M21: -
A23: 埼 玉 | C23: 13 | D23: 100 | E23: 0.6 | F23: 1.9 | G23: 3.8 | H23: 19.4 | I23: 36.2 | J23: 30 | K23: 7.5 | L23: - | M23: 0.6
B24: 東 部 | C24: 14 | D24: 100 | E24: - | F24: 1.9 | G24: 2.9 | H24: 21.9 | I24: 42.7 | J24: 24.8 | K24: 4.8 | L24: - | M24: 1
B25: 西 部 | C25: 15 | D25: 100 | E25: 1.8 | F25: 1.8 | G25: 5.5 | H25: 14.5 | I25: 23.6 | J25: 40.1 | K25: 12.7 | L25: - | M25: -
A27: 千 葉 | C27: 16 | D27: 100 | E27: 0.5 | F27: - | G27: 0.5 | H27: 5 | I27: 24.1 | J27: 37.1 | K27: 31.4 | L27: 1.4 | M27: -
B28: 京 葉 | C28: 17 | D28: 100 | E28: - | F28: - | G28: - | H28: 7.1 | I28: 35.7 | J28: 35.8 | K28: 21.4 | L28: - | M28: -
B29: 九十九里 | C29: 18 | D29: 100 | E29: 0.9 | F29: - | G29: - | H29: 3.5 | I29: 17.4 | J29: 38.2 | K29: 37.4 | L29: 2.6 | M29: -
B30: 南 房 総 | C30: 19 | D30: 100 | E30: - | F30: - | G30: 2 | H30: 6.1 | I30: 26.5 | J30: 36.8 | K30: 28.6 | L30: - | M30: -
A32: 東 京 | C32: 20 | D32: … | E32: … | F32: … | G32: … | H32: … | I32: … | J32: … | K32: … | L32: … | M32: …
A34: 神 奈 川 | C34: 21 | D34: 100 | E34: - | F34: - | G34: - | H34: 16 | I34: 36 | J34: 46 | K34: 2 | L34: - | M34: -
A36: 山 梨 | C36: 22 | D36: 100 | E36: - | F36: - | G36: - | H36: 20.3 | I36: 29 | J36: 31.9 | K36: 11.6 | L36: 7.2 | M36: -
A38: 長 野 | C38: 23 | D38: 100 | E38: - | F38: 0.9 | G38: 0.9 | H38: 3.9 | I38: 7 | J38: 25.2 | K38: 44.7 | L38: 17 | M38: 0.4
B39: 東 信 | C39: 24 | D39: 100 | E39: - | F39: - | G39: - | H39: 2.2 | I39: 6.5 | J39: 26.1 | K39: 54.3 | L39: 10.9 | M39: -
B40: 南 信 | C40: 25 | D40: 100 | E40: - | F40: 1.4 | G40: - | H40: 2.9 | J40: 30.4 | K40: 39.3 | L40: 24.6 | M40: 1.4
B41: 中 信 | C41: 26 | D41: 100 | E41: - | F41: 1.5 | G41: 2.9 | H41: 1.5 | I41: 2.9 | J41: 19.1 | K41: 54.5 | L41: 17.6 | M41: -
B42: 北 信 | C42: 27 | D42: 100 | E42: - | F42: - | G42: - | H42: 10.6 | I42: 23.4 | J42: 25.5 | K42: 29.9 | L42: 10.6 | M42: -
A44: 静 岡 | C44: 28 | D44: 100 | E44: - | F44: - | G44: 3.2 | H44: 11.3 | I44: 31.5 | J44: 37.1 | K44: 16.1 | L44: 0.8 | M44: -
A46: 注：１ 10ａ当たり収量は、生産者が使用しているふるい目幅で選別された玄米の重量である。
A47: ２ 東京都については、水稲作況標本筆を設置していないことから「…」で示した。

Sheet 統計表７
I2: 目次へ戻る
A3: ７ 令和７年産水稲の作柄表示地帯別玄米重歩合（10月25日現在）
E5: 単位：％
A6: 都 県 ・ 作柄表示地帯 | E6: 玄米重 歩合
A7: 茨城 | D7: 1 | E7: 98
C8: 北部・鹿行 | D8: 2 | E8: 97.8
C9: 南部・西部 | D9: 3 | E9: 98
A10: 栃木 | D10: 4 | E10: 97.6
C11: 北部 | D11: 5 | E11: 98
C12: 中部 | D12: 6 | E12: 97.3
C13: 南部 | D13: 7 | E13: 97.3
A14: 群馬 | D14: 8 | E14: 95.4
C15: 中毛 | D15: 9 | E15: 96.7
C16: 北毛 | D16: 10 | E16: 98.5
C17: 東毛 | D17: 11 | E17: 93.4
A18: 埼玉 | D18: 12 | E18: 96.7
C19: 東部 | D19: 13 | E19: 96.4
C20: 西部 | D20: 14 | E20: 96.9
A21: 千葉 | D21: 15 | E21: 96.9
C22: 京葉 | D22: 16 | E22: 97
C23: 九十九里 | D23: 17 | E23: 97.2
C24: 南房総 | D24: 18 | E24: 96.1
A25: 東京 | D25: 19 | E25: 97.1
A26: 神奈川 | D26: 20 | E26: 96.8
A27: 山梨 | D27: 21 | E27: 98.4
A28: 長野 | D28: 22 | E28: 97
C29: 東信 | D29: 23 | E29: 97.2
C30: 南信 | D30: 24 | E30: 97.1
C31: 中信 | D31: 25 | E31: 96.5
C32: 北信 | D32: 26 | E32: 97.3
A33: 静岡 | D33: 27 | E33: 97.3
B35: 注：１ 作況標本筆のデータにより取りまとめたものである。
B36: ２ 1.70mmのふるい目幅で選別された10ａ当たり玄米重及び粗玄米重より推計したものである。
B37: ３ 東京都については水稲作況標本筆を設置しておらず、参考として水稲作況基準筆（10ａ当たり収量を巡回・見積りにより把握する際の
B38: 基準とするものとして有意に選定した筆）の結果を表章したものである。

Sheet 統計表8
J2: 目次へ戻る
A3: ８ 令和７年産水稲の作柄表示地帯別10ａ当たり予想収量及び作況単収指数
B4: （生産者が使用しているふるい目幅ベース）（10月25日現在）
A7: 都 県 ・ 作柄表示地帯 | D7: 10ａ当たり 予想収量 | E7: 対前年比 | F7: 作況単収指数
D8: ㎏ | E8: ％ | F8: ％
A9: 茨城 | C9: 1 | D9: 508 | E9: 97 | F9: 98
B10: 北部・鹿行 | C10: 2 | D10: 500 | E10: 97 | F10: 97
B11: 南部・西部 | C11: 3 | D11: 513 | E11: 98 | F11: 99
A12: 栃木 | C12: 4 | D12: 521 | E12: 100 | F12: 100
B13: 北部 | C13: 5 | D13: 548 | E13: 101 | F13: 101
B14: 中部 | C14: 6 | D14: 528 | E14: 100 | F14: 101
B15: 南部 | C15: 7 | D15: 471 | E15: 99 | F15: 98
A16: 群馬 | C16: 8 | D16: 490 | E16: 101 | F16: 101
B17: 中毛 | C17: 9 | D17: 486 | E17: 102 | F17: 102
B18: 北毛 | C18: 10 | D18: 525 | E18: 102 | F18: 101
B19: 東毛 | C19: 11 | D19: 480 | E19: 100 | F19: 99
A20: 埼玉 | C20: 12 | D20: 464 | E20: 100 | F20: 96
B21: 東部 | C21: 13 | D21: 456 | E21: 97 | F21: 93
B22: 西部 | C22: 14 | D22: 479 | E22: 107 | F22: 105
A23: 千葉 | C23: 15 | D23: 546 | E23: 98 | F23: 101
B24: 京葉 | C24: 16 | D24: 522 | E24: 100 | F24: 101
B25: 九十九里 | C25: 17 | D25: 562 | E25: 96 | F25: 101
B26: 南房総 | C26: 18 | D26: 536 | E26: 99 | F26: 101
A27: 東京 | C27: 19 | D27: 408 | E27: 101 | F27: 101
A28: 神奈川 | C28: 20 | D28: 482 | E28: 104 | F28: 102
A29: 山梨 | C29: 21 | D29: 511 | E29: 99 | F29: 100
A30: 長野 | C30: 22 | D30: 612 | E30: 101 | F30: 103
B31: 東信 | C31: 23 | D31: 624 | E31: 101 | F31: 104
B32: 南信 | C32: 24 | D32: 630 | E32: 103 | F32: 104
B33: 中信 | C33: 25 | D33: 624 | E33: 101 | F33: 102
B34: 北信 | C34: 26 | D34: 552 | E34: 101 | F34: 102
A35: 静岡 | C35: 27 | D35: 506 | E35: 107 | F35: 104
B37: 注：１ 対前年比は、前年産10ａ当たり収量に対する当年産10ａ当たり予想収量の比率であり、都県ごとに、過去５か年に生産者が使用したふるい目幅の分布において、
B38: 最も多い使用割合の目幅で選別された玄米を基に算出した数値である。
B39: ２ 作況単収指数は、生産者が使用しているふるい目幅ベースで算出した10ａ当たり収量の前年産までの５か年中３年平均（最高、最低除く）に対する10ａ当たり予想収量の比率である。

Sheet 統計表9
G2: 目次へ戻る
A3: ９ 令和７年産水稲の玄米品位の状況（10月25日現在）
G5: 単位：％
A6: 区 分 | D6: 白未熟粒 | E6: 死米 | F6: 胴割粒 | G6: 着色粒
A7: 管 内 | C7: 1 | D7: 4.7 | E7: 0.4 | F7: 1.2 | G7: 0.2
A8: 茨 城 | C8: 2 | D8: 4 | E8: 0.3 | F8: 0.8 | G8: 0.3
A9: 栃 木 | C9: 3 | D9: 4.6 | E9: 0.3 | F9: 1 | G9: 0.1
A10: 群 馬 | C10: 4 | D10: 7.4 | E10: 1.1 | F10: 2.4 | G10: 0.2
A11: 埼 玉 | C11: 5 | D11: 7.5 | E11: 0.4 | F11: 0.5 | G11: 0.2
A12: 千 葉 | C12: 6 | D12: 4.8 | E12: 0.4 | F12: 0.9 | G12: 0.3
A13: 東 京 | C13: 7 | D13: 8.1 | E13: 0.6 | F13: 1.6 | G13: 0.2
A14: 神 奈 川 | C14: 8 | D14: 5.4 | E14: 0.5 | F14: 2.2 | G14: 0.1
A15: 山 梨 | C15: 9 | D15: 3.1 | E15: 0.2 | F15: 3 | G15: 0.1
A16: 長 野 | C16: 10 | D16: 2.9 | E16: 0.1 | F16: 2.5 | G16: 0.2
A17: 静 岡 | C17: 11 | D17: 5.5 | E17: 0.4 | F17: 1.2 | G17: 0.3
A19: 注：１ 水稲作況標本（基準）筆の刈取試料（生産者が使用しているふるい目幅で選別した玄米）を、筆ごとに穀粒判別器を用いて品位分析を行い、
A20: その結果を集計したものであり、調製のうえ販売される玄米の品位とは異なる。
A21: ２ 白未熟粒は白色不透明な部分の大きさが粒平面の１／２以上のものである粒、死米は粉状質で光沢がないものが２／３以上を占める粒、
A22: 胴割粒は粒平面に横一条の亀裂がすっきり通っている粒、着色粒は着色部分の大きさが直径１mm以上かつ粒表面の２／３以下のものである粒をいう。
A23: ３ 品位分析が完了した筆の結果であり、次回公表において数値が変動することがある。

Sheet 調査の概要
A1: 目次へ戻る
A3: 調査の概要
B5: 本調査の「調査の概要」は、農林水産省ホームページの「統計情報」の次のURLからご覧いただけます。
B7: ・面積調査
B8: https://www.maff.go.jp/j/tokei/kouhyou/sakumotu/menseki/gaiyou/
B9: ・作況調査（水陸稲、麦類、大豆、そば、かんしょ、飼料作物、工芸農作物）
B10: https://www.maff.go.jp/j/tokei/kouhyou/sakumotu/sakkyou_kome/gaiyou/
B13: なお、調査対象数、10ａ当たり収量及び収穫量（主食用（生産者ふるい上米））の算出に用いるふるい目幅は以下のとおり。
B15: １ 調査対象数
B16: 予想収穫量調査
B17: 作況標本筆：1,440筆 作況基準筆：５筆
B19: ２ 令和７年産の10ａ当たり収量及び収穫量（主食用（生産者ふるい上米））の算出に用いるふるい目幅（管内）
C21: 農家等 使用目幅 | E21: 都 県
C22: 1.85㎜ | E22: 茨城県 栃木県 山梨県 長野県 静岡県
C23: 1.80㎜ | E23: 群馬県 埼玉県 千葉県 東京都 神奈川県
C24: 注： 10ａ当たり収量及び収穫量（主食用（生産者ふるい上米））の算出に用いるふるい目幅は、 都県ごとに「生産者が使用したふるい目幅の分布（水稲作況標本（基準）筆農家からの聞取り 結果）」の過去５か年平均において、最も多い使用割合を占めるふるい目幅である。

Sheet ×【配布】統計表６（修正）
A1: ６ 令和７年産水稲における生産者が使用したふるい目幅の分布
A2: 【令和７年産水稲作況標本（基準）筆生産者からの聞取り結果】
I3: 単位：％
A4: 全国農業地域 ・ 都 道 府 県 | C4: 計 | D4: 1.70㎜以上 1.75mm未満 | E4: 1.75 ～1.80 | F4: 1.80 ～1.85 | G4: 1.85 ～1.90 | H4: 1.90 ～2.00 | I4: 2.00㎜ 以 上
A7: 全国 | C7: ='×統計表６（修正）'!B9 -> 100 | D7: ='×統計表６（修正）'!C9 -> 0.1 | E7: ='×統計表６（修正）'!D9 -> 1.2 | F7: ='×統計表６（修正）'!E9 -> 23.2 | G7: ='×統計表６（修正）'!F9 -> 38.9 | H7: ='×統計表６（修正）'!G9 -> 36 | I7: ='×統計表６（修正）'!H9 -> 0.6
A8: (全国農業地域)
A9: 北海道 | C9: ='×統計表６（修正）'!B11 -> 0 | D9: ='×統計表６（修正）'!C11 -> 0 | E9: ='×統計表６（修正）'!D11 -> 0 | F9: ='×統計表６（修正）'!E11 -> 0 | G9: ='×統計表６（修正）'!F11 -> 0 | H9: ='×統計表６（修正）'!G11 -> 0 | I9: ='×統計表６（修正）'!H11 -> 0
A10: 東北 | C10: ='×統計表６（修正）'!B12 -> 0 | D10: ='×統計表６（修正）'!C12 -> 0 | E10: ='×統計表６（修正）'!D12 -> 0 | F10: ='×統計表６（修正）'!E12 -> 0 | G10: ='×統計表６（修正）'!F12 -> 0 | H10: ='×統計表６（修正）'!G12 -> 0 | I10: ='×統計表６（修正）'!H12 -> 0
A11: 北陸 | C11: ='×統計表６（修正）'!B13 -> 0 | D11: ='×統計表６（修正）'!C13 -> 0 | E11: ='×統計表６（修正）'!D13 -> 0 | F11: ='×統計表６（修正）'!E13 -> 0 | G11: ='×統計表６（修正）'!F13 -> 0 | H11: ='×統計表６（修正）'!G13 -> 0 | I11: ='×統計表６（修正）'!H13 -> 0
A12: 関東・東山 | C12: ='×統計表６（修正）'!B14 -> 0 | D12: ='×統計表６（修正）'!C14 -> 0 | E12: ='×統計表６（修正）'!D14 -> 0 | F12: ='×統計表６（修正）'!E14 -> 0 | G12: ='×統計表６（修正）'!F14 -> 0 | H12: ='×統計表６（修正）'!G14 -> 0 | I12: ='×統計表６（修正）'!H14 -> 0
A13: 東海 | C13: ='×統計表６（修正）'!B15 -> 0 | D13: ='×統計表６（修正）'!C15 -> 0 | E13: ='×統計表６（修正）'!D15 -> 0 | F13: ='×統計表６（修正）'!E15 -> 0 | G13: ='×統計表６（修正）'!F15 -> 0 | H13: ='×統計表６（修正）'!G15 -> 0 | I13: ='×統計表６（修正）'!H15 -> 0
A14: 近畿 | C14: ='×統計表６（修正）'!B16 -> 0 | D14: ='×統計表６（修正）'!C16 -> 0 | E14: ='×統計表６（修正）'!D16 -> 0 | F14: ='×統計表６（修正）'!E16 -> 0 | G14: ='×統計表６（修正）'!F16 -> 0 | H14: ='×統計表６（修正）'!G16 -> 0 | I14: ='×統計表６（修正）'!H16 -> 0
A15: 中国 | C15: ='×統計表６（修正）'!B17 -> 0 | D15: ='×統計表６（修正）'!C17 -> 0 | E15: ='×統計表６（修正）'!D17 -> 0 | F15: ='×統計表６（修正）'!E17 -> 0 | G15: ='×統計表６（修正）'!F17 -> 0 | H15: ='×統計表６（修正）'!G17 -> 0 | I15: ='×統計表６（修正）'!H17 -> 0
A16: 四国 | C16: ='×統計表６（修正）'!B18 -> 0 | D16: ='×統計表６（修正）'!C18 -> 0 | E16: ='×統計表６（修正）'!D18 -> 0 | F16: ='×統計表６（修正）'!E18 -> 0 | G16: ='×統計表６（修正）'!F18 -> 0 | H16: ='×統計表６（修正）'!G18 -> 0 | I16: ='×統計表６（修正）'!H18 -> 0
A17: 九州 | C17: ='×統計表６（修正）'!B19 -> 0 | D17: ='×統計表６（修正）'!C19 -> 0 | E17: ='×統計表６（修正）'!D19 -> 0 | F17: ='×統計表６（修正）'!E19 -> 0 | G17: ='×統計表６（修正）'!F19 -> 0 | H17: ='×統計表６（修正）'!G19 -> 0 | I17: ='×統計表６（修正）'!H19 -> 0
A18: 沖縄 | C18: ='×統計表６（修正）'!B20 -> 0 | D18: ='×統計表６（修正）'!C20 -> 0 | E18: ='×統計表６（修正）'!D20 -> 0 | F18: ='×統計表６（修正）'!E20 -> 0 | G18: ='×統計表６（修正）'!F20 -> 0 | H18: ='×統計表６（修正）'!G20 -> 0 | I18: ='×統計表６（修正）'!H20 -> 0
A19: (都道府県)
A20: 北海道 | C20: ='×統計表６（修正）'!B22 -> 100 | D20: ='×統計表６（修正）'!C22 -> 0.2 | E20: ='×統計表６（修正）'!D22 -> - | F20: ='×統計表６（修正）'!E22 -> 0.8 | G20: ='×統計表６（修正）'!F22 -> 21 | H20: ='×統計表６（修正）'!G22 -> 75.7 | I20: ='×統計表６（修正）'!H22 -> 2.3
A21: 青森 | C21: ='×統計表６（修正）'!B23 -> 100 | D21: ='×統計表６（修正）'!C23 -> - | E21: ='×統計表６（修正）'!D23 -> - | F21: ='×統計表６（修正）'!E23 -> - | G21: ='×統計表６（修正）'!F23 -> 1.1 | H21: ='×統計表６（修正）'!G23 -> 98.9 | I21: ='×統計表６（修正）'!H23 -> -
A22: 岩手 | C22: ='×統計表６（修正）'!B24 -> 100 | D22: ='×統計表６（修正）'!C24 -> - | E22: ='×統計表６（修正）'!D24 -> - | F22: ='×統計表６（修正）'!E24 -> 0.7 | G22: ='×統計表６（修正）'!F24 -> 2.5 | H22: ='×統計表６（修正）'!G24 -> 96.8 | I22: ='×統計表６（修正）'!H24 -> -
A23: 宮城 | C23: ='×統計表６（修正）'!B25 -> 100 | D23: ='×統計表６（修正）'!C25 -> - | E23: ='×統計表６（修正）'!D25 -> - | F23: ='×統計表６（修正）'!E25 -> - | G23: ='×統計表６（修正）'!F25 -> 5.9 | H23: ='×統計表６（修正）'!G25 -> 94.1 | I23: ='×統計表６（修正）'!H25 -> -
A24: 秋田 | C24: ='×統計表６（修正）'!B26 -> 100 | D24: ='×統計表６（修正）'!C26 -> - | E24: ='×統計表６（修正）'!D26 -> - | F24: ='×統計表６（修正）'!E26 -> 0.8 | G24: ='×統計表６（修正）'!F26 -> 15 | H24: ='×統計表６（修正）'!G26 -> 83.8 | I24: ='×統計表６（修正）'!H26 -> 0.4
A25: 山形 | C25: ='×統計表６（修正）'!B27 -> 100 | D25: ='×統計表６（修正）'!C27 -> - | E25: ='×統計表６（修正）'!D27 -> - | F25: ='×統計表６（修正）'!E27 -> 0.4 | G25: ='×統計表６（修正）'!F27 -> 14.7 | H25: ='×統計表６（修正）'!G27 -> 84.9 | I25: ='×統計表６（修正）'!H27 -> -
A26: 福島 | C26: ='×統計表６（修正）'!B28 -> 100 | D26: ='×統計表６（修正）'!C28 -> - | E26: ='×統計表６（修正）'!D28 -> - | F26: ='×統計表６（修正）'!E28 -> 0.8 | G26: ='×統計表６（修正）'!F28 -> 62.4 | H26: ='×統計表６（修正）'!G28 -> 36.8 | I26: ='×統計表６（修正）'!H28 -> -
A27: 茨城 | C27: ='×統計表６（修正）'!B29 -> 100 | D27: ='×統計表６（修正）'!C29 -> - | E27: ='×統計表６（修正）'!D29 -> - | F27: ='×統計表６（修正）'!E29 -> 10 | G27: ='×統計表６（修正）'!F29 -> 89 | H27: ='×統計表６（修正）'!G29 -> 1 | I27: ='×統計表６（修正）'!H29 -> -
A28: 栃木 | C28: ='×統計表６（修正）'!B30 -> 100 | D28: ='×統計表６（修正）'!C30 -> - | E28: ='×統計表６（修正）'!D30 -> 0.9 | F28: ='×統計表６（修正）'!E30 -> 3.8 | G28: ='×統計表６（修正）'!F30 -> 94.9 | H28: ='×統計表６（修正）'!G30 -> - | I28: ='×統計表６（修正）'!H30 -> 0.4
A29: 群馬 | C29: ='×統計表６（修正）'!B31 -> 100 | D29: ='×統計表６（修正）'!C31 -> 0.9 | E29: ='×統計表６（修正）'!D31 -> 3.7 | F29: ='×統計表６（修正）'!E31 -> 87.9 | G29: ='×統計表６（修正）'!F31 -> 5.6 | H29: ='×統計表６（修正）'!G31 -> 1.9 | I29: ='×統計表６（修正）'!H31 -> -
A30: 埼玉 | C30: ='×統計表６（修正）'!B32 -> 100 | D30: ='×統計表６（修正）'!C32 -> 1.9 | E30: ='×統計表６（修正）'!D32 -> 18.7 | F30: ='×統計表６（修正）'!E32 -> 71.7 | G30: ='×統計表６（修正）'!F32 -> 7.7 | H30: ='×統計表６（修正）'!G32 -> - | I30: ='×統計表６（修正）'!H32 -> -
A31: 千葉 | C31: ='×統計表６（修正）'!B33 -> 100 | D31: ='×統計表６（修正）'!C33 -> - | E31: ='×統計表６（修正）'!D33 -> 0.9 | F31: ='×統計表６（修正）'!E33 -> 86.8 | G31: ='×統計表６（修正）'!F33 -> 11.4 | H31: ='×統計表６（修正）'!G33 -> 0.9 | I31: ='×統計表６（修正）'!H33 -> -
... A66: 沖縄 | C66: ='×統計表６（修正）'!B68 -> 100 | D66: ='×統計表６（修正）'!C68 -> - | E66: ='×統計表６（修正）'!D68 -> 25 | F66: ='×統計表６（修正）'!E68 -> 75 | G66: ='×統計表６（修正）'!F68 -> - | H66: ='×統計表６（修正）'!G68 -> - | I66: ='×統計表６（修正）'!H68 -> -
A68: 注： 生産者が使用したふるい目幅の分布とは、水稲作況標本（基準）筆生産者が使用したふるい目幅別の生産者数 割合を示したものである。

Sheet ×【配布】統計表８（修正）
A1: 10 令和７年産水稲の作柄表示地帯別10ａ当たり収量対前年比 | U1: 10 令和７年産水稲の作柄表示地帯別10ａ当たり収量対前年比
B2: （10月25日現在）（生産者が使用しているふるい目幅ベース） | V2: （10月25日現在）（生産者が使用しているふるい目幅ベース）（続き）
R3: 単位：％ | AL3: 単位：％
A4: 都道府県 （対前年比） | D4: 作柄表示地帯 | G4: 対前年比 | J4: 都道府県 | M4: 作柄表示地帯 | P4: 対前年比 | U4: 都道府県 （対前年比） | X4: 作柄表示地帯 | AA4: 対前年比 | AD4: 都道府県 | AG4: 作柄表示地帯 | AJ4: 対前年比
B6: 北海道 | E6: 石狩 | H6: 103 | K6: 埼玉 | N6: 東部 | Q6: 96 | V6: 三重 | Y6: 北勢 | AB6: 99 | AE6: 高知 | AH6: 中東部 | AK6: 101
B7: 103 | E7: 南空知 | H7: 103 | K7: 97 | N7: 西部 | Q7: 98 | V7: 98 | Y7: 中勢 | AB7: 98 | AE7: 100 | AH7: 西部 | AK7: 97
E8: 北空知 | H8: 103 | Y8: 南勢 | AB8: 98
E9: 上川 | H9: 104 | K9: 千葉 | N9: 京葉 | Q9: 102 | Y9: 伊賀 | AB9: 97 | AE9: 福岡 | AH9: 福岡 | AK9: 97
E10: 留萌 | H10: 105 | K10: 105 | N10: 九十九里 | Q10: 106 | AE10: 98 | AH10: 北東部 | AK10: 94
E11: 渡島・檜山 | H11: 104 | N11: 南房総 | Q11: 106 | V11: 滋賀 | Y11: 湖南 | AB11: 100 | AH11: 筑後 | AK11: 101
E12: 後志 | H12: 102 | V12: 100 | Y12: 湖北 | AB12: 100
E13: 胆振・日高 | H13: 102 | K13: 東京 | N13: - | Q13: 100 | AE13: 佐賀 | AH13: 佐賀 | AK13: 99
E14: オホーツク・十勝 | H14: 109 | K14: 100 | V14: 京都 | Y14: 南部 | AB14: 108 | AE14: 99 | AH14: 松浦 | AK14: 96
V15: 104 | Y15: 北部 | AB15: 100
B16: 青森 | E16: 青森 | H16: 103 | K16: 神奈川 | N16: - | Q16: 97 | AE16: 長崎 | AH16: 南部 | AK16: 102
B17: 103 | E17: 津軽 | H17: 103 | K17: 97 | V17: 大阪 | Y17: - | AB17: 99 | AE17: 102 | AH17: 北部 | AK17: 102
E18: 南部・下北 | H18: 106 | V18: 99 | AH18: 五島 | AK18: 96
K19: 新潟 | N19: 下越 | Q19: 97 | AH19: 壱岐・対馬 | AK19: 97
B20: 岩手 | E20: 北上川上流 | H20: 107 | K20: 98 | N20: 中越 | Q20: 99 | V20: 兵庫 | Y20: 県南 | AB20: 99
B21: 106 | E21: 北上川下流 | H21: 105 | N21: 上越 | Q21: 101 | V21: 99 | Y21: 県北 | AB21: 100 | AE21: 熊本 | AH21: 県北 | AK21: 101
E22: 東部 | H22: 108 | N22: 佐渡 | Q22: 95 | Y22: 淡路 | AB22: 103 | AE22: 102 | AH22: 阿蘇 | AK22: 105
E23: 北部 | H23: 108 | AH23: 県南 | AK23: 101
K24: 富山 | N24: - | Q24: 99 | V24: 奈良 | Y24: - | AB24: 103 | AH24: 天草 | AK24: 100
B25: 宮城 | E25: 南部 | H25: 106 | K25: 99 | V25: 103
B26: 107 | E26: 中部 | H26: 106 | AE26: 大分 | AH26: 北部 | AK26: 98
E27: 北部 | H27: 107 | K27: 石川 | N27: 加賀 | Q27: 101 | V27: 和歌山 | Y27: - | AB27: 102 | AE27: 101 | AH27: 湾岸 | AK27: 103
E28: 東部 | H28: 107 | K28: 99 | N28: 能登 | Q28: 96 | V28: 102 | AH28: 南部 | AK28: 102
AH29: 日田 | AK29: 102
B30: 秋田 | E30: 県北 | H30: 103 | K30: 福井 | N30: 嶺北 | Q30: 102 | V30: 鳥取 | Y30: 東部 | AB30: 100
B31: 102 | E31: 県中央 | H31: 100 | K31: 102 | N31: 嶺南 | Q31: 101 | V31: 99 | Y31: 西部 | AB31: 99 | AE31: 宮崎 | AH31: 広域沿海 | AK31: 97
E32: 県南 | H32: 103 | AE32: 97 | AH32: 広域霧島 | AK32: 96
K33: 山梨 | N33: - | Q33: 100 | V33: 島根 | Y33: 出雲 | AB33: 101 | AH33: 西北山間 | AK33: 93
B34: 山形 | E34: 村山 | H34: 101 | K34: 100 | V34: 100 | Y34: 石見 | AB34: 98
B35: 97 | E35: 最上 | H35: 94 | AE35: 鹿児島 | AH35: 薩摩半島 | AK35: 95
E36: 置賜 | H36: 100 | K36: 長野 | N36: 東信 | Q36: 101 | V36: 岡山 | Y36: 南部 | AB36: 101 | AE36: 97 | AH36: 出水薩摩 | AK36: 95
E37: 庄内 | H37: 94 | K37: 101 | N37: 南信 | Q37: 100 | V37: 99 | Y37: 中北部 | AB37: 96 | AH37: 伊佐姶良 | AK37: 97
N38: 中信 | Q38: 101 | AH38: 大隅半島 | AK38: 98
B39: 福島 | E39: 中通り | H39: 103 | N39: 北信 | Q39: 100 | V39: 広島 | Y39: 南部 | AB39: 106 | AH39: 熊毛・大島 | AK39: 96
B40: 102 | E40: 浜通り | H40: 104 | V40: 101 | Y40: 北部 | AB40: 98
E41: 会津 | H41: 102 | K41: 岐阜 | N41: 西南濃 | Q41: 100 | AE41: 沖縄 | AH41: 沖縄諸島 | AK41: 106
K42: 100 | N42: 中濃 | Q42: 98 | V42: 山口 | Y42: 東部 | AB42: 101 | AE42: 105 | AH42: 八重山 | AK42: 104
B43: 茨城 | E43: 北部・鹿行 | H43: 103 | N43: 東濃 | Q43: 98 | V43: 103 | Y43: 西部 | AB43: 103
B44: 103 | E44: 南部・西部 | H44: 104 | N44: 飛騨 | Q44: 100 | Y44: 長北 | AB44: 104
B46: 栃木 | E46: 北部 | H46: 101 | K46: 静岡 | N46: - | Q46: 95 | V46: 徳島 | Y46: 北部 | AB46: 100
B47: 101 | E47: 中部 | H47: 103 | K47: 95 | V47: 100 | Y47: 南部 | AB47: 99
E48: 南部 | H48: 100
K49: 愛知 | N49: 尾張 | Q49: 99 | V49: 香川 | Y49: - | AB49: 100
B50: 群馬 | E50: 中毛 | H50: 101 | K50: 99 | N50: 西三河 | Q50: 100 | V50: 100
B51: 100 | E51: 北毛 | H51: 101 | N51: 東三河 | Q51: 100
E52: 東毛 | H52: 99 | V52: 愛媛 | Y52: 東予 | AB52: 103
V53: 102 | Y53: 中予 | AB53: 101
Y54: 南予 | AB54: 102
A56: 注：１ 対前年比は、前年産10ａ当たり収量に対する当年産10ａ当たり予想収量の比率であり、都道府 県ごとに、過去５か年に農家等が使用したふるい目幅の分布において、最も多い使用割合の目幅 で選別された玄米を基に算出した数値である。 | U56: ２ 徳島県、高知県、宮崎県、鹿児島県及び沖縄県の対前年比は、早期栽培（第一期稲）と普通栽培 （第二期稲）を合算したものである。 また、沖縄県の第二期稲は未確定の要素が多いことから、沖縄県の対前年比の算出には、第一期 稲の10ａ当たり収量と第二期稲の10ａ当たり平均収量の加重平均を用いた。
