Workbook

Sheet チェックシート
A1: 令和５年度農山漁村振興交付金事業実施チェックシート
A2: 令和５年度農山漁村振興交付金（農山漁村発イノベーション対策） （農山漁村発イノベーション推進事業（農泊推進型）のうち農泊推進事業、人材活用事業、農家民宿転換促進費 及び農山漁村発イノベーション整備事業（農泊推進型））
B4: 事業メニューの選択
A5: □ | B5: 農泊推進事業
A6: □ | B6: 人材活用事業（農泊推進事業とセットで可）
A7: □ | B7: 農家民宿転換促進費 （農家民泊経営者等実施型とセットで可）
A8: □ | B8: 市町村・中核法人実施型（施設整備ハード）
A9: □ | B9: 農家民泊経営者等実施型（施設整備ハード）
B11: 地域・事業実施主体の概要
A12: □ | B12: 事業実施主体（地域協議会）構成員数（団体数） | E12: 0 | F12: 名 | G12: 0 | H12: 団体
A13: □ | B13: うち宿泊関係者数（団体数） | F13: 名 | H13: 団体
A14: □ | B14: うち飲食関係者数（団体数） | F14: 名 | H14: 団体
A15: □ | B15: うち体験プログラム提供者数（団体数） | F15: 名 | H15: 団体
A16: □ | B16: 上記以外の連携団体の有無
B17: （有の場合は、連携団体の構成員数（団体数） | F17: 名 | H17: 団体
B18: ※団体数は構成員が所属する組織数とする。
B20: 課題に対する対応（営業の最低継続期間）
A21: □ | B21: ① 農泊推進事業及び人材活用事業は、事業完了後５年間の営業継続を行う必要 | I21: 令和 | K21: 年
A22: □ | B22: ② 施設整備事業は、施設の処分制限期間又は10年間のいずれか長い期間営業継続を行う必要 | I22: 令和 | K22: 年
A23: □ | B23: ③ ①及び②を合わせて行う場合は、①は事業完了後５年間の営業継続を行う必要 | I23: 令和 | K23: 年
B24: ②は施設の処分制限期間又は10年間のいずれか長い期間営業継続を行う必要 | I24: 令和 | K24: 年
B26: 目標
A27: =+A5 -> □ | B27: （１）目標及び評価指標（農泊推進事業、人材活用事業）
B28: 目標項目 | D28: 現状 | E28: 途中年度 | F28: 目標年度 | G28: 目標設定の考え方
D29: 令和４年度 | E29: 令和５年度 | F29: 令和６年度
B30: 売上高（万円）
B31: 延べ宿泊者数（人泊）
B32: 評価指標項目 | D32: 現状 | E32: 途中年度 | F32: 目標年度 | G32: 評価指標設定の考え方
D33: =+D29 -> 令和４年度 | E33: =+E29 -> 令和５年度 | F33: =+F29 -> 令和６年度
B37: ※ 数値は事業実施主体構成員の数値の単純合計とする。
A39: □ | B39: 【参考】
B40: 目標項目 | D40: 現状 | E40: 事業着手５年目
D41: =+D29 -> 令和４年度 | E41: 令和９年度
B42: 年間宿泊者数（人泊）
A44: □ | B44: （２）目標及び評価指標（市町村・中核法人実施型、農家民泊経営者等実施型）
B45: 目標項目 | D45: 現状 | E45: 途中年度 | F45: 途中年度 | G45: 目標年度 | H45: 目標設定の考え方
D46: =+D29 -> 令和４年度 | E46: =+E29 -> 令和５年度 | F46: =+F29 -> 令和６年度 | G46: 令和７年度
B47: 売上高（万円）
B48: 延べ宿泊者数（人泊）
B49: 評価指標項目 | D49: 現状 | E49: 途中年度 | F49: 途中年度 | G49: 目標年度 | H49: 評価指標設定の考え方
...

Sheet 構成員による目標の内訳（追記シート）
B2: 農泊推進事業・人材活用事業(施設整備事業分を除く)
A3: =+チェックシート!A27 -> □ | B3: 【地域の売上高】 | H3: 単位:万円
B4: 構成員名 | C4: 宿泊・飲食・体験 | D4: 現状 | E4: 途中年度 | F4: 目標年度 | G4: 食材提供農業者等名
D5: =+チェックシート!D29 -> 令和４年度 | E5: =+チェックシート!E29 -> 令和５年度 | F5: =+チェックシート!F29 -> 令和６年度
C6: 飲食
B14: 合計 | D14: =SUM(D6:D13) -> 0 | E14: =SUM(E6:E13) -> 0 | F14: =SUM(F6:F13) -> 0
A16: =+チェックシート!A27 -> □ | B16: 【延べ宿泊者数】 | H16: 単位;人/泊
B17: 構成員名 | C17: 宿泊 | D17: 現状 | E17: 途中年度 | F17: 目標年度 | G17: 備考
D18: =+チェックシート!D29 -> 令和４年度 | E18: =+チェックシート!E29 -> 令和５年度 | F18: =+チェックシート!F29 -> 令和６年度
B27: 合計 | D27: =SUM(D19:D26) -> 0 | E27: =SUM(E19:E26) -> 0 | F27: =SUM(F19:F26) -> 0
B30: 施設整備事業
A31: =+チェックシート!A44 -> □ | B31: 【売上高】 | H31: 単位:万円
B32: 事業実施主体名 （施設名） | C32: 宿泊・飲食・体験 | D32: 現状 | E32: 途中年度 | F32: 途中年度 | G32: 目標年度 | H32: 食材提供農業者等名
D33: =+チェックシート!D46 -> 令和４年度 | E33: =+チェックシート!E46 -> 令和５年度 | F33: =+チェックシート!F46 -> 令和６年度 | G33: =+チェックシート!G46 -> 令和７年度
B36: 合計 | D36: =SUM(D34:D35) -> 0 | E36: =SUM(E34:E35) -> 0 | F36: =SUM(F34:F35) -> 0 | G36: =SUM(G34:G35) -> 0
A38: =+チェックシート!A44 -> □ | B38: 【延べ宿泊者数】 | H38: 単位;人/泊
B39: 事業実施主体名 （施設名） | C39: 宿泊 | D39: 現状 | E39: 途中年度 | F39: 途中年度 | G39: 目標年度 | H39: 備考
D40: =+チェックシート!D46 -> 令和４年度 | E40: =+チェックシート!E46 -> 令和５年度 | F40: =+チェックシート!F46 -> 令和６年度 | G40: =+チェックシート!G46 -> 令和７年度
B43: 合計 | D43: =SUM(D41:D42) -> 0 | E43: =SUM(E41:E42) -> 0 | F43: =SUM(F41:F42) -> 0 | G43: =SUM(G41:G42) -> 0

Sheet 事業実施主体構成員
B1: 地域・事業実施主体の概要
A2: =+チェックシート!A12 -> □ | B2: 事業実施主体（地域協議会）構成員数（団体数） | C2: =+チェックシート!E12 -> 0 | D2: 名 | E2: =+チェックシート!G12 -> 0 | F2: 団体
A3: =+チェックシート!A13 -> □ | B3: うち宿泊関係者数（団体数） | C3: =+チェックシート!E13 -> 0 | D3: 名 | E3: =+チェックシート!G13 -> 0 | F3: 団体
A4: =+チェックシート!A14 -> □ | B4: うち飲食関係者数（団体数） | C4: =+チェックシート!E14 -> 0 | D4: 名 | E4: =+チェックシート!G14 -> 0 | F4: 団体
A5: =+チェックシート!A15 -> □ | B5: うち体験プログラム提供者数（団体数） | C5: =+チェックシート!E15 -> 0 | D5: 名 | E5: =+チェックシート!G15 -> 0 | F5: 団体
A6: =+チェックシート!A16 -> □ | B6: 上記以外の連携団体の有無
B7: （有の場合は、連携団体の構成員数（団体数） | C7: =+チェックシート!E17 -> 0 | D7: 名 | E7: =+チェックシート!G17 -> 0 | F7: 団体
B9: 事業実施主体構成員（上記表の構成員数と整合）
B10: 事業実施主体構成員（団体又は個人）の名称[法人形態] | C10: 中核法人 | D10: 事業実施主体内における役割 | G10: インバウンド受入対応の可否 | H10: ワーケーション受入対応の可否
B11: 所在地及び連絡先
B24: ※１ 地域協議会構成員については、宿泊、食事及び体験プログラムを提供する者を含むこと。
B25: ※２ 「事業実施主体内における役割」欄には、「体験プログラム（○○○）を提供」「飲食店（○○○）を提供」「宿泊（定員：○名）」等具体的に記載すること。
B26: ※３ 事業実施主体が連携体の場合は、地域協議会及びその構成員である農家民泊経営者等を全て記載すること。
B27: ※４ 「中核法人」欄には中核法人（農泊実施の中心的な役割を担う法人又は当該法人となることが見込まれる団体）である者の箇所に「〇」印を記載すること。
B30: 役員名簿 | I30: 必須要件として確認
B31: 役職等 | C31: 氏名 | F31: 氏名
B32: ①代表者 | E32: ①の地位継承者
B33: ②運営責任者（プロジェクトマネージャー） | E33: ②の地位継承者
B34: ③事務局長 | E34: ③の地位継承者
B35: ④経理責任者 | E35: ④の地位継承者
B36: ⑤監事
B37: ※１ 「事業実施主体構成員」における役割分担を踏まえつつ、代表者、運営責任者（プロジェクトマネージャー）、事務局長及び経理責任者が不在となった場合の地位継承者等を必ず明示すること。
B39: ※２ 代表者、運営責任者（プロジェクトマネージャー）、事務局長、経理責任者、監事等については、経歴や実績（ただし、観光や地域振興に関係した分野に限定）を添付すること。

Sheet 取組内容と主な経費（ソフトのみ）１年目
B2: 事業計画とその経費の内訳（※ 積算資料は必ず添付してください。）（ソフトのみ用）
B3: 取組内容と主な経費（１年目） | G3: （単位：千円）
B4: 取組内容 | C4: 総事業費 | D4: 本交付金 | E4: 他の補助金等 | F4: 自己資金 | G4: 備考
A5: =+チェックシート!A5 -> □ | B5: １．農泊推進事業 | C5: ①＝②＋③＋④ | D5: ② | E5: ③ | F5: ④
B6: 小計 | C6: =SUM(C7:C11) -> 0 | D6: =SUM(D7:D11) -> 0 | E6: =SUM(E7:E11) -> 0 | F6: =SUM(F7:F11) -> 0
C7: =SUM(D7:F7) -> 0
C8: =SUM(D8:F8) -> 0
C9: =SUM(D9:F9) -> 0
C10: =SUM(D10:F10) -> 0
C11: =SUM(D11:F11) -> 0
A12: =+チェックシート!A6 -> □ | B12: ２．人材活用事業 | C12: ①＝②＋③＋④ | D12: ② | E12: ③ | F12: ④
B13: 小計 | C13: =SUM(C14:C19) -> 0 | D13: =SUM(D14:D19) -> 0 | E13: =SUM(E14:E19) -> 0 | F13: =SUM(F14:F19) -> 0
C14: =SUM(D14:F14) -> 0
C15: =SUM(D15:F15) -> 0
C16: =SUM(D16:F16) -> 0
C17: =SUM(D17:F17) -> 0
C18: =SUM(D18:F18) -> 0
C19: =SUM(D19:F19) -> 0
B20: 注１ 取組内容は提案書の「解決される地域課題」に対する対応（事業実施内容）と整合を図ること。
B21: 注２ 「他の補助金等」又は「自己資金」がある場合は、備考欄に資金の性格（相手方、資金の受入時期等）を必ず記載すること。

Sheet 取組内容と主な経費（ソフトのみ）２年目
B2: 事業計画とその経費の内訳（※ 積算資料は必ず添付してください。）（ソフトのみ用）
B3: 取組内容と主な経費（２年目） | G3: （単位：千円）
B4: 取組内容 | C4: 総事業費 | D4: 本交付金 | E4: 他の補助金等 | F4: 自己資金 | G4: 備考
A5: =+チェックシート!A5 -> □ | B5: １．農泊推進事業 | C5: ①＝②＋③＋④ | D5: ② | E5: ③ | F5: ④
B6: 小計 | C6: =SUM(C7:C11) -> 0 | D6: =SUM(D7:D11) -> 0 | E6: =SUM(E7:E11) -> 0 | F6: =SUM(F7:F11) -> 0
C7: =SUM(D7:F7) -> 0
C8: =SUM(D8:F8) -> 0
C9: =SUM(D9:F9) -> 0
C10: =SUM(D10:F10) -> 0
C11: =SUM(D11:F11) -> 0
A12: =+チェックシート!A6 -> □ | B12: ２．人材活用事業 | C12: ①＝②＋③＋④ | D12: ② | E12: ③ | F12: ④
B13: 小計 | C13: =SUM(C14:C19) -> 0 | D13: =SUM(D14:D19) -> 0 | E13: =SUM(E14:E19) -> 0 | F13: =SUM(F14:F19) -> 0
C14: =SUM(D14:F14) -> 0
C15: =SUM(D15:F15) -> 0
C16: =SUM(D16:F16) -> 0
C17: =SUM(D17:F17) -> 0
C18: =SUM(D18:F18) -> 0
C19: =SUM(D19:F19) -> 0
B20: 注１ 取組内容は提案書の「解決される地域課題」に対する対応（事業実施内容）と整合を図ること。
B21: 注２ 「他の補助金等」又は「自己資金」がある場合は、備考欄に資金の性格（相手方、資金の受入時期等）を必ず記載すること。

Sheet 取組内容と主な経費（ソフト＋ハード）１年目
B2: 事業計画とその経費の内訳（※ 積算資料は必ず添付してください。）（ソフト＋ハード一体用）
B3: 取組内容と主な経費（１年目） | G3: （単位：千円）
B4: 取組内容 | C4: 総事業費 | D4: 本交付金 | E4: 他の補助金等 | F4: 自己資金 | G4: 備考
A5: =+チェックシート!A5 -> □ | B5: １．農泊推進事業 | C5: ①＝②＋③＋④ | D5: ② | E5: ③ | F5: ④
B6: 小計 | C6: =SUM(C7:C11) -> 0 | D6: =SUM(D7:D11) -> 0 | E6: =SUM(E7:E11) -> 0 | F6: =SUM(F7:F11) -> 0
C7: =SUM(D7:F7) -> 0
C8: =SUM(D8:F8) -> 0
C9: =SUM(D9:F9) -> 0
C10: =SUM(D10:F10) -> 0
C11: =SUM(D11:F11) -> 0
A12: =+チェックシート!A6 -> □ | B12: ２．人材活用事業 | C12: ①＝②＋③＋④ | D12: ② | E12: ③ | F12: ④
B13: 小計 | C13: =SUM(C14:C17) -> 0 | D13: =SUM(D14:D17) -> 0 | E13: =SUM(E14:E17) -> 0 | F13: =SUM(F14:F17) -> 0
C14: =SUM(D14:F14) -> 0
C15: =SUM(D15:F15) -> 0
C16: =SUM(D16:F16) -> 0
C17: =SUM(D17:F17) -> 0
A18: =+チェックシート!A8 -> □ | B18: ３．市町村・中核法人実施型 （施設整備ハード） | C18: ①＝②＋③＋④ | D18: ② | E18: ③ | F18: ④
B19: 小計 | C19: =SUM(C20:C23) -> 0 | D19: =SUM(D20:D23) -> 0 | E19: =SUM(E20:E23) -> 0 | F19: =SUM(F20:F23) -> 0
C20: =SUM(D20:F20) -> 0
C21: =SUM(D21:F21) -> 0
C22: =SUM(D22:F22) -> 0
C23: =SUM(D23:F23) -> 0
A24: =+チェックシート!A9 -> □ | B24: ４．農家民泊経営者等実施型 （施設整備ハード） | C24: ①＝②＋③＋④ | D24: ② | E24: ③ | F24: ④
B25: 小計 | C25: =SUM(C26:C29) -> 0 | D25: =SUM(D26:D29) -> 0 | E25: =SUM(E26:E29) -> 0 | F25: =SUM(F26:F29) -> 0
C26: =SUM(D26:F26) -> 0
C27: =SUM(D27:F27) -> 0
C28: =SUM(D28:F28) -> 0
C29: =SUM(D29:F29) -> 0
B30: 注１ 取組内容は提案書の「解決される地域課題」に対する対応（事業実施内容）と整合を図ること。
B31: 注２ 「他の補助金等」又は「自己資金」がある場合は、備考欄に資金の性格（相手方、資金の受入時期等）を必ず記載すること。
B32: 注３ 施設整備事業（農家民泊経営者等実施型）において農家民宿転換促進費を活用する場合は、「総事業費」の欄において旅館業法に基づく簡易宿所の営業許可を取得するのに最低限必要な設備の整備の費用（※１）を、「本交付金」の欄において農家民宿転換促進費（※２）を括弧内に記載すること。

Sheet 取組内容と主な経費（ソフト＋ハード）２年目
B2: 事業計画とその経費の内訳（※ 積算資料は必ず添付してください。）（ソフト＋ハード一体用）
B3: 取組内容と主な経費（２年目） | G3: （単位：千円）
B4: 取組内容 | C4: 総事業費 | D4: 本交付金 | E4: 他の補助金等 | F4: 自己資金 | G4: 備考
A5: =+チェックシート!A5 -> □ | B5: １．農泊推進事業 | C5: ①＝②＋③＋④ | D5: ② | E5: ③ | F5: ④
B6: 小計 | C6: =SUM(C7:C11) -> 0 | D6: =SUM(D7:D11) -> 0 | E6: =SUM(E7:E11) -> 0 | F6: =SUM(F7:F11) -> 0
C7: =SUM(D7:F7) -> 0
C8: =SUM(D8:F8) -> 0
C9: =SUM(D9:F9) -> 0
C10: =SUM(D10:F10) -> 0
C11: =SUM(D11:F11) -> 0
A12: =+チェックシート!A6 -> □ | B12: ２．人材活用事業 | C12: ①＝②＋③＋④ | D12: ② | E12: ③ | F12: ④
B13: 小計 | C13: =SUM(C14:C17) -> 0 | D13: =SUM(D14:D17) -> 0 | E13: =SUM(E14:E17) -> 0 | F13: =SUM(F14:F17) -> 0
C14: =SUM(D14:F14) -> 0
C15: =SUM(D15:F15) -> 0
C16: =SUM(D16:F16) -> 0
C17: =SUM(D17:F17) -> 0
A18: =+チェックシート!A8 -> □ | B18: ３．市町村・中核法人実施型 （施設整備ハード） | C18: ①＝②＋③＋④ | D18: ② | E18: ③ | F18: ④
B19: 小計 | C19: =SUM(C20:C23) -> 0 | D19: =SUM(D20:D23) -> 0 | E19: =SUM(E20:E23) -> 0 | F19: =SUM(F20:F23) -> 0
C20: =SUM(D20:F20) -> 0
C21: =SUM(D21:F21) -> 0
C22: =SUM(D22:F22) -> 0
C23: =SUM(D23:F23) -> 0
A24: =+チェックシート!A9 -> □ | B24: ４．農家民泊経営者等実施型 （施設整備ハード） | C24: ①＝②＋③＋④ | D24: ② | E24: ③ | F24: ④
B25: 小計 | C25: =SUM(C26:C29) -> 0 | D25: =SUM(D26:D29) -> 0 | E25: =SUM(E26:E29) -> 0 | F25: =SUM(F26:F29) -> 0
C26: =SUM(D26:F26) -> 0
C27: =SUM(D27:F27) -> 0
C28: =SUM(D28:F28) -> 0
C29: =SUM(D29:F29) -> 0
B30: 注１ 取組内容は提案書の「解決される地域課題」に対する対応（事業実施内容）と整合を図ること。
B31: 注２ 「他の補助金等は」又は「自己資金」がある場合は、備考欄に資金の性格（相手方、資金の受入時期等）を必ず記載すること。
B32: 注３ 施設整備事業（農家民泊経営者等実施型）において農家民宿転換促進費を活用する場合は、「総事業費」の欄において旅館業法に基づく簡易宿所の営業許可を取得するのに最低限必要な設備の整備の費用（※１）を、「本交付金」の欄において農家民宿転換促進費（※２）を括弧内に記載すること。

Sheet 取組内容と主な経費（ハードのみ）１年目
B2: 事業計画とその経費の内訳（※ 積算資料は必ず添付してください。）（ハードのみ用）
B3: 取組内容と主な経費（１年目） | G3: （単位：千円）
B4: 取組内容 | C4: 総事業費 | D4: 本交付金 | E4: 他の補助金等 | F4: 自己資金 | G4: 備考
A5: =+チェックシート!A8 -> □ | B5: ３．市町村・中核法人実施型 （施設整備ハード） | C5: ①＝②＋③＋④ | D5: ② | E5: ③ | F5: ④
B6: 小計 | C6: =SUM(C7:C12) -> 0 | D6: =SUM(D7:D12) -> 0 | E6: =SUM(E7:E12) -> 0 | F6: =SUM(F7:F12) -> 0
C7: =SUM(D7:F7) -> 0
C8: =SUM(D8:F8) -> 0
C9: =SUM(D9:F9) -> 0
C10: =SUM(D10:F10) -> 0
C11: =SUM(D11:F11) -> 0
C12: =SUM(D12:F12) -> 0
A13: =+チェックシート!A9 -> □ | B13: ４．農家民泊経営者等実施型 （施設整備ハード） | C13: ①＝②＋③＋④ | D13: ② | E13: ③ | F13: ④
B14: 小計 | C14: =SUM(C15:C19) -> 0 | D14: =SUM(D15:D19) -> 0 | E14: =SUM(E15:E19) -> 0 | F14: =SUM(F15:F19) -> 0
C15: =SUM(D15:F15) -> 0
C16: =SUM(D16:F16) -> 0
C17: =SUM(D17:F17) -> 0
C18: =SUM(D18:F18) -> 0
C19: =SUM(D19:F19) -> 0
B20: 注１ 取組内容は提案書の「解決される地域課題」に対する対応（事業実施内容）と整合を図ること。
B21: 注２ 「他の補助金等は」又は「自己資金」がある場合は、備考欄に資金の性格（相手方、資金の受入時期等）を必ず記載すること。
B22: 注３ 施設整備事業（農家民泊経営者等実施型）において農家民宿転換促進費を活用する場合は、「総事業費」の欄において旅館業法に基づく簡易宿所の営業許可を取得するのに最低限必要な設備の整備の費用（※１）を、「本交付金」の欄において農家民宿転換促進費（※２）を括弧内に記載すること。

Sheet 取組内容と主な経費（ハードのみ）２年目
B2: 事業計画とその経費の内訳（※ 積算資料は必ず添付してください。）（ハードのみ用）
B3: 取組内容と主な経費（２年目） | G3: （単位：千円）
B4: 取組内容 | C4: 総事業費 | D4: 本交付金 | E4: 他の補助金等 | F4: 自己資金 | G4: 備考
A5: =+チェックシート!A8 -> □ | B5: ３．市町村・中核法人実施型 （施設整備ハード） | C5: ①＝②＋③＋④ | D5: ② | E5: ③ | F5: ④
B6: 小計 | C6: =SUM(C7:C12) -> 0 | D6: =SUM(D7:D12) -> 0 | E6: =SUM(E7:E12) -> 0 | F6: =SUM(F7:F12) -> 0
C7: =SUM(D7:F7) -> 0
C8: =SUM(D8:F8) -> 0
C9: =SUM(D9:F9) -> 0
C10: =SUM(D10:F10) -> 0
C11: =SUM(D11:F11) -> 0
C12: =SUM(D12:F12) -> 0
A13: =+チェックシート!A9 -> □ | B13: ４．農家民泊経営者等実施型 （施設整備ハード） | C13: ①＝②＋③＋④ | D13: ② | E13: ③ | F13: ④
B14: 小計 | C14: =SUM(C15:C19) -> 0 | D14: =SUM(D15:D19) -> 0 | E14: =SUM(E15:E19) -> 0 | F14: =SUM(F15:F19) -> 0
C15: =SUM(D15:F15) -> 0
C16: =SUM(D16:F16) -> 0
C17: =SUM(D17:F17) -> 0
C18: =SUM(D18:F18) -> 0
C19: =SUM(D19:F19) -> 0
B20: 注１ 取組内容は提案書の「解決される地域課題」に対する対応（事業実施内容）と整合を図ること。
B21: 注２ 「他の補助金等は」又は「自己資金」がある場合は、備考欄に資金の性格（相手方、資金の受入時期等）を必ず記載すること。
B22: 注３ 施設整備事業（農家民泊経営者等実施型）において農家民宿転換促進費を活用する場合は、「総事業費」の欄において旅館業法に基づく簡易宿所の営業許可を取得するのに最低限必要な設備の整備の費用（※１）を、「本交付金」の欄において農家民宿転換促進費（※２）を括弧内に記載すること。

Sheet 施設整備計画（市町村・中核法人実施型、農家民泊経営者等実施型）
B1: 施設整備計画（施設整備事業（市町村・中核法人実施型、農家民泊経営者等実施型）
B3: （１）事業内容及び事業量
B4: ○施設及び土地の所有状況等について
B5: □ | C5: 施設及び土地を取得済み
B6: □ | C6: 施設等の取得に向け、所有者から内諾済み
B7: □ | C7: 施設等の賃貸契約に向け、所有者から内諾済み
B8: □ | C8: その他（状況を具体的に記載： ）
B10: ○施設整備において関係法規に基づく許認可の見込み
B11: □ | C11: 有り
B13: （２）事業費及び資金計画
A14: =+チェックシート!A44 -> □ | B14: 施設名 | C14: 新設・改修 | D14: 事業費（千円）Ａ | E14: 国費（千円）Ｂ | F14: 交付金以外の財源 Ｃ＝Ａ－Ｂ（千円）
D15: 0 | E15: 0 | F15: =+D15-+E15 -> 0
D16: （うち※１ 〇〇〇） | E16: （うち※２ 〇〇〇） | F16: =+D16-+E16 -> #VALUE!
D17: 0 | E17: 0 | F17: =+D17-+E17 -> 0
D18: （うち※１ 〇〇〇） | E18: （うち※２ 〇〇〇） | F18: =+D18-+E18 -> #VALUE!
B19: ※ 改修施設毎に記載すること。
B20: ※ 新設の場合は、費用対効果分析表を作成すること。
B21: ※ 施設整備事業（農家民泊経営者等実施型）において農家民宿転換促進費を活用する場合は、「事業費」の欄において旅館業法に基づく簡易宿所の営業許可を取得するのに最低限必要な設備の整備費用（※１）を、「国費」の欄において農家民宿転換促進費（※２）を括弧内に記載すること。
B25: ・Ｃ欄の資金計画 | D25: (単位：千円）
A26: =+A14 -> □ | B26: 項目 | C26: 金額 | D26: 備考
B29: ※ 出資、融資、自己資金等の資金計画を明らかにすること。
B31: （３）収支計画 | F31: （単位：千円）
A32: =+A26 -> □ | B32: 施設名
B33: 年度 | C33: 収入Ａ | D33: 支出Ｂ | E33: Ｃ＝Ａ-Ｂ | F33: 項目
B34: 令和○年度 | E34: =+C34-D34 -> 0
B35: 令和○年度 | E35: =+C35-D35 -> 0
B36: 令和○年度 | E36: =+C36-D36 -> 0
B37: ※ 項目欄には、収入の基礎となるデータ（来客数、販売数、客単価等）及び支出の基礎となるデータ（仕入れ数、雇用者数、仕入れ単価等）を記載すること。
B39: ※ 改修施設ごとの当該施設単独での収支計画を記載すること。
B40: ※ 「収支見通し」と整合性をとること。
B42: （４）償還計画
B44: 想定金利： | C44: 0
F45: （単位：千円）
A46: =+A32 -> □ | B46: 年度 | C46: 期首残高 | D46: 借入又は償還の額 | E46: 期末残高 | F46: 融資条件
B47: 令和○年度 | E47: =+C47-D47 -> 0
B48: 令和○年度 | C48: =+E47 -> 0 | E48: =+C48-D48 -> 0
B49: 令和○年度 | C49: =+E48 -> 0 | E49: =+C49-D49 -> 0
B50: 令和○年度 | C50: =+E49 -> 0 | E50: =+C50-D50 -> 0
B51: 令和○年度 | C51: =+E50 -> 0 | E51: =+C51-D51 -> 0
B52: 令和○年度 | C52: =+E51 -> 0 | E52: =+C52-D52 -> 0
...

Sheet 収支見通し
A2: 収支見通し
A4: 事業実施主体構成員に記載する構成員メンバーを記載すること。
A5: 農泊実施の中心的に役割を担う法人又は当該法人になることが見込まれる団体が分かるようにアンダーラインで示すこと。
F12: （単位：人、千円）
B13: 令和〇年度 （現在） | C13: 令和〇年度 | D13: 令和〇年度 | E13: 令和〇年度 | F13: 備考
A14: 宿泊 | B14: =+B15*B16 -> 0 | C14: =+C15*C16 -> 0 | D14: =+D15*D16 -> 0 | E14: =+E15*E16 -> 0
A15: 宿泊者数 | F15: 施設整備Ｒ○年〇月完了
A16: 宿泊単価
A17: 飲食 | B17: =+B18*B19 -> 0 | C17: =+C18*C19 -> 0 | D17: =+D18*D19 -> 0 | E17: =+E18*E19 -> 0
A18: 来店者数
A19: 飲食単価
A20: 体験プログラム販売 | B20: =+B21*B22 -> 0 | C20: =+C21*C22 -> 0 | D20: =+D21*D22 -> 0 | E20: =+E21*E22 -> 0 | F20: 体験プログラム名を記載（収支は体験プログラムごとに作成する）
A21: プログラム参加者
A22: 単価
A23: その他 | F23: 直売所等の収益を記載
A24: 売上 | B24: =+B14+B17+B20+B23 -> 0 | C24: =+C14+C17+C20+C23 -> 0 | D24: =+D14+D17+D20+D23 -> 0 | E24: =+E14+E17+E20+E23 -> 0
A25: 人件費 | B25: =+B26+B27+B28 -> 0 | C25: =+C26+C27+C28 -> 0 | D25: =+D26+D27+D28 -> 0 | E25: =+E26+E27+E28 -> 0 | F25: ○○○○千円／人／年（※平均単価）
A26: ・宿泊費分
A27: ・飲食費分
A28: ・体験費分
A29: 販管費等 | B29: =+B30+B31+B32 -> 0 | C29: =+C30+C31+C32 -> 0 | D29: =+D30+D31+D32 -> 0 | E29: =+E30+E31+E32 -> 0
A30: ・宿泊費分
A31: ・飲食費分
A32: ・体験費分
A33: 補助金自己負担分
A34: 経費 | B34: =+B25+B29+B33 -> 0 | C34: =+C25+C29+C33 -> 0 | D34: =+D25+D29+D33 -> 0 | E34: =+E25+E29+E33 -> 0
A35: 経常利益 | B35: =+B24-B34 -> 0 | C35: =+C24-C34 -> 0 | D35: =+D24-D34 -> 0 | E35: =+E24-E34 -> 0 | F35: 事業完了年度の翌年度までに黒字化を達成する計画とすること
A37: 【体験メニューの具体的内容】
A38: 実施するメニューの詳細な内容、及び実施事業者について記載すること。
A39: （例） ・○○体験（実施主体 △△△振興公社） △△△振興公社及び地元農家の方々にガイド及び受入先として協力していただき、果樹園での収穫、地元農家や地元の方々との交流を楽しんでいただく。

Sheet 選択肢
A2: ☑ | B2: インバウンド対応 | E2: インバウンドによる地域の売上高（万円） | J2: 新設 | L2: 宿泊
A3: □ | B3: 高付加価値化対応（食） | E3: 延べ宿泊者数（人泊） | J3: 改修 | L3: 飲食
B4: 高付加価値化対応（景観） | E4: 新たに開発したメニュー等の売上高（万円） | L4: 体験
B5: ワーケーション対応 | E5: 延べ利用者数（人）
A6: ○ | E6: 新たに開発した体験プログラムの売上高（万円）
A7: － | E7: ワーケーションによる地域の売上高（万円）
E8: ワーケーション利用者数（人）
