Workbook

Sheet Sheet1
B2: みどり投資促進税制の対象機械一覧＜令和5年●●月●●日現在＞
B4: ※税制特例を活用する場合は、環境負荷低減事業活動実施計画又は特定環境負荷低減事業活動実施計画の認定を受けてから対象機械を導入する必要があります。
B5: 機械等の種類 | C5: 認定基盤確立事業者 | D5: 名称 | E5: 型式 | F5: 販売開始日 | G5: 確認日
B6: 潅水施肥装置 | C6: 株式会社ルートレック・ネットワークス | D6: ゼロアグリ | E6: ZA90000012 | F6: 44682 | G6: 44866
B7: 色彩選別機 | C7: 株式会社山本製作所 | D7: カラレックス | E7: YFG-1000S | F7: 42005 | G7: 44866
B8: 色彩選別機 | C8: 株式会社山本製作所 | D8: カラレックス | E8: YFG-2300K | F8: 44013 | G8: 44866
B9: 色彩選別機 | C9: 株式会社山本製作所 | D9: カラレックス | E9: YFG-3500K | F9: 44348 | G9: 44866
B10: 汎用色彩選別機 | C10: 株式会社山本製作所 | D10: カラレックス | E10: CLX-154DFM | F10: 44440 | G10: 44866
B11: 汎用色彩選別機 | C11: 株式会社山本製作所 | D11: カラレックス | E11: CLX-503DM | F11: 44378 | G11: 44866
B12: 汎用色彩選別機 | C12: 株式会社山本製作所 | D12: カラレックス | E12: CLX-503DMZ | F12: 44378 | G12: 44866
B13: 汎用色彩選別機 | C13: 株式会社山本製作所 | D13: カラレックス | E13: CLX-503DMZA | F13: 44378 | G13: 44866
B14: 家畜排せつ物の固液分離機 | C14: アイケイ商事株式会社 | D14: ｗコンベア | E14: IKSCAP-D-1200 | F14: 44287 | G14: 44866
B15: 家畜排せつ物の固液分離機 | C15: アイケイ商事株式会社 | D15: スーパースクリーンプレス | E15: IKSC-SSP-3500 | F15: 41609 | G15: 44866
B16: 家畜排せつ物の自動撹拌機 | C16: アイケイ商事株式会社 | D16: ファームクリーン | E16: IK-F-4 | F16: 42522 | G16: 44895
B17: 家畜排せつ物の自動撹拌機 | C17: アイケイ商事株式会社 | D17: ファームクリーン | E17: IK-F-5 | F17: 42522 | G17: 44895
... B80: 堆肥散布機 | C80: 株式会社アテックス | D80: マキタロウ | E80: MSX650MB | F80: 42552 | G80: 44895
B81: 堆肥散布機 | C81: 落合刃物工業株式会社 | D81: 乗用型茶園管理機+茶園用堆肥散布機 | E81: OMR-6＋R-6TA | F81: 2023年3月(予定) | G81: 44916
B82: 堆肥散布機 | C82: 落合刃物工業株式会社 | D82: 茶園用堆肥散布機 | E82: R-6TA | F82: 2023年3月(予定) | G82: 44916
B83: 堆肥散布機 | C83: 落合刃物工業株式会社 | D83: 茶園用堆肥散布機 | E83: R-5TA | F83: 2023年3月(予定) | G83: 44916
B84: 可変施肥田植機 | C84: 井関農機株式会社 | D84: さなえPRJ8 | E84: PRJ8DLFV | F84: 43983 | G84: 44916
B85: 可変施肥田植機 | C85: 井関農機株式会社 | D85: さなえPRJ8 | E85: PRJ8DHUJLFV | F85: 43983 | G85: 44916
B86: 可変施肥田植機 | C86: 井関農機株式会社 | D86: さなえPRJ8 | E86: PRJ8DLFVG5 | F86: 43983 | G86: 44916
B87: 可変施肥田植機 | C87: 井関農機株式会社 | D87: さなえPRJ8 | E87: PRJ8DZLFV | F87: 43983 | G87: 44916
B88: 可変施肥田植機 | C88: 井関農機株式会社 | D88: さなえPRJ8 | E88: PRJ8DZLFVG5 | F88: 43983 | G88: 44916
B89: 可変施肥田植機 | C89: 井関農機株式会社 | D89: さなえPRJ8 | E89: PRJ8DHTLFV | F89: 43983 | G89: 44916
B90: 可変施肥田植機 | C90: 井関農機株式会社 | D90: さなえPRJ8 | E90: PRJ8DHULFV | F90: 43983 | G90: 44916
B91: 可変施肥田植機 | C91: 井関農機株式会社 | D91: さなえPRJ8 | E91: PRJ8DZHUJLFV | F91: 43983 | G91: 44916
B92: 可変施肥田植機 | C92: 井関農機株式会社 | D92: さなえPRJ8 | E92: PRJ8DZHULFV | F92: 43983 | G92: 44916
B93: 可変施肥田植機 | C93: 井関農機株式会社 | D93: さなえPRJ8 | E93: PRJ8DRLFV | F93: 44896 | G93: 44916
B94: 堆肥散布機 | C94: 株式会社イナダ | D94: マニアスプレッダー | E94: MS-500 | F94: 44287 | G94: 44916
B95: 温湯種子処理機 | C95: 株式会社タイガーカワシマ | D95: 湯芽工房 | E95: YS-2400 | F95: 42775 | G95: 44916
B96: 温湯種子処理機 | C96: 株式会社タイガーカワシマ | D96: 湯芽工房 | E96: YS-2600 | F96: 2022年4月1日 | G96: 44916
B97: 温湯種子処理機 | C97: 株式会社タイガーカワシマ | D97: 湯芽工房 | E97: YS-3700 | F97: 44551 | G97: 44916
B98: 温湯種子処理機 | C98: 株式会社タイガーカワシマ | D98: 湯芽工房 | E98: YS-3700S | F98: 42382 | G98: 44916
B99: ラジコン草刈機 | C99: 株式会社ササキコーポレーション | D99: 電動リモコン作業機 スマモ | E99: RS400-1+M700 | F99: 43160 | G99: 44916
B100: ラジコン草刈機 | C100: 株式会社ササキコーポレーション | D100: 電動リモコン作業機 スマモ | E100: RS400-1+AZ720 | F100: 43160 | G100: 44916
B101: ラジコン草刈機 | C101: 株式会社ササキコーポレーション | D101: 電動リモコン作業機 スマモ | E101: RS400-1+SSC-30 | F101: 43160 | G101: 44916
B102: ラジコン草刈機 | C102: 株式会社ササキコーポレーション | D102: 電動リモコン作業機 スマモ | E102: RS400-AZ2 | F102: 43160 | G102: 44916
B103: ラジコン草刈機 | C103: 株式会社ササキコーポレーション | D103: 電動リモコン作業機 スマモ | E103: RS400-M2 | F103: 43160 | G103: 44916
B104: ラジコン草刈機 | C104: 株式会社ササキコーポレーション | D104: 電動リモコン作業機 スマモ | E104: RS400-SC2 | F104: 43160 | G104: 44916
B105: ラジコン草刈機 | C105: 株式会社ササキコーポレーション | D105: 電動リモコン作業機 スマモ | E105: RS400-AZ4F | F105: 43160 | G105: 44916
B106: ラジコン草刈機 | C106: 株式会社ササキコーポレーション | D106: 電動リモコン作業機 スマモ | E106: RS400-M4F | F106: 43160 | G106: 44916
B107: ラジコン草刈機 | C107: 株式会社ササキコーポレーション | D107: 電動リモコン作業機 スマモ | E107: RS400-SC4F | F107: 43160 | G107: 44916
B108: マルチインプルメント | C108: 株式会社ササキコーポレーション | D108: ブームマスターZ フレールセット | E108: BMZ100DX-MF09 | F108: 44378 | G108: 44916
... B466: 可変施肥田植機 | C466: 株式会社クボタ | D466: ナビウェル | E466: NW10SA-PF-A | F466: 44835 | G466: 44945

Sheet 一覧表
A1: 別紙
A2: みどり投資促進税制の対象機械一覧＜令和８年10月23日現在＞
A4: ※税制特例を活用する場合は、環境負荷低減事業活動実施計画又は特定環境負荷低減事業活動実施計画の認定を受けてから対象機械を導入する必要があります。黒塗りのものは税制特例の対象となる期間が終了したものです。
A5: 機械等の種類 | B5: 認定基盤確立事業者 | C5: 名称 | D5: 型式（※備考） | E5: 税制特例の対象となる期間 | H5: 販売開始日 | I5: 確認日
A6: 潅水施肥装置 | B6: 株式会社ルートレック・ネットワークス | C6: ゼロアグリ | D6: ZA90000012 | E6: =$I6 -> 44866 | F6: ～ | G6: =DATE(YEAR(EOMONTH(一覧表!$H6,120)),12,31) -> 48579 | H6: 44682 | I6: 44866
A7: 色彩選別機 | B7: 株式会社山本製作所 | C7: カラレックス | D7: YFG-1000S | E7: =$I7 -> 44866 | F7: ～ | G7: =DATE(YEAR(EOMONTH(一覧表!$H7,120)),12,31) -> 46022 | H7: 42005 | I7: 44866
A8: 色彩選別機 | B8: 株式会社山本製作所 | C8: カラレックス | D8: YFG-2300K | E8: =$I8 -> 44866 | F8: ～ | G8: =DATE(YEAR(EOMONTH(一覧表!$H8,120)),12,31) -> 47848 | H8: 44013 | I8: 44866
A9: 色彩選別機 | B9: 株式会社山本製作所 | C9: カラレックス | D9: YFG-3500K | E9: =$I9 -> 44866 | F9: ～ | G9: =DATE(YEAR(EOMONTH(一覧表!$H9,120)),12,31) -> 48213 | H9: 44348 | I9: 44866
A10: 汎用色彩選別機 | B10: 株式会社山本製作所 | C10: カラレックス | D10: CLX-154DFM | E10: =$I10 -> 44866 | F10: ～ | G10: =DATE(YEAR(EOMONTH(一覧表!$H10,120)),12,31) -> 48213 | H10: 44440 | I10: 44866
A11: 汎用色彩選別機 | B11: 株式会社山本製作所 | C11: カラレックス | D11: CLX-503DM | E11: =$I11 -> 44866 | F11: ～ | G11: =DATE(YEAR(EOMONTH(一覧表!$H11,120)),12,31) -> 48213 | H11: 44378 | I11: 44866
A12: 汎用色彩選別機 | B12: 株式会社山本製作所 | C12: カラレックス | D12: CLX-503DMZ | E12: =$I12 -> 44866 | F12: ～ | G12: =DATE(YEAR(EOMONTH(一覧表!$H12,120)),12,31) -> 48213 | H12: 44378 | I12: 44866
A13: 汎用色彩選別機 | B13: 株式会社山本製作所 | C13: カラレックス | D13: CLX-503DMZA | E13: =$I13 -> 44866 | F13: ～ | G13: =DATE(YEAR(EOMONTH(一覧表!$H13,120)),12,31) -> 48213 | H13: 44378 | I13: 44866
A14: 家畜排せつ物の固液分離機 | B14: アイケイ商事株式会社 | C14: ｗコンベア | D14: IKSCAP-D-1200 | E14: =$I14 -> 44866 | F14: ～ | G14: =DATE(YEAR(EOMONTH(一覧表!$H14,120)),12,31) -> 48213 | H14: 44287 | I14: 44866
A15: 家畜排せつ物の固液分離機 | B15: アイケイ商事株式会社 | C15: スーパースクリーンプレス | D15: IKSC-SSP-3500 | E15: =$I15 -> 44866 | F15: ～ | G15: =DATE(YEAR(EOMONTH(一覧表!$H15,120)),12,31) -> 45291 | H15: 41609 | I15: 44866
A16: 家畜排せつ物の自動撹拌機 | B16: アイケイ商事株式会社 | C16: ファームクリーン | D16: IK-F-4 | E16: =$I16 -> 44895 | F16: ～ | G16: =DATE(YEAR(EOMONTH(一覧表!$H16,120)),12,31) -> 46387 | H16: 42522 | I16: 44895
A17: 家畜排せつ物の自動撹拌機 | B17: アイケイ商事株式会社 | C17: ファームクリーン | D17: IK-F-5 | E17: =$I17 -> 44895 | F17: ～ | G17: =DATE(YEAR(EOMONTH(一覧表!$H17,120)),12,31) -> 46387 | H17: 42522 | I17: 44895
... A23: 家畜排せつ物の自動撹拌機 | B23: アイケイ商事株式会社 | C23: ファームクリーンｗオーガー | D23: IK-FW-K | E23: =$I23 -> 44895 | F23: ～ | G23: =DATE(YEAR(EOMONTH(一覧表!$H23,120)),12,31) -> 47118 | H23: 43101 | I23: 44895
A24: 再生紙マルチ田植機 | B24: MAM株式会社（旧：三菱マヒンドラ農機株式会社） | C24: LKE-ADシリーズ | D24: LKE60AD（B2仕様） | E24: =$I24 -> 44866 | F24: ～ | G24: 46294 | H24: 43617 | I24: 44866
A25: 再生紙マルチ田植機 | B25: MAM株式会社（旧：三菱マヒンドラ農機株式会社） | C25: LKE-ADシリーズ | D25: LKE60AD（BP2仕様） | E25: =$I25 -> 44866 | F25: ～ | G25: 46294 | H25: 43617 | I25: 44866
A26: ペースト施肥仕様田植機 | B26: MAM株式会社（旧：三菱マヒンドラ農機株式会社） | C26: LE-Aシリーズ | D26: LE4A（P仕様） | E26: =$I26 -> 44866 | F26: ～ | G26: 46294 | H26: 43252 | I26: 44866
A27: ペースト施肥仕様田植機 | B27: MAM株式会社（旧：三菱マヒンドラ農機株式会社） | C27: LE-Aシリーズ | D27: LE4A（PU仕様） | E27: =$I27 -> 44866 | F27: ～ | G27: 46294 | H27: 43252 | I27: 44866
A28: ペースト施肥仕様田植機 | B28: MAM株式会社（旧：三菱マヒンドラ農機株式会社） | C28: LE-Aシリーズ | D28: LE4A（BP仕様） | E28: =$I28 -> 44866 | F28: ～ | G28: 46294 | H28: 43252 | I28: 44866
A29: ペースト施肥仕様田植機 | B29: MAM株式会社（旧：三菱マヒンドラ農機株式会社） | C29: LE-Aシリーズ | D29: LE4A（BPU仕様） | E29: =$I29 -> 44866 | F29: ～ | G29: 46294 | H29: 43252 | I29: 44866
A30: ペースト施肥仕様田植機 | B30: MAM株式会社（旧：三菱マヒンドラ農機株式会社） | C30: LE-ADシリーズ | D30: LE50AD（P2仕様） | E30: =$I30 -> 44866 | F30: ～ | G30: 46294 | H30: 43617 | I30: 44866
A31: ペースト施肥仕様田植機 | B31: MAM株式会社（旧：三菱マヒンドラ農機株式会社） | C31: LE-ADシリーズ | D31: LE50AD（BP2仕様） | E31: =$I31 -> 44866 | F31: ～ | G31: 46294 | H31: 43617 | I31: 44866
A32: ペースト施肥仕様田植機 | B32: MAM株式会社（旧：三菱マヒンドラ農機株式会社） | C32: LE-ADシリーズ | D32: LE60AD（P2仕様） | E32: =$I32 -> 44866 | F32: ～ | G32: 46294 | H32: 43617 | I32: 44866
A33: ペースト施肥仕様田植機 | B33: MAM株式会社（旧：三菱マヒンドラ農機株式会社） | C33: LE-ADシリーズ | D33: LE60AD（BP2仕様） | E33: =$I33 -> 44866 | F33: ～ | G33: 46294 | H33: 43617 | I33: 44866
A34: ペースト施肥仕様田植機 | B34: MAM株式会社（旧：三菱マヒンドラ農機株式会社） | C34: LE-ADシリーズ | D34: LE70AD（P2仕様） | E34: =$I34 -> 44866 | F34: ～ | G34: 46294 | H34: 43617 | I34: 44866
A35: ペースト施肥仕様田植機 | B35: MAM株式会社（旧：三菱マヒンドラ農機株式会社） | C35: LE-ADシリーズ | D35: LE70AD（BP2仕様） | E35: =$I35 -> 44866 | F35: ～ | G35: 46294 | H35: 43617 | I35: 44866
... A62: 水田除草機 作業機 | B62: 株式会社オーレック | C62: ウィードマン | D62: SJ800X-33U | E62: =$I62 -> 44866 | F62: ～ | G62: 45377 | H62: 44666 | I62: 44866
A63: 水田除草機 | B63: 株式会社オーレック | C63: ウィードマン | D63: SJ600A | E63: =$I63 -> 45378 | F63: ～ | G63: =DATE(YEAR(EOMONTH(一覧表!$H63,120)),12,31) -> 48944 | H63: 45250 | I63: 45378
A64: 水田除草機 | B64: 株式会社オーレック | C64: ウィードマン | D64: SJ800A | E64: =$I64 -> 45378 | F64: ～ | G64: =DATE(YEAR(EOMONTH(一覧表!$H64,120)),12,31) -> 48944 | H64: 45250 | I64: 45378
A65: 水田除草機 | B65: 株式会社オーレック | C65: ウィードマン | D65: SJ600A-33 | E65: =$I65 -> 45378 | F65: ～ | G65: =DATE(YEAR(EOMONTH(一覧表!$H65,120)),12,31) -> 48944 | H65: 45250 | I65: 45378
A66: 水田除草機 | B66: 株式会社オーレック | C66: ウィードマン | D66: SJ800A-33 | E66: =$I66 -> 45378 | F66: ～ | G66: =DATE(YEAR(EOMONTH(一覧表!$H66,120)),12,31) -> 48944 | H66: 45250 | I66: 45378
A67: 水田除草機 | B67: 株式会社オーレック | C67: ウィードマン | D67: SJ601 | E67: 46296 | F67: ～ | G67: =DATE(YEAR(EOMONTH([1]一覧表!$J67,120)),12,31) -> 50040 | H67: 46296 | I67: =DATE(YEAR(EOMONTH([1]一覧表!$J67,120)),12,31) -> 50040
A68: 水田除草機 | B68: 株式会社オーレック | C68: ウィードマン | D68: SJ801 | E68: 46296 | F68: ～ | G68: =DATE(YEAR(EOMONTH([1]一覧表!$J68,120)),12,31) -> 50040 | H68: 46296 | I68: =DATE(YEAR(EOMONTH([1]一覧表!$J68,120)),12,31) -> 50040
A69: 水田除草機 | B69: 株式会社オーレック | C69: ウィードマン | D69: SJ601-33 | E69: 46296 | F69: ～ | G69: =DATE(YEAR(EOMONTH([1]一覧表!$J69,120)),12,31) -> 50040 | H69: 46296 | I69: =DATE(YEAR(EOMONTH([1]一覧表!$J69,120)),12,31) -> 50040
A70: 水田除草機 | B70: 株式会社オーレック | C70: ウィードマン | D70: SJ801-33 | E70: 46296 | F70: ～ | G70: =DATE(YEAR(EOMONTH([1]一覧表!$J70,120)),12,31) -> 50040 | H70: 46296 | I70: =DATE(YEAR(EOMONTH([1]一覧表!$J70,120)),12,31) -> 50040
A71: 水田除草機 作業機 | B71: 株式会社オーレック | C71: ウィードマン | D71: SJ600AU | E71: =$I71 -> 45378 | F71: ～ | G71: =DATE(YEAR(EOMONTH(一覧表!$H71,120)),12,31) -> 49309 | H71: 45296 | I71: 45378
A72: 水田除草機 作業機 | B72: 株式会社オーレック | C72: ウィードマン | D72: SJ800AU | E72: =$I72 -> 45378 | F72: ～ | G72: =DATE(YEAR(EOMONTH(一覧表!$H72,120)),12,31) -> 49309 | H72: 45296 | I72: 45378
A73: 水田除草機 作業機 | B73: 株式会社オーレック | C73: ウィードマン | D73: SJ600A-33U | E73: =$I73 -> 45378 | F73: ～ | G73: =DATE(YEAR(EOMONTH(一覧表!$H73,120)),12,31) -> 49309 | H73: 45296 | I73: 45378
A74: 水田除草機 作業機 | B74: 株式会社オーレック | C74: ウィードマン | D74: SJ800A-33U | E74: =$I74 -> 45378 | F74: ～ | G74: =DATE(YEAR(EOMONTH(一覧表!$H74,120)),12,31) -> 49309 | H74: 45296 | I74: 45378
A75: 水田除草機 作業機 | B75: 株式会社オーレック | C75: ウィードマン | D75: SJ601U | E75: 46296 | F75: ～ | G75: =DATE(YEAR(EOMONTH([1]一覧表!$J75,120)),12,31) -> 50040 | H75: 46296 | I75: =DATE(YEAR(EOMONTH([1]一覧表!$J75,120)),12,31) -> 50040
A76: 水田除草機 作業機 | B76: 株式会社オーレック | C76: ウィードマン | D76: SJ801U | E76: 46296 | F76: ～ | G76: =DATE(YEAR(EOMONTH([1]一覧表!$J76,120)),12,31) -> 50040 | H76: 46296 | I76: =DATE(YEAR(EOMONTH([1]一覧表!$J76,120)),12,31) -> 50040
A77: 水田除草機 作業機 | B77: 株式会社オーレック | C77: ウィードマン | D77: SJ601-33U | E77: 46296 | F77: ～ | G77: =DATE(YEAR(EOMONTH([1]一覧表!$J77,120)),12,31) -> 50040 | H77: 46296 | I77: =DATE(YEAR(EOMONTH([1]一覧表!$J77,120)),12,31) -> 50040
A78: 水田除草機 作業機 | B78: 株式会社オーレック | C78: ウィードマン | D78: SJ801-33U | E78: 46296 | F78: ～ | G78: =DATE(YEAR(EOMONTH([1]一覧表!$J78,120)),12,31) -> 50040 | H78: 46296 | I78: =DATE(YEAR(EOMONTH([1]一覧表!$J78,120)),12,31) -> 50040
A79: ラジコン草刈機 | B79: 株式会社オーレック | C79: スパイダーモアRC | D79: RCSP530 | E79: =$I79 -> 45023 | F79: ～ | G79: 45688 | H79: 44713 | I79: 45023
A80: ラジコン草刈機 | B80: 株式会社オーレック | C80: スパイダーモアRC | D80: RCSP530A | E80: =$I80 -> 45625 | F80: ～ | G80: =DATE(YEAR(EOMONTH(一覧表!$H80,120)),12,31) -> 49674 | H80: 45689 | I80: 45625
A81: ラジコン草刈機 | B81: 株式会社オーレック | C81: スパイダーモアRC | D81: RCSP540 | E81: =$I81 -> 46082 | F81: ～ | G81: =DATE(YEAR(EOMONTH(一覧表!$H81,120)),12,31) -> 50040 | H81: 46082 | I81: 46082
A82: ラジコン草刈機 | B82: 株式会社オーレック | C82: スパイダーモアRC | D82: RCSP700 | E82: 46296 | F82: ～ | G82: =DATE(YEAR(EOMONTH([1]一覧表!$J82,120)),12,31) -> 50040 | H82: 46296 | I82: =DATE(YEAR(EOMONTH([1]一覧表!$J82,120)),12,31) -> 50040
A83: ラジコン草刈機 | B83: 株式会社オーレック | C83: ブルモアーRC | D83: RCHR800 | E83: =$I83 -> 45646 | F83: ～ | G83: 45970 | H83: 45383 | I83: 45646
A84: ラジコン草刈機 | B84: 株式会社オーレック | C84: ブルモアーRC | D84: RCHR800A | E84: =$I84 -> 45971 | F84: ～ | G84: =DATE(YEAR(EOMONTH(一覧表!$H84,120)),12,31) -> 49674 | H84: 45936 | I84: 45971
A85: 乗用草刈機 | B85: 株式会社オーレック | C85: ラビットモアーRM | D85: RM983X | E85: =$I85 -> 45875 | F85: ～ | G85: =DATE(YEAR(EOMONTH(一覧表!$H85,120)),12,31) -> 48579 | H85: 44652 | I85: 45875
A86: 乗用草刈機 | B86: 株式会社オーレック | C86: ラビットモアーRM | D86: RM983Xターフタイヤ仕様 | E86: =$I86 -> 45875 | F86: ～ | G86: =DATE(YEAR(EOMONTH(一覧表!$H86,120)),12,31) -> 48579 | H86: 44652 | I86: 45875
A87: 乗用草刈機 | B87: 株式会社オーレック | C87: ラビットモアーRM | D87: RM984X | E87: =$I87 -> 45875 | F87: ～ | G87: =DATE(YEAR(EOMONTH(一覧表!$H87,120)),12,31) -> 48579 | H87: 44652 | I87: 45875
A88: 乗用草刈機 | B88: 株式会社オーレック | C88: ラビットモアーRM | D88: RMT110 | E88: =$I88 -> 45875 | F88: ～ | G88: =DATE(YEAR(EOMONTH(一覧表!$H88,120)),12,31) -> 48579 | H88: 44652 | I88: 45875
A89: 乗用草刈機 | B89: 株式会社オーレック | C89: ラビットモアーRM | D89: RM983FX | E89: =$I89 -> 45875 | F89: ～ | G89: =DATE(YEAR(EOMONTH(一覧表!$H89,120)),12,31) -> 48579 | H89: 44652 | I89: 45875
A90: 乗用草刈機 | B90: 株式会社オーレック | C90: ラビットモアーRM | D90: RMK151X | E90: =$I90 -> 45875 | F90: ～ | G90: =DATE(YEAR(EOMONTH(一覧表!$H90,120)),12,31) -> 48579 | H90: 44652 | I90: 45875
A91: 乗用草刈機 | B91: 株式会社オーレック | C91: ラビットモアーRM | D91: RMK180X | E91: =$I91 -> 45875 | F91: ～ | G91: =DATE(YEAR(EOMONTH(一覧表!$H91,120)),12,31) -> 48579 | H91: 44652 | I91: 45875
A92: 乗用草刈機 | B92: 株式会社オーレック | C92: ラビットモアーRM | D92: RM883X | E92: 46296 | F92: ～ | G92: 50040 | H92: 46296 | I92: 50040
A93: 乗用草刈機 | B93: 株式会社オーレック | C93: ラビットモアーRM | D93: RM953X | E93: 46296 | F93: ～ | G93: 50040 | H93: 46296 | I93: 50040
A94: 水田除草機 | B94: みのる産業株式会社 | C94: 水田駆動除草機（８条タイプ） | D94: KE3A＋KW8A | E94: =$I94 -> 44895 | F94: ～ | G94: =DATE(YEAR(EOMONTH(一覧表!$H94,120)),12,31) -> 48213 | H94: 44256 | I94: 44895
A95: 水田除草機 | B95: みのる産業株式会社 | C95: 水田駆動除草機（８条タイプ） | D95: KE3A＋KWM8A | E95: =$I95 -> 44895 | F95: ～ | G95: =DATE(YEAR(EOMONTH(一覧表!$H95,120)),12,31) -> 48213 | H95: 44256 | I95: 44895
A96: 水田除草機 | B96: みのる産業株式会社 | C96: 水田駆動除草機（８条タイプ） | D96: RG3＋KWM80 | E96: 46169 | F96: ～ | G96: 50040 | H96: 46154 | I96: 44717
A97: 水田除草機 | B97: みのる産業株式会社 | C97: 水田駆動除草機（６条タイプ） | D97: KE3A＋KW6 | E97: =$I97 -> 44895 | F97: ～ | G97: =DATE(YEAR(EOMONTH(一覧表!$H97,120)),12,31) -> 48213 | H97: 44256 | I97: 44895
A98: 水田除草機 | B98: みのる産業株式会社 | C98: 水田駆動除草機（６条タイプ） | D98: KE3A＋KWM6 | E98: =$I98 -> 44895 | F98: ～ | G98: =DATE(YEAR(EOMONTH(一覧表!$H98,120)),12,31) -> 48213 | H98: 44256 | I98: 44895
A99: 水田除草機 | B99: みのる産業株式会社 | C99: 水田駆動除草機（４条タイプ） | D99: KE3A＋KW4 | E99: =$I99 -> 44895 | F99: ～ | G99: =DATE(YEAR(EOMONTH(一覧表!$H99,120)),12,31) -> 48213 | H99: 44256 | I99: 44895
A100: 水田除草機 | B100: みのる産業株式会社 | C100: 水田駆動除草機（４条タイプ） | D100: KE3A＋KWM4 | E100: =$I100 -> 44895 | F100: ～ | G100: =DATE(YEAR(EOMONTH(一覧表!$H100,120)),12,31) -> 48213 | H100: 44256 | I100: 44895
A101: 水田除草機 | B101: みのる産業株式会社 | C101: 水田駆動除草機（４条タイプ） | D101: KE3A＋KWM4＋KNA41E | E101: =$I101 -> 44895 | F101: ～ | G101: =DATE(YEAR(EOMONTH(一覧表!$H101,120)),12,31) -> 48213 | H101: 44256 | I101: 44895
A102: 静電噴口防除ロボット | B102: みのる産業株式会社 | C102: レール式防除ロボット | D102: ARS20＋FSR350 | E102: =$I102 -> 44895 | F102: ～ | G102: 45397 | H102: 44713 | I102: 44895
A103: 静電噴口防除ロボット | B103: みのる産業株式会社 | C103: レール式防除ロボット | D103: ARS20＋FSR360 | E103: =$I103 -> 44895 | F103: ～ | G103: 45397 | H103: 44713 | I103: 44895
A104: 静電噴口防除ロボット | B104: みのる産業株式会社 | C104: レール式防除ロボット | D104: ARS20＋FSL100 | E104: =$I104 -> 45044 | F104: ～ | G104: 45397 | H104: 45044 | I104: 45044
A105: ポット成苗田植機 | B105: みのる産業株式会社 | C105: ポット成苗田植機 乗用４条植え | D105: RS04A | E105: =$I105 -> 44895 | F105: ～ | G105: =DATE(YEAR(EOMONTH(一覧表!$H105,120)),12,31) -> 48579 | H105: 44593 | I105: 44895
A106: ポット成苗田植機 | B106: みのる産業株式会社 | C106: ポット成苗田植機 乗用４条植え | D106: RXE4A | E106: =$I106 -> 44895 | F106: ～ | G106: =DATE(YEAR(EOMONTH(一覧表!$H106,120)),12,31) -> 48213 | H106: 44470 | I106: 44895
A107: ポット成苗田植機 | B107: みのる産業株式会社 | C107: ポット成苗田植機 乗用４条植え | D107: RXE4A(NR) | E107: =$I107 -> 44895 | F107: ～ | G107: =DATE(YEAR(EOMONTH(一覧表!$H107,120)),12,31) -> 48213 | H107: 44470 | I107: 44895
A108: ポット成苗田植機 | B108: みのる産業株式会社 | C108: ポット成苗田植機 乗用４条植え | D108: RXE4A+KNA41E | E108: =$I108 -> 44895 | F108: ～ | G108: =DATE(YEAR(EOMONTH(一覧表!$H108,120)),12,31) -> 48213 | H108: 44470 | I108: 44895
A109: ポット成苗田植機 | B109: みのる産業株式会社 | C109: ポット成苗田植機 乗用４条植え | D109: RXE4A(NR)+KNA41E | E109: =$I109 -> 44895 | F109: ～ | G109: =DATE(YEAR(EOMONTH(一覧表!$H109,120)),12,31) -> 48213 | H109: 44470 | I109: 44895
A110: ポット成苗田植機 | B110: みのる産業株式会社 | C110: ポット成苗田植機 乗用６条植え | D110: RX61 | E110: =$I110 -> 44895 | F110: ～ | G110: =DATE(YEAR(EOMONTH(一覧表!$H110,120)),12,31) -> 45657 | H110: 41654 | I110: 44895
A111: ポット成苗田植機 | B111: みのる産業株式会社 | C111: ポット成苗田植機 乗用６条植え | D111: RX61(NR) | E111: =$I111 -> 44895 | F111: ～ | G111: =DATE(YEAR(EOMONTH(一覧表!$H111,120)),12,31) -> 45657 | H111: 41654 | I111: 44895
A112: ポット成苗田植機 | B112: みのる産業株式会社 | C112: ポット成苗田植機 乗用６条植え | D112: RXE61 | E112: =$I112 -> 44895 | F112: ～ | G112: =DATE(YEAR(EOMONTH(一覧表!$H112,120)),12,31) -> 48579 | H112: 44652 | I112: 44895
A113: ポット成苗田植機 | B113: みのる産業株式会社 | C113: ポット成苗田植機 乗用６条植え | D113: RXE61(NR） | E113: =$I113 -> 44895 | F113: ～ | G113: =DATE(YEAR(EOMONTH(一覧表!$H113,120)),12,31) -> 48579 | H113: 44652 | I113: 44895
A114: ポット成苗田植機 | B114: みのる産業株式会社 | C114: ポット成苗田植機 乗用６条植え | D114: RXE61+KNA60 | E114: =$I114 -> 44895 | F114: ～ | G114: =DATE(YEAR(EOMONTH(一覧表!$H114,120)),12,31) -> 48579 | H114: 44652 | I114: 44895
A115: ポット成苗田植機 | B115: みのる産業株式会社 | C115: ポット成苗田植機 乗用６条植え | D115: RXE61(NR)+KNA60 | E115: =$I115 -> 44895 | F115: ～ | G115: =DATE(YEAR(EOMONTH(一覧表!$H115,120)),12,31) -> 48579 | H115: 44652 | I115: 44895
A116: ポット成苗田植機 | B116: みのる産業株式会社 | C116: ポット成苗田植機 乗用８条植え | D116: RXG800 | E116: =$I116 -> 44895 | F116: ～ | G116: =DATE(YEAR(EOMONTH(一覧表!$H116,120)),12,31) -> 48579 | H116: 44663 | I116: 44895
... A123: ラジコン草刈機 | B123: 株式会社アテックス | C123: 神刈 | D123: RJ705-W | E123: =$I123 -> 44895 | F123: ～ | G123: =DATE(YEAR(EOMONTH(一覧表!$H123,120)),12,31) -> 48944 | H123: 44958 | I123: 44895
A124: 堆肥散布機 | B124: 株式会社アテックス | C124: マキタロウ | D124: MSX650MB | E124: =$I124 -> 44895 | F124: ～ | G124: 45970 | H124: 42552 | I124: 44895
A125: 堆肥散布機 | B125: 株式会社アテックス | C125: マキタロウ | D125: MSX651 | E125: =$I125 -> 45971 | F125: ～ | G125: =DATE(YEAR(EOMONTH(一覧表!$H125,120)),12,31) -> 49674 | H125: 45778 | I125: 45971
A126: 堆肥散布機 | B126: 落合刃物工業株式会社 | C126: 乗用型茶園管理機+茶園用堆肥散布機 | D126: OMR-6＋R-6TA | E126: =$I126 -> 44916 | F126: ～ | G126: =DATE(YEAR(EOMONTH(一覧表!$H126,120)),12,31) -> 48944 | H126: 44986 | I126: 44916
A127: 堆肥散布機 | B127: 落合刃物工業株式会社 | C127: 茶園用堆肥散布機 | D127: R-6TA | E127: =$I127 -> 44916 | F127: ～ | G127: =DATE(YEAR(EOMONTH(一覧表!$H127,120)),12,31) -> 48944 | H127: 44986 | I127: 44916
A128: 堆肥散布機 | B128: 落合刃物工業株式会社 | C128: 茶園用堆肥散布機 | D128: R-5TA | E128: =$I128 -> 44916 | F128: ～ | G128: =DATE(YEAR(EOMONTH(一覧表!$H128,120)),12,31) -> 48944 | H128: 44986 | I128: 44916
A129: 可変施肥田植機 | B129: 井関農機株式会社 | C129: さなえPRJ8 | D129: PRJ8DLFV | E129: =$I129 -> 44916 | F129: ～ | G129: =DATE(YEAR(EOMONTH(一覧表!$H129,120)),12,31) -> 47848 | H129: 43983 | I129: 44916
A130: 可変施肥田植機 | B130: 井関農機株式会社 | C130: さなえPRJ8 | D130: PRJ8DHUJLFV | E130: =$I130 -> 44916 | F130: ～ | G130: =DATE(YEAR(EOMONTH(一覧表!$H130,120)),12,31) -> 47848 | H130: 43983 | I130: 44916
A131: 可変施肥田植機 | B131: 井関農機株式会社 | C131: さなえPRJ8 | D131: PRJ8DLFVG5 | E131: =$I131 -> 44916 | F131: ～ | G131: =DATE(YEAR(EOMONTH(一覧表!$H131,120)),12,31) -> 47848 | H131: 43983 | I131: 44916
A132: 可変施肥田植機 | B132: 井関農機株式会社 | C132: さなえPRJ8 | D132: PRJ8DZLFV | E132: =$I132 -> 44916 | F132: ～ | G132: =DATE(YEAR(EOMONTH(一覧表!$H132,120)),12,31) -> 47848 | H132: 43983 | I132: 44916
A133: 可変施肥田植機 | B133: 井関農機株式会社 | C133: さなえPRJ8 | D133: PRJ8DZLFVG5 | E133: =$I133 -> 44916 | F133: ～ | G133: =DATE(YEAR(EOMONTH(一覧表!$H133,120)),12,31) -> 47848 | H133: 43983 | I133: 44916
A134: 可変施肥田植機 | B134: 井関農機株式会社 | C134: さなえPRJ8 | D134: PRJ8DHTLFV | E134: =$I134 -> 44916 | F134: ～ | G134: =DATE(YEAR(EOMONTH(一覧表!$H134,120)),12,31) -> 47848 | H134: 43983 | I134: 44916
A135: 可変施肥田植機 | B135: 井関農機株式会社 | C135: さなえPRJ8 | D135: PRJ8DHULFV | E135: =$I135 -> 44916 | F135: ～ | G135: =DATE(YEAR(EOMONTH(一覧表!$H135,120)),12,31) -> 47848 | H135: 43983 | I135: 44916
A136: 可変施肥田植機 | B136: 井関農機株式会社 | C136: さなえPRJ8 | D136: PRJ8DZHUJLFV | E136: =$I136 -> 44916 | F136: ～ | G136: =DATE(YEAR(EOMONTH(一覧表!$H136,120)),12,31) -> 47848 | H136: 43983 | I136: 44916
... A148: 温湯種子処理機 | B148: 株式会社タイガーカワシマ | C148: 湯芽工房 | D148: YS-2400 | E148: =$I148 -> 44916 | F148: ～ | G148: =DATE(YEAR(EOMONTH(一覧表!$H148,120)),12,31) -> 46752 | H148: 42775 | I148: 44916
A149: 温湯種子処理機 | B149: 株式会社タイガーカワシマ | C149: 湯芽工房 | D149: YS-2600 | E149: =$I149 -> 44916 | F149: ～ | G149: =DATE(YEAR(EOMONTH(一覧表!$H149,120)),12,31) -> 48579 | H149: 2022年4月1日 | I149: 44916
...
