Workbook

Sheet Sheet1
B2: みどり投資促進税制の対象機械一覧＜令和5年●●月●●日現在＞
B4: ※税制特例を活用する場合は、環境負荷低減事業活動実施計画又は特定環境負荷低減事業活動実施計画の認定を受けてから対象機械を導入する必要があります。
B5: 機械等の種類 | C5: 認定基盤確立事業者 | D5: 名称 | E5: 型式 | F5: 販売開始日 | G5: 確認日
B6: 潅水施肥装置 | C6: 株式会社ルートレック・ネットワークス | D6: ゼロアグリ | E6: ZA90000012 | F6: 44682 | G6: 44866
B7: 色彩選別機 | C7: 株式会社山本製作所 | D7: カラレックス | E7: YFG-1000S | F7: 42005 | G7: 44866
B8: 色彩選別機 | C8: 株式会社山本製作所 | D8: カラレックス | E8: YFG-2300K | F8: 44013 | G8: 44866
B9: 色彩選別機 | C9: 株式会社山本製作所 | D9: カラレックス | E9: YFG-3500K | F9: 44348 | G9: 44866
B10: 汎用色彩選別機 | C10: 株式会社山本製作所 | D10: カラレックス | E10: CLX-154DFM | F10: 44440 | G10: 44866
B11: 汎用色彩選別機 | C11: 株式会社山本製作所 | D11: カラレックス | E11: CLX-503DM | F11: 44378 | G11: 44866
B12: 汎用色彩選別機 | C12: 株式会社山本製作所 | D12: カラレックス | E12: CLX-503DMZ | F12: 44378 | G12: 44866
B13: 汎用色彩選別機 | C13: 株式会社山本製作所 | D13: カラレックス | E13: CLX-503DMZA | F13: 44378 | G13: 44866
B14: 家畜排せつ物の固液分離機 | C14: アイケイ商事株式会社 | D14: ｗコンベア | E14: IKSCAP-D-1200 | F14: 44287 | G14: 44866
B15: 家畜排せつ物の固液分離機 | C15: アイケイ商事株式会社 | D15: スーパースクリーンプレス | E15: IKSC-SSP-3500 | F15: 41609 | G15: 44866
B16: 家畜排せつ物の自動撹拌機 | C16: アイケイ商事株式会社 | D16: ファームクリーン | E16: IK-F-4 | F16: 42522 | G16: 44895
B17: 家畜排せつ物の自動撹拌機 | C17: アイケイ商事株式会社 | D17: ファームクリーン | E17: IK-F-5 | F17: 42522 | G17: 44895
... B80: 堆肥散布機 | C80: 株式会社アテックス | D80: マキタロウ | E80: MSX650MB | F80: 42552 | G80: 44895
B81: 堆肥散布機 | C81: 落合刃物工業株式会社 | D81: 乗用型茶園管理機+茶園用堆肥散布機 | E81: OMR-6＋R-6TA | F81: 2023年3月(予定) | G81: 44916
B82: 堆肥散布機 | C82: 落合刃物工業株式会社 | D82: 茶園用堆肥散布機 | E82: R-6TA | F82: 2023年3月(予定) | G82: 44916
B83: 堆肥散布機 | C83: 落合刃物工業株式会社 | D83: 茶園用堆肥散布機 | E83: R-5TA | F83: 2023年3月(予定) | G83: 44916
B84: 可変施肥田植機 | C84: 井関農機株式会社 | D84: さなえPRJ8 | E84: PRJ8DLFV | F84: 43983 | G84: 44916
B85: 可変施肥田植機 | C85: 井関農機株式会社 | D85: さなえPRJ8 | E85: PRJ8DHUJLFV | F85: 43983 | G85: 44916
B86: 可変施肥田植機 | C86: 井関農機株式会社 | D86: さなえPRJ8 | E86: PRJ8DLFVG5 | F86: 43983 | G86: 44916
B87: 可変施肥田植機 | C87: 井関農機株式会社 | D87: さなえPRJ8 | E87: PRJ8DZLFV | F87: 43983 | G87: 44916
B88: 可変施肥田植機 | C88: 井関農機株式会社 | D88: さなえPRJ8 | E88: PRJ8DZLFVG5 | F88: 43983 | G88: 44916
B89: 可変施肥田植機 | C89: 井関農機株式会社 | D89: さなえPRJ8 | E89: PRJ8DHTLFV | F89: 43983 | G89: 44916
B90: 可変施肥田植機 | C90: 井関農機株式会社 | D90: さなえPRJ8 | E90: PRJ8DHULFV | F90: 43983 | G90: 44916
B91: 可変施肥田植機 | C91: 井関農機株式会社 | D91: さなえPRJ8 | E91: PRJ8DZHUJLFV | F91: 43983 | G91: 44916
B92: 可変施肥田植機 | C92: 井関農機株式会社 | D92: さなえPRJ8 | E92: PRJ8DZHULFV | F92: 43983 | G92: 44916
B93: 可変施肥田植機 | C93: 井関農機株式会社 | D93: さなえPRJ8 | E93: PRJ8DRLFV | F93: 44896 | G93: 44916
B94: 堆肥散布機 | C94: 株式会社イナダ | D94: マニアスプレッダー | E94: MS-500 | F94: 44287 | G94: 44916
B95: 温湯種子処理機 | C95: 株式会社タイガーカワシマ | D95: 湯芽工房 | E95: YS-2400 | F95: 42775 | G95: 44916
B96: 温湯種子処理機 | C96: 株式会社タイガーカワシマ | D96: 湯芽工房 | E96: YS-2600 | F96: 2022年4月1日 | G96: 44916
B97: 温湯種子処理機 | C97: 株式会社タイガーカワシマ | D97: 湯芽工房 | E97: YS-3700 | F97: 44551 | G97: 44916
B98: 温湯種子処理機 | C98: 株式会社タイガーカワシマ | D98: 湯芽工房 | E98: YS-3700S | F98: 42382 | G98: 44916
B99: ラジコン草刈機 | C99: 株式会社ササキコーポレーション | D99: 電動リモコン作業機 スマモ | E99: RS400-1+M700 | F99: 43160 | G99: 44916
B100: ラジコン草刈機 | C100: 株式会社ササキコーポレーション | D100: 電動リモコン作業機 スマモ | E100: RS400-1+AZ720 | F100: 43160 | G100: 44916
B101: ラジコン草刈機 | C101: 株式会社ササキコーポレーション | D101: 電動リモコン作業機 スマモ | E101: RS400-1+SSC-30 | F101: 43160 | G101: 44916
B102: ラジコン草刈機 | C102: 株式会社ササキコーポレーション | D102: 電動リモコン作業機 スマモ | E102: RS400-AZ2 | F102: 43160 | G102: 44916
B103: ラジコン草刈機 | C103: 株式会社ササキコーポレーション | D103: 電動リモコン作業機 スマモ | E103: RS400-M2 | F103: 43160 | G103: 44916
B104: ラジコン草刈機 | C104: 株式会社ササキコーポレーション | D104: 電動リモコン作業機 スマモ | E104: RS400-SC2 | F104: 43160 | G104: 44916
...

Sheet 一覧表
A1: 別紙
A2: みどり投資促進税制の対象機械一覧＜令和８年10月23日現在＞
A4: ※税制特例を活用する場合は、環境負荷低減事業活動実施計画又は特定環境負荷低減事業活動実施計画の認定を受けてから対象機械を導入する必要があります。黒塗りのものは税制特例の対象となる期間が終了したものです。
A5: 機械等の種類 | B5: 認定基盤確立事業者 | C5: 名称 | D5: 型式（※備考） | E5: 税制特例の対象となる期間 | H5: 販売開始日 | I5: 確認日
A6: 潅水施肥装置 | B6: 株式会社ルートレック・ネットワークス | C6: ゼロアグリ | D6: ZA90000012 | E6: =$I6 -> 44866 | F6: ～ | G6: =DATE(YEAR(EOMONTH(一覧表!$H6,120)),12,31) -> 48579 | H6: 44682 | I6: 44866
A7: 色彩選別機 | B7: 株式会社山本製作所 | C7: カラレックス | D7: YFG-1000S | E7: =$I7 -> 44866 | F7: ～ | G7: =DATE(YEAR(EOMONTH(一覧表!$H7,120)),12,31) -> 46022 | H7: 42005 | I7: 44866
A8: 色彩選別機 | B8: 株式会社山本製作所 | C8: カラレックス | D8: YFG-2300K | E8: =$I8 -> 44866 | F8: ～ | G8: =DATE(YEAR(EOMONTH(一覧表!$H8,120)),12,31) -> 47848 | H8: 44013 | I8: 44866
A9: 色彩選別機 | B9: 株式会社山本製作所 | C9: カラレックス | D9: YFG-3500K | E9: =$I9 -> 44866 | F9: ～ | G9: =DATE(YEAR(EOMONTH(一覧表!$H9,120)),12,31) -> 48213 | H9: 44348 | I9: 44866
A10: 汎用色彩選別機 | B10: 株式会社山本製作所 | C10: カラレックス | D10: CLX-154DFM | E10: =$I10 -> 44866 | F10: ～ | G10: =DATE(YEAR(EOMONTH(一覧表!$H10,120)),12,31) -> 48213 | H10: 44440 | I10: 44866
A11: 汎用色彩選別機 | B11: 株式会社山本製作所 | C11: カラレックス | D11: CLX-503DM | E11: =$I11 -> 44866 | F11: ～ | G11: =DATE(YEAR(EOMONTH(一覧表!$H11,120)),12,31) -> 48213 | H11: 44378 | I11: 44866
A12: 汎用色彩選別機 | B12: 株式会社山本製作所 | C12: カラレックス | D12: CLX-503DMZ | E12: =$I12 -> 44866 | F12: ～ | G12: =DATE(YEAR(EOMONTH(一覧表!$H12,120)),12,31) -> 48213 | H12: 44378 | I12: 44866
A13: 汎用色彩選別機 | B13: 株式会社山本製作所 | C13: カラレックス | D13: CLX-503DMZA | E13: =$I13 -> 44866 | F13: ～ | G13: =DATE(YEAR(EOMONTH(一覧表!$H13,120)),12,31) -> 48213 | H13: 44378 | I13: 44866
A14: 家畜排せつ物の固液分離機 | B14: アイケイ商事株式会社 | C14: ｗコンベア | D14: IKSCAP-D-1200 | E14: =$I14 -> 44866 | F14: ～ | G14: =DATE(YEAR(EOMONTH(一覧表!$H14,120)),12,31) -> 48213 | H14: 44287 | I14: 44866
A15: 家畜排せつ物の固液分離機 | B15: アイケイ商事株式会社 | C15: スーパースクリーンプレス | D15: IKSC-SSP-3500 | E15: =$I15 -> 44866 | F15: ～ | G15: =DATE(YEAR(EOMONTH(一覧表!$H15,120)),12,31) -> 45291 | H15: 41609 | I15: 44866
A16: 家畜排せつ物の自動撹拌機 | B16: アイケイ商事株式会社 | C16: ファームクリーン | D16: IK-F-4 | E16: =$I16 -> 44895 | F16: ～ | G16: =DATE(YEAR(EOMONTH(一覧表!$H16,120)),12,31) -> 46387 | H16: 42522 | I16: 44895
A17: 家畜排せつ物の自動撹拌機 | B17: アイケイ商事株式会社 | C17: ファームクリーン | D17: IK-F-5 | E17: =$I17 -> 44895 | F17: ～ | G17: =DATE(YEAR(EOMONTH(一覧表!$H17,120)),12,31) -> 46387 | H17: 42522 | I17: 44895
... A23: 家畜排せつ物の自動撹拌機 | B23: アイケイ商事株式会社 | C23: ファームクリーンｗオーガー | D23: IK-FW-K | E23: =$I23 -> 44895 | F23: ～ | G23: =DATE(YEAR(EOMONTH(一覧表!$H23,120)),12,31) -> 47118 | H23: 43101 | I23: 44895
A24: 再生紙マルチ田植機 | B24: MAM株式会社（旧：三菱マヒンドラ農機株式会社） | C24: LKE-ADシリーズ | D24: LKE60AD（B2仕様） | E24: =$I24 -> 44866 | F24: ～ | G24: 46294 | H24: 43617 | I24: 44866
A25: 再生紙マルチ田植機 | B25: MAM株式会社（旧：三菱マヒンドラ農機株式会社） | C25: LKE-ADシリーズ | D25: LKE60AD（BP2仕様） | E25: =$I25 -> 44866 | F25: ～ | G25: 46294 | H25: 43617 | I25: 44866
A26: ペースト施肥仕様田植機 | B26: MAM株式会社（旧：三菱マヒンドラ農機株式会社） | C26: LE-Aシリーズ | D26: LE4A（P仕様） | E26: =$I26 -> 44866 | F26: ～ | G26: 46294 | H26: 43252 | I26: 44866
A27: ペースト施肥仕様田植機 | B27: MAM株式会社（旧：三菱マヒンドラ農機株式会社） | C27: LE-Aシリーズ | D27: LE4A（PU仕様） | E27: =$I27 -> 44866 | F27: ～ | G27: 46294 | H27: 43252 | I27: 44866
A28: ペースト施肥仕様田植機 | B28: MAM株式会社（旧：三菱マヒンドラ農機株式会社） | C28: LE-Aシリーズ | D28: LE4A（BP仕様） | E28: =$I28 -> 44866 | F28: ～ | G28: 46294 | H28: 43252 | I28: 44866
A29: ペースト施肥仕様田植機 | B29: MAM株式会社（旧：三菱マヒンドラ農機株式会社） | C29: LE-Aシリーズ | D29: LE4A（BPU仕様） | E29: =$I29 -> 44866 | F29: ～ | G29: 46294 | H29: 43252 | I29: 44866
A30: ペースト施肥仕様田植機 | B30: MAM株式会社（旧：三菱マヒンドラ農機株式会社） | C30: LE-ADシリーズ | D30: LE50AD（P2仕様） | E30: =$I30 -> 44866 | F30: ～ | G30: 46294 | H30: 43617 | I30: 44866
A31: ペースト施肥仕様田植機 | B31: MAM株式会社（旧：三菱マヒンドラ農機株式会社） | C31: LE-ADシリーズ | D31: LE50AD（BP2仕様） | E31: =$I31 -> 44866 | F31: ～ | G31: 46294 | H31: 43617 | I31: 44866
A32: ペースト施肥仕様田植機 | B32: MAM株式会社（旧：三菱マヒンドラ農機株式会社） | C32: LE-ADシリーズ | D32: LE60AD（P2仕様） | E32: =$I32 -> 44866 | F32: ～ | G32: 46294 | H32: 43617 | I32: 44866
A33: ペースト施肥仕様田植機 | B33: MAM株式会社（旧：三菱マヒンドラ農機株式会社） | C33: LE-ADシリーズ | D33: LE60AD（BP2仕様） | E33: =$I33 -> 44866 | F33: ～ | G33: 46294 | H33: 43617 | I33: 44866
A34: ペースト施肥仕様田植機 | B34: MAM株式会社（旧：三菱マヒンドラ農機株式会社） | C34: LE-ADシリーズ | D34: LE70AD（P2仕様） | E34: =$I34 -> 44866 | F34: ～ | G34: 46294 | H34: 43617 | I34: 44866
A35: ペースト施肥仕様田植機 | B35: MAM株式会社（旧：三菱マヒンドラ農機株式会社） | C35: LE-ADシリーズ | D35: LE70AD（BP2仕様） | E35: =$I35 -> 44866 | F35: ～ | G35: 46294 | H35: 43617 | I35: 44866
... A62: 水田除草機 作業機 | B62: 株式会社オーレック | C62: ウィードマン | D62: SJ800X-33U | E62: =$I62 -> 44866 | F62: ～ | G62: 45377 | H62: 44666 | I62: 44866
A63: 水田除草機 | B63: 株式会社オーレック | C63: ウィードマン | D63: SJ600A | E63: =$I63 -> 45378 | F63: ～ | G63: =DATE(YEAR(EOMONTH(一覧表!$H63,120)),12,31) -> 48944 | H63: 45250 | I63: 45378
A64: 水田除草機 | B64: 株式会社オーレック | C64: ウィードマン | D64: SJ800A | E64: =$I64 -> 45378 | F64: ～ | G64: =DATE(YEAR(EOMONTH(一覧表!$H64,120)),12,31) -> 48944 | H64: 45250 | I64: 45378
A65: 水田除草機 | B65: 株式会社オーレック | C65: ウィードマン | D65: SJ600A-33 | E65: =$I65 -> 45378 | F65: ～ | G65: =DATE(YEAR(EOMONTH(一覧表!$H65,120)),12,31) -> 48944 | H65: 45250 | I65: 45378
A66: 水田除草機 | B66: 株式会社オーレック | C66: ウィードマン | D66: SJ800A-33 | E66: =$I66 -> 45378 | F66: ～ | G66: =DATE(YEAR(EOMONTH(一覧表!$H66,120)),12,31) -> 48944 | H66: 45250 | I66: 45378
A67: 水田除草機 | B67: 株式会社オーレック | C67: ウィードマン | D67: SJ601 | E67: 46296 | F67: ～ | G67: =DATE(YEAR(EOMONTH([1]一覧表!$J67,120)),12,31) -> 50040 | H67: 46296 | I67: =DATE(YEAR(EOMONTH([1]一覧表!$J67,120)),12,31) -> 50040
A68: 水田除草機 | B68: 株式会社オーレック | C68: ウィードマン | D68: SJ801 | E68: 46296 | F68: ～ | G68: =DATE(YEAR(EOMONTH([1]一覧表!$J68,120)),12,31) -> 50040 | H68: 46296 | I68: =DATE(YEAR(EOMONTH([1]一覧表!$J68,120)),12,31) -> 50040
A69: 水田除草機 | B69: 株式会社オーレック | C69: ウィードマン | D69: SJ601-33 | E69: 46296 | F69: ～ | G69: =DATE(YEAR(EOMONTH([1]一覧表!$J69,120)),12,31) -> 50040 | H69: 46296 | I69: =DATE(YEAR(EOMONTH([1]一覧表!$J69,120)),12,31) -> 50040
A70: 水田除草機 | B70: 株式会社オーレック | C70: ウィードマン | D70: SJ801-33 | E70: 46296 | F70: ～ | G70: =DATE(YEAR(EOMONTH([1]一覧表!$J70,120)),12,31) -> 50040 | H70: 46296 | I70: =DATE(YEAR(EOMONTH([1]一覧表!$J70,120)),12,31) -> 50040
A71: 水田除草機 作業機 | B71: 株式会社オーレック | C71: ウィードマン | D71: SJ600AU | E71: =$I71 -> 45378 | F71: ～ | G71: =DATE(YEAR(EOMONTH(一覧表!$H71,120)),12,31) -> 49309 | H71: 45296 | I71: 45378
A72: 水田除草機 作業機 | B72: 株式会社オーレック | C72: ウィードマン | D72: SJ800AU | E72: =$I72 -> 45378 | F72: ～ | G72: =DATE(YEAR(EOMONTH(一覧表!$H72,120)),12,31) -> 49309 | H72: 45296 | I72: 45378
...
