Workbook

Sheet シート１_青色申告決算書
E1: 現状値
B2: ＜事業実施主体名＞ | C2: 令和５年 | D2: 令和６年 | E2: 令和７年 | F2: 3か年平均 | G2: … | H2: 目標年（令和 年） | I2: 面積増加率
B3: 計画内の対象品目の面積（a） | C3: =シート２_経営実績・計画把握表!C5 -> 0 | D3: =シート２_経営実績・計画把握表!D5 -> 0 | E3: =シート２_経営実績・計画把握表!E5 -> 0 | F3: =シート２_経営実績・計画把握表!F5 | H3: =シート２_経営実績・計画把握表!K5 -> 0 | I3: =IFERROR(シート２_経営実績・計画把握表!M44,"")
B4: 経営全体の面積（a） | C4: =シート２_経営実績・計画把握表!C60 -> 0 | D4: =シート２_経営実績・計画把握表!D60 -> 0 | E4: =シート２_経営実績・計画把握表!E60 -> 0 | F4: =シート２_経営実績・計画把握表!F60 -> 0 | H4: =シート２_経営実績・計画把握表!K60 -> 0
B5: 全体のうち対象品目の割合(%) | C5: =IFERROR(C3/C4,"") | D5: =IFERROR(D3/D4,"") | E5: =IFERROR(E3/E4,"") | F5: =IFERROR(F3/F4,"") | H5: =IFERROR(H3/H4,"")
H6: ↑数式の引用元はシート２の令和12年度
B7: 損益計算書 | I7: ↓増減の考え方：基本的には面積比による増加（個別要因があればこの列に記載し、H列の入力内容を編集）
B8: 【収入金額】
B9: 販売金額 | F9: =IFERROR(AVERAGE(C9:E9),"") | H9: =シート２_経営実績・計画把握表!K46 -> 0 | I9: ※シート２（令和12年度売上）より転記
B10: 家事消費・事業消費 金額 | H10: =IFERROR(ROUND(I$3*E10,0),"")
B11: 雑収入 | H11: =IFERROR(ROUND(I$3*E11,0),"")
B12: 小計 | C12: =SUM(C9:C11) -> 0 | D12: =SUM(D9:D11) -> 0 | E12: =SUM(E9:E11) -> 0 | F12: =IFERROR(AVERAGE(C12:E12),"") -> 0 | H12: =SUM(H9:H11) -> 0
B13: 農産物の棚卸高 期首 | H13: =IFERROR(ROUND(I$3*E13,0),"")
B14: 農産物の棚卸高 期末 | H14: =IFERROR(ROUND(I$3*E14,0),"")
B15: 計 | C15: =C12-C13+C14 -> 0 | D15: =D12-D13+D14 -> 0 | E15: =E12-E13+E14 -> 0 | F15: =IFERROR(AVERAGE(C15:E15),"") -> 0 | H15: =IFERROR(H12-H13+H14,"")
B17: 【経費】
B18: 租税公課 | H18: =IFERROR(ROUND(I$3*E18,0),"")
B19: 種苗費 | H19: =IFERROR(ROUND(I$3*E19,0),"")
B20: 素畜費 | H20: =IFERROR(ROUND(I$3*E20,0),"")
B21: 肥料費 | H21: =IFERROR(ROUND(I$3*E21,0),"")
B22: 飼料費 | H22: =IFERROR(ROUND(I$3*E22,0),"")
B23: 農具費 | H23: =IFERROR(ROUND(I$3*E23,0),"")
B24: 農薬費 衛生 | H24: =IFERROR(ROUND(I$3*E24,0),"")
B25: 諸材料費 | H25: =IFERROR(ROUND(I$3*E25,0),"")
B26: 修繕費 | H26: =IFERROR(ROUND(I$3*E26,0),"")
B27: 動力光熱費 | H27: =IFERROR(ROUND(I$3*E27,0),"")
B28: 作業用衣料費 | H28: =IFERROR(ROUND(I$3*E28,0),"")
B29: 農業共済掛金 | H29: =IFERROR(ROUND(I$3*E29,0),"")
... B39: （その他３） | H39: =IFERROR(ROUND(I$3*E39,0),"")
B40: 小計 | C40: =SUM(C18:C39) -> 0 | D40: =SUM(D18:D39) -> 0 | E40: =SUM(E18:E39) -> 0 | F40: =IFERROR(AVERAGE(C40:E40),"") -> 0 | H40: =SUM(H18:H39) -> 0
B41: 農産物以外の棚卸高 期首 | H41: =IFERROR(ROUND(I$3*E41,0),"")
B42: 農産物以外の棚卸高 期末 | H42: =IFERROR(ROUND(I$3*E42,0),"")
B43: 経費から差し引く果樹牛馬等の育成費用 | H43: =IFERROR(ROUND(I$3*E43,0),"")
B44: 計 | C44: =C40+C41-C42-C43 -> 0 | D44: =D40+D41-D42-D43 -> 0 | E44: =E40+E41-E42-E43 -> 0 | F44: =IFERROR(AVERAGE(C44:E44),"") -> 0 | H44: =IFERROR(H40+H41-H42-H43,"")
B46: 差引金額（収入金額ー経費） | C46: =C15-C44 -> 0 | D46: =D15-D44 -> 0 | E46: =E15-E44 -> 0 | F46: =IFERROR(AVERAGE(C46:E46),"") -> 0 | H46: =IFERROR(H15-H44,"")
B48: 【各種引当金準備金等】
B49: 繰戻額等
B50: 貸倒引当金 | H50: =IFERROR(ROUND(I$3*E50,0),"")
B51: （その他） | H51: =IFERROR(ROUND(I$3*E51,0),"")
B52: 計 | C52: =SUM(C50:C51) -> 0 | D52: =SUM(D50:D51) -> 0 | E52: =SUM(E50:E51) -> 0 | F52: =IFERROR(AVERAGE(C52:E52),"") -> 0 | H52: =IFERROR(SUM(H50:H51),"") -> 0
...

Sheet シート２_経営実績・計画把握表
A1: 経営実績・計画把握表
A3: 生産品目① | C3: 過去の実績 | G3: 今後の計画
C4: 令和5年 | D4: 令和6年 | E4: 令和7年 | F4: 3か年平均 | G4: 令和8年 | H4: 令和9年 | I4: 令和10年 | J4: 令和11年 | K4: 令和12年 | M4: 面積拡大率（数式は目標年度を令和12年、現状値を令和7年としています）
A5: 生産規模 | B5: a | F5: =IFERROR(AVERAGE(C5:E5),"") | M5: =IFERROR(K5/E5,"")
A6: 反収 | B6: kg/10a | F6: =IFERROR(AVERAGE(C6:E6),"")
A7: 生産量 | B7: kg | C7: =(C5*C6)/10 -> 0 | D7: =(D5*D6)/10 -> 0 | E7: =(E5*E6)/10 -> 0 | F7: =AVERAGE(C7:E7) -> 0 | G7: =(G5*G6)/10 -> 0 | H7: =(H5*H6)/10 -> 0 | I7: =(I5*I6)/10 -> 0 | J7: =(J5*J6)/10 -> 0 | K7: =(K5*K6)/10 -> 0
A8: 単価 | B8: 円 | F8: =IFERROR(AVERAGE(C8:E8),"")
A9: 売上 | B9: 千円 | C9: =(C7*C8)/1000 -> 0 | D9: =(D7*D8)/1000 -> 0 | E9: =(E7*E8)/1000 -> 0 | F9: =AVERAGE(C9:E9) -> 0 | G9: =(G7*G8)/1000 -> 0 | H9: =(H7*H8)/1000 -> 0 | I9: =(I7*I8)/1000 -> 0 | J9: =(J7*J8)/1000 -> 0 | K9: =(K7*K8)/1000 -> 0
A11: 生産品目② | C11: 過去の実績 | G11: 今後の計画
C12: 令和5年 | D12: 令和6年 | E12: 令和7年 | F12: 3か年平均 | G12: 令和8年 | H12: 令和9年 | I12: 令和10年 | J12: 令和11年 | K12: 令和12年
A13: 生産規模 | B13: a | F13: =IFERROR(AVERAGE(C13:E13),"") | M13: =IFERROR(K13/E13,"")
A14: 単収 | B14: kg/10a | F14: =IFERROR(AVERAGE(C14:E14),"")
A15: 生産量 | B15: kg | C15: =(C13*C14)/10 -> 0 | D15: =(D13*D14)/10 -> 0 | E15: =(E13*E14)/10 -> 0 | F15: =AVERAGE(C15:E15) -> 0 | G15: =(G13*G14)/10 -> 0 | H15: =(H13*H14)/10 -> 0 | I15: =(I13*I14)/10 -> 0 | J15: =(J13*J14)/10 -> 0 | K15: =(K13*K14)/10 -> 0
A16: 単価 | B16: 円 | F16: =IFERROR(AVERAGE(C16:E16),"")
A17: 売上 | B17: 千円 | C17: =(C15*C16)/1000 -> 0 | D17: =(D15*D16)/1000 -> 0 | E17: =(E15*E16)/1000 -> 0 | F17: =AVERAGE(C17:E17) -> 0 | G17: =(G15*G16)/1000 -> 0 | H17: =(H15*H16)/1000 -> 0 | I17: =(I15*I16)/1000 -> 0 | J17: =(J15*J16)/1000 -> 0 | K17: =(K15*K16)/1000 -> 0
A19: 生産品目③ | C19: 過去の実績 | G19: 今後の計画
C20: 令和5年 | D20: 令和6年 | E20: 令和7年 | F20: 3か年平均 | G20: 令和8年 | H20: 令和9年 | I20: 令和10年 | J20: 令和11年 | K20: 令和12年
A21: 生産規模 | B21: a | F21: =IFERROR(AVERAGE(C21:E21),"") | M21: =IFERROR(K21/E21,"")
A22: 単収 | B22: kg/10a | F22: =IFERROR(AVERAGE(C22:E22),"")
A23: 生産量 | B23: kg | C23: =(C21*C22)/10 -> 0 | D23: =(D21*D22)/10 -> 0 | E23: =(E21*E22)/10 -> 0 | F23: =AVERAGE(C23:E23) -> 0 | G23: =(G21*G22)/10 -> 0 | H23: =(H21*H22)/10 -> 0 | I23: =(I21*I22)/10 -> 0 | J23: =(J21*J22)/10 -> 0 | K23: =(K21*K22)/10 -> 0
A24: 単価 | B24: 円 | F24: =IFERROR(AVERAGE(C24:E24),"")
A25: 売上 | B25: 千円 | C25: =(C23*C24)/1000 -> 0 | D25: =(D23*D24)/1000 -> 0 | E25: =(E23*E24)/1000 -> 0 | F25: =AVERAGE(C25:E25) -> 0 | G25: =(G23*G24)/1000 -> 0 | H25: =(H23*H24)/1000 -> 0 | I25: =(I23*I24)/1000 -> 0 | J25: =(J23*J24)/1000 -> 0 | K25: =(K23*K24)/1000 -> 0
A27: 生産品目④ | C27: 過去の実績 | G27: 今後の計画
C28: 令和5年 | D28: 令和6年 | E28: 令和7年 | F28: 3か年平均 | G28: 令和8年 | H28: 令和9年 | I28: 令和10年 | J28: 令和11年 | K28: 令和12年
A29: 生産規模 | B29: （a) | F29: =IFERROR(AVERAGE(C29:E29),"") | M29: =IFERROR(K29/E29,"")
A30: 単収 | B30: （kg/10a） | F30: =IFERROR(AVERAGE(C30:E30),"")
A31: 生産量 | B31: (kg) | C31: =(C29*C30)/10 -> 0 | D31: =(D29*D30)/10 -> 0 | E31: =(E29*E30)/10 -> 0 | F31: =AVERAGE(C31:E31) -> 0 | G31: =(G29*G30)/10 -> 0 | H31: =(H29*H30)/10 -> 0 | I31: =(I29*I30)/10 -> 0 | J31: =(J29*J30)/10 -> 0 | K31: =(K29*K30)/10 -> 0
A32: 単価 | B32: (円） | F32: =IFERROR(AVERAGE(C32:E32),"")
A33: 売上 | B33: （千円） | C33: =(C31*C32)/1000 -> 0 | D33: =(D31*D32)/1000 -> 0 | E33: =(E31*E32)/1000 -> 0 | F33: =AVERAGE(C33:E33) -> 0 | G33: =(G31*G32)/1000 -> 0 | H33: =(H31*H32)/1000 -> 0 | I33: =(I31*I32)/1000 -> 0 | J33: =(J31*J32)/1000 -> 0 | K33: =(K31*K32)/1000 -> 0
A35: 生産品目⑤ | C35: 過去の実績 | G35: 今後の計画
C36: 令和5年 | D36: 令和6年 | E36: 令和7年 | F36: 3か年平均 | G36: 令和8年 | H36: 令和9年 | I36: 令和10年 | J36: 令和11年 | K36: 令和12年
A37: 生産規模 | B37: （a) | F37: =IFERROR(AVERAGE(C37:E37),"") | M37: =IFERROR(K37/E37,"")
A38: 単収 | B38: （kg/10a） | F38: =IFERROR(AVERAGE(C38:E38),"")
A39: 生産量 | B39: (kg) | C39: =(C37*C38)/10 -> 0 | D39: =(D37*D38)/10 -> 0 | E39: =(E37*E38)/10 -> 0 | F39: =AVERAGE(C39:E39) -> 0 | G39: =(G37*G38)/10 -> 0 | H39: =(H37*H38)/10 -> 0 | I39: =(I37*I38)/10 -> 0 | J39: =(J37*J38)/10 -> 0 | K39: =(K37*K38)/10 -> 0
A40: 単価 | B40: (円） | F40: =IFERROR(AVERAGE(C40:E40),"")
A41: 売上 | B41: （千円） | C41: =(C39*C40)/1000 -> 0 | D41: =(D39*D40)/1000 -> 0 | E41: =(E39*E40)/1000 -> 0 | F41: =AVERAGE(C41:E41) -> 0 | G41: =(G39*G40)/1000 -> 0 | H41: =(H39*H40)/1000 -> 0 | I41: =(I39*I40)/1000 -> 0 | J41: =(J39*J40)/1000 -> 0 | K41: =(K39*K40)/1000 -> 0
A43: 合計 | M43: 合計の面積拡大率
A44: 生産品目の総生産規模 | B44: （a） | C44: =C5+C13+C21+C29+C37 -> 0 | D44: =D5+D13+D21+D29+D37 -> 0 | E44: =E5+E13+E21+E29+E37 -> 0 | F44: =IFERROR(F5+F13+F21+F29+F37,"") | G44: =G5+G13+G21+G29+G37 -> 0 | H44: =H5+H13+H21+H29+H37 -> 0 | I44: =I5+I13+I21+I29+I37 -> 0 | J44: =J5+J13+J21+J29+J37 -> 0 | K44: =K5+K13+K21+K29+K37 -> 0 | M44: =IFERROR(K44/E44,"")
A45: 生産量 | B45: （kg） | C45: =C7+C15+C23+C31+C39 -> 0 | D45: =D7+D15+D23+D31+D39 -> 0 | E45: =E7+E15+E23+E31+E39 -> 0 | F45: =IFERROR(F7+F15+F23+F31+F39,"") -> 0 | G45: =G7+G15+G23+G31+G39 -> 0 | H45: =H7+H15+H23+H31+H39 -> 0 | I45: =I7+I15+I23+I31+I39 -> 0 | J45: =J7+J15+J23+J31+J39 -> 0 | K45: =K7+K15+K23+K31+K39 -> 0
A46: 売上 | B46: （円） | C46: =(C9+C17+C25+C33+C41)*1000 -> 0 | D46: =(D9+D17+D25+D33+D41)*1000 -> 0 | E46: =(E9+E17+E25+E33+E41)*1000 -> 0 | F46: =IFERROR((F9+F17+F25+F33+F41)*1000,"") -> 0 | G46: =(G9+G17+G25+G33+G41)*1000 -> 0 | H46: =(H9+H17+H25+H33+H41)*1000 -> 0 | I46: =(I9+I17+I25+I33+I41)*1000 -> 0 | J46: =(J9+J17+J25+J33+J41)*1000 -> 0 | K46: =(K9+K17+K25+K33+K41)*1000 -> 0
...

Sheet シート３_計画書への転記用
A1: ↓計算確認及び計画書への転記用（シート１の計算結果から数値を引用し、計算式を入れている）
A2: パターン１
A3: （３）生産方式革新事業活動の目標
B4: Ａ 現状 （令和７年度） | C4: Ｂ 計画終了時の目標 | D4: 変化率（％） （（Ｂ－Ａ）／Ａ）
A5: ａ 付加価値額 | B5: =シート１_青色申告決算書!E77 -> 0 | C5: =シート１_青色申告決算書!H77 -> 0 | D5: =IFERROR(ROUND((C5-B5)/ABS(B5)*100,1),"")
A6: ｂ 労働投入量 | B6: =シート１_青色申告決算書!E78 -> 0 | C6: =シート１_青色申告決算書!H78 | D6: =IFERROR(ROUND((C6-B6)/ABS(B6)*100,1),"")
A7: 労働生産性（ａ／ｂ） | B7: =IFERROR(ROUND(B5/B6,0),"") | C7: =IFERROR(ROUND(C5/C6,0),"") | D7: =IFERROR(ROUND((C7-B7)/ABS(B7)*100,1),"")
D8: =IF(OR(D7<5,D7=""),"NG","OK") -> NG
A9: （６）所得の状況（計画参加農業者の合算）
A10: 年度 | B10: 計画参加農業者の所得合計 （百万円）
A11: 現状（令和7年度） | B11: =シート１_青色申告決算書!E82/1000000 -> 0
A12: 目標年度（令和 年度） | B12: =IFERROR(シート１_青色申告決算書!H82/1000000,"")
B13: =IF(B12="","NG",IF(AND(B12-B11>=0,B12>0),"OK","NG")) -> NG
A15: パターン２
A16: （３）生産方式革新事業活動の目標
B17: Ａ 現状 （直近3か年平均） | C17: Ｂ 計画終了時の目標 | D17: 変化率（％） （（Ｂ－Ａ）／Ａ）
A18: ａ 付加価値額 | B18: =シート１_青色申告決算書!F77 -> 0 | C18: =シート１_青色申告決算書!H77 -> 0 | D18: =IFERROR(ROUND((C18-B18)/ABS(B18)*100,1),"")
A19: ｂ 労働投入量 | B19: =シート１_青色申告決算書!F78 | C19: =シート１_青色申告決算書!H78 | D19: =IFERROR(ROUND((C19-B19)/ABS(B19)*100,1),"")
A20: 労働生産性（ａ／ｂ） | B20: =IFERROR(ROUND(B18/B19,0),"") | C20: =IFERROR(ROUND(C18/C19,0),"") | D20: =IFERROR(ROUND((C20-B20)/ABS(B20)*100,1),"")
D21: =IF(D20="","NG",IF(D20>5,"OK","NG")) -> NG
A22: （６）所得の状況（計画参加農業者の合算）
A23: 年度 | B23: 計画参加農業者の所得合計 （百万円）
A24: 現状（直近3か年平均） | B24: =シート１_青色申告決算書!F82/1000000 -> 0
A25: 目標年度（令和 年度） | B25: =IFERROR(シート１_青色申告決算書!H82/1000000,"")
B26: =IF(B25="","NG",IF(AND(B25-B24>=0,B25>0),"OK","NG")) -> NG
A28: ↓【参考：スマ転事業における労働生産性】※労働投入量を「人数」で算出している場合は下記計算式が参照できないため注意
B30: 現状値 | D30: 目標値（令和10年度の値を引用） | F30: 変化率（％） | G30: 判定
A31: 計算用数値（シート１～２から引用） | C31: 労働生産性 | E31: 労働生産性
A32: 販売額（円） | B32: =IF(シート２_経営実績・計画把握表!E46="","",シート２_経営実績・計画把握表!E46) -> 0 | C32: =IFERROR(ROUND(B32/B$35,1),"") | D32: =IF(シート２_経営実績・計画把握表!I46="","",シート２_経営実績・計画把握表!I46) -> 0 | E32: =IFERROR(ROUND(D32/D$35,1),"") | F32: =IFERROR(ROUND((E32-C32)/ABS(C32)*100,1),"") | G32: =IF(F32="","NG",IF(F32>5,"OK","NG")) -> NG
A33: 生産量（kg） | B33: =IF(シート２_経営実績・計画把握表!E45="","",シート２_経営実績・計画把握表!E45) -> 0 | C33: =IFERROR(ROUND(B33/B$35,1),"") | D33: =IF(シート２_経営実績・計画把握表!I45="","",シート２_経営実績・計画把握表!I45) -> 0 | E33: =IFERROR(ROUND(D33/D$35,1),"") | F33: =IFERROR(ROUND((E33-C33)/ABS(C33)*100,1),"") | G33: =IF(F33="","NG",IF(F33>5,"OK","NG")) -> NG
A34: 栽培面積（a） | B34: =IF(シート２_経営実績・計画把握表!E44="","",シート２_経営実績・計画把握表!E44) -> 0 | C34: =IFERROR(ROUND(B34/B$35,3),"") | D34: =IF(シート２_経営実績・計画把握表!I44="","",シート２_経営実績・計画把握表!I44) -> 0 | E34: =IFERROR(ROUND(D34/D$35,3),"") | F34: =IFERROR(ROUND((E34-C34)/ABS(C34)*100,1),"") | G34: =IF(F34="","NG",IF(F34>5,"OK","NG")) -> NG
A35: 労働時間 | B35: =IF(シート１_青色申告決算書!E78="","",シート１_青色申告決算書!E78) | D35: =IF(シート１_青色申告決算書!H78="","",シート１_青色申告決算書!H78)
D36: ※↑労働時間はシート1の目標値から引用しているため、令和10年度の値と異なる場合は要修正
A37: ①販売額で目標値を算出する場合の目安
B38: ↓プルダウンで段階別に選択可 | D38: 現状値（円/時間） | F38: 計画終了時の目標値（円/時間）
A39: 労働生産性を | B39: 0.05 | C39: 上げるには | D39: =C32 | E39: から | F39: =IFERROR(ROUND(D39*B39+D39,1),"") | G39: への向上が必要
A41: ②生産量で目標値を算出する場合の目安
B42: ↓プルダウンで段階別に選択可 | D42: 現状値（kg/時間） | F42: 計画終了時の目標値（㎏/時間）
A43: 労働生産性を | B43: 0.05 | C43: 上げるには | D43: =C33 | E43: から | F43: =IFERROR(ROUND(D43*B43+D43,1),"") | G43: への向上が必要
A45: ③栽培面積で目標値を算出する場合の目安
...
