Workbook
Name A: '[1]第２表（水稲）'!$D$9,'[1]第２表（水稲）'!$D$20:$D$65
Name B: '[1]第２表（水稲）'!$F$9,'[1]第２表（水稲）'!$F$20:$F$65
Name D: '[1]第２表（水稲）'!$H$9,'[1]第２表（水稲）'!$H$20:$H$65
Name E: '[1]第２表（陸稲）'!$D$8,'[1]第２表（陸稲）'!$D$19:$D$64
Name G: '[1]第２表（陸稲）'!$H$8,'[1]第２表（陸稲）'!$H$19:$H$64
Name input_DATA1: [2]魚種×大海区県確定!$D$9:$DR$20,[2]魚種×大海区県確定!$D$22:$DR$26,[2]魚種×大海区県確定!$D$28:$DR$33,[2]魚種×大海区県確定!$D$35:$DR$40
Name Print_Area_MI: #REF!
Name PRINT_AREA_MI1: #REF!
Name RITUBUNSEKI: '[3]（削除）図２（値）'!$A$4
Name SUBETE: #REF!
Name さえでだｊ: '[4]入力（子実）'!#REF!
Name のりれ: '[1]陸稲入力 '!#REF!
Name 作付面積: [1]水稲入力!#REF!
Name 作付面積２: '[4]入力（子実）'!#REF!
Name 収穫量: [1]水稲入力!#REF!
Name 水稲収穫量: #REF!
Name 単収: [1]水稲入力!#REF!
Name 補助用: #REF!
Name 陸作付面積: '[1]陸稲入力 '!#REF!

Sheet 目次
A2: 【目次】
B4: 統計表
B5: １ 令和７年産水稲の作付面積及び収穫量
B6: ２ 令和７年産水稲の収量構成要素（水稲作況標本筆調査成績）
B7: ３ 令和７年産水稲玄米のふるい目幅別重量分布状況
B8: ４ 令和７年産水稲玄米のふるい目幅別10ａ当たり収量
B9: ５ 令和７年産水稲玄米のふるい目幅別収穫量（主食用）
B10: ６ 令和７年産水稲玄米のふるい目幅別収穫量（子実用）
B11: ７ 令和７年産水稲における生産者が使用したふるい目幅の分布
B12: ８ 令和７年産水稲の作況標本筆の10ａ当たり収量の分布状況
B13: ９ 令和７年産水稲の作柄表示地帯別玄米重歩合
B14: 10 令和７年産水稲の作柄表示地帯別10ａ当たり収量及び作況単収指数 （生産者が使用しているふるい目幅ベース）
B16: 調査の概要
... B40: （農林水産省）による旨を記載してください。

Sheet 統計表１
A1: 【統計表】
AB2: 目次へ戻る
A3: １ 令和７年産水稲の作付面積及び収穫量
A5: 区 分 | D5: 作付面積（主食用） | G5: 生産者が使用しているふるい目幅で選別 | M5: Ｂ 収穫量 （生産者ふるい下米） | P5: ふるい目幅1.70mmで選別 | U5: 作付面積（子実用） | X5: 収穫量（子実用） | AA5: 作況 単収 指数
G6: 10ａ当たり収量 | J6: Ａ 収穫量 （主食用（生産者ふるい上米）） | P6: 10ａ当たり収量 | R6: Ｃ＝Ａ＋Ｂ 収穫量 （主食用(生産者ふるい下米含む)）
D7: 実 数 ① | E7: 前年産との比較 | G7: 最も多い 使用割合 の 目 幅 | H7: 実 数 ② | I7: 前年産との 比較 | J7: 実 数 ③＝①×② | K7: 前年産との比較 | M7: 実 数 ④＝⑥－③ | N7: 前年産との比較 | P7: 実 数 ⑤ | Q7: 前年産との 比較 | R7: 実 数 ⑥＝①×⑤ | S7: 前年産との比較 | U7: 実 数 ⑦ | V7: 前年産との比較 | X7: 実 数 ⑧＝⑦×⑤ | Y7: 前年産との比較
E8: 対差 | F8: 対比 | I8: 対比 | K8: 対差 | L8: 対比 | N8: 対差 | O8: 対比 | Q8: 対比 | S8: 対差 | T8: 対比 | V8: 対差 | W8: 対比 | Y8: 対差 | Z8: 対比
D9: ha | E9: ha | F9: ％ | G9: mm | H9: ㎏ | I9: ％ | J9: ｔ | K9: ｔ | L9: ％ | M9: ｔ | N9: ｔ | O9: ％ | P9: ㎏ | Q9: ％ | R9: ｔ | S9: ｔ | T9: ％ | U9: ha | V9: ha | W9: ％ | X9: ｔ | Y9: ｔ | Z9: ％
A10: 九州 | D10: 149500 | E10: 11300 | F10: 108 | G10: … | H10: 492 | I10: 106 | J10: 736900 | K10: 93700 | L10: 115 | M10: 30500 | N10: -2300 | O10: 93 | P10: 513 | Q10: 105 | R10: 767400 | S10: 91400 | T10: 114 | U10: 153300 | V10: 9600 | W10: 107 | X10: 786100 | Y10: 83100 | Z10: 112 | AA10: 106 | AB10: 1
A11: 福岡 | D11: 34500 | E11: 2300 | F11: 107 | G11: 1.85 | H11: 478 | I11: 108 | J11: 164900 | K11: 22600 | L11: 116 | M11: 9000 | N11: 900 | O11: 111 | P11: 504 | Q11: 108 | R11: 173900 | S11: 23500 | T11: 116 | U11: 34900 | V11: 2300 | W11: 107 | X11: 175900 | Y11: 23700 | Z11: 116 | AA11: 107 | AB11: 2
C12: 福 岡 | D12: … | E12: nc | F12: nc | G12: 1.85 | H12: 474 | I12: 110 | J12: … | K12: nc | L12: nc | M12: … | N12: nc | O12: nc | P12: 492 | Q12: 109 | R12: … | S12: nc | T12: nc | U12: 5600 | V12: 210 | W12: 104 | X12: 27600 | Y12: 3200 | Z12: 113 | AA12: 109 | AB12: 3
C13: 北 東 部 | D13: … | E13: nc | F13: nc | G13: 1.85 | H13: 468 | I13: 110 | J13: … | K13: nc | L13: nc | M13: … | N13: nc | O13: nc | P13: 493 | Q13: 111 | R13: … | S13: nc | T13: nc | U13: 13600 | V13: 700 | W13: 105 | X13: 67000 | Y13: 9700 | Z13: 117 | AA13: 106 | AB13: 4
C14: 筑 後 | D14: … | E14: nc | F14: nc | G14: 1.85 | H14: 487 | I14: 106 | J14: … | K14: nc | L14: nc | M14: … | N14: nc | O14: nc | P14: 517 | Q14: 105 | R14: … | S14: nc | T14: nc | U14: 15700 | V14: 1400 | W14: 110 | X14: 81200 | Y14: 10800 | Z14: 115 | AA14: 107 | AB14: 5
A15: 佐賀 | D15: 23700 | E15: 1700 | F15: 108 | G15: 1.85 | H15: 515 | I15: 107 | J15: 122100 | K15: 16100 | L15: 115 | M15: 5900 | N15: 800 | O15: 116 | P15: 540 | Q15: 107 | R15: 128000 | S15: 16900 | T15: 115 | U15: 24000 | V15: 1600 | W15: 107 | X15: 129600 | Y15: 16500 | Z15: 115 | AA15: 107 | AB15: 6
C16: 佐 賀 | D16: … | E16: nc | F16: nc | G16: 1.85 | H16: 516 | I16: 105 | J16: … | K16: nc | L16: nc | M16: … | N16: nc | O16: nc | P16: 542 | Q16: 105 | R16: … | S16: nc | T16: nc | U16: 20100 | V16: 1500 | W16: 108 | X16: 108900 | Y16: 12900 | Z16: 113 | AA16: 105 | AB16: 7
C17: 松 浦 | D17: … | E17: nc | F17: nc | G17: 1.85 | H17: 512 | I17: 116 | J17: … | K17: nc | L17: nc | M17: … | N17: nc | O17: nc | P17: 529 | Q17: 117 | R17: … | S17: nc | T17: nc | U17: 3920 | V17: 120 | W17: 103 | X17: 20700 | Y17: 3500 | Z17: 120 | AA17: 114 | AB17: 8
A18: 長崎 | D18: 9460 | E18: 100 | F18: 101 | G18: 1.8 | H18: 492 | I18: 104 | J18: 46500 | K18: 2300 | L18: 105 | M18: 1000 | N18: -400 | O18: 71 | P18: 502 | Q18: 103 | R18: 47500 | S18: 1900 | T18: 104 | U18: 9480 | V18: 60 | W18: 101 | X18: 47600 | Y18: 1700 | Z18: 104 | AA18: 107 | AB18: 9
C19: 南 部 | D19: … | E19: nc | F19: nc | G19: 1.8 | H19: 513 | I19: 104 | J19: … | K19: nc | L19: nc | M19: … | N19: nc | O19: nc | P19: 524 | Q19: 103 | R19: … | S19: nc | T19: nc | U19: 5430 | V19: 30 | W19: 101 | X19: 28500 | Y19: 900 | Z19: 103 | AA19: 108 | AB19: 10
C20: 北 部 | D20: … | E20: nc | F20: nc | G20: 1.8 | H20: 464 | I20: 106 | J20: … | K20: nc | L20: nc | M20: … | N20: nc | O20: nc | P20: 472 | Q20: 104 | R20: … | S20: nc | T20: nc | U20: 2640 | V20: -80 | W20: 97 | X20: 12500 | Y20: 200 | Z20: 102 | AA20: 107 | AB20: 11
C21: 五 島 | D21: … | E21: nc | F21: nc | G21: 1.8 | H21: 388 | I21: 101 | J21: … | K21: nc | L21: nc | M21: … | N21: nc | O21: nc | P21: 396 | Q21: 101 | R21: … | S21: nc | T21: nc | U21: 388 | V21: 34 | W21: 110 | X21: 1540 | Y21: 150 | Z21: 111 | AA21: 102 | AB21: 12
C22: 壱岐・対馬 | D22: … | E22: nc | F22: nc | G22: 1.8 | H22: 491 | I22: 103 | J22: … | K22: nc | L22: nc | M22: … | N22: nc | O22: nc | P22: 500 | Q22: 103 | R22: … | S22: nc | T22: nc | U22: 1010 | V22: 52 | W22: 105 | X22: 5050 | Y22: 380 | Z22: 108 | AA22: 105 | AB22: 13
A23: 熊本 | D23: 31900 | E23: 3100 | F23: 111 | G23: 1.85 | H23: 504 | I23: 103 | J23: 160800 | K23: 20500 | L23: 115 | M23: 6700 | N23: -1600 | O23: 81 | P23: 525 | Q23: 102 | R23: 167500 | S23: 18900 | T23: 113 | U23: 32200 | V23: 2500 | W23: 108 | X23: 169100 | Y23: 15800 | Z23: 110 | AA23: 107 | AB23: 14
C24: 県 北 | D24: … | E24: nc | F24: nc | G24: 1.85 | H24: 514 | I24: 104 | J24: … | K24: nc | L24: nc | M24: … | N24: nc | O24: nc | P24: 537 | Q24: 101 | R24: … | S24: nc | T24: nc | U24: 17500 | V24: 1600 | W24: 110 | X24: 94000 | Y24: 9700 | Z24: 112 | AA24: 108 | AB24: 15
C25: 阿 蘇 | D25: … | E25: nc | F25: nc | G25: 1.85 | H25: 493 | I25: 100 | J25: … | K25: nc | L25: nc | M25: … | N25: nc | O25: nc | P25: 515 | Q25: 101 | R25: … | S25: nc | T25: nc | U25: 4970 | V25: 260 | W25: 106 | X25: 25600 | Y25: 1500 | Z25: 106 | AA25: 107 | AB25: 16
C26: 県 南 | D26: … | E26: nc | F26: nc | G26: 1.85 | H26: 501 | I26: 103 | J26: … | K26: nc | L26: nc | M26: … | N26: nc | O26: nc | P26: 519 | Q26: 103 | R26: … | S26: nc | T26: nc | U26: 8510 | V26: 720 | W26: 109 | X26: 44200 | Y26: 4800 | Z26: 112 | AA26: 107 | AB26: 17
C27: 天 草 | D27: … | E27: nc | F27: nc | G27: 1.85 | H27: 437 | I27: 104 | J27: … | K27: nc | L27: nc | M27: … | N27: nc | O27: nc | P27: 450 | Q27: 103 | R27: … | S27: nc | T27: nc | U27: 1310 | V27: 70 | W27: 106 | X27: 5900 | Y27: 490 | Z27: 109 | AA27: 104 | AB27: 18
A28: 大分 | D28: 18900 | E28: 1100 | F28: 106 | G28: 1.85 | H28: 488 | I28: 106 | J28: 92200 | K28: 10500 | L28: 113 | M28: 5100 | N28: -600 | O28: 89 | P28: 515 | Q28: 105 | R28: 97300 | S28: 9900 | T28: 111 | U28: 19100 | V28: 1100 | W28: 106 | X28: 98400 | Y28: 10000 | Z28: 111 | AA28: 107 | AB28: 19
C29: 北 部 | D29: … | E29: nc | F29: nc | G29: 1.85 | H29: 497 | I29: 108 | J29: … | K29: nc | L29: nc | M29: … | N29: nc | O29: nc | P29: 526 | Q29: 106 | R29: … | S29: nc | T29: nc | U29: 6280 | V29: 840 | W29: 115 | X29: 33000 | Y29: 6000 | Z29: 122 | AA29: 108 | AB29: 20
C30: 湾 岸 | D30: … | E30: nc | F30: nc | G30: 1.85 | H30: 490 | I30: 107 | J30: … | K30: nc | L30: nc | M30: … | N30: nc | O30: nc | P30: 517 | Q30: 106 | R30: … | S30: nc | T30: nc | U30: 5200 | V30: 20 | W30: 100 | X30: 26900 | Y30: 1600 | Z30: 106 | AA30: 109 | AB30: 21
C31: 南 部 | D31: … | E31: nc | F31: nc | G31: 1.85 | H31: 478 | I31: 104 | J31: … | K31: nc | L31: nc | M31: … | N31: nc | O31: nc | P31: 504 | Q31: 103 | R31: … | S31: nc | T31: nc | U31: 5350 | V31: 160 | W31: 103 | X31: 27000 | Y31: 1700 | Z31: 107 | AA31: 105 | AB31: 22
C32: 日 田 | D32: … | E32: nc | F32: nc | G32: 1.85 | H32: 484 | I32: 103 | J32: … | K32: nc | L32: nc | M32: … | N32: nc | O32: nc | P32: 504 | Q32: 101 | R32: … | S32: nc | T32: nc | U32: 2290 | V32: 50 | W32: 102 | X32: 11500 | Y32: 400 | Z32: 104 | AA32: 105 | AB32: 23
A33: 宮崎 | D33: 13500 | E33: 1100 | F33: 109 | G33: 1.8 | H33: 483 | I33: 103 | J33: 65200 | K33: 7300 | L33: 113 | M33: 1200 | N33: -500 | O33: 71 | P33: 492 | Q33: 102 | R33: 66400 | S33: 6800 | T33: 111 | U33: 15100 | V33: 600 | W33: 104 | X33: 74300 | Y33: 4600 | Z33: 107 | AA33: 102 | AB33: 24
B34: 早期栽培計 | D34: … | E34: nc | F34: nc | G34: 1.8 | H34: 482 | I34: 105 | J34: … | K34: nc | L34: nc | M34: … | N34: nc | O34: nc | P34: 488 | Q34: 104 | R34: … | S34: nc | T34: nc | U34: 5600 | V34: 190 | W34: 104 | X34: 27300 | Y34: 1900 | Z34: 107 | AA34: 102 | AB34: 25
C35: 広域沿海 | D35: … | E35: nc | F35: nc | G35: 1.8 | H35: 482 | I35: 105 | J35: … | K35: nc | L35: nc | M35: … | N35: nc | O35: nc | P35: 488 | Q35: 104 | R35: … | S35: nc | T35: nc | U35: 5600 | V35: 190 | W35: 104 | X35: 27300 | Y35: 1900 | Z35: 107 | AA35: 102 | AB35: 26
B36: 普通栽培計 | D36: … | E36: nc | F36: nc | G36: 1.8 | H36: 484 | I36: 103 | J36: … | K36: nc | L36: nc | M36: … | N36: nc | O36: nc | P36: 494 | Q36: 101 | R36: … | S36: nc | T36: nc | U36: 9490 | V36: 390 | W36: 104 | X36: 46900 | Y36: 2600 | Z36: 106 | AA36: 103 | AB36: 27
C37: 広域沿海 | D37: … | E37: nc | F37: nc | G37: 1.8 | H37: 446 | I37: 102 | J37: … | K37: nc | L37: nc | M37: … | N37: nc | O37: nc | P37: 457 | Q37: 100 | R37: … | S37: nc | T37: nc | U37: 2460 | V37: 190 | W37: 108 | X37: 11200 | Y37: 900 | Z37: 109 | AA37: 103 | AB37: 28
C38: 広域霧島 | D38: … | E38: nc | F38: nc | G38: 1.8 | H38: 508 | I38: 103 | J38: … | K38: nc | L38: nc | M38: … | N38: nc | O38: nc | P38: 517 | Q38: 102 | R38: … | S38: nc | T38: nc | U38: 5870 | V38: 190 | W38: 103 | X38: 30300 | Y38: 1400 | Z38: 105 | AA38: 103 | AB38: 29
C39: 西北山間 | D39: … | E39: nc | F39: nc | G39: 1.8 | H39: 445 | I39: 103 | J39: … | K39: nc | L39: nc | M39: … | N39: nc | O39: nc | P39: 455 | Q39: 102 | R39: … | S39: nc | T39: nc | U39: 1160 | V39: 10 | W39: 101 | X39: 5280 | Y39: 170 | Z39: 103 | AA39: 103 | AB39: 30
A40: 鹿児島 | D40: 17600 | E40: 2000 | F40: 113 | G40: 1.8 | H40: 484 | I40: 107 | J40: 85200 | K40: 14400 | L40: 120 | M40: 1600 | N40: -900 | O40: 64 | P40: 493 | Q40: 105 | R40: 86800 | S40: 13500 | T40: 118 | U40: 18500 | V40: 1400 | W40: 108 | X40: 91200 | Y40: 10800 | Z40: 113 | AA40: 105 | AB40: 31
B41: 早期栽培計 | D41: … | E41: nc | F41: nc | G41: 1.8 | H41: 466 | I41: 107 | J41: … | K41: nc | L41: nc | M41: … | N41: nc | O41: nc | P41: 474 | Q41: 106 | R41: … | S41: nc | T41: nc | U41: 4260 | V41: 400 | W41: 110 | X41: 20200 | Y41: 3000 | Z41: 117 | AA41: 104 | AB41: 32
C42: 薩摩半島 | D42: … | E42: nc | F42: nc | G42: 1.8 | H42: 458 | I42: 108 | J42: … | K42: nc | L42: nc | M42: … | N42: nc | O42: nc | P42: 463 | Q42: 107 | R42: … | S42: nc | T42: nc | U42: 1380 | V42: 120 | W42: 110 | X42: 6390 | Y42: 920 | Z42: 117 | AA42: 109 | AB42: 33
C43: 大隅半島 | D43: … | E43: nc | F43: nc | G43: 1.8 | H43: 490 | I43: 107 | J43: … | K43: nc | L43: nc | M43: … | N43: nc | O43: nc | P43: 500 | Q43: 107 | R43: … | S43: nc | T43: nc | U43: 1930 | V43: 200 | W43: 112 | X43: 9650 | Y43: 1570 | Z43: 119 | AA43: 102 | AB43: 34
C44: 熊毛・大島 | D44: … | E44: nc | F44: nc | G44: 1.8 | H44: 404 | I44: 103 | J44: … | K44: nc | L44: nc | M44: … | N44: nc | O44: nc | P44: 407 | Q44: 102 | R44: … | S44: nc | T44: nc | U44: 674 | V44: 21 | W44: 103 | X44: 2740 | Y44: 130 | Z44: 105 | AA44: 102 | AB44: 35
B45: 普通栽培計 | D45: … | E45: nc | F45: nc | G45: 1.8 | H45: 490 | I45: 107 | J45: … | K45: nc | L45: nc | M45: … | N45: nc | O45: nc | P45: 499 | Q45: 105 | R45: … | S45: nc | T45: nc | U45: 14200 | V45: 1000 | W45: 108 | X45: 70900 | Y45: 7900 | Z45: 113 | AA45: 105 | AB45: 36
C46: 薩摩半島 | D46: … | E46: nc | F46: nc | G46: 1.8 | H46: 462 | I46: 109 | J46: … | K46: nc | L46: nc | M46: … | N46: nc | O46: nc | P46: 471 | Q46: 106 | R46: … | S46: nc | T46: nc | U46: 1830 | V46: 50 | W46: 103 | X46: 8620 | Y46: 720 | Z46: 109 | AA46: 105 | AB46: 37
C47: 出水薩摩 | D47: … | E47: nc | F47: nc | G47: 1.8 | H47: 488 | I47: 106 | J47: … | K47: nc | L47: nc | M47: … | N47: nc | O47: nc | P47: 496 | Q47: 104 | R47: … | S47: nc | T47: nc | U47: 4650 | V47: 290 | W47: 107 | X47: 23100 | Y47: 2300 | Z47: 111 | AA47: 103 | AB47: 38
C48: 伊佐姶良 | D48: … | E48: nc | F48: nc | G48: 1.8 | H48: 501 | I48: 107 | J48: … | K48: nc | L48: nc | M48: … | N48: nc | O48: nc | P48: 511 | Q48: 105 | R48: … | S48: nc | T48: nc | U48: 5380 | V48: 450 | W48: 109 | X48: 27500 | Y48: 3500 | Z48: 115 | AA48: 107 | AB48: 39
C49: 大隅半島 | D49: … | E49: nc | F49: nc | G49: 1.8 | H49: 488 | I49: 106 | J49: … | K49: nc | L49: nc | M49: … | N49: nc | O49: nc | P49: 497 | Q49: 104 | R49: … | S49: nc | T49: nc | U49: 2370 | V49: 240 | W49: 111 | X49: 11800 | Y49: 1600 | Z49: 116 | AA49: 109 | AB49: 40
A51: 注：１ 作付面積（主食用）（①）とは、青刈り面積を含めた水稲全体の作付面積から、備蓄米、加工用米、新規需要米等の作付面積を除いた面積である。
A52: ２ 生産者が使用しているふるい目幅で選別された10ａ当たり収量（②）及び収穫量（主食用（生産者ふるい上米））（③）は、生産者が使用しているふるい目幅で選別された玄米の重量である。
A53: ３ 生産者が使用しているふるい目幅で選別された10ａ当たり予想（②）については、各県の過去５か年に生産者が使用したふるい目幅の分布において、最も多い使用割合の目幅で選別された玄米を基に算出した数値である。
A54: ４ 10ａ当たり収量（⑤）及び収穫量（主食用（生産者ふるい下米含む））（⑥）は、1.70mmのふるい目幅で選別された玄米の重量である。
A55: ５ 収穫量（生産者ふるい下米）（④）とは、収穫量（主食用(生産者ふるい下米含む)）（⑥）から収穫量（主食用（生産者ふるい上米））（③）を差し引いた玄米の重量である。
A56: ６ 収穫量（主食用（生産者ふるい上米））（③）及び収穫量（主食用（生産者ふるい下米を含む））（⑥）の九州については各県の積上げ値であるため、表頭の計算は一致しない場合がある。
A57: ７ 各県の作柄表示地帯別の作付面積（主食用）は、備蓄米、加工用米、新規需要米等の面積を把握していないことから「…」で示している。
A58: ８ 宮崎県及び鹿児島県の作期別（早期栽培、普通栽培）の作付面積（主食用）は、作期別（早期栽培、普通栽培）の備蓄米、加工用米、新規需要米等の面積を把握していないことから「…」で示している。
A59: ９ 作付面積（子実用）とは、青刈り面積を含めた水稲全体の作付面積から青刈り面積（飼料用米・WCS用稲等を含む。）を除いた面積である。
A60: 10 収穫量（子実用）（⑧）は、1.70mmのふるい目幅で選別された玄米の重量である。
A61: 11 収穫量（子実用）（⑧）については、各県ごとの積上げ値であるため、表頭の計算は一致しない場合がある。
A62: 12 作況単収指数は、生産者が使用しているふるい目幅ベースで算出した10ａ当たり収量の前年産までの５か年中３年平均（最高、最低除く）に対する10ａ当たり収量の比率である。
A63: 13 「nc」は、計算不能であることを示している。

Sheet 統計表２
AB2: 目次へ戻る
A3: ２ 令和７年産水稲の収量構成要素（水稲作況標本筆調査成績）
A5: 区 分 | D5: １㎡当たり 株数 | F5: １株当たり 有効穂数 | H5: １㎡当たり 有効穂数 | J5: １穂当たり もみ数 | L5: １㎡当たり 全もみ数 | N5: 10ａ当たり 粗玄米重 | P5: 千もみ 当たり収量 | R5: 玄米重 歩合 （生産者ふるい目幅ベース） | T5: 10ａ当たり 玄米重 （生産者ふるい目幅ベース） | V5: 粒数歩合 （ふるい目幅1.70mmベース） | X5: 玄米 千粒重 （ふるい目幅1.70mmベース） | Z5: 玄米重 歩合 （ふるい目幅1.70mmベース） | AB5: 10ａ当たり 玄米重 （ふるい目幅1.70mmベース）
D6: 本年 | E6: 対前 年比 | F6: 本年 | G6: 対前 年比 | H6: 本年 | I6: 対前 年比 | J6: 本年 | K6: 対前 年比 | L6: 本年 | M6: 対前 年比 | N6: 本年 | O6: 対前 年比 | P6: 本年 | Q6: 対前 年比 | R6: 本年 | S6: 対前 年比 | T6: 本年 | U6: 対前 年比 | V6: 本年 | W6: 対前 年比 | X6: 本年 | Y6: 対前 年比 | Z6: 本年 | AA6: 対前 年比 | AB6: 本年 | AC6: 対前 年比
D7: 株 | E7: ％ | F7: 本 | G7: ％ | H7: 本 | I7: ％ | J7: 粒 | K7: ％ | L7: 100粒 | M7: ％ | N7: kg | O7: ％ | P7: g | Q7: ％ | R7: ％ | S7: ％ | T7: kg | U7: ％ | V7: ％ | W7: ％ | X7: g | Y7: ％ | Z7: ％ | AA7: ％ | AB7: kg | AC7: ％
A8: 九州 | D8: 15.6 | E8: 99 | F8: 24.8 | G8: 104 | H8: 387 | I8: 103 | J8: 77.5 | K8: 98 | L8: 300 | M8: 101 | N8: 544 | O8: 105 | P8: 16.9 | Q8: 105.625 | R8: 93.382353 | S8: 101.21316 | T8: 508 | U8: 106.49895 | V8: 82.7 | W8: 102 | X8: 21.3 | Y8: 102 | Z8: 97.2 | AA8: 100 | AB8: 529 | AC8: 105
A9: 福岡 | D9: 15.8 | E9: 99 | F9: 24.7 | G9: 110 | H9: 390 | I9: 109 | J9: 76.9 | K9: 96 | L9: 300 | M9: 104 | N9: 537 | O9: 107 | P9: 16.3 | Q9: 102.51572 | R9: 91.061453 | S9: 99.393873 | T9: 489 | U9: 106.53595 | V9: 81 | W9: 102 | X9: 21.3 | Y9: 100 | Z9: 96.5 | AA9: 100 | AB9: 518 | AC9: 107
C10: 福 岡 | D10: 16.9 | E10: 101 | F10: 21.1 | G10: 103 | H10: 356 | I10: 104 | J10: 80.9 | K10: 96 | L10: 288 | M10: 100 | N10: 523 | O10: 108 | P10: 16.8 | Q10: 109.09091 | R10: 92.734226 | S10: 101.29752 | T10: 485 | U10: 109.23423 | V10: 81.9 | W10: 107 | X10: 21.5 | Y10: 102 | Z10: 96.9 | AA10: 101 | AB10: 507 | AC10: 109
C11: 北 東 部 | D11: 14.9 | E11: 99 | F11: 26.9 | G11: 122 | H11: 401 | I11: 121 | J11: 76.8 | K11: 96 | L11: 308 | M11: 116 | N11: 533 | O11: 114 | P11: 15.6 | Q11: 94.545455 | R11: 90.43152 | S11: 96.405356 | T11: 482 | U11: 109.79499 | V11: 77.6 | W11: 98 | X11: 21.4 | Y11: 99 | Z11: 95.9 | AA11: 98 | AB11: 511 | AC11: 112
C12: 筑 後 | D12: 16.3 | E12: 98 | F12: 24 | G12: 103 | H12: 392 | I12: 100 | J12: 75.8 | K12: 96 | L12: 297 | M12: 96 | N12: 546 | O12: 102 | P12: 16.7 | Q12: 107.05128 | R12: 91.025641 | S12: 101.20242 | T12: 497 | U12: 102.89855 | V12: 83.8 | W12: 105 | X12: 21.2 | Y12: 102 | Z12: 96.5 | AA12: 100 | AB12: 527 | AC12: 102
A13: 佐賀 | D13: 16.2 | E13: 99 | F13: 25.2 | G13: 106 | H13: 409 | I13: 106 | J13: 77 | K13: 102 | L13: 315 | M13: 108 | N13: 571 | O13: 108 | P13: 16.7 | Q13: 99.404762 | R13: 92.119089 | S13: 99.248469 | T13: 526 | U13: 107.12831 | V13: 81.3 | W13: 97 | X13: 21.5 | Y13: 103 | Z13: 96.5 | AA13: 99 | AB13: 551 | AC13: 107
C14: 佐 賀 | D14: 16.1 | E14: 99 | F14: 25.9 | G14: 106 | H14: 417 | I14: 104 | J14: 76.7 | K14: 102 | L14: 320 | M14: 106 | N14: 574 | O14: 106 | P14: 16.5 | Q14: 100 | R14: 91.811847 | S14: 99.539497 | T14: 527 | U14: 105.61122 | V14: 80.6 | W14: 96 | X14: 21.4 | Y14: 103 | Z14: 96.3 | AA14: 99 | AB14: 553 | AC14: 105
C15: 松 浦 | D15: 16.7 | E15: 102 | F15: 21.9 | G15: 110 | H15: 366 | I15: 113 | J15: 78.7 | K15: 104 | L15: 288 | M15: 118 | N15: 554 | O15: 118 | P15: 18.1 | Q15: 98.907104 | R15: 94.223827 | S15: 98.630732 | T15: 522 | U15: 116.25835 | V15: 84.4 | W15: 97 | X15: 22.3 | Y15: 104 | Z15: 97.7 | AA15: 100 | AB15: 541 | AC15: 117
A16: 長崎 | D16: 16 | E16: 101 | F16: 23.4 | G16: 102 | H16: 374 | I16: 103 | J16: 77.5 | K16: 95 | L16: 290 | M16: 99 | N16: 545 | O16: 106 | P16: 18.1 | Q16: 109.69697 | R16: 96.146789 | S16: 102.30495 | T16: 524 | U16: 108.26446 | V16: 85.2 | W16: 106 | X16: 21.6 | Y16: 102 | Z16: 98 | AA16: 101 | AB16: 534 | AC16: 107
C17: 南 部 | D17: 15.9 | E17: 99 | F17: 24.2 | G17: 101 | H17: 384 | I17: 101 | J17: 76.6 | K17: 95 | L17: 294 | M17: 95 | N17: 563 | O17: 103 | P17: 18.4 | Q17: 110.84337 | R17: 96.092362 | S17: 102.68694 | T17: 541 | U17: 106.07843 | V17: 87.4 | W17: 108 | X17: 21.5 | Y17: 102 | Z17: 98 | AA17: 101 | AB17: 552 | AC17: 105
C18: 北 部 | D18: 16 | E18: 103 | F18: 21.8 | G18: 103 | H18: 349 | I18: 107 | J18: 80.2 | K18: 96 | L18: 280 | M18: 103 | N18: 518 | O18: 109 | P18: 17.8 | Q18: 109.20245 | R18: 96.332046 | S18: 102.3798 | T18: 499 | U18: 111.88341 | V18: 82.5 | W18: 105 | X18: 22 | Y18: 103 | Z18: 98.1 | AA18: 101 | AB18: 508 | AC18: 111
C19: 五 島 | D19: 16 | E19: 101 | F19: 24.2 | G19: 121 | H19: 387 | I19: 122 | J19: 70.3 | K19: 101 | L19: 272 | M19: 123 | N19: 459 | O19: 114 | P19: 16.3 | Q19: 92.090395 | R19: 96.514161 | S19: 99.723072 | T19: 443 | U19: 113.29923 | V19: 77.6 | W19: 93 | X19: 21.4 | Y19: 100 | Z19: 98.5 | AA19: 100 | AB19: 452 | AC19: 114
C20: 壱岐・対馬 | D20: 16.4 | E20: 103 | F20: 23.3 | G20: 103 | H20: 382 | I20: 105 | J20: 79.1 | K20: 96 | L20: 302 | M20: 101 | N20: 552 | O20: 109 | P20: 17.5 | Q20: 108.69565 | R20: 95.471014 | S20: 100.42283 | T20: 527 | U20: 109.3361 | V20: 82.8 | W20: 106 | X20: 21.5 | Y20: 102 | Z20: 97.5 | AA20: 100 | AB20: 538 | AC20: 109
A21: 熊本 | D21: 14.8 | E21: 100 | F21: 26.5 | G21: 97 | H21: 392 | I21: 98 | J21: 78.1 | K21: 98 | L21: 306 | M21: 95 | N21: 561 | O21: 103 | P21: 17.1 | Q21: 110.32258 | R21: 93.404635 | S21: 102.20227 | T21: 524 | U21: 105.01002 | V21: 83.7 | W21: 104 | X21: 21.3 | Y21: 104 | Z21: 97.3 | AA21: 100 | AB21: 546 | AC21: 103
C22: 県 北 | D22: 14.5 | E22: 100 | F22: 26.6 | G22: 91 | H22: 385 | I22: 91 | J22: 78.4 | K22: 97 | L22: 302 | M22: 88 | N22: 562 | O22: 99 | P22: 17.4 | Q22: 118.36735 | R22: 93.238434 | S22: 104.31627 | T22: 524 | U22: 103.76238 | V22: 85.8 | W22: 107 | X22: 21.2 | Y22: 107 | Z22: 97.5 | AA22: 101 | AB22: 548 | AC22: 101
C23: 阿 蘇 | D23: 15.2 | E23: 100 | F23: 24.2 | G23: 110 | H23: 368 | I23: 110 | J23: 83.7 | K23: 100 | L23: 308 | M23: 109 | N23: 544 | O23: 102 | P23: 16.3 | Q23: 91.573034 | R23: 92.279412 | S23: 97.805125 | T23: 502 | U23: 100.1996 | V23: 78.9 | W23: 93 | X23: 21.6 | Y23: 99 | Z23: 96.7 | AA23: 99 | AB23: 526 | AC23: 101
C24: 県 南 | D24: 15.2 | E24: 101 | F24: 27.9 | G24: 106 | H24: 424 | I24: 107 | J24: 75.2 | K24: 97 | L24: 319 | M24: 103 | N24: 578 | O24: 109 | P24: 17.1 | Q24: 106.21118 | R24: 94.290657 | S24: 100.74112 | T24: 545 | U24: 109.65795 | V24: 82.1 | W24: 105 | X24: 21.5 | Y24: 101 | Z24: 97.6 | AA24: 100 | AB24: 564 | AC24: 109
C25: 天 草 | D25: 15 | E25: 100 | F25: 25.1 | G25: 98 | H25: 376 | I25: 98 | J25: 69.9 | K25: 107 | L25: 263 | M25: 104 | N25: 502 | O25: 110 | P25: 18 | Q25: 105.88235 | R25: 94.422311 | S25: 100.36497 | T25: 474 | U25: 110.48951 | V25: 87.1 | W25: 102 | X25: 21.4 | Y25: 103 | Z25: 97.6 | AA25: 100 | AB25: 490 | AC25: 110
A26: 大分 | D26: 14.5 | E26: 99 | F26: 25 | G26: 105 | H26: 362 | I26: 105 | J26: 84 | K26: 95 | L26: 304 | M26: 99 | N26: 546 | O26: 105 | P26: 16.5 | Q26: 107.14286 | R26: 91.758242 | S26: 101.30422 | T26: 501 | U26: 106.36943 | V26: 82.6 | W26: 104 | X26: 21 | Y26: 101 | Z26: 96.7 | AA26: 100 | AB26: 528 | AC26: 105
C27: 北 部 | D27: 15.4 | E27: 99 | F27: 24.7 | G27: 101 | H27: 380 | I27: 100 | J27: 80.8 | K27: 95 | L27: 307 | M27: 95 | N27: 557 | O27: 106 | P27: 16.5 | Q27: 113.7931 | R27: 91.202873 | S27: 102.72529 | T27: 508 | U27: 108.77944 | V27: 83.4 | W27: 107 | X27: 21 | Y27: 104 | Z27: 96.4 | AA27: 100 | AB27: 537 | AC27: 106
C28: 湾 岸 | D28: 14 | E28: 100 | F28: 26.1 | G28: 111 | H28: 365 | I28: 110 | J28: 85.8 | K28: 96 | L28: 313 | M28: 106 | N28: 548 | O28: 106 | P28: 16.1 | Q28: 100.625 | R28: 91.788321 | S28: 100.55791 | T28: 503 | U28: 106.79406 | V28: 79.9 | W28: 98 | X28: 21.2 | Y28: 101 | Z28: 96.7 | AA28: 99 | AB28: 530 | AC28: 105
C29: 南 部 | D29: 14 | E29: 98 | F29: 24.4 | G29: 106 | H29: 341 | I29: 103 | J29: 86.8 | K29: 95 | L29: 296 | M29: 98 | N29: 539 | O29: 104 | P29: 16.7 | Q29: 107.05128 | R29: 91.651206 | S29: 100.35227 | T29: 494 | U29: 104.21941 | V29: 83.8 | W29: 104 | X29: 21 | Y29: 101 | Z29: 96.7 | AA29: 100 | AB29: 521 | AC29: 103
C30: 日 田 | D30: 14.1 | E30: 98 | F30: 25.5 | G30: 110 | H30: 359 | I30: 108 | J30: 81.1 | K30: 91 | L30: 291 | M30: 98 | N30: 531 | O30: 103 | P30: 16.9 | Q30: 105.625 | R30: 92.843691 | S30: 100.82397 | T30: 493 | U30: 103.3543 | V30: 83.5 | W30: 102 | X30: 21.2 | Y30: 102 | Z30: 96.8 | AA30: 99 | AB30: 514 | AC30: 102
A31: 宮崎 | D31: 15.7 | E31: 99 | F31: 24.8 | G31: 101 | H31: 389 | I31: 100 | J31: 74.3 | K31: 101 | L31: 289 | M31: 101 | N31: 510 | O31: 102 | P31: 17.1 | Q31: 103.01205 | R31: 96.666667 | S31: 101.94678 | T31: 493 | U31: 103.57143 | V31: 83.7 | W31: 100 | X31: 20.7 | Y31: 101 | Z31: 98.4 | AA31: 101 | AB31: 502 | AC31: 102
B32: 早期栽培計 | D32: 17 | E32: 104 | F32: 25.8 | G32: 96 | H32: 439 | I32: 100 | J32: 65.6 | K32: 98 | L32: 288 | M32: 98 | N32: 503 | O32: 102 | P32: 17.1 | Q32: 106.21118 | R32: 97.813121 | S32: 101.75051 | T32: 492 | U32: 104.23729 | V32: 83.7 | W32: 101 | X32: 20.7 | Y32: 104 | Z32: 99 | AA32: 101 | AB32: 498 | AC32: 103
C33: 広域沿海 | D33: 17 | E33: 104 | F33: 25.8 | G33: 96 | H33: 439 | I33: 100 | J33: 65.6 | K33: 98 | L33: 288 | M33: 98 | N33: 503 | O33: 102 | P33: 17.1 | Q33: 106.21118 | R33: 97.813121 | S33: 101.75051 | T33: 492 | U33: 104.23729 | V33: 83.7 | W33: 101 | X33: 20.7 | Y33: 104 | Z33: 99 | AA33: 101 | AB33: 498 | AC33: 103
B34: 普通栽培計 | D34: 15 | E34: 97 | F34: 24 | G34: 103 | H34: 360 | I34: 100 | J34: 80.6 | K34: 102 | L34: 290 | M34: 102 | N34: 514 | O34: 101 | P34: 17 | Q34: 100.59172 | R34: 96.108949 | S34: 102.1283 | T34: 494 | U34: 103.13152 | V34: 83.8 | W34: 100 | X34: 20.8 | Y34: 100 | Z34: 98.2 | AA34: 101 | AB34: 505 | AC34: 102
C35: 広域沿海 | D35: 16.1 | E35: 101 | F35: 23.1 | G35: 96 | H35: 372 | I35: 97 | J35: 78 | K35: 104 | L35: 290 | M35: 100 | N35: 477 | O35: 99 | P35: 15.7 | Q35: 101.29032 | R35: 95.178197 | S35: 102.82645 | T35: 454 | U35: 101.33929 | V35: 79 | W35: 98 | X35: 20.3 | Y35: 101 | Z35: 97.7 | AA35: 101 | AB35: 466 | AC35: 100
C36: 広域霧島 | D36: 14.3 | E36: 94 | F36: 25.2 | G36: 109 | H36: 360 | I36: 102 | J36: 80.8 | K36: 99 | L36: 291 | M36: 101 | N36: 536 | O36: 102 | P36: 17.8 | Q36: 102.89017 | R36: 96.641791 | S36: 102.25825 | T36: 518 | U36: 103.80762 | V36: 86.6 | W36: 102 | X36: 21 | Y36: 100 | Z36: 98.5 | AA36: 101 | AB36: 528 | AC36: 102
C37: 西北山間 | D37: 16 | E37: 101 | F37: 20.7 | G37: 95 | H37: 331 | I37: 95 | J37: 85.2 | K37: 119 | L37: 282 | M37: 113 | N37: 476 | O37: 103 | P37: 16.2 | Q37: 92.045455 | R37: 95.798319 | S37: 100.58824 | T37: 456 | U37: 103.63636 | V37: 78.7 | W37: 89 | X37: 21 | Y37: 102 | Z37: 97.9 | AA37: 100 | AB37: 466 | AC37: 103
A38: 鹿児島 | D38: 17.1 | E38: 99 | F38: 21.8 | G38: 100 | H38: 373 | I38: 99 | J38: 75.3 | K38: 99 | L38: 281 | M38: 98 | N38: 521 | O38: 106 | P38: 17.900356 | Q38: 111.18233 | R38: 96.545106 | S38: 102.82787 | T38: 503 | U38: 109.11063 | V38: 84.7 | W38: 106 | X38: 21.6 | Y38: 103 | Z38: 98.5 | AA38: 101 | AB38: 513 | AC38: 107
B39: 早期栽培計 | D39: 18.5 | E39: 97 | F39: 20.8 | G39: 99 | H39: 385 | I39: 96 | J39: 73.5 | K39: 110 | L39: 283 | M39: 105 | N39: 512 | O39: 112 | P39: 17.5 | Q39: 106.70732 | R39: 96.679688 | S39: 100.1794 | T39: 495 | U39: 111.99095 | V39: 83 | W39: 101 | X39: 21.5 | Y39: 105 | Z39: 98.6 | AA39: 100 | AB39: 505 | AC39: 112
C40: 薩摩半島 | D40: 19 | E40: 98 | F40: 21.2 | G40: 100 | H40: 403 | I40: 99 | J40: 72 | K40: 106 | L40: 290 | M40: 105 | N40: 490 | O40: 109 | P40: 16.3 | Q40: 104.48718 | R40: 96.326531 | S40: 100.12595 | T40: 472 | U40: 109.51276 | V40: 78.3 | W40: 99 | X40: 21.2 | Y40: 105 | Z40: 98.4 | AA40: 100 | AB40: 482 | AC40: 109
C41: 大隅半島 | D41: 18.7 | E41: 94 | F41: 20.4 | G41: 100 | H41: 382 | I41: 94 | J41: 77.2 | K41: 114 | L41: 295 | M41: 107 | N41: 559 | O41: 116 | P41: 18.3 | Q41: 108.92857 | R41: 96.601073 | S41: 99.924981 | T41: 540 | U41: 116.12903 | V41: 86.4 | W41: 104 | X41: 21.6 | Y41: 104 | Z41: 98.6 | AA41: 100 | AB41: 551 | AC41: 116
C42: 熊毛・大島 | D42: 16.8 | E42: 101 | F42: 21.3 | G42: 94 | H42: 357 | I42: 95 | J42: 65 | K42: 105 | L42: 232 | M42: 99 | N42: 420 | O42: 101 | P42: 17.8 | Q42: 103.48837 | R42: 98.333333 | S42: 101.26866 | T42: 413 | U42: 102.73632 | V42: 83.2 | W42: 96 | X42: 21.6 | Y42: 106 | Z42: 99.3 | AA42: 100 | AB42: 417 | AC42: 102
B43: 普通栽培計 | D43: 16.7 | E43: 99 | F43: 22.2 | G43: 100 | H43: 370 | I43: 100 | J43: 75.9 | K43: 96 | L43: 281 | M43: 96 | N43: 524 | O43: 105 | P43: 18 | Q43: 112.5 | R43: 96.374046 | S43: 103.40563 | T43: 505 | U43: 108.3691 | V43: 85.1 | W43: 108 | X43: 21.5 | Y43: 102 | Z43: 98.3 | AA43: 101 | AB43: 515 | AC43: 106
C44: 薩摩半島 | D44: 16.9 | E44: 100 | F44: 20.4 | G44: 97 | H44: 344 | I44: 97 | J44: 79.1 | K44: 99 | L44: 272 | M44: 96 | N44: 498 | O44: 107 | P44: 17.6 | Q44: 116.55629 | R44: 95.983936 | S44: 104.73014 | T44: 478 | U44: 111.68224 | V44: 84.6 | W44: 110 | X44: 21.2 | Y44: 102 | Z44: 98 | AA44: 101 | AB44: 488 | AC44: 108
C45: 出水薩摩 | D45: 16.9 | E45: 98 | F45: 21.6 | G45: 96 | H45: 365 | I45: 95 | J45: 73.7 | K45: 97 | L45: 269 | M45: 92 | N45: 512 | O45: 102 | P45: 18.5 | Q45: 114.90683 | R45: 97.070312 | S45: 103.04704 | T45: 497 | U45: 105.52017 | V45: 86.2 | W45: 108 | X45: 21.8 | Y45: 104 | Z45: 98.6 | AA45: 101 | AB45: 505 | AC45: 104
C46: 伊佐姶良 | D46: 16.2 | E46: 100 | F46: 23 | G46: 101 | H46: 373 | I46: 101 | J46: 76.9 | K46: 96 | L46: 287 | M46: 97 | N46: 534 | O46: 105 | P46: 17.9 | Q46: 110.49383 | R46: 96.254682 | S46: 103.1156 | T46: 514 | U46: 107.75681 | V46: 83.6 | W46: 106 | X46: 21.9 | Y46: 103 | Z46: 98.3 | AA46: 101 | AB46: 525 | AC46: 106
C47: 大隅半島 | D47: 17.3 | E47: 101 | F47: 22.7 | G47: 107 | H47: 392 | I47: 108 | J47: 76 | K47: 95 | L47: 298 | M47: 103 | N47: 543 | O47: 108 | P47: 17.6 | Q47: 109.31677 | R47: 96.500921 | S47: 104.57718 | T47: 524 | U47: 112.44635 | V47: 86.2 | W47: 108 | X47: 20.8 | Y47: 99 | Z47: 98.3 | AA47: 102 | AB47: 534 | AC47: 110
A49: 注：１ 対前年比とは、作況標本筆結果から作成した各収量構成要素（１㎡当たり株数等）の前年値との対比である。
A50: ２ 宮崎県及び鹿児島県については、作期別（早期栽培・普通栽培）の平均値である。

Sheet 統計表３
P2: 目次へ戻る
A3: ３ 令和７年産水稲玄米のふるい目幅別重量分布状況
A5: 区 分 | D5: ふるい目幅別重量分布状況 | K5: 対前年差
D6: 計 | E6: 1.70㎜以上 1.75mm未満 | F6: 1.75 ～1.80 | G6: 1.80 ～1.85 | H6: 1.85 ～1.90 | I6: 1.90 ～2.00 | J6: 2.00㎜ 以 上 | K6: 1.70㎜以上 1.75mm未満 | L6: 1.75 ～1.80 | M6: 1.80 ～1.85 | N6: 1.85 ～1.90 | O6: 1.90 ～2.00 | P6: 2.00㎜ 以 上
D9: ％ | E9: ％ | F9: ％ | G9: ％ | H9: ％ | I9: ％ | J9: ％ | K9: ﾎﾟｲﾝﾄ | L9: ﾎﾟｲﾝﾄ | M9: ﾎﾟｲﾝﾄ | N9: ﾎﾟｲﾝﾄ | O9: ﾎﾟｲﾝﾄ | P9: ﾎﾟｲﾝﾄ
A10: 九州 | D10: 100 | E10: 1 | F10: 1.6 | G10: 1.9 | H10: 3.3 | I10: 13.3 | J10: 78.9 | K10: -0.1 | L10: -0.4 | M10: -0.6 | N10: -1.1 | O10: -4.4 | P10: 6.6
A11: 福岡 | D11: 100 | E11: 1.1 | F11: 1.8 | G11: 2.3 | H11: 3.6 | I11: 13.3 | J11: 77.9 | K11: 0 | L11: 0 | M11: -0.2 | N11: -0.8 | O11: -1.4 | P11: 2.4
C12: 福 岡 | D12: 100 | E12: 0.7 | F12: 1.3 | G12: 1.8 | H12: 3 | I12: 11 | J12: 82.2 | K12: -0.3 | L12: -0.3 | M12: -0.2 | N12: -0.6 | O12: -1.2 | P12: 2.6
C13: 北 東 部 | D13: 100 | E13: 1.2 | F13: 1.8 | G13: 2.1 | H13: 3.5 | I13: 11.3 | J13: 80.1 | K13: 0.3 | L13: 0.5 | M13: 0.3 | N13: 0.5 | O13: 1.7 | P13: -3.3
C14: 筑 後 | D14: 100 | E14: 1.2 | F14: 2 | G14: 2.6 | H14: 4 | I14: 15.8 | J14: 74.4 | K14: -0.1 | L14: -0.3 | M14: -0.6 | N14: -1.8 | O14: -3.9 | P14: 6.7
A15: 佐賀 | D15: 100 | E15: 1.1 | F15: 1.6 | G15: 1.7 | H15: 3.3 | I15: 12.4 | J15: 79.9 | K15: 0.2 | L15: -0.1 | M15: -0.3 | N15: -0.4 | O15: -4.6 | P15: 5.2
C16: 佐 賀 | D16: 100 | E16: 1.1 | F16: 1.7 | G16: 1.8 | H16: 3.4 | I16: 13.1 | J16: 78.9 | K16: 0.1 | L16: -0.1 | M16: -0.4 | N16: -0.6 | O16: -5.4 | P16: 6.4
C17: 松 浦 | D17: 100 | E17: 0.8 | F17: 1.2 | G17: 1.3 | H17: 2.4 | I17: 8.8 | J17: 85.5 | K17: 0.2 | L17: 0.2 | M17: 0.2 | N17: 0.1 | O17: 0.4 | P17: -1.1
A18: 長崎 | D18: 100 | E18: 0.6 | F18: 1.1 | G18: 1.6 | H18: 2.5 | I18: 12.2 | J18: 82 | K18: -0.5 | L18: -0.9 | M18: -0.8 | N18: -1.4 | O18: -3.8 | P18: 7.4
C19: 南 部 | D19: 100 | E19: 0.7 | F19: 1.2 | G19: 1.7 | H19: 2.7 | I19: 13.7 | J19: 80 | K19: -0.5 | L19: -1 | M19: -1 | N19: -1.8 | O19: -4.5 | P19: 8.8
C20: 北 部 | D20: 100 | E20: 0.5 | F20: 0.9 | G20: 1.4 | H20: 2 | I20: 9.1 | J20: 86.1 | K20: -0.6 | L20: -0.9 | M20: -0.5 | N20: -1.1 | O20: -3.5 | P20: 6.6
C21: 五 島 | D21: 100 | E21: 0.7 | F21: 1.1 | G21: 1.3 | H21: 2 | I21: 7.2 | J21: 87.7 | K21: 0.1 | L21: 0.1 | M21: 0.2 | N21: 0.2 | O21: -0.8 | P21: 0.2
C22: 壱岐・対馬 | D22: 100 | E22: 0.6 | F22: 1.3 | G22: 1.7 | H22: 2.8 | I22: 12.2 | J22: 81.4 | K22: -0.3 | L22: -0.3 | M22: -0.3 | N22: -0.5 | O22: -1.5 | P22: 2.9
A23: 熊本 | D23: 100 | E23: 1 | F23: 1.5 | G23: 1.8 | H23: 3 | I23: 13.7 | J23: 79 | K23: -0.1 | L23: -0.5 | M23: -0.7 | N23: -1.7 | O23: -5 | P23: 8
C24: 県 北 | D24: 100 | E24: 1 | F24: 1.5 | G24: 1.9 | H24: 3.2 | I24: 14.9 | J24: 77.5 | K24: -0.4 | L24: -1 | M24: -1.4 | N24: -3 | O24: -9.4 | P24: 15.2
C25: 阿 蘇 | D25: 100 | E25: 1.4 | F25: 1.9 | G25: 2.2 | H25: 3.8 | I25: 16.1 | J25: 74.6 | K25: 0.6 | L25: 0.6 | M25: 0.5 | N25: 1 | O25: 3.8 | P25: -6.5
C26: 県 南 | D26: 100 | E26: 0.9 | F26: 1.2 | G26: 1.5 | H26: 2.4 | I26: 10.5 | J26: 83.5 | K26: 0.1 | L26: -0.1 | M26: -0.1 | N26: -0.4 | O26: -1.1 | P26: 1.6
C27: 天 草 | D27: 100 | E27: 0.9 | F27: 1.1 | G27: 1.4 | H27: 1.9 | I27: 8.2 | J27: 86.5 | K27: 0 | L27: 0 | M27: 0 | N27: -0.5 | O27: -3.2 | P27: 3.7
A28: 大分 | D28: 100 | E28: 1.1 | F28: 1.9 | G28: 2.2 | H28: 4.5 | I28: 16 | J28: 74.3 | K28: -0.2 | L28: -0.4 | M28: -0.7 | N28: -1.3 | O28: -5.3 | P28: 7.9
C29: 北 部 | D29: 100 | E29: 1.2 | F29: 2.1 | G29: 2.4 | H29: 4.9 | I29: 17.4 | J29: 72 | K29: -0.2 | L29: -0.6 | M29: -1.1 | N29: -2.6 | O29: -7.8 | P29: 12.3
C30: 湾 岸 | D30: 100 | E30: 1.1 | F30: 1.9 | G30: 2.2 | H30: 4.6 | I30: 15.6 | J30: 74.6 | K30: -0.2 | L30: -0.3 | M30: -0.6 | N30: -1.1 | O30: -4.5 | P30: 6.7
C31: 南 部 | D31: 100 | E31: 1.1 | F31: 1.9 | G31: 2.3 | H31: 4.3 | I31: 15.4 | J31: 75 | K31: -0.3 | L31: -0.2 | M31: -0.1 | N31: -0.3 | O31: -3.6 | P31: 4.5
C32: 日 田 | D32: 100 | E32: 1 | F32: 1.6 | G32: 1.6 | H32: 4 | I32: 14.1 | J32: 77.7 | K32: -0.2 | L32: -0.4 | M32: -0.9 | N32: -0.9 | O32: -5.3 | P32: 7.7
A33: 宮崎 | D33: 100 | E33: 0.6 | F33: 1.2 | G33: 1.5 | H33: 2.5 | I33: 13.9 | J33: 80.3 | K33: -0.4 | L33: -0.7 | M33: -1 | N33: -0.9 | O33: -5.6 | P33: 8.6
B34: 早期栽培計 | D34: 100 | E34: 0.5 | F34: 0.9 | G34: 1 | H34: 1.5 | I34: 8.1 | J34: 88 | K34: -0.2 | L34: -0.4 | M34: -0.7 | N34: -1.2 | O34: -10.7 | P34: 13.2
C35: 広域沿海 | D35: 100 | E35: 0.5 | F35: 0.9 | G35: 1 | H35: 1.5 | I35: 8.1 | J35: 88 | K35: -0.2 | L35: -0.4 | M35: -0.7 | N35: -1.2 | O35: -10.7 | P35: 13.2
B36: 普通栽培計 | D36: 100 | E36: 0.7 | F36: 1.4 | G36: 1.9 | H36: 3.1 | I36: 17.3 | J36: 75.6 | K36: -0.4 | L36: -0.9 | M36: -1 | N36: -0.7 | O36: -2.6 | P36: 5.6
C37: 広域沿海 | D37: 100 | E37: 0.9 | F37: 1.8 | G37: 2.2 | H37: 3.9 | I37: 20.2 | J37: 71 | K37: -0.5 | L37: -0.8 | M37: -1 | N37: -0.2 | O37: -0.2 | P37: 2.7
C38: 広域霧島 | D38: 100 | E38: 0.6 | F38: 1.2 | G38: 1.7 | H38: 2.8 | I38: 16.3 | J38: 77.4 | K38: -0.4 | L38: -1 | M38: -1.2 | N38: -1 | O38: -3.5 | P38: 7.1
C39: 西北山間 | D39: 100 | E39: 0.8 | F39: 1.5 | G39: 2.1 | H39: 3 | I39: 16.6 | J39: 76 | K39: -0.1 | L39: -0.4 | M39: -0.3 | N39: -0.5 | O39: -3.1 | P39: 4.4
A40: 鹿児島 | D40: 100 | E40: 0.7 | F40: 1.2 | G40: 1.7 | H40: 2.8 | I40: 10.9 | J40: 82.7 | K40: -0.5 | L40: -1.1 | M40: -1.4 | N40: -1.5 | O40: -6.9 | P40: 11.4
B41: 早期栽培計 | D41: 100 | E41: 0.6 | F41: 1.2 | G41: 1.6 | H41: 2.7 | I41: 12.1 | J41: 81.8 | K41: -0.1 | L41: -0.2 | M41: -0.3 | N41: -0.7 | O41: -6 | P41: 7.3
C42: 薩摩半島 | D42: 100 | E42: 0.8 | F42: 1.4 | G42: 2.1 | H42: 3.4 | I42: 14.5 | J42: 77.8 | K42: 0 | L42: 0 | M42: -0.2 | N42: -0.7 | O42: -4.8 | P42: 5.7
C43: 大隅半島 | D43: 100 | E43: 0.6 | F43: 1.3 | G43: 1.6 | H43: 2.6 | I43: 12.1 | J43: 81.8 | K43: 0 | L43: -0.1 | M43: 0.1 | N43: 0 | O43: -2.7 | P43: 2.7
C44: 熊毛・大島 | D44: 100 | E44: 0.4 | F44: 0.6 | G44: 0.8 | H44: 1.6 | I44: 7.3 | J44: 89.3 | K44: -0.2 | L44: -0.7 | M44: -1.6 | N44: -2.7 | O44: -18.7 | P44: 23.9
B45: 普通栽培計 | D45: 100 | E45: 0.7 | F45: 1.2 | G45: 1.7 | H45: 2.8 | I45: 10.6 | J45: 83 | K45: -0.7 | L45: -1.3 | M45: -1.7 | N45: -1.7 | O45: -7.1 | P45: 12.5
C46: 薩摩半島 | D46: 100 | E46: 0.8 | F46: 1.4 | G46: 2.1 | H46: 2.8 | I46: 12 | J46: 80.9 | K46: -0.9 | L46: -1.8 | M46: -2.2 | N46: -2.6 | O46: -7.6 | P46: 15.1
C47: 出水薩摩 | D47: 100 | E47: 0.6 | F47: 1 | G47: 1.5 | H47: 2.3 | I47: 8.6 | J47: 86 | K47: -0.6 | L47: -1.1 | M47: -1.7 | N47: -2 | O47: -9.6 | P47: 15
C48: 伊佐姶良 | D48: 100 | E48: 0.7 | F48: 1.3 | G48: 1.8 | H48: 3.1 | I48: 11.5 | J48: 81.6 | K48: -0.7 | L48: -1.2 | M48: -1.8 | N48: -1.3 | O48: -6.1 | P48: 11.1
C49: 大隅半島 | D49: 100 | E49: 0.6 | F49: 1.2 | G49: 1.9 | H49: 2.7 | I49: 11.4 | J49: 82.2 | K49: -0.9 | L49: -1.5 | M49: -1 | N49: -1.5 | O49: -3.9 | P49: 8.8
A51: 注： ふるい目幅別重量分布とは、それぞれのふるい目幅で選別された玄米の重量の割合である。

Sheet 統計表４
I2: 目次へ戻る
A3: ４ 令和７年産水稲玄米のふるい目幅別10ａ当たり収量
I4: 単位：kg
A5: 区 分 | D5: 1.70㎜ 以 上
E6: 1.75㎜ 以 上
F7: 1.80㎜ 以 上
G8: 1.85㎜ 以 上
H9: 1.90㎜ 以 上
I10: 2.00㎜ 以 上
A12: 九州 | D12: 513 | E12: 508 | F12: 500 | G12: 490 | H12: 474 | I12: 406
A13: 福岡 | D13: 504 | E13: 498 | F13: 489 | G13: 478 | H13: 459 | I13: 392
C14: 福 岡 | D14: 492 | E14: 489 | F14: 482 | G14: 474 | H14: 459 | I14: 405
C15: 北 東 部 | D15: 493 | E15: 487 | F15: 478 | G15: 468 | H15: 450 | I15: 395
C16: 筑 後 | D16: 517 | E16: 511 | F16: 501 | G16: 487 | H16: 467 | I16: 385
A17: 佐賀 | D17: 540 | E17: 534 | F17: 525 | G17: 515 | H17: 498 | I17: 431
C18: 佐 賀 | D18: 542 | E18: 536 | F18: 527 | G18: 516 | H18: 498 | I18: 427
C19: 松 浦 | D19: 529 | E19: 523 | F19: 518 | G19: 512 | H19: 500 | I19: 454
A20: 長崎 | D20: 502 | E20: 499 | F20: 492 | G20: 483 | H20: 470 | I20: 410
C21: 南 部 | D21: 524 | E21: 521 | F21: 513 | G21: 505 | H21: 490 | I21: 418
C22: 北 部 | D22: 472 | E22: 470 | F22: 464 | G22: 455 | H22: 447 | I22: 405
C23: 五 島 | D23: 396 | E23: 394 | F23: 388 | G23: 384 | H23: 376 | I23: 348
C24: 壱岐・対馬 | D24: 500 | E24: 497 | F24: 491 | G24: 483 | H24: 468 | I24: 408
A25: 熊本 | D25: 525 | E25: 522 | F25: 514 | G25: 504 | H25: 490 | I25: 417
C26: 県 北 | D26: 537 | E26: 532 | F26: 524 | G26: 514 | H26: 497 | I26: 417
C27: 阿 蘇 | D27: 515 | E27: 507 | F27: 499 | G27: 493 | H27: 473 | I27: 388
C28: 県 南 | D28: 519 | E28: 515 | F28: 509 | G28: 501 | H28: 488 | I28: 434
C29: 天 草 | D29: 450 | E29: 447 | F29: 441 | G29: 437 | H29: 428 | I29: 391
A30: 大分 | D30: 515 | E30: 509 | F30: 499 | G30: 488 | H30: 465 | I30: 383
C31: 北 部 | D31: 526 | E31: 519 | F31: 508 | G31: 497 | H31: 471 | I31: 379
C32: 湾 岸 | D32: 517 | E32: 512 | F32: 502 | G32: 490 | H32: 467 | I32: 387
C33: 南 部 | D33: 504 | E33: 499 | F33: 490 | G33: 478 | H33: 456 | I33: 379
C34: 日 田 | D34: 504 | E34: 498 | F34: 489 | G34: 484 | H34: 463 | I34: 393
A35: 宮崎 | D35: 492 | E35: 487 | F35: 483 | G35: 475 | H35: 463 | I35: 395
B36: 早期栽培計 | D36: 488 | E36: 486 | F36: 482 | G36: 477 | H36: 470 | I36: 430
C37: 広域沿海 | D37: 488 | E37: 486 | F37: 482 | G37: 477 | H37: 470 | I37: 430
B38: 普通栽培計 | D38: 494 | E38: 490 | F38: 484 | G38: 475 | H38: 459 | I38: 374
C39: 広域沿海 | D39: 457 | E39: 451 | F39: 446 | G39: 435 | H39: 419 | I39: 326
C40: 広域霧島 | D40: 517 | E40: 513 | F40: 508 | G40: 499 | H40: 484 | I40: 400
C41: 西北山間 | D41: 455 | E41: 452 | F41: 445 | G41: 435 | H41: 422 | I41: 346
A42: 鹿児島 | D42: 493 | E42: 489 | F42: 484 | G42: 476 | H42: 462 | I42: 408
B43: 早期栽培計 | D43: 474 | E43: 469 | F43: 466 | G43: 458 | H43: 444 | I43: 387
C44: 薩摩半島 | D44: 463 | E44: 459 | F44: 458 | G44: 449 | H44: 433 | I44: 364
C45: 大隅半島 | D45: 500 | E45: 497 | F45: 490 | G45: 482 | H45: 469 | I45: 409
C46: 熊毛・大島 | D46: 407 | E46: 405 | F46: 404 | G46: 401 | H46: 393 | I46: 364
B47: 普通栽培計 | D47: 499 | E47: 496 | F47: 490 | G47: 482 | H47: 469 | I47: 416
C48: 薩摩半島 | D48: 471 | E48: 467 | F48: 462 | G48: 452 | H48: 439 | I48: 382
C49: 出水薩摩 | D49: 496 | E49: 495 | F49: 488 | G49: 482 | H49: 469 | I49: 428
C50: 伊佐姶良 | D50: 511 | E50: 507 | F50: 501 | G50: 493 | H50: 478 | I50: 418
C51: 大隅半島 | D51: 497 | E51: 494 | F51: 488 | G51: 481 | H51: 468 | I51: 410

Sheet 統計表５
I2: 目次へ戻る
A3: ５ 令和７年産水稲玄米のふるい目幅別収穫量（主食用）
I4: 単位：ｔ
A5: 区 分 | D5: 1.70㎜ 以 上
E6: 1.75㎜ 以 上
F7: 1.80㎜ 以 上
G8: 1.85㎜ 以 上
H9: 1.90㎜ 以 上
I10: 2.00㎜ 以 上
A12: 九州 | D12: 767400 | E12: 760000 | F12: 748000 | G12: 733800 | H12: 708400 | I12: 606100
A13: 福岡 | D13: 173900 | E13: 172000 | F13: 168900 | G13: 164900 | H13: 158600 | I13: 135400
C14: 福 岡 | D14: … | E14: … | F14: … | G14: … | H14: … | I14: …
C15: 北 東 部 | D15: … | E15: … | F15: … | G15: … | H15: … | I15: …
C16: 筑 後 | D16: … | E16: … | F16: … | G16: … | H16: … | I16: …
A17: 佐賀 | D17: 128000 | E17: 126600 | F17: 124500 | G17: 122100 | H17: 117900 | I17: 102100
C18: 佐 賀 | D18: … | E18: … | F18: … | G18: … | H18: … | I18: …
C19: 松 浦 | D19: … | E19: … | F19: … | G19: … | H19: … | I19: …
A20: 長崎 | D20: 47500 | E20: 47200 | F20: 46500 | G20: 45800 | H20: 44500 | I20: 38800
C21: 南 部 | D21: … | E21: … | F21: … | G21: … | H21: … | I21: …
C22: 北 部 | D22: … | E22: … | F22: … | G22: … | H22: … | I22: …
C23: 五 島 | D23: … | E23: … | F23: … | G23: … | H23: … | I23: …
C24: 壱岐・対馬 | D24: … | E24: … | F24: … | G24: … | H24: … | I24: …
A25: 熊本 | D25: 167500 | E25: 165800 | F25: 163300 | G25: 160800 | H25: 155700 | I25: 132500
C26: 県 北 | D26: … | E26: … | F26: … | G26: … | H26: … | I26: …
C27: 阿 蘇 | D27: … | E27: … | F27: … | G27: … | H27: … | I27: …
C28: 県 南 | D28: … | E28: … | F28: … | G28: … | H28: … | I28: …
C29: 天 草 | D29: … | E29: … | F29: … | G29: … | H29: … | I29: …
A30: 大分 | D30: 97300 | E30: 96200 | F30: 94400 | G30: 92200 | H30: 87800 | I30: 72200
C31: 北 部 | D31: … | E31: … | F31: … | G31: … | H31: … | I31: …
C32: 湾 岸 | D32: … | E32: … | F32: … | G32: … | H32: … | I32: …
C33: 南 部 | D33: … | E33: … | F33: … | G33: … | H33: … | I33: …
C34: 日 田 | D34: … | E34: … | F34: … | G34: … | H34: … | I34: …
A35: 宮崎 | D35: 66400 | E35: 66000 | F35: 65200 | G35: 64200 | H35: 62500 | I35: 53200
B36: 早期栽培計 | D36: … | E36: … | F36: … | G36: … | H36: … | I36: …
C37: 広域沿海 | D37: … | E37: … | F37: … | G37: … | H37: … | I37: …
B38: 普通栽培計 | D38: … | E38: … | F38: … | G38: … | H38: … | I38: …
C39: 広域沿海 | D39: … | E39: … | F39: … | G39: … | H39: … | I39: …
C40: 広域霧島 | D40: … | E40: … | F40: … | G40: … | H40: … | I40: …
C41: 西北山間 | D41: … | E41: … | F41: … | G41: … | H41: … | I41: …
A42: 鹿児島 | D42: 86800 | E42: 86200 | F42: 85200 | G42: 83800 | H42: 81400 | I42: 71900
B43: 早期栽培計 | D43: … | E43: … | F43: … | G43: … | H43: … | I43: …
C44: 薩摩半島 | D44: … | E44: … | F44: … | G44: … | H44: … | I44: …
C45: 大隅半島 | D45: … | E45: … | F45: … | G45: … | H45: … | I45: …
C46: 熊毛・大島 | D46: … | E46: … | F46: … | G46: … | H46: … | I46: …
B47: 普通栽培計 | D47: … | E47: … | F47: … | G47: … | H47: … | I47: …
C48: 薩摩半島 | D48: … | E48: … | F48: … | G48: … | H48: … | I48: …
C49: 出水薩摩 | D49: … | E49: … | F49: … | G49: … | H49: … | I49: …
C50: 伊佐姶良 | D50: … | E50: … | F50: … | G50: … | H50: … | I50: …
C51: 大隅半島 | D51: … | E51: … | F51: … | G51: … | H51: … | I51: …
A53: 注：１ 各県の作柄表示地帯別の水稲玄米のふるい目幅別収穫量（主食用）は、備蓄米、加工用米、新規需要米等の 面積を把握していないことから「…」で示している。 ２ 宮崎県及び鹿児島県の作期別（早期栽培、普通栽培）の作付面積（主食用）は、作期別（早期栽培、普通栽 培）の備蓄米、加工用米、新規需要米等の面積を把握していないことから「…」で示している。

Sheet 統計表６
I2: 目次へ戻る
A3: ６ 令和７年産水稲玄米のふるい目幅別収穫量（子実用）
I4: 単位：ｔ
A5: 区 分 | D5: 1.70㎜ 以 上
E6: 1.75㎜ 以 上
F7: 1.80㎜ 以 上
G8: 1.85㎜ 以 上
H9: 1.90㎜ 以 上
I10: 2.00㎜ 以 上
A12: 九州 | D12: 786100 | E12: 778700 | F12: 766600 | G12: 751500 | H12: 726400 | I12: 621900
A13: 福岡 | D13: 175900 | E13: 173800 | F13: 170600 | G13: 166800 | H13: 160200 | I13: 136800
C14: 福 岡 | D14: 27600 | E14: 27400 | F14: 27000 | G14: 26500 | H14: 25700 | I14: 22700
C15: 北 東 部 | D15: 67000 | E15: 66200 | F15: 65000 | G15: 63600 | H15: 61200 | I15: 53700
C16: 筑 後 | D16: 81200 | E16: 80200 | F16: 78600 | G16: 76500 | H16: 73300 | I16: 60400
A17: 佐賀 | D17: 129600 | E17: 128200 | F17: 126100 | G17: 123600 | H17: 119600 | I17: 103500
C18: 佐 賀 | D18: 108900 | E18: 107700 | F18: 105900 | G18: 103700 | H18: 100000 | I18: 85800
C19: 松 浦 | D19: 20700 | E19: 20500 | F19: 20300 | G19: 20100 | H19: 19600 | I19: 17800
A20: 長崎 | D20: 47600 | E20: 47300 | F20: 46600 | G20: 45800 | H20: 44600 | I20: 38900
C21: 南 部 | D21: 28500 | E21: 28300 | F21: 27900 | G21: 27400 | H21: 26600 | I21: 22700
C22: 北 部 | D22: 12500 | E22: 12400 | F22: 12200 | G22: 12000 | H22: 11800 | I22: 10700
C23: 五 島 | D23: 1540 | E23: 1530 | F23: 1510 | G23: 1490 | H23: 1460 | I23: 1350
C24: 壱岐・対馬 | D24: 5050 | E24: 5020 | F24: 4960 | G24: 4880 | H24: 4730 | I24: 4120
A25: 熊本 | D25: 169100 | E25: 168000 | F25: 165500 | G25: 162300 | H25: 157700 | I25: 134400
C26: 県 北 | D26: 94000 | E26: 93100 | F26: 91700 | G26: 90000 | H26: 87000 | I26: 73000
C27: 阿 蘇 | D27: 25600 | E27: 25200 | F27: 24800 | G27: 24500 | H27: 23500 | I27: 19300
C28: 県 南 | D28: 44200 | E28: 43800 | F28: 43300 | G28: 42600 | H28: 41500 | I28: 36900
C29: 天 草 | D29: 5900 | E29: 5850 | F29: 5780 | G29: 5720 | H29: 5610 | I29: 5120
A30: 大分 | D30: 98400 | E30: 97300 | F30: 95400 | G30: 93200 | H30: 88900 | I30: 73200
C31: 北 部 | D31: 33000 | E31: 32600 | F31: 31900 | G31: 31200 | H31: 29600 | I31: 23800
C32: 湾 岸 | D32: 26900 | E32: 26600 | F32: 26100 | G32: 25500 | H32: 24300 | I32: 20100
C33: 南 部 | D33: 27000 | E33: 26700 | F33: 26200 | G33: 25600 | H33: 24400 | I33: 20300
C34: 日 田 | D34: 11500 | E34: 11400 | F34: 11200 | G34: 11100 | H34: 10600 | I34: 9000
A35: 宮崎 | D35: 74300 | E35: 73600 | F35: 72900 | G35: 71800 | H35: 69900 | I35: 59600
B36: 早期栽培計 | D36: 27300 | E36: 27200 | F36: 27000 | G36: 26700 | H36: 26300 | I36: 24100
C37: 広域沿海 | D37: 27300 | E37: 27200 | F37: 27000 | G37: 26700 | H37: 26300 | I37: 24100
B38: 普通栽培計 | D38: 46900 | E38: 46500 | F38: 45900 | G38: 45100 | H38: 43600 | I38: 35500
C39: 広域沿海 | D39: 11200 | E39: 11100 | F39: 11000 | G39: 10700 | H39: 10300 | I39: 8020
C40: 広域霧島 | D40: 30300 | E40: 30100 | F40: 29800 | G40: 29300 | H40: 28400 | I40: 23500
C41: 西北山間 | D41: 5280 | E41: 5240 | F41: 5160 | G41: 5050 | H41: 4890 | I41: 4010
A42: 鹿児島 | D42: 91200 | E42: 90500 | F42: 89500 | G42: 88000 | H42: 85500 | I42: 75500
B43: 早期栽培計 | D43: 20200 | E43: 20000 | F43: 19900 | G43: 19500 | H43: 18900 | I43: 16500
C44: 薩摩半島 | D44: 6390 | E44: 6340 | F44: 6320 | G44: 6190 | H44: 5970 | I44: 5030
C45: 大隅半島 | D45: 9650 | E45: 9590 | F45: 9460 | G45: 9310 | H45: 9050 | I45: 7890
C46: 熊毛・大島 | D46: 2740 | E46: 2730 | F46: 2720 | G46: 2700 | H46: 2650 | I46: 2450
B47: 普通栽培計 | D47: 70900 | E47: 70500 | F47: 69600 | G47: 68500 | H47: 66600 | I47: 59100
C48: 薩摩半島 | D48: 8620 | E48: 8550 | F48: 8450 | G48: 8270 | H48: 8030 | I48: 6990
C49: 出水薩摩 | D49: 23100 | E49: 23000 | F49: 22700 | G49: 22400 | H49: 21800 | I49: 19900
C50: 伊佐姶良 | D50: 27500 | E50: 27300 | F50: 27000 | G50: 26500 | H50: 25700 | I50: 22500
C51: 大隅半島 | D51: 11800 | E51: 11700 | F51: 11600 | G51: 11400 | H51: 11100 | I51: 9710

Sheet 統計表７
J2: 目次へ戻る
A3: ７ 令和７年産水稲における生産者が使用したふるい目幅の分布
A4: 【令和７年産水稲作況標本筆生産者からの聞取り結果】
J5: 単位：％
A6: 区 分 | D6: 計 | E6: 1.70mm | F6: 1.75mm | G6: 1.80mm | H6: 1.85mm | I6: 1.90mm | J6: 2.00mm 以上
A9: 九州 | D9: 100 | E9: 0.1 | F9: 1 | G9: 44.1 | H9: 45.1 | I9: 9.6 | J9: 0.1
A10: 福岡 | D10: 100 | E10: - | F10: - | G10: 10.6 | H10: 87.7 | I10: 1.3 | J10: 0.4
C11: 福 岡 | D11: 100 | E11: - | F11: - | G11: 4.7 | H11: 95.3 | I11: - | J11: -
C12: 北 東 部 | D12: 100 | E12: - | F12: - | G12: 5.3 | H12: 94.7 | I12: - | J12: -
C13: 筑 後 | D13: 100 | E13: - | F13: - | G13: 18.4 | H13: 77.5 | I13: 3.1 | J13: 1
A14: 佐賀 | D14: 100 | E14: - | F14: - | G14: 1.1 | H14: 47.4 | I14: 51.5 | J14: -
C15: 佐 賀 | D15: 100 | E15: - | F15: - | G15: 0.6 | H15: 39.4 | I15: 60 | J15: -
C16: 松 浦 | D16: 100 | E16: - | F16: - | G16: 2.9 | H16: 82.8 | I16: 14.3 | J16: -
A17: 長崎 | D17: 100 | E17: 1 | F17: 5.8 | G17: 79.6 | H17: 6.8 | I17: 6.8 | J17: -
C18: 南 部 | D18: 100 | E18: 2.2 | F18: 8.7 | G18: 80.4 | H18: 8.7 | I18: - | J18: -
C19: 北 部 | D19: 100 | E19: - | F19: 4.8 | G19: 92.8 | H19: 2.4 | I19: - | J19: -
C20: 五 島 | D20: 100 | E20: - | F20: - | G20: 100 | H20: - | I20: - | J20: -
C21: 壱岐・対馬 | D21: 100 | E21: - | F21: - | G21: 10 | H21: 20 | I21: 70 | J21: -
A22: 熊本 | D22: 100 | E22: - | F22: 0.5 | G22: 27.6 | H22: 71.9 | I22: - | J22: -
C23: 県 北 | D23: 100 | E23: - | F23: - | G23: 22.1 | H23: 77.9 | I23: - | J23: -
C24: 阿 蘇 | D24: 100 | E24: - | F24: 2.9 | G24: 2.9 | H24: 94.2 | I24: - | J24: -
C25: 県 南 | D25: 100 | E25: - | F25: - | G25: 45 | H25: 55 | I25: - | J25: -
C26: 天 草 | D26: 100 | E26: - | F26: - | G26: 46.2 | H26: 53.8 | I26: - | J26: -
A27: 大分 | D27: 100 | E27: - | F27: 0.6 | G27: 51.7 | H27: 47.7 | I27: - | J27: -
C28: 北 部 | D28: 100 | E28: - | F28: - | G28: 63.6 | H28: 36.4 | I28: - | J28: -
C29: 湾 岸 | D29: 100 | E29: - | F29: - | G29: 80.4 | H29: 19.6 | I29: - | J29: -
C30: 南 部 | D30: 100 | E30: - | F30: 2.2 | G30: 33.3 | H30: 64.5 | I30: - | J30: -
C31: 日 田 | D31: 100 | E31: - | F31: - | G31: - | H31: 100 | I31: - | J31: -
A32: 宮崎 | D32: 100 | E32: - | F32: 1.9 | G32: 95.6 | H32: 2.5 | I32: - | J32: -
B33: 早期栽培計 | D33: 100 | E33: - | F33: - | G33: 100 | H33: - | I33: - | J33: -
C34: 広域沿海 | D34: 100 | E34: - | F34: - | G34: 100 | H34: - | I34: - | J34: -
B35: 普通栽培計 | D35: 100 | E35: - | F35: 3 | G35: 93 | H35: 4 | I35: - | J35: -
C36: 広域沿海 | D36: 100 | E36: - | F36: 3.4 | G36: 89.7 | H36: 6.9 | I36: - | J36: -
C37: 広域霧島 | D37: 100 | E37: - | F37: 3.5 | G37: 93 | H37: 3.5 | I37: - | J37: -
C38: 西北山間 | D38: 100 | E38: - | F38: - | G38: 100 | H38: - | I38: - | J38: -
A39: 鹿児島 | D39: 100 | E39: - | F39: - | G39: 97.3 | H39: 1.8 | I39: 0.9 | J39: -
B40: 早期栽培計 | D40: 100 | E40: - | F40: - | G40: 96.6 | H40: 3.4 | I40: - | J40: -
C41: 薩摩半島 | D41: 100 | E41: - | F41: - | G41: 100 | H41: - | I41: - | J41: -
C42: 大隅半島 | D42: 100 | E42: - | F42: - | G42: 90.9 | H42: 9.1 | I42: - | J42: -
C43: 熊毛・大島 | D43: 100 | E43: - | F43: - | G43: 100 | H43: - | I43: - | J43: -
B44: 普通栽培計 | D44: 100 | E44: - | F44: - | G44: 97.6 | H44: 1.2 | I44: 1.2 | J44: -
C45: 薩摩半島 | D45: 100 | E45: - | F45: - | G45: 100 | H45: - | I45: - | J45: -
C46: 出水薩摩 | D46: 100 | E46: - | F46: - | G46: 100 | H46: - | I46: - | J46: -
C47: 伊佐姶良 | D47: 100 | E47: - | F47: - | G47: 94 | H47: 3 | I47: 3 | J47: -
C48: 大隅半島 | D48: 100 | E48: - | F48: - | G48: 100 | H48: - | I48: - | J48: -
A50: 注： 生産者が使用したふるい目幅の分布とは、水稲作況標本筆農家が使用したふるい目幅別の農家数割合を示したものである。

Sheet ×統計表６（修正）
H2: 目次へ戻る
A3: ６ 令和７年産水稲における生産者が使用したふるい目幅の分布
A4: 【令和７年産水稲作況標本（基準）筆生産者からの聞取り結果】
H5: 単位：％
A6: 全国農業地域 ・ 都 道 府 県 | B6: 計 | C6: 1.70mm以上 1.75mm未満 | D6: 1.75 ～1.80 | E6: 1.80 ～1.85 | F6: 1.85 ～1.90 | G6: 1.90 ～2.00 | H6: 2.00mm 以上
A9: 全国 | B9: 100 | C9: 0.1 | D9: 1.2 | E9: 23.2 | F9: 38.9 | G9: 36 | H9: 0.6
A10: (全国農業地域)
A11: 北海道
A12: 東北
A13: 北陸
A14: 関東・東山
A15: 東海
A16: 近畿
A17: 中国
A18: 四国
A19: 九州
A20: 沖縄
A21: (都道府県)
A22: 北海道 | B22: 100 | C22: 0.2 | D22: - | E22: 0.8 | F22: 21 | G22: 75.7 | H22: 2.3
A23: 青森 | B23: 100 | C23: - | D23: - | E23: - | F23: 1.1 | G23: 98.9 | H23: -
A24: 岩手 | B24: 100 | C24: - | D24: - | E24: 0.7 | F24: 2.5 | G24: 96.8 | H24: -
A25: 宮城 | B25: 100 | C25: - | D25: - | E25: - | F25: 5.9 | G25: 94.1 | H25: -
A26: 秋田 | B26: 100 | C26: - | D26: - | E26: 0.8 | F26: 15 | G26: 83.8 | H26: 0.4
A27: 山形 | B27: 100 | C27: - | D27: - | E27: 0.4 | F27: 14.7 | G27: 84.9 | H27: -
A28: 福島 | B28: 100 | C28: - | D28: - | E28: 0.8 | F28: 62.4 | G28: 36.8 | H28: -
A29: 茨城 | B29: 100 | C29: - | D29: - | E29: 10 | F29: 89 | G29: 1 | H29: -
A30: 栃木 | B30: 100 | C30: - | D30: 0.9 | E30: 3.8 | F30: 94.9 | G30: - | H30: 0.4
A31: 群馬 | B31: 100 | C31: 0.9 | D31: 3.7 | E31: 87.9 | F31: 5.6 | G31: 1.9 | H31: -
A32: 埼玉 | B32: 100 | C32: 1.9 | D32: 18.7 | E32: 71.7 | F32: 7.7 | G32: - | H32: -
A33: 千葉 | B33: 100 | C33: - | D33: 0.9 | E33: 86.8 | F33: 11.4 | G33: 0.9 | H33: -
A34: 東京 | B34: 100 | C34: - | D34: - | E34: 50 | F34: 50 | G34: - | H34: -
A35: 神奈川 | B35: 100 | C35: - | D35: 7.1 | E35: 90.5 | F35: 2.4 | G35: - | H35: -
A36: 新潟 | B36: 100 | C36: - | D36: - | E36: 1.6 | F36: 57.2 | G36: 39.3 | H36: 1.9
A37: 富山 | B37: 100 | C37: - | D37: - | E37: 0.5 | F37: 9.8 | G37: 89.7 | H37: -
A38: 石川 | B38: 100 | C38: - | D38: - | E38: 0.5 | F38: 38.4 | G38: 61.1 | H38: -
A39: 福井 | B39: 100 | C39: - | D39: - | E39: 0.5 | F39: 2.1 | G39: 95.8 | H39: 1.6
A40: 山梨 | B40: 100 | C40: - | D40: - | E40: 25.7 | F40: 74.3 | G40: - | H40: -
A41: 長野 | B41: 100 | C41: - | D41: - | E41: 12.1 | F41: 80.1 | G41: 6.8 | H41: 1
A42: 岐阜 | B42: 100 | C42: 1.4 | D42: - | E42: 39.9 | F42: 53.2 | G42: 4.1 | H42: 1.4
A43: 静岡 | B43: 100 | C43: - | D43: 3.2 | E43: 55.2 | F43: 41.6 | G43: - | H43: -
A44: 愛知 | B44: 100 | C44: - | D44: - | E44: 1.7 | F44: 41.1 | G44: 57.2 | H44: -
A45: 三重 | B45: 100 | C45: - | D45: - | E45: 11 | F45: 86.5 | G45: 2.5 | H45: -
A46: 滋賀 | B46: 100 | C46: - | D46: 0.5 | E46: 9.8 | F46: 36.4 | G46: 53.3 | H46: -
A47: 京都 | B47: 100 | C47: 0.9 | D47: - | E47: 24.5 | F47: 53.7 | G47: 20.9 | H47: -
A48: 大阪 | B48: 100 | C48: - | D48: 8.9 | E48: 84.4 | F48: 6.7 | G48: - | H48: -
A49: 兵庫 | B49: 100 | C49: - | D49: 2 | E49: 35.8 | F49: 48 | G49: 5.9 | H49: 8.3
A50: 奈良 | B50: 100 | C50: - | D50: - | E50: 98.7 | F50: 1.3 | G50: - | H50: -
A51: 和歌山 | B51: 100 | C51: - | D51: 21.9 | E51: 71.2 | F51: 5.5 | G51: 1.4 | H51: -
A52: 鳥取 | B52: 100 | C52: - | D52: 2.1 | E52: 7.3 | F52: 89.6 | G52: 1 | H52: -
A53: 島根 | B53: 100 | C53: - | D53: - | E53: 1.3 | F53: 5.8 | G53: 92.3 | H53: 0.6
A54: 岡山 | B54: 100 | C54: - | D54: 0.5 | E54: 12.8 | F54: 84.2 | G54: - | H54: 2.5
A55: 広島 | B55: 100 | C55: - | D55: - | E55: 10.6 | F55: 86.9 | G55: 2.5 | H55: -
A56: 山口 | B56: 100 | C56: - | D56: - | E56: 1.5 | F56: 82.9 | G56: 15.6 | H56: -
A57: 徳島 | B57: 100 | C57: - | D57: 3.2 | E57: 84.8 | F57: 12 | G57: - | H57: -
A58: 香川 | B58: 100 | C58: - | D58: 5.2 | E58: 81.7 | F58: 12.2 | G58: 0.9 | H58: -
A59: 愛媛 | B59: 100 | C59: - | D59: 0.9 | E59: 33.3 | F59: 65.8 | G59: - | H59: -
A60: 高知 | B60: 100 | C60: 1.3 | D60: - | E60: 86.7 | F60: 10.7 | G60: 1.3 | H60: -
A61: 福岡 | B61: 100 | C61: - | D61: - | E61: 11.9 | F61: 86 | G61: 2.1 | H61: -
A62: 佐賀 | B62: 100 | C62: - | D62: - | E62: - | F62: 48.4 | G62: 51.6 | H62: -
A63: 長崎 | B63: 100 | C63: 1 | D63: 5.8 | E63: 79.8 | F63: 6.7 | G63: 6.7 | H63: -
A64: 熊本 | B64: 100 | C64: - | D64: 0.5 | E64: 29.8 | F64: 69.7 | G64: - | H64: -
A65: 大分 | B65: 100 | C65: - | D65: 1.3 | E65: 52.2 | F65: 46.5 | G65: - | H65: -
A66: 宮崎 | B66: 100 | C66: - | D66: 1.2 | E66: 98.8 | F66: - | G66: - | H66: -
A67: 鹿児島 | B67: 100 | C67: - | D67: - | E67: 97.1 | F67: 1.9 | G67: 1 | H67: -
A68: 沖縄 | B68: 100 | C68: - | D68: 25 | E68: 75 | F68: - | G68: - | H68: -
A70: 注：生産者が使用したふるい目幅の分布とは、水稲作況標本（基準）筆生産者が使用したふるい目幅別の生産者数割合を示したものである。

Sheet 統計表８
L2: 目次へ戻る
A3: ８ 令和７年産水稲の作況標本筆の10ａ当たり収量の分布状況
M4: 単位：％
A5: 区 分 | D5: 計 | E5: 100kg未満 | F5: 100 ～200 | G5: 200 ～300 | H5: 300 ～400 | I5: 400 ～500 | J5: 500 ～600 | K5: 600 ～700 | L5: 700 ～800 | M5: 800kg以上
A7: 九州 | D7: 100 | E7: 1.2638231 | F7: 0.55292259 | G7: 2.1327014 | H7: 9.6366509 | I7: 34.676145 | J7: 42.790995 | K7: 8.6887836 | L7: 0.15797788 | M7: -
A8: 福岡 | D8: 100 | E8: - | F8: 0.4 | G8: 2.7 | H8: 11.6 | I8: 46 | J8: 36.6 | K8: 2.7 | L8: - | M8: -
C9: 福 岡 | D9: 100 | E9: - | F9: - | G9: 2.4 | H9: 14.3 | I9: 49.9 | J9: 28.6 | K9: 4.8 | L9: - | M9: -
C10: 北 東 部 | D10: 100 | E10: - | F10: - | G10: 4.5 | H10: 13.5 | I10: 47.2 | J10: 34.8 | K10: - | L10: - | M10: -
C11: 筑 後 | D11: 100 | E11: - | F11: 1.1 | G11: 1.1 | H11: 8.6 | I11: 43 | J11: 41.9 | K11: 4.3 | L11: - | M11: -
A12: 佐賀 | D12: 100 | E12: - | F12: - | G12: 1.1 | H12: 5.8 | I12: 31.1 | J12: 50.9 | K12: 11.1 | L12: - | M12: -
C13: 佐 賀 | D13: 100 | E13: - | F13: - | G13: 1.3 | H13: 4.5 | I13: 31.6 | J13: 50.3 | K13: 12.3 | L13: - | M13: -
C14: 松 浦 | D14: 100 | E14: - | F14: - | G14: - | H14: 11.4 | I14: 28.6 | J14: 54.3 | K14: 5.7 | L14: - | M14: -
A15: 長崎 | D15: 100 | E15: 5.5 | F15: - | G15: 0.8 | H15: 5.5 | I15: 30.5 | J15: 46 | K15: 11.7 | L15: - | M15: -
C16: 南 部 | D16: 100 | E16: 3.2 | F16: - | G16: - | H16: 3.2 | I16: 25.4 | J16: 52.3 | K16: 15.9 | L16: - | M16: -
C17: 北 部 | D17: 100 | E17: 6.8 | F17: - | G17: 2.3 | H17: 9.1 | I17: 34.1 | J17: 38.6 | K17: 9.1 | L17: - | M17: -
C18: 五 島 | D18: 100 | E18: 12.5 | F18: - | G18: - | H18: 12.5 | I18: 75 | J18: - | K18: - | L18: - | M18: -
C19: 壱岐・対馬 | D19: 100 | E19: 7.7 | F19: - | G19: - | H19: - | I19: 15.4 | J19: 69.2 | K19: 7.7 | L19: - | M19: -
A20: 熊本 | D20: 100 | E20: 2.5 | F20: 0.4 | G20: 2.5 | H20: 9.2 | I20: 28.5 | J20: 42.7 | K20: 14.2 | L20: - | M20: -
C21: 県 北 | D21: 100 | E21: - | F21: - | G21: 2 | H21: 7.1 | I21: 28.6 | J21: 50.1 | K21: 12.2 | L21: - | M21: -
C22: 阿 蘇 | D22: 100 | E22: 2 | F22: 2 | G22: 2 | H22: 14 | I22: 24 | J22: 42 | K22: 14 | L22: - | M22: -
C23: 県 南 | D23: 100 | E23: 4.5 | F23: - | G23: 4.5 | H23: 7.6 | I23: 25.8 | J23: 36.4 | K23: 21.2 | L23: - | M23: -
C24: 天 草 | D24: 100 | E24: 8 | F24: - | G24: - | H24: 12 | I24: 44 | J24: 32 | K24: 4 | L24: - | M24: -
A25: 大分 | D25: 100 | E25: 0.7 | F25: 0.7 | G25: 1.3 | H25: 11.8 | I25: 34.6 | J25: 44.4 | K25: 6.5 | L25: - | M25: -
C26: 北 部 | D26: 100 | E26: - | F26: - | G26: - | H26: 11.6 | I26: 27.9 | J26: 60.5 | K26: - | L26: - | M26: -
C27: 湾 岸 | D27: 100 | E27: - | F27: 2.2 | G27: - | H27: 8.9 | I27: 37.8 | J27: 44.4 | K27: 6.7 | L27: - | M27: -
C28: 南 部 | D28: 100 | E28: 2.2 | F28: - | G28: 4.4 | H28: 15.6 | I28: 28.9 | J28: 35.6 | K28: 13.3 | L28: - | M28: -
C29: 日 田 | D29: 100 | E29: - | F29: - | G29: - | H29: 10 | I29: 55 | J29: 30 | K29: 5 | L29: - | M29: -
A30: 宮崎 | D30: 100 | E30: - | F30: 1.2 | G30: 2.9 | H30: 13.5 | I30: 38.3 | J30: 33.5 | K30: 10 | L30: 0.6 | M30: -
B31: 早期栽培計 | D31: 100 | E31: - | F31: - | G31: 1.6 | H31: 18.8 | I31: 40.5 | J31: 28.1 | K31: 9.4 | L31: 1.6 | M31: -
C32: 広域沿海 | D32: 100 | E32: - | F32: - | G32: 1.6 | H32: 18.8 | I32: 40.5 | J32: 28.1 | K32: 9.4 | L32: 1.6 | M32: -
B33: 普通栽培計 | D33: 100 | E33: - | F33: 1.9 | G33: 3.8 | H33: 10.4 | I33: 36.8 | J33: 36.7 | K33: 10.4 | L33: - | M33: -
C34: 広域沿海 | D34: 100 | E34: - | F34: 3.2 | G34: - | H34: 22.6 | I34: 51.6 | J34: 19.4 | K34: 3.2 | L34: - | M34: -
C35: 広域霧島 | D35: 100 | E35: - | F35: 1.6 | G35: 3.3 | H35: 3.3 | I35: 32.8 | J35: 45.9 | K35: 13.1 | L35: - | M35: -
C36: 西北山間 | D36: 100 | E36: - | F36: - | G36: 14.3 | H36: 14.3 | I36: 21.4 | J36: 35.7 | K36: 14.3 | L36: - | M36: -
A37: 鹿児島 | D37: 100 | E37: 1.2 | F37: 1.2 | G37: 3.1 | H37: 9.3 | I37: 32.1 | J37: 48.2 | K37: 4.3 | L37: 0.6 | M37: -
B38: 早期栽培計 | D38: 100 | E38: 2.3 | F38: 2.3 | G38: 2.3 | H38: 9.3 | I38: 44.2 | J38: 32.6 | K38: 4.7 | L38: 2.3 | M38: -
C39: 薩摩半島 | D39: 100 | E39: - | F39: - | G39: - | H39: 15.4 | I39: 53.8 | J39: 30.8 | K39: - | L39: - | M39: -
C40: 大隅半島 | D40: 100 | E40: 5.3 | F40: - | G40: - | H40: - | I40: 26.3 | J40: 52.6 | K40: 10.5 | L40: 5.3 | M40: -
C41: 熊毛・大島 | D41: 100 | E41: - | F41: 9.1 | G41: 9.1 | H41: 18.2 | I41: 63.6 | J41: - | K41: - | L41: - | M41: -
B42: 普通栽培計 | D42: 100 | E42: 0.8 | F42: 0.8 | G42: 3.4 | H42: 9.2 | I42: 27.7 | J42: 53.9 | K42: 4.2 | L42: - | M42: -
C43: 薩摩半島 | D43: 100 | E43: - | F43: 5 | G43: 5 | H43: 15 | I43: 30 | J43: 45 | K43: - | L43: - | M43: -
C44: 出水薩摩 | D44: 100 | E44: - | F44: - | G44: 5.4 | H44: 8.1 | I44: 27 | J44: 59.5 | K44: - | L44: - | M44: -
C45: 伊佐姶良 | D45: 100 | E45: - | F45: - | G45: - | H45: 9.8 | I45: 26.8 | J45: 63.4 | K45: - | L45: - | M45: -
C46: 大隅半島 | D46: 100 | E46: 4.8 | F46: - | G46: 4.8 | H46: 4.8 | I46: 28.6 | J46: 33.2 | K46: 23.8 | L46: - | M46: -
A48: 注： 10ａ当たり収量は、生産者が使用しているふるい目幅で選別された玄米の重量である。

Sheet 統計表９
H2: 目次へ戻る
A3: ９ 令和７年産水稲の作柄表示地帯別玄米重歩合
D5: 単位：％
A6: 区 分 | D6: 玄米重 歩合
A7: 福岡 | D7: 96.5
C8: 福 岡 | D8: 96.9
C9: 北 東 部 | D9: 95.9
C10: 筑 後 | D10: 96.5
A11: 佐賀 | D11: 96.5
C12: 佐 賀 | D12: 96.3
C13: 松 浦 | D13: 97.7
A14: 長崎 | D14: 98
C15: 南 部 | D15: 98
C16: 北 部 | D16: 98.1
C17: 五 島 | D17: 98.5
C18: 壱岐・対馬 | D18: 97.5
A19: 熊本 | D19: 97.3
C20: 県 北 | D20: 97.5
C21: 阿 蘇 | D21: 96.7
C22: 県 南 | D22: 97.6
C23: 天 草 | D23: 97.6
A24: 大分 | D24: 96.7
C25: 北 部 | D25: 96.4
C26: 湾 岸 | D26: 96.7
C27: 南 部 | D27: 96.7
C28: 日 田 | D28: 96.8
A29: 宮崎 | D29: 98.4
C30: 広域沿海 | D30: 98.6
C31: 広域霧島 | D31: 98.5
C32: 西北山間 | D32: 97.9
B33: 早期栽培計 | D33: 99
C34: 広域沿海 | D34: 99
B35: 普通栽培計 | D35: 98.2
C36: 広域沿海 | D36: 97.7
C37: 広域霧島 | D37: 98.5
C38: 西北山間 | D38: 97.9
A39: 鹿児島 | D39: 98.5
C40: 薩摩半島 | D40: 98
C41: 出水薩摩 | D41: 98.6
C42: 伊佐姶良 | D42: 98.3
C43: 大隅半島 | D43: 98.5
C44: 熊毛・大島 | D44: 99.3
B45: 早期栽培計 | D45: 98.6
C46: 薩摩半島 | D46: 98.4
C47: 大隅半島 | D47: 98.6
C48: 熊毛・大島 | D48: 99.3
B49: 普通栽培計 | D49: 98.3
C50: 薩摩半島 | D50: 98
C51: 出水薩摩 | D51: 98.6
C52: 伊佐姶良 | D52: 98.3
C53: 大隅半島 | D53: 98.3
B55: 注：１ 作況標本筆のデータにより取りまとめたものである。
B56: ２ 1.70mmのふるい目幅で選別された10ａ当たり玄米重及び粗玄米重より推計したものである。

Sheet 統計表10
J2: 目次へ戻る
A3: 10 令和７年産水稲の作柄表示地帯別10ａ当たり収量及び作況単収指数
B4: （生産者が使用しているふるい目幅ベース）
A7: 区 分 | D7: 10ａ当たり収量 | E7: 対前年比 | F7: 作況単収指数
D8: ㎏ | E8: ％
A9: 福岡 | D9: 478 | E9: 108 | F9: 107
C10: 福 岡 | D10: 474 | E10: 110 | F10: 109
C11: 北 東 部 | D11: 468 | E11: 110 | F11: 106
C12: 筑 後 | D12: 487 | E12: 106 | F12: 107
A13: 佐賀 | D13: 515 | E13: 107 | F13: 107
C14: 佐 賀 | D14: 516 | E14: 105 | F14: 105
C15: 松 浦 | D15: 512 | E15: 116 | F15: 114
A16: 長崎 | D16: 492 | E16: 104 | F16: 107
C17: 南 部 | D17: 513 | E17: 104 | F17: 108
C18: 北 部 | D18: 464 | E18: 106 | F18: 107
C19: 五 島 | D19: 388 | E19: 101 | F19: 102
C20: 壱岐・対馬 | D20: 491 | E20: 103 | F20: 105
A21: 熊本 | D21: 504 | E21: 103 | F21: 107
C22: 県 北 | D22: 514 | E22: 104 | F22: 108
C23: 阿 蘇 | D23: 493 | E23: 100 | F23: 107
C24: 県 南 | D24: 501 | E24: 103 | F24: 107
C25: 天 草 | D25: 437 | E25: 104 | F25: 104
A26: 大分 | D26: 488 | E26: 106 | F26: 107
C27: 北 部 | D27: 497 | E27: 108 | F27: 108
C28: 湾 岸 | D28: 490 | E28: 107 | F28: 109
C29: 南 部 | D29: 478 | E29: 104 | F29: 105
C30: 日 田 | D30: 484 | E30: 103 | F30: 105
A31: 宮崎 | D31: 483 | E31: 103 | F31: 102
C32: 広域沿海 | D32: 471 | E32: 104 | F32: 102
C33: 広域霧島 | D33: 508 | E33: 103 | F33: 103
C34: 西北山間 | D34: 445 | E34: 103 | F34: 103
B35: 早期栽培計 | D35: 482 | E35: 105 | F35: 102
C36: 広域沿海 | D36: 482 | E36: 105 | F36: 102
B37: 普通栽培計 | D37: 484 | E37: 103 | F37: 103
C38: 広域沿海 | D38: 446 | E38: 102 | F38: 103
C39: 広域霧島 | D39: 508 | E39: 103 | F39: 103
C40: 西北山間 | D40: 445 | E40: 103 | F40: 103
A41: 鹿児島 | D41: 484 | E41: 107 | F41: 105
C42: 薩摩半島 | D42: 460 | E42: 109 | F42: 106
C43: 出水薩摩 | D43: 488 | E43: 106 | F43: 103
C44: 伊佐姶良 | D44: 501 | E44: 107 | F44: 107
C45: 大隅半島 | D45: 489 | E45: 107 | F45: 106
C46: 熊毛・大島 | D46: 404 | E46: 103 | F46: 102
B47: 早期栽培計 | D47: 466 | E47: 107 | F47: 104
C48: 薩摩半島 | D48: 458 | E48: 108 | F48: 109
C49: 大隅半島 | D49: 490 | E49: 107 | F49: 102
C50: 熊毛・大島 | D50: 404 | E50: 103 | F50: 102
B51: 普通栽培計 | D51: 490 | E51: 107 | F51: 105
C52: 薩摩半島 | D52: 462 | E52: 109 | F52: 105
C53: 出水薩摩 | D53: 488 | E53: 106 | F53: 103
C54: 伊佐姶良 | D54: 501 | E54: 107 | F54: 107
C55: 大隅半島 | D55: 488 | E55: 106 | F55: 109
B57: 注：１ 対前年比は、前年産10ａ当たり収量に対する当年産10ａ当たり収量の比率であり、各県ごとに、過去５か年に生産者が
B58: 使用したふるい目幅の分布において、最も多い使用割合の目幅で選別された玄米を基に算出した数値である。
B59: ２ 宮崎県及び鹿児島県の対前年比は、早期栽培と普通栽培を合算したものである。
B60: ３ 作況単収指数は、生産者が使用しているふるい目幅ベースで算出した10ａ当たり収量の前年産までの５か年中３年平均
C61: （最高、最低除く）に対する10ａ当たり収量の比率である。

Sheet 調査の概要
A1: 目次へ戻る
A3: 調査の概要
B5: 本調査の「調査の概要」は、農林水産省ホームページの「統計情報」の次のURLから御覧いただけます。
B7: ・面積調査
B8: https://www.maff.go.jp/j/tokei/kouhyou/sakumotu/menseki/gaiyou/
B9: ・作況調査（水陸稲、麦類、大豆、そば、かんしょ、飼料作物、工芸農作物）
B10: https://www.maff.go.jp/j/tokei/kouhyou/sakumotu/sakkyou_kome/gaiyou/
B13: なお、調査対象数、10ａ当たり収量及び収穫量（主食用（生産者ふるい上米））の算出に用いるふるい目幅は以下のとおり。
B15: １ 調査対象数
B16: 予想収穫量調査
B17: 作況標本筆：1,300筆
B20: ２ 令和７年産の10ａ当たり収量及び収穫量（主食用（生産者ふるい上米））の算出に用いるふるい目幅

Sheet ×【配布】統計表６（修正）
A1: ６ 令和７年産水稲における生産者が使用したふるい目幅の分布
A2: 【令和７年産水稲作況標本（基準）筆生産者からの聞取り結果】
I3: 単位：％
A4: 全国農業地域 ・ 都 道 府 県 | C4: 計 | D4: 1.70㎜以上 1.75mm未満 | E4: 1.75 ～1.80 | F4: 1.80 ～1.85 | G4: 1.85 ～1.90 | H4: 1.90 ～2.00 | I4: 2.00㎜ 以 上
A7: 全国 | C7: ='×統計表６（修正）'!B9 -> 100 | D7: ='×統計表６（修正）'!C9 -> 0.1 | E7: ='×統計表６（修正）'!D9 -> 1.2 | F7: ='×統計表６（修正）'!E9 -> 23.2 | G7: ='×統計表６（修正）'!F9 -> 38.9 | H7: ='×統計表６（修正）'!G9 -> 36 | I7: ='×統計表６（修正）'!H9 -> 0.6
A8: (全国農業地域)
A9: 北海道 | C9: ='×統計表６（修正）'!B11 -> 0 | D9: ='×統計表６（修正）'!C11 -> 0 | E9: ='×統計表６（修正）'!D11 -> 0 | F9: ='×統計表６（修正）'!E11 -> 0 | G9: ='×統計表６（修正）'!F11 -> 0 | H9: ='×統計表６（修正）'!G11 -> 0 | I9: ='×統計表６（修正）'!H11 -> 0
A10: 東北 | C10: ='×統計表６（修正）'!B12 -> 0 | D10: ='×統計表６（修正）'!C12 -> 0 | E10: ='×統計表６（修正）'!D12 -> 0 | F10: ='×統計表６（修正）'!E12 -> 0 | G10: ='×統計表６（修正）'!F12 -> 0 | H10: ='×統計表６（修正）'!G12 -> 0 | I10: ='×統計表６（修正）'!H12 -> 0
A11: 北陸 | C11: ='×統計表６（修正）'!B13 -> 0 | D11: ='×統計表６（修正）'!C13 -> 0 | E11: ='×統計表６（修正）'!D13 -> 0 | F11: ='×統計表６（修正）'!E13 -> 0 | G11: ='×統計表６（修正）'!F13 -> 0 | H11: ='×統計表６（修正）'!G13 -> 0 | I11: ='×統計表６（修正）'!H13 -> 0
A12: 関東・東山 | C12: ='×統計表６（修正）'!B14 -> 0 | D12: ='×統計表６（修正）'!C14 -> 0 | E12: ='×統計表６（修正）'!D14 -> 0 | F12: ='×統計表６（修正）'!E14 -> 0 | G12: ='×統計表６（修正）'!F14 -> 0 | H12: ='×統計表６（修正）'!G14 -> 0 | I12: ='×統計表６（修正）'!H14 -> 0
A13: 東海 | C13: ='×統計表６（修正）'!B15 -> 0 | D13: ='×統計表６（修正）'!C15 -> 0 | E13: ='×統計表６（修正）'!D15 -> 0 | F13: ='×統計表６（修正）'!E15 -> 0 | G13: ='×統計表６（修正）'!F15 -> 0 | H13: ='×統計表６（修正）'!G15 -> 0 | I13: ='×統計表６（修正）'!H15 -> 0
A14: 近畿 | C14: ='×統計表６（修正）'!B16 -> 0 | D14: ='×統計表６（修正）'!C16 -> 0 | E14: ='×統計表６（修正）'!D16 -> 0 | F14: ='×統計表６（修正）'!E16 -> 0 | G14: ='×統計表６（修正）'!F16 -> 0 | H14: ='×統計表６（修正）'!G16 -> 0 | I14: ='×統計表６（修正）'!H16 -> 0
A15: 中国 | C15: ='×統計表６（修正）'!B17 -> 0 | D15: ='×統計表６（修正）'!C17 -> 0 | E15: ='×統計表６（修正）'!D17 -> 0 | F15: ='×統計表６（修正）'!E17 -> 0 | G15: ='×統計表６（修正）'!F17 -> 0 | H15: ='×統計表６（修正）'!G17 -> 0 | I15: ='×統計表６（修正）'!H17 -> 0
A16: 四国 | C16: ='×統計表６（修正）'!B18 -> 0 | D16: ='×統計表６（修正）'!C18 -> 0 | E16: ='×統計表６（修正）'!D18 -> 0 | F16: ='×統計表６（修正）'!E18 -> 0 | G16: ='×統計表６（修正）'!F18 -> 0 | H16: ='×統計表６（修正）'!G18 -> 0 | I16: ='×統計表６（修正）'!H18 -> 0
A17: 九州 | C17: ='×統計表６（修正）'!B19 -> 0 | D17: ='×統計表６（修正）'!C19 -> 0 | E17: ='×統計表６（修正）'!D19 -> 0 | F17: ='×統計表６（修正）'!E19 -> 0 | G17: ='×統計表６（修正）'!F19 -> 0 | H17: ='×統計表６（修正）'!G19 -> 0 | I17: ='×統計表６（修正）'!H19 -> 0
A18: 沖縄 | C18: ='×統計表６（修正）'!B20 -> 0 | D18: ='×統計表６（修正）'!C20 -> 0 | E18: ='×統計表６（修正）'!D20 -> 0 | F18: ='×統計表６（修正）'!E20 -> 0 | G18: ='×統計表６（修正）'!F20 -> 0 | H18: ='×統計表６（修正）'!G20 -> 0 | I18: ='×統計表６（修正）'!H20 -> 0
A19: (都道府県)
A20: 北海道 | C20: ='×統計表６（修正）'!B22 -> 100 | D20: ='×統計表６（修正）'!C22 -> 0.2 | E20: ='×統計表６（修正）'!D22 -> - | F20: ='×統計表６（修正）'!E22 -> 0.8 | G20: ='×統計表６（修正）'!F22 -> 21 | H20: ='×統計表６（修正）'!G22 -> 75.7 | I20: ='×統計表６（修正）'!H22 -> 2.3
A21: 青森 | C21: ='×統計表６（修正）'!B23 -> 100 | D21: ='×統計表６（修正）'!C23 -> - | E21: ='×統計表６（修正）'!D23 -> - | F21: ='×統計表６（修正）'!E23 -> - | G21: ='×統計表６（修正）'!F23 -> 1.1 | H21: ='×統計表６（修正）'!G23 -> 98.9 | I21: ='×統計表６（修正）'!H23 -> -
A22: 岩手 | C22: ='×統計表６（修正）'!B24 -> 100 | D22: ='×統計表６（修正）'!C24 -> - | E22: ='×統計表６（修正）'!D24 -> - | F22: ='×統計表６（修正）'!E24 -> 0.7 | G22: ='×統計表６（修正）'!F24 -> 2.5 | H22: ='×統計表６（修正）'!G24 -> 96.8 | I22: ='×統計表６（修正）'!H24 -> -
A23: 宮城 | C23: ='×統計表６（修正）'!B25 -> 100 | D23: ='×統計表６（修正）'!C25 -> - | E23: ='×統計表６（修正）'!D25 -> - | F23: ='×統計表６（修正）'!E25 -> - | G23: ='×統計表６（修正）'!F25 -> 5.9 | H23: ='×統計表６（修正）'!G25 -> 94.1 | I23: ='×統計表６（修正）'!H25 -> -
A24: 秋田 | C24: ='×統計表６（修正）'!B26 -> 100 | D24: ='×統計表６（修正）'!C26 -> - | E24: ='×統計表６（修正）'!D26 -> - | F24: ='×統計表６（修正）'!E26 -> 0.8 | G24: ='×統計表６（修正）'!F26 -> 15 | H24: ='×統計表６（修正）'!G26 -> 83.8 | I24: ='×統計表６（修正）'!H26 -> 0.4
A25: 山形 | C25: ='×統計表６（修正）'!B27 -> 100 | D25: ='×統計表６（修正）'!C27 -> - | E25: ='×統計表６（修正）'!D27 -> - | F25: ='×統計表６（修正）'!E27 -> 0.4 | G25: ='×統計表６（修正）'!F27 -> 14.7 | H25: ='×統計表６（修正）'!G27 -> 84.9 | I25: ='×統計表６（修正）'!H27 -> -
A26: 福島 | C26: ='×統計表６（修正）'!B28 -> 100 | D26: ='×統計表６（修正）'!C28 -> - | E26: ='×統計表６（修正）'!D28 -> - | F26: ='×統計表６（修正）'!E28 -> 0.8 | G26: ='×統計表６（修正）'!F28 -> 62.4 | H26: ='×統計表６（修正）'!G28 -> 36.8 | I26: ='×統計表６（修正）'!H28 -> -
A27: 茨城 | C27: ='×統計表６（修正）'!B29 -> 100 | D27: ='×統計表６（修正）'!C29 -> - | E27: ='×統計表６（修正）'!D29 -> - | F27: ='×統計表６（修正）'!E29 -> 10 | G27: ='×統計表６（修正）'!F29 -> 89 | H27: ='×統計表６（修正）'!G29 -> 1 | I27: ='×統計表６（修正）'!H29 -> -
A28: 栃木 | C28: ='×統計表６（修正）'!B30 -> 100 | D28: ='×統計表６（修正）'!C30 -> - | E28: ='×統計表６（修正）'!D30 -> 0.9 | F28: ='×統計表６（修正）'!E30 -> 3.8 | G28: ='×統計表６（修正）'!F30 -> 94.9 | H28: ='×統計表６（修正）'!G30 -> - | I28: ='×統計表６（修正）'!H30 -> 0.4
A29: 群馬 | C29: ='×統計表６（修正）'!B31 -> 100 | D29: ='×統計表６（修正）'!C31 -> 0.9 | E29: ='×統計表６（修正）'!D31 -> 3.7 | F29: ='×統計表６（修正）'!E31 -> 87.9 | G29: ='×統計表６（修正）'!F31 -> 5.6 | H29: ='×統計表６（修正）'!G31 -> 1.9 | I29: ='×統計表６（修正）'!H31 -> -
A30: 埼玉 | C30: ='×統計表６（修正）'!B32 -> 100 | D30: ='×統計表６（修正）'!C32 -> 1.9 | E30: ='×統計表６（修正）'!D32 -> 18.7 | F30: ='×統計表６（修正）'!E32 -> 71.7 | G30: ='×統計表６（修正）'!F32 -> 7.7 | H30: ='×統計表６（修正）'!G32 -> - | I30: ='×統計表６（修正）'!H32 -> -
A31: 千葉 | C31: ='×統計表６（修正）'!B33 -> 100 | D31: ='×統計表６（修正）'!C33 -> - | E31: ='×統計表６（修正）'!D33 -> 0.9 | F31: ='×統計表６（修正）'!E33 -> 86.8 | G31: ='×統計表６（修正）'!F33 -> 11.4 | H31: ='×統計表６（修正）'!G33 -> 0.9 | I31: ='×統計表６（修正）'!H33 -> -
... A66: 沖縄 | C66: ='×統計表６（修正）'!B68 -> 100 | D66: ='×統計表６（修正）'!C68 -> - | E66: ='×統計表６（修正）'!D68 -> 25 | F66: ='×統計表６（修正）'!E68 -> 75 | G66: ='×統計表６（修正）'!F68 -> - | H66: ='×統計表６（修正）'!G68 -> - | I66: ='×統計表６（修正）'!H68 -> -
A68: 注： 生産者が使用したふるい目幅の分布とは、水稲作況標本（基準）筆生産者が使用したふるい目幅別の生産者数 割合を示したものである。

Sheet ×【配布】統計表８（修正）
A1: 10 令和７年産水稲の作柄表示地帯別10ａ当たり収量対前年比 | U1: 10 令和７年産水稲の作柄表示地帯別10ａ当たり収量対前年比
B2: （10月25日現在）（生産者が使用しているふるい目幅ベース） | V2: （10月25日現在）（生産者が使用しているふるい目幅ベース）（続き）
R3: 単位：％ | AL3: 単位：％
A4: 都道府県 （対前年比） | D4: 作柄表示地帯 | G4: 対前年比 | J4: 都道府県 | M4: 作柄表示地帯 | P4: 対前年比 | U4: 都道府県 （対前年比） | X4: 作柄表示地帯 | AA4: 対前年比 | AD4: 都道府県 | AG4: 作柄表示地帯 | AJ4: 対前年比
B6: 北海道 | E6: 石狩 | H6: 103 | K6: 埼玉 | N6: 東部 | Q6: 96 | V6: 三重 | Y6: 北勢 | AB6: 99 | AE6: 高知 | AH6: 中東部 | AK6: 101
B7: 103 | E7: 南空知 | H7: 103 | K7: 97 | N7: 西部 | Q7: 98 | V7: 98 | Y7: 中勢 | AB7: 98 | AE7: 100 | AH7: 西部 | AK7: 97
E8: 北空知 | H8: 103 | Y8: 南勢 | AB8: 98
E9: 上川 | H9: 104 | K9: 千葉 | N9: 京葉 | Q9: 102 | Y9: 伊賀 | AB9: 97 | AE9: 福岡 | AH9: 福岡 | AK9: 97
E10: 留萌 | H10: 105 | K10: 105 | N10: 九十九里 | Q10: 106 | AE10: 98 | AH10: 北東部 | AK10: 94
E11: 渡島・檜山 | H11: 104 | N11: 南房総 | Q11: 106 | V11: 滋賀 | Y11: 湖南 | AB11: 100 | AH11: 筑後 | AK11: 101
E12: 後志 | H12: 102 | V12: 100 | Y12: 湖北 | AB12: 100
E13: 胆振・日高 | H13: 102 | K13: 東京 | N13: - | Q13: 100 | AE13: 佐賀 | AH13: 佐賀 | AK13: 99
E14: オホーツク・十勝 | H14: 109 | K14: 100 | V14: 京都 | Y14: 南部 | AB14: 108 | AE14: 99 | AH14: 松浦 | AK14: 96
V15: 104 | Y15: 北部 | AB15: 100
B16: 青森 | E16: 青森 | H16: 103 | K16: 神奈川 | N16: - | Q16: 97 | AE16: 長崎 | AH16: 南部 | AK16: 102
B17: 103 | E17: 津軽 | H17: 103 | K17: 97 | V17: 大阪 | Y17: - | AB17: 99 | AE17: 102 | AH17: 北部 | AK17: 102
E18: 南部・下北 | H18: 106 | V18: 99 | AH18: 五島 | AK18: 96
K19: 新潟 | N19: 下越 | Q19: 97 | AH19: 壱岐・対馬 | AK19: 97
B20: 岩手 | E20: 北上川上流 | H20: 107 | K20: 98 | N20: 中越 | Q20: 99 | V20: 兵庫 | Y20: 県南 | AB20: 99
B21: 106 | E21: 北上川下流 | H21: 105 | N21: 上越 | Q21: 101 | V21: 99 | Y21: 県北 | AB21: 100 | AE21: 熊本 | AH21: 県北 | AK21: 101
E22: 東部 | H22: 108 | N22: 佐渡 | Q22: 95 | Y22: 淡路 | AB22: 103 | AE22: 102 | AH22: 阿蘇 | AK22: 105
E23: 北部 | H23: 108 | AH23: 県南 | AK23: 101
K24: 富山 | N24: - | Q24: 99 | V24: 奈良 | Y24: - | AB24: 103 | AH24: 天草 | AK24: 100
B25: 宮城 | E25: 南部 | H25: 106 | K25: 99 | V25: 103
B26: 107 | E26: 中部 | H26: 106 | AE26: 大分 | AH26: 北部 | AK26: 98
E27: 北部 | H27: 107 | K27: 石川 | N27: 加賀 | Q27: 101 | V27: 和歌山 | Y27: - | AB27: 102 | AE27: 101 | AH27: 湾岸 | AK27: 103
E28: 東部 | H28: 107 | K28: 99 | N28: 能登 | Q28: 96 | V28: 102 | AH28: 南部 | AK28: 102
AH29: 日田 | AK29: 102
B30: 秋田 | E30: 県北 | H30: 103 | K30: 福井 | N30: 嶺北 | Q30: 102 | V30: 鳥取 | Y30: 東部 | AB30: 100
B31: 102 | E31: 県中央 | H31: 100 | K31: 102 | N31: 嶺南 | Q31: 101 | V31: 99 | Y31: 西部 | AB31: 99 | AE31: 宮崎 | AH31: 広域沿海 | AK31: 97
E32: 県南 | H32: 103 | AE32: 97 | AH32: 広域霧島 | AK32: 96
K33: 山梨 | N33: - | Q33: 100 | V33: 島根 | Y33: 出雲 | AB33: 101 | AH33: 西北山間 | AK33: 93
B34: 山形 | E34: 村山 | H34: 101 | K34: 100 | V34: 100 | Y34: 石見 | AB34: 98
B35: 97 | E35: 最上 | H35: 94 | AE35: 鹿児島 | AH35: 薩摩半島 | AK35: 95
E36: 置賜 | H36: 100 | K36: 長野 | N36: 東信 | Q36: 101 | V36: 岡山 | Y36: 南部 | AB36: 101 | AE36: 97 | AH36: 出水薩摩 | AK36: 95
E37: 庄内 | H37: 94 | K37: 101 | N37: 南信 | Q37: 100 | V37: 99 | Y37: 中北部 | AB37: 96 | AH37: 伊佐姶良 | AK37: 97
N38: 中信 | Q38: 101 | AH38: 大隅半島 | AK38: 98
B39: 福島 | E39: 中通り | H39: 103 | N39: 北信 | Q39: 100 | V39: 広島 | Y39: 南部 | AB39: 106 | AH39: 熊毛・大島 | AK39: 96
B40: 102 | E40: 浜通り | H40: 104 | V40: 101 | Y40: 北部 | AB40: 98
E41: 会津 | H41: 102 | K41: 岐阜 | N41: 西南濃 | Q41: 100 | AE41: 沖縄 | AH41: 沖縄諸島 | AK41: 106
K42: 100 | N42: 中濃 | Q42: 98 | V42: 山口 | Y42: 東部 | AB42: 101 | AE42: 105 | AH42: 八重山 | AK42: 104
B43: 茨城 | E43: 北部・鹿行 | H43: 103 | N43: 東濃 | Q43: 98 | V43: 103 | Y43: 西部 | AB43: 103
B44: 103 | E44: 南部・西部 | H44: 104 | N44: 飛騨 | Q44: 100 | Y44: 長北 | AB44: 104
B46: 栃木 | E46: 北部 | H46: 101 | K46: 静岡 | N46: - | Q46: 95 | V46: 徳島 | Y46: 北部 | AB46: 100
B47: 101 | E47: 中部 | H47: 103 | K47: 95 | V47: 100 | Y47: 南部 | AB47: 99
E48: 南部 | H48: 100
K49: 愛知 | N49: 尾張 | Q49: 99 | V49: 香川 | Y49: - | AB49: 100
B50: 群馬 | E50: 中毛 | H50: 101 | K50: 99 | N50: 西三河 | Q50: 100 | V50: 100
B51: 100 | E51: 北毛 | H51: 101 | N51: 東三河 | Q51: 100
E52: 東毛 | H52: 99 | V52: 愛媛 | Y52: 東予 | AB52: 103
V53: 102 | Y53: 中予 | AB53: 101
Y54: 南予 | AB54: 102
A56: 注：１ 対前年比は、前年産10ａ当たり収量に対する当年産10ａ当たり予想収量の比率であり、都道府 県ごとに、過去５か年に農家等が使用したふるい目幅の分布において、最も多い使用割合の目幅 で選別された玄米を基に算出した数値である。 | U56: ２ 徳島県、高知県、宮崎県、鹿児島県及び沖縄県の対前年比は、早期栽培（第一期稲）と普通栽培 （第二期稲）を合算したものである。 また、沖縄県の第二期稲は未確定の要素が多いことから、沖縄県の対前年比の算出には、第一期 稲の10ａ当たり収量と第二期稲の10ａ当たり平均収量の加重平均を用いた。
