Workbook
Name ゴルフ場所在地1: 農薬使用計画書!$AC$18
Name ゴルフ場所在地2: 農薬使用計画書!$AC$26
Name ゴルフ場所在地3: 農薬使用計画書!$AC$32
Name ゴルフ場所在地4: 農薬使用計画書!$AC$38
Name ゴルフ場所在地5: 農薬使用計画書!$AC$44
Name ゴルフ場名称1: 農薬使用計画書!$AC$17
Name ゴルフ場名称2: 農薬使用計画書!$AC$25
Name ゴルフ場名称3: 農薬使用計画書!$AC$31
Name ゴルフ場名称4: 農薬使用計画書!$AC$37
Name ゴルフ場名称5: 農薬使用計画書!$AC$43
Name 会社住所: 農薬使用計画書!$AC$10
Name 会社名称: 農薬使用計画書!$AC$11
Name 開始: 農薬使用計画書!$AE$7:$AE$11
Name 開始年月日1: 農薬使用計画書!$AC$19
Name 開始年月日2: 農薬使用計画書!$AC$27
Name 開始年月日3: 農薬使用計画書!$AC$33
Name 開始年月日4: 農薬使用計画書!$AC$39
Name 開始年月日5: 農薬使用計画書!$AC$45
Name 氏名: 農薬使用計画書!$AC$13
Name 終了年月日1: 農薬使用計画書!$AC$20
Name 終了年月日2: 農薬使用計画書!$AC$28
Name 終了年月日3: 農薬使用計画書!$AC$34
Name 終了年月日4: 農薬使用計画書!$AC$40
Name 終了年月日5: 農薬使用計画書!$AC$46
Name 提出年月日: 農薬使用計画書!$AC$9
Name 役職名: 農薬使用計画書!$AC$12

Sheet 農薬使用計画書
AB2: ※日付を入力する際は、「2023/4/1」又は「令和5年4月1日」の形式で入力してください。 ※日付中の数字は半角で入力してください
AJ3: =IF(AC8="新規","＝",IF(AC8="変更","◯",""))
B5: 農 薬 使 用 計 画 書 （ 変 更 ）
AE6: 開始
Z7: 最近の開始日 | AA7: =IFERROR(SMALL(開始,COUNTIF(開始,0)+1),"") | AB7: 【入力欄】 | AE7: =開始年月日1 -> 0
P8: =IF(提出年月日=0," 年 月 日",DBCS(TEXT(提出年月日,"ggge年m月d日"))) -> 年 月 日 | Z8: 県フラグ | AA8: =SUM(COUNTIF(会社住所,{"北海道*","青森県*","岩手県*","宮城県*","秋田県*","山形県*","福島県*","茨城県*","栃木県*","群馬県*","埼玉県*","千葉県*","東京都*","神奈川県*","新潟県*","富山県*","石川県*","福井県*","山梨県*","長野県*","岐阜県*","静岡県*","愛知県*","三重県*","滋賀県*","京都府*","大阪府*","兵庫県*","奈良県*","和歌山県*","鳥取県*","島根県*","岡山県*","広島県*","山口県*","徳島県*","香川県*","愛媛県*","高知県*","福岡県*","佐賀県*","長崎県*","熊本県*","大分県*","宮崎県*","鹿児島県*","沖縄県*"})) -> 0 | AB8: 届出の種類 | AE8: =開始年月日2 -> 0
AB9: 提出年月日 | AE9: =開始年月日3 -> 0
AB10: 会社住所 | AE10: =開始年月日4 -> 0
C11: 農林水産大臣 殿 | AB11: 会社名称 | AE11: =開始年月日5 -> 0
AB12: 役職名
C13: 環境大臣 殿 | AB13: 氏名
J15: 住所 | M15: =IF(会社住所=0,"",会社住所)
J16: 氏名 | M16: =IF(会社名称=0,"",会社名称) | Z16: 県フラグ | AA16: =SUM(COUNTIF(AC18,{"北海道*","青森県*","岩手県*","宮城県*","秋田県*","山形県*","福島県*","茨城県*","栃木県*","群馬県*","埼玉県*","千葉県*","東京都*","神奈川県*","新潟県*","富山県*","石川県*","福井県*","山梨県*","長野県*","岐阜県*","静岡県*","愛知県*","三重県*","滋賀県*","京都府*","大阪府*","兵庫県*","奈良県*","和歌山県*","鳥取県*","島根県*","岡山県*","広島県*","山口県*","徳島県*","香川県*","愛媛県*","高知県*","福岡県*","佐賀県*","長崎県*","熊本県*","大分県*","宮崎県*","鹿児島県*","沖縄県*"})) -> 0 | AB16: 【別紙入力欄】
M17: =IF(役職名=0,"",役職名) | P17: =IF(氏名=0,"",氏名) | AB17: ゴルフ場の名称
AB18: ゴルフ場の所在地
AB19: 農薬使用計画 開始年月日
AB20: 農薬使用計画 終了年月日
B21: 農薬を使用する者が遵守すべき基準を定める省令第５条に基づき、
AB22: ※複数のゴルフ場について提出する場合、２つ目以降は以下に記載して下さい。
B23: =IF(ゴルフ場名称2="","別紙のとおり提出します。",IF(ゴルフ場名称3="","別紙1～2のとおり提出します。",IF(ゴルフ場名称4="","別紙1～3のとおり提出します。",IF(ゴルフ場名称5="","別紙1～4のとおり提出します。","別紙1～5のとおり提出します。")))) -> 別紙のとおり提出します。
Z24: 県フラグ | AA24: =SUM(COUNTIF(AC26,{"北海道*","青森県*","岩手県*","宮城県*","秋田県*","山形県*","福島県*","茨城県*","栃木県*","群馬県*","埼玉県*","千葉県*","東京都*","神奈川県*","新潟県*","富山県*","石川県*","福井県*","山梨県*","長野県*","岐阜県*","静岡県*","愛知県*","三重県*","滋賀県*","京都府*","大阪府*","兵庫県*","奈良県*","和歌山県*","鳥取県*","島根県*","岡山県*","広島県*","山口県*","徳島県*","香川県*","愛媛県*","高知県*","福岡県*","佐賀県*","長崎県*","熊本県*","大分県*","宮崎県*","鹿児島県*","沖縄県*"})) -> 0 | AB24: 【別紙２入力欄】
AB25: ゴルフ場の名称
AB26: ゴルフ場の所在地
AB27: 農薬使用計画 開始年月日
AB28: 農薬使用計画 終了年月日
Z30: 県フラグ | AA30: =SUM(COUNTIF(AC32,{"北海道*","青森県*","岩手県*","宮城県*","秋田県*","山形県*","福島県*","茨城県*","栃木県*","群馬県*","埼玉県*","千葉県*","東京都*","神奈川県*","新潟県*","富山県*","石川県*","福井県*","山梨県*","長野県*","岐阜県*","静岡県*","愛知県*","三重県*","滋賀県*","京都府*","大阪府*","兵庫県*","奈良県*","和歌山県*","鳥取県*","島根県*","岡山県*","広島県*","山口県*","徳島県*","香川県*","愛媛県*","高知県*","福岡県*","佐賀県*","長崎県*","熊本県*","大分県*","宮崎県*","鹿児島県*","沖縄県*"})) -> 0 | AB30: 【別紙３入力欄】
AB31: ゴルフ場の名称
AB32: ゴルフ場の所在地
AB33: 農薬使用計画 開始年月日
AB34: 農薬使用計画 終了年月日
Z36: 県フラグ | AA36: =SUM(COUNTIF(AC38,{"北海道*","青森県*","岩手県*","宮城県*","秋田県*","山形県*","福島県*","茨城県*","栃木県*","群馬県*","埼玉県*","千葉県*","東京都*","神奈川県*","新潟県*","富山県*","石川県*","福井県*","山梨県*","長野県*","岐阜県*","静岡県*","愛知県*","三重県*","滋賀県*","京都府*","大阪府*","兵庫県*","奈良県*","和歌山県*","鳥取県*","島根県*","岡山県*","広島県*","山口県*","徳島県*","香川県*","愛媛県*","高知県*","福岡県*","佐賀県*","長崎県*","熊本県*","大分県*","宮崎県*","鹿児島県*","沖縄県*"})) -> 0 | AB36: 【別紙４入力欄】
AB37: ゴルフ場の名称
AB38: ゴルフ場の所在地
AB39: 農薬使用計画 開始年月日
AB40: 農薬使用計画 終了年月日
Z42: 県フラグ | AA42: =SUM(COUNTIF(AC44,{"北海道*","青森県*","岩手県*","宮城県*","秋田県*","山形県*","福島県*","茨城県*","栃木県*","群馬県*","埼玉県*","千葉県*","東京都*","神奈川県*","新潟県*","富山県*","石川県*","福井県*","山梨県*","長野県*","岐阜県*","静岡県*","愛知県*","三重県*","滋賀県*","京都府*","大阪府*","兵庫県*","奈良県*","和歌山県*","鳥取県*","島根県*","岡山県*","広島県*","山口県*","徳島県*","香川県*","愛媛県*","高知県*","福岡県*","佐賀県*","長崎県*","熊本県*","大分県*","宮崎県*","鹿児島県*","沖縄県*"})) -> 0 | AB42: 【別紙５入力欄】
AB43: ゴルフ場の名称
AB44: ゴルフ場の所在地
AB45: 農薬使用計画 開始年月日
AB46: 農薬使用計画 終了年月日

Sheet 別紙
B2: =IF(ゴルフ場名称2="","（別紙）","（別紙1）") -> （別紙）
E4: ゴルフ場の名称 | G4: =IF(ゴルフ場名称1=0,"",ゴルフ場名称1)
E7: ゴルフ場の所在地 | G7: =IF(ゴルフ場所在地1=0,"",ゴルフ場所在地1)
C10: =IF(OR(開始年月日1=0,終了年月日1=0)," 年 月 日～ 年 月 日までの農薬使用計画は、以下のとおりです。",IF(終了年月日1<開始年月日1,"終了年月日が、開始年月日以前で間違いです！",CONCATENATE(" ",TEXT(開始年月日1,"ggge年m月d日"),"～ ",TEXT(終了年月日1,"ggge年m月d日"),"までの農薬使用計画は、以下のとおりです。"))) -> 年 月 日～ 年 月 日までの農薬使用計画は、以下のとおりです。
A12: 登録番号 入力 | C12: 使用予定の農薬 | G12: 使用方法 | H12: 使用する対象
C13: 農薬の名称 | D13: （登録番号） | E13: 農薬の種類 | F13: 用途 | K13: 使用する対象リスト | M13: 使用方法リスト
C14: =IF(A14="","",VLOOKUP(A14,HPダウンロード情報!$A:$D,3,FALSE)) | D14: =IF(A14="","",A14) | E14: =IF(A14="","",VLOOKUP(A14,HPダウンロード情報!$A:$D,2,FALSE)) | F14: =IF(A14="","",IF(E14="展着剤",E14,VLOOKUP(A14,HPダウンロード情報!$A:$D,4,FALSE))) | K14: 芝(Ｇ) | M14: 散布
C15: =IF(A15="","",VLOOKUP(A15,HPダウンロード情報!$A:$D,3,FALSE)) | D15: =IF(A15="","",A15) | E15: =IF(A15="","",VLOOKUP(A15,HPダウンロード情報!$A:$D,2,FALSE)) | F15: =IF(A15="","",IF(E15="展着剤",E15,VLOOKUP(A15,HPダウンロード情報!$A:$D,4,FALSE))) | K15: 芝(Ｇ､Ｔ､Ｆ､Ｒ) | M15: 添加
C16: =IF(A16="","",VLOOKUP(A16,HPダウンロード情報!$A:$D,3,FALSE)) | D16: =IF(A16="","",A16) | E16: =IF(A16="","",VLOOKUP(A16,HPダウンロード情報!$A:$D,2,FALSE)) | F16: =IF(A16="","",IF(E16="展着剤",E16,VLOOKUP(A16,HPダウンロード情報!$A:$D,4,FALSE))) | K16: 芝(Ｇ､Ｔ､Ｆ) | M16: 土壌注入
C17: =IF(A17="","",VLOOKUP(A17,HPダウンロード情報!$A:$D,3,FALSE)) | D17: =IF(A17="","",A17) | E17: =IF(A17="","",VLOOKUP(A17,HPダウンロード情報!$A:$D,2,FALSE)) | F17: =IF(A17="","",IF(E17="展着剤",E17,VLOOKUP(A17,HPダウンロード情報!$A:$D,4,FALSE))) | K17: 芝(Ｇ､Ｔ､Ｒ) | M17: 土壌混和
C18: =IF(A18="","",VLOOKUP(A18,HPダウンロード情報!$A:$D,3,FALSE)) | D18: =IF(A18="","",A18) | E18: =IF(A18="","",VLOOKUP(A18,HPダウンロード情報!$A:$D,2,FALSE)) | F18: =IF(A18="","",IF(E18="展着剤",E18,VLOOKUP(A18,HPダウンロード情報!$A:$D,4,FALSE))) | K18: 芝(Ｇ､Ｔ) | M18: 灌注
C19: =IF(A19="","",VLOOKUP(A19,HPダウンロード情報!$A:$D,3,FALSE)) | D19: =IF(A19="","",A19) | E19: =IF(A19="","",VLOOKUP(A19,HPダウンロード情報!$A:$D,2,FALSE)) | F19: =IF(A19="","",IF(E19="展着剤",E19,VLOOKUP(A19,HPダウンロード情報!$A:$D,4,FALSE))) | K19: 芝(Ｇ､Ｆ､Ｒ) | M19: 樹幹注入
C20: =IF(A20="","",VLOOKUP(A20,HPダウンロード情報!$A:$D,3,FALSE)) | D20: =IF(A20="","",A20) | E20: =IF(A20="","",VLOOKUP(A20,HPダウンロード情報!$A:$D,2,FALSE)) | F20: =IF(A20="","",IF(E20="展着剤",E20,VLOOKUP(A20,HPダウンロード情報!$A:$D,4,FALSE))) | K20: 芝(Ｇ､Ｆ) | M20: その他
C21: =IF(A21="","",VLOOKUP(A21,HPダウンロード情報!$A:$D,3,FALSE)) | D21: =IF(A21="","",A21) | E21: =IF(A21="","",VLOOKUP(A21,HPダウンロード情報!$A:$D,2,FALSE)) | F21: =IF(A21="","",IF(E21="展着剤",E21,VLOOKUP(A21,HPダウンロード情報!$A:$D,4,FALSE))) | K21: 芝(Ｇ､Ｒ)
C22: =IF(A22="","",VLOOKUP(A22,HPダウンロード情報!$A:$D,3,FALSE)) | D22: =IF(A22="","",A22) | E22: =IF(A22="","",VLOOKUP(A22,HPダウンロード情報!$A:$D,2,FALSE)) | F22: =IF(A22="","",IF(E22="展着剤",E22,VLOOKUP(A22,HPダウンロード情報!$A:$D,4,FALSE))) | K22: 芝(Ｔ)
C23: =IF(A23="","",VLOOKUP(A23,HPダウンロード情報!$A:$D,3,FALSE)) | D23: =IF(A23="","",A23) | E23: =IF(A23="","",VLOOKUP(A23,HPダウンロード情報!$A:$D,2,FALSE)) | F23: =IF(A23="","",IF(E23="展着剤",E23,VLOOKUP(A23,HPダウンロード情報!$A:$D,4,FALSE))) | K23: 芝(Ｔ､Ｆ､Ｒ)
C24: =IF(A24="","",VLOOKUP(A24,HPダウンロード情報!$A:$D,3,FALSE)) | D24: =IF(A24="","",A24) | E24: =IF(A24="","",VLOOKUP(A24,HPダウンロード情報!$A:$D,2,FALSE)) | F24: =IF(A24="","",IF(E24="展着剤",E24,VLOOKUP(A24,HPダウンロード情報!$A:$D,4,FALSE))) | K24: 芝(Ｔ､Ｆ)
C25: =IF(A25="","",VLOOKUP(A25,HPダウンロード情報!$A:$D,3,FALSE)) | D25: =IF(A25="","",A25) | E25: =IF(A25="","",VLOOKUP(A25,HPダウンロード情報!$A:$D,2,FALSE)) | F25: =IF(A25="","",IF(E25="展着剤",E25,VLOOKUP(A25,HPダウンロード情報!$A:$D,4,FALSE))) | K25: 芝(Ｔ､Ｒ)
C26: =IF(A26="","",VLOOKUP(A26,HPダウンロード情報!$A:$D,3,FALSE)) | D26: =IF(A26="","",A26) | E26: =IF(A26="","",VLOOKUP(A26,HPダウンロード情報!$A:$D,2,FALSE)) | F26: =IF(A26="","",IF(E26="展着剤",E26,VLOOKUP(A26,HPダウンロード情報!$A:$D,4,FALSE))) | K26: 芝(Ｆ)
C27: =IF(A27="","",VLOOKUP(A27,HPダウンロード情報!$A:$D,3,FALSE)) | D27: =IF(A27="","",A27) | E27: =IF(A27="","",VLOOKUP(A27,HPダウンロード情報!$A:$D,2,FALSE)) | F27: =IF(A27="","",IF(E27="展着剤",E27,VLOOKUP(A27,HPダウンロード情報!$A:$D,4,FALSE))) | K27: 芝(Ｆ､Ｒ)
C28: =IF(A28="","",VLOOKUP(A28,HPダウンロード情報!$A:$D,3,FALSE)) | D28: =IF(A28="","",A28) | E28: =IF(A28="","",VLOOKUP(A28,HPダウンロード情報!$A:$D,2,FALSE)) | F28: =IF(A28="","",IF(E28="展着剤",E28,VLOOKUP(A28,HPダウンロード情報!$A:$D,4,FALSE))) | K28: 芝(Ｒ)
C29: =IF(A29="","",VLOOKUP(A29,HPダウンロード情報!$A:$D,3,FALSE)) | D29: =IF(A29="","",A29) | E29: =IF(A29="","",VLOOKUP(A29,HPダウンロード情報!$A:$D,2,FALSE)) | F29: =IF(A29="","",IF(E29="展着剤",E29,VLOOKUP(A29,HPダウンロード情報!$A:$D,4,FALSE))) | K29: 樹木類
C30: =IF(A30="","",VLOOKUP(A30,HPダウンロード情報!$A:$D,3,FALSE)) | D30: =IF(A30="","",A30) | E30: =IF(A30="","",VLOOKUP(A30,HPダウンロード情報!$A:$D,2,FALSE)) | F30: =IF(A30="","",IF(E30="展着剤",E30,VLOOKUP(A30,HPダウンロード情報!$A:$D,4,FALSE))) | K30: 樹木等
C31: =IF(A31="","",VLOOKUP(A31,HPダウンロード情報!$A:$D,3,FALSE)) | D31: =IF(A31="","",A31) | E31: =IF(A31="","",VLOOKUP(A31,HPダウンロード情報!$A:$D,2,FALSE)) | F31: =IF(A31="","",IF(E31="展着剤",E31,VLOOKUP(A31,HPダウンロード情報!$A:$D,4,FALSE))) | K31: 芝(生産圃場)
C32: =IF(A32="","",VLOOKUP(A32,HPダウンロード情報!$A:$D,3,FALSE)) | D32: =IF(A32="","",A32) | E32: =IF(A32="","",VLOOKUP(A32,HPダウンロード情報!$A:$D,2,FALSE)) | F32: =IF(A32="","",IF(E32="展着剤",E32,VLOOKUP(A32,HPダウンロード情報!$A:$D,4,FALSE))) | K32: その他
C33: =IF(A33="","",VLOOKUP(A33,HPダウンロード情報!$A:$D,3,FALSE)) | D33: =IF(A33="","",A33) | E33: =IF(A33="","",VLOOKUP(A33,HPダウンロード情報!$A:$D,2,FALSE)) | F33: =IF(A33="","",IF(E33="展着剤",E33,VLOOKUP(A33,HPダウンロード情報!$A:$D,4,FALSE)))
C34: =IF(A34="","",VLOOKUP(A34,HPダウンロード情報!$A:$D,3,FALSE)) | D34: =IF(A34="","",A34) | E34: =IF(A34="","",VLOOKUP(A34,HPダウンロード情報!$A:$D,2,FALSE)) | F34: =IF(A34="","",IF(E34="展着剤",E34,VLOOKUP(A34,HPダウンロード情報!$A:$D,4,FALSE)))
C35: =IF(A35="","",VLOOKUP(A35,HPダウンロード情報!$A:$D,3,FALSE)) | D35: =IF(A35="","",A35) | E35: =IF(A35="","",VLOOKUP(A35,HPダウンロード情報!$A:$D,2,FALSE)) | F35: =IF(A35="","",IF(E35="展着剤",E35,VLOOKUP(A35,HPダウンロード情報!$A:$D,4,FALSE)))
C36: =IF(A36="","",VLOOKUP(A36,HPダウンロード情報!$A:$D,3,FALSE)) | D36: =IF(A36="","",A36) | E36: =IF(A36="","",VLOOKUP(A36,HPダウンロード情報!$A:$D,2,FALSE)) | F36: =IF(A36="","",IF(E36="展着剤",E36,VLOOKUP(A36,HPダウンロード情報!$A:$D,4,FALSE)))
C37: =IF(A37="","",VLOOKUP(A37,HPダウンロード情報!$A:$D,3,FALSE)) | D37: =IF(A37="","",A37) | E37: =IF(A37="","",VLOOKUP(A37,HPダウンロード情報!$A:$D,2,FALSE)) | F37: =IF(A37="","",IF(E37="展着剤",E37,VLOOKUP(A37,HPダウンロード情報!$A:$D,4,FALSE)))
C38: =IF(A38="","",VLOOKUP(A38,HPダウンロード情報!$A:$D,3,FALSE)) | D38: =IF(A38="","",A38) | E38: =IF(A38="","",VLOOKUP(A38,HPダウンロード情報!$A:$D,2,FALSE)) | F38: =IF(A38="","",IF(E38="展着剤",E38,VLOOKUP(A38,HPダウンロード情報!$A:$D,4,FALSE)))
C39: =IF(A39="","",VLOOKUP(A39,HPダウンロード情報!$A:$D,3,FALSE)) | D39: =IF(A39="","",A39) | E39: =IF(A39="","",VLOOKUP(A39,HPダウンロード情報!$A:$D,2,FALSE)) | F39: =IF(A39="","",IF(E39="展着剤",E39,VLOOKUP(A39,HPダウンロード情報!$A:$D,4,FALSE)))
C40: =IF(A40="","",VLOOKUP(A40,HPダウンロード情報!$A:$D,3,FALSE)) | D40: =IF(A40="","",A40) | E40: =IF(A40="","",VLOOKUP(A40,HPダウンロード情報!$A:$D,2,FALSE)) | F40: =IF(A40="","",IF(E40="展着剤",E40,VLOOKUP(A40,HPダウンロード情報!$A:$D,4,FALSE)))
C41: =IF(A41="","",VLOOKUP(A41,HPダウンロード情報!$A:$D,3,FALSE)) | D41: =IF(A41="","",A41) | E41: =IF(A41="","",VLOOKUP(A41,HPダウンロード情報!$A:$D,2,FALSE)) | F41: =IF(A41="","",IF(E41="展着剤",E41,VLOOKUP(A41,HPダウンロード情報!$A:$D,4,FALSE)))
C42: =IF(A42="","",VLOOKUP(A42,HPダウンロード情報!$A:$D,3,FALSE)) | D42: =IF(A42="","",A42) | E42: =IF(A42="","",VLOOKUP(A42,HPダウンロード情報!$A:$D,2,FALSE)) | F42: =IF(A42="","",IF(E42="展着剤",E42,VLOOKUP(A42,HPダウンロード情報!$A:$D,4,FALSE)))
C43: =IF(A43="","",VLOOKUP(A43,HPダウンロード情報!$A:$D,3,FALSE)) | D43: =IF(A43="","",A43) | E43: =IF(A43="","",VLOOKUP(A43,HPダウンロード情報!$A:$D,2,FALSE)) | F43: =IF(A43="","",IF(E43="展着剤",E43,VLOOKUP(A43,HPダウンロード情報!$A:$D,4,FALSE)))
C44: =IF(A44="","",VLOOKUP(A44,HPダウンロード情報!$A:$D,3,FALSE)) | D44: =IF(A44="","",A44) | E44: =IF(A44="","",VLOOKUP(A44,HPダウンロード情報!$A:$D,2,FALSE)) | F44: =IF(A44="","",IF(E44="展着剤",E44,VLOOKUP(A44,HPダウンロード情報!$A:$D,4,FALSE)))
... C138: =IF(A138="","",VLOOKUP(A138,HPダウンロード情報!$A:$D,3,FALSE)) | D138: =IF(A138="","",A138) | E138: =IF(A138="","",VLOOKUP(A138,HPダウンロード情報!$A:$D,2,FALSE)) | F138: =IF(A138="","",IF(E138="展着剤",E138,VLOOKUP(A138,HPダウンロード情報!$A:$D,4,FALSE)))

Sheet 別紙2
B2: =IF(ゴルフ場名称2="","注！別紙2を使用する場合には、農薬使用計画書シートの別紙2入力欄に入力ください。","（別紙2）") -> 注！別紙2を使用する場合には、農薬使用計画書シートの別紙2入力欄に入力ください。
E4: ゴルフ場の名称 | G4: =IF(ゴルフ場名称2=0,"",ゴルフ場名称2)
E7: ゴルフ場の所在地 | G7: =IF(ゴルフ場所在地2=0,"",ゴルフ場所在地2)
C10: =IF(OR(開始年月日2=0,終了年月日2=0),"平成 年 月 日～平成 年 月 日までの農薬使用計画は、以下のとおりです。",IF(終了年月日2<開始年月日2,"終了年月日が、開始年月日以前で間違いです！",CONCATENATE(" ",TEXT(開始年月日2,"ggge年m月d日"),"～ ",TEXT(終了年月日2,"ggge年m月d日"),"までの農薬使用計画は、以下のとおりです。"))) -> 平成 年 月 日～平成 年 月 日までの農薬使用計画は、以下のとおりです。
A12: 登録番号 入力 | C12: 使用予定の農薬 | G12: 使用方法 | H12: 使用する対象
C13: 農薬の名称 | D13: （登録番号） | E13: 農薬の種類 | F13: 用途 | K13: 使用する対象リスト | M13: 使用方法リスト
C14: =IF(A14="","",VLOOKUP(A14,HPダウンロード情報!$A:$D,3,FALSE)) | D14: =IF(A14="","",A14) | E14: =IF(A14="","",VLOOKUP(A14,HPダウンロード情報!$A:$D,2,FALSE)) | F14: =IF(A14="","",IF(E14="展着剤",E14,VLOOKUP(A14,HPダウンロード情報!$A:$D,4,FALSE))) | K14: 芝(Ｇ) | M14: 散布
C15: =IF(A15="","",VLOOKUP(A15,HPダウンロード情報!$A:$D,3,FALSE)) | D15: =IF(A15="","",A15) | E15: =IF(A15="","",VLOOKUP(A15,HPダウンロード情報!$A:$D,2,FALSE)) | F15: =IF(A15="","",IF(E15="展着剤",E15,VLOOKUP(A15,HPダウンロード情報!$A:$D,4,FALSE))) | K15: 芝(Ｇ､Ｔ､Ｆ､Ｒ) | M15: 添加
C16: =IF(A16="","",VLOOKUP(A16,HPダウンロード情報!$A:$D,3,FALSE)) | D16: =IF(A16="","",A16) | E16: =IF(A16="","",VLOOKUP(A16,HPダウンロード情報!$A:$D,2,FALSE)) | F16: =IF(A16="","",IF(E16="展着剤",E16,VLOOKUP(A16,HPダウンロード情報!$A:$D,4,FALSE))) | K16: 芝(Ｇ､Ｔ､Ｆ) | M16: 土壌注入
C17: =IF(A17="","",VLOOKUP(A17,HPダウンロード情報!$A:$D,3,FALSE)) | D17: =IF(A17="","",A17) | E17: =IF(A17="","",VLOOKUP(A17,HPダウンロード情報!$A:$D,2,FALSE)) | F17: =IF(A17="","",IF(E17="展着剤",E17,VLOOKUP(A17,HPダウンロード情報!$A:$D,4,FALSE))) | K17: 芝(Ｇ､Ｔ､Ｒ) | M17: 土壌混和
C18: =IF(A18="","",VLOOKUP(A18,HPダウンロード情報!$A:$D,3,FALSE)) | D18: =IF(A18="","",A18) | E18: =IF(A18="","",VLOOKUP(A18,HPダウンロード情報!$A:$D,2,FALSE)) | F18: =IF(A18="","",IF(E18="展着剤",E18,VLOOKUP(A18,HPダウンロード情報!$A:$D,4,FALSE))) | K18: 芝(Ｇ､Ｔ) | M18: 灌注
C19: =IF(A19="","",VLOOKUP(A19,HPダウンロード情報!$A:$D,3,FALSE)) | D19: =IF(A19="","",A19) | E19: =IF(A19="","",VLOOKUP(A19,HPダウンロード情報!$A:$D,2,FALSE)) | F19: =IF(A19="","",IF(E19="展着剤",E19,VLOOKUP(A19,HPダウンロード情報!$A:$D,4,FALSE))) | K19: 芝(Ｇ､Ｆ､Ｒ) | M19: 樹幹注入
C20: =IF(A20="","",VLOOKUP(A20,HPダウンロード情報!$A:$D,3,FALSE)) | D20: =IF(A20="","",A20) | E20: =IF(A20="","",VLOOKUP(A20,HPダウンロード情報!$A:$D,2,FALSE)) | F20: =IF(A20="","",IF(E20="展着剤",E20,VLOOKUP(A20,HPダウンロード情報!$A:$D,4,FALSE))) | K20: 芝(Ｇ､Ｆ) | M20: その他
C21: =IF(A21="","",VLOOKUP(A21,HPダウンロード情報!$A:$D,3,FALSE)) | D21: =IF(A21="","",A21) | E21: =IF(A21="","",VLOOKUP(A21,HPダウンロード情報!$A:$D,2,FALSE)) | F21: =IF(A21="","",IF(E21="展着剤",E21,VLOOKUP(A21,HPダウンロード情報!$A:$D,4,FALSE))) | K21: 芝(Ｇ､Ｒ)
C22: =IF(A22="","",VLOOKUP(A22,HPダウンロード情報!$A:$D,3,FALSE)) | D22: =IF(A22="","",A22) | E22: =IF(A22="","",VLOOKUP(A22,HPダウンロード情報!$A:$D,2,FALSE)) | F22: =IF(A22="","",IF(E22="展着剤",E22,VLOOKUP(A22,HPダウンロード情報!$A:$D,4,FALSE))) | K22: 芝(Ｔ)
C23: =IF(A23="","",VLOOKUP(A23,HPダウンロード情報!$A:$D,3,FALSE)) | D23: =IF(A23="","",A23) | E23: =IF(A23="","",VLOOKUP(A23,HPダウンロード情報!$A:$D,2,FALSE)) | F23: =IF(A23="","",IF(E23="展着剤",E23,VLOOKUP(A23,HPダウンロード情報!$A:$D,4,FALSE))) | K23: 芝(Ｔ､Ｆ､Ｒ)
C24: =IF(A24="","",VLOOKUP(A24,HPダウンロード情報!$A:$D,3,FALSE)) | D24: =IF(A24="","",A24) | E24: =IF(A24="","",VLOOKUP(A24,HPダウンロード情報!$A:$D,2,FALSE)) | F24: =IF(A24="","",IF(E24="展着剤",E24,VLOOKUP(A24,HPダウンロード情報!$A:$D,4,FALSE))) | K24: 芝(Ｔ､Ｆ)
C25: =IF(A25="","",VLOOKUP(A25,HPダウンロード情報!$A:$D,3,FALSE)) | D25: =IF(A25="","",A25) | E25: =IF(A25="","",VLOOKUP(A25,HPダウンロード情報!$A:$D,2,FALSE)) | F25: =IF(A25="","",IF(E25="展着剤",E25,VLOOKUP(A25,HPダウンロード情報!$A:$D,4,FALSE))) | K25: 芝(Ｔ､Ｒ)
C26: =IF(A26="","",VLOOKUP(A26,HPダウンロード情報!$A:$D,3,FALSE)) | D26: =IF(A26="","",A26) | E26: =IF(A26="","",VLOOKUP(A26,HPダウンロード情報!$A:$D,2,FALSE)) | F26: =IF(A26="","",IF(E26="展着剤",E26,VLOOKUP(A26,HPダウンロード情報!$A:$D,4,FALSE))) | K26: 芝(Ｆ)
C27: =IF(A27="","",VLOOKUP(A27,HPダウンロード情報!$A:$D,3,FALSE)) | D27: =IF(A27="","",A27) | E27: =IF(A27="","",VLOOKUP(A27,HPダウンロード情報!$A:$D,2,FALSE)) | F27: =IF(A27="","",IF(E27="展着剤",E27,VLOOKUP(A27,HPダウンロード情報!$A:$D,4,FALSE))) | K27: 芝(Ｆ､Ｒ)
C28: =IF(A28="","",VLOOKUP(A28,HPダウンロード情報!$A:$D,3,FALSE)) | D28: =IF(A28="","",A28) | E28: =IF(A28="","",VLOOKUP(A28,HPダウンロード情報!$A:$D,2,FALSE)) | F28: =IF(A28="","",IF(E28="展着剤",E28,VLOOKUP(A28,HPダウンロード情報!$A:$D,4,FALSE))) | K28: 芝(Ｒ)
C29: =IF(A29="","",VLOOKUP(A29,HPダウンロード情報!$A:$D,3,FALSE)) | D29: =IF(A29="","",A29) | E29: =IF(A29="","",VLOOKUP(A29,HPダウンロード情報!$A:$D,2,FALSE)) | F29: =IF(A29="","",IF(E29="展着剤",E29,VLOOKUP(A29,HPダウンロード情報!$A:$D,4,FALSE))) | K29: 樹木類
C30: =IF(A30="","",VLOOKUP(A30,HPダウンロード情報!$A:$D,3,FALSE)) | D30: =IF(A30="","",A30) | E30: =IF(A30="","",VLOOKUP(A30,HPダウンロード情報!$A:$D,2,FALSE)) | F30: =IF(A30="","",IF(E30="展着剤",E30,VLOOKUP(A30,HPダウンロード情報!$A:$D,4,FALSE))) | K30: 樹木等
C31: =IF(A31="","",VLOOKUP(A31,HPダウンロード情報!$A:$D,3,FALSE)) | D31: =IF(A31="","",A31) | E31: =IF(A31="","",VLOOKUP(A31,HPダウンロード情報!$A:$D,2,FALSE)) | F31: =IF(A31="","",IF(E31="展着剤",E31,VLOOKUP(A31,HPダウンロード情報!$A:$D,4,FALSE))) | K31: 芝(生産圃場)
C32: =IF(A32="","",VLOOKUP(A32,HPダウンロード情報!$A:$D,3,FALSE)) | D32: =IF(A32="","",A32) | E32: =IF(A32="","",VLOOKUP(A32,HPダウンロード情報!$A:$D,2,FALSE)) | F32: =IF(A32="","",IF(E32="展着剤",E32,VLOOKUP(A32,HPダウンロード情報!$A:$D,4,FALSE))) | K32: その他
C33: =IF(A33="","",VLOOKUP(A33,HPダウンロード情報!$A:$D,3,FALSE)) | D33: =IF(A33="","",A33) | E33: =IF(A33="","",VLOOKUP(A33,HPダウンロード情報!$A:$D,2,FALSE)) | F33: =IF(A33="","",IF(E33="展着剤",E33,VLOOKUP(A33,HPダウンロード情報!$A:$D,4,FALSE)))
C34: =IF(A34="","",VLOOKUP(A34,HPダウンロード情報!$A:$D,3,FALSE)) | D34: =IF(A34="","",A34) | E34: =IF(A34="","",VLOOKUP(A34,HPダウンロード情報!$A:$D,2,FALSE)) | F34: =IF(A34="","",IF(E34="展着剤",E34,VLOOKUP(A34,HPダウンロード情報!$A:$D,4,FALSE)))
C35: =IF(A35="","",VLOOKUP(A35,HPダウンロード情報!$A:$D,3,FALSE)) | D35: =IF(A35="","",A35) | E35: =IF(A35="","",VLOOKUP(A35,HPダウンロード情報!$A:$D,2,FALSE)) | F35: =IF(A35="","",IF(E35="展着剤",E35,VLOOKUP(A35,HPダウンロード情報!$A:$D,4,FALSE)))
C36: =IF(A36="","",VLOOKUP(A36,HPダウンロード情報!$A:$D,3,FALSE)) | D36: =IF(A36="","",A36) | E36: =IF(A36="","",VLOOKUP(A36,HPダウンロード情報!$A:$D,2,FALSE)) | F36: =IF(A36="","",IF(E36="展着剤",E36,VLOOKUP(A36,HPダウンロード情報!$A:$D,4,FALSE)))
C37: =IF(A37="","",VLOOKUP(A37,HPダウンロード情報!$A:$D,3,FALSE)) | D37: =IF(A37="","",A37) | E37: =IF(A37="","",VLOOKUP(A37,HPダウンロード情報!$A:$D,2,FALSE)) | F37: =IF(A37="","",IF(E37="展着剤",E37,VLOOKUP(A37,HPダウンロード情報!$A:$D,4,FALSE)))
C38: =IF(A38="","",VLOOKUP(A38,HPダウンロード情報!$A:$D,3,FALSE)) | D38: =IF(A38="","",A38) | E38: =IF(A38="","",VLOOKUP(A38,HPダウンロード情報!$A:$D,2,FALSE)) | F38: =IF(A38="","",IF(E38="展着剤",E38,VLOOKUP(A38,HPダウンロード情報!$A:$D,4,FALSE)))
C39: =IF(A39="","",VLOOKUP(A39,HPダウンロード情報!$A:$D,3,FALSE)) | D39: =IF(A39="","",A39) | E39: =IF(A39="","",VLOOKUP(A39,HPダウンロード情報!$A:$D,2,FALSE)) | F39: =IF(A39="","",IF(E39="展着剤",E39,VLOOKUP(A39,HPダウンロード情報!$A:$D,4,FALSE)))
C40: =IF(A40="","",VLOOKUP(A40,HPダウンロード情報!$A:$D,3,FALSE)) | D40: =IF(A40="","",A40) | E40: =IF(A40="","",VLOOKUP(A40,HPダウンロード情報!$A:$D,2,FALSE)) | F40: =IF(A40="","",IF(E40="展着剤",E40,VLOOKUP(A40,HPダウンロード情報!$A:$D,4,FALSE)))
C41: =IF(A41="","",VLOOKUP(A41,HPダウンロード情報!$A:$D,3,FALSE)) | D41: =IF(A41="","",A41) | E41: =IF(A41="","",VLOOKUP(A41,HPダウンロード情報!$A:$D,2,FALSE)) | F41: =IF(A41="","",IF(E41="展着剤",E41,VLOOKUP(A41,HPダウンロード情報!$A:$D,4,FALSE)))
C42: =IF(A42="","",VLOOKUP(A42,HPダウンロード情報!$A:$D,3,FALSE)) | D42: =IF(A42="","",A42) | E42: =IF(A42="","",VLOOKUP(A42,HPダウンロード情報!$A:$D,2,FALSE)) | F42: =IF(A42="","",IF(E42="展着剤",E42,VLOOKUP(A42,HPダウンロード情報!$A:$D,4,FALSE)))
C43: =IF(A43="","",VLOOKUP(A43,HPダウンロード情報!$A:$D,3,FALSE)) | D43: =IF(A43="","",A43) | E43: =IF(A43="","",VLOOKUP(A43,HPダウンロード情報!$A:$D,2,FALSE)) | F43: =IF(A43="","",IF(E43="展着剤",E43,VLOOKUP(A43,HPダウンロード情報!$A:$D,4,FALSE)))
C44: =IF(A44="","",VLOOKUP(A44,HPダウンロード情報!$A:$D,3,FALSE)) | D44: =IF(A44="","",A44) | E44: =IF(A44="","",VLOOKUP(A44,HPダウンロード情報!$A:$D,2,FALSE)) | F44: =IF(A44="","",IF(E44="展着剤",E44,VLOOKUP(A44,HPダウンロード情報!$A:$D,4,FALSE)))
... C138: =IF(A138="","",VLOOKUP(A138,HPダウンロード情報!$A:$D,3,FALSE)) | D138: =IF(A138="","",A138) | E138: =IF(A138="","",VLOOKUP(A138,HPダウンロード情報!$A:$D,2,FALSE)) | F138: =IF(A138="","",IF(E138="展着剤",E138,VLOOKUP(A138,HPダウンロード情報!$A:$D,4,FALSE)))

Sheet 別紙3
B2: =IF(ゴルフ場名称3="","注！別紙3を使用する場合には、農薬使用計画書シートの別紙3入力欄に入力ください。","（別紙3）") -> 注！別紙3を使用する場合には、農薬使用計画書シートの別紙3入力欄に入力ください。
E4: ゴルフ場の名称 | G4: =IF(ゴルフ場名称3=0,"",ゴルフ場名称3)
E7: ゴルフ場の所在地 | G7: =IF(ゴルフ場所在地3=0,"",ゴルフ場所在地3)
C10: =IF(OR(開始年月日3=0,終了年月日3=0),"平成 年 月 日～平成 年 月 日までの農薬使用計画は、以下のとおりです。",IF(終了年月日3<開始年月日3,"終了年月日が、開始年月日以前で間違いです！",CONCATENATE(" ",TEXT(開始年月日3,"ggge年m月d日"),"～ ",TEXT(終了年月日3,"ggge年m月d日"),"までの農薬使用計画は、以下のとおりです。"))) -> 平成 年 月 日～平成 年 月 日までの農薬使用計画は、以下のとおりです。
A12: 登録番号 入力 | C12: 使用予定の農薬 | G12: 使用方法 | H12: 使用する対象
C13: 農薬の名称 | D13: （登録番号） | E13: 農薬の種類 | F13: 用途 | K13: 使用する対象リスト | M13: 使用方法リスト
C14: =IF(A14="","",VLOOKUP(A14,HPダウンロード情報!$A:$D,3,FALSE)) | D14: =IF(A14="","",A14) | E14: =IF(A14="","",VLOOKUP(A14,HPダウンロード情報!$A:$D,2,FALSE)) | F14: =IF(A14="","",IF(E14="展着剤",E14,VLOOKUP(A14,HPダウンロード情報!$A:$D,4,FALSE))) | K14: 芝(Ｇ) | M14: 散布
C15: =IF(A15="","",VLOOKUP(A15,HPダウンロード情報!$A:$D,3,FALSE)) | D15: =IF(A15="","",A15) | E15: =IF(A15="","",VLOOKUP(A15,HPダウンロード情報!$A:$D,2,FALSE)) | F15: =IF(A15="","",IF(E15="展着剤",E15,VLOOKUP(A15,HPダウンロード情報!$A:$D,4,FALSE))) | K15: 芝(Ｇ､Ｔ､Ｆ､Ｒ) | M15: 添加
C16: =IF(A16="","",VLOOKUP(A16,HPダウンロード情報!$A:$D,3,FALSE)) | D16: =IF(A16="","",A16) | E16: =IF(A16="","",VLOOKUP(A16,HPダウンロード情報!$A:$D,2,FALSE)) | F16: =IF(A16="","",IF(E16="展着剤",E16,VLOOKUP(A16,HPダウンロード情報!$A:$D,4,FALSE))) | K16: 芝(Ｇ､Ｔ､Ｆ) | M16: 土壌注入
C17: =IF(A17="","",VLOOKUP(A17,HPダウンロード情報!$A:$D,3,FALSE)) | D17: =IF(A17="","",A17) | E17: =IF(A17="","",VLOOKUP(A17,HPダウンロード情報!$A:$D,2,FALSE)) | F17: =IF(A17="","",IF(E17="展着剤",E17,VLOOKUP(A17,HPダウンロード情報!$A:$D,4,FALSE))) | K17: 芝(Ｇ､Ｔ､Ｒ) | M17: 土壌混和
C18: =IF(A18="","",VLOOKUP(A18,HPダウンロード情報!$A:$D,3,FALSE)) | D18: =IF(A18="","",A18) | E18: =IF(A18="","",VLOOKUP(A18,HPダウンロード情報!$A:$D,2,FALSE)) | F18: =IF(A18="","",IF(E18="展着剤",E18,VLOOKUP(A18,HPダウンロード情報!$A:$D,4,FALSE))) | K18: 芝(Ｇ､Ｔ) | M18: 灌注
C19: =IF(A19="","",VLOOKUP(A19,HPダウンロード情報!$A:$D,3,FALSE)) | D19: =IF(A19="","",A19) | E19: =IF(A19="","",VLOOKUP(A19,HPダウンロード情報!$A:$D,2,FALSE)) | F19: =IF(A19="","",IF(E19="展着剤",E19,VLOOKUP(A19,HPダウンロード情報!$A:$D,4,FALSE))) | K19: 芝(Ｇ､Ｆ､Ｒ) | M19: 樹幹注入
C20: =IF(A20="","",VLOOKUP(A20,HPダウンロード情報!$A:$D,3,FALSE)) | D20: =IF(A20="","",A20) | E20: =IF(A20="","",VLOOKUP(A20,HPダウンロード情報!$A:$D,2,FALSE)) | F20: =IF(A20="","",IF(E20="展着剤",E20,VLOOKUP(A20,HPダウンロード情報!$A:$D,4,FALSE))) | K20: 芝(Ｇ､Ｆ) | M20: その他
C21: =IF(A21="","",VLOOKUP(A21,HPダウンロード情報!$A:$D,3,FALSE)) | D21: =IF(A21="","",A21) | E21: =IF(A21="","",VLOOKUP(A21,HPダウンロード情報!$A:$D,2,FALSE)) | F21: =IF(A21="","",IF(E21="展着剤",E21,VLOOKUP(A21,HPダウンロード情報!$A:$D,4,FALSE))) | K21: 芝(Ｇ､Ｒ)
C22: =IF(A22="","",VLOOKUP(A22,HPダウンロード情報!$A:$D,3,FALSE)) | D22: =IF(A22="","",A22) | E22: =IF(A22="","",VLOOKUP(A22,HPダウンロード情報!$A:$D,2,FALSE)) | F22: =IF(A22="","",IF(E22="展着剤",E22,VLOOKUP(A22,HPダウンロード情報!$A:$D,4,FALSE))) | K22: 芝(Ｔ)
C23: =IF(A23="","",VLOOKUP(A23,HPダウンロード情報!$A:$D,3,FALSE)) | D23: =IF(A23="","",A23) | E23: =IF(A23="","",VLOOKUP(A23,HPダウンロード情報!$A:$D,2,FALSE)) | F23: =IF(A23="","",IF(E23="展着剤",E23,VLOOKUP(A23,HPダウンロード情報!$A:$D,4,FALSE))) | K23: 芝(Ｔ､Ｆ､Ｒ)
C24: =IF(A24="","",VLOOKUP(A24,HPダウンロード情報!$A:$D,3,FALSE)) | D24: =IF(A24="","",A24) | E24: =IF(A24="","",VLOOKUP(A24,HPダウンロード情報!$A:$D,2,FALSE)) | F24: =IF(A24="","",IF(E24="展着剤",E24,VLOOKUP(A24,HPダウンロード情報!$A:$D,4,FALSE))) | K24: 芝(Ｔ､Ｆ)
C25: =IF(A25="","",VLOOKUP(A25,HPダウンロード情報!$A:$D,3,FALSE)) | D25: =IF(A25="","",A25) | E25: =IF(A25="","",VLOOKUP(A25,HPダウンロード情報!$A:$D,2,FALSE)) | F25: =IF(A25="","",IF(E25="展着剤",E25,VLOOKUP(A25,HPダウンロード情報!$A:$D,4,FALSE))) | K25: 芝(Ｔ､Ｒ)
C26: =IF(A26="","",VLOOKUP(A26,HPダウンロード情報!$A:$D,3,FALSE)) | D26: =IF(A26="","",A26) | E26: =IF(A26="","",VLOOKUP(A26,HPダウンロード情報!$A:$D,2,FALSE)) | F26: =IF(A26="","",IF(E26="展着剤",E26,VLOOKUP(A26,HPダウンロード情報!$A:$D,4,FALSE))) | K26: 芝(Ｆ)
C27: =IF(A27="","",VLOOKUP(A27,HPダウンロード情報!$A:$D,3,FALSE)) | D27: =IF(A27="","",A27) | E27: =IF(A27="","",VLOOKUP(A27,HPダウンロード情報!$A:$D,2,FALSE)) | F27: =IF(A27="","",IF(E27="展着剤",E27,VLOOKUP(A27,HPダウンロード情報!$A:$D,4,FALSE))) | K27: 芝(Ｆ､Ｒ)
C28: =IF(A28="","",VLOOKUP(A28,HPダウンロード情報!$A:$D,3,FALSE)) | D28: =IF(A28="","",A28) | E28: =IF(A28="","",VLOOKUP(A28,HPダウンロード情報!$A:$D,2,FALSE)) | F28: =IF(A28="","",IF(E28="展着剤",E28,VLOOKUP(A28,HPダウンロード情報!$A:$D,4,FALSE))) | K28: 芝(Ｒ)
C29: =IF(A29="","",VLOOKUP(A29,HPダウンロード情報!$A:$D,3,FALSE)) | D29: =IF(A29="","",A29) | E29: =IF(A29="","",VLOOKUP(A29,HPダウンロード情報!$A:$D,2,FALSE)) | F29: =IF(A29="","",IF(E29="展着剤",E29,VLOOKUP(A29,HPダウンロード情報!$A:$D,4,FALSE))) | K29: 樹木類
C30: =IF(A30="","",VLOOKUP(A30,HPダウンロード情報!$A:$D,3,FALSE)) | D30: =IF(A30="","",A30) | E30: =IF(A30="","",VLOOKUP(A30,HPダウンロード情報!$A:$D,2,FALSE)) | F30: =IF(A30="","",IF(E30="展着剤",E30,VLOOKUP(A30,HPダウンロード情報!$A:$D,4,FALSE))) | K30: 樹木等
C31: =IF(A31="","",VLOOKUP(A31,HPダウンロード情報!$A:$D,3,FALSE)) | D31: =IF(A31="","",A31) | E31: =IF(A31="","",VLOOKUP(A31,HPダウンロード情報!$A:$D,2,FALSE)) | F31: =IF(A31="","",IF(E31="展着剤",E31,VLOOKUP(A31,HPダウンロード情報!$A:$D,4,FALSE))) | K31: 芝(生産圃場)
C32: =IF(A32="","",VLOOKUP(A32,HPダウンロード情報!$A:$D,3,FALSE)) | D32: =IF(A32="","",A32) | E32: =IF(A32="","",VLOOKUP(A32,HPダウンロード情報!$A:$D,2,FALSE)) | F32: =IF(A32="","",IF(E32="展着剤",E32,VLOOKUP(A32,HPダウンロード情報!$A:$D,4,FALSE))) | K32: その他
C33: =IF(A33="","",VLOOKUP(A33,HPダウンロード情報!$A:$D,3,FALSE)) | D33: =IF(A33="","",A33) | E33: =IF(A33="","",VLOOKUP(A33,HPダウンロード情報!$A:$D,2,FALSE)) | F33: =IF(A33="","",IF(E33="展着剤",E33,VLOOKUP(A33,HPダウンロード情報!$A:$D,4,FALSE)))
C34: =IF(A34="","",VLOOKUP(A34,HPダウンロード情報!$A:$D,3,FALSE)) | D34: =IF(A34="","",A34) | E34: =IF(A34="","",VLOOKUP(A34,HPダウンロード情報!$A:$D,2,FALSE)) | F34: =IF(A34="","",IF(E34="展着剤",E34,VLOOKUP(A34,HPダウンロード情報!$A:$D,4,FALSE)))
C35: =IF(A35="","",VLOOKUP(A35,HPダウンロード情報!$A:$D,3,FALSE)) | D35: =IF(A35="","",A35) | E35: =IF(A35="","",VLOOKUP(A35,HPダウンロード情報!$A:$D,2,FALSE)) | F35: =IF(A35="","",IF(E35="展着剤",E35,VLOOKUP(A35,HPダウンロード情報!$A:$D,4,FALSE)))
C36: =IF(A36="","",VLOOKUP(A36,HPダウンロード情報!$A:$D,3,FALSE)) | D36: =IF(A36="","",A36) | E36: =IF(A36="","",VLOOKUP(A36,HPダウンロード情報!$A:$D,2,FALSE)) | F36: =IF(A36="","",IF(E36="展着剤",E36,VLOOKUP(A36,HPダウンロード情報!$A:$D,4,FALSE)))
C37: =IF(A37="","",VLOOKUP(A37,HPダウンロード情報!$A:$D,3,FALSE)) | D37: =IF(A37="","",A37) | E37: =IF(A37="","",VLOOKUP(A37,HPダウンロード情報!$A:$D,2,FALSE)) | F37: =IF(A37="","",IF(E37="展着剤",E37,VLOOKUP(A37,HPダウンロード情報!$A:$D,4,FALSE)))
C38: =IF(A38="","",VLOOKUP(A38,HPダウンロード情報!$A:$D,3,FALSE)) | D38: =IF(A38="","",A38) | E38: =IF(A38="","",VLOOKUP(A38,HPダウンロード情報!$A:$D,2,FALSE)) | F38: =IF(A38="","",IF(E38="展着剤",E38,VLOOKUP(A38,HPダウンロード情報!$A:$D,4,FALSE)))
C39: =IF(A39="","",VLOOKUP(A39,HPダウンロード情報!$A:$D,3,FALSE)) | D39: =IF(A39="","",A39) | E39: =IF(A39="","",VLOOKUP(A39,HPダウンロード情報!$A:$D,2,FALSE)) | F39: =IF(A39="","",IF(E39="展着剤",E39,VLOOKUP(A39,HPダウンロード情報!$A:$D,4,FALSE)))
C40: =IF(A40="","",VLOOKUP(A40,HPダウンロード情報!$A:$D,3,FALSE)) | D40: =IF(A40="","",A40) | E40: =IF(A40="","",VLOOKUP(A40,HPダウンロード情報!$A:$D,2,FALSE)) | F40: =IF(A40="","",IF(E40="展着剤",E40,VLOOKUP(A40,HPダウンロード情報!$A:$D,4,FALSE)))
C41: =IF(A41="","",VLOOKUP(A41,HPダウンロード情報!$A:$D,3,FALSE)) | D41: =IF(A41="","",A41) | E41: =IF(A41="","",VLOOKUP(A41,HPダウンロード情報!$A:$D,2,FALSE)) | F41: =IF(A41="","",IF(E41="展着剤",E41,VLOOKUP(A41,HPダウンロード情報!$A:$D,4,FALSE)))
C42: =IF(A42="","",VLOOKUP(A42,HPダウンロード情報!$A:$D,3,FALSE)) | D42: =IF(A42="","",A42) | E42: =IF(A42="","",VLOOKUP(A42,HPダウンロード情報!$A:$D,2,FALSE)) | F42: =IF(A42="","",IF(E42="展着剤",E42,VLOOKUP(A42,HPダウンロード情報!$A:$D,4,FALSE)))
C43: =IF(A43="","",VLOOKUP(A43,HPダウンロード情報!$A:$D,3,FALSE)) | D43: =IF(A43="","",A43) | E43: =IF(A43="","",VLOOKUP(A43,HPダウンロード情報!$A:$D,2,FALSE)) | F43: =IF(A43="","",IF(E43="展着剤",E43,VLOOKUP(A43,HPダウンロード情報!$A:$D,4,FALSE)))
C44: =IF(A44="","",VLOOKUP(A44,HPダウンロード情報!$A:$D,3,FALSE)) | D44: =IF(A44="","",A44) | E44: =IF(A44="","",VLOOKUP(A44,HPダウンロード情報!$A:$D,2,FALSE)) | F44: =IF(A44="","",IF(E44="展着剤",E44,VLOOKUP(A44,HPダウンロード情報!$A:$D,4,FALSE)))
... C138: =IF(A138="","",VLOOKUP(A138,HPダウンロード情報!$A:$D,3,FALSE)) | D138: =IF(A138="","",A138) | E138: =IF(A138="","",VLOOKUP(A138,HPダウンロード情報!$A:$D,2,FALSE)) | F138: =IF(A138="","",IF(E138="展着剤",E138,VLOOKUP(A138,HPダウンロード情報!$A:$D,4,FALSE)))

Sheet 別紙4 
B2: =IF(ゴルフ場名称4="","注！別紙4を使用する場合には、農薬使用計画書シートの別紙4入力欄に入力ください。","（別紙4）") -> 注！別紙4を使用する場合には、農薬使用計画書シートの別紙4入力欄に入力ください。
E4: ゴルフ場の名称 | G4: =IF(ゴルフ場名称4=0,"",ゴルフ場名称4)
E7: ゴルフ場の所在地 | G7: =IF(ゴルフ場所在地4=0,"",ゴルフ場所在地4)
C10: =IF(OR(開始年月日4=0,終了年月日4=0),"平成 年 月 日～平成 年 月 日までの農薬使用計画は、以下のとおりです。",IF(終了年月日4<開始年月日4,"終了年月日が、開始年月日以前で間違いです！",CONCATENATE(" ",TEXT(開始年月日4,"ggge年m月d日"),"～ ",TEXT(終了年月日4,"ggge年m月d日"),"までの農薬使用計画は、以下のとおりです。"))) -> 平成 年 月 日～平成 年 月 日までの農薬使用計画は、以下のとおりです。
A12: 登録番号 入力 | C12: 使用予定の農薬 | G12: 使用方法 | H12: 使用する対象
C13: 農薬の名称 | D13: （登録番号） | E13: 農薬の種類 | F13: 用途 | K13: 使用する対象リスト | M13: 使用方法リスト
C14: =IF(A14="","",VLOOKUP(A14,HPダウンロード情報!$A:$D,3,FALSE)) | D14: =IF(A14="","",A14) | E14: =IF(A14="","",VLOOKUP(A14,HPダウンロード情報!$A:$D,2,FALSE)) | F14: =IF(A14="","",IF(E14="展着剤",E14,VLOOKUP(A14,HPダウンロード情報!$A:$D,4,FALSE))) | K14: 芝(Ｇ) | M14: 散布
C15: =IF(A15="","",VLOOKUP(A15,HPダウンロード情報!$A:$D,3,FALSE)) | D15: =IF(A15="","",A15) | E15: =IF(A15="","",VLOOKUP(A15,HPダウンロード情報!$A:$D,2,FALSE)) | F15: =IF(A15="","",IF(E15="展着剤",E15,VLOOKUP(A15,HPダウンロード情報!$A:$D,4,FALSE))) | K15: 芝(Ｇ､Ｔ､Ｆ､Ｒ) | M15: 添加
C16: =IF(A16="","",VLOOKUP(A16,HPダウンロード情報!$A:$D,3,FALSE)) | D16: =IF(A16="","",A16) | E16: =IF(A16="","",VLOOKUP(A16,HPダウンロード情報!$A:$D,2,FALSE)) | F16: =IF(A16="","",IF(E16="展着剤",E16,VLOOKUP(A16,HPダウンロード情報!$A:$D,4,FALSE))) | K16: 芝(Ｇ､Ｔ､Ｆ) | M16: 土壌注入
C17: =IF(A17="","",VLOOKUP(A17,HPダウンロード情報!$A:$D,3,FALSE)) | D17: =IF(A17="","",A17) | E17: =IF(A17="","",VLOOKUP(A17,HPダウンロード情報!$A:$D,2,FALSE)) | F17: =IF(A17="","",IF(E17="展着剤",E17,VLOOKUP(A17,HPダウンロード情報!$A:$D,4,FALSE))) | K17: 芝(Ｇ､Ｔ､Ｒ) | M17: 土壌混和
C18: =IF(A18="","",VLOOKUP(A18,HPダウンロード情報!$A:$D,3,FALSE)) | D18: =IF(A18="","",A18) | E18: =IF(A18="","",VLOOKUP(A18,HPダウンロード情報!$A:$D,2,FALSE)) | F18: =IF(A18="","",IF(E18="展着剤",E18,VLOOKUP(A18,HPダウンロード情報!$A:$D,4,FALSE))) | K18: 芝(Ｇ､Ｔ) | M18: 灌注
C19: =IF(A19="","",VLOOKUP(A19,HPダウンロード情報!$A:$D,3,FALSE)) | D19: =IF(A19="","",A19) | E19: =IF(A19="","",VLOOKUP(A19,HPダウンロード情報!$A:$D,2,FALSE)) | F19: =IF(A19="","",IF(E19="展着剤",E19,VLOOKUP(A19,HPダウンロード情報!$A:$D,4,FALSE))) | K19: 芝(Ｇ､Ｆ､Ｒ) | M19: 樹幹注入
C20: =IF(A20="","",VLOOKUP(A20,HPダウンロード情報!$A:$D,3,FALSE)) | D20: =IF(A20="","",A20) | E20: =IF(A20="","",VLOOKUP(A20,HPダウンロード情報!$A:$D,2,FALSE)) | F20: =IF(A20="","",IF(E20="展着剤",E20,VLOOKUP(A20,HPダウンロード情報!$A:$D,4,FALSE))) | K20: 芝(Ｇ､Ｆ) | M20: その他
C21: =IF(A21="","",VLOOKUP(A21,HPダウンロード情報!$A:$D,3,FALSE)) | D21: =IF(A21="","",A21) | E21: =IF(A21="","",VLOOKUP(A21,HPダウンロード情報!$A:$D,2,FALSE)) | F21: =IF(A21="","",IF(E21="展着剤",E21,VLOOKUP(A21,HPダウンロード情報!$A:$D,4,FALSE))) | K21: 芝(Ｇ､Ｒ)
C22: =IF(A22="","",VLOOKUP(A22,HPダウンロード情報!$A:$D,3,FALSE)) | D22: =IF(A22="","",A22) | E22: =IF(A22="","",VLOOKUP(A22,HPダウンロード情報!$A:$D,2,FALSE)) | F22: =IF(A22="","",IF(E22="展着剤",E22,VLOOKUP(A22,HPダウンロード情報!$A:$D,4,FALSE))) | K22: 芝(Ｔ)
C23: =IF(A23="","",VLOOKUP(A23,HPダウンロード情報!$A:$D,3,FALSE)) | D23: =IF(A23="","",A23) | E23: =IF(A23="","",VLOOKUP(A23,HPダウンロード情報!$A:$D,2,FALSE)) | F23: =IF(A23="","",IF(E23="展着剤",E23,VLOOKUP(A23,HPダウンロード情報!$A:$D,4,FALSE))) | K23: 芝(Ｔ､Ｆ､Ｒ)
C24: =IF(A24="","",VLOOKUP(A24,HPダウンロード情報!$A:$D,3,FALSE)) | D24: =IF(A24="","",A24) | E24: =IF(A24="","",VLOOKUP(A24,HPダウンロード情報!$A:$D,2,FALSE)) | F24: =IF(A24="","",IF(E24="展着剤",E24,VLOOKUP(A24,HPダウンロード情報!$A:$D,4,FALSE))) | K24: 芝(Ｔ､Ｆ)
C25: =IF(A25="","",VLOOKUP(A25,HPダウンロード情報!$A:$D,3,FALSE)) | D25: =IF(A25="","",A25) | E25: =IF(A25="","",VLOOKUP(A25,HPダウンロード情報!$A:$D,2,FALSE)) | F25: =IF(A25="","",IF(E25="展着剤",E25,VLOOKUP(A25,HPダウンロード情報!$A:$D,4,FALSE))) | K25: 芝(Ｔ､Ｒ)
C26: =IF(A26="","",VLOOKUP(A26,HPダウンロード情報!$A:$D,3,FALSE)) | D26: =IF(A26="","",A26) | E26: =IF(A26="","",VLOOKUP(A26,HPダウンロード情報!$A:$D,2,FALSE)) | F26: =IF(A26="","",IF(E26="展着剤",E26,VLOOKUP(A26,HPダウンロード情報!$A:$D,4,FALSE))) | K26: 芝(Ｆ)
C27: =IF(A27="","",VLOOKUP(A27,HPダウンロード情報!$A:$D,3,FALSE)) | D27: =IF(A27="","",A27) | E27: =IF(A27="","",VLOOKUP(A27,HPダウンロード情報!$A:$D,2,FALSE)) | F27: =IF(A27="","",IF(E27="展着剤",E27,VLOOKUP(A27,HPダウンロード情報!$A:$D,4,FALSE))) | K27: 芝(Ｆ､Ｒ)
C28: =IF(A28="","",VLOOKUP(A28,HPダウンロード情報!$A:$D,3,FALSE)) | D28: =IF(A28="","",A28) | E28: =IF(A28="","",VLOOKUP(A28,HPダウンロード情報!$A:$D,2,FALSE)) | F28: =IF(A28="","",IF(E28="展着剤",E28,VLOOKUP(A28,HPダウンロード情報!$A:$D,4,FALSE))) | K28: 芝(Ｒ)
C29: =IF(A29="","",VLOOKUP(A29,HPダウンロード情報!$A:$D,3,FALSE)) | D29: =IF(A29="","",A29) | E29: =IF(A29="","",VLOOKUP(A29,HPダウンロード情報!$A:$D,2,FALSE)) | F29: =IF(A29="","",IF(E29="展着剤",E29,VLOOKUP(A29,HPダウンロード情報!$A:$D,4,FALSE))) | K29: 樹木類
C30: =IF(A30="","",VLOOKUP(A30,HPダウンロード情報!$A:$D,3,FALSE)) | D30: =IF(A30="","",A30) | E30: =IF(A30="","",VLOOKUP(A30,HPダウンロード情報!$A:$D,2,FALSE)) | F30: =IF(A30="","",IF(E30="展着剤",E30,VLOOKUP(A30,HPダウンロード情報!$A:$D,4,FALSE))) | K30: 樹木等
C31: =IF(A31="","",VLOOKUP(A31,HPダウンロード情報!$A:$D,3,FALSE)) | D31: =IF(A31="","",A31) | E31: =IF(A31="","",VLOOKUP(A31,HPダウンロード情報!$A:$D,2,FALSE)) | F31: =IF(A31="","",IF(E31="展着剤",E31,VLOOKUP(A31,HPダウンロード情報!$A:$D,4,FALSE))) | K31: 芝(生産圃場)
C32: =IF(A32="","",VLOOKUP(A32,HPダウンロード情報!$A:$D,3,FALSE)) | D32: =IF(A32="","",A32) | E32: =IF(A32="","",VLOOKUP(A32,HPダウンロード情報!$A:$D,2,FALSE)) | F32: =IF(A32="","",IF(E32="展着剤",E32,VLOOKUP(A32,HPダウンロード情報!$A:$D,4,FALSE))) | K32: その他
C33: =IF(A33="","",VLOOKUP(A33,HPダウンロード情報!$A:$D,3,FALSE)) | D33: =IF(A33="","",A33) | E33: =IF(A33="","",VLOOKUP(A33,HPダウンロード情報!$A:$D,2,FALSE)) | F33: =IF(A33="","",IF(E33="展着剤",E33,VLOOKUP(A33,HPダウンロード情報!$A:$D,4,FALSE)))
C34: =IF(A34="","",VLOOKUP(A34,HPダウンロード情報!$A:$D,3,FALSE)) | D34: =IF(A34="","",A34) | E34: =IF(A34="","",VLOOKUP(A34,HPダウンロード情報!$A:$D,2,FALSE)) | F34: =IF(A34="","",IF(E34="展着剤",E34,VLOOKUP(A34,HPダウンロード情報!$A:$D,4,FALSE)))
C35: =IF(A35="","",VLOOKUP(A35,HPダウンロード情報!$A:$D,3,FALSE)) | D35: =IF(A35="","",A35) | E35: =IF(A35="","",VLOOKUP(A35,HPダウンロード情報!$A:$D,2,FALSE)) | F35: =IF(A35="","",IF(E35="展着剤",E35,VLOOKUP(A35,HPダウンロード情報!$A:$D,4,FALSE)))
C36: =IF(A36="","",VLOOKUP(A36,HPダウンロード情報!$A:$D,3,FALSE)) | D36: =IF(A36="","",A36) | E36: =IF(A36="","",VLOOKUP(A36,HPダウンロード情報!$A:$D,2,FALSE)) | F36: =IF(A36="","",IF(E36="展着剤",E36,VLOOKUP(A36,HPダウンロード情報!$A:$D,4,FALSE)))
C37: =IF(A37="","",VLOOKUP(A37,HPダウンロード情報!$A:$D,3,FALSE)) | D37: =IF(A37="","",A37) | E37: =IF(A37="","",VLOOKUP(A37,HPダウンロード情報!$A:$D,2,FALSE)) | F37: =IF(A37="","",IF(E37="展着剤",E37,VLOOKUP(A37,HPダウンロード情報!$A:$D,4,FALSE)))
C38: =IF(A38="","",VLOOKUP(A38,HPダウンロード情報!$A:$D,3,FALSE)) | D38: =IF(A38="","",A38) | E38: =IF(A38="","",VLOOKUP(A38,HPダウンロード情報!$A:$D,2,FALSE)) | F38: =IF(A38="","",IF(E38="展着剤",E38,VLOOKUP(A38,HPダウンロード情報!$A:$D,4,FALSE)))
C39: =IF(A39="","",VLOOKUP(A39,HPダウンロード情報!$A:$D,3,FALSE)) | D39: =IF(A39="","",A39) | E39: =IF(A39="","",VLOOKUP(A39,HPダウンロード情報!$A:$D,2,FALSE)) | F39: =IF(A39="","",IF(E39="展着剤",E39,VLOOKUP(A39,HPダウンロード情報!$A:$D,4,FALSE)))
C40: =IF(A40="","",VLOOKUP(A40,HPダウンロード情報!$A:$D,3,FALSE)) | D40: =IF(A40="","",A40) | E40: =IF(A40="","",VLOOKUP(A40,HPダウンロード情報!$A:$D,2,FALSE)) | F40: =IF(A40="","",IF(E40="展着剤",E40,VLOOKUP(A40,HPダウンロード情報!$A:$D,4,FALSE)))
C41: =IF(A41="","",VLOOKUP(A41,HPダウンロード情報!$A:$D,3,FALSE)) | D41: =IF(A41="","",A41) | E41: =IF(A41="","",VLOOKUP(A41,HPダウンロード情報!$A:$D,2,FALSE)) | F41: =IF(A41="","",IF(E41="展着剤",E41,VLOOKUP(A41,HPダウンロード情報!$A:$D,4,FALSE)))
C42: =IF(A42="","",VLOOKUP(A42,HPダウンロード情報!$A:$D,3,FALSE)) | D42: =IF(A42="","",A42) | E42: =IF(A42="","",VLOOKUP(A42,HPダウンロード情報!$A:$D,2,FALSE)) | F42: =IF(A42="","",IF(E42="展着剤",E42,VLOOKUP(A42,HPダウンロード情報!$A:$D,4,FALSE)))
C43: =IF(A43="","",VLOOKUP(A43,HPダウンロード情報!$A:$D,3,FALSE)) | D43: =IF(A43="","",A43) | E43: =IF(A43="","",VLOOKUP(A43,HPダウンロード情報!$A:$D,2,FALSE)) | F43: =IF(A43="","",IF(E43="展着剤",E43,VLOOKUP(A43,HPダウンロード情報!$A:$D,4,FALSE)))
C44: =IF(A44="","",VLOOKUP(A44,HPダウンロード情報!$A:$D,3,FALSE)) | D44: =IF(A44="","",A44) | E44: =IF(A44="","",VLOOKUP(A44,HPダウンロード情報!$A:$D,2,FALSE)) | F44: =IF(A44="","",IF(E44="展着剤",E44,VLOOKUP(A44,HPダウンロード情報!$A:$D,4,FALSE)))
... C138: =IF(A138="","",VLOOKUP(A138,HPダウンロード情報!$A:$D,3,FALSE)) | D138: =IF(A138="","",A138) | E138: =IF(A138="","",VLOOKUP(A138,HPダウンロード情報!$A:$D,2,FALSE)) | F138: =IF(A138="","",IF(E138="展着剤",E138,VLOOKUP(A138,HPダウンロード情報!$A:$D,4,FALSE)))

Sheet 別紙5 
B2: =IF(ゴルフ場名称5="","注！別紙5を使用する場合には、農薬使用計画書シートの別紙5入力欄に入力ください。","（別紙5）") -> 注！別紙5を使用する場合には、農薬使用計画書シートの別紙5入力欄に入力ください。
E4: ゴルフ場の名称 | G4: =IF(ゴルフ場名称5=0,"",ゴルフ場名称5)
E7: ゴルフ場の所在地 | G7: =IF(ゴルフ場所在地5=0,"",ゴルフ場所在地5)
C10: =IF(OR(開始年月日5=0,終了年月日5=0),"平成 年 月 日～平成 年 月 日までの農薬使用計画は、以下のとおりです。",IF(終了年月日5<開始年月日5,"終了年月日が、開始年月日以前で間違いです！",CONCATENATE(" ",TEXT(開始年月日5,"ggge年m月d日"),"～ ",TEXT(終了年月日5,"ggge年m月d日"),"までの農薬使用計画は、以下のとおりです。"))) -> 平成 年 月 日～平成 年 月 日までの農薬使用計画は、以下のとおりです。
A12: 登録番号 入力 | C12: 使用予定の農薬 | G12: 使用方法 | H12: 使用する対象
C13: 農薬の名称 | D13: （登録番号） | E13: 農薬の種類 | F13: 用途 | K13: 使用する対象リスト | M13: 使用方法リスト
C14: =IF(A14="","",VLOOKUP(A14,HPダウンロード情報!$A:$D,3,FALSE)) | D14: =IF(A14="","",A14) | E14: =IF(A14="","",VLOOKUP(A14,HPダウンロード情報!$A:$D,2,FALSE)) | F14: =IF(A14="","",IF(E14="展着剤",E14,VLOOKUP(A14,HPダウンロード情報!$A:$D,4,FALSE))) | K14: 芝(Ｇ) | M14: 散布
C15: =IF(A15="","",VLOOKUP(A15,HPダウンロード情報!$A:$D,3,FALSE)) | D15: =IF(A15="","",A15) | E15: =IF(A15="","",VLOOKUP(A15,HPダウンロード情報!$A:$D,2,FALSE)) | F15: =IF(A15="","",IF(E15="展着剤",E15,VLOOKUP(A15,HPダウンロード情報!$A:$D,4,FALSE))) | K15: 芝(Ｇ､Ｔ､Ｆ､Ｒ) | M15: 添加
C16: =IF(A16="","",VLOOKUP(A16,HPダウンロード情報!$A:$D,3,FALSE)) | D16: =IF(A16="","",A16) | E16: =IF(A16="","",VLOOKUP(A16,HPダウンロード情報!$A:$D,2,FALSE)) | F16: =IF(A16="","",IF(E16="展着剤",E16,VLOOKUP(A16,HPダウンロード情報!$A:$D,4,FALSE))) | K16: 芝(Ｇ､Ｔ､Ｆ) | M16: 土壌注入
C17: =IF(A17="","",VLOOKUP(A17,HPダウンロード情報!$A:$D,3,FALSE)) | D17: =IF(A17="","",A17) | E17: =IF(A17="","",VLOOKUP(A17,HPダウンロード情報!$A:$D,2,FALSE)) | F17: =IF(A17="","",IF(E17="展着剤",E17,VLOOKUP(A17,HPダウンロード情報!$A:$D,4,FALSE))) | K17: 芝(Ｇ､Ｔ､Ｒ) | M17: 土壌混和
C18: =IF(A18="","",VLOOKUP(A18,HPダウンロード情報!$A:$D,3,FALSE)) | D18: =IF(A18="","",A18) | E18: =IF(A18="","",VLOOKUP(A18,HPダウンロード情報!$A:$D,2,FALSE)) | F18: =IF(A18="","",IF(E18="展着剤",E18,VLOOKUP(A18,HPダウンロード情報!$A:$D,4,FALSE))) | K18: 芝(Ｇ､Ｔ) | M18: 灌注
C19: =IF(A19="","",VLOOKUP(A19,HPダウンロード情報!$A:$D,3,FALSE)) | D19: =IF(A19="","",A19) | E19: =IF(A19="","",VLOOKUP(A19,HPダウンロード情報!$A:$D,2,FALSE)) | F19: =IF(A19="","",IF(E19="展着剤",E19,VLOOKUP(A19,HPダウンロード情報!$A:$D,4,FALSE))) | K19: 芝(Ｇ､Ｆ､Ｒ) | M19: 樹幹注入
C20: =IF(A20="","",VLOOKUP(A20,HPダウンロード情報!$A:$D,3,FALSE)) | D20: =IF(A20="","",A20) | E20: =IF(A20="","",VLOOKUP(A20,HPダウンロード情報!$A:$D,2,FALSE)) | F20: =IF(A20="","",IF(E20="展着剤",E20,VLOOKUP(A20,HPダウンロード情報!$A:$D,4,FALSE))) | K20: 芝(Ｇ､Ｆ) | M20: その他
C21: =IF(A21="","",VLOOKUP(A21,HPダウンロード情報!$A:$D,3,FALSE)) | D21: =IF(A21="","",A21) | E21: =IF(A21="","",VLOOKUP(A21,HPダウンロード情報!$A:$D,2,FALSE)) | F21: =IF(A21="","",IF(E21="展着剤",E21,VLOOKUP(A21,HPダウンロード情報!$A:$D,4,FALSE))) | K21: 芝(Ｇ､Ｒ)
C22: =IF(A22="","",VLOOKUP(A22,HPダウンロード情報!$A:$D,3,FALSE)) | D22: =IF(A22="","",A22) | E22: =IF(A22="","",VLOOKUP(A22,HPダウンロード情報!$A:$D,2,FALSE)) | F22: =IF(A22="","",IF(E22="展着剤",E22,VLOOKUP(A22,HPダウンロード情報!$A:$D,4,FALSE))) | K22: 芝(Ｔ)
C23: =IF(A23="","",VLOOKUP(A23,HPダウンロード情報!$A:$D,3,FALSE)) | D23: =IF(A23="","",A23) | E23: =IF(A23="","",VLOOKUP(A23,HPダウンロード情報!$A:$D,2,FALSE)) | F23: =IF(A23="","",IF(E23="展着剤",E23,VLOOKUP(A23,HPダウンロード情報!$A:$D,4,FALSE))) | K23: 芝(Ｔ､Ｆ､Ｒ)
C24: =IF(A24="","",VLOOKUP(A24,HPダウンロード情報!$A:$D,3,FALSE)) | D24: =IF(A24="","",A24) | E24: =IF(A24="","",VLOOKUP(A24,HPダウンロード情報!$A:$D,2,FALSE)) | F24: =IF(A24="","",IF(E24="展着剤",E24,VLOOKUP(A24,HPダウンロード情報!$A:$D,4,FALSE))) | K24: 芝(Ｔ､Ｆ)
C25: =IF(A25="","",VLOOKUP(A25,HPダウンロード情報!$A:$D,3,FALSE)) | D25: =IF(A25="","",A25) | E25: =IF(A25="","",VLOOKUP(A25,HPダウンロード情報!$A:$D,2,FALSE)) | F25: =IF(A25="","",IF(E25="展着剤",E25,VLOOKUP(A25,HPダウンロード情報!$A:$D,4,FALSE))) | K25: 芝(Ｔ､Ｒ)
C26: =IF(A26="","",VLOOKUP(A26,HPダウンロード情報!$A:$D,3,FALSE)) | D26: =IF(A26="","",A26) | E26: =IF(A26="","",VLOOKUP(A26,HPダウンロード情報!$A:$D,2,FALSE)) | F26: =IF(A26="","",IF(E26="展着剤",E26,VLOOKUP(A26,HPダウンロード情報!$A:$D,4,FALSE))) | K26: 芝(Ｆ)
C27: =IF(A27="","",VLOOKUP(A27,HPダウンロード情報!$A:$D,3,FALSE)) | D27: =IF(A27="","",A27) | E27: =IF(A27="","",VLOOKUP(A27,HPダウンロード情報!$A:$D,2,FALSE)) | F27: =IF(A27="","",IF(E27="展着剤",E27,VLOOKUP(A27,HPダウンロード情報!$A:$D,4,FALSE))) | K27: 芝(Ｆ､Ｒ)
C28: =IF(A28="","",VLOOKUP(A28,HPダウンロード情報!$A:$D,3,FALSE)) | D28: =IF(A28="","",A28) | E28: =IF(A28="","",VLOOKUP(A28,HPダウンロード情報!$A:$D,2,FALSE)) | F28: =IF(A28="","",IF(E28="展着剤",E28,VLOOKUP(A28,HPダウンロード情報!$A:$D,4,FALSE))) | K28: 芝(Ｒ)
C29: =IF(A29="","",VLOOKUP(A29,HPダウンロード情報!$A:$D,3,FALSE)) | D29: =IF(A29="","",A29) | E29: =IF(A29="","",VLOOKUP(A29,HPダウンロード情報!$A:$D,2,FALSE)) | F29: =IF(A29="","",IF(E29="展着剤",E29,VLOOKUP(A29,HPダウンロード情報!$A:$D,4,FALSE))) | K29: 樹木類
C30: =IF(A30="","",VLOOKUP(A30,HPダウンロード情報!$A:$D,3,FALSE)) | D30: =IF(A30="","",A30) | E30: =IF(A30="","",VLOOKUP(A30,HPダウンロード情報!$A:$D,2,FALSE)) | F30: =IF(A30="","",IF(E30="展着剤",E30,VLOOKUP(A30,HPダウンロード情報!$A:$D,4,FALSE))) | K30: 樹木等
C31: =IF(A31="","",VLOOKUP(A31,HPダウンロード情報!$A:$D,3,FALSE)) | D31: =IF(A31="","",A31) | E31: =IF(A31="","",VLOOKUP(A31,HPダウンロード情報!$A:$D,2,FALSE)) | F31: =IF(A31="","",IF(E31="展着剤",E31,VLOOKUP(A31,HPダウンロード情報!$A:$D,4,FALSE))) | K31: 芝(生産圃場)
C32: =IF(A32="","",VLOOKUP(A32,HPダウンロード情報!$A:$D,3,FALSE)) | D32: =IF(A32="","",A32) | E32: =IF(A32="","",VLOOKUP(A32,HPダウンロード情報!$A:$D,2,FALSE)) | F32: =IF(A32="","",IF(E32="展着剤",E32,VLOOKUP(A32,HPダウンロード情報!$A:$D,4,FALSE))) | K32: その他
C33: =IF(A33="","",VLOOKUP(A33,HPダウンロード情報!$A:$D,3,FALSE)) | D33: =IF(A33="","",A33) | E33: =IF(A33="","",VLOOKUP(A33,HPダウンロード情報!$A:$D,2,FALSE)) | F33: =IF(A33="","",IF(E33="展着剤",E33,VLOOKUP(A33,HPダウンロード情報!$A:$D,4,FALSE)))
C34: =IF(A34="","",VLOOKUP(A34,HPダウンロード情報!$A:$D,3,FALSE)) | D34: =IF(A34="","",A34) | E34: =IF(A34="","",VLOOKUP(A34,HPダウンロード情報!$A:$D,2,FALSE)) | F34: =IF(A34="","",IF(E34="展着剤",E34,VLOOKUP(A34,HPダウンロード情報!$A:$D,4,FALSE)))
C35: =IF(A35="","",VLOOKUP(A35,HPダウンロード情報!$A:$D,3,FALSE)) | D35: =IF(A35="","",A35) | E35: =IF(A35="","",VLOOKUP(A35,HPダウンロード情報!$A:$D,2,FALSE)) | F35: =IF(A35="","",IF(E35="展着剤",E35,VLOOKUP(A35,HPダウンロード情報!$A:$D,4,FALSE)))
C36: =IF(A36="","",VLOOKUP(A36,HPダウンロード情報!$A:$D,3,FALSE)) | D36: =IF(A36="","",A36) | E36: =IF(A36="","",VLOOKUP(A36,HPダウンロード情報!$A:$D,2,FALSE)) | F36: =IF(A36="","",IF(E36="展着剤",E36,VLOOKUP(A36,HPダウンロード情報!$A:$D,4,FALSE)))
C37: =IF(A37="","",VLOOKUP(A37,HPダウンロード情報!$A:$D,3,FALSE)) | D37: =IF(A37="","",A37) | E37: =IF(A37="","",VLOOKUP(A37,HPダウンロード情報!$A:$D,2,FALSE)) | F37: =IF(A37="","",IF(E37="展着剤",E37,VLOOKUP(A37,HPダウンロード情報!$A:$D,4,FALSE)))
C38: =IF(A38="","",VLOOKUP(A38,HPダウンロード情報!$A:$D,3,FALSE)) | D38: =IF(A38="","",A38) | E38: =IF(A38="","",VLOOKUP(A38,HPダウンロード情報!$A:$D,2,FALSE)) | F38: =IF(A38="","",IF(E38="展着剤",E38,VLOOKUP(A38,HPダウンロード情報!$A:$D,4,FALSE)))
C39: =IF(A39="","",VLOOKUP(A39,HPダウンロード情報!$A:$D,3,FALSE)) | D39: =IF(A39="","",A39) | E39: =IF(A39="","",VLOOKUP(A39,HPダウンロード情報!$A:$D,2,FALSE)) | F39: =IF(A39="","",IF(E39="展着剤",E39,VLOOKUP(A39,HPダウンロード情報!$A:$D,4,FALSE)))
C40: =IF(A40="","",VLOOKUP(A40,HPダウンロード情報!$A:$D,3,FALSE)) | D40: =IF(A40="","",A40) | E40: =IF(A40="","",VLOOKUP(A40,HPダウンロード情報!$A:$D,2,FALSE)) | F40: =IF(A40="","",IF(E40="展着剤",E40,VLOOKUP(A40,HPダウンロード情報!$A:$D,4,FALSE)))
C41: =IF(A41="","",VLOOKUP(A41,HPダウンロード情報!$A:$D,3,FALSE)) | D41: =IF(A41="","",A41) | E41: =IF(A41="","",VLOOKUP(A41,HPダウンロード情報!$A:$D,2,FALSE)) | F41: =IF(A41="","",IF(E41="展着剤",E41,VLOOKUP(A41,HPダウンロード情報!$A:$D,4,FALSE)))
C42: =IF(A42="","",VLOOKUP(A42,HPダウンロード情報!$A:$D,3,FALSE)) | D42: =IF(A42="","",A42) | E42: =IF(A42="","",VLOOKUP(A42,HPダウンロード情報!$A:$D,2,FALSE)) | F42: =IF(A42="","",IF(E42="展着剤",E42,VLOOKUP(A42,HPダウンロード情報!$A:$D,4,FALSE)))
C43: =IF(A43="","",VLOOKUP(A43,HPダウンロード情報!$A:$D,3,FALSE)) | D43: =IF(A43="","",A43) | E43: =IF(A43="","",VLOOKUP(A43,HPダウンロード情報!$A:$D,2,FALSE)) | F43: =IF(A43="","",IF(E43="展着剤",E43,VLOOKUP(A43,HPダウンロード情報!$A:$D,4,FALSE)))
C44: =IF(A44="","",VLOOKUP(A44,HPダウンロード情報!$A:$D,3,FALSE)) | D44: =IF(A44="","",A44) | E44: =IF(A44="","",VLOOKUP(A44,HPダウンロード情報!$A:$D,2,FALSE)) | F44: =IF(A44="","",IF(E44="展着剤",E44,VLOOKUP(A44,HPダウンロード情報!$A:$D,4,FALSE)))
... C138: =IF(A138="","",VLOOKUP(A138,HPダウンロード情報!$A:$D,3,FALSE)) | D138: =IF(A138="","",A138) | E138: =IF(A138="","",VLOOKUP(A138,HPダウンロード情報!$A:$D,2,FALSE)) | F138: =IF(A138="","",IF(E138="展着剤",E138,VLOOKUP(A138,HPダウンロード情報!$A:$D,4,FALSE)))

Sheet HPダウンロード情報
A1: 登録番号 | B1: 農薬の種類 | C1: 農薬の名称 | D1: 用途 | F1: 46023
A2: 52 | B2: 除虫菊乳剤 | C2: 金鳥除虫菊乳剤3 | D2: 殺虫剤
A3: 90 | B3: ｸﾛﾙﾋﾟｸﾘﾝくん蒸剤 | C3: ｶﾔｸｸﾛｰﾙﾋﾟｸﾘﾝ | D3: 殺虫剤
A4: 142 | B4: 石灰硫黄合剤 | C4: ｻﾝｹｲ石灰硫黄合剤 | D4: 殺菌剤
A5: 313 | B5: 石灰硫黄合剤 | C5: 海野石灰硫黄合剤 | D5: 殺菌剤
A6: 1057 | B6: 生石灰 | C6: 田中ﾎﾞﾙﾄﾞｰ液用生石灰 | D6: その他
A7: 1750 | B7: 生石灰 | C7: ｶﾈｼﾞｭｳ印ﾎﾞﾙﾄﾞｰ液用生石灰 | D7: その他
A8: 2040 | B8: ｸﾏﾘﾝ系水溶剤 | C8: 水溶性ﾗﾃﾐﾝ錠 | D8: 殺そ剤
A9: 2122 | B9: 液状展着剤 | C9: ﾈｵｴｽﾃﾘﾝ | D9: その他
A10: 2280 | B10: ﾏﾗｿﾝ乳剤 | C10: 日農ﾏﾗｿﾝ乳剤 | D10: 殺虫剤
A11: 2300 | B11: ﾏﾗｿﾝ乳剤 | C11: ﾎｸｺｰﾏﾗｿﾝ乳剤 | D11: 殺虫剤
A12: 2309 | B12: ﾘﾝ化亜鉛粒剤 | C12: 強力ﾗﾃﾐﾝ | D12: 殺そ剤
A13: 2532 | B13: ﾏﾗｿﾝ乳剤 | C13: ｻﾝｹｲﾏﾗｿﾝ乳剤 | D13: 殺虫剤
... A3826: 25004 | B3826: ﾀｰﾊﾞｼﾙ･ﾃﾌﾞﾁｳﾛﾝ･DCMU粒剤 | C3826: ﾒｶﾞﾚﾝｼﾞｬｰPro粒剤 | D3826: 除草剤

Sheet 農政局使用欄
A2: 接受年月日 | B2: 使用者名 | C2: 使用者住所 | D2: ゴルフ場の名称 | E2: ゴルフ場の所在地 | F2: 使用時期
A3: =提出年月日 -> 0 | B3: =ASC(会社名称) | C3: =ASC(会社住所) | D3: =ASC(ゴルフ場名称1) | E3: =ASC(ゴルフ場所在地1) | F3: =TEXT(開始年月日1,"ggge年m月d日")&"～"&TEXT(終了年月日1,"ggge年m月d日") -> 明治33年1月0日～明治33年1月0日
A4: =提出年月日 -> 0 | B4: =ASC(会社名称) | C4: =ASC(会社住所) | D4: =ASC(ゴルフ場名称2) | E4: =ASC(ゴルフ場所在地2) | F4: =IF(ゴルフ場名称2="","",TEXT(開始年月日2,"ggge年m月d日")&"～"&TEXT(終了年月日2,"ggge年m月d日"))
A5: =提出年月日 -> 0 | B5: =ASC(会社名称) | C5: =ASC(会社住所) | D5: =ASC(ゴルフ場名称3) | E5: =ASC(ゴルフ場所在地3) | F5: =IF(ゴルフ場名称3="","",TEXT(開始年月日3,"ggge年m月d日")&"～"&TEXT(終了年月日3,"ggge年m月d日"))
A6: =提出年月日 -> 0 | B6: =ASC(会社名称) | C6: =ASC(会社住所) | D6: =ASC(ゴルフ場名称4) | E6: =ASC(ゴルフ場所在地4) | F6: =IF(ゴルフ場名称4="","",TEXT(開始年月日4,"ggge年m月d日")&"～"&TEXT(終了年月日4,"ggge年m月d日"))
A7: =提出年月日 -> 0 | B7: =ASC(会社名称) | C7: =ASC(会社住所) | D7: =ASC(ゴルフ場名称5) | E7: =ASC(ゴルフ場所在地5) | F7: =IF(ゴルフ場名称5="","",TEXT(開始年月日5,"ggge年m月d日")&"～"&TEXT(終了年月日5,"ggge年m月d日"))
