Workbook

Sheet 人口1
B3: ２ 人口
A6: 区分 | F6: 総世帯数 | G6: 総人口 | J6: 人口密度 （1ｋｍ2当たり）
G7: 計 | H7: 男 | I7: 女
F8: 1 | G8: 2 | H8: 3 | I8: 4 | J8: 5
B9: 全国 | F9: 57477037 | G9: 127907086 | H9: 62394275 | I9: 65512811 | J9: =ROUND(G9/[1]土地1!$F10,1) -> 338.4
B10: 九州 | F10: 5967303 | G10: 13119903 | H10: 6213363 | I10: 6906540 | J10: =ROUND(G10/[1]土地1!$F11,1) -> 310.7
B12: 鹿児島 | F12: 807169 | G12: 1668003 | H12: 785168 | I12: 882835 | J12: =ROUND(G12/[1]土地1!$F13,1) -> 184.5
C14: 鹿児島市 | F14: 293251 | G14: 606706 | H14: 282420 | I14: 324286 | J14: =ROUND(G14/[1]土地1!$F15,1) -> 1108
C15: 鹿屋市 | F15: 50492 | G15: 104650 | H15: 49843 | I15: 54807 | J15: =ROUND(G15/[1]土地1!$F16,1) -> 233.5
C16: 枕崎市 | F16: 11067 | G16: 22192 | H16: 10140 | I16: 12052 | J16: =ROUND(G16/[1]土地1!$F17,1) -> 296.8
C17: 阿久根市 | F17: 10340 | G17: 21533 | H17: 10109 | I17: 11424 | J17: =ROUND(G17/[1]土地1!$F18,1) -> 160.3
C18: 出水市 | F18: 25019 | G18: 54667 | H18: 25612 | I18: 29055 | J18: =ROUND(G18/[1]土地1!$F19,1) -> 165.7
C19: 指宿市 | F19: 20525 | G19: 42238 | H19: 19509 | I19: 22729 | J19: =ROUND(G19/[1]土地1!$F20,1) -> 283.8
C20: 西之表市 | F20: 8178 | G20: 15924 | H20: 7550 | I20: 8374 | J20: =ROUND(G20/[1]土地1!$F21,1) -> 77.4
C21: 垂水市 | F21: 7740 | G21: 15620 | H21: 7276 | I21: 8344 | J21: =ROUND(G21/[1]土地1!$F22,1) -> 96.3
C22: 薩摩川内市 | F22: 46012 | G22: 97056 | H22: 46523 | I22: 50533 | J22: =ROUND(G22/[1]土地1!$F23,1) -> 142.1
C23: 日置市 | F23: 22786 | G23: 49858 | H23: 23545 | I23: 26313 | J23: =ROUND(G23/[1]土地1!$F24,1) -> 197.1
C24: 曽於市 | F24: 18383 | G24: 37633 | H24: 17576 | I24: 20057 | J24: =ROUND(G24/[1]土地1!$F25,1) -> 96.5
C25: 霧島市 | F25: 59963 | G25: 126620 | H25: 60776 | I25: 65844 | J25: =ROUND(G25/[1]土地1!$F26,1) -> 209.9
... C32: 姶良市 | F32: 35547 | G32: 76680 | H32: 35894 | I32: 40786 | J32: =ROUND(G32/[1]土地1!$F33,1) -> 331.6
B33: 資料：総務省自治行政局『住民基本台帳に基づく人口、人口動態及び世帯数』（平成29年1月1日現在）
B34: 注：人口密度は、総人口計を「１ 土地」に掲載している総土地面積で除したものです。

Sheet 人口2
B3: ２ 人口（続き）
A6: 区分 | F6: 総世帯数 | G6: 総人口 | J6: 人口密度 （1ｋｍ2当たり）
G7: 計 | H7: 男 | I7: 女
F8: 1 | G8: 2 | H8: 3 | I8: 4 | J8: 5
C9: 三島村 | F9: 207 | G9: 379 | H9: 186 | I9: 193 | J9: =ROUND(G9/[1]土地2!F10,1) -> 12.1
C10: 十島村 | F10: 394 | G10: 719 | H10: 380 | I10: 339 | J10: =ROUND(G10/[1]土地2!F11,1) -> 7.1
C11: さつま町 | F11: 10585 | G11: 22219 | H11: 10323 | I11: 11896 | J11: =ROUND(G11/[1]土地2!F12,1) -> 73.1
C12: 長島町 | F12: 4471 | G12: 10793 | H12: 5213 | I12: 5580 | J12: =ROUND(G12/[1]土地2!F13,1) -> 92.9
C13: 湧水町 | F13: 4879 | G13: 9834 | H13: 4590 | I13: 5244 | J13: =ROUND(G13/[1]土地2!F14,1) -> 68.2
C14: 大崎町 | F14: 6837 | G14: 13622 | H14: 6487 | I14: 7135 | J14: =ROUND(G14/[1]土地2!F15,1) -> 135.3
C15: 東串良町 | F15: 3267 | G15: 6804 | H15: 3205 | I15: 3599 | J15: =ROUND(G15/[1]土地2!F16,1) -> 244.9
C16: 錦江町 | F16: 3974 | G16: 8022 | H16: 3744 | I16: 4278 | J16: =ROUND(G16/[1]土地2!F17,1) -> 49.2
C17: 南大隅町 | F17: 4134 | G17: 7757 | H17: 3666 | I17: 4091 | J17: =ROUND(G17/[1]土地2!F18,1) -> 36.3
C18: 肝付町 | F18: 8173 | G18: 16120 | H18: 7764 | I18: 8356 | J18: =ROUND(G18/[1]土地2!F19,1) -> 52.3
C19: 中種子町 | F19: 4353 | G19: 8272 | H19: 3926 | I19: 4346 | J19: =ROUND(G19/[1]土地2!F20,1) -> 60.3
C20: 南種子町 | F20: 2955 | G20: 5767 | H20: 2842 | I20: 2925 | J20: =ROUND(G20/[1]土地2!F21,1) -> 52.3
... C32: 与論町 | F32: 2558 | G32: 5339 | H32: 2595 | I32: 2744 | J32: =ROUND(G32/[1]土地2!F33,1) -> 259.4
B33: 資料：総務省自治行政局『住民基本台帳に基づく人口、人口動態及び世帯数』（平成29年1月1日現在）
B34: 注：人口密度は、総人口計を「１ 土地」に掲載している総土地面積で除したものです。
