Workbook

Sheet 人口
B3: ２ 人口
A6: 区分 | F6: 総世帯数 | G6: 総人口 | J6: 人口密度 （1ｋｍ2当たり）
G7: 計 | H7: 男 | I7: 女
F8: 1 | G8: 2 | H8: 3 | I8: 4 | J8: 5
B9: 全国 | F9: 57477037 | G9: 127907086 | H9: 62394275 | I9: 65512811 | J9: =ROUND(G9/[1]土地!$F10,1) -> 338.4
B10: 九州 | F10: 5967303 | G10: 13119903 | H10: 6213363 | I10: 6906540 | J10: =ROUND(G10/[1]土地!$F11,1) -> 310.7
B12: 佐賀 | F12: 328015 | G12: 837977 | H12: 397243 | I12: 440734 | J12: =ROUND(G12/[1]土地!$F13,1) -> 343.3
C14: 佐賀市 | F14: 98242 | G14: 234758 | H14: 110576 | I14: 124182 | J14: =ROUND(G14/[1]土地!$F15,1) -> 543.6
C15: 唐津市 | F15: 50281 | G15: 125001 | H15: 58800 | I15: 66201 | J15: =ROUND(G15/[1]土地!$F16,1) -> 256.4
C16: 鳥栖市 | F16: 29802 | G16: 72845 | H16: 35219 | I16: 37626 | J16: =ROUND(G16/[1]土地!$F17,1) -> 1015.7
C17: 多久市 | F17: 7821 | G17: 19929 | H17: 9329 | I17: 10600 | J17: =ROUND(G17/[1]土地!$F18,1) -> 205.5
C18: 伊万里市 | F18: 23048 | G18: 56034 | H18: 26927 | I18: 29107 | J18: =ROUND(G18/[1]土地!$F19,1) -> 219.5
C19: 武雄市 | F19: 17892 | G19: 49674 | H19: 23570 | I19: 26104 | J19: =ROUND(G19/[1]土地!$F20,1) -> 254.2
C20: 鹿島市 | F20: 10782 | G20: 30205 | H20: 14222 | I20: 15983 | J20: =ROUND(G20/[1]土地!$F21,1) -> 269.4
C21: 小城市 | F21: 16003 | G21: 45641 | H21: 21589 | I21: 24052 | J21: =ROUND(G21/[1]土地!$F22,1) -> 476.4
C22: 嬉野市 | F22: 9873 | G22: 27020 | H22: 12678 | I22: 14342 | J22: =ROUND(G22/[1]土地!$F23,1) -> 213.7
C23: 神埼市 | F23: 11592 | G23: 32043 | H23: 15356 | I23: 16687 | J23: =ROUND(G23/[1]土地!$F24,1) -> 256.1
C24: 吉野ヶ里町 | F24: 6139 | G24: 16221 | H24: 7921 | I24: 8300 | J24: =ROUND(G24/[1]土地!$F25,1) -> 368.7
C25: 基山町 | F25: 6608 | G25: 17391 | H25: 8293 | I25: 9098 | J25: =ROUND(G25/[1]土地!$F26,1) -> 785.1
... C33: 太良町 | F33: 3190 | G33: 9148 | H33: 4375 | I33: 4773 | J33: =ROUND(G33/[1]土地!$F34,1) -> 123.1
B34: 資料：総務省自治行政局『住民基本台帳に基づく人口、人口動態及び世帯数』（平成29年1月1日現在）
B35: 注：人口密度は、総人口計を「１ 土地」に掲載している総土地面積で除したものです。
