Workbook

Sheet 人口
AB1: ="１ 長崎県市町図 "&3 -> １ 長崎県市町図 3
B3: ２ 人口
A6: 区分 | F6: 総世帯数 | G6: 総人口 | J6: 人口密度 （1ｋｍ2当たり）
G7: 計 | H7: 男 | I7: 女
F8: 1 | G8: 2 | H8: 3 | I8: 4 | J8: 5
B9: 全国 | F9: 57477037 | G9: 127907086 | H9: 62394275 | I9: 65512811 | J9: =ROUND(G9/[1]土地!F10,1) -> 338.4
B10: 九州 | F10: 5967303 | G10: 13119903 | H10: 6213363 | I10: 6906540 | J10: =ROUND(G10/[1]土地!F11,1) -> 310.7
B12: 長崎 | F12: 635020 | G12: 1392950 | H12: 656314 | I12: 736636 | J12: =ROUND(G12/[1]土地!F13,1) -> 337.1
C14: 長崎市 | F14: 210919 | G14: 432088 | H14: 201292 | I14: 230796 | J14: =ROUND(G14/[1]土地!F15,1) -> 1064.6
C15: 佐世保市 | F15: 121973 | G15: 256520 | H15: 120709 | I15: 135811 | J15: =ROUND(G15/[1]土地!F16,1) -> 602.1
C16: 島原市 | F16: 19570 | G16: 46414 | H16: 21577 | I16: 24837 | J16: =ROUND(G16/[1]土地!F17,1) -> 559.4
C17: 諫早市 | F17: 59389 | G17: 139407 | H17: 65792 | I17: 73615 | J17: =ROUND(G17/[1]土地!F18,1) -> 407.9
C18: 大村市 | F18: 41795 | G18: 95249 | H18: 45496 | I18: 49753 | J18: =ROUND(G18/[1]土地!F19,1) -> 752.2
C19: 平戸市 | F19: 14194 | G19: 32639 | H19: 15296 | I19: 17343 | J19: =ROUND(G19/[1]土地!F20,1) -> 138.8
C20: 松浦市 | F20: 10260 | G20: 23725 | H20: 11401 | I20: 12324 | J20: =ROUND(G20/[1]土地!F21,1) -> 181.7
C21: 対馬市 | F21: 15151 | G21: 31853 | H21: 15639 | I21: 16214 | J21: =ROUND(G21/[1]土地!F22,1) -> 44.9
C22: 壱岐市 | F22: 11636 | G22: 27581 | H22: 13142 | I22: 14439 | J22: =ROUND(G22/[1]土地!F23,1) -> 197.8
C23: 五島市 | F23: 20113 | G23: 38297 | H23: 17982 | I23: 20315 | J23: =ROUND(G23/[1]土地!F24,1) -> 91.2
C24: 西海市 | F24: 12778 | G24: 29025 | H24: 14169 | I24: 14856 | J24: =ROUND(G24/[1]土地!F25,1) -> 120.1
C25: 雲仙市 | F25: 17162 | G25: 45147 | H25: 21390 | I25: 23757 | J25: =ROUND(G25/[1]土地!F26,1) -> 210.7
... C34: 新上五島町 | F34: 10049 | G34: 20142 | H34: 9513 | I34: 10629 | J34: =ROUND(G34/[1]土地!F35,1) -> 94.1
B35: 資料：総務省自治行政局『住民基本台帳に基づく人口、人口動態及び世帯数』（平成29年1月1日現在）
B36: 注：人口密度は、総人口計を「１ 土地」に掲載している総土地面積で除したものです。
