Workbook

Sheet チェックシート
A1: 農山漁村振興交付金事業実施チェックシート
A2: 令和５年度農山漁村振興交付金（農山漁村発イノベーション対策） （農山漁村発イノベーション推進事業（農泊推進型）のうち農泊地域高度化促進事業）
B4: 事業メニューの選択
A5: □ | B5: 農泊地域高度化促進事業（（１）インバウンド対応）
A6: □ | B6: 農泊地域高度化促進事業（（２）ア 高付加価値対応（食））
A7: □ | B7: 農泊地域高度化促進事業（（２）イ 高付加価値対応（景観））
A8: □ | B8: 農泊地域高度化促進事業（（３）ワーケーション対応）
B10: 地域・事業実施主体の概要
A11: □ | B11: 事業実施主体（地域協議会）構成員数（団体数） | E11: 0 | F11: 名 | G11: 0 | H11: 団体
A12: □ | B12: うち宿泊関係者数（団体数） | E12: ○○ | F12: 名 | G12: ○○ | H12: 団体
A13: □ | B13: うち飲食関係者数（団体数） | E13: ○○ | F13: 名 | G13: ○○ | H13: 団体
A14: □ | B14: うち体験プログラム提供者数（団体数） | E14: ○○ | F14: 名 | G14: ○○ | H14: 団体
A15: □ | B15: 上記以外の連携団体の有無
B16: （有の場合は、連携団体の構成員数（団体数） | E16: ○○ | F16: 名 | G16: ○○ | H16: 団体
B17: ※団体数は構成員が所属する組織数とする。
B19: 課題に対する対応（営業の最低継続期間）
A20: □ | B20: 農泊地域高度化促進事業は、事業完了後５年間の営業継続を行う必要 | G20: 令和 | H20: ○○ | I20: 年
B22: 目標
A23: □ | B23: 目標及び評価指標（農泊地域高度化促進事業）
A24: =+A5 -> □ | B24: インバウンド対応
A25: =+A6 -> □ | B25: 高付加価値化対応（食）
A26: =+A7 -> □ | B26: 高付加価値化対応（景観）
A27: =+A8 -> □ | B27: ワーケーション対応
B28: 目標項目 | D28: 現状 | E28: 途中年度 | F28: 目標年度 | G28: 目標設定の考え方
D29: 令和〇年度 | E29: 令和〇年度 | F29: 令和〇年度
B33: 評価指標項目 | D33: 現状 | E33: 途中年度 | F33: 目標年度 | G33: 評価指標設定の考え方
D34: =+D29 -> 令和〇年度 | E34: =+E29 -> 令和〇年度 | F34: =+F29 -> 令和〇年度
B38: ※ 数値は事業実施主体構成員の数値の単純合計とする。
A40: □ | B40: 【参考】
B41: 目標項目 | D41: 現状 | E41: 事業着手５年目
D42: =+D29 -> 令和〇年度 | E42: 令和〇年度
B43: 年間宿泊者数（人泊）
A45: ※１ | B45: 事業期間が１年間の場合は途中年度を空欄とし、目標年度を事業完了年度である令和５年度とする。
A46: ※２ | B46: 「目標設定の考え方」について、客観的な数値（例：県の観光計画、近年の旅行者数の伸び、インバウンド需要の伸び（LCC就航、クルーズ船入港計画等）、観光インフラ整備状況）を基礎として記載することとする。また、参考となる資料は別添として添付することとする。
A48: ※３ | B48: 評価指標については、飲食店の来店者数、直売所の来場者数、体験プログラム数等の目標の達成に向けた評価項目を複数設定すること。
A49: ※４ | B49: それぞれの対応ごとに以下の数値目標を設定すること。
B50: （１）インバウンド対応：インバウンドによる地域の売上高（万円）及び延べ宿泊者数（人泊）
B51: （２）ア 高付加価値化対応（食）：新たに開発したメニュー等の売上高（万円）及び延べ利用者数（人）
B52: （２）イ 高付加価値化対応（景観）：新たに開発した体験プログラムの売上高（万円）及び延べ利用者数（人）
B53: （３）ワーケーション対応：ワーケーションによる地域の売上高（万円）及び延べワーケーション利用者数（人）

Sheet 構成員による目標の内訳
A2: 農泊推進事業・人材活用事業・高度化促進事業(施設整備事業分を除く)
A3: 【地域の売上高】 | F3: 単位:万円
A4: 構成員名 | B4: 宿泊・飲食・体験 | C4: 現状 | D4: 途中年度 | E4: 目標年度 | F4: 食材提供農業者等名
C5: =+チェックシート!D29 -> 令和〇年度 | D5: =+チェックシート!E29 -> 令和〇年度 | E5: =+チェックシート!F29 -> 令和〇年度
A14: 合計 | C14: =SUM(C6:C13) -> 0 | D14: =SUM(D6:D13) -> 0 | E14: =SUM(E6:E13) -> 0
A16: 【延べ宿泊者数】 | F16: 単位;人/泊
A17: 構成員名 | B17: 宿泊 | C17: 現状 | D17: 途中年度 | E17: 目標年度 | F17: 備考
C18: =+チェックシート!D29 -> 令和〇年度 | D18: =+チェックシート!E29 -> 令和〇年度 | E18: =+チェックシート!F29 -> 令和〇年度
A27: 合計 | C27: =SUM(C19:C26) -> 0 | D27: =SUM(D19:D26) -> 0 | E27: =SUM(E19:E26) -> 0
A29: ※１ 事業期間が１年間の場合は途中年度を空欄とし、目標年度を事業完了年度である令和５年度とする。

Sheet 事業実施主体構成員
B1: 地域・事業実施主体の概要
A2: =+チェックシート!A11 -> □ | B2: 事業実施主体（地域協議会）構成員数（団体数） | C2: =+チェックシート!E11 -> 0 | D2: 名 | E2: =+チェックシート!G11 -> 0 | F2: 団体
A3: =+チェックシート!A12 -> □ | B3: うち宿泊関係者数（団体数） | C3: =+チェックシート!E12 -> ○○ | D3: 名 | E3: =+チェックシート!G12 -> ○○ | F3: 団体
A4: =+チェックシート!A13 -> □ | B4: うち飲食関係者数（団体数） | C4: =+チェックシート!E13 -> ○○ | D4: 名 | E4: =+チェックシート!G13 -> ○○ | F4: 団体
A5: =+チェックシート!A14 -> □ | B5: うち体験プログラム提供者数（団体数） | C5: =+チェックシート!E14 -> ○○ | D5: 名 | E5: =+チェックシート!G14 -> ○○ | F5: 団体
A6: =+チェックシート!A15 -> □ | B6: 上記以外の連携団体の有無
B7: （有の場合は、連携団体の構成員数（団体数） | C7: =+チェックシート!E16 -> ○○ | D7: 名 | E7: =+チェックシート!G16 -> ○○ | F7: 団体
B9: 事業実施主体構成員（上記表の構成員数と整合）
B10: 事業実施主体構成員（団体又は個人）の名称[法人形態] | C10: 中核法人 | D10: 事業実施主体内における役割 | G10: インバウンド受入対応の可否 | H10: ワーケーション受入対応の可否
B11: 所在地及び連絡先
B24: ※１ 地域協議会構成員については、宿泊、食事及び体験プログラムを提供する者を含むこと。
B25: ※２ 「中核法人」欄には中核法人（農泊実施の中心的な役割を担う法人又は当該法人となることが見込まれる団体）である者の箇所に「〇」印を記載すること。
B26: ※３ 「事業実施主体内における役割」欄には、「体験プログラム（○○○）を提供」「飲食店（○○○）を提供」「宿泊（定員：○名）」等具体的に記載すること。
B27: ※４ 事業実施主体が連携体の場合は、地域協議会及びその構成員である農家民泊経営者等を全て記載すること。
B29: 役員名簿
B30: 役職等 | C30: 氏名 | F30: 氏名
B31: ①代表者 | E31: ①の地位継承者
B32: ②運営責任者（プロジェクトマネージャー） | E32: ②の地位継承者
B33: ③事務局長 | E33: ③の地位継承者
B34: ④経理責任者 | E34: ④の地位継承者
B35: ⑤監事
B36: ※１ 「事業実施主体構成員」における役割分担を踏まえつつ、代表者、運営責任者（プロジェクトマネージャー）、事務局長及び経理責任者が不在となった場合の地位継承者等を必ず明示すること。
B38: ※２ 代表者、運営責任者（プロジェクトマネージャー）、事務局長、経理責任者、監事については、経歴や実績（ただし、観光や地域振興に関係した分野に限定）を添付すること。

Sheet 取組内容と主な経費（高度化促進事業）１年目
C2: 事業計画とその経費の内訳（※ 積算資料は必ず添付してください。）（高度化促進事業用）
C3: 取組内容と主な経費（１年目） | H3: （単位：千円）
B4: 取組内容 | D4: 総事業費 | E4: 本交付金 | F4: 他の補助金等 | G4: 自己資金 | H4: 備考
B5: １．農泊地域高度化促進事業 | D5: ①＝②＋③＋④ | E5: ② | F5: ③ | G5: ④
A6: =+チェックシート!A5 -> □ | C6: （１)iインバウンド対応
C7: 小計 | D7: =SUM(D8:D10) -> 0 | E7: =SUM(E8:E10) -> 0 | F7: =SUM(F8:F10) -> 0 | G7: =SUM(G8:G10) -> 0
D8: =SUM(E8:G8) -> 0
D9: =SUM(E9:G9) -> 0
D10: =SUM(E10:G10) -> 0
A11: =+チェックシート!A6 -> □ | C11: （２）ア高付加価値化対応（食）
C12: 小計 | D12: =SUM(D13:D15) -> 0 | E12: =SUM(E13:E15) -> 0 | F12: =SUM(F13:F15) -> 0 | G12: =SUM(G13:G15) -> 0
D13: =SUM(E13:G13) -> 0
D14: =SUM(E14:G14) -> 0
D15: =SUM(E15:G15) -> 0
A16: =+チェックシート!A7 -> □ | C16: （２）イ高付加価値化対応（景観）
C17: 小計 | D17: =SUM(D18:D20) -> 0 | E17: =SUM(E18:E20) -> 0 | F17: =SUM(F18:F20) -> 0 | G17: =SUM(G18:G20) -> 0
D18: =SUM(E18:G18) -> 0
D19: =SUM(E19:G19) -> 0
D20: =SUM(E20:G20) -> 0
A21: =+チェックシート!A8 -> □ | C21: （３）ワーケーション対応
C22: 小計 | D22: =SUM(D23:D25) -> 0 | E22: =SUM(E23:E25) -> 0 | F22: =SUM(F23:F25) -> 0 | G22: =SUM(G23:G25) -> 0
D23: =SUM(E23:G23) -> 0
D24: =SUM(E24:G24) -> 0
D25: =SUM(E25:G25) -> 0
B26: 注１ 取組内容は提案書の「解決される地域課題」に対する対応（事業実施内容）と整合を図ること。
B27: 注２ 「他の補助金等は」又は「自己資金」がある場合は、備考欄に資金の性格（相手方、資金の受入時期等）を必ず記載すること。
B28: 注３ 事業期間が複数年の場合、年度毎に整理すること。

Sheet 取組内容と主な経費（高度化促進事業）２年目
C2: 事業計画とその経費の内訳（※ 積算資料は必ず添付してください。）（高度化促進事業用）
C3: 取組内容と主な経費（２年目） | H3: （単位：千円）
B4: 取組内容 | D4: 総事業費 | E4: 本交付金 | F4: 他の補助金等 | G4: 自己資金 | H4: 備考
B5: １．農泊地域高度化促進事業 | D5: ①＝②＋③＋④ | E5: ② | F5: ③ | G5: ④
A6: =+チェックシート!A5 -> □ | C6: （１)iインバウンド対応
C7: 小計 | D7: =SUM(D8:D10) -> 0 | E7: =SUM(E8:E10) -> 0 | F7: =SUM(F8:F10) -> 0 | G7: =SUM(G8:G10) -> 0
D8: =SUM(E8:G8) -> 0
D9: =SUM(E9:G9) -> 0
D10: =SUM(E10:G10) -> 0
A11: =+チェックシート!A6 -> □ | C11: （２）ア高付加価値化対応（食）
C12: 小計 | D12: =SUM(D13:D15) -> 0 | E12: =SUM(E13:E15) -> 0 | F12: =SUM(F13:F15) -> 0 | G12: =SUM(G13:G15) -> 0
D13: =SUM(E13:G13) -> 0
D14: =SUM(E14:G14) -> 0
D15: =SUM(E15:G15) -> 0
A16: =+チェックシート!A7 -> □ | C16: （２）イ高付加価値化対応（景観）
C17: 小計 | D17: =SUM(D18:D20) -> 0 | E17: =SUM(E18:E20) -> 0 | F17: =SUM(F18:F20) -> 0 | G17: =SUM(G18:G20) -> 0
D18: =SUM(E18:G18) -> 0
D19: =SUM(E19:G19) -> 0
D20: =SUM(E20:G20) -> 0
A21: =+チェックシート!A8 -> □ | C21: （３）ワーケーション対応
C22: 小計 | D22: =SUM(D23:D25) -> 0 | E22: =SUM(E23:E25) -> 0 | F22: =SUM(F23:F25) -> 0 | G22: =SUM(G23:G25) -> 0
D23: =SUM(E23:G23) -> 0
D24: =SUM(E24:G24) -> 0
D25: =SUM(E25:G25) -> 0
B26: 注１ 取組内容は提案書の「解決される地域課題」に対する対応（事業実施内容）と整合を図ること。
B27: 注２ 「他の補助金等は」又は「自己資金」がある場合は、備考欄に資金の性格（相手方、資金の受入時期等）を必ず記載すること。
B28: 注３ 事業期間が複数年の場合、年度毎に整理すること。

Sheet 農泊推進事業の実績
B1: 事業メニューの選択
A2: =+チェックシート!A5 -> □ | B2: 農泊地域高度化促進事業（（１）インバウンド対応）
A3: =+チェックシート!A6 -> □ | B3: 農泊地域高度化促進事業（（２）ア 高付加価値対応（食））
A4: =+チェックシート!A7 -> □ | B4: 農泊地域高度化促進事業（（２）イ 高付加価値対応（景観））
A5: =+チェックシート!A8 -> □ | B5: 農泊地域高度化促進事業（（３）ワーケーション対応）
B6: 過去の農泊推進事業の取組の概要
B7: 農泊推進事業の実施年度 | D7: 〇 | E7: 年度 | F7: ～ | H7: 〇 | I7: 年度
B8: 当時の事業実施主体名
B9: 実施要領別表２において農泊地域高度化促進事業の選定要件を踏まえた取組を記載

Sheet 選択肢
A2: ☑ | B2: インバウンド対応 | E2: インバウンドによる地域の売上高（万円） | J2: 新設 | L2: 宿泊 | N2: 平成
A3: □ | B3: 高付加価値化対応（食） | E3: 延べ宿泊者数（人泊） | J3: 改修 | L3: 飲食 | N3: 令和
B4: 高付加価値化対応（景観） | E4: 新たに開発したメニュー等の売上高（万円） | L4: 体験
B5: ワーケーション対応 | E5: 延べ利用者数（人）
A6: ○ | E6: 新たに開発した体験プログラムの売上高（万円）
A7: － | E7: ワーケーションによる地域の売上高（万円）
E8: ワーケーション利用者数（人）
