Workbook
Name そば: OFFSET('そば (2)'!$A$5,参照!$D$127,1,1,10)
Name 愛知県: 市町村!$B$2:$B$55
Name 岐阜県: 市町村!$A$2:$A$43
Name 県名: 市町村!$A$1:$C$1
Name 三重県: 市町村!$C$2:$C$30
Name 小麦: OFFSET('小麦 (2)'!$A$5,参照!$D$127,1,1,10)
Name 大豆: OFFSET('大豆 (2)'!$A$5,参照!$D$127,1,1,10)
Name 六条: OFFSET('六条 (2)'!$A$5,参照!$D$127,1,1,10)

Sheet 市町村別統計累年ファイル
C4: 県 | F4: 市町村
C5: 岐阜県 | F5: 岐阜市
B8: １ 耕地面積 | P8: 単位 ： 面積（ha）、10ａ当たり収量（kg）、収穫量（ｔ）
P11: 区分 | Q11: 計 | U11: 田 | AC11: 畑
Y12: 本地
P13: =GRAPHDATA!A4 -> 平成 27年 | Q13: =IF(COUNTIF(参照!$C$1:$C$125,$C$5&$F$5)=1,VLOOKUP($C$5&$F$5,耕地!$A$6:$AO$130,2,FALSE),"") -> 4030 | U13: =IF(COUNTIF(参照!$C$1:$C$125,$C$5&$F$5)=1,VLOOKUP($C$5&$F$5,耕地!$A$6:$AO$130,3,FALSE),"") -> 2990 | Y13: =IF(COUNTIF(参照!$C$1:$C$125,$C$5&$F$5)=1,VLOOKUP($C$5&$F$5,耕地!$A$6:$AO$130,4,FALSE),"") -> 2910 | AC13: =IF(COUNTIF(参照!$C$1:$C$125,$C$5&$F$5)=1,VLOOKUP($C$5&$F$5,耕地!$A$6:$AO$130,5,FALSE),"") -> 1040
P14: =GRAPHDATA!A5 -> 28 | Q14: =IF(COUNTIF(参照!$C$1:$C$125,$C$5&$F$5)=1,VLOOKUP($C$5&$F$5,耕地!$A$6:$AO$130,6,FALSE),"") -> 4010 | U14: =IF(COUNTIF(参照!$C$1:$C$125,$C$5&$F$5)=1,VLOOKUP($C$5&$F$5,耕地!$A$6:$AO$130,7,FALSE),"") -> 2950 | Y14: =IF(COUNTIF(参照!$C$1:$C$125,$C$5&$F$5)=1,VLOOKUP($C$5&$F$5,耕地!$A$6:$AO$130,8,FALSE),"") -> 2880 | AC14: =IF(COUNTIF(参照!$C$1:$C$125,$C$5&$F$5)=1,VLOOKUP($C$5&$F$5,耕地!$A$6:$AO$130,9,FALSE),"") -> 1060
P15: =GRAPHDATA!A6 -> 29 | Q15: =IF(COUNTIF(参照!$C$1:$C$125,$C$5&$F$5)=1,VLOOKUP($C$5&$F$5,耕地!$A$6:$AO$130,10,FALSE),"") -> 3950 | U15: =IF(COUNTIF(参照!$C$1:$C$125,$C$5&$F$5)=1,VLOOKUP($C$5&$F$5,耕地!$A$6:$AO$130,11,FALSE),"") -> 2900 | Y15: =IF(COUNTIF(参照!$C$1:$C$125,$C$5&$F$5)=1,VLOOKUP($C$5&$F$5,耕地!$A$6:$AO$130,12,FALSE),"") -> 2820 | AC15: =IF(COUNTIF(参照!$C$1:$C$125,$C$5&$F$5)=1,VLOOKUP($C$5&$F$5,耕地!$A$6:$AO$130,13,FALSE),"") -> 1060
P16: =GRAPHDATA!A7 -> 30 | Q16: =IF(COUNTIF(参照!$C$1:$C$125,$C$5&$F$5)=1,VLOOKUP($C$5&$F$5,耕地!$A$6:$AO$130,14,FALSE),"") -> 3950 | U16: =IF(COUNTIF(参照!$C$1:$C$125,$C$5&$F$5)=1,VLOOKUP($C$5&$F$5,耕地!$A$6:$AO$130,15,FALSE),"") -> 2880 | Y16: =IF(COUNTIF(参照!$C$1:$C$125,$C$5&$F$5)=1,VLOOKUP($C$5&$F$5,耕地!$A$6:$AO$130,16,FALSE),"") -> 2810 | AC16: =IF(COUNTIF(参照!$C$1:$C$125,$C$5&$F$5)=1,VLOOKUP($C$5&$F$5,耕地!$A$6:$AO$130,17,FALSE),"") -> 1070
P17: =GRAPHDATA!A8 -> 令和 元年 | Q17: =IF(COUNTIF(参照!$C$1:$C$125,$C$5&$F$5)=1,VLOOKUP($C$5&$F$5,耕地!$A$6:$AO$130,18,FALSE),"") -> 3930 | U17: =IF(COUNTIF(参照!$C$1:$C$125,$C$5&$F$5)=1,VLOOKUP($C$5&$F$5,耕地!$A$6:$AO$130,19,FALSE),"") -> 2860 | Y17: =IF(COUNTIF(参照!$C$1:$C$125,$C$5&$F$5)=1,VLOOKUP($C$5&$F$5,耕地!$A$6:$AO$130,20,FALSE),"") -> 2790 | AC17: =IF(COUNTIF(参照!$C$1:$C$125,$C$5&$F$5)=1,VLOOKUP($C$5&$F$5,耕地!$A$6:$AO$130,21,FALSE),"") -> 1070
P18: =GRAPHDATA!A9 -> 2 | Q18: =IF(COUNTIF(参照!$C$1:$C$125,$C$5&$F$5)=1,VLOOKUP($C$5&$F$5,耕地!$A$6:$AO$130,22,FALSE),"") -> 3930 | U18: =IF(COUNTIF(参照!$C$1:$C$125,$C$5&$F$5)=1,VLOOKUP($C$5&$F$5,耕地!$A$6:$AO$130,23,FALSE),"") -> 2850 | Y18: =IF(COUNTIF(参照!$C$1:$C$125,$C$5&$F$5)=1,VLOOKUP($C$5&$F$5,耕地!$A$6:$AO$130,24,FALSE),"") -> 2780 | AC18: =IF(COUNTIF(参照!$C$1:$C$125,$C$5&$F$5)=1,VLOOKUP($C$5&$F$5,耕地!$A$6:$AO$130,25,FALSE),"") -> 1080
P19: =GRAPHDATA!A10 -> 3 | Q19: =IF(COUNTIF(参照!$C$1:$C$125,$C$5&$F$5)=1,VLOOKUP($C$5&$F$5,耕地!$A$6:$AO$130,26,FALSE),"") -> 3930 | U19: =IF(COUNTIF(参照!$C$1:$C$125,$C$5&$F$5)=1,VLOOKUP($C$5&$F$5,耕地!$A$6:$AO$130,27,FALSE),"") -> 2850 | Y19: =IF(COUNTIF(参照!$C$1:$C$125,$C$5&$F$5)=1,VLOOKUP($C$5&$F$5,耕地!$A$6:$AO$130,28,FALSE),"") -> 2770 | AC19: =IF(COUNTIF(参照!$C$1:$C$125,$C$5&$F$5)=1,VLOOKUP($C$5&$F$5,耕地!$A$6:$AO$130,29,FALSE),"") -> 1080
P20: =GRAPHDATA!A11 -> 4 | Q20: =IF(COUNTIF(参照!$C$1:$C$125,$C$5&$F$5)=1,VLOOKUP($C$5&$F$5,耕地!$A$6:$AO$130,30,FALSE),"") -> 3900 | U20: =IF(COUNTIF(参照!$C$1:$C$125,$C$5&$F$5)=1,VLOOKUP($C$5&$F$5,耕地!$A$6:$AO$130,31,FALSE),"") -> 2830 | Y20: =IF(COUNTIF(参照!$C$1:$C$125,$C$5&$F$5)=1,VLOOKUP($C$5&$F$5,耕地!$A$6:$AO$130,32,FALSE),"") -> 2760 | AC20: =IF(COUNTIF(参照!$C$1:$C$125,$C$5&$F$5)=1,VLOOKUP($C$5&$F$5,耕地!$A$6:$AO$130,33,FALSE),"") -> 1070
P21: =GRAPHDATA!A12 -> 5 | Q21: =IF(COUNTIF(参照!$C$1:$C$125,$C$5&$F$5)=1,VLOOKUP($C$5&$F$5,耕地!$A$6:$AO$130,34,FALSE),"") -> 3880 | U21: =IF(COUNTIF(参照!$C$1:$C$125,$C$5&$F$5)=1,VLOOKUP($C$5&$F$5,耕地!$A$6:$AO$130,35,FALSE),"") -> 2810 | Y21: =IF(COUNTIF(参照!$C$1:$C$125,$C$5&$F$5)=1,VLOOKUP($C$5&$F$5,耕地!$A$6:$AO$130,36,FALSE),"") -> 2740 | AC21: =IF(COUNTIF(参照!$C$1:$C$125,$C$5&$F$5)=1,VLOOKUP($C$5&$F$5,耕地!$A$6:$AO$130,37,FALSE),"") -> 1070
P22: =GRAPHDATA!A13 -> 6 | Q22: =IF(COUNTIF(参照!$C$1:$C$125,$C$5&$F$5)=1,VLOOKUP($C$5&$F$5,耕地!$A$6:$AO$130,38,FALSE),"") -> 3770 | U22: =IF(COUNTIF(参照!$C$1:$C$125,$C$5&$F$5)=1,VLOOKUP($C$5&$F$5,耕地!$A$6:$AO$130,39,FALSE),"") -> 2720 | Y22: =IF(COUNTIF(参照!$C$1:$C$125,$C$5&$F$5)=1,VLOOKUP($C$5&$F$5,耕地!$A$6:$AO$130,40,FALSE),"") -> 2650 | AC22: =IF(COUNTIF(参照!$C$1:$C$125,$C$5&$F$5)=1,VLOOKUP($C$5&$F$5,耕地!$A$6:$AO$130,41,FALSE),"") -> 1060
B25: ２ 水稲
P28: 区分 | Q28: 作付 面積 | V28: 10ａ当たり 収量 | AA28: 収穫量
P30: =GRAPHDATA!G4 -> 平成 27年産 | Q30: =IF(COUNTIF(参照!$C$1:$C$125,$C$5&$F$5)=1,VLOOKUP($C$5&$F$5,水稲!$A$6:$AE$130,2,FALSE),"") -> 1580 | V30: =IF(COUNTIF(参照!$C$1:$C$125,$C$5&$F$5)=1,VLOOKUP($C$5&$F$5,水稲!$A$6:$AE$130,3,FALSE),"") -> 469 | AA30: =IF(COUNTIF(参照!$C$1:$C$125,$C$5&$F$5)=1,VLOOKUP($C$5&$F$5,水稲!$A$6:$AE$130,4,FALSE),"") -> 7390
P31: =GRAPHDATA!G5 -> 28 | Q31: =IF(COUNTIF(参照!$C$1:$C$125,$C$5&$F$5)=1,VLOOKUP($C$5&$F$5,水稲!$A$6:$AE$130,5,FALSE),"") -> 1500 | V31: =IF(COUNTIF(参照!$C$1:$C$125,$C$5&$F$5)=1,VLOOKUP($C$5&$F$5,水稲!$A$6:$AE$130,6,FALSE),"") -> 475 | AA31: =IF(COUNTIF(参照!$C$1:$C$125,$C$5&$F$5)=1,VLOOKUP($C$5&$F$5,水稲!$A$6:$AE$130,7,FALSE),"") -> 7130
P32: =GRAPHDATA!G6 -> 29 | Q32: =IF(COUNTIF(参照!$C$1:$C$125,$C$5&$F$5)=1,VLOOKUP($C$5&$F$5,水稲!$A$6:$AE$130,8,FALSE),"") -> 1470 | V32: =IF(COUNTIF(参照!$C$1:$C$125,$C$5&$F$5)=1,VLOOKUP($C$5&$F$5,水稲!$A$6:$AE$130,9,FALSE),"") -> 475 | AA32: =IF(COUNTIF(参照!$C$1:$C$125,$C$5&$F$5)=1,VLOOKUP($C$5&$F$5,水稲!$A$6:$AE$130,10,FALSE),"") -> 7000
P33: =GRAPHDATA!G7 -> 30 | Q33: =IF(COUNTIF(参照!$C$1:$C$125,$C$5&$F$5)=1,VLOOKUP($C$5&$F$5,水稲!$A$6:$AE$130,11,FALSE),"") -> 1490 | V33: =IF(COUNTIF(参照!$C$1:$C$125,$C$5&$F$5)=1,VLOOKUP($C$5&$F$5,水稲!$A$6:$AE$130,12,FALSE),"") -> 461 | AA33: =IF(COUNTIF(参照!$C$1:$C$125,$C$5&$F$5)=1,VLOOKUP($C$5&$F$5,水稲!$A$6:$AE$130,13,FALSE),"") -> 6870
P34: =GRAPHDATA!G8 -> 令和 元年産 | Q34: =IF(COUNTIF(参照!$C$1:$C$125,$C$5&$F$5)=1,VLOOKUP($C$5&$F$5,水稲!$A$6:$AE$130,14,FALSE),"") -> 1550 | V34: =IF(COUNTIF(参照!$C$1:$C$125,$C$5&$F$5)=1,VLOOKUP($C$5&$F$5,水稲!$A$6:$AE$130,15,FALSE),"") -> 468 | AA34: =IF(COUNTIF(参照!$C$1:$C$125,$C$5&$F$5)=1,VLOOKUP($C$5&$F$5,水稲!$A$6:$AE$130,16,FALSE),"") -> 7230
P35: =GRAPHDATA!G9 -> 2 | Q35: =IF(COUNTIF(参照!$C$1:$C$125,$C$5&$F$5)=1,VLOOKUP($C$5&$F$5,水稲!$A$6:$AE$130,17,FALSE),"") -> 1550 | V35: =IF(COUNTIF(参照!$C$1:$C$125,$C$5&$F$5)=1,VLOOKUP($C$5&$F$5,水稲!$A$6:$AE$130,18,FALSE),"") -> 451 | AA35: =IF(COUNTIF(参照!$C$1:$C$125,$C$5&$F$5)=1,VLOOKUP($C$5&$F$5,水稲!$A$6:$AE$130,19,FALSE),"") -> 6990
P36: =GRAPHDATA!G10 -> 3 | Q36: =IF(COUNTIF(参照!$C$1:$C$125,$C$5&$F$5)=1,VLOOKUP($C$5&$F$5,水稲!$A$6:$AE$130,20,FALSE),"") -> 1560 | V36: =IF(COUNTIF(参照!$C$1:$C$125,$C$5&$F$5)=1,VLOOKUP($C$5&$F$5,水稲!$A$6:$AE$130,21,FALSE),"") -> 467 | AA36: =IF(COUNTIF(参照!$C$1:$C$125,$C$5&$F$5)=1,VLOOKUP($C$5&$F$5,水稲!$A$6:$AE$130,22,FALSE),"") -> 7300
P37: =GRAPHDATA!G11 -> 4 | Q37: =IF(COUNTIF(参照!$C$1:$C$125,$C$5&$F$5)=1,VLOOKUP($C$5&$F$5,水稲!$A$6:$AE$130,23,FALSE),"") -> 1460 | V37: =IF(COUNTIF(参照!$C$1:$C$125,$C$5&$F$5)=1,VLOOKUP($C$5&$F$5,水稲!$A$6:$AE$130,24,FALSE),"") -> 481 | AA37: =IF(COUNTIF(参照!$C$1:$C$125,$C$5&$F$5)=1,VLOOKUP($C$5&$F$5,水稲!$A$6:$AE$130,25,FALSE),"") -> 7010
P38: =GRAPHDATA!G12 -> 5 | Q38: =IF(COUNTIF(参照!$C$1:$C$125,$C$5&$F$5)=1,VLOOKUP($C$5&$F$5,水稲!$A$6:$AE$130,26,FALSE),"") -> 1580 | V38: =IF(COUNTIF(参照!$C$1:$C$125,$C$5&$F$5)=1,VLOOKUP($C$5&$F$5,水稲!$A$6:$AE$130,27,FALSE),"") -> 475 | AA38: =IF(COUNTIF(参照!$C$1:$C$125,$C$5&$F$5)=1,VLOOKUP($C$5&$F$5,水稲!$A$6:$AE$130,28,FALSE),"") -> 7490
P39: =GRAPHDATA!G13 -> 6 | Q39: =IF(COUNTIF(参照!$C$1:$C$125,$C$5&$F$5)=1,VLOOKUP($C$5&$F$5,水稲!$A$6:$AE$130,29,FALSE),"") -> 1540 | V39: =IF(COUNTIF(参照!$C$1:$C$125,$C$5&$F$5)=1,VLOOKUP($C$5&$F$5,水稲!$A$6:$AE$130,30,FALSE),"") -> 474 | AA39: =IF(COUNTIF(参照!$C$1:$C$125,$C$5&$F$5)=1,VLOOKUP($C$5&$F$5,水稲!$A$6:$AE$130,31,FALSE),"") -> 7300
B42: ３ 小麦
P45: 区分 | Q45: 作付 面積 | T45: 10ａ当たり収量 | AC45: 収穫量
W46: 田 | Z46: 畑
P47: =GRAPHDATA!M4 -> 平成 27年産 | Q47: =IF(COUNTIF(参照!$C$1:$C$125,$C$5&$F$5)=1,VLOOKUP($C$5&$F$5,小麦!$A$6:$AY$130,2,FALSE),"") -> 96 | T47: =IF(COUNTIF(参照!$C$1:$C$125,$C$5&$F$5)=1,VLOOKUP($C$5&$F$5,小麦!$A$6:$AY$130,3,FALSE),"") -> 190 | W47: =IF(COUNTIF(参照!$C$1:$C$125,$C$5&$F$5)=1,VLOOKUP($C$5&$F$5,小麦!$A$6:$AY$130,4,FALSE),"") -> 190 | Z47: =IF(COUNTIF(参照!$C$1:$C$125,$C$5&$F$5)=1,VLOOKUP($C$5&$F$5,小麦!$A$6:$AY$130,5,FALSE),"") -> - | AC47: =IF(COUNTIF(参照!$C$1:$C$125,$C$5&$F$5)=1,VLOOKUP($C$5&$F$5,小麦!$A$6:$AY$130,6,FALSE),"") -> 182
P48: =GRAPHDATA!M5 -> 28 | Q48: =IF(COUNTIF(参照!$C$1:$C$125,$C$5&$F$5)=1,VLOOKUP($C$5&$F$5,小麦!$A$6:$AY$130,7,FALSE),"") -> 106 | T48: =IF(COUNTIF(参照!$C$1:$C$125,$C$5&$F$5)=1,VLOOKUP($C$5&$F$5,小麦!$A$6:$AY$130,8,FALSE),"") -> 221 | W48: =IF(COUNTIF(参照!$C$1:$C$125,$C$5&$F$5)=1,VLOOKUP($C$5&$F$5,小麦!$A$6:$AY$130,9,FALSE),"") -> 221 | Z48: =IF(COUNTIF(参照!$C$1:$C$125,$C$5&$F$5)=1,VLOOKUP($C$5&$F$5,小麦!$A$6:$AY$130,10,FALSE),"") -> - | AC48: =IF(COUNTIF(参照!$C$1:$C$125,$C$5&$F$5)=1,VLOOKUP($C$5&$F$5,小麦!$A$6:$AY$130,11,FALSE),"") -> 234
P49: =GRAPHDATA!M6 -> 29 | Q49: =IF(COUNTIF(参照!$C$1:$C$125,$C$5&$F$5)=1,VLOOKUP($C$5&$F$5,小麦!$A$6:$AY$130,12,FALSE),"") -> 114 | T49: =IF(COUNTIF(参照!$C$1:$C$125,$C$5&$F$5)=1,VLOOKUP($C$5&$F$5,小麦!$A$6:$AY$130,13,FALSE),"") -> 292 | W49: =IF(COUNTIF(参照!$C$1:$C$125,$C$5&$F$5)=1,VLOOKUP($C$5&$F$5,小麦!$A$6:$AY$130,14,FALSE),"") -> 292 | Z49: =IF(COUNTIF(参照!$C$1:$C$125,$C$5&$F$5)=1,VLOOKUP($C$5&$F$5,小麦!$A$6:$AY$130,15,FALSE),"") -> - | AC49: =IF(COUNTIF(参照!$C$1:$C$125,$C$5&$F$5)=1,VLOOKUP($C$5&$F$5,小麦!$A$6:$AY$130,16,FALSE),"") -> 333
P50: =GRAPHDATA!M7 -> 30 | Q50: =IF(COUNTIF(参照!$C$1:$C$125,$C$5&$F$5)=1,VLOOKUP($C$5&$F$5,小麦!$A$6:$AY$130,17,FALSE),"") -> 127 | T50: =IF(COUNTIF(参照!$C$1:$C$125,$C$5&$F$5)=1,VLOOKUP($C$5&$F$5,小麦!$A$6:$AY$130,18,FALSE),"") -> 295 | W50: =IF(COUNTIF(参照!$C$1:$C$125,$C$5&$F$5)=1,VLOOKUP($C$5&$F$5,小麦!$A$6:$AY$130,19,FALSE),"") -> 295 | Z50: =IF(COUNTIF(参照!$C$1:$C$125,$C$5&$F$5)=1,VLOOKUP($C$5&$F$5,小麦!$A$6:$AY$130,20,FALSE),"") -> - | AC50: =IF(COUNTIF(参照!$C$1:$C$125,$C$5&$F$5)=1,VLOOKUP($C$5&$F$5,小麦!$A$6:$AY$130,21,FALSE),"") -> 375
P51: =GRAPHDATA!M8 -> 令和 元年産 | Q51: =IF(COUNTIF(参照!$C$1:$C$125,$C$5&$F$5)=1,VLOOKUP($C$5&$F$5,小麦!$A$6:$AY$130,22,FALSE),"") -> 133 | T51: =IF(COUNTIF(参照!$C$1:$C$125,$C$5&$F$5)=1,VLOOKUP($C$5&$F$5,小麦!$A$6:$AY$130,23,FALSE),"") -> 363 | W51: =IF(COUNTIF(参照!$C$1:$C$125,$C$5&$F$5)=1,VLOOKUP($C$5&$F$5,小麦!$A$6:$AY$130,24,FALSE),"") -> 363 | Z51: =IF(COUNTIF(参照!$C$1:$C$125,$C$5&$F$5)=1,VLOOKUP($C$5&$F$5,小麦!$A$6:$AY$130,25,FALSE),"") -> - | AC51: =IF(COUNTIF(参照!$C$1:$C$125,$C$5&$F$5)=1,VLOOKUP($C$5&$F$5,小麦!$A$6:$AY$130,26,FALSE),"") -> 483
P52: =GRAPHDATA!M9 -> 2 | Q52: =IF(COUNTIF(参照!$C$1:$C$125,$C$5&$F$5)=1,VLOOKUP($C$5&$F$5,小麦!$A$6:$AY$130,27,FALSE),"") -> 140 | T52: =IF(COUNTIF(参照!$C$1:$C$125,$C$5&$F$5)=1,VLOOKUP($C$5&$F$5,小麦!$A$6:$AY$130,28,FALSE),"") -> 318 | W52: =IF(COUNTIF(参照!$C$1:$C$125,$C$5&$F$5)=1,VLOOKUP($C$5&$F$5,小麦!$A$6:$AY$130,29,FALSE),"") -> 318 | Z52: =IF(COUNTIF(参照!$C$1:$C$125,$C$5&$F$5)=1,VLOOKUP($C$5&$F$5,小麦!$A$6:$AY$130,30,FALSE),"") -> - | AC52: =IF(COUNTIF(参照!$C$1:$C$125,$C$5&$F$5)=1,VLOOKUP($C$5&$F$5,小麦!$A$6:$AY$130,31,FALSE),"") -> 445
P53: =GRAPHDATA!M10 -> 3 | Q53: =IF(COUNTIF(参照!$C$1:$C$125,$C$5&$F$5)=1,VLOOKUP($C$5&$F$5,小麦!$A$6:$AY$130,32,FALSE),"") -> 158 | T53: =IF(COUNTIF(参照!$C$1:$C$125,$C$5&$F$5)=1,VLOOKUP($C$5&$F$5,小麦!$A$6:$AY$130,33,FALSE),"") -> 277 | W53: =IF(COUNTIF(参照!$C$1:$C$125,$C$5&$F$5)=1,VLOOKUP($C$5&$F$5,小麦!$A$6:$AY$130,34,FALSE),"") -> 277 | Z53: =IF(COUNTIF(参照!$C$1:$C$125,$C$5&$F$5)=1,VLOOKUP($C$5&$F$5,小麦!$A$6:$AY$130,35,FALSE),"") -> - | AC53: =IF(COUNTIF(参照!$C$1:$C$125,$C$5&$F$5)=1,VLOOKUP($C$5&$F$5,小麦!$A$6:$AY$130,36,FALSE),"") -> 438
P54: =GRAPHDATA!M11 -> 4 | Q54: =IF(COUNTIF(参照!$C$1:$C$125,$C$5&$F$5)=1,VLOOKUP($C$5&$F$5,小麦!$A$6:$AY$130,37,FALSE),"") -> 159 | T54: =IF(COUNTIF(参照!$C$1:$C$125,$C$5&$F$5)=1,VLOOKUP($C$5&$F$5,小麦!$A$6:$AY$130,38,FALSE),"") -> 321 | W54: =IF(COUNTIF(参照!$C$1:$C$125,$C$5&$F$5)=1,VLOOKUP($C$5&$F$5,小麦!$A$6:$AY$130,39,FALSE),"") -> 321 | Z54: =IF(COUNTIF(参照!$C$1:$C$125,$C$5&$F$5)=1,VLOOKUP($C$5&$F$5,小麦!$A$6:$AY$130,40,FALSE),"") -> - | AC54: =IF(COUNTIF(参照!$C$1:$C$125,$C$5&$F$5)=1,VLOOKUP($C$5&$F$5,小麦!$A$6:$AY$130,41,FALSE),"") -> 511
P55: =GRAPHDATA!M12 -> 5 | Q55: =IF(COUNTIF(参照!$C$1:$C$125,$C$5&$F$5)=1,VLOOKUP($C$5&$F$5,小麦!$A$6:$AY$130,42,FALSE),"") -> 176 | T55: =IF(COUNTIF(参照!$C$1:$C$125,$C$5&$F$5)=1,VLOOKUP($C$5&$F$5,小麦!$A$6:$AY$130,43,FALSE),"") -> 310 | W55: =IF(COUNTIF(参照!$C$1:$C$125,$C$5&$F$5)=1,VLOOKUP($C$5&$F$5,小麦!$A$6:$AY$130,44,FALSE),"") -> 310 | Z55: =IF(COUNTIF(参照!$C$1:$C$125,$C$5&$F$5)=1,VLOOKUP($C$5&$F$5,小麦!$A$6:$AY$130,45,FALSE),"") -> - | AC55: =IF(COUNTIF(参照!$C$1:$C$125,$C$5&$F$5)=1,VLOOKUP($C$5&$F$5,小麦!$A$6:$AY$130,46,FALSE),"") -> 546
P56: =GRAPHDATA!M13 -> 6 | Q56: =IF(COUNTIF(参照!$C$1:$C$125,$C$5&$F$5)=1,VLOOKUP($C$5&$F$5,小麦!$A$6:$AY$130,47,FALSE),"") -> 187 | T56: =IF(COUNTIF(参照!$C$1:$C$125,$C$5&$F$5)=1,VLOOKUP($C$5&$F$5,小麦!$A$6:$AY$130,48,FALSE),"") -> 222 | W56: =IF(COUNTIF(参照!$C$1:$C$125,$C$5&$F$5)=1,VLOOKUP($C$5&$F$5,小麦!$A$6:$AY$130,49,FALSE),"") -> 222 | Z56: =IF(COUNTIF(参照!$C$1:$C$125,$C$5&$F$5)=1,VLOOKUP($C$5&$F$5,小麦!$A$6:$AY$130,50,FALSE),"") -> - | AC56: =IF(COUNTIF(参照!$C$1:$C$125,$C$5&$F$5)=1,VLOOKUP($C$5&$F$5,小麦!$A$6:$AY$130,51,FALSE),"") -> 415
B59: ４ 六条大麦
P62: 区分 | Q62: 作付 面積 | T62: 10ａ当たり収量 | AC62: 収穫量
W63: 田 | Z63: 畑
P64: =GRAPHDATA!A19 -> 平成 27年産 | Q64: =IF(COUNTIF(参照!$C$1:$C$125,$C$5&$F$5)=1,VLOOKUP($C$5&$F$5,六条!$A$6:$AY$130,2,FALSE),"") -> x | T64: =IF(COUNTIF(参照!$C$1:$C$125,$C$5&$F$5)=1,VLOOKUP($C$5&$F$5,六条!$A$6:$AY$130,3,FALSE),"") -> x | W64: =IF(COUNTIF(参照!$C$1:$C$125,$C$5&$F$5)=1,VLOOKUP($C$5&$F$5,六条!$A$6:$AY$130,4,FALSE),"") -> x | Z64: =IF(COUNTIF(参照!$C$1:$C$125,$C$5&$F$5)=1,VLOOKUP($C$5&$F$5,六条!$A$6:$AY$130,5,FALSE),"") -> - | AC64: =IF(COUNTIF(参照!$C$1:$C$125,$C$5&$F$5)=1,VLOOKUP($C$5&$F$5,六条!$A$6:$AY$130,6,FALSE),"") -> x
P65: =GRAPHDATA!A20 -> 28 | Q65: =IF(COUNTIF(参照!$C$1:$C$125,$C$5&$F$5)=1,VLOOKUP($C$5&$F$5,六条!$A$6:$AY$130,7,FALSE),"") -> - | T65: =IF(COUNTIF(参照!$C$1:$C$125,$C$5&$F$5)=1,VLOOKUP($C$5&$F$5,六条!$A$6:$AY$130,8,FALSE),"") -> - | W65: =IF(COUNTIF(参照!$C$1:$C$125,$C$5&$F$5)=1,VLOOKUP($C$5&$F$5,六条!$A$6:$AY$130,9,FALSE),"") -> - | Z65: =IF(COUNTIF(参照!$C$1:$C$125,$C$5&$F$5)=1,VLOOKUP($C$5&$F$5,六条!$A$6:$AY$130,10,FALSE),"") -> - | AC65: =IF(COUNTIF(参照!$C$1:$C$125,$C$5&$F$5)=1,VLOOKUP($C$5&$F$5,六条!$A$6:$AY$130,11,FALSE),"") -> -
P66: =GRAPHDATA!A21 -> 29 | Q66: =IF(COUNTIF(参照!$C$1:$C$125,$C$5&$F$5)=1,VLOOKUP($C$5&$F$5,六条!$A$6:$AY$130,12,FALSE),"") -> x | T66: =IF(COUNTIF(参照!$C$1:$C$125,$C$5&$F$5)=1,VLOOKUP($C$5&$F$5,六条!$A$6:$AY$130,13,FALSE),"") -> x | W66: =IF(COUNTIF(参照!$C$1:$C$125,$C$5&$F$5)=1,VLOOKUP($C$5&$F$5,六条!$A$6:$AY$130,14,FALSE),"") -> x | Z66: =IF(COUNTIF(参照!$C$1:$C$125,$C$5&$F$5)=1,VLOOKUP($C$5&$F$5,六条!$A$6:$AY$130,15,FALSE),"") -> - | AC66: =IF(COUNTIF(参照!$C$1:$C$125,$C$5&$F$5)=1,VLOOKUP($C$5&$F$5,六条!$A$6:$AY$130,16,FALSE),"") -> x
P67: =GRAPHDATA!A22 -> 30 | Q67: =IF(COUNTIF(参照!$C$1:$C$125,$C$5&$F$5)=1,VLOOKUP($C$5&$F$5,六条!$A$6:$AY$130,17,FALSE),"") -> - | T67: =IF(COUNTIF(参照!$C$1:$C$125,$C$5&$F$5)=1,VLOOKUP($C$5&$F$5,六条!$A$6:$AY$130,18,FALSE),"") -> - | W67: =IF(COUNTIF(参照!$C$1:$C$125,$C$5&$F$5)=1,VLOOKUP($C$5&$F$5,六条!$A$6:$AY$130,19,FALSE),"") -> - | Z67: =IF(COUNTIF(参照!$C$1:$C$125,$C$5&$F$5)=1,VLOOKUP($C$5&$F$5,六条!$A$6:$AY$130,20,FALSE),"") -> - | AC67: =IF(COUNTIF(参照!$C$1:$C$125,$C$5&$F$5)=1,VLOOKUP($C$5&$F$5,六条!$A$6:$AY$130,21,FALSE),"") -> -
P68: =GRAPHDATA!A23 -> 令和 元年産 | Q68: =IF(COUNTIF(参照!$C$1:$C$125,$C$5&$F$5)=1,VLOOKUP($C$5&$F$5,六条!$A$6:$AY$130,22,FALSE),"") -> - | T68: =IF(COUNTIF(参照!$C$1:$C$125,$C$5&$F$5)=1,VLOOKUP($C$5&$F$5,六条!$A$6:$AY$130,23,FALSE),"") -> - | W68: =IF(COUNTIF(参照!$C$1:$C$125,$C$5&$F$5)=1,VLOOKUP($C$5&$F$5,六条!$A$6:$AY$130,24,FALSE),"") -> - | Z68: =IF(COUNTIF(参照!$C$1:$C$125,$C$5&$F$5)=1,VLOOKUP($C$5&$F$5,六条!$A$6:$AY$130,25,FALSE),"") -> - | AC68: =IF(COUNTIF(参照!$C$1:$C$125,$C$5&$F$5)=1,VLOOKUP($C$5&$F$5,六条!$A$6:$AY$130,26,FALSE),"") -> -
P69: =GRAPHDATA!A24 -> 2 | Q69: =IF(COUNTIF(参照!$C$1:$C$125,$C$5&$F$5)=1,VLOOKUP($C$5&$F$5,六条!$A$6:$AY$130,27,FALSE),"") -> - | T69: =IF(COUNTIF(参照!$C$1:$C$125,$C$5&$F$5)=1,VLOOKUP($C$5&$F$5,六条!$A$6:$AY$130,28,FALSE),"") -> - | W69: =IF(COUNTIF(参照!$C$1:$C$125,$C$5&$F$5)=1,VLOOKUP($C$5&$F$5,六条!$A$6:$AY$130,29,FALSE),"") -> - | Z69: =IF(COUNTIF(参照!$C$1:$C$125,$C$5&$F$5)=1,VLOOKUP($C$5&$F$5,六条!$A$6:$AY$130,30,FALSE),"") -> - | AC69: =IF(COUNTIF(参照!$C$1:$C$125,$C$5&$F$5)=1,VLOOKUP($C$5&$F$5,六条!$A$6:$AY$130,31,FALSE),"") -> -
P70: =GRAPHDATA!A25 -> 3 | Q70: =IF(COUNTIF(参照!$C$1:$C$125,$C$5&$F$5)=1,VLOOKUP($C$5&$F$5,六条!$A$6:$AY$130,32,FALSE),"") -> - | T70: =IF(COUNTIF(参照!$C$1:$C$125,$C$5&$F$5)=1,VLOOKUP($C$5&$F$5,六条!$A$6:$AY$130,33,FALSE),"") -> - | W70: =IF(COUNTIF(参照!$C$1:$C$125,$C$5&$F$5)=1,VLOOKUP($C$5&$F$5,六条!$A$6:$AY$130,34,FALSE),"") -> - | Z70: =IF(COUNTIF(参照!$C$1:$C$125,$C$5&$F$5)=1,VLOOKUP($C$5&$F$5,六条!$A$6:$AY$130,35,FALSE),"") -> - | AC70: =IF(COUNTIF(参照!$C$1:$C$125,$C$5&$F$5)=1,VLOOKUP($C$5&$F$5,六条!$A$6:$AY$130,36,FALSE),"") -> -
P71: =GRAPHDATA!A26 -> 4 | Q71: =IF(COUNTIF(参照!$C$1:$C$125,$C$5&$F$5)=1,VLOOKUP($C$5&$F$5,六条!$A$6:$AY$130,37,FALSE),"") -> x | T71: =IF(COUNTIF(参照!$C$1:$C$125,$C$5&$F$5)=1,VLOOKUP($C$5&$F$5,六条!$A$6:$AY$130,38,FALSE),"") -> x | W71: =IF(COUNTIF(参照!$C$1:$C$125,$C$5&$F$5)=1,VLOOKUP($C$5&$F$5,六条!$A$6:$AY$130,39,FALSE),"") -> x | Z71: =IF(COUNTIF(参照!$C$1:$C$125,$C$5&$F$5)=1,VLOOKUP($C$5&$F$5,六条!$A$6:$AY$130,40,FALSE),"") -> - | AC71: =IF(COUNTIF(参照!$C$1:$C$125,$C$5&$F$5)=1,VLOOKUP($C$5&$F$5,六条!$A$6:$AY$130,41,FALSE),"") -> x
P72: =GRAPHDATA!A27 -> 5 | Q72: =IF(COUNTIF(参照!$C$1:$C$125,$C$5&$F$5)=1,VLOOKUP($C$5&$F$5,六条!$A$6:$AY$130,42,FALSE),"") -> x | T72: =IF(COUNTIF(参照!$C$1:$C$125,$C$5&$F$5)=1,VLOOKUP($C$5&$F$5,六条!$A$6:$AY$130,43,FALSE),"") -> x | W72: =IF(COUNTIF(参照!$C$1:$C$125,$C$5&$F$5)=1,VLOOKUP($C$5&$F$5,六条!$A$6:$AY$130,44,FALSE),"") -> x | Z72: =IF(COUNTIF(参照!$C$1:$C$125,$C$5&$F$5)=1,VLOOKUP($C$5&$F$5,六条!$A$6:$AY$130,45,FALSE),"") -> - | AC72: =IF(COUNTIF(参照!$C$1:$C$125,$C$5&$F$5)=1,VLOOKUP($C$5&$F$5,六条!$A$6:$AY$130,46,FALSE),"") -> x
P73: =GRAPHDATA!A28 -> 6 | Q73: =IF(COUNTIF(参照!$C$1:$C$125,$C$5&$F$5)=1,VLOOKUP($C$5&$F$5,六条!$A$6:$AY$130,47,FALSE),"") -> x | T73: =IF(COUNTIF(参照!$C$1:$C$125,$C$5&$F$5)=1,VLOOKUP($C$5&$F$5,六条!$A$6:$AY$130,48,FALSE),"") -> x | W73: =IF(COUNTIF(参照!$C$1:$C$125,$C$5&$F$5)=1,VLOOKUP($C$5&$F$5,六条!$A$6:$AY$130,49,FALSE),"") -> x | Z73: =IF(COUNTIF(参照!$C$1:$C$125,$C$5&$F$5)=1,VLOOKUP($C$5&$F$5,六条!$A$6:$AY$130,50,FALSE),"") -> - | AC73: =IF(COUNTIF(参照!$C$1:$C$125,$C$5&$F$5)=1,VLOOKUP($C$5&$F$5,六条!$A$6:$AY$130,51,FALSE),"") -> x
B76: ５ 大豆
P79: 区分 | Q79: 作付 面積 | T79: 10ａ当たり収量 | AC79: 収穫量
W80: 田 | Z80: 畑
P81: =GRAPHDATA!G19 -> 平成 27年産 | Q81: =IF(COUNTIF(参照!$C$1:$C$125,$C$5&$F$5)=1,VLOOKUP($C$5&$F$5,大豆!$A$6:$AY$130,2,FALSE),"") -> 53 | T81: =IF(COUNTIF(参照!$C$1:$C$125,$C$5&$F$5)=1,VLOOKUP($C$5&$F$5,大豆!$A$6:$AY$130,3,FALSE),"") -> 100 | W81: =IF(COUNTIF(参照!$C$1:$C$125,$C$5&$F$5)=1,VLOOKUP($C$5&$F$5,大豆!$A$6:$AY$130,4,FALSE),"") -> 98 | Z81: =IF(COUNTIF(参照!$C$1:$C$125,$C$5&$F$5)=1,VLOOKUP($C$5&$F$5,大豆!$A$6:$AY$130,5,FALSE),"") -> 120 | AC81: =IF(COUNTIF(参照!$C$1:$C$125,$C$5&$F$5)=1,VLOOKUP($C$5&$F$5,大豆!$A$6:$AY$130,6,FALSE),"") -> 53
P82: =GRAPHDATA!G20 -> 28 | Q82: =IF(COUNTIF(参照!$C$1:$C$125,$C$5&$F$5)=1,VLOOKUP($C$5&$F$5,大豆!$A$6:$AY$130,7,FALSE),"") -> 57 | T82: =IF(COUNTIF(参照!$C$1:$C$125,$C$5&$F$5)=1,VLOOKUP($C$5&$F$5,大豆!$A$6:$AY$130,8,FALSE),"") -> 100 | W82: =IF(COUNTIF(参照!$C$1:$C$125,$C$5&$F$5)=1,VLOOKUP($C$5&$F$5,大豆!$A$6:$AY$130,9,FALSE),"") -> 98 | Z82: =IF(COUNTIF(参照!$C$1:$C$125,$C$5&$F$5)=1,VLOOKUP($C$5&$F$5,大豆!$A$6:$AY$130,10,FALSE),"") -> 120 | AC82: =IF(COUNTIF(参照!$C$1:$C$125,$C$5&$F$5)=1,VLOOKUP($C$5&$F$5,大豆!$A$6:$AY$130,11,FALSE),"") -> 57
P83: =GRAPHDATA!G21 -> 29 | Q83: =IF(COUNTIF(参照!$C$1:$C$125,$C$5&$F$5)=1,VLOOKUP($C$5&$F$5,大豆!$A$6:$AY$130,12,FALSE),"") -> 67 | T83: =IF(COUNTIF(参照!$C$1:$C$125,$C$5&$F$5)=1,VLOOKUP($C$5&$F$5,大豆!$A$6:$AY$130,13,FALSE),"") -> 78 | W83: =IF(COUNTIF(参照!$C$1:$C$125,$C$5&$F$5)=1,VLOOKUP($C$5&$F$5,大豆!$A$6:$AY$130,14,FALSE),"") -> 74 | Z83: =IF(COUNTIF(参照!$C$1:$C$125,$C$5&$F$5)=1,VLOOKUP($C$5&$F$5,大豆!$A$6:$AY$130,15,FALSE),"") -> 129 | AC83: =IF(COUNTIF(参照!$C$1:$C$125,$C$5&$F$5)=1,VLOOKUP($C$5&$F$5,大豆!$A$6:$AY$130,16,FALSE),"") -> 52
P84: =GRAPHDATA!G22 -> 30 | Q84: =IF(COUNTIF(参照!$C$1:$C$125,$C$5&$F$5)=1,VLOOKUP($C$5&$F$5,大豆!$A$6:$AY$130,17,FALSE),"") -> 65 | T84: =IF(COUNTIF(参照!$C$1:$C$125,$C$5&$F$5)=1,VLOOKUP($C$5&$F$5,大豆!$A$6:$AY$130,18,FALSE),"") -> 47 | W84: =IF(COUNTIF(参照!$C$1:$C$125,$C$5&$F$5)=1,VLOOKUP($C$5&$F$5,大豆!$A$6:$AY$130,19,FALSE),"") -> 41 | Z84: =IF(COUNTIF(参照!$C$1:$C$125,$C$5&$F$5)=1,VLOOKUP($C$5&$F$5,大豆!$A$6:$AY$130,20,FALSE),"") -> 120 | AC84: =IF(COUNTIF(参照!$C$1:$C$125,$C$5&$F$5)=1,VLOOKUP($C$5&$F$5,大豆!$A$6:$AY$130,21,FALSE),"") -> 31
P85: =GRAPHDATA!G23 -> 令和 元年産 | Q85: =IF(COUNTIF(参照!$C$1:$C$125,$C$5&$F$5)=1,VLOOKUP($C$5&$F$5,大豆!$A$6:$AY$130,22,FALSE),"") -> 61 | T85: =IF(COUNTIF(参照!$C$1:$C$125,$C$5&$F$5)=1,VLOOKUP($C$5&$F$5,大豆!$A$6:$AY$130,23,FALSE),"") -> 94 | W85: =IF(COUNTIF(参照!$C$1:$C$125,$C$5&$F$5)=1,VLOOKUP($C$5&$F$5,大豆!$A$6:$AY$130,24,FALSE),"") -> 91 | Z85: =IF(COUNTIF(参照!$C$1:$C$125,$C$5&$F$5)=1,VLOOKUP($C$5&$F$5,大豆!$A$6:$AY$130,25,FALSE),"") -> 128 | AC85: =IF(COUNTIF(参照!$C$1:$C$125,$C$5&$F$5)=1,VLOOKUP($C$5&$F$5,大豆!$A$6:$AY$130,26,FALSE),"") -> 57
P86: =GRAPHDATA!G24 -> 2 | Q86: =IF(COUNTIF(参照!$C$1:$C$125,$C$5&$F$5)=1,VLOOKUP($C$5&$F$5,大豆!$A$6:$AY$130,27,FALSE),"") -> 55 | T86: =IF(COUNTIF(参照!$C$1:$C$125,$C$5&$F$5)=1,VLOOKUP($C$5&$F$5,大豆!$A$6:$AY$130,28,FALSE),"") -> 94 | W86: =IF(COUNTIF(参照!$C$1:$C$125,$C$5&$F$5)=1,VLOOKUP($C$5&$F$5,大豆!$A$6:$AY$130,29,FALSE),"") -> 92 | Z86: =IF(COUNTIF(参照!$C$1:$C$125,$C$5&$F$5)=1,VLOOKUP($C$5&$F$5,大豆!$A$6:$AY$130,30,FALSE),"") -> 123 | AC86: =IF(COUNTIF(参照!$C$1:$C$125,$C$5&$F$5)=1,VLOOKUP($C$5&$F$5,大豆!$A$6:$AY$130,31,FALSE),"") -> 52
P87: =GRAPHDATA!G25 -> 3 | Q87: =IF(COUNTIF(参照!$C$1:$C$125,$C$5&$F$5)=1,VLOOKUP($C$5&$F$5,大豆!$A$6:$AY$130,32,FALSE),"") -> 74 | T87: =IF(COUNTIF(参照!$C$1:$C$125,$C$5&$F$5)=1,VLOOKUP($C$5&$F$5,大豆!$A$6:$AY$130,33,FALSE),"") -> 122 | W87: =IF(COUNTIF(参照!$C$1:$C$125,$C$5&$F$5)=1,VLOOKUP($C$5&$F$5,大豆!$A$6:$AY$130,34,FALSE),"") -> 122 | Z87: =IF(COUNTIF(参照!$C$1:$C$125,$C$5&$F$5)=1,VLOOKUP($C$5&$F$5,大豆!$A$6:$AY$130,35,FALSE),"") -> 127 | AC87: =IF(COUNTIF(参照!$C$1:$C$125,$C$5&$F$5)=1,VLOOKUP($C$5&$F$5,大豆!$A$6:$AY$130,36,FALSE),"") -> 90
P88: =GRAPHDATA!G26 -> 4 | Q88: =IF(COUNTIF(参照!$C$1:$C$125,$C$5&$F$5)=1,VLOOKUP($C$5&$F$5,大豆!$A$6:$AY$130,37,FALSE),"") -> 59 | T88: =IF(COUNTIF(参照!$C$1:$C$125,$C$5&$F$5)=1,VLOOKUP($C$5&$F$5,大豆!$A$6:$AY$130,38,FALSE),"") -> 129 | W88: =IF(COUNTIF(参照!$C$1:$C$125,$C$5&$F$5)=1,VLOOKUP($C$5&$F$5,大豆!$A$6:$AY$130,39,FALSE),"") -> 129 | Z88: =IF(COUNTIF(参照!$C$1:$C$125,$C$5&$F$5)=1,VLOOKUP($C$5&$F$5,大豆!$A$6:$AY$130,40,FALSE),"") -> 127 | AC88: =IF(COUNTIF(参照!$C$1:$C$125,$C$5&$F$5)=1,VLOOKUP($C$5&$F$5,大豆!$A$6:$AY$130,41,FALSE),"") -> 76
P89: =GRAPHDATA!G27 -> 5 | Q89: =IF(COUNTIF(参照!$C$1:$C$125,$C$5&$F$5)=1,VLOOKUP($C$5&$F$5,大豆!$A$6:$AY$130,42,FALSE),"") -> 76 | T89: =IF(COUNTIF(参照!$C$1:$C$125,$C$5&$F$5)=1,VLOOKUP($C$5&$F$5,大豆!$A$6:$AY$130,43,FALSE),"") -> 142 | W89: =IF(COUNTIF(参照!$C$1:$C$125,$C$5&$F$5)=1,VLOOKUP($C$5&$F$5,大豆!$A$6:$AY$130,44,FALSE),"") -> 143 | Z89: =IF(COUNTIF(参照!$C$1:$C$125,$C$5&$F$5)=1,VLOOKUP($C$5&$F$5,大豆!$A$6:$AY$130,45,FALSE),"") -> 131 | AC89: =IF(COUNTIF(参照!$C$1:$C$125,$C$5&$F$5)=1,VLOOKUP($C$5&$F$5,大豆!$A$6:$AY$130,46,FALSE),"") -> 108
P90: =GRAPHDATA!G28 -> 6 | Q90: =IF(COUNTIF(参照!$C$1:$C$125,$C$5&$F$5)=1,VLOOKUP($C$5&$F$5,大豆!$A$6:$AY$130,47,FALSE),"") -> 90 | T90: =IF(COUNTIF(参照!$C$1:$C$125,$C$5&$F$5)=1,VLOOKUP($C$5&$F$5,大豆!$A$6:$AY$130,48,FALSE),"") -> 59 | W90: =IF(COUNTIF(参照!$C$1:$C$125,$C$5&$F$5)=1,VLOOKUP($C$5&$F$5,大豆!$A$6:$AY$130,49,FALSE),"") -> 59 | Z90: =IF(COUNTIF(参照!$C$1:$C$125,$C$5&$F$5)=1,VLOOKUP($C$5&$F$5,大豆!$A$6:$AY$130,50,FALSE),"") -> 71 | AC90: =IF(COUNTIF(参照!$C$1:$C$125,$C$5&$F$5)=1,VLOOKUP($C$5&$F$5,大豆!$A$6:$AY$130,51,FALSE),"") -> 53
B93: ６ そば
P96: 区分 | Q96: 作付 面積 | T96: 10ａ当たり収量 | AC96: 収穫量
W97: 田 | Z97: 畑
P98: =GRAPHDATA!M19 -> 平成 27年産 | Q98: =IF(COUNTIF(参照!$C$1:$C$125,$C$5&$F$5)=1,VLOOKUP($C$5&$F$5,そば!$A$6:$AY$130,2,FALSE),"") -> x | T98: =IF(COUNTIF(参照!$C$1:$C$125,$C$5&$F$5)=1,VLOOKUP($C$5&$F$5,そば!$A$6:$AY$130,3,FALSE),"") -> x | W98: =IF(COUNTIF(参照!$C$1:$C$125,$C$5&$F$5)=1,VLOOKUP($C$5&$F$5,そば!$A$6:$AY$130,4,FALSE),"") -> x | Z98: =IF(COUNTIF(参照!$C$1:$C$125,$C$5&$F$5)=1,VLOOKUP($C$5&$F$5,そば!$A$6:$AY$130,5,FALSE),"") -> - | AC98: =IF(COUNTIF(参照!$C$1:$C$125,$C$5&$F$5)=1,VLOOKUP($C$5&$F$5,そば!$A$6:$AY$130,6,FALSE),"") -> x
P99: =GRAPHDATA!M20 -> 28 | Q99: =IF(COUNTIF(参照!$C$1:$C$125,$C$5&$F$5)=1,VLOOKUP($C$5&$F$5,そば!$A$6:$AY$130,7,FALSE),"") -> x | T99: =IF(COUNTIF(参照!$C$1:$C$125,$C$5&$F$5)=1,VLOOKUP($C$5&$F$5,そば!$A$6:$AY$130,8,FALSE),"") -> x | W99: =IF(COUNTIF(参照!$C$1:$C$125,$C$5&$F$5)=1,VLOOKUP($C$5&$F$5,そば!$A$6:$AY$130,9,FALSE),"") -> x | Z99: =IF(COUNTIF(参照!$C$1:$C$125,$C$5&$F$5)=1,VLOOKUP($C$5&$F$5,そば!$A$6:$AY$130,10,FALSE),"") -> x | AC99: =IF(COUNTIF(参照!$C$1:$C$125,$C$5&$F$5)=1,VLOOKUP($C$5&$F$5,そば!$A$6:$AY$130,11,FALSE),"") -> x
P100: =GRAPHDATA!M21 -> 29 | Q100: =IF(COUNTIF(参照!$C$1:$C$125,$C$5&$F$5)=1,VLOOKUP($C$5&$F$5,そば!$A$6:$AY$130,12,FALSE),"") -> x | T100: =IF(COUNTIF(参照!$C$1:$C$125,$C$5&$F$5)=1,VLOOKUP($C$5&$F$5,そば!$A$6:$AY$130,13,FALSE),"") -> x | W100: =IF(COUNTIF(参照!$C$1:$C$125,$C$5&$F$5)=1,VLOOKUP($C$5&$F$5,そば!$A$6:$AY$130,14,FALSE),"") -> x | Z100: =IF(COUNTIF(参照!$C$1:$C$125,$C$5&$F$5)=1,VLOOKUP($C$5&$F$5,そば!$A$6:$AY$130,15,FALSE),"") -> - | AC100: =IF(COUNTIF(参照!$C$1:$C$125,$C$5&$F$5)=1,VLOOKUP($C$5&$F$5,そば!$A$6:$AY$130,16,FALSE),"") -> x
P101: =GRAPHDATA!M22 -> 30 | Q101: =IF(COUNTIF(参照!$C$1:$C$125,$C$5&$F$5)=1,VLOOKUP($C$5&$F$5,そば!$A$6:$AY$130,17,FALSE),"") -> x | T101: =IF(COUNTIF(参照!$C$1:$C$125,$C$5&$F$5)=1,VLOOKUP($C$5&$F$5,そば!$A$6:$AY$130,18,FALSE),"") -> x | W101: =IF(COUNTIF(参照!$C$1:$C$125,$C$5&$F$5)=1,VLOOKUP($C$5&$F$5,そば!$A$6:$AY$130,19,FALSE),"") -> x | Z101: =IF(COUNTIF(参照!$C$1:$C$125,$C$5&$F$5)=1,VLOOKUP($C$5&$F$5,そば!$A$6:$AY$130,20,FALSE),"") -> - | AC101: =IF(COUNTIF(参照!$C$1:$C$125,$C$5&$F$5)=1,VLOOKUP($C$5&$F$5,そば!$A$6:$AY$130,21,FALSE),"") -> x
P102: =GRAPHDATA!M23 -> 令和 元年産 | Q102: =IF(COUNTIF(参照!$C$1:$C$125,$C$5&$F$5)=1,VLOOKUP($C$5&$F$5,そば!$A$6:$AY$130,22,FALSE),"") -> x | T102: =IF(COUNTIF(参照!$C$1:$C$125,$C$5&$F$5)=1,VLOOKUP($C$5&$F$5,そば!$A$6:$AY$130,23,FALSE),"") -> x | W102: =IF(COUNTIF(参照!$C$1:$C$125,$C$5&$F$5)=1,VLOOKUP($C$5&$F$5,そば!$A$6:$AY$130,24,FALSE),"") -> x | Z102: =IF(COUNTIF(参照!$C$1:$C$125,$C$5&$F$5)=1,VLOOKUP($C$5&$F$5,そば!$A$6:$AY$130,25,FALSE),"") -> - | AC102: =IF(COUNTIF(参照!$C$1:$C$125,$C$5&$F$5)=1,VLOOKUP($C$5&$F$5,そば!$A$6:$AY$130,26,FALSE),"") -> x
P103: =GRAPHDATA!M24 -> 2 | Q103: =IF(COUNTIF(参照!$C$1:$C$125,$C$5&$F$5)=1,VLOOKUP($C$5&$F$5,そば!$A$6:$AY$130,27,FALSE),"") -> - | T103: =IF(COUNTIF(参照!$C$1:$C$125,$C$5&$F$5)=1,VLOOKUP($C$5&$F$5,そば!$A$6:$AY$130,28,FALSE),"") -> - | W103: =IF(COUNTIF(参照!$C$1:$C$125,$C$5&$F$5)=1,VLOOKUP($C$5&$F$5,そば!$A$6:$AY$130,29,FALSE),"") -> - | Z103: =IF(COUNTIF(参照!$C$1:$C$125,$C$5&$F$5)=1,VLOOKUP($C$5&$F$5,そば!$A$6:$AY$130,30,FALSE),"") -> - | AC103: =IF(COUNTIF(参照!$C$1:$C$125,$C$5&$F$5)=1,VLOOKUP($C$5&$F$5,そば!$A$6:$AY$130,31,FALSE),"") -> -
P104: =GRAPHDATA!M25 -> 3 | Q104: =IF(COUNTIF(参照!$C$1:$C$125,$C$5&$F$5)=1,VLOOKUP($C$5&$F$5,そば!$A$6:$AY$130,32,FALSE),"") -> - | T104: =IF(COUNTIF(参照!$C$1:$C$125,$C$5&$F$5)=1,VLOOKUP($C$5&$F$5,そば!$A$6:$AY$130,33,FALSE),"") -> - | W104: =IF(COUNTIF(参照!$C$1:$C$125,$C$5&$F$5)=1,VLOOKUP($C$5&$F$5,そば!$A$6:$AY$130,34,FALSE),"") -> - | Z104: =IF(COUNTIF(参照!$C$1:$C$125,$C$5&$F$5)=1,VLOOKUP($C$5&$F$5,そば!$A$6:$AY$130,35,FALSE),"") -> - | AC104: =IF(COUNTIF(参照!$C$1:$C$125,$C$5&$F$5)=1,VLOOKUP($C$5&$F$5,そば!$A$6:$AY$130,36,FALSE),"") -> -
P105: =GRAPHDATA!M26 -> 4 | Q105: =IF(COUNTIF(参照!$C$1:$C$125,$C$5&$F$5)=1,VLOOKUP($C$5&$F$5,そば!$A$6:$AY$130,37,FALSE),"") -> - | T105: =IF(COUNTIF(参照!$C$1:$C$125,$C$5&$F$5)=1,VLOOKUP($C$5&$F$5,そば!$A$6:$AY$130,38,FALSE),"") -> - | W105: =IF(COUNTIF(参照!$C$1:$C$125,$C$5&$F$5)=1,VLOOKUP($C$5&$F$5,そば!$A$6:$AY$130,39,FALSE),"") -> - | Z105: =IF(COUNTIF(参照!$C$1:$C$125,$C$5&$F$5)=1,VLOOKUP($C$5&$F$5,そば!$A$6:$AY$130,40,FALSE),"") -> - | AC105: =IF(COUNTIF(参照!$C$1:$C$125,$C$5&$F$5)=1,VLOOKUP($C$5&$F$5,そば!$A$6:$AY$130,41,FALSE),"") -> -
P106: =GRAPHDATA!M27 -> 5 | Q106: =IF(COUNTIF(参照!$C$1:$C$125,$C$5&$F$5)=1,VLOOKUP($C$5&$F$5,そば!$A$6:$AY$130,42,FALSE),"") -> x | T106: =IF(COUNTIF(参照!$C$1:$C$125,$C$5&$F$5)=1,VLOOKUP($C$5&$F$5,そば!$A$6:$AY$130,43,FALSE),"") -> x | W106: =IF(COUNTIF(参照!$C$1:$C$125,$C$5&$F$5)=1,VLOOKUP($C$5&$F$5,そば!$A$6:$AY$130,44,FALSE),"") -> x | Z106: =IF(COUNTIF(参照!$C$1:$C$125,$C$5&$F$5)=1,VLOOKUP($C$5&$F$5,そば!$A$6:$AY$130,45,FALSE),"") -> - | AC106: =IF(COUNTIF(参照!$C$1:$C$125,$C$5&$F$5)=1,VLOOKUP($C$5&$F$5,そば!$A$6:$AY$130,46,FALSE),"") -> x
P107: =GRAPHDATA!M28 -> 6 | Q107: =IF(COUNTIF(参照!$C$1:$C$125,$C$5&$F$5)=1,VLOOKUP($C$5&$F$5,そば!$A$6:$AY$130,47,FALSE),"") -> x | T107: =IF(COUNTIF(参照!$C$1:$C$125,$C$5&$F$5)=1,VLOOKUP($C$5&$F$5,そば!$A$6:$AY$130,48,FALSE),"") -> x | W107: =IF(COUNTIF(参照!$C$1:$C$125,$C$5&$F$5)=1,VLOOKUP($C$5&$F$5,そば!$A$6:$AY$130,49,FALSE),"") -> x | Z107: =IF(COUNTIF(参照!$C$1:$C$125,$C$5&$F$5)=1,VLOOKUP($C$5&$F$5,そば!$A$6:$AY$130,50,FALSE),"") -> - | AC107: =IF(COUNTIF(参照!$C$1:$C$125,$C$5&$F$5)=1,VLOOKUP($C$5&$F$5,そば!$A$6:$AY$130,51,FALSE),"") -> x
C110: 資料：農林水産省統計部『耕地及び作付面積統計』、『作物統計』 | P110: お問合せ先
A111: 【利用上の注意】 | P111: お問合せ先
C112: 統計表中に用いた記号は以下のとおりです。
C113: ｢０｣ | D113: ：単位に満たないもの（例：0.4ha→0ha）
C114: ｢-｣ | D114: ：事実のないもの
C115: ｢x｣ | D115: ：個人又は法人等に関する秘密を保護するため、統計数値を ：公表しないもの。
C117: ※ ｢ - ｣｢ x ｣の場合は、グラフが表示されません。

Sheet GRAPHDATA
A1: 耕地面積 | G1: 水稲 | M1: 小麦
A2: 区分 | B2: 田 | C2: 畑 | D2: ダミーDATA用 | G2: 区分 | H2: 作付 面積 | I2: 10ａ当たり 収量 | K2: ダミーDATA用 | M2: 区分 | N2: 作付 面積 | O2: 10ａ当たり 収量 | Q2: ダミーDATA用
D3: 田 | E3: 畑 | I3: 市町村 | J3: 県 | K3: 作付面積 | O3: 市町村 | P3: 県 | Q3: 作付面積
A4: 平成 27年 | B4: =IF(市町村別統計累年ファイル!U13="",NA(),IF(市町村別統計累年ファイル!U13="…",NA(),IF(市町村別統計累年ファイル!U13="-",NA(),IF(市町村別統計累年ファイル!U13="x",NA(),市町村別統計累年ファイル!U13)))) -> 2990 | C4: =IF(市町村別統計累年ファイル!AC13="",NA(),IF(市町村別統計累年ファイル!AC13="…",NA(),IF(市町村別統計累年ファイル!AC13="-",NA(),IF(市町村別統計累年ファイル!AC13="x",NA(),市町村別統計累年ファイル!AC13)))) -> 1040 | D4: =IF(市町村別統計累年ファイル!U13="",0,IF(市町村別統計累年ファイル!U13="…",0,IF(市町村別統計累年ファイル!U13="-",0,IF(市町村別統計累年ファイル!U13="x",0,市町村別統計累年ファイル!U13)))) -> 2990 | E4: =IF(市町村別統計累年ファイル!AC13="",0,IF(市町村別統計累年ファイル!AC13="…",0,IF(市町村別統計累年ファイル!AC13="-",0,IF(市町村別統計累年ファイル!AC13="x",0,市町村別統計累年ファイル!AC13)))) -> 1040 | G4: 平成 27年産 | H4: =IF(市町村別統計累年ファイル!Q30="",NA(),IF(市町村別統計累年ファイル!Q30="…",NA(),IF(市町村別統計累年ファイル!Q30="-",NA(),IF(市町村別統計累年ファイル!Q30="x",NA(),市町村別統計累年ファイル!Q30)))) -> 1580 | I4: =IF(市町村別統計累年ファイル!V30="",NA(),IF(市町村別統計累年ファイル!V30="…",NA(),IF(市町村別統計累年ファイル!V30="-",NA(),IF(市町村別統計累年ファイル!V30="x",NA(),市町村別統計累年ファイル!V30)))) -> 469 | J4: =IF(参照!$C$127="",NA(),IF(VLOOKUP(市町村別統計累年ファイル!$C$5&市町村別統計累年ファイル!$F$5,水稲!$A$6:$BH$130,32,FALSE)="-",NA(),IF(VLOOKUP(市町村別統計累年ファイル!$C$5&市町村別統計累年ファイル!$F$5,水稲!$A$6:$BH$130,32,FALSE)="…",NA(),IF(VLOOKUP(市町村別統計累年ファイル!$C$5&市町村別統計累年ファイル!$F$5,水稲!$A$6:$BH$130,32,FALSE)="x",NA(),VLOOKUP(市町村別統計累年ファイル!$C$5&市町村別統計累年ファイル!$F$5,水稲!$A$6:$BH$130,32,FALSE))))) -> 490 | K4: =IF(市町村別統計累年ファイル!Q30="",0,IF(市町村別統計累年ファイル!Q30="…",0,IF(市町村別統計累年ファイル!Q30="-",0,IF(市町村別統計累年ファイル!Q30="x",0,市町村別統計累年ファイル!Q30)))) -> 1580 | M4: =G4 -> 平成 27年産 | N4: =IF(市町村別統計累年ファイル!Q47="",NA(),IF(市町村別統計累年ファイル!Q47="…",NA(),IF(市町村別統計累年ファイル!Q47="-",NA(),IF(市町村別統計累年ファイル!Q47="x",NA(),市町村別統計累年ファイル!Q47)))) -> 96 | O4: =IF(市町村別統計累年ファイル!T47="",NA(),IF(市町村別統計累年ファイル!T47="…",NA(),IF(市町村別統計累年ファイル!T47="-",NA(),IF(市町村別統計累年ファイル!T47="x",NA(),市町村別統計累年ファイル!T47)))) -> 190 | P4: =IF(参照!$C$127="",NA(),IF(VLOOKUP(市町村別統計累年ファイル!$C$5&市町村別統計累年ファイル!$F$5,小麦!$A$6:$BH$130,52,FALSE)="-",NA(),IF(VLOOKUP(市町村別統計累年ファイル!$C$5&市町村別統計累年ファイル!$F$5,小麦!$A$6:$BH$130,52,FALSE)="…",NA(),IF(VLOOKUP(市町村別統計累年ファイル!$C$5&市町村別統計累年ファイル!$F$5,小麦!$A$6:$BH$130,52,FALSE)="x",NA(),VLOOKUP(市町村別統計累年ファイル!$C$5&市町村別統計累年ファイル!$F$5,小麦!$A$6:$BH$130,52,FALSE))))) -> 275 | Q4: =IF(市町村別統計累年ファイル!Q47="",0,IF(市町村別統計累年ファイル!Q47="…",0,IF(市町村別統計累年ファイル!Q47="-",0,IF(市町村別統計累年ファイル!Q47="x",0,市町村別統計累年ファイル!Q47)))) -> 96
A5: 28 | B5: =IF(市町村別統計累年ファイル!U14="",NA(),IF(市町村別統計累年ファイル!U14="…",NA(),IF(市町村別統計累年ファイル!U14="-",NA(),IF(市町村別統計累年ファイル!U14="x",NA(),市町村別統計累年ファイル!U14)))) -> 2950 | C5: =IF(市町村別統計累年ファイル!AC14="",NA(),IF(市町村別統計累年ファイル!AC14="…",NA(),IF(市町村別統計累年ファイル!AC14="-",NA(),IF(市町村別統計累年ファイル!AC14="x",NA(),市町村別統計累年ファイル!AC14)))) -> 1060 | D5: =IF(市町村別統計累年ファイル!U14="",0,IF(市町村別統計累年ファイル!U14="…",0,IF(市町村別統計累年ファイル!U14="-",0,IF(市町村別統計累年ファイル!U14="x",0,市町村別統計累年ファイル!U14)))) -> 2950 | E5: =IF(市町村別統計累年ファイル!AC14="",0,IF(市町村別統計累年ファイル!AC14="…",0,IF(市町村別統計累年ファイル!AC14="-",0,IF(市町村別統計累年ファイル!AC14="x",0,市町村別統計累年ファイル!AC14)))) -> 1060 | G5: 28 | H5: =IF(市町村別統計累年ファイル!Q31="",NA(),IF(市町村別統計累年ファイル!Q31="…",NA(),IF(市町村別統計累年ファイル!Q31="-",NA(),IF(市町村別統計累年ファイル!Q31="x",NA(),市町村別統計累年ファイル!Q31)))) -> 1500 | I5: =IF(市町村別統計累年ファイル!V31="",NA(),IF(市町村別統計累年ファイル!V31="…",NA(),IF(市町村別統計累年ファイル!V31="-",NA(),IF(市町村別統計累年ファイル!V31="x",NA(),市町村別統計累年ファイル!V31)))) -> 475 | J5: =IF(参照!$C$127="",NA(),IF(VLOOKUP(市町村別統計累年ファイル!$C$5&市町村別統計累年ファイル!$F$5,水稲!$A$6:$BH$130,33,FALSE)="-",NA(),IF(VLOOKUP(市町村別統計累年ファイル!$C$5&市町村別統計累年ファイル!$F$5,水稲!$A$6:$BH$130,33,FALSE)="…",NA(),IF(VLOOKUP(市町村別統計累年ファイル!$C$5&市町村別統計累年ファイル!$F$5,水稲!$A$6:$BH$130,33,FALSE)="x",NA(),VLOOKUP(市町村別統計累年ファイル!$C$5&市町村別統計累年ファイル!$F$5,水稲!$A$6:$BH$130,33,FALSE))))) -> 460 | K5: =IF(市町村別統計累年ファイル!Q31="",0,IF(市町村別統計累年ファイル!Q31="…",0,IF(市町村別統計累年ファイル!Q31="-",0,IF(市町村別統計累年ファイル!Q31="x",0,市町村別統計累年ファイル!Q31)))) -> 1500 | M5: =G5 -> 28 | N5: =IF(市町村別統計累年ファイル!Q48="",NA(),IF(市町村別統計累年ファイル!Q48="…",NA(),IF(市町村別統計累年ファイル!Q48="-",NA(),IF(市町村別統計累年ファイル!Q48="x",NA(),市町村別統計累年ファイル!Q48)))) -> 106 | O5: =IF(市町村別統計累年ファイル!T48="",NA(),IF(市町村別統計累年ファイル!T48="…",NA(),IF(市町村別統計累年ファイル!T48="-",NA(),IF(市町村別統計累年ファイル!T48="x",NA(),市町村別統計累年ファイル!T48)))) -> 221 | P5: =IF(参照!$C$127="",NA(),IF(VLOOKUP(市町村別統計累年ファイル!$C$5&市町村別統計累年ファイル!$F$5,小麦!$A$6:$BH$130,53,FALSE)="-",NA(),IF(VLOOKUP(市町村別統計累年ファイル!$C$5&市町村別統計累年ファイル!$F$5,小麦!$A$6:$BH$130,53,FALSE)="…",NA(),IF(VLOOKUP(市町村別統計累年ファイル!$C$5&市町村別統計累年ファイル!$F$5,小麦!$A$6:$BH$130,53,FALSE)="x",NA(),VLOOKUP(市町村別統計累年ファイル!$C$5&市町村別統計累年ファイル!$F$5,小麦!$A$6:$BH$130,53,FALSE))))) -> 275 | Q5: =IF(市町村別統計累年ファイル!Q48="",0,IF(市町村別統計累年ファイル!Q48="…",0,IF(市町村別統計累年ファイル!Q48="-",0,IF(市町村別統計累年ファイル!Q48="x",0,市町村別統計累年ファイル!Q48)))) -> 106
A6: =A5+1 -> 29 | B6: =IF(市町村別統計累年ファイル!U15="",NA(),IF(市町村別統計累年ファイル!U15="…",NA(),IF(市町村別統計累年ファイル!U15="-",NA(),IF(市町村別統計累年ファイル!U15="x",NA(),市町村別統計累年ファイル!U15)))) -> 2900 | C6: =IF(市町村別統計累年ファイル!AC15="",NA(),IF(市町村別統計累年ファイル!AC15="…",NA(),IF(市町村別統計累年ファイル!AC15="-",NA(),IF(市町村別統計累年ファイル!AC15="x",NA(),市町村別統計累年ファイル!AC15)))) -> 1060 | D6: =IF(市町村別統計累年ファイル!U15="",0,IF(市町村別統計累年ファイル!U15="…",0,IF(市町村別統計累年ファイル!U15="-",0,IF(市町村別統計累年ファイル!U15="x",0,市町村別統計累年ファイル!U15)))) -> 2900 | E6: =IF(市町村別統計累年ファイル!AC15="",0,IF(市町村別統計累年ファイル!AC15="…",0,IF(市町村別統計累年ファイル!AC15="-",0,IF(市町村別統計累年ファイル!AC15="x",0,市町村別統計累年ファイル!AC15)))) -> 1060 | G6: =G5+1 -> 29 | H6: =IF(市町村別統計累年ファイル!Q32="",NA(),IF(市町村別統計累年ファイル!Q32="…",NA(),IF(市町村別統計累年ファイル!Q32="-",NA(),IF(市町村別統計累年ファイル!Q32="x",NA(),市町村別統計累年ファイル!Q32)))) -> 1470 | I6: =IF(市町村別統計累年ファイル!V32="",NA(),IF(市町村別統計累年ファイル!V32="…",NA(),IF(市町村別統計累年ファイル!V32="-",NA(),IF(市町村別統計累年ファイル!V32="x",NA(),市町村別統計累年ファイル!V32)))) -> 475 | J6: =IF(参照!$C$127="",NA(),IF(VLOOKUP(市町村別統計累年ファイル!$C$5&市町村別統計累年ファイル!$F$5,水稲!$A$6:$BH$130,34,FALSE)="-",NA(),IF(VLOOKUP(市町村別統計累年ファイル!$C$5&市町村別統計累年ファイル!$F$5,水稲!$A$6:$BH$130,34,FALSE)="…",NA(),IF(VLOOKUP(市町村別統計累年ファイル!$C$5&市町村別統計累年ファイル!$F$5,水稲!$A$6:$BH$130,34,FALSE)="x",NA(),VLOOKUP(市町村別統計累年ファイル!$C$5&市町村別統計累年ファイル!$F$5,水稲!$A$6:$BH$130,34,FALSE))))) -> 475 | K6: =IF(市町村別統計累年ファイル!Q32="",0,IF(市町村別統計累年ファイル!Q32="…",0,IF(市町村別統計累年ファイル!Q32="-",0,IF(市町村別統計累年ファイル!Q32="x",0,市町村別統計累年ファイル!Q32)))) -> 1470 | M6: =G6 -> 29 | N6: =IF(市町村別統計累年ファイル!Q49="",NA(),IF(市町村別統計累年ファイル!Q49="…",NA(),IF(市町村別統計累年ファイル!Q49="-",NA(),IF(市町村別統計累年ファイル!Q49="x",NA(),市町村別統計累年ファイル!Q49)))) -> 114 | O6: =IF(市町村別統計累年ファイル!T49="",NA(),IF(市町村別統計累年ファイル!T49="…",NA(),IF(市町村別統計累年ファイル!T49="-",NA(),IF(市町村別統計累年ファイル!T49="x",NA(),市町村別統計累年ファイル!T49)))) -> 292 | P6: =IF(参照!$C$127="",NA(),IF(VLOOKUP(市町村別統計累年ファイル!$C$5&市町村別統計累年ファイル!$F$5,小麦!$A$6:$BH$130,54,FALSE)="-",NA(),IF(VLOOKUP(市町村別統計累年ファイル!$C$5&市町村別統計累年ファイル!$F$5,小麦!$A$6:$BH$130,54,FALSE)="…",NA(),IF(VLOOKUP(市町村別統計累年ファイル!$C$5&市町村別統計累年ファイル!$F$5,小麦!$A$6:$BH$130,54,FALSE)="x",NA(),VLOOKUP(市町村別統計累年ファイル!$C$5&市町村別統計累年ファイル!$F$5,小麦!$A$6:$BH$130,54,FALSE))))) -> 312 | Q6: =IF(市町村別統計累年ファイル!Q49="",0,IF(市町村別統計累年ファイル!Q49="…",0,IF(市町村別統計累年ファイル!Q49="-",0,IF(市町村別統計累年ファイル!Q49="x",0,市町村別統計累年ファイル!Q49)))) -> 114
A7: =A6+1 -> 30 | B7: =IF(市町村別統計累年ファイル!U16="",NA(),IF(市町村別統計累年ファイル!U16="…",NA(),IF(市町村別統計累年ファイル!U16="-",NA(),IF(市町村別統計累年ファイル!U16="x",NA(),市町村別統計累年ファイル!U16)))) -> 2880 | C7: =IF(市町村別統計累年ファイル!AC16="",NA(),IF(市町村別統計累年ファイル!AC16="…",NA(),IF(市町村別統計累年ファイル!AC16="-",NA(),IF(市町村別統計累年ファイル!AC16="x",NA(),市町村別統計累年ファイル!AC16)))) -> 1070 | D7: =IF(市町村別統計累年ファイル!U16="",0,IF(市町村別統計累年ファイル!U16="…",0,IF(市町村別統計累年ファイル!U16="-",0,IF(市町村別統計累年ファイル!U16="x",0,市町村別統計累年ファイル!U16)))) -> 2880 | E7: =IF(市町村別統計累年ファイル!AC16="",0,IF(市町村別統計累年ファイル!AC16="…",0,IF(市町村別統計累年ファイル!AC16="-",0,IF(市町村別統計累年ファイル!AC16="x",0,市町村別統計累年ファイル!AC16)))) -> 1070 | G7: =G6+1 -> 30 | H7: =IF(市町村別統計累年ファイル!Q33="",NA(),IF(市町村別統計累年ファイル!Q33="…",NA(),IF(市町村別統計累年ファイル!Q33="-",NA(),IF(市町村別統計累年ファイル!Q33="x",NA(),市町村別統計累年ファイル!Q33)))) -> 1490 | I7: =IF(市町村別統計累年ファイル!V33="",NA(),IF(市町村別統計累年ファイル!V33="…",NA(),IF(市町村別統計累年ファイル!V33="-",NA(),IF(市町村別統計累年ファイル!V33="x",NA(),市町村別統計累年ファイル!V33)))) -> 461 | J7: =IF(参照!$C$127="",NA(),IF(VLOOKUP(市町村別統計累年ファイル!$C$5&市町村別統計累年ファイル!$F$5,水稲!$A$6:$BH$130,35,FALSE)="-",NA(),IF(VLOOKUP(市町村別統計累年ファイル!$C$5&市町村別統計累年ファイル!$F$5,水稲!$A$6:$BH$130,35,FALSE)="…",NA(),IF(VLOOKUP(市町村別統計累年ファイル!$C$5&市町村別統計累年ファイル!$F$5,水稲!$A$6:$BH$130,35,FALSE)="x",NA(),VLOOKUP(市町村別統計累年ファイル!$C$5&市町村別統計累年ファイル!$F$5,水稲!$A$6:$BH$130,35,FALSE))))) -> 485 | K7: =IF(市町村別統計累年ファイル!Q33="",0,IF(市町村別統計累年ファイル!Q33="…",0,IF(市町村別統計累年ファイル!Q33="-",0,IF(市町村別統計累年ファイル!Q33="x",0,市町村別統計累年ファイル!Q33)))) -> 1490 | M7: =G7 -> 30 | N7: =IF(市町村別統計累年ファイル!Q50="",NA(),IF(市町村別統計累年ファイル!Q50="…",NA(),IF(市町村別統計累年ファイル!Q50="-",NA(),IF(市町村別統計累年ファイル!Q50="x",NA(),市町村別統計累年ファイル!Q50)))) -> 127 | O7: =IF(市町村別統計累年ファイル!T50="",NA(),IF(市町村別統計累年ファイル!T50="…",NA(),IF(市町村別統計累年ファイル!T50="-",NA(),IF(市町村別統計累年ファイル!T50="x",NA(),市町村別統計累年ファイル!T50)))) -> 295 | P7: =IF(参照!$C$127="",NA(),IF(VLOOKUP(市町村別統計累年ファイル!$C$5&市町村別統計累年ファイル!$F$5,小麦!$A$6:$BH$130,55,FALSE)="-",NA(),IF(VLOOKUP(市町村別統計累年ファイル!$C$5&市町村別統計累年ファイル!$F$5,小麦!$A$6:$BH$130,55,FALSE)="…",NA(),IF(VLOOKUP(市町村別統計累年ファイル!$C$5&市町村別統計累年ファイル!$F$5,小麦!$A$6:$BH$130,55,FALSE)="x",NA(),VLOOKUP(市町村別統計累年ファイル!$C$5&市町村別統計累年ファイル!$F$5,小麦!$A$6:$BH$130,55,FALSE))))) -> 292 | Q7: =IF(市町村別統計累年ファイル!Q50="",0,IF(市町村別統計累年ファイル!Q50="…",0,IF(市町村別統計累年ファイル!Q50="-",0,IF(市町村別統計累年ファイル!Q50="x",0,市町村別統計累年ファイル!Q50)))) -> 127
A8: 令和 元年 | B8: =IF(市町村別統計累年ファイル!U17="",NA(),IF(市町村別統計累年ファイル!U17="…",NA(),IF(市町村別統計累年ファイル!U17="-",NA(),IF(市町村別統計累年ファイル!U17="x",NA(),市町村別統計累年ファイル!U17)))) -> 2860 | C8: =IF(市町村別統計累年ファイル!AC17="",NA(),IF(市町村別統計累年ファイル!AC17="…",NA(),IF(市町村別統計累年ファイル!AC17="-",NA(),IF(市町村別統計累年ファイル!AC17="x",NA(),市町村別統計累年ファイル!AC17)))) -> 1070 | D8: =IF(市町村別統計累年ファイル!U17="",0,IF(市町村別統計累年ファイル!U17="…",0,IF(市町村別統計累年ファイル!U17="-",0,IF(市町村別統計累年ファイル!U17="x",0,市町村別統計累年ファイル!U17)))) -> 2860 | E8: =IF(市町村別統計累年ファイル!AC17="",0,IF(市町村別統計累年ファイル!AC17="…",0,IF(市町村別統計累年ファイル!AC17="-",0,IF(市町村別統計累年ファイル!AC17="x",0,市町村別統計累年ファイル!AC17)))) -> 1070 | G8: 令和 元年産 | H8: =IF(市町村別統計累年ファイル!Q34="",NA(),IF(市町村別統計累年ファイル!Q34="…",NA(),IF(市町村別統計累年ファイル!Q34="-",NA(),IF(市町村別統計累年ファイル!Q34="x",NA(),市町村別統計累年ファイル!Q34)))) -> 1550 | I8: =IF(市町村別統計累年ファイル!V34="",NA(),IF(市町村別統計累年ファイル!V34="…",NA(),IF(市町村別統計累年ファイル!V34="-",NA(),IF(市町村別統計累年ファイル!V34="x",NA(),市町村別統計累年ファイル!V34)))) -> 468 | J8: =IF(参照!$C$127="",NA(),IF(VLOOKUP(市町村別統計累年ファイル!$C$5&市町村別統計累年ファイル!$F$5,水稲!$A$6:$BH$130,36,FALSE)="-",NA(),IF(VLOOKUP(市町村別統計累年ファイル!$C$5&市町村別統計累年ファイル!$F$5,水稲!$A$6:$BH$130,36,FALSE)="…",NA(),IF(VLOOKUP(市町村別統計累年ファイル!$C$5&市町村別統計累年ファイル!$F$5,水稲!$A$6:$BH$130,36,FALSE)="x",NA(),VLOOKUP(市町村別統計累年ファイル!$C$5&市町村別統計累年ファイル!$F$5,水稲!$A$6:$BH$130,36,FALSE))))) -> 492 | K8: =IF(市町村別統計累年ファイル!Q34="",0,IF(市町村別統計累年ファイル!Q34="…",0,IF(市町村別統計累年ファイル!Q34="-",0,IF(市町村別統計累年ファイル!Q34="x",0,市町村別統計累年ファイル!Q34)))) -> 1550 | M8: =G8 -> 令和 元年産 | N8: =IF(市町村別統計累年ファイル!Q51="",NA(),IF(市町村別統計累年ファイル!Q51="…",NA(),IF(市町村別統計累年ファイル!Q51="-",NA(),IF(市町村別統計累年ファイル!Q51="x",NA(),市町村別統計累年ファイル!Q51)))) -> 133 | O8: =IF(市町村別統計累年ファイル!T51="",NA(),IF(市町村別統計累年ファイル!T51="…",NA(),IF(市町村別統計累年ファイル!T51="-",NA(),IF(市町村別統計累年ファイル!T51="x",NA(),市町村別統計累年ファイル!T51)))) -> 363 | P8: =IF(参照!$C$127="",NA(),IF(VLOOKUP(市町村別統計累年ファイル!$C$5&市町村別統計累年ファイル!$F$5,小麦!$A$6:$BH$130,56,FALSE)="-",NA(),IF(VLOOKUP(市町村別統計累年ファイル!$C$5&市町村別統計累年ファイル!$F$5,小麦!$A$6:$BH$130,56,FALSE)="…",NA(),IF(VLOOKUP(市町村別統計累年ファイル!$C$5&市町村別統計累年ファイル!$F$5,小麦!$A$6:$BH$130,56,FALSE)="x",NA(),VLOOKUP(市町村別統計累年ファイル!$C$5&市町村別統計累年ファイル!$F$5,小麦!$A$6:$BH$130,56,FALSE))))) -> 355 | Q8: =IF(市町村別統計累年ファイル!Q51="",0,IF(市町村別統計累年ファイル!Q51="…",0,IF(市町村別統計累年ファイル!Q51="-",0,IF(市町村別統計累年ファイル!Q51="x",0,市町村別統計累年ファイル!Q51)))) -> 133
A9: 2 | B9: =IF(市町村別統計累年ファイル!U18="",NA(),IF(市町村別統計累年ファイル!U18="…",NA(),IF(市町村別統計累年ファイル!U18="-",NA(),IF(市町村別統計累年ファイル!U18="x",NA(),市町村別統計累年ファイル!U18)))) -> 2850 | C9: =IF(市町村別統計累年ファイル!AC18="",NA(),IF(市町村別統計累年ファイル!AC18="…",NA(),IF(市町村別統計累年ファイル!AC18="-",NA(),IF(市町村別統計累年ファイル!AC18="x",NA(),市町村別統計累年ファイル!AC18)))) -> 1080 | D9: =IF(市町村別統計累年ファイル!U18="",0,IF(市町村別統計累年ファイル!U18="…",0,IF(市町村別統計累年ファイル!U18="-",0,IF(市町村別統計累年ファイル!U18="x",0,市町村別統計累年ファイル!U18)))) -> 2850 | E9: =IF(市町村別統計累年ファイル!AC18="",0,IF(市町村別統計累年ファイル!AC18="…",0,IF(市町村別統計累年ファイル!AC18="-",0,IF(市町村別統計累年ファイル!AC18="x",0,市町村別統計累年ファイル!AC18)))) -> 1080 | G9: 2 | H9: =IF(市町村別統計累年ファイル!Q35="",NA(),IF(市町村別統計累年ファイル!Q35="…",NA(),IF(市町村別統計累年ファイル!Q35="-",NA(),IF(市町村別統計累年ファイル!Q35="x",NA(),市町村別統計累年ファイル!Q35)))) -> 1550 | I9: =IF(市町村別統計累年ファイル!V35="",NA(),IF(市町村別統計累年ファイル!V35="…",NA(),IF(市町村別統計累年ファイル!V35="-",NA(),IF(市町村別統計累年ファイル!V35="x",NA(),市町村別統計累年ファイル!V35)))) -> 451 | J9: =IF(参照!$C$127="",NA(),IF(VLOOKUP(市町村別統計累年ファイル!$C$5&市町村別統計累年ファイル!$F$5,水稲!$A$6:$BH$130,37,FALSE)="-",NA(),IF(VLOOKUP(市町村別統計累年ファイル!$C$5&市町村別統計累年ファイル!$F$5,水稲!$A$6:$BH$130,37,FALSE)="…",NA(),IF(VLOOKUP(市町村別統計累年ファイル!$C$5&市町村別統計累年ファイル!$F$5,水稲!$A$6:$BH$130,37,FALSE)="x",NA(),VLOOKUP(市町村別統計累年ファイル!$C$5&市町村別統計累年ファイル!$F$5,水稲!$A$6:$BH$130,37,FALSE))))) -> 495 | K9: =IF(市町村別統計累年ファイル!Q35="",0,IF(市町村別統計累年ファイル!Q35="…",0,IF(市町村別統計累年ファイル!Q35="-",0,IF(市町村別統計累年ファイル!Q35="x",0,市町村別統計累年ファイル!Q35)))) -> 1550 | M9: =G9 -> 2 | N9: =IF(市町村別統計累年ファイル!Q52="",NA(),IF(市町村別統計累年ファイル!Q52="…",NA(),IF(市町村別統計累年ファイル!Q52="-",NA(),IF(市町村別統計累年ファイル!Q52="x",NA(),市町村別統計累年ファイル!Q52)))) -> 140 | O9: =IF(市町村別統計累年ファイル!T52="",NA(),IF(市町村別統計累年ファイル!T52="…",NA(),IF(市町村別統計累年ファイル!T52="-",NA(),IF(市町村別統計累年ファイル!T52="x",NA(),市町村別統計累年ファイル!T52)))) -> 318 | P9: =IF(参照!$C$127="",NA(),IF(VLOOKUP(市町村別統計累年ファイル!$C$5&市町村別統計累年ファイル!$F$5,小麦!$A$6:$BH$130,57,FALSE)="-",NA(),IF(VLOOKUP(市町村別統計累年ファイル!$C$5&市町村別統計累年ファイル!$F$5,小麦!$A$6:$BH$130,57,FALSE)="…",NA(),IF(VLOOKUP(市町村別統計累年ファイル!$C$5&市町村別統計累年ファイル!$F$5,小麦!$A$6:$BH$130,57,FALSE)="x",NA(),VLOOKUP(市町村別統計累年ファイル!$C$5&市町村別統計累年ファイル!$F$5,小麦!$A$6:$BH$130,57,FALSE))))) -> 341 | Q9: =IF(市町村別統計累年ファイル!Q52="",0,IF(市町村別統計累年ファイル!Q52="…",0,IF(市町村別統計累年ファイル!Q52="-",0,IF(市町村別統計累年ファイル!Q52="x",0,市町村別統計累年ファイル!Q52)))) -> 140
A10: 3 | B10: =IF(市町村別統計累年ファイル!U19="",NA(),IF(市町村別統計累年ファイル!U19="…",NA(),IF(市町村別統計累年ファイル!U19="-",NA(),IF(市町村別統計累年ファイル!U19="x",NA(),市町村別統計累年ファイル!U19)))) -> 2850 | C10: =IF(市町村別統計累年ファイル!AC19="",NA(),IF(市町村別統計累年ファイル!AC19="…",NA(),IF(市町村別統計累年ファイル!AC19="-",NA(),IF(市町村別統計累年ファイル!AC19="x",NA(),市町村別統計累年ファイル!AC19)))) -> 1080 | D10: =IF(市町村別統計累年ファイル!U19="",0,IF(市町村別統計累年ファイル!U19="…",0,IF(市町村別統計累年ファイル!U19="-",0,IF(市町村別統計累年ファイル!U19="x",0,市町村別統計累年ファイル!U19)))) -> 2850 | E10: =IF(市町村別統計累年ファイル!AC19="",0,IF(市町村別統計累年ファイル!AC19="…",0,IF(市町村別統計累年ファイル!AC19="-",0,IF(市町村別統計累年ファイル!AC19="x",0,市町村別統計累年ファイル!AC19)))) -> 1080 | G10: 3 | H10: =IF(市町村別統計累年ファイル!Q36="",NA(),IF(市町村別統計累年ファイル!Q36="…",NA(),IF(市町村別統計累年ファイル!Q36="-",NA(),IF(市町村別統計累年ファイル!Q36="x",NA(),市町村別統計累年ファイル!Q36)))) -> 1560 | I10: =IF(市町村別統計累年ファイル!V36="",NA(),IF(市町村別統計累年ファイル!V36="…",NA(),IF(市町村別統計累年ファイル!V36="-",NA(),IF(市町村別統計累年ファイル!V36="x",NA(),市町村別統計累年ファイル!V36)))) -> 467 | J10: =IF(参照!$C$127="",NA(),IF(VLOOKUP(市町村別統計累年ファイル!$C$5&市町村別統計累年ファイル!$F$5,水稲!$A$6:$BH$130,38,FALSE)="-",NA(),IF(VLOOKUP(市町村別統計累年ファイル!$C$5&市町村別統計累年ファイル!$F$5,水稲!$A$6:$BH$130,38,FALSE)="…",NA(),IF(VLOOKUP(市町村別統計累年ファイル!$C$5&市町村別統計累年ファイル!$F$5,水稲!$A$6:$BH$130,38,FALSE)="x",NA(),VLOOKUP(市町村別統計累年ファイル!$C$5&市町村別統計累年ファイル!$F$5,水稲!$A$6:$BH$130,38,FALSE))))) -> 478 | K10: =IF(市町村別統計累年ファイル!Q36="",0,IF(市町村別統計累年ファイル!Q36="…",0,IF(市町村別統計累年ファイル!Q36="-",0,IF(市町村別統計累年ファイル!Q36="x",0,市町村別統計累年ファイル!Q36)))) -> 1560 | M10: =G10 -> 3 | N10: =IF(市町村別統計累年ファイル!Q53="",NA(),IF(市町村別統計累年ファイル!Q53="…",NA(),IF(市町村別統計累年ファイル!Q53="-",NA(),IF(市町村別統計累年ファイル!Q53="x",NA(),市町村別統計累年ファイル!Q53)))) -> 158 | O10: =IF(市町村別統計累年ファイル!T53="",NA(),IF(市町村別統計累年ファイル!T53="…",NA(),IF(市町村別統計累年ファイル!T53="-",NA(),IF(市町村別統計累年ファイル!T53="x",NA(),市町村別統計累年ファイル!T53)))) -> 277 | P10: =IF(参照!$C$127="",NA(),IF(VLOOKUP(市町村別統計累年ファイル!$C$5&市町村別統計累年ファイル!$F$5,小麦!$A$6:$BH$130,58,FALSE)="-",NA(),IF(VLOOKUP(市町村別統計累年ファイル!$C$5&市町村別統計累年ファイル!$F$5,小麦!$A$6:$BH$130,58,FALSE)="…",NA(),IF(VLOOKUP(市町村別統計累年ファイル!$C$5&市町村別統計累年ファイル!$F$5,小麦!$A$6:$BH$130,58,FALSE)="x",NA(),VLOOKUP(市町村別統計累年ファイル!$C$5&市町村別統計累年ファイル!$F$5,小麦!$A$6:$BH$130,58,FALSE))))) -> 318 | Q10: =IF(市町村別統計累年ファイル!Q53="",0,IF(市町村別統計累年ファイル!Q53="…",0,IF(市町村別統計累年ファイル!Q53="-",0,IF(市町村別統計累年ファイル!Q53="x",0,市町村別統計累年ファイル!Q53)))) -> 158
A11: 4 | B11: =IF(市町村別統計累年ファイル!U20="",NA(),IF(市町村別統計累年ファイル!U20="…",NA(),IF(市町村別統計累年ファイル!U20="-",NA(),IF(市町村別統計累年ファイル!U20="x",NA(),市町村別統計累年ファイル!U20)))) -> 2830 | C11: =IF(市町村別統計累年ファイル!AC20="",NA(),IF(市町村別統計累年ファイル!AC20="…",NA(),IF(市町村別統計累年ファイル!AC20="-",NA(),IF(市町村別統計累年ファイル!AC20="x",NA(),市町村別統計累年ファイル!AC20)))) -> 1070 | D11: =IF(市町村別統計累年ファイル!U20="",0,IF(市町村別統計累年ファイル!U20="…",0,IF(市町村別統計累年ファイル!U20="-",0,IF(市町村別統計累年ファイル!U20="x",0,市町村別統計累年ファイル!U20)))) -> 2830 | E11: =IF(市町村別統計累年ファイル!AC20="",0,IF(市町村別統計累年ファイル!AC20="…",0,IF(市町村別統計累年ファイル!AC20="-",0,IF(市町村別統計累年ファイル!AC20="x",0,市町村別統計累年ファイル!AC20)))) -> 1070 | G11: 4 | H11: =IF(市町村別統計累年ファイル!Q37="",NA(),IF(市町村別統計累年ファイル!Q37="…",NA(),IF(市町村別統計累年ファイル!Q37="-",NA(),IF(市町村別統計累年ファイル!Q37="x",NA(),市町村別統計累年ファイル!Q37)))) -> 1460 | I11: =IF(市町村別統計累年ファイル!V37="",NA(),IF(市町村別統計累年ファイル!V37="…",NA(),IF(市町村別統計累年ファイル!V37="-",NA(),IF(市町村別統計累年ファイル!V37="x",NA(),市町村別統計累年ファイル!V37)))) -> 481 | J11: =IF(参照!$C$127="",NA(),IF(VLOOKUP(市町村別統計累年ファイル!$C$5&市町村別統計累年ファイル!$F$5,水稲!$A$6:$BH$130,39,FALSE)="-",NA(),IF(VLOOKUP(市町村別統計累年ファイル!$C$5&市町村別統計累年ファイル!$F$5,水稲!$A$6:$BH$130,39,FALSE)="…",NA(),IF(VLOOKUP(市町村別統計累年ファイル!$C$5&市町村別統計累年ファイル!$F$5,水稲!$A$6:$BH$130,39,FALSE)="x",NA(),VLOOKUP(市町村別統計累年ファイル!$C$5&市町村別統計累年ファイル!$F$5,水稲!$A$6:$BH$130,39,FALSE))))) -> 487 | K11: =IF(市町村別統計累年ファイル!Q37="",0,IF(市町村別統計累年ファイル!Q37="…",0,IF(市町村別統計累年ファイル!Q37="-",0,IF(市町村別統計累年ファイル!Q37="x",0,市町村別統計累年ファイル!Q37)))) -> 1460 | M11: =G11 -> 4 | N11: =IF(市町村別統計累年ファイル!Q54="",NA(),IF(市町村別統計累年ファイル!Q54="…",NA(),IF(市町村別統計累年ファイル!Q54="-",NA(),IF(市町村別統計累年ファイル!Q54="x",NA(),市町村別統計累年ファイル!Q54)))) -> 159 | O11: =IF(市町村別統計累年ファイル!T54="",NA(),IF(市町村別統計累年ファイル!T54="…",NA(),IF(市町村別統計累年ファイル!T54="-",NA(),IF(市町村別統計累年ファイル!T54="x",NA(),市町村別統計累年ファイル!T54)))) -> 321 | P11: =IF(参照!$C$127="",NA(),IF(VLOOKUP(市町村別統計累年ファイル!$C$5&市町村別統計累年ファイル!$F$5,小麦!$A$6:$BH$130,59,FALSE)="-",NA(),IF(VLOOKUP(市町村別統計累年ファイル!$C$5&市町村別統計累年ファイル!$F$5,小麦!$A$6:$BH$130,59,FALSE)="…",NA(),IF(VLOOKUP(市町村別統計累年ファイル!$C$5&市町村別統計累年ファイル!$F$5,小麦!$A$6:$BH$130,59,FALSE)="x",NA(),VLOOKUP(市町村別統計累年ファイル!$C$5&市町村別統計累年ファイル!$F$5,小麦!$A$6:$BH$130,59,FALSE))))) -> 358 | Q11: =IF(市町村別統計累年ファイル!Q54="",0,IF(市町村別統計累年ファイル!Q54="…",0,IF(市町村別統計累年ファイル!Q54="-",0,IF(市町村別統計累年ファイル!Q54="x",0,市町村別統計累年ファイル!Q54)))) -> 159
A12: 5 | B12: =IF(市町村別統計累年ファイル!U21="",NA(),IF(市町村別統計累年ファイル!U21="…",NA(),IF(市町村別統計累年ファイル!U21="-",NA(),IF(市町村別統計累年ファイル!U21="x",NA(),市町村別統計累年ファイル!U21)))) -> 2810 | C12: =IF(市町村別統計累年ファイル!AC21="",NA(),IF(市町村別統計累年ファイル!AC21="…",NA(),IF(市町村別統計累年ファイル!AC21="-",NA(),IF(市町村別統計累年ファイル!AC21="x",NA(),市町村別統計累年ファイル!AC21)))) -> 1070 | D12: =IF(市町村別統計累年ファイル!U21="",0,IF(市町村別統計累年ファイル!U21="…",0,IF(市町村別統計累年ファイル!U21="-",0,IF(市町村別統計累年ファイル!U21="x",0,市町村別統計累年ファイル!U21)))) -> 2810 | E12: =IF(市町村別統計累年ファイル!AC21="",0,IF(市町村別統計累年ファイル!AC21="…",0,IF(市町村別統計累年ファイル!AC21="-",0,IF(市町村別統計累年ファイル!AC21="x",0,市町村別統計累年ファイル!AC21)))) -> 1070 | G12: 5 | H12: =IF(市町村別統計累年ファイル!Q38="",NA(),IF(市町村別統計累年ファイル!Q38="…",NA(),IF(市町村別統計累年ファイル!Q38="-",NA(),IF(市町村別統計累年ファイル!Q38="x",NA(),市町村別統計累年ファイル!Q38)))) -> 1580 | I12: =IF(市町村別統計累年ファイル!V38="",NA(),IF(市町村別統計累年ファイル!V38="…",NA(),IF(市町村別統計累年ファイル!V38="-",NA(),IF(市町村別統計累年ファイル!V38="x",NA(),市町村別統計累年ファイル!V38)))) -> 475 | J12: =IF(参照!$C$127="",NA(),IF(VLOOKUP(市町村別統計累年ファイル!$C$5&市町村別統計累年ファイル!$F$5,水稲!$A$6:$BH$130,40,FALSE)="-",NA(),IF(VLOOKUP(市町村別統計累年ファイル!$C$5&市町村別統計累年ファイル!$F$5,水稲!$A$6:$BH$130,40,FALSE)="…",NA(),IF(VLOOKUP(市町村別統計累年ファイル!$C$5&市町村別統計累年ファイル!$F$5,水稲!$A$6:$BH$130,40,FALSE)="x",NA(),VLOOKUP(市町村別統計累年ファイル!$C$5&市町村別統計累年ファイル!$F$5,水稲!$A$6:$BH$130,40,FALSE))))) -> 484 | K12: =IF(市町村別統計累年ファイル!Q38="",0,IF(市町村別統計累年ファイル!Q38="…",0,IF(市町村別統計累年ファイル!Q38="-",0,IF(市町村別統計累年ファイル!Q38="x",0,市町村別統計累年ファイル!Q38)))) -> 1580 | M12: =G12 -> 5 | N12: =IF(市町村別統計累年ファイル!Q55="",NA(),IF(市町村別統計累年ファイル!Q55="…",NA(),IF(市町村別統計累年ファイル!Q55="-",NA(),IF(市町村別統計累年ファイル!Q55="x",NA(),市町村別統計累年ファイル!Q55)))) -> 176 | O12: =IF(市町村別統計累年ファイル!T55="",NA(),IF(市町村別統計累年ファイル!T55="…",NA(),IF(市町村別統計累年ファイル!T55="-",NA(),IF(市町村別統計累年ファイル!T55="x",NA(),市町村別統計累年ファイル!T55)))) -> 310 | P12: =IF(参照!$C$127="",NA(),IF(VLOOKUP(市町村別統計累年ファイル!$C$5&市町村別統計累年ファイル!$F$5,小麦!$A$6:$BH$130,60,FALSE)="-",NA(),IF(VLOOKUP(市町村別統計累年ファイル!$C$5&市町村別統計累年ファイル!$F$5,小麦!$A$6:$BH$130,60,FALSE)="…",NA(),IF(VLOOKUP(市町村別統計累年ファイル!$C$5&市町村別統計累年ファイル!$F$5,小麦!$A$6:$BH$130,60,FALSE)="x",NA(),VLOOKUP(市町村別統計累年ファイル!$C$5&市町村別統計累年ファイル!$F$5,小麦!$A$6:$BH$130,60,FALSE))))) -> 353 | Q12: =IF(市町村別統計累年ファイル!Q55="",0,IF(市町村別統計累年ファイル!Q55="…",0,IF(市町村別統計累年ファイル!Q55="-",0,IF(市町村別統計累年ファイル!Q55="x",0,市町村別統計累年ファイル!Q55)))) -> 176
A13: 6 | B13: =IF(市町村別統計累年ファイル!U22="",NA(),IF(市町村別統計累年ファイル!U22="…",NA(),IF(市町村別統計累年ファイル!U22="-",NA(),IF(市町村別統計累年ファイル!U22="x",NA(),市町村別統計累年ファイル!U22)))) -> 2720 | C13: =IF(市町村別統計累年ファイル!AC22="",NA(),IF(市町村別統計累年ファイル!AC22="…",NA(),IF(市町村別統計累年ファイル!AC22="-",NA(),IF(市町村別統計累年ファイル!AC22="x",NA(),市町村別統計累年ファイル!AC22)))) -> 1060 | D13: =IF(市町村別統計累年ファイル!U22="",0,IF(市町村別統計累年ファイル!U22="…",0,IF(市町村別統計累年ファイル!U22="-",0,IF(市町村別統計累年ファイル!U22="x",0,市町村別統計累年ファイル!U22)))) -> 2720 | E13: =IF(市町村別統計累年ファイル!AC22="",0,IF(市町村別統計累年ファイル!AC22="…",0,IF(市町村別統計累年ファイル!AC22="-",0,IF(市町村別統計累年ファイル!AC22="x",0,市町村別統計累年ファイル!AC22)))) -> 1060 | G13: 6 | H13: =IF(市町村別統計累年ファイル!Q39="",NA(),IF(市町村別統計累年ファイル!Q39="…",NA(),IF(市町村別統計累年ファイル!Q39="-",NA(),IF(市町村別統計累年ファイル!Q39="x",NA(),市町村別統計累年ファイル!Q39)))) -> 1540 | I13: =IF(市町村別統計累年ファイル!V39="",NA(),IF(市町村別統計累年ファイル!V39="…",NA(),IF(市町村別統計累年ファイル!V39="-",NA(),IF(市町村別統計累年ファイル!V39="x",NA(),市町村別統計累年ファイル!V39)))) -> 474 | J13: =IF(参照!$C$127="",NA(),IF(VLOOKUP(市町村別統計累年ファイル!$C$5&市町村別統計累年ファイル!$F$5,水稲!$A$6:$BH$130,41,FALSE)="-",NA(),IF(VLOOKUP(市町村別統計累年ファイル!$C$5&市町村別統計累年ファイル!$F$5,水稲!$A$6:$BH$130,41,FALSE)="…",NA(),IF(VLOOKUP(市町村別統計累年ファイル!$C$5&市町村別統計累年ファイル!$F$5,水稲!$A$6:$BH$130,41,FALSE)="x",NA(),VLOOKUP(市町村別統計累年ファイル!$C$5&市町村別統計累年ファイル!$F$5,水稲!$A$6:$BH$130,41,FALSE))))) -> 483 | K13: =IF(市町村別統計累年ファイル!Q39="",0,IF(市町村別統計累年ファイル!Q39="…",0,IF(市町村別統計累年ファイル!Q39="-",0,IF(市町村別統計累年ファイル!Q39="x",0,市町村別統計累年ファイル!Q39)))) -> 1540 | M13: =G13 -> 6 | N13: =IF(市町村別統計累年ファイル!Q56="",NA(),IF(市町村別統計累年ファイル!Q56="…",NA(),IF(市町村別統計累年ファイル!Q56="-",NA(),IF(市町村別統計累年ファイル!Q56="x",NA(),市町村別統計累年ファイル!Q56)))) -> 187 | O13: =IF(市町村別統計累年ファイル!T56="",NA(),IF(市町村別統計累年ファイル!T56="…",NA(),IF(市町村別統計累年ファイル!T56="-",NA(),IF(市町村別統計累年ファイル!T56="x",NA(),市町村別統計累年ファイル!T56)))) -> 222 | P13: =IF(参照!$C$127="",NA(),IF(VLOOKUP(市町村別統計累年ファイル!$C$5&市町村別統計累年ファイル!$F$5,小麦!$A$6:$BI$130,61,FALSE)="-",NA(),IF(VLOOKUP(市町村別統計累年ファイル!$C$5&市町村別統計累年ファイル!$F$5,小麦!$A$6:$BI$130,61,FALSE)="…",NA(),IF(VLOOKUP(市町村別統計累年ファイル!$C$5&市町村別統計累年ファイル!$F$5,小麦!$A$6:$BI$130,61,FALSE)="x",NA(),VLOOKUP(市町村別統計累年ファイル!$C$5&市町村別統計累年ファイル!$F$5,小麦!$A$6:$BI$130,61,FALSE))))) -> 296 | Q13: =IF(市町村別統計累年ファイル!Q56="",0,IF(市町村別統計累年ファイル!Q56="…",0,IF(市町村別統計累年ファイル!Q56="-",0,IF(市町村別統計累年ファイル!Q56="x",0,市町村別統計累年ファイル!Q56)))) -> 187
A14: ダミーDATA | B14: =IF(MAX(D4:D13)<5,5,NA()) -> #N/A | G14: ダミーDATA | H14: =IF(MAX(K4:K13)<5,5,NA()) -> #N/A | M14: ダミーDATA | N14: =IF(MAX(Q4:Q13)<5,5,NA()) -> #N/A
A16: 六条大麦 | G16: 大豆 | M16: そば
A17: 区分 | B17: 作付 面積 | C17: 10ａ当たり 収量 | E17: ダミーDATA用 | G17: 区分 | H17: 作付 面積 | I17: 10ａ当たり 収量 | K17: ダミーDATA用 | M17: 区分 | N17: 作付 面積 | O17: 10ａ当たり 収量 | Q17: ダミーDATA用
C18: 市町村 | D18: 県 | E18: 作付面積 | I18: 市町村 | J18: 県 | K18: 作付面積 | O18: 市町村 | P18: 県 | Q18: 作付面積
A19: =G4 -> 平成 27年産 | B19: =IF(市町村別統計累年ファイル!Q64="",NA(),IF(市町村別統計累年ファイル!Q64="…",NA(),IF(市町村別統計累年ファイル!Q64="-",NA(),IF(市町村別統計累年ファイル!Q64="x",NA(),市町村別統計累年ファイル!Q64)))) -> #N/A | C19: =IF(市町村別統計累年ファイル!T64="",NA(),IF(市町村別統計累年ファイル!T64="…",NA(),IF(市町村別統計累年ファイル!T64="-",NA(),IF(市町村別統計累年ファイル!T64="x",NA(),市町村別統計累年ファイル!T64)))) -> #N/A | D19: =IF(参照!$C$127="",NA(),IF(VLOOKUP(市町村別統計累年ファイル!$C$5&市町村別統計累年ファイル!$F$5,六条!$A$6:$BI$130,52,FALSE)="-",NA(),IF(VLOOKUP(市町村別統計累年ファイル!$C$5&市町村別統計累年ファイル!$F$5,六条!$A$6:$BI$130,52,FALSE)="…",NA(),IF(VLOOKUP(市町村別統計累年ファイル!$C$5&市町村別統計累年ファイル!$F$5,六条!$A$6:$BI$130,52,FALSE)="x",NA(),VLOOKUP(市町村別統計累年ファイル!$C$5&市町村別統計累年ファイル!$F$5,六条!$A$6:$BI$130,52,FALSE))))) -> 126 | E19: =IF(市町村別統計累年ファイル!Q64="",0,IF(市町村別統計累年ファイル!Q64="…",0,IF(市町村別統計累年ファイル!Q64="-",0,IF(市町村別統計累年ファイル!Q64="x",0,市町村別統計累年ファイル!Q64)))) -> 0 | G19: =G4 -> 平成 27年産 | H19: =IF(市町村別統計累年ファイル!Q81="",NA(),IF(市町村別統計累年ファイル!Q81="…",NA(),IF(市町村別統計累年ファイル!Q81="-",NA(),IF(市町村別統計累年ファイル!Q81="x",NA(),市町村別統計累年ファイル!Q81)))) -> 53 | I19: =IF(市町村別統計累年ファイル!T81="",NA(),IF(市町村別統計累年ファイル!T81="…",NA(),IF(市町村別統計累年ファイル!T81="-",NA(),IF(市町村別統計累年ファイル!T81="x",NA(),市町村別統計累年ファイル!T81)))) -> 100 | J19: =IF(参照!$C$127="",NA(),IF(VLOOKUP(市町村別統計累年ファイル!$C$5&市町村別統計累年ファイル!$F$5,大豆!$A$6:$BI$130,52,FALSE)="-",NA(),IF(VLOOKUP(市町村別統計累年ファイル!$C$5&市町村別統計累年ファイル!$F$5,大豆!$A$6:$BI$130,52,FALSE)="…",NA(),IF(VLOOKUP(市町村別統計累年ファイル!$C$5&市町村別統計累年ファイル!$F$5,大豆!$A$6:$BI$130,52,FALSE)="x",NA(),VLOOKUP(市町村別統計累年ファイル!$C$5&市町村別統計累年ファイル!$F$5,大豆!$A$6:$BI$130,52,FALSE))))) -> 103 | K19: =IF(市町村別統計累年ファイル!Q81="",0,IF(市町村別統計累年ファイル!Q81="…",0,IF(市町村別統計累年ファイル!Q81="-",0,IF(市町村別統計累年ファイル!Q81="x",0,市町村別統計累年ファイル!Q81)))) -> 53 | M19: =G4 -> 平成 27年産 | N19: =IF(市町村別統計累年ファイル!Q98="",NA(),IF(市町村別統計累年ファイル!Q98="…",NA(),IF(市町村別統計累年ファイル!Q98="-",NA(),IF(市町村別統計累年ファイル!Q98="x",NA(),市町村別統計累年ファイル!Q98)))) -> #N/A | O19: =IF(市町村別統計累年ファイル!T98="",NA(),IF(市町村別統計累年ファイル!T98="…",NA(),IF(市町村別統計累年ファイル!T98="-",NA(),IF(市町村別統計累年ファイル!T98="x",NA(),市町村別統計累年ファイル!T98)))) -> #N/A | P19: =IF(参照!$C$127="",NA(),IF(VLOOKUP(市町村別統計累年ファイル!$C$5&市町村別統計累年ファイル!$F$5,そば!$A$6:$BI$130,52,FALSE)="-",NA(),IF(VLOOKUP(市町村別統計累年ファイル!$C$5&市町村別統計累年ファイル!$F$5,そば!$A$6:$BI$130,52,FALSE)="…",NA(),IF(VLOOKUP(市町村別統計累年ファイル!$C$5&市町村別統計累年ファイル!$F$5,そば!$A$6:$BI$130,52,FALSE)="x",NA(),VLOOKUP(市町村別統計累年ファイル!$C$5&市町村別統計累年ファイル!$F$5,そば!$A$6:$BI$130,52,FALSE))))) -> 35 | Q19: =IF(市町村別統計累年ファイル!Q98="",0,IF(市町村別統計累年ファイル!Q98="…",0,IF(市町村別統計累年ファイル!Q98="-",0,IF(市町村別統計累年ファイル!Q98="x",0,市町村別統計累年ファイル!Q98)))) -> 0
A20: =G5 -> 28 | B20: =IF(市町村別統計累年ファイル!Q65="",NA(),IF(市町村別統計累年ファイル!Q65="…",NA(),IF(市町村別統計累年ファイル!Q65="-",NA(),IF(市町村別統計累年ファイル!Q65="x",NA(),市町村別統計累年ファイル!Q65)))) -> #N/A | C20: =IF(市町村別統計累年ファイル!T65="",NA(),IF(市町村別統計累年ファイル!T65="…",NA(),IF(市町村別統計累年ファイル!T65="-",NA(),IF(市町村別統計累年ファイル!T65="x",NA(),市町村別統計累年ファイル!T65)))) -> #N/A | D20: =IF(参照!$C$127="",NA(),IF(VLOOKUP(市町村別統計累年ファイル!$C$5&市町村別統計累年ファイル!$F$5,六条!$A$6:$BI$130,53,FALSE)="-",NA(),IF(VLOOKUP(市町村別統計累年ファイル!$C$5&市町村別統計累年ファイル!$F$5,六条!$A$6:$BI$130,53,FALSE)="…",NA(),IF(VLOOKUP(市町村別統計累年ファイル!$C$5&市町村別統計累年ファイル!$F$5,六条!$A$6:$BI$130,53,FALSE)="x",NA(),VLOOKUP(市町村別統計累年ファイル!$C$5&市町村別統計累年ファイル!$F$5,六条!$A$6:$BI$130,53,FALSE))))) -> 173 | E20: =IF(市町村別統計累年ファイル!Q65="",0,IF(市町村別統計累年ファイル!Q65="…",0,IF(市町村別統計累年ファイル!Q65="-",0,IF(市町村別統計累年ファイル!Q65="x",0,市町村別統計累年ファイル!Q65)))) -> 0 | G20: =G5 -> 28 | H20: =IF(市町村別統計累年ファイル!Q82="",NA(),IF(市町村別統計累年ファイル!Q82="…",NA(),IF(市町村別統計累年ファイル!Q82="-",NA(),IF(市町村別統計累年ファイル!Q82="x",NA(),市町村別統計累年ファイル!Q82)))) -> 57 | I20: =IF(市町村別統計累年ファイル!T82="",NA(),IF(市町村別統計累年ファイル!T82="…",NA(),IF(市町村別統計累年ファイル!T82="-",NA(),IF(市町村別統計累年ファイル!T82="x",NA(),市町村別統計累年ファイル!T82)))) -> 100 | J20: =IF(参照!$C$127="",NA(),IF(VLOOKUP(市町村別統計累年ファイル!$C$5&市町村別統計累年ファイル!$F$5,大豆!$A$6:$BI$130,53,FALSE)="-",NA(),IF(VLOOKUP(市町村別統計累年ファイル!$C$5&市町村別統計累年ファイル!$F$5,大豆!$A$6:$BI$130,53,FALSE)="…",NA(),IF(VLOOKUP(市町村別統計累年ファイル!$C$5&市町村別統計累年ファイル!$F$5,大豆!$A$6:$BI$130,53,FALSE)="x",NA(),VLOOKUP(市町村別統計累年ファイル!$C$5&市町村別統計累年ファイル!$F$5,大豆!$A$6:$BI$130,53,FALSE))))) -> 104 | K20: =IF(市町村別統計累年ファイル!Q82="",0,IF(市町村別統計累年ファイル!Q82="…",0,IF(市町村別統計累年ファイル!Q82="-",0,IF(市町村別統計累年ファイル!Q82="x",0,市町村別統計累年ファイル!Q82)))) -> 57 | M20: =G5 -> 28 | N20: =IF(市町村別統計累年ファイル!Q99="",NA(),IF(市町村別統計累年ファイル!Q99="…",NA(),IF(市町村別統計累年ファイル!Q99="-",NA(),IF(市町村別統計累年ファイル!Q99="x",NA(),市町村別統計累年ファイル!Q99)))) -> #N/A | O20: =IF(市町村別統計累年ファイル!T99="",NA(),IF(市町村別統計累年ファイル!T99="…",NA(),IF(市町村別統計累年ファイル!T99="-",NA(),IF(市町村別統計累年ファイル!T99="x",NA(),市町村別統計累年ファイル!T99)))) -> #N/A | P20: =IF(参照!$C$127="",NA(),IF(VLOOKUP(市町村別統計累年ファイル!$C$5&市町村別統計累年ファイル!$F$5,そば!$A$6:$BI$130,53,FALSE)="-",NA(),IF(VLOOKUP(市町村別統計累年ファイル!$C$5&市町村別統計累年ファイル!$F$5,そば!$A$6:$BI$130,53,FALSE)="…",NA(),IF(VLOOKUP(市町村別統計累年ファイル!$C$5&市町村別統計累年ファイル!$F$5,そば!$A$6:$BI$130,53,FALSE)="x",NA(),VLOOKUP(市町村別統計累年ファイル!$C$5&市町村別統計累年ファイル!$F$5,そば!$A$6:$BI$130,53,FALSE))))) -> 36 | Q20: =IF(市町村別統計累年ファイル!Q99="",0,IF(市町村別統計累年ファイル!Q99="…",0,IF(市町村別統計累年ファイル!Q99="-",0,IF(市町村別統計累年ファイル!Q99="x",0,市町村別統計累年ファイル!Q99)))) -> 0
A21: =G6 -> 29 | B21: =IF(市町村別統計累年ファイル!Q66="",NA(),IF(市町村別統計累年ファイル!Q66="…",NA(),IF(市町村別統計累年ファイル!Q66="-",NA(),IF(市町村別統計累年ファイル!Q66="x",NA(),市町村別統計累年ファイル!Q66)))) -> #N/A | C21: =IF(市町村別統計累年ファイル!T66="",NA(),IF(市町村別統計累年ファイル!T66="…",NA(),IF(市町村別統計累年ファイル!T66="-",NA(),IF(市町村別統計累年ファイル!T66="x",NA(),市町村別統計累年ファイル!T66)))) -> #N/A | D21: =IF(参照!$C$127="",NA(),IF(VLOOKUP(市町村別統計累年ファイル!$C$5&市町村別統計累年ファイル!$F$5,六条!$A$6:$BI$130,54,FALSE)="-",NA(),IF(VLOOKUP(市町村別統計累年ファイル!$C$5&市町村別統計累年ファイル!$F$5,六条!$A$6:$BI$130,54,FALSE)="…",NA(),IF(VLOOKUP(市町村別統計累年ファイル!$C$5&市町村別統計累年ファイル!$F$5,六条!$A$6:$BI$130,54,FALSE)="x",NA(),VLOOKUP(市町村別統計累年ファイル!$C$5&市町村別統計累年ファイル!$F$5,六条!$A$6:$BI$130,54,FALSE))))) -> 161 | E21: =IF(市町村別統計累年ファイル!Q66="",0,IF(市町村別統計累年ファイル!Q66="…",0,IF(市町村別統計累年ファイル!Q66="-",0,IF(市町村別統計累年ファイル!Q66="x",0,市町村別統計累年ファイル!Q66)))) -> 0 | G21: =G6 -> 29 | H21: =IF(市町村別統計累年ファイル!Q83="",NA(),IF(市町村別統計累年ファイル!Q83="…",NA(),IF(市町村別統計累年ファイル!Q83="-",NA(),IF(市町村別統計累年ファイル!Q83="x",NA(),市町村別統計累年ファイル!Q83)))) -> 67 | I21: =IF(市町村別統計累年ファイル!T83="",NA(),IF(市町村別統計累年ファイル!T83="…",NA(),IF(市町村別統計累年ファイル!T83="-",NA(),IF(市町村別統計累年ファイル!T83="x",NA(),市町村別統計累年ファイル!T83)))) -> 78 | J21: =IF(参照!$C$127="",NA(),IF(VLOOKUP(市町村別統計累年ファイル!$C$5&市町村別統計累年ファイル!$F$5,大豆!$A$6:$BI$130,54,FALSE)="-",NA(),IF(VLOOKUP(市町村別統計累年ファイル!$C$5&市町村別統計累年ファイル!$F$5,大豆!$A$6:$BI$130,54,FALSE)="…",NA(),IF(VLOOKUP(市町村別統計累年ファイル!$C$5&市町村別統計累年ファイル!$F$5,大豆!$A$6:$BI$130,54,FALSE)="x",NA(),VLOOKUP(市町村別統計累年ファイル!$C$5&市町村別統計累年ファイル!$F$5,大豆!$A$6:$BI$130,54,FALSE))))) -> 117 | K21: =IF(市町村別統計累年ファイル!Q83="",0,IF(市町村別統計累年ファイル!Q83="…",0,IF(市町村別統計累年ファイル!Q83="-",0,IF(市町村別統計累年ファイル!Q83="x",0,市町村別統計累年ファイル!Q83)))) -> 67 | M21: =G6 -> 29 | N21: =IF(市町村別統計累年ファイル!Q100="",NA(),IF(市町村別統計累年ファイル!Q100="…",NA(),IF(市町村別統計累年ファイル!Q100="-",NA(),IF(市町村別統計累年ファイル!Q100="x",NA(),市町村別統計累年ファイル!Q100)))) -> #N/A | O21: =IF(市町村別統計累年ファイル!T100="",NA(),IF(市町村別統計累年ファイル!T100="…",NA(),IF(市町村別統計累年ファイル!T100="-",NA(),IF(市町村別統計累年ファイル!T100="x",NA(),市町村別統計累年ファイル!T100)))) -> #N/A | P21: =IF(参照!$C$127="",NA(),IF(VLOOKUP(市町村別統計累年ファイル!$C$5&市町村別統計累年ファイル!$F$5,そば!$A$6:$BI$130,54,FALSE)="-",NA(),IF(VLOOKUP(市町村別統計累年ファイル!$C$5&市町村別統計累年ファイル!$F$5,そば!$A$6:$BI$130,54,FALSE)="…",NA(),IF(VLOOKUP(市町村別統計累年ファイル!$C$5&市町村別統計累年ファイル!$F$5,そば!$A$6:$BI$130,54,FALSE)="x",NA(),VLOOKUP(市町村別統計累年ファイル!$C$5&市町村別統計累年ファイル!$F$5,そば!$A$6:$BI$130,54,FALSE))))) -> 30 | Q21: =IF(市町村別統計累年ファイル!Q100="",0,IF(市町村別統計累年ファイル!Q100="…",0,IF(市町村別統計累年ファイル!Q100="-",0,IF(市町村別統計累年ファイル!Q100="x",0,市町村別統計累年ファイル!Q100)))) -> 0
A22: =G7 -> 30 | B22: =IF(市町村別統計累年ファイル!Q67="",NA(),IF(市町村別統計累年ファイル!Q67="…",NA(),IF(市町村別統計累年ファイル!Q67="-",NA(),IF(市町村別統計累年ファイル!Q67="x",NA(),市町村別統計累年ファイル!Q67)))) -> #N/A | C22: =IF(市町村別統計累年ファイル!T67="",NA(),IF(市町村別統計累年ファイル!T67="…",NA(),IF(市町村別統計累年ファイル!T67="-",NA(),IF(市町村別統計累年ファイル!T67="x",NA(),市町村別統計累年ファイル!T67)))) -> #N/A | D22: =IF(参照!$C$127="",NA(),IF(VLOOKUP(市町村別統計累年ファイル!$C$5&市町村別統計累年ファイル!$F$5,六条!$A$6:$BI$130,55,FALSE)="-",NA(),IF(VLOOKUP(市町村別統計累年ファイル!$C$5&市町村別統計累年ファイル!$F$5,六条!$A$6:$BI$130,55,FALSE)="…",NA(),IF(VLOOKUP(市町村別統計累年ファイル!$C$5&市町村別統計累年ファイル!$F$5,六条!$A$6:$BI$130,55,FALSE)="x",NA(),VLOOKUP(市町村別統計累年ファイル!$C$5&市町村別統計累年ファイル!$F$5,六条!$A$6:$BI$130,55,FALSE))))) -> 163 | E22: =IF(市町村別統計累年ファイル!Q67="",0,IF(市町村別統計累年ファイル!Q67="…",0,IF(市町村別統計累年ファイル!Q67="-",0,IF(市町村別統計累年ファイル!Q67="x",0,市町村別統計累年ファイル!Q67)))) -> 0 | G22: =G7 -> 30 | H22: =IF(市町村別統計累年ファイル!Q84="",NA(),IF(市町村別統計累年ファイル!Q84="…",NA(),IF(市町村別統計累年ファイル!Q84="-",NA(),IF(市町村別統計累年ファイル!Q84="x",NA(),市町村別統計累年ファイル!Q84)))) -> 65 | I22: =IF(市町村別統計累年ファイル!T84="",NA(),IF(市町村別統計累年ファイル!T84="…",NA(),IF(市町村別統計累年ファイル!T84="-",NA(),IF(市町村別統計累年ファイル!T84="x",NA(),市町村別統計累年ファイル!T84)))) -> 47 | J22: =IF(参照!$C$127="",NA(),IF(VLOOKUP(市町村別統計累年ファイル!$C$5&市町村別統計累年ファイル!$F$5,大豆!$A$6:$BI$130,55,FALSE)="-",NA(),IF(VLOOKUP(市町村別統計累年ファイル!$C$5&市町村別統計累年ファイル!$F$5,大豆!$A$6:$BI$130,55,FALSE)="…",NA(),IF(VLOOKUP(市町村別統計累年ファイル!$C$5&市町村別統計累年ファイル!$F$5,大豆!$A$6:$BI$130,55,FALSE)="x",NA(),VLOOKUP(市町村別統計累年ファイル!$C$5&市町村別統計累年ファイル!$F$5,大豆!$A$6:$BI$130,55,FALSE))))) -> 50 | K22: =IF(市町村別統計累年ファイル!Q84="",0,IF(市町村別統計累年ファイル!Q84="…",0,IF(市町村別統計累年ファイル!Q84="-",0,IF(市町村別統計累年ファイル!Q84="x",0,市町村別統計累年ファイル!Q84)))) -> 65 | M22: =G7 -> 30 | N22: =IF(市町村別統計累年ファイル!Q101="",NA(),IF(市町村別統計累年ファイル!Q101="…",NA(),IF(市町村別統計累年ファイル!Q101="-",NA(),IF(市町村別統計累年ファイル!Q101="x",NA(),市町村別統計累年ファイル!Q101)))) -> #N/A | O22: =IF(市町村別統計累年ファイル!T101="",NA(),IF(市町村別統計累年ファイル!T101="…",NA(),IF(市町村別統計累年ファイル!T101="-",NA(),IF(市町村別統計累年ファイル!T101="x",NA(),市町村別統計累年ファイル!T101)))) -> #N/A | P22: =IF(参照!$C$127="",NA(),IF(VLOOKUP(市町村別統計累年ファイル!$C$5&市町村別統計累年ファイル!$F$5,そば!$A$6:$BI$130,55,FALSE)="-",NA(),IF(VLOOKUP(市町村別統計累年ファイル!$C$5&市町村別統計累年ファイル!$F$5,そば!$A$6:$BI$130,55,FALSE)="…",NA(),IF(VLOOKUP(市町村別統計累年ファイル!$C$5&市町村別統計累年ファイル!$F$5,そば!$A$6:$BI$130,55,FALSE)="x",NA(),VLOOKUP(市町村別統計累年ファイル!$C$5&市町村別統計累年ファイル!$F$5,そば!$A$6:$BI$130,55,FALSE))))) -> 29 | Q22: =IF(市町村別統計累年ファイル!Q101="",0,IF(市町村別統計累年ファイル!Q101="…",0,IF(市町村別統計累年ファイル!Q101="-",0,IF(市町村別統計累年ファイル!Q101="x",0,市町村別統計累年ファイル!Q101)))) -> 0
A23: =G8 -> 令和 元年産 | B23: =IF(市町村別統計累年ファイル!Q68="",NA(),IF(市町村別統計累年ファイル!Q68="…",NA(),IF(市町村別統計累年ファイル!Q68="-",NA(),IF(市町村別統計累年ファイル!Q68="x",NA(),市町村別統計累年ファイル!Q68)))) -> #N/A | C23: =IF(市町村別統計累年ファイル!T68="",NA(),IF(市町村別統計累年ファイル!T68="…",NA(),IF(市町村別統計累年ファイル!T68="-",NA(),IF(市町村別統計累年ファイル!T68="x",NA(),市町村別統計累年ファイル!T68)))) -> #N/A | D23: =IF(参照!$C$127="",NA(),IF(VLOOKUP(市町村別統計累年ファイル!$C$5&市町村別統計累年ファイル!$F$5,六条!$A$6:$BI$130,56,FALSE)="-",NA(),IF(VLOOKUP(市町村別統計累年ファイル!$C$5&市町村別統計累年ファイル!$F$5,六条!$A$6:$BI$130,56,FALSE)="…",NA(),IF(VLOOKUP(市町村別統計累年ファイル!$C$5&市町村別統計累年ファイル!$F$5,六条!$A$6:$BI$130,56,FALSE)="x",NA(),VLOOKUP(市町村別統計累年ファイル!$C$5&市町村別統計累年ファイル!$F$5,六条!$A$6:$BI$130,56,FALSE))))) -> 214 | E23: =IF(市町村別統計累年ファイル!Q68="",0,IF(市町村別統計累年ファイル!Q68="…",0,IF(市町村別統計累年ファイル!Q68="-",0,IF(市町村別統計累年ファイル!Q68="x",0,市町村別統計累年ファイル!Q68)))) -> 0 | G23: =G8 -> 令和 元年産 | H23: =IF(市町村別統計累年ファイル!Q85="",NA(),IF(市町村別統計累年ファイル!Q85="…",NA(),IF(市町村別統計累年ファイル!Q85="-",NA(),IF(市町村別統計累年ファイル!Q85="x",NA(),市町村別統計累年ファイル!Q85)))) -> 61 | I23: =IF(市町村別統計累年ファイル!T85="",NA(),IF(市町村別統計累年ファイル!T85="…",NA(),IF(市町村別統計累年ファイル!T85="-",NA(),IF(市町村別統計累年ファイル!T85="x",NA(),市町村別統計累年ファイル!T85)))) -> 94 | J23: =IF(参照!$C$127="",NA(),IF(VLOOKUP(市町村別統計累年ファイル!$C$5&市町村別統計累年ファイル!$F$5,大豆!$A$6:$BI$130,56,FALSE)="-",NA(),IF(VLOOKUP(市町村別統計累年ファイル!$C$5&市町村別統計累年ファイル!$F$5,大豆!$A$6:$BI$130,56,FALSE)="…",NA(),IF(VLOOKUP(市町村別統計累年ファイル!$C$5&市町村別統計累年ファイル!$F$5,大豆!$A$6:$BI$130,56,FALSE)="x",NA(),VLOOKUP(市町村別統計累年ファイル!$C$5&市町村別統計累年ファイル!$F$5,大豆!$A$6:$BI$130,56,FALSE))))) -> 113 | K23: =IF(市町村別統計累年ファイル!Q85="",0,IF(市町村別統計累年ファイル!Q85="…",0,IF(市町村別統計累年ファイル!Q85="-",0,IF(市町村別統計累年ファイル!Q85="x",0,市町村別統計累年ファイル!Q85)))) -> 61 | M23: =G8 -> 令和 元年産 | N23: =IF(市町村別統計累年ファイル!Q102="",NA(),IF(市町村別統計累年ファイル!Q102="…",NA(),IF(市町村別統計累年ファイル!Q102="-",NA(),IF(市町村別統計累年ファイル!Q102="x",NA(),市町村別統計累年ファイル!Q102)))) -> #N/A | O23: =IF(市町村別統計累年ファイル!T102="",NA(),IF(市町村別統計累年ファイル!T102="…",NA(),IF(市町村別統計累年ファイル!T102="-",NA(),IF(市町村別統計累年ファイル!T102="x",NA(),市町村別統計累年ファイル!T102)))) -> #N/A | P23: =IF(参照!$C$127="",NA(),IF(VLOOKUP(市町村別統計累年ファイル!$C$5&市町村別統計累年ファイル!$F$5,そば!$A$6:$BI$130,56,FALSE)="-",NA(),IF(VLOOKUP(市町村別統計累年ファイル!$C$5&市町村別統計累年ファイル!$F$5,そば!$A$6:$BI$130,56,FALSE)="…",NA(),IF(VLOOKUP(市町村別統計累年ファイル!$C$5&市町村別統計累年ファイル!$F$5,そば!$A$6:$BI$130,56,FALSE)="x",NA(),VLOOKUP(市町村別統計累年ファイル!$C$5&市町村別統計累年ファイル!$F$5,そば!$A$6:$BI$130,56,FALSE))))) -> 48 | Q23: =IF(市町村別統計累年ファイル!Q102="",0,IF(市町村別統計累年ファイル!Q102="…",0,IF(市町村別統計累年ファイル!Q102="-",0,IF(市町村別統計累年ファイル!Q102="x",0,市町村別統計累年ファイル!Q102)))) -> 0
A24: =G9 -> 2 | B24: =IF(市町村別統計累年ファイル!Q69="",NA(),IF(市町村別統計累年ファイル!Q69="…",NA(),IF(市町村別統計累年ファイル!Q69="-",NA(),IF(市町村別統計累年ファイル!Q69="x",NA(),市町村別統計累年ファイル!Q69)))) -> #N/A | C24: =IF(市町村別統計累年ファイル!T69="",NA(),IF(市町村別統計累年ファイル!T69="…",NA(),IF(市町村別統計累年ファイル!T69="-",NA(),IF(市町村別統計累年ファイル!T69="x",NA(),市町村別統計累年ファイル!T69)))) -> #N/A | D24: =IF(参照!$C$127="",NA(),IF(VLOOKUP(市町村別統計累年ファイル!$C$5&市町村別統計累年ファイル!$F$5,六条!$A$6:$BI$130,57,FALSE)="-",NA(),IF(VLOOKUP(市町村別統計累年ファイル!$C$5&市町村別統計累年ファイル!$F$5,六条!$A$6:$BI$130,57,FALSE)="…",NA(),IF(VLOOKUP(市町村別統計累年ファイル!$C$5&市町村別統計累年ファイル!$F$5,六条!$A$6:$BI$130,57,FALSE)="x",NA(),VLOOKUP(市町村別統計累年ファイル!$C$5&市町村別統計累年ファイル!$F$5,六条!$A$6:$BI$130,57,FALSE))))) -> 243 | E24: =IF(市町村別統計累年ファイル!Q69="",0,IF(市町村別統計累年ファイル!Q69="…",0,IF(市町村別統計累年ファイル!Q69="-",0,IF(市町村別統計累年ファイル!Q69="x",0,市町村別統計累年ファイル!Q69)))) -> 0 | G24: =G9 -> 2 | H24: =IF(市町村別統計累年ファイル!Q86="",NA(),IF(市町村別統計累年ファイル!Q86="…",NA(),IF(市町村別統計累年ファイル!Q86="-",NA(),IF(市町村別統計累年ファイル!Q86="x",NA(),市町村別統計累年ファイル!Q86)))) -> 55 | I24: =IF(市町村別統計累年ファイル!T86="",NA(),IF(市町村別統計累年ファイル!T86="…",NA(),IF(市町村別統計累年ファイル!T86="-",NA(),IF(市町村別統計累年ファイル!T86="x",NA(),市町村別統計累年ファイル!T86)))) -> 94 | J24: =IF(参照!$C$127="",NA(),IF(VLOOKUP(市町村別統計累年ファイル!$C$5&市町村別統計累年ファイル!$F$5,大豆!$A$6:$BI$130,57,FALSE)="-",NA(),IF(VLOOKUP(市町村別統計累年ファイル!$C$5&市町村別統計累年ファイル!$F$5,大豆!$A$6:$BI$130,57,FALSE)="…",NA(),IF(VLOOKUP(市町村別統計累年ファイル!$C$5&市町村別統計累年ファイル!$F$5,大豆!$A$6:$BI$130,57,FALSE)="x",NA(),VLOOKUP(市町村別統計累年ファイル!$C$5&市町村別統計累年ファイル!$F$5,大豆!$A$6:$BI$130,57,FALSE))))) -> 99 | K24: =IF(市町村別統計累年ファイル!Q86="",0,IF(市町村別統計累年ファイル!Q86="…",0,IF(市町村別統計累年ファイル!Q86="-",0,IF(市町村別統計累年ファイル!Q86="x",0,市町村別統計累年ファイル!Q86)))) -> 55 | M24: =G9 -> 2 | N24: =IF(市町村別統計累年ファイル!Q103="",NA(),IF(市町村別統計累年ファイル!Q103="…",NA(),IF(市町村別統計累年ファイル!Q103="-",NA(),IF(市町村別統計累年ファイル!Q103="x",NA(),市町村別統計累年ファイル!Q103)))) -> #N/A | O24: =IF(市町村別統計累年ファイル!T103="",NA(),IF(市町村別統計累年ファイル!T103="…",NA(),IF(市町村別統計累年ファイル!T103="-",NA(),IF(市町村別統計累年ファイル!T103="x",NA(),市町村別統計累年ファイル!T103)))) -> #N/A | P24: =IF(参照!$C$127="",NA(),IF(VLOOKUP(市町村別統計累年ファイル!$C$5&市町村別統計累年ファイル!$F$5,そば!$A$6:$BI$130,57,FALSE)="-",NA(),IF(VLOOKUP(市町村別統計累年ファイル!$C$5&市町村別統計累年ファイル!$F$5,そば!$A$6:$BI$130,57,FALSE)="…",NA(),IF(VLOOKUP(市町村別統計累年ファイル!$C$5&市町村別統計累年ファイル!$F$5,そば!$A$6:$BI$130,57,FALSE)="x",NA(),VLOOKUP(市町村別統計累年ファイル!$C$5&市町村別統計累年ファイル!$F$5,そば!$A$6:$BI$130,57,FALSE))))) -> 63 | Q24: =IF(市町村別統計累年ファイル!Q103="",0,IF(市町村別統計累年ファイル!Q103="…",0,IF(市町村別統計累年ファイル!Q103="-",0,IF(市町村別統計累年ファイル!Q103="x",0,市町村別統計累年ファイル!Q103)))) -> 0
A25: =G10 -> 3 | B25: =IF(市町村別統計累年ファイル!Q70="",NA(),IF(市町村別統計累年ファイル!Q70="…",NA(),IF(市町村別統計累年ファイル!Q70="-",NA(),IF(市町村別統計累年ファイル!Q70="x",NA(),市町村別統計累年ファイル!Q70)))) -> #N/A | C25: =IF(市町村別統計累年ファイル!T70="",NA(),IF(市町村別統計累年ファイル!T70="…",NA(),IF(市町村別統計累年ファイル!T70="-",NA(),IF(市町村別統計累年ファイル!T70="x",NA(),市町村別統計累年ファイル!T70)))) -> #N/A | D25: =IF(参照!$C$127="",NA(),IF(VLOOKUP(市町村別統計累年ファイル!$C$5&市町村別統計累年ファイル!$F$5,六条!$A$6:$BI$130,58,FALSE)="-",NA(),IF(VLOOKUP(市町村別統計累年ファイル!$C$5&市町村別統計累年ファイル!$F$5,六条!$A$6:$BI$130,58,FALSE)="…",NA(),IF(VLOOKUP(市町村別統計累年ファイル!$C$5&市町村別統計累年ファイル!$F$5,六条!$A$6:$BI$130,58,FALSE)="x",NA(),VLOOKUP(市町村別統計累年ファイル!$C$5&市町村別統計累年ファイル!$F$5,六条!$A$6:$BI$130,58,FALSE))))) -> 175 | E25: =IF(市町村別統計累年ファイル!Q70="",0,IF(市町村別統計累年ファイル!Q70="…",0,IF(市町村別統計累年ファイル!Q70="-",0,IF(市町村別統計累年ファイル!Q70="x",0,市町村別統計累年ファイル!Q70)))) -> 0 | G25: =G10 -> 3 | H25: =IF(市町村別統計累年ファイル!Q87="",NA(),IF(市町村別統計累年ファイル!Q87="…",NA(),IF(市町村別統計累年ファイル!Q87="-",NA(),IF(市町村別統計累年ファイル!Q87="x",NA(),市町村別統計累年ファイル!Q87)))) -> 74 | I25: =IF(市町村別統計累年ファイル!T87="",NA(),IF(市町村別統計累年ファイル!T87="…",NA(),IF(市町村別統計累年ファイル!T87="-",NA(),IF(市町村別統計累年ファイル!T87="x",NA(),市町村別統計累年ファイル!T87)))) -> 122 | J25: =IF(参照!$C$127="",NA(),IF(VLOOKUP(市町村別統計累年ファイル!$C$5&市町村別統計累年ファイル!$F$5,大豆!$A$6:$BI$130,58,FALSE)="-",NA(),IF(VLOOKUP(市町村別統計累年ファイル!$C$5&市町村別統計累年ファイル!$F$5,大豆!$A$6:$BI$130,58,FALSE)="…",NA(),IF(VLOOKUP(市町村別統計累年ファイル!$C$5&市町村別統計累年ファイル!$F$5,大豆!$A$6:$BI$130,58,FALSE)="x",NA(),VLOOKUP(市町村別統計累年ファイル!$C$5&市町村別統計累年ファイル!$F$5,大豆!$A$6:$BI$130,58,FALSE))))) -> 102 | K25: =IF(市町村別統計累年ファイル!Q87="",0,IF(市町村別統計累年ファイル!Q87="…",0,IF(市町村別統計累年ファイル!Q87="-",0,IF(市町村別統計累年ファイル!Q87="x",0,市町村別統計累年ファイル!Q87)))) -> 74 | M25: =G10 -> 3 | N25: =IF(市町村別統計累年ファイル!Q104="",NA(),IF(市町村別統計累年ファイル!Q104="…",NA(),IF(市町村別統計累年ファイル!Q104="-",NA(),IF(市町村別統計累年ファイル!Q104="x",NA(),市町村別統計累年ファイル!Q104)))) -> #N/A | O25: =IF(市町村別統計累年ファイル!T104="",NA(),IF(市町村別統計累年ファイル!T104="…",NA(),IF(市町村別統計累年ファイル!T104="-",NA(),IF(市町村別統計累年ファイル!T104="x",NA(),市町村別統計累年ファイル!T104)))) -> #N/A | P25: =IF(参照!$C$127="",NA(),IF(VLOOKUP(市町村別統計累年ファイル!$C$5&市町村別統計累年ファイル!$F$5,そば!$A$6:$BI$130,58,FALSE)="-",NA(),IF(VLOOKUP(市町村別統計累年ファイル!$C$5&市町村別統計累年ファイル!$F$5,そば!$A$6:$BI$130,58,FALSE)="…",NA(),IF(VLOOKUP(市町村別統計累年ファイル!$C$5&市町村別統計累年ファイル!$F$5,そば!$A$6:$BI$130,58,FALSE)="x",NA(),VLOOKUP(市町村別統計累年ファイル!$C$5&市町村別統計累年ファイル!$F$5,そば!$A$6:$BI$130,58,FALSE))))) -> 36 | Q25: =IF(市町村別統計累年ファイル!Q104="",0,IF(市町村別統計累年ファイル!Q104="…",0,IF(市町村別統計累年ファイル!Q104="-",0,IF(市町村別統計累年ファイル!Q104="x",0,市町村別統計累年ファイル!Q104)))) -> 0
A26: =G11 -> 4 | B26: =IF(市町村別統計累年ファイル!Q71="",NA(),IF(市町村別統計累年ファイル!Q71="…",NA(),IF(市町村別統計累年ファイル!Q71="-",NA(),IF(市町村別統計累年ファイル!Q71="x",NA(),市町村別統計累年ファイル!Q71)))) -> #N/A | C26: =IF(市町村別統計累年ファイル!T71="",NA(),IF(市町村別統計累年ファイル!T71="…",NA(),IF(市町村別統計累年ファイル!T71="-",NA(),IF(市町村別統計累年ファイル!T71="x",NA(),市町村別統計累年ファイル!T71)))) -> #N/A | D26: =IF(参照!$C$127="",NA(),IF(VLOOKUP(市町村別統計累年ファイル!$C$5&市町村別統計累年ファイル!$F$5,六条!$A$6:$BI$130,59,FALSE)="-",NA(),IF(VLOOKUP(市町村別統計累年ファイル!$C$5&市町村別統計累年ファイル!$F$5,六条!$A$6:$BI$130,59,FALSE)="…",NA(),IF(VLOOKUP(市町村別統計累年ファイル!$C$5&市町村別統計累年ファイル!$F$5,六条!$A$6:$BI$130,59,FALSE)="x",NA(),VLOOKUP(市町村別統計累年ファイル!$C$5&市町村別統計累年ファイル!$F$5,六条!$A$6:$BI$130,59,FALSE))))) -> 232 | E26: =IF(市町村別統計累年ファイル!Q71="",0,IF(市町村別統計累年ファイル!Q71="…",0,IF(市町村別統計累年ファイル!Q71="-",0,IF(市町村別統計累年ファイル!Q71="x",0,市町村別統計累年ファイル!Q71)))) -> 0 | G26: =G11 -> 4 | H26: =IF(市町村別統計累年ファイル!Q88="",NA(),IF(市町村別統計累年ファイル!Q88="…",NA(),IF(市町村別統計累年ファイル!Q88="-",NA(),IF(市町村別統計累年ファイル!Q88="x",NA(),市町村別統計累年ファイル!Q88)))) -> 59 | I26: =IF(市町村別統計累年ファイル!T88="",NA(),IF(市町村別統計累年ファイル!T88="…",NA(),IF(市町村別統計累年ファイル!T88="-",NA(),IF(市町村別統計累年ファイル!T88="x",NA(),市町村別統計累年ファイル!T88)))) -> 129 | J26: =IF(参照!$C$127="",NA(),IF(VLOOKUP(市町村別統計累年ファイル!$C$5&市町村別統計累年ファイル!$F$5,大豆!$A$6:$BI$130,59,FALSE)="-",NA(),IF(VLOOKUP(市町村別統計累年ファイル!$C$5&市町村別統計累年ファイル!$F$5,大豆!$A$6:$BI$130,59,FALSE)="…",NA(),IF(VLOOKUP(市町村別統計累年ファイル!$C$5&市町村別統計累年ファイル!$F$5,大豆!$A$6:$BI$130,59,FALSE)="x",NA(),VLOOKUP(市町村別統計累年ファイル!$C$5&市町村別統計累年ファイル!$F$5,大豆!$A$6:$BI$130,59,FALSE))))) -> 115 | K26: =IF(市町村別統計累年ファイル!Q88="",0,IF(市町村別統計累年ファイル!Q88="…",0,IF(市町村別統計累年ファイル!Q88="-",0,IF(市町村別統計累年ファイル!Q88="x",0,市町村別統計累年ファイル!Q88)))) -> 59 | M26: =G11 -> 4 | N26: =IF(市町村別統計累年ファイル!Q105="",NA(),IF(市町村別統計累年ファイル!Q105="…",NA(),IF(市町村別統計累年ファイル!Q105="-",NA(),IF(市町村別統計累年ファイル!Q105="x",NA(),市町村別統計累年ファイル!Q105)))) -> #N/A | O26: =IF(市町村別統計累年ファイル!T105="",NA(),IF(市町村別統計累年ファイル!T105="…",NA(),IF(市町村別統計累年ファイル!T105="-",NA(),IF(市町村別統計累年ファイル!T105="x",NA(),市町村別統計累年ファイル!T105)))) -> #N/A | P26: =IF(参照!$C$127="",NA(),IF(VLOOKUP(市町村別統計累年ファイル!$C$5&市町村別統計累年ファイル!$F$5,そば!$A$6:$BI$130,59,FALSE)="-",NA(),IF(VLOOKUP(市町村別統計累年ファイル!$C$5&市町村別統計累年ファイル!$F$5,そば!$A$6:$BI$130,59,FALSE)="…",NA(),IF(VLOOKUP(市町村別統計累年ファイル!$C$5&市町村別統計累年ファイル!$F$5,そば!$A$6:$BI$130,59,FALSE)="x",NA(),VLOOKUP(市町村別統計累年ファイル!$C$5&市町村別統計累年ファイル!$F$5,そば!$A$6:$BI$130,59,FALSE))))) -> 34 | Q26: =IF(市町村別統計累年ファイル!Q105="",0,IF(市町村別統計累年ファイル!Q105="…",0,IF(市町村別統計累年ファイル!Q105="-",0,IF(市町村別統計累年ファイル!Q105="x",0,市町村別統計累年ファイル!Q105)))) -> 0
A27: =G12 -> 5 | B27: =IF(市町村別統計累年ファイル!Q72="",NA(),IF(市町村別統計累年ファイル!Q72="…",NA(),IF(市町村別統計累年ファイル!Q72="-",NA(),IF(市町村別統計累年ファイル!Q72="x",NA(),市町村別統計累年ファイル!Q72)))) -> #N/A | C27: =IF(市町村別統計累年ファイル!T72="",NA(),IF(市町村別統計累年ファイル!T72="…",NA(),IF(市町村別統計累年ファイル!T72="-",NA(),IF(市町村別統計累年ファイル!T72="x",NA(),市町村別統計累年ファイル!T72)))) -> #N/A | D27: =IF(参照!$C$127="",NA(),IF(VLOOKUP(市町村別統計累年ファイル!$C$5&市町村別統計累年ファイル!$F$5,六条!$A$6:$BI$130,60,FALSE)="-",NA(),IF(VLOOKUP(市町村別統計累年ファイル!$C$5&市町村別統計累年ファイル!$F$5,六条!$A$6:$BI$130,60,FALSE)="…",NA(),IF(VLOOKUP(市町村別統計累年ファイル!$C$5&市町村別統計累年ファイル!$F$5,六条!$A$6:$BI$130,60,FALSE)="x",NA(),VLOOKUP(市町村別統計累年ファイル!$C$5&市町村別統計累年ファイル!$F$5,六条!$A$6:$BI$130,60,FALSE))))) -> 190 | E27: =IF(市町村別統計累年ファイル!Q72="",0,IF(市町村別統計累年ファイル!Q72="…",0,IF(市町村別統計累年ファイル!Q72="-",0,IF(市町村別統計累年ファイル!Q72="x",0,市町村別統計累年ファイル!Q72)))) -> 0 | G27: =G12 -> 5 | H27: =IF(市町村別統計累年ファイル!Q89="",NA(),IF(市町村別統計累年ファイル!Q89="…",NA(),IF(市町村別統計累年ファイル!Q89="-",NA(),IF(市町村別統計累年ファイル!Q89="x",NA(),市町村別統計累年ファイル!Q89)))) -> 76 | I27: =IF(市町村別統計累年ファイル!T89="",NA(),IF(市町村別統計累年ファイル!T89="…",NA(),IF(市町村別統計累年ファイル!T89="-",NA(),IF(市町村別統計累年ファイル!T89="x",NA(),市町村別統計累年ファイル!T89)))) -> 142 | J27: =IF(参照!$C$127="",NA(),IF(VLOOKUP(市町村別統計累年ファイル!$C$5&市町村別統計累年ファイル!$F$5,大豆!$A$6:$BI$130,60,FALSE)="-",NA(),IF(VLOOKUP(市町村別統計累年ファイル!$C$5&市町村別統計累年ファイル!$F$5,大豆!$A$6:$BI$130,60,FALSE)="…",NA(),IF(VLOOKUP(市町村別統計累年ファイル!$C$5&市町村別統計累年ファイル!$F$5,大豆!$A$6:$BI$130,60,FALSE)="x",NA(),VLOOKUP(市町村別統計累年ファイル!$C$5&市町村別統計累年ファイル!$F$5,大豆!$A$6:$BI$130,60,FALSE))))) -> 122 | K27: =IF(市町村別統計累年ファイル!Q89="",0,IF(市町村別統計累年ファイル!Q89="…",0,IF(市町村別統計累年ファイル!Q89="-",0,IF(市町村別統計累年ファイル!Q89="x",0,市町村別統計累年ファイル!Q89)))) -> 76 | M27: =G12 -> 5 | N27: =IF(市町村別統計累年ファイル!Q106="",NA(),IF(市町村別統計累年ファイル!Q106="…",NA(),IF(市町村別統計累年ファイル!Q106="-",NA(),IF(市町村別統計累年ファイル!Q106="x",NA(),市町村別統計累年ファイル!Q106)))) -> #N/A | O27: =IF(市町村別統計累年ファイル!T106="",NA(),IF(市町村別統計累年ファイル!T106="…",NA(),IF(市町村別統計累年ファイル!T106="-",NA(),IF(市町村別統計累年ファイル!T106="x",NA(),市町村別統計累年ファイル!T106)))) -> #N/A | P27: =IF(参照!$C$127="",NA(),IF(VLOOKUP(市町村別統計累年ファイル!$C$5&市町村別統計累年ファイル!$F$5,そば!$A$6:$BI$130,60,FALSE)="-",NA(),IF(VLOOKUP(市町村別統計累年ファイル!$C$5&市町村別統計累年ファイル!$F$5,そば!$A$6:$BI$130,60,FALSE)="…",NA(),IF(VLOOKUP(市町村別統計累年ファイル!$C$5&市町村別統計累年ファイル!$F$5,そば!$A$6:$BI$130,60,FALSE)="x",NA(),VLOOKUP(市町村別統計累年ファイル!$C$5&市町村別統計累年ファイル!$F$5,そば!$A$6:$BI$130,60,FALSE))))) -> 45 | Q27: =IF(市町村別統計累年ファイル!Q106="",0,IF(市町村別統計累年ファイル!Q106="…",0,IF(市町村別統計累年ファイル!Q106="-",0,IF(市町村別統計累年ファイル!Q106="x",0,市町村別統計累年ファイル!Q106)))) -> 0
A28: =G13 -> 6 | B28: =IF(市町村別統計累年ファイル!Q73="",NA(),IF(市町村別統計累年ファイル!Q73="…",NA(),IF(市町村別統計累年ファイル!Q73="-",NA(),IF(市町村別統計累年ファイル!Q73="x",NA(),市町村別統計累年ファイル!Q73)))) -> #N/A | C28: =IF(市町村別統計累年ファイル!T73="",NA(),IF(市町村別統計累年ファイル!T73="…",NA(),IF(市町村別統計累年ファイル!T73="-",NA(),IF(市町村別統計累年ファイル!T73="x",NA(),市町村別統計累年ファイル!T73)))) -> #N/A | D28: =IF(参照!$C$127="",NA(),IF(VLOOKUP(市町村別統計累年ファイル!$C$5&市町村別統計累年ファイル!$F$5,六条!$A$6:$BI$130,61,FALSE)="-",NA(),IF(VLOOKUP(市町村別統計累年ファイル!$C$5&市町村別統計累年ファイル!$F$5,六条!$A$6:$BI$130,61,FALSE)="…",NA(),IF(VLOOKUP(市町村別統計累年ファイル!$C$5&市町村別統計累年ファイル!$F$5,六条!$A$6:$BI$130,61,FALSE)="x",NA(),VLOOKUP(市町村別統計累年ファイル!$C$5&市町村別統計累年ファイル!$F$5,六条!$A$6:$BI$130,61,FALSE))))) -> 136 | E28: =IF(市町村別統計累年ファイル!Q73="",0,IF(市町村別統計累年ファイル!Q73="…",0,IF(市町村別統計累年ファイル!Q73="-",0,IF(市町村別統計累年ファイル!Q73="x",0,市町村別統計累年ファイル!Q73)))) -> 0 | G28: =G13 -> 6 | H28: =IF(市町村別統計累年ファイル!Q90="",NA(),IF(市町村別統計累年ファイル!Q90="…",NA(),IF(市町村別統計累年ファイル!Q90="-",NA(),IF(市町村別統計累年ファイル!Q90="x",NA(),市町村別統計累年ファイル!Q90)))) -> 90 | I28: =IF(市町村別統計累年ファイル!T90="",NA(),IF(市町村別統計累年ファイル!T90="…",NA(),IF(市町村別統計累年ファイル!T90="-",NA(),IF(市町村別統計累年ファイル!T90="x",NA(),市町村別統計累年ファイル!T90)))) -> 59 | J28: =IF(参照!$C$127="",NA(),IF(VLOOKUP(市町村別統計累年ファイル!$C$5&市町村別統計累年ファイル!$F$5,大豆!$A$6:$BI$130,61,FALSE)="-",NA(),IF(VLOOKUP(市町村別統計累年ファイル!$C$5&市町村別統計累年ファイル!$F$5,大豆!$A$6:$BI$130,61,FALSE)="…",NA(),IF(VLOOKUP(市町村別統計累年ファイル!$C$5&市町村別統計累年ファイル!$F$5,大豆!$A$6:$BI$130,61,FALSE)="x",NA(),VLOOKUP(市町村別統計累年ファイル!$C$5&市町村別統計累年ファイル!$F$5,大豆!$A$6:$BI$130,61,FALSE))))) -> 67 | K28: =IF(市町村別統計累年ファイル!Q90="",0,IF(市町村別統計累年ファイル!Q90="…",0,IF(市町村別統計累年ファイル!Q90="-",0,IF(市町村別統計累年ファイル!Q90="x",0,市町村別統計累年ファイル!Q90)))) -> 90 | M28: =G13 -> 6 | N28: =IF(市町村別統計累年ファイル!Q107="",NA(),IF(市町村別統計累年ファイル!Q107="…",NA(),IF(市町村別統計累年ファイル!Q107="-",NA(),IF(市町村別統計累年ファイル!Q107="x",NA(),市町村別統計累年ファイル!Q107)))) -> #N/A | O28: =IF(市町村別統計累年ファイル!T107="",NA(),IF(市町村別統計累年ファイル!T107="…",NA(),IF(市町村別統計累年ファイル!T107="-",NA(),IF(市町村別統計累年ファイル!T107="x",NA(),市町村別統計累年ファイル!T107)))) -> #N/A | P28: =IF(参照!$C$127="",NA(),IF(VLOOKUP(市町村別統計累年ファイル!$C$5&市町村別統計累年ファイル!$F$5,そば!$A$6:$BI$130,61,FALSE)="-",NA(),IF(VLOOKUP(市町村別統計累年ファイル!$C$5&市町村別統計累年ファイル!$F$5,そば!$A$6:$BI$130,61,FALSE)="…",NA(),IF(VLOOKUP(市町村別統計累年ファイル!$C$5&市町村別統計累年ファイル!$F$5,そば!$A$6:$BI$130,61,FALSE)="x",NA(),VLOOKUP(市町村別統計累年ファイル!$C$5&市町村別統計累年ファイル!$F$5,そば!$A$6:$BI$130,61,FALSE))))) -> 54 | Q28: =IF(市町村別統計累年ファイル!Q107="",0,IF(市町村別統計累年ファイル!Q107="…",0,IF(市町村別統計累年ファイル!Q107="-",0,IF(市町村別統計累年ファイル!Q107="x",0,市町村別統計累年ファイル!Q107)))) -> 0
A29: ダミーDATA | B29: =IF(MAX(E19:E28)<5,5,NA()) -> 5 | G29: ダミーDATA | H29: =IF(MAX(K19:K28)<5,5,NA()) -> #N/A | M29: ダミーDATA | N29: =IF(MAX(Q19:Q28)<5,5,NA()) -> 5

Sheet 耕地
A1: 耕地 | AV1: →使用済みの過去データ
A2: 区分 | B2: 27 | F2: 28 | J2: 29 | N2: 30 | R2: 元年 | V2: 2 | Z2: 3 | AD2: 4 | AH2: 5 | AL2: 6 | AV2: 18 | AZ2: 19 | BD2: 20 | BH2: =BD2+1 -> 21 | BL2: 22 | BP2: 22 | BT2: 24 | BX2: 25 | CB2: 26
B3: 耕地 面積 | C3: 田耕地面積 | E3: 畑耕地面積 | F3: 耕地 面積 | G3: 田耕地面積 | I3: 畑耕地面積 | J3: 耕地 面積 | K3: 田耕地面積 | M3: 畑耕地面積 | N3: 耕地 面積 | O3: 田耕地面積 | Q3: 畑耕地面積 | R3: 耕地 面積 | S3: 田耕地面積 | U3: 畑耕地面積 | V3: 耕地 面積 | W3: 田耕地面積 | Y3: 畑耕地面積 | Z3: 耕地 面積 | AA3: 田耕地面積 | AC3: 畑耕地面積 | AD3: 耕地 面積 | AE3: 田耕地面積 | AG3: 畑耕地面積 | AH3: 耕地 面積 | AI3: 田耕地面積 | AK3: 畑耕地面積 | AL3: 耕地 面積 | AM3: 田耕地面積 | AO3: 畑耕地面積 | AV3: 耕地 面積 | AW3: 田耕地面積 | AY3: 畑耕地面積 | AZ3: 耕地 面積 | BA3: 田耕地面積 | BC3: 畑耕地面積 | BD3: 耕地 面積 | BE3: 田耕地面積 | BG3: 畑耕地面積 | BH3: 耕地 面積 | BI3: 田耕地面積 | BK3: 畑耕地面積 | BL3: 耕地 面積 | BM3: 田耕地面積 | BO3: 畑耕地面積 | BP3: 耕地 面積 | BQ3: 田耕地面積 | BS3: 畑耕地面積 | BT3: 耕地 面積 | BU3: 田耕地面積 | BW3: 畑耕地面積 | BX3: 耕地 面積 | BY3: 田耕地面積 | CA3: 畑耕地面積 | CB3: 耕地 面積 | CC3: 田耕地面積 | CE3: 畑耕地面積
D4: 田本地 面積 | H4: 田本地 面積 | L4: 田本地 面積 | P4: 田本地 面積 | T4: 田本地 面積 | X4: 田本地 面積 | AB4: 田本地 面積 | AF4: 田本地 面積 | AJ4: 田本地 面積 | AN4: 田本地 面積 | AX4: 田本地 面積 | BB4: 田本地 面積 | BF4: 田本地 面積 | BJ4: 田本地 面積 | BN4: 田本地 面積 | BR4: 田本地 面積 | BV4: 田本地 面積 | BZ4: 田本地 面積 | CD4: 田本地 面積
A5: 1 | B5: =A5+1 -> 2 | C5: =B5+1 -> 3 | D5: =C5+1 -> 4 | E5: =D5+1 -> 5 | F5: =E5+1 -> 6 | G5: =F5+1 -> 7 | H5: =G5+1 -> 8 | I5: =H5+1 -> 9 | ... AO5: =AN5+1 -> 41
A6: 岐阜県岐阜市 | B6: 4030 | C6: 2990 | D6: 2910 | E6: 1040 | F6: 4010 | G6: 2950 | H6: 2880 | I6: 1060 | J6: 3950 | K6: 2900 | L6: 2820 | M6: 1060 | N6: 3950 | O6: 2880 | P6: 2810 | Q6: 1070 | R6: 3930 | S6: 2860 | T6: 2790 | U6: 1070 | V6: 3930 | W6: 2850 | X6: 2780 | Y6: 1080 | Z6: 3930 | AA6: 2850 | AB6: 2770 | AC6: 1080 | AD6: 3900 | AE6: 2830 | AF6: 2760 | AG6: 1070 | AH6: 3880 | AI6: 2810 | AJ6: 2740 | AK6: 1070 | AL6: 3770 | AM6: 2720 | AN6: 2650 | AO6: 1060 | AQ6: 21201 | AR6: 岐阜市 | AV6: 4090 | AW6: 3230 | AX6: 3140 | AY6: 857 | AZ6: 4080 | BA6: 3180 | BB6: 3090 | BC6: 904 | BD6: 4080 | BE6: 3130 | BF6: 3040 | BG6: 947 | BH6: 4070 | BI6: 3090 | BJ6: 3010 | BK6: 982 | BL6: 4070 | BM6: 3040 | BN6: 2960 | BO6: 1030 | BP6: 4070 | BQ6: 3040 | BR6: 2960 | BS6: 1030 | BT6: 4060 | BU6: 3030 | BV6: 2950 | BW6: 1030 | BX6: 4060 | BY6: 3020 | BZ6: 2940 | CA6: 1040 | CB6: 4050 | CC6: 3010 | CD6: 2930 | CE6: 1040
A7: 岐阜県大垣市 | B7: 2990 | C7: 2770 | D7: 2690 | E7: 217 | F7: 2960 | G7: 2740 | H7: 2660 | I7: 218 | J7: 2940 | K7: 2710 | L7: 2640 | M7: 221 | N7: 2910 | O7: 2690 | P7: 2620 | Q7: 218 | R7: 2890 | S7: 2660 | T7: 2590 | U7: 221 | V7: 2860 | W7: 2640 | X7: 2560 | Y7: 219 | Z7: 2850 | AA7: 2630 | AB7: 2550 | AC7: 218 | AD7: 2830 | AE7: 2610 | AF7: 2540 | AG7: 216 | AH7: 2810 | AI7: 2590 | AJ7: 2520 | AK7: 215 | AL7: 2780 | AM7: 2570 | AN7: 2500 | AO7: 215 | AQ7: 21202 | AR7: 大垣市 | AV7: 3130 | AW7: 2890 | AX7: 2800 | AY7: 243 | AZ7: 3120 | BA7: 2880 | BB7: 2800 | BC7: 243 | BD7: 3090 | BE7: 2870 | BF7: 2780 | BG7: 228 | BH7: 3090 | BI7: 2860 | BJ7: 2780 | BK7: 227 | BL7: 3080 | BM7: 2860 | BN7: 2780 | BO7: 226 | BP7: 3080 | BQ7: 2860 | BR7: 2780 | BS7: 226 | BT7: 3050 | BU7: 2830 | BV7: 2750 | BW7: 223 | BX7: 3030 | BY7: 2810 | BZ7: 2730 | CA7: 222 | CB7: 3010 | CC7: 2790 | CD7: 2710 | CE7: 221
A8: 岐阜県高山市 | B8: 4690 | C8: 3100 | D8: 2710 | E8: 1590 | F8: 4670 | G8: 3090 | H8: 2700 | I8: 1590 | J8: 4650 | K8: 3080 | L8: 2690 | M8: 1570 | N8: 4620 | O8: 3060 | P8: 2670 | Q8: 1560 | R8: 4600 | S8: 3060 | T8: 2670 | U8: 1550 | V8: 4590 | W8: 3040 | X8: 2660 | Y8: 1540 | Z8: 4560 | AA8: 3030 | AB8: 2640 | AC8: 1530 | AD8: 4540 | AE8: 3010 | AF8: 2630 | AG8: 1530 | AH8: 4480 | AI8: 2960 | AJ8: 2580 | AK8: 1520 | AL8: 4480 | AM8: 2960 | AN8: 2580 | AO8: 1520 | AQ8: 21203 | AR8: 高山市 | AV8: 4980 | AW8: 3330 | AX8: 2900 | AY8: 1660 | AZ8: 4950 | BA8: 3300 | BB8: 2880 | BC8: 1640 | BD8: 4900 | BE8: 3260 | BF8: 2840 | BG8: 1640 | BH8: 4850 | BI8: 3220 | BJ8: 2810 | BK8: 1630 | BL8: 4780 | BM8: 3170 | BN8: 2760 | BO8: 1610 | BP8: 4780 | BQ8: 3170 | BR8: 2760 | BS8: 1610 | BT8: 4750 | BU8: 3150 | BV8: 2740 | BW8: 1600 | BX8: 4730 | BY8: 3130 | BZ8: 2730 | CA8: 1600 | CB8: 4710 | CC8: 3120 | CD8: 2720 | CE8: 1600
A9: 岐阜県多治見市 | B9: 206 | C9: 176 | D9: 162 | E9: 30 | F9: 204 | G9: 172 | H9: 158 | I9: 32 | J9: 206 | K9: 169 | L9: 156 | M9: 37 | N9: 203 | O9: 169 | P9: 156 | Q9: 34 | R9: 205 | S9: 171 | T9: 158 | U9: 34 | V9: 201 | W9: 170 | X9: 157 | Y9: 31 | Z9: 198 | AA9: 168 | AB9: 155 | AC9: 30 | AD9: 197 | AE9: 167 | AF9: 154 | AG9: 30 | AH9: 194 | AI9: 164 | AJ9: 152 | AK9: 30 | AL9: 181 | AM9: 151 | AN9: 140 | AO9: 30 | AQ9: 21204 | AR9: 多治見市 | AV9: 198 | AW9: 173 | AX9: 158 | AY9: 25 | AZ9: 198 | BA9: 173 | BB9: 158 | BC9: 25 | BD9: 198 | BE9: 173 | BF9: 158 | BG9: 25 | BH9: 198 | BI9: 173 | BJ9: 158 | BK9: 25 | BL9: 197 | BM9: 172 | BN9: 157 | BO9: 25 | BP9: 197 | BQ9: 172 | BR9: 157 | BS9: 25 | BT9: 197 | BU9: 172 | BV9: 157 | BW9: 25 | BX9: 197 | BY9: 172 | BZ9: 157 | CA9: 25 | CB9: 199 | CC9: 174 | CD9: 160 | CE9: 25
A10: 岐阜県関市 | B10: 2490 | C10: 1970 | D10: 1860 | E10: 523 | F10: 2480 | G10: 1960 | H10: 1850 | I10: 521 | J10: 2470 | K10: 1950 | L10: 1840 | M10: 519 | N10: 2450 | O10: 1940 | P10: 1830 | Q10: 513 | R10: 2440 | S10: 1930 | T10: 1820 | U10: 509 | V10: 2420 | W10: 1920 | X10: 1810 | Y10: 504 | Z10: 2400 | AA10: 1900 | AB10: 1800 | AC10: 499 | AD10: 2390 | AE10: 1890 | AF10: 1790 | AG10: 493 | AH10: 2370 | AI10: 1880 | AJ10: 1780 | AK10: 493 | AL10: 2370 | AM10: 1880 | AN10: 1780 | AO10: 489 | AQ10: 21205 | AR10: 関市 | AV10: 2640 | AW10: 2070 | AX10: 1950 | AY10: 570 | AZ10: 2620 | BA10: 2060 | BB10: 1940 | BC10: 567 | BD10: 2610 | BE10: 2050 | BF10: 1930 | BG10: 563 | BH10: 2590 | BI10: 2040 | BJ10: 1920 | BK10: 553 | BL10: 2570 | BM10: 2020 | BN10: 1910 | BO10: 545 | BP10: 2570 | BQ10: 2020 | BR10: 1910 | BS10: 545 | BT10: 2540 | BU10: 2010 | BV10: 1890 | BW10: 533 | BX10: 2520 | BY10: 2000 | BZ10: 1880 | CA10: 524 | CB10: 2510 | CC10: 1990 | CD10: 1880 | CE10: 522
A11: 岐阜県中津川市 | B11: 4010 | C11: 3280 | D11: 2730 | E11: 734 | F11: 4010 | G11: 3270 | H11: 2720 | I11: 740 | J11: 3990 | K11: 3230 | L11: 2700 | M11: 754 | N11: 3960 | O11: 3220 | P11: 2690 | Q11: 743 | R11: 3930 | S11: 3190 | T11: 2660 | U11: 733 | V11: 3910 | W11: 3180 | X11: 2650 | Y11: 727 | Z11: 3890 | AA11: 3170 | AB11: 2640 | AC11: 721 | AD11: 3870 | AE11: 3150 | AF11: 2630 | AG11: 718 | AH11: 3840 | AI11: 3120 | AJ11: 2600 | AK11: 716 | AL11: 3810 | AM11: 3100 | AN11: 2580 | AO11: 716 | AQ11: 21206 | AR11: 中津川市 | AV11: 4190 | AW11: 3380 | AX11: 2820 | AY11: 807 | AZ11: 4170 | BA11: 3370 | BB11: 2800 | BC11: 800 | BD11: 4140 | BE11: 3350 | BF11: 2790 | BG11: 785 | BH11: 4120 | BI11: 3340 | BJ11: 2780 | BK11: 777 | BL11: 4100 | BM11: 3330 | BN11: 2770 | BO11: 773 | BP11: 4100 | BQ11: 3330 | BR11: 2770 | BS11: 773 | BT11: 4080 | BU11: 3320 | BV11: 2760 | BW11: 762 | BX11: 4050 | BY11: 3310 | BZ11: 2750 | CA11: 747 | CB11: 4040 | CC11: 3300 | CD11: 2750 | CE11: 740
A12: 岐阜県美濃市 | B12: 466 | C12: 275 | D12: 263 | E12: 191 | F12: 458 | G12: 270 | H12: 258 | I12: 188 | J12: 455 | K12: 269 | L12: 257 | M12: 186 | N12: 450 | O12: 266 | P12: 255 | Q12: 184 | R12: 448 | S12: 266 | T12: 255 | U12: 182 | V12: 439 | W12: 262 | X12: 251 | Y12: 177 | Z12: 434 | AA12: 260 | AB12: 249 | AC12: 174 | AD12: 431 | AE12: 259 | AF12: 248 | AG12: 172 | AH12: 430 | AI12: 258 | AJ12: 247 | AK12: 172 | AL12: 425 | AM12: 258 | AN12: 247 | AO12: 167 | AQ12: 21207 | AR12: 美濃市 | AV12: 498 | AW12: 290 | AX12: 278 | AY12: 208 | AZ12: 493 | BA12: 289 | BB12: 277 | BC12: 204 | BD12: 490 | BE12: 288 | BF12: 276 | BG12: 202 | BH12: 487 | BI12: 286 | BJ12: 274 | BK12: 201 | BL12: 482 | BM12: 283 | BN12: 271 | BO12: 199 | BP12: 482 | BQ12: 283 | BR12: 271 | BS12: 199 | BT12: 479 | BU12: 282 | BV12: 270 | BW12: 197 | BX12: 476 | BY12: 281 | BZ12: 269 | CA12: 195 | CB12: 471 | CC12: 279 | CD12: 267 | CE12: 192
A13: 岐阜県瑞浪市 | B13: 834 | C13: 687 | D13: 609 | E13: 147 | F13: 826 | G13: 682 | H13: 605 | I13: 144 | J13: 816 | K13: 669 | L13: 593 | M13: 147 | N13: 805 | O13: 660 | P13: 585 | Q13: 145 | R13: 801 | S13: 656 | T13: 581 | U13: 145 | V13: 793 | W13: 650 | X13: 576 | Y13: 143 | Z13: 781 | AA13: 640 | AB13: 568 | AC13: 141 | AD13: 776 | AE13: 636 | AF13: 563 | AG13: 140 | AH13: 764 | AI13: 624 | AJ13: 553 | AK13: 140 | AL13: 754 | AM13: 614 | AN13: 544 | AO13: 140 | AQ13: 21208 | AR13: 瑞浪市 | AV13: 877 | AW13: 720 | AX13: 637 | AY13: 157 | AZ13: 873 | BA13: 717 | BB13: 635 | BC13: 156 | BD13: 870 | BE13: 715 | BF13: 633 | BG13: 155 | BH13: 867 | BI13: 713 | BJ13: 631 | BK13: 154 | BL13: 866 | BM13: 713 | BN13: 631 | BO13: 153 | BP13: 866 | BQ13: 713 | BR13: 631 | BS13: 153 | BT13: 859 | BU13: 708 | BV13: 627 | BW13: 151 | BX13: 856 | BY13: 706 | BZ13: 625 | CA13: 150 | CB13: 844 | CC13: 698 | CD13: 619 | CE13: 146
A14: 岐阜県羽島市 | B14: 2040 | C14: 1630 | D14: 1620 | E14: 413 | F14: 2030 | G14: 1610 | H14: 1610 | I14: 413 | J14: 2020 | K14: 1600 | L14: 1600 | M14: 416 | N14: 2010 | O14: 1600 | P14: 1590 | Q14: 419 | R14: 2010 | S14: 1590 | T14: 1580 | U14: 420 | V14: 2010 | W14: 1580 | X14: 1580 | Y14: 424 | Z14: 2000 | AA14: 1580 | AB14: 1570 | AC14: 424 | AD14: 1990 | AE14: 1570 | AF14: 1560 | AG14: 421 | AH14: 1970 | AI14: 1550 | AJ14: 1550 | AK14: 421 | AL14: 1930 | AM14: 1510 | AN14: 1510 | AO14: 421 | AQ14: 21209 | AR14: 羽島市 | AV14: 2080 | AW14: 1650 | AX14: 1650 | AY14: 426 | AZ14: 2080 | BA14: 1650 | BB14: 1640 | BC14: 426 | BD14: 2070 | BE14: 1650 | BF14: 1640 | BG14: 425 | BH14: 2070 | BI14: 1650 | BJ14: 1640 | BK14: 423 | BL14: 2070 | BM14: 1650 | BN14: 1640 | BO14: 422 | BP14: 2070 | BQ14: 1650 | BR14: 1640 | BS14: 422 | BT14: 2060 | BU14: 1640 | BV14: 1630 | BW14: 420 | BX14: 2060 | BY14: 1640 | BZ14: 1630 | CA14: 419 | CB14: 2050 | CC14: 1630 | CD14: 1620 | CE14: 415
A15: 岐阜県恵那市 | B15: 3350 | C15: 2620 | D15: 2190 | E15: 734 | F15: 3350 | G15: 2610 | H15: 2190 | I15: 739 | J15: 3350 | K15: 2610 | L15: 2190 | M15: 736 | N15: 3340 | O15: 2610 | P15: 2190 | Q15: 735 | R15: 3340 | S15: 2610 | T15: 2190 | U15: 735 | V15: 3340 | W15: 2610 | X15: 2190 | Y15: 734 | Z15: 3330 | AA15: 2600 | AB15: 2180 | AC15: 730 | AD15: 3310 | AE15: 2580 | AF15: 2170 | AG15: 726 | AH15: 3290 | AI15: 2570 | AJ15: 2150 | AK15: 726 | AL15: 3290 | AM15: 2560 | AN15: 2150 | AO15: 723 | AQ15: 21210 | AR15: 恵那市 | AV15: 3430 | AW15: 2660 | AX15: 2230 | AY15: 772 | AZ15: 3420 | BA15: 2650 | BB15: 2230 | BC15: 761 | BD15: 3410 | BE15: 2650 | BF15: 2220 | BG15: 759 | BH15: 3390 | BI15: 2640 | BJ15: 2220 | BK15: 750 | BL15: 3380 | BM15: 2640 | BN15: 2210 | BO15: 742 | BP15: 3380 | BQ15: 2640 | BR15: 2210 | BS15: 742 | BT15: 3370 | BU15: 2630 | BV15: 2210 | BW15: 734 | BX15: 3360 | BY15: 2630 | BZ15: 2210 | CA15: 732 | CB15: 3360 | CC15: 2630 | CD15: 2210 | CE15: 732
A16: 岐阜県美濃加茂市 | B16: 1280 | C16: 791 | D16: 738 | E16: 489 | F16: 1280 | G16: 786 | H16: 733 | I16: 489 | J16: 1260 | K16: 768 | L16: 716 | M16: 493 | N16: 1230 | O16: 755 | P16: 704 | Q16: 479 | R16: 1220 | S16: 750 | T16: 699 | U16: 473 | V16: 1220 | W16: 748 | X16: 697 | Y16: 467 | Z16: 1200 | AA16: 739 | AB16: 689 | AC16: 461 | AD16: 1190 | AE16: 735 | AF16: 685 | AG16: 456 | AH16: 1190 | AI16: 730 | AJ16: 680 | AK16: 456 | AL16: 1190 | AM16: 730 | AN16: 680 | AO16: 456 | AQ16: 21211 | AR16: 美濃加茂市 | AV16: 1340 | AW16: 827 | AX16: 771 | AY16: 510 | AZ16: 1340 | BA16: 823 | BB16: 767 | BC16: 514 | BD16: 1320 | BE16: 819 | BF16: 763 | BG16: 505 | BH16: 1320 | BI16: 815 | BJ16: 760 | BK16: 505 | BL16: 1320 | BM16: 812 | BN16: 757 | BO16: 505 | BP16: 1320 | BQ16: 812 | BR16: 757 | BS16: 505 | BT16: 1300 | BU16: 804 | BV16: 750 | BW16: 498 | BX16: 1300 | BY16: 802 | BZ16: 748 | CA16: 493 | CB16: 1290 | CC16: 800 | CD16: 746 | CE16: 488
A17: 岐阜県土岐市 | B17: 262 | C17: 232 | D17: 205 | E17: 30 | F17: 254 | G17: 230 | H17: 203 | I17: 24 | J17: 240 | K17: 216 | L17: 191 | M17: 24 | N17: 227 | O17: 204 | P17: 180 | Q17: 23 | R17: 224 | S17: 201 | T17: 177 | U17: 23 | V17: 218 | W17: 197 | X17: 174 | Y17: 21 | Z17: 214 | AA17: 194 | AB17: 171 | AC17: 20 | AD17: 213 | AE17: 193 | AF17: 170 | AG17: 20 | AH17: 210 | AI17: 190 | AJ17: 168 | AK17: 20 | AL17: 210 | AM17: 190 | AN17: 168 | AO17: 20 | AQ17: 21212 | AR17: 土岐市 | AV17: 283 | AW17: 248 | AX17: 221 | AY17: 35 | AZ17: 283 | BA17: 248 | BB17: 221 | BC17: 35 | BD17: 281 | BE17: 247 | BF17: 220 | BG17: 34 | BH17: 278 | BI17: 246 | BJ17: 219 | BK17: 32 | BL17: 275 | BM17: 244 | BN17: 217 | BO17: 31 | BP17: 275 | BQ17: 244 | BR17: 217 | BS17: 31 | BT17: 271 | BU17: 241 | BV17: 214 | BW17: 30 | BX17: 267 | BY17: 238 | BZ17: 211 | CA17: 29 | CB17: 267 | CC17: 239 | CD17: 212 | CE17: 28
... A130: 三重県紀宝町 | B130: 450 | C130: 300 | D130: 274 | E130: 150 | F130: 445 | G130: 297 | H130: 271 | I130: 148 | J130: 435 | K130: 290 | L130: 265 | M130: 145 | N130: 422 | O130: 277 | P130: 253 | Q130: 145 | R130: 422 | S130: 277 | T130: 253 | U130: 145 | V130: 419 | W130: 274 | X130: 250 | Y130: 145 | Z130: 418 | AA130: 273 | AB130: 249 | AC130: 145 | AD130: 411 | AE130: 266 | AF130: 243 | AG130: 145 | AH130: 402 | AI130: 257 | AJ130: 235 | AK130: 145 | AL130: 397 | AM130: 253 | AN130: 231 | AO130: 144 | AQ130: 24562 | AR130: 紀宝町 | AV130: 480 | AW130: 313 | AX130: 285 | AY130: 167 | AZ130: 472 | BA130: 309 | BB130: 281 | BC130: 163 | BD130: 464 | BE130: 306 | BF130: 279 | BG130: 158 | BH130: 457 | BI130: 306 | BJ130: 279 | BK130: 151 | BL130: 458 | BM130: 304 | BN130: 277 | BO130: 154 | BP130: 458 | BQ130: 304 | BR130: 277 | BS130: 154 | BT130: 447 | BU130: 295 | BV130: 270 | BW130: 152 | BX130: 455 | BY130: 303 | BZ130: 277 | CA130: 152 | CB130: 451 | CC130: 300 | CD130: 274 | CE130: 151

Sheet 水稲
A1: 水稲 | AW1: →使用済みの過去データ
A2: 区分 | B2: 27 | E2: 28 | H2: 29 | K2: 30 | N2: 元年産 | Q2: 2年産 | T2: 3年産 | W2: 4 | Z2: 5 | AC2: 6 | AF2: 10a当たり収量（県） | AW2: 18 | BA2: 19 | BE2: 20 | BI2: =BE2+1 -> 21 | BM2: =BI2+1 -> 22 | BQ2: 24 | BU2: 25 | BY2: 26
B3: 作付 面積 | C3: 10a当たり収量 | D3: 収穫量 | E3: 作付 面積 | F3: 10a当たり収量 | G3: 収穫量 | H3: 作付 面積 | I3: 10a当たり収量 | J3: 収穫量 | K3: 作付 面積 | L3: 10a当たり収量 | M3: 収穫量 | N3: 作付 面積 | O3: 10a当たり収量 | P3: 収穫量 | Q3: 作付 面積 | R3: 10a当たり収量 | S3: 収穫量 | T3: 作付 面積 | U3: 10a当たり収量 | V3: 収穫量 | W3: 作付 面積 | X3: 10a当たり収量 | Y3: 収穫量 | Z3: 作付 面積 | AA3: 10a当たり収量 | AB3: 収穫量 | AC3: 作付 面積 | AD3: 10a当たり収量 | AE3: 収穫量 | AF3: 27 | AG3: 28 | AH3: 29 | AI3: 30 | AJ3: 元年産 | AK3: 2 | AL3: 3 | AM3: 4 | AN3: 5 | AO3: 6 | AW3: 作付 面積 | AX3: 10a当たり収量 | AY3: 収穫量 | AZ3: 18 | BA3: 作付 面積 | BB3: 10a当たり収量 | BC3: 収穫量 | BD3: 19年 | BE3: 作付 面積 | BF3: 10a当たり収量 | BG3: 収穫量 | BH3: =BE2 -> 20 | BI3: 作付 面積 | BJ3: 10a当たり収量 | BK3: 収穫量 | BL3: =BI2 -> 21 | BM3: 作付 面積 | BN3: 10a当たり収量 | BO3: 収穫量 | BP3: =BM2 -> 22 | BQ3: 作付 面積 | BR3: 10a当たり収量 | BS3: 収穫量 | BU3: 作付 面積 | BV3: 10a当たり収量 | BW3: 収穫量 | BX3: 25 | BY3: 作付 面積 | BZ3: 10a当たり収量 | CA3: 収穫量 | CB3: 26
A5: 1 | B5: 2 | C5: 3 | D5: 4 | E5: 5 | F5: 6 | G5: 7 | H5: 8 | I5: 9 | J5: 10 | K5: 11 | L5: 12 | M5: 13 | N5: 14 | O5: 15 | P5: 16 | Q5: 17 | R5: 18 | S5: 19 | T5: 20 | U5: 21 | V5: 22 | W5: 23 | X5: 24 | Y5: 25 | Z5: 26 | AA5: 27 | AB5: 28 | AC5: 29 | AD5: 30 | AE5: 31 | AF5: 32 | AG5: 33 | AH5: 34 | AI5: 35 | AJ5: 36 | AK5: 37 | AL5: 38 | AM5: 39 | AN5: 40 | AO5: 41
A6: 岐阜県岐阜市 | B6: 1580 | C6: 469 | D6: 7390 | E6: 1500 | F6: 475 | G6: 7130 | H6: 1470 | I6: 475 | J6: 7000 | K6: 1490 | L6: 461 | M6: 6870 | N6: 1550 | O6: 468 | P6: 7230 | Q6: 1550 | R6: 451 | S6: 6990 | T6: 1560 | U6: 467 | V6: 7300 | W6: 1460 | X6: 481 | Y6: 7010 | Z6: 1580 | AA6: 475 | AB6: 7490 | AC6: 1540 | AD6: 474 | AE6: 7300 | AF6: 490 | AG6: 460 | AH6: 475 | AI6: 485 | AJ6: 492 | AK6: 495 | AL6: 478 | AM6: 487 | AN6: 484 | AO6: 483 | AR6: 21201 | AS6: 岐阜市 | AW6: 1850 | AX6: 458 | AY6: 8450 | AZ6: 471 | BA6: 1840 | BB6: 466 | BC6: 8570 | BD6: 473 | BE6: 1700 | BF6: 464 | BG6: 7890 | BH6: 490 | BI6: 1700 | BJ6: 446 | BK6: 7600 | BL6: 460 | BM6: 1740 | BN6: 459 | BO6: 7970 | BP6: 475 | BQ6: 1730 | BR6: 474 | BS6: 8200 | BU6: 1770 | BV6: 476 | BW6: 8410 | BX6: 471 | BY6: 1700 | BZ6: 465 | CA6: 7900 | CB6: 473
A7: 岐阜県大垣市 | B7: 1530 | C7: 464 | D7: 7110 | E7: 1490 | F7: 469 | G7: 6970 | H7: 1460 | I7: 468 | J7: 6810 | K7: 1490 | L7: 454 | M7: 6760 | N7: 1540 | O7: 463 | P7: 7110 | Q7: 1560 | R7: 441 | S7: 6860 | T7: 1530 | U7: 461 | V7: 7040 | W7: 1470 | X7: 475 | Y7: 6990 | Z7: 1440 | AA7: 469 | AB7: 6750 | AC7: 1470 | AD7: 468 | AE7: 6890 | AF7: 490 | AG7: 460 | AH7: 475 | AI7: 485 | AJ7: 492 | AK7: 495 | AL7: 478 | AM7: 487 | AN7: 484 | AO7: 483 | AR7: 21202 | AS7: 大垣市 | AW7: 1720 | AX7: 448 | AY7: 7700 | AZ7: 471 | BA7: 1700 | BB7: 450 | BC7: 7660 | BD7: 473 | BE7: 1710 | BF7: 458 | BG7: 7810 | BH7: 490 | BI7: 1700 | BJ7: 439 | BK7: 7460 | BL7: 460 | BM7: 1700 | BN7: 453 | BO7: 7720 | BP7: 475 | BQ7: 1680 | BR7: 468 | BS7: 7860 | BU7: 1660 | BV7: 469 | BW7: 7800 | BX7: 471 | BY7: 1620 | BZ7: 460 | CA7: 7460 | CB7: 473
A8: 岐阜県高山市 | B8: 1690 | C8: 518 | D8: 8730 | E8: 1670 | F8: 523 | G8: 8720 | H8: 1670 | I8: 540 | J8: 9040 | K8: 1690 | L8: 533 | M8: 9020 | N8: 1740 | O8: 537 | P8: 9360 | Q8: 1740 | R8: 531 | S8: 9220 | T8: 1650 | U8: 526 | V8: 8700 | W8: 1650 | X8: 519 | Y8: 8580 | Z8: 1650 | AA8: 517 | AB8: 8530 | AC8: 1670 | AD8: 535 | AE8: 8920 | AF8: 490 | AG8: 460 | AH8: 475 | AI8: 485 | AJ8: 492 | AK8: 495 | AL8: 478 | AM8: 487 | AN8: 484 | AO8: 483 | AR8: 21203 | AS8: 高山市 | AW8: 1870 | AX8: 499 | AY8: 9330 | AZ8: 471 | BA8: 1850 | BB8: 505 | BC8: 9350 | BD8: 473 | BE8: 1840 | BF8: 543 | BG8: 9990 | BH8: 490 | BI8: 1840 | BJ8: 500 | BK8: 9200 | BL8: 460 | BM8: 1860 | BN8: 537 | BO8: 9980 | BP8: 475 | BQ8: 1830 | BR8: 550 | BS8: 10100 | BU8: 1820 | BV8: 566 | BW8: 10300 | BX8: 471 | BY8: 1760 | BZ8: 536 | CA8: 9430 | CB8: 473
A9: 岐阜県多治見市 | B9: 77 | C9: 479 | D9: 369 | E9: 74 | F9: 481 | G9: 356 | H9: 74 | I9: 488 | J9: 361 | K9: 73 | L9: 477 | M9: 348 | N9: 70 | O9: 476 | P9: 333 | Q9: 69 | R9: 476 | S9: 328 | T9: 69 | U9: 473 | V9: 326 | W9: 64 | X9: 465 | Y9: 298 | Z9: 61 | AA9: 475 | AB9: 290 | AC9: 58 | AD9: 466 | AE9: 270 | AF9: 490 | AG9: 460 | AH9: 475 | AI9: 485 | AJ9: 492 | AK9: 495 | AL9: 478 | AM9: 487 | AN9: 484 | AO9: 483 | AR9: 21204 | AS9: 多治見市 | AW9: 99 | AX9: 458 | AY9: 453 | AZ9: 471 | BA9: 95 | BB9: 472 | BC9: 448 | BD9: 473 | BE9: 93 | BF9: 485 | BG9: 451 | BH9: 490 | BI9: 92 | BJ9: 477 | BK9: 439 | BL9: 460 | BM9: 88 | BN9: 483 | BO9: 425 | BP9: 475 | BQ9: 88 | BR9: 492 | BS9: 433 | BU9: 84 | BV9: 492 | BW9: 413 | BX9: 471 | BY9: 81 | BZ9: 485 | CA9: 393 | CB9: 473
A10: 岐阜県関市 | B10: 921 | C10: 486 | D10: 4480 | E10: 905 | F10: 489 | G10: 4430 | H10: 939 | I10: 490 | J10: 4600 | K10: 1030 | L10: 487 | M10: 5020 | N10: 1030 | O10: 487 | P10: 4990 | Q10: 1020 | R10: 469 | S10: 4770 | T10: 1010 | U10: 481 | V10: 4830 | W10: 980 | X10: 495 | Y10: 4850 | Z10: 812 | AA10: 489 | AB10: 3970 | AC10: 885 | AD10: 481 | AE10: 4260 | AF10: 490 | AG10: 460 | AH10: 475 | AI10: 485 | AJ10: 492 | AK10: 495 | AL10: 478 | AM10: 487 | AN10: 484 | AO10: 483 | AR10: 21205 | AS10: 関市 | AW10: 1160 | AX10: 488 | AY10: 5640 | AZ10: 471 | BA10: 1110 | BB10: 489 | BC10: 5400 | BD10: 473 | BE10: 1100 | BF10: 500 | BG10: 5510 | BH10: 490 | BI10: 1100 | BJ10: 456 | BK10: 5030 | BL10: 460 | BM10: 1070 | BN10: 472 | BO10: 5040 | BP10: 475 | BQ10: 1030 | BR10: 500 | BS10: 5150 | BU10: 1050 | BV10: 502 | BW10: 5280 | BX10: 471 | BY10: 994 | BZ10: 488 | CA10: 4850 | CB10: 473
A11: 岐阜県中津川市 | B11: 1440 | C11: 510 | D11: 7330 | E11: 1410 | F11: 515 | G11: 7280 | H11: 1400 | I11: 521 | J11: 7290 | K11: 1390 | L11: 512 | M11: 7140 | N11: 1410 | O11: 511 | P11: 7220 | Q11: 1410 | R11: 511 | S11: 7190 | T11: 1290 | U11: 506 | V11: 6520 | W11: 1250 | X11: 498 | Y11: 6200 | Z11: 1270 | AA11: 509 | AB11: 6460 | AC11: 1260 | AD11: 502 | AE11: 6320 | AF11: 490 | AG11: 460 | AH11: 475 | AI11: 485 | AJ11: 492 | AK11: 495 | AL11: 478 | AM11: 487 | AN11: 484 | AO11: 483 | AR11: 21206 | AS11: 中津川市 | AW11: 1630 | AX11: 500 | AY11: 8130 | AZ11: 471 | BA11: 1620 | BB11: 504 | BC11: 8180 | BD11: 473 | BE11: 1600 | BF11: 536 | BG11: 8560 | BH11: 490 | BI11: 1600 | BJ11: 496 | BK11: 7920 | BL11: 460 | BM11: 1580 | BN11: 517 | BO11: 8160 | BP11: 475 | BQ11: 1560 | BR11: 528 | BS11: 8250 | BU11: 1570 | BV11: 529 | BW11: 8300 | BX11: 471 | BY11: 1540 | BZ11: 515 | CA11: 7920 | CB11: 473
A12: 岐阜県美濃市 | B12: 152 | C12: 484 | D12: 736 | E12: 151 | F12: 487 | G12: 735 | H12: 143 | I12: 487 | J12: 696 | K12: 138 | L12: 482 | M12: 665 | N12: 124 | O12: 483 | P12: 599 | Q12: 123 | R12: 466 | S12: 573 | T12: 119 | U12: 478 | V12: 569 | W12: 123 | X12: 492 | Y12: 605 | Z12: 130 | AA12: 485 | AB12: 631 | AC12: 101 | AD12: 476 | AE12: 481 | AF12: 490 | AG12: 460 | AH12: 475 | AI12: 485 | AJ12: 492 | AK12: 495 | AL12: 478 | AM12: 487 | AN12: 484 | AO12: 483 | AR12: 21207 | AS12: 美濃市 | AW12: 175 | AX12: 480 | AY12: 840 | AZ12: 471 | BA12: 167 | BB12: 478 | BC12: 798 | BD12: 473 | BE12: 166 | BF12: 486 | BG12: 807 | BH12: 490 | BI12: 162 | BJ12: 468 | BK12: 758 | BL12: 460 | BM12: 168 | BN12: 465 | BO12: 781 | BP12: 475 | BQ12: 157 | BR12: 495 | BS12: 777 | BU12: 167 | BV12: 497 | BW12: 830 | BX12: 471 | BY12: 153 | BZ12: 482 | CA12: 737 | CB12: 473
A13: 岐阜県瑞浪市 | B13: 350 | C13: 512 | D13: 1790 | E13: 349 | F13: 516 | G13: 1800 | H13: 340 | I13: 522 | J13: 1780 | K13: 337 | L13: 513 | M13: 1730 | N13: 338 | O13: 512 | P13: 1730 | Q13: 336 | R13: 512 | S13: 1720 | T13: 332 | U13: 507 | V13: 1680 | W13: 330 | X13: 498 | Y13: 1640 | Z13: 297 | AA13: 510 | AB13: 1520 | AC13: 309 | AD13: 501 | AE13: 1550 | AF13: 490 | AG13: 460 | AH13: 475 | AI13: 485 | AJ13: 492 | AK13: 495 | AL13: 478 | AM13: 487 | AN13: 484 | AO13: 483 | AR13: 21208 | AS13: 瑞浪市 | AW13: 405 | AX13: 510 | AY13: 2070 | AZ13: 471 | BA13: 394 | BB13: 504 | BC13: 1990 | BD13: 473 | BE13: 390 | BF13: 532 | BG13: 2080 | BH13: 490 | BI13: 384 | BJ13: 504 | BK13: 1940 | BL13: 460 | BM13: 379 | BN13: 517 | BO13: 1960 | BP13: 475 | BQ13: 383 | BR13: 530 | BS13: 2030 | BU13: 377 | BV13: 535 | BW13: 2020 | BX13: 471 | BY13: 371 | BZ13: 518 | CA13: 1920 | CB13: 473
A14: 岐阜県羽島市 | B14: 986 | C14: 463 | D14: 4570 | E14: 1010 | F14: 469 | G14: 4720 | H14: 1010 | I14: 467 | J14: 4730 | K14: 1050 | L14: 453 | M14: 4760 | N14: 1060 | O14: 462 | P14: 4910 | Q14: 1090 | R14: 447 | S14: 4870 | T14: 1050 | U14: 461 | V14: 4830 | W14: 1050 | X14: 474 | Y14: 4970 | Z14: 1040 | AA14: 468 | AB14: 4880 | AC14: 1090 | AD14: 466 | AE14: 5090 | AF14: 490 | AG14: 460 | AH14: 475 | AI14: 485 | AJ14: 492 | AK14: 495 | AL14: 478 | AM14: 487 | AN14: 484 | AO14: 483 | AR14: 21209 | AS14: 羽島市 | AW14: 956 | AX14: 446 | AY14: 4260 | AZ14: 471 | BA14: 945 | BB14: 446 | BC14: 4220 | BD14: 473 | BE14: 943 | BF14: 454 | BG14: 4280 | BH14: 490 | BI14: 942 | BJ14: 441 | BK14: 4150 | BL14: 460 | BM14: 961 | BN14: 455 | BO14: 4370 | BP14: 475 | BQ14: 945 | BR14: 467 | BS14: 4410 | BU14: 1030 | BV14: 468 | BW14: 4830 | BX14: 471 | BY14: 1030 | BZ14: 461 | CA14: 4730 | CB14: 473
A15: 岐阜県恵那市 | B15: 1310 | C15: 510 | D15: 6660 | E15: 1300 | F15: 513 | G15: 6660 | H15: 1280 | I15: 519 | J15: 6630 | K15: 1290 | L15: 510 | M15: 6570 | N15: 1290 | O15: 509 | P15: 6590 | Q15: 1290 | R15: 509 | S15: 6570 | T15: 1230 | U15: 504 | V15: 6190 | W15: 1170 | X15: 496 | Y15: 5780 | Z15: 1130 | AA15: 507 | AB15: 5720 | AC15: 1130 | AD15: 499 | AE15: 5630 | AF15: 490 | AG15: 460 | AH15: 475 | AI15: 485 | AJ15: 492 | AK15: 495 | AL15: 478 | AM15: 487 | AN15: 484 | AO15: 483 | AR15: 21210 | AS15: 恵那市 | AW15: 1460 | AX15: 499 | AY15: 7280 | AZ15: 471 | BA15: 1410 | BB15: 503 | BC15: 7090 | BD15: 473 | BE15: 1380 | BF15: 533 | BG15: 7360 | BH15: 490 | BI15: 1380 | BJ15: 495 | BK15: 6820 | BL15: 460 | BM15: 1390 | BN15: 513 | BO15: 7120 | BP15: 475 | BQ15: 1380 | BR15: 526 | BS15: 7250 | BU15: 1400 | BV15: 526 | BW15: 7340 | BX15: 471 | BY15: 1380 | BZ15: 512 | CA15: 7050 | CB15: 473
A16: 岐阜県美濃加茂市 | B16: 500 | C16: 482 | D16: 2410 | E16: 507 | F16: 485 | G16: 2460 | H16: 480 | I16: 485 | J16: 2330 | K16: 497 | L16: 481 | M16: 2390 | N16: 493 | O16: 481 | P16: 2370 | Q16: 495 | R16: 465 | S16: 2300 | T16: 456 | U16: 476 | V16: 2170 | W16: 476 | X16: 489 | Y16: 2330 | Z16: 464 | AA16: 484 | AB16: 2250 | AC16: 460 | AD16: 475 | AE16: 2190 | AF16: 490 | AG16: 460 | AH16: 475 | AI16: 485 | AJ16: 492 | AK16: 495 | AL16: 478 | AM16: 487 | AN16: 484 | AO16: 483 | AR16: 21211 | AS16: 美濃加茂市 | AW16: 504 | AX16: 485 | AY16: 2440 | AZ16: 471 | BA16: 494 | BB16: 484 | BC16: 2390 | BD16: 473 | BE16: 480 | BF16: 493 | BG16: 2370 | BH16: 490 | BI16: 482 | BJ16: 462 | BK16: 2230 | BL16: 460 | BM16: 514 | BN16: 466 | BO16: 2400 | BP16: 475 | BQ16: 525 | BR16: 493 | BS16: 2590 | BU16: 530 | BV16: 496 | BW16: 2630 | BX16: 471 | BY16: 516 | BZ16: 481 | CA16: 2480 | CB16: 473
A17: 岐阜県土岐市 | B17: 123 | C17: 496 | D17: 610 | E17: 109 | F17: 499 | G17: 544 | H17: 106 | I17: 505 | J17: 535 | K17: 101 | L17: 496 | M17: 501 | N17: 101 | O17: 494 | P17: 499 | Q17: 99 | R17: 494 | S17: 489 | T17: 97 | U17: 491 | V17: 476 | W17: 92 | X17: 482 | Y17: 443 | Z17: 84 | AA17: 493 | AB17: 414 | AC17: 79 | AD17: 484 | AE17: 382 | AF17: 490 | AG17: 460 | AH17: 475 | AI17: 485 | AJ17: 492 | AK17: 495 | AL17: 478 | AM17: 487 | AN17: 484 | AO17: 483 | AR17: 21212 | AS17: 土岐市 | AW17: 147 | AX17: 486 | AY17: 714 | AZ17: 471 | BA17: 145 | BB17: 484 | BC17: 702 | BD17: 473 | BE17: 142 | BF17: 512 | BG17: 727 | BH17: 490 | BI17: 139 | BJ17: 492 | BK17: 684 | BL17: 460 | BM17: 136 | BN17: 500 | BO17: 680 | BP17: 475 | BQ17: 128 | BR17: 512 | BS17: 655 | BU17: 125 | BV17: 513 | BW17: 641 | BX17: 471 | BY17: 121 | BZ17: 502 | CA17: 607 | CB17: 473
... A130: 三重県紀宝町 | B130: 188 | C130: 454 | D130: 854 | E130: 182 | F130: 478 | G130: 870 | H130: 180 | I130: 464 | J130: 835 | K130: 180 | L130: 455 | M130: 819 | N130: 181 | O130: 434 | P130: 786 | Q130: 178 | R130: 428 | S130: 762 | T130: 176 | U130: 450 | V130: 792 | W130: 177 | X130: 469 | Y130: 830 | Z130: 175 | AA130: 460 | AB130: 805 | AC130: 163 | AD130: 443 | AE130: 722 | AF130: 512 | AG130: 481 | AH130: 500 | AI130: 488 | AJ130: 507 | AK130: 517 | AL130: 495 | AM130: 511 | AN130: 501 | AO130: 485 | AR130: 24562 | AS130: 紀宝町 | AW130: 216 | AX130: 449 | AY130: 970 | AZ130: 497 | BA130: 208 | BB130: 466 | BC130: 969 | BD130: 493 | BE130: 206 | BF130: 478 | BG130: 985 | BH130: 512 | BI130: 200 | BJ130: 438 | BK130: 876 | BL130: 481 | BM130: 205 | BN130: 457 | BO130: 937 | BP130: 500 | BQ130: 177 | BR130: 463 | BS130: 820 | BU130: 191 | BV130: 473 | BW130: 903 | BX130: 497 | BY130: 190 | BZ130: 454 | CA130: 863 | CB130: 493

Sheet 小麦
A1: 小麦 | BP1: →使用済みの過去データ
A2: 区分 | B2: 27 | G2: 28 | L2: 29 | Q2: 30 | V2: 元年産 | AA2: 2 | AF2: 3 | AK2: 4 | AP2: 5 | AU2: 6 | AZ2: 10a当たり収量（県） | BP2: 18 | BV2: 19 | CB2: 20 | CH2: 21 | CN2: 22 | CT2: 24 | CZ2: 25 | DF2: 26
B3: 作付 面積 | C3: 10a当たり収量 | F3: 収穫量 | G3: 作付 面積 | H3: 10a当たり収量 | K3: 収穫量 | L3: 作付 面積 | M3: 10a当たり収量 | P3: 収穫量 | Q3: 作付 面積 | R3: 10a当たり収量 | U3: 収穫量 | V3: 作付 面積 | W3: 10a当たり収量 | Z3: 収穫量 | AA3: 作付 面積 | AB3: 10a当たり収量 | AE3: 収穫量 | AF3: 作付 面積 | AG3: 10a当たり収量 | AJ3: 収穫量 | AK3: 作付 面積 | AL3: 10a当たり収量 | AO3: 収穫量 | AP3: 作付 面積 | AQ3: 10a当たり収量 | AT3: 収穫量 | AU3: 作付 面積 | AV3: 10a当たり収量 | AY3: 収穫量 | AZ3: 27 | BA3: 28 | BB3: 29 | BC3: 30 | BD3: 元年産 | BE3: 2 | BF3: 3 | BG3: 4 | BH3: 5 | BI3: 6 | BP3: 作付 面積 | BQ3: 10a当たり収量 | BT3: 収穫量 | BU3: 18 | BV3: 作付 面積 | BW3: 10a当たり収量 | BZ3: 収穫量 | CA3: 19年産 | CB3: 作付 面積 | CC3: 10a当たり収量 | CF3: 収穫量 | CG3: 20年産 | CH3: 作付 面積 | CI3: 10a当たり収量 | CL3: 収穫量 | CM3: 21年産 | CN3: 作付 面積 | CO3: 10a当たり収量 | CR3: 収穫量 | CS3: 22年産 | CT3: 作付 面積 | CU3: 10a当たり収量 | CX3: 収穫量 | CZ3: 作付 面積 | DA3: 10a当たり収量 | DD3: 収穫量 | DE3: 25 | DF3: 作付 面積 | DG3: 10a当たり収量 | DJ3: 収穫量 | DK3: 26
D4: 田 | E4: 畑 | I4: 田 | J4: 畑 | N4: 田 | O4: 畑 | S4: 田 | T4: 畑 | X4: 田 | Y4: 畑 | AC4: 田 | AD4: 畑 | AH4: 田 | AI4: 畑 | AM4: 田 | AN4: 畑 | AR4: 田 | AS4: 畑 | AW4: 田 | AX4: 畑 | BR4: 田 | BS4: 畑 | BX4: 田 | BY4: 畑 | CD4: 田 | CE4: 畑 | CJ4: 田 | CK4: 畑 | CP4: 田 | CQ4: 畑 | CV4: 田 | CW4: 畑 | DB4: 田 | DC4: 畑 | DH4: 田 | DI4: 畑
A5: 1 | B5: 2 | C5: 3 | D5: 4 | E5: 5 | F5: 6 | G5: 7 | H5: 8 | I5: 9 | J5: 10 | K5: 11 | L5: 12 | M5: 13 | N5: 14 | O5: 15 | P5: 16 | Q5: 17 | R5: 18 | S5: 19 | T5: 20 | U5: 21 | V5: 22 | W5: 23 | X5: 24 | Y5: 25 | Z5: 26 | AA5: 27 | AB5: 28 | AC5: 29 | AD5: 30 | AE5: 31 | AF5: 32 | AG5: 33 | AH5: 34 | AI5: 35 | AJ5: 36 | AK5: 37 | AL5: 38 | AM5: 39 | AN5: 40 | AO5: 41 | AP5: 42 | AQ5: 43 | AR5: 44 | AS5: 45 | AT5: 46 | AU5: 47 | AV5: 48 | AW5: 49 | AX5: 50 | AY5: 51 | AZ5: 52 | BA5: 53 | BB5: 54 | BC5: 55 | BD5: 56 | BE5: 57 | BF5: 58 | BG5: 59 | BH5: 60 | BI5: 61
A6: 岐阜県岐阜市 | B6: 96 | C6: 190 | D6: 190 | E6: - | F6: 182 | G6: 106 | H6: 221 | I6: 221 | J6: - | K6: 234 | L6: 114 | M6: 292 | N6: 292 | O6: - | P6: 333 | Q6: 127 | R6: 295 | S6: 295 | T6: - | U6: 375 | V6: 133 | W6: 363 | X6: 363 | Y6: - | Z6: 483 | AA6: 140 | AB6: 318 | AC6: 318 | AD6: - | AE6: 445 | AF6: 158 | AG6: 277 | AH6: 277 | AI6: - | AJ6: 438 | AK6: 159 | AL6: 321 | AM6: 321 | AN6: - | AO6: 511 | AP6: 176 | AQ6: 310 | AR6: 310 | AS6: - | AT6: 546 | AU6: 187 | AV6: 222 | AW6: 222 | AX6: - | AY6: 415 | AZ6: 275 | BA6: 275 | BB6: 312 | BC6: 292 | BD6: 355 | BE6: 341 | BF6: 318 | BG6: 358 | BH6: 353 | BI6: 296 | BL6: 21201 | BM6: 岐阜市 | BP6: 57 | BQ6: 214 | BR6: … | BS6: … | BT6: 122 | BU6: 251 | BV6: 57 | BW6: 309 | BX6: … | BY6: … | BZ6: 176 | CA6: 337 | CB6: 67 | CC6: 336 | CD6: … | CE6: … | CF6: 225 | CG6: 352 | CH6: 73 | CI6: 234 | CJ6: … | CK6: … | CL6: 171 | CM6: 300 | CN6: 70 | CO6: 163 | CP6: 163 | CQ6: - | CR6: 114 | CS6: 228 | CT6: 79 | CU6: 229 | CV6: 229 | CW6: - | CX6: 181 | CZ6: 82 | DA6: 257 | DB6: 257 | DC6: - | DD6: 211 | DE6: 310 | DF6: 88 | DG6: 233 | DH6: 233 | DI6: - | DJ6: 205 | DK6: 327
A7: 岐阜県大垣市 | B7: 193 | C7: 188 | D7: 188 | E7: - | F7: 363 | G7: 197 | H7: 184 | I7: 184 | J7: - | K7: 362 | L7: 198 | M7: 243 | N7: 243 | O7: - | P7: 481 | Q7: 190 | R7: 198 | S7: 198 | T7: - | U7: 376 | V7: 201 | W7: 316 | X7: 316 | Y7: - | Z7: 635 | AA7: 203 | AB7: 267 | AC7: 267 | AD7: - | AE7: 542 | AF7: 188 | AG7: 260 | AH7: 260 | AI7: - | AJ7: 488 | AK7: 204 | AL7: 316 | AM7: 316 | AN7: - | AO7: 644 | AP7: 222 | AQ7: 289 | AR7: 289 | AS7: - | AT7: 642 | AU7: 256 | AV7: 235 | AW7: 235 | AX7: - | AY7: 601 | AZ7: 275 | BA7: 275 | BB7: 312 | BC7: 292 | BD7: 355 | BE7: 341 | BF7: 318 | BG7: 358 | BH7: 353 | BI7: 296 | BL7: 21202 | BM7: 大垣市 | BP7: 156 | BQ7: 253 | BR7: … | BS7: … | BT7: 394 | BU7: 251 | BV7: 160 | BW7: 298 | BX7: … | BY7: … | BZ7: 477 | CA7: 337 | CB7: 161 | CC7: 283 | CD7: … | CE7: … | CF7: 455 | CG7: 352 | CH7: 177 | CI7: 238 | CJ7: … | CK7: … | CL7: 421 | CM7: 300 | CN7: 190 | CO7: 178 | CP7: 178 | CQ7: - | CR7: 339 | CS7: 228 | CT7: 182 | CU7: 237 | CV7: 237 | CW7: - | CX7: 431 | CZ7: 180 | DA7: 249 | DB7: 249 | DC7: - | DD7: 448 | DE7: 310 | DF7: 188 | DG7: 257 | DH7: 257 | DI7: - | DJ7: 483 | DK7: 327
A8: 岐阜県高山市 | B8: - | C8: - | D8: - | E8: - | F8: - | G8: x | H8: x | I8: x | J8: - | K8: x | L8: - | M8: - | N8: - | O8: - | P8: - | Q8: - | R8: - | S8: - | T8: - | U8: - | V8: - | W8: - | X8: - | Y8: - | Z8: - | AA8: - | AB8: - | AC8: - | AD8: - | AE8: - | AF8: - | AG8: - | AH8: - | AI8: - | AJ8: - | AK8: - | AL8: - | AM8: - | AN8: - | AO8: - | AP8: - | AQ8: - | AR8: - | AS8: - | AT8: - | AU8: - | AV8: - | AW8: - | AX8: - | AY8: - | AZ8: 275 | BA8: 275 | BB8: 312 | BC8: 292 | BD8: 355 | BE8: 341 | BF8: 318 | BG8: 358 | BH8: 353 | BI8: 296 | BL8: 21203 | BM8: 高山市 | BP8: x | BQ8: x | BR8: … | BS8: … | BT8: x | BU8: 251 | BV8: x | BW8: x | BX8: … | BY8: … | BZ8: x | CA8: 337 | CB8: x | CC8: x | CD8: … | CE8: … | CF8: x | CG8: 352 | CH8: x | CI8: x | CJ8: … | CK8: … | CL8: x | CM8: 300 | CN8: x | CO8: x | CP8: - | CQ8: x | CR8: x | CS8: 228 | CT8: 1 | CU8: 29 | CV8: 25 | CW8: x | CX8: 0 | CZ8: 14 | DA8: 57 | DB8: 20 | DC8: x | DD8: 8 | DE8: 310 | DF8: - | DG8: - | DH8: - | DI8: - | DJ8: - | DK8: 327
A9: 岐阜県多治見市 | B9: x | C9: x | D9: x | E9: - | F9: x | G9: x | H9: x | I9: x | J9: - | K9: x | L9: - | M9: - | N9: - | O9: - | P9: - | Q9: - | R9: - | S9: - | T9: - | U9: - | V9: - | W9: - | X9: - | Y9: - | Z9: - | AA9: - | AB9: - | AC9: - | AD9: - | AE9: - | AF9: - | AG9: - | AH9: - | AI9: - | AJ9: - | AK9: - | AL9: - | AM9: - | AN9: - | AO9: - | AP9: - | AQ9: - | AR9: - | AS9: - | AT9: - | AU9: - | AV9: - | AW9: - | AX9: - | AY9: - | AZ9: 275 | BA9: 275 | BB9: 312 | BC9: 292 | BD9: 355 | BE9: 341 | BF9: 318 | BG9: 358 | BH9: 353 | BI9: 296 | BL9: 21204 | BM9: 多治見市 | BP9: 0 | BQ9: 130 | BR9: … | BS9: … | BT9: 0 | BU9: 251 | BV9: - | BW9: - | BX9: … | BY9: … | BZ9: - | CA9: 337 | CB9: - | CC9: - | CD9: … | CE9: … | CF9: - | CG9: 352 | CH9: - | CI9: - | CJ9: … | CK9: … | CL9: - | CM9: 300 | CN9: x | CO9: x | CP9: x | CQ9: x | CR9: x | CS9: 228 | CT9: - | CU9: - | CV9: - | CW9: - | CX9: - | CZ9: - | DA9: - | DB9: - | DC9: - | DD9: - | DE9: 310 | DF9: x | DG9: x | DH9: x | DI9: - | DJ9: x | DK9: 327
A10: 岐阜県関市 | B10: 172 | C10: 209 | D10: 209 | E10: - | F10: 359 | G10: 160 | H10: 181 | I10: 181 | J10: - | K10: 290 | L10: 164 | M10: 274 | N10: 274 | O10: - | P10: 449 | Q10: 159 | R10: 293 | S10: 293 | T10: - | U10: 466 | V10: 175 | W10: 324 | X10: 324 | Y10: - | Z10: 567 | AA10: 192 | AB10: 310 | AC10: 310 | AD10: - | AE10: 596 | AF10: 220 | AG10: 213 | AH10: 213 | AI10: - | AJ10: 468 | AK10: 217 | AL10: 329 | AM10: 329 | AN10: - | AO10: 715 | AP10: 220 | AQ10: 282 | AR10: 282 | AS10: - | AT10: 620 | AU10: 248 | AV10: 243 | AW10: 243 | AX10: - | AY10: 602 | AZ10: 275 | BA10: 275 | BB10: 312 | BC10: 292 | BD10: 355 | BE10: 341 | BF10: 318 | BG10: 358 | BH10: 353 | BI10: 296 | BL10: 21205 | BM10: 関市 | BP10: 97 | BQ10: 245 | BR10: … | BS10: … | BT10: 238 | BU10: 251 | BV10: 107 | BW10: 308 | BX10: … | BY10: … | BZ10: 330 | CA10: 337 | CB10: 132 | CC10: 298 | CD10: … | CE10: … | CF10: 393 | CG10: 352 | CH10: 110 | CI10: 223 | CJ10: … | CK10: … | CL10: 245 | CM10: 300 | CN10: 139 | CO10: 191 | CP10: 191 | CQ10: - | CR10: 265 | CS10: 228 | CT10: 149 | CU10: 245 | CV10: 245 | CW10: - | CX10: 365 | CZ10: 141 | DA10: 240 | DB10: 240 | DC10: - | DD10: 338 | DE10: 310 | DF10: 168 | DG10: 255 | DH10: 255 | DI10: - | DJ10: 428 | DK10: 327
A11: 岐阜県中津川市 | B11: x | C11: x | D11: x | E11: - | F11: x | G11: x | H11: x | I11: x | J11: - | K11: x | L11: x | M11: x | N11: x | O11: - | P11: x | Q11: x | R11: x | S11: x | T11: x | U11: x | V11: x | W11: x | X11: x | Y11: x | Z11: x | AA11: x | AB11: x | AC11: - | AD11: x | AE11: x | AF11: x | AG11: x | AH11: - | AI11: x | AJ11: x | AK11: x | AL11: x | AM11: x | AN11: - | AO11: x | AP11: x | AQ11: x | AR11: x | AS11: - | AT11: x | AU11: x | AV11: x | AW11: x | AX11: - | AY11: x | AZ11: 275 | BA11: 275 | BB11: 312 | BC11: 292 | BD11: 355 | BE11: 341 | BF11: 318 | BG11: 358 | BH11: 353 | BI11: 296 | BL11: 21206 | BM11: 中津川市 | BP11: x | BQ11: 116 | BR11: … | BS11: … | BT11: x | BU11: 251 | BV11: x | BW11: 104 | BX11: … | BY11: … | BZ11: x | CA11: 337 | CB11: - | CC11: - | CD11: … | CE11: … | CF11: - | CG11: 352 | CH11: - | CI11: - | CJ11: … | CK11: … | CL11: - | CM11: 300 | CN11: 1 | CO11: 49 | CP11: 49 | CQ11: - | CR11: 0 | CS11: 228 | CT11: 1 | CU11: 27 | CV11: 27 | CW11: - | CX11: 0 | CZ11: x | DA11: x | DB11: x | DC11: - | DD11: x | DE11: 310 | DF11: x | DG11: x | DH11: x | DI11: - | DJ11: x | DK11: 327
A12: 岐阜県美濃市 | B12: - | C12: - | D12: - | E12: - | F12: - | G12: - | H12: - | I12: - | J12: - | K12: - | L12: - | M12: - | N12: - | O12: - | P12: - | Q12: - | R12: - | S12: - | T12: - | U12: - | V12: x | W12: x | X12: x | Y12: - | Z12: x | AA12: x | AB12: x | AC12: x | AD12: - | AE12: x | AF12: - | AG12: - | AH12: - | AI12: - | AJ12: - | AK12: x | AL12: x | AM12: x | AN12: - | AO12: x | AP12: x | AQ12: x | AR12: x | AS12: - | AT12: x | AU12: - | AV12: - | AW12: - | AX12: - | AY12: - | AZ12: 275 | BA12: 275 | BB12: 312 | BC12: 292 | BD12: 355 | BE12: 341 | BF12: 318 | BG12: 358 | BH12: 353 | BI12: 296 | BL12: 21207 | BM12: 美濃市 | BP12: - | BQ12: - | BR12: … | BS12: … | BT12: - | BU12: 251 | BV12: - | BW12: - | BX12: … | BY12: … | BZ12: - | CA12: 337 | CB12: - | CC12: - | CD12: … | CE12: … | CF12: - | CG12: 352 | CH12: - | CI12: - | CJ12: … | CK12: … | CL12: - | CM12: 300 | CN12: - | CO12: - | CP12: - | CQ12: - | CR12: - | CS12: 228 | CT12: x | CU12: x | CV12: x | CW12: - | CX12: x | CZ12: - | DA12: - | DB12: - | DC12: - | DD12: - | DE12: 310 | DF12: - | DG12: - | DH12: - | DI12: - | DJ12: - | DK12: 327
A13: 岐阜県瑞浪市 | B13: - | C13: - | D13: - | E13: - | F13: - | G13: - | H13: - | I13: - | J13: - | K13: - | L13: - | M13: - | N13: - | O13: - | P13: - | Q13: - | R13: - | S13: - | T13: - | U13: - | V13: - | W13: - | X13: - | Y13: - | Z13: - | AA13: - | AB13: - | AC13: - | AD13: - | AE13: - | AF13: - | AG13: - | AH13: - | AI13: - | AJ13: - | AK13: - | AL13: - | AM13: - | AN13: - | AO13: - | AP13: - | AQ13: - | AR13: - | AS13: - | AT13: - | AU13: - | AV13: - | AW13: - | AX13: - | AY13: - | AZ13: 275 | BA13: 275 | BB13: 312 | BC13: 292 | BD13: 355 | BE13: 341 | BF13: 318 | BG13: 358 | BH13: 353 | BI13: 296 | BL13: 21208 | BM13: 瑞浪市 | BP13: 0 | BQ13: 140 | BR13: … | BS13: … | BT13: 0 | BU13: 251 | BV13: - | BW13: - | BX13: … | BY13: … | BZ13: - | CA13: 337 | CB13: - | CC13: - | CD13: … | CE13: … | CF13: - | CG13: 352 | CH13: - | CI13: - | CJ13: … | CK13: … | CL13: - | CM13: 300 | CN13: - | CO13: - | CP13: - | CQ13: - | CR13: - | CS13: 228 | CT13: - | CU13: - | CV13: - | CW13: - | CX13: - | CZ13: - | DA13: - | DB13: - | DC13: - | DD13: - | DE13: 310 | DF13: - | DG13: - | DH13: - | DI13: - | DJ13: - | DK13: 327
A14: 岐阜県羽島市 | B14: 62 | C14: 202 | D14: 202 | E14: x | F14: 125 | G14: 63 | H14: 197 | I14: 197 | J14: x | K14: 124 | L14: 62 | M14: 282 | N14: 282 | O14: x | P14: 175 | Q14: 62 | R14: 248 | S14: 248 | T14: - | U14: 154 | V14: 63 | W14: 322 | X14: 322 | Y14: - | Z14: 203 | AA14: 58 | AB14: 307 | AC14: 307 | AD14: - | AE14: 178 | AF14: 59 | AG14: 225 | AH14: 225 | AI14: - | AJ14: 133 | AK14: 63 | AL14: 322 | AM14: 322 | AN14: - | AO14: 203 | AP14: 70 | AQ14: 346 | AR14: 346 | AS14: - | AT14: 242 | AU14: 78 | AV14: 305 | AW14: 305 | AX14: - | AY14: 238 | AZ14: 275 | BA14: 275 | BB14: 312 | BC14: 292 | BD14: 355 | BE14: 341 | BF14: 318 | BG14: 358 | BH14: 353 | BI14: 296 | BL14: 21209 | BM14: 羽島市 | BP14: 31 | BQ14: 259 | BR14: … | BS14: … | BT14: 80 | BU14: 251 | BV14: 47 | BW14: 300 | BX14: … | BY14: … | BZ14: 141 | CA14: 337 | CB14: 54 | CC14: 389 | CD14: … | CE14: … | CF14: 210 | CG14: 352 | CH14: 55 | CI14: 291 | CJ14: … | CK14: … | CL14: 160 | CM14: 300 | CN14: 62 | CO14: 187 | CP14: 187 | CQ14: x | CR14: 116 | CS14: 228 | CT14: 65 | CU14: 257 | CV14: 257 | CW14: 320 | CX14: 167 | CZ14: 63 | DA14: 311 | DB14: 311 | DC14: 180 | DD14: 196 | DE14: 310 | DF14: 61 | DG14: 310 | DH14: 310 | DI14: x | DJ14: 189 | DK14: 327
A15: 岐阜県恵那市 | B15: x | C15: x | D15: x | E15: - | F15: x | G15: - | H15: - | I15: - | J15: - | K15: - | L15: - | M15: - | N15: - | O15: - | P15: - | Q15: - | R15: - | S15: - | T15: - | U15: - | V15: - | W15: - | X15: - | Y15: - | Z15: - | AA15: x | AB15: x | AC15: x | AD15: - | AE15: x | AF15: - | AG15: - | AH15: - | AI15: - | AJ15: - | AK15: - | AL15: - | AM15: - | AN15: - | AO15: - | AP15: x | AQ15: x | AR15: x | AS15: - | AT15: x | AU15: - | AV15: - | AW15: - | AX15: - | AY15: - | AZ15: 275 | BA15: 275 | BB15: 312 | BC15: 292 | BD15: 355 | BE15: 341 | BF15: 318 | BG15: 358 | BH15: 353 | BI15: 296 | BL15: 21210 | BM15: 恵那市 | BP15: 0 | BQ15: 100 | BR15: … | BS15: … | BT15: 0 | BU15: 251 | BV15: - | BW15: - | BX15: … | BY15: … | BZ15: - | CA15: 337 | CB15: - | CC15: - | CD15: … | CE15: … | CF15: - | CG15: 352 | CH15: - | CI15: - | CJ15: … | CK15: … | CL15: - | CM15: 300 | CN15: - | CO15: - | CP15: - | CQ15: - | CR15: - | CS15: 228 | CT15: 0 | CU15: 120 | CV15: 120 | CW15: - | CX15: 0 | CZ15: 0 | DA15: 120 | DB15: 120 | DC15: - | DD15: 0 | DE15: 310 | DF15: x | DG15: x | DH15: x | DI15: - | DJ15: x | DK15: 327
A16: 岐阜県美濃加茂市 | B16: x | C16: x | D16: x | E16: - | F16: x | G16: x | H16: x | I16: x | J16: - | K16: x | L16: x | M16: x | N16: x | O16: - | P16: x | Q16: x | R16: x | S16: x | T16: - | U16: x | V16: x | W16: x | X16: x | Y16: - | Z16: x | AA16: x | AB16: x | AC16: x | AD16: - | AE16: x | AF16: x | AG16: x | AH16: x | AI16: - | AJ16: x | AK16: x | AL16: x | AM16: x | AN16: - | AO16: x | AP16: x | AQ16: x | AR16: x | AS16: - | AT16: x | AU16: 13 | AV16: 265 | AW16: 265 | AX16: - | AY16: 34 | AZ16: 275 | BA16: 275 | BB16: 312 | BC16: 292 | BD16: 355 | BE16: 341 | BF16: 318 | BG16: 358 | BH16: 353 | BI16: 296 | BL16: 21211 | BM16: 美濃加茂市 | BP16: x | BQ16: x | BR16: … | BS16: … | BT16: x | BU16: 251 | BV16: x | BW16: x | BX16: … | BY16: … | BZ16: x | CA16: 337 | CB16: x | CC16: x | CD16: … | CE16: … | CF16: x | CG16: 352 | CH16: x | CI16: x | CJ16: … | CK16: … | CL16: x | CM16: 300 | CN16: x | CO16: x | CP16: x | CQ16: - | CR16: x | CS16: 228 | CT16: x | CU16: x | CV16: x | CW16: - | CX16: x | CZ16: x | DA16: x | DB16: x | DC16: - | DD16: x | DE16: 310 | DF16: x | DG16: x | DH16: x | DI16: - | DJ16: x | DK16: 327
A17: 岐阜県土岐市 | B17: - | C17: - | D17: - | E17: - | F17: - | G17: - | H17: - | I17: - | J17: - | K17: - | L17: - | M17: - | N17: - | O17: - | P17: - | Q17: - | R17: - | S17: - | T17: - | U17: - | V17: - | W17: - | X17: - | Y17: - | Z17: - | AA17: - | AB17: - | AC17: - | AD17: - | AE17: - | AF17: - | AG17: - | AH17: - | AI17: - | AJ17: - | AK17: - | AL17: - | AM17: - | AN17: - | AO17: - | AP17: - | AQ17: - | AR17: - | AS17: - | AT17: - | AU17: - | AV17: - | AW17: - | AX17: - | AY17: - | AZ17: 275 | BA17: 275 | BB17: 312 | BC17: 292 | BD17: 355 | BE17: 341 | BF17: 318 | BG17: 358 | BH17: 353 | BI17: 296 | BL17: 21212 | BM17: 土岐市 | BP17: 0 | BQ17: 130 | BR17: … | BS17: … | BT17: 0 | BU17: 251 | BV17: - | BW17: - | BX17: … | BY17: … | BZ17: - | CA17: 337 | CB17: - | CC17: - | CD17: … | CE17: … | CF17: - | CG17: 352 | CH17: - | CI17: - | CJ17: … | CK17: … | CL17: - | CM17: 300 | CN17: - | CO17: - | CP17: - | CQ17: - | CR17: - | CS17: 228 | CT17: - | CU17: - | CV17: - | CW17: - | CX17: - | CZ17: - | DA17: - | DB17: - | DC17: - | DD17: - | DE17: 310 | DF17: - | DG17: - | DH17: - | DI17: - | DJ17: - | DK17: 327
A18: 岐阜県各務原市 | B18: - | C18: - | D18: - | E18: - | F18: - | G18: - | H18: - | I18: - | J18: - | K18: - | L18: - | M18: - | N18: - | O18: - | P18: - | Q18: - | R18: - | S18: - | T18: - | U18: - | V18: - | W18: - | X18: - | Y18: - | Z18: - | AA18: - | AB18: - | AC18: - | AD18: - | AE18: - | AF18: x | AG18: x | AH18: x | AI18: - | AJ18: x | AK18: x | AL18: x | AM18: x | AN18: - | AO18: x | AP18: x | AQ18: x | AR18: x | AS18: - | AT18: x | AU18: x | AV18: x | AW18: x | AX18: - | AY18: x | AZ18: 275 | BA18: 275 | BB18: 312 | BC18: 292 | BD18: 355 | BE18: 341 | BF18: 318 | BG18: 358 | BH18: 353 | BI18: 296 | BL18: 21213 | BM18: 各務原市 | BP18: x | BQ18: 210 | BR18: … | BS18: … | BT18: x | BU18: 251 | BV18: - | BW18: - | BX18: … | BY18: … | BZ18: - | CA18: 337 | CB18: - | CC18: - | CD18: … | CE18: … | CF18: - | CG18: 352 | CH18: - | CI18: - | CJ18: … | CK18: … | CL18: - | CM18: 300 | CN18: - | CO18: - | CP18: - | CQ18: - | CR18: - | CS18: 228 | CT18: - | CU18: - | CV18: - | CW18: - | CX18: - | CZ18: - | DA18: - | DB18: - | DC18: - | DD18: - | DE18: 310 | DF18: - | DG18: - | DH18: - | DI18: - | DJ18: - | DK18: 327
A19: 岐阜県可児市 | B19: - | C19: - | D19: - | E19: - | F19: - | G19: - | H19: - | I19: - | J19: - | K19: - | L19: - | M19: - | N19: - | O19: - | P19: - | Q19: - | R19: - | S19: - | T19: - | U19: - | V19: - | W19: - | X19: - | Y19: - | Z19: - | AA19: - | AB19: - | AC19: - | AD19: - | AE19: - | AF19: - | AG19: - | AH19: - | AI19: - | AJ19: - | AK19: - | AL19: - | AM19: - | AN19: - | AO19: - | AP19: - | AQ19: - | AR19: - | AS19: - | AT19: - | AU19: - | AV19: - | AW19: - | AX19: - | AY19: - | AZ19: 275 | BA19: 275 | BB19: 312 | BC19: 292 | BD19: 355 | BE19: 341 | BF19: 318 | BG19: 358 | BH19: 353 | BI19: 296 | BL19: 21214 | BM19: 可児市 | BP19: - | BQ19: - | BR19: … | BS19: … | BT19: - | BU19: 251 | BV19: - | BW19: - | BX19: … | BY19: … | BZ19: - | CA19: 337 | CB19: - | CC19: - | CD19: … | CE19: … | CF19: - | CG19: 352 | CH19: - | CI19: - | CJ19: … | CK19: … | CL19: - | CM19: 300 | CN19: x | CO19: x | CP19: x | CQ19: - | CR19: x | CS19: 228 | CT19: - | CU19: - | CV19: - | CW19: - | CX19: - | CZ19: - | DA19: - | DB19: - | DC19: - | DD19: - | DE19: 310 | DF19: - | DG19: - | DH19: - | DI19: - | DJ19: - | DK19: 327
A20: 岐阜県山県市 | B20: x | C20: x | D20: x | E20: - | F20: x | G20: x | H20: x | I20: x | J20: - | K20: x | L20: x | M20: x | N20: x | O20: - | P20: x | Q20: x | R20: x | S20: x | T20: - | U20: x | V20: x | W20: x | X20: x | Y20: - | Z20: x | AA20: 32 | AB20: 191 | AC20: 191 | AD20: - | AE20: 61 | AF20: x | AG20: x | AH20: x | AI20: - | AJ20: x | AK20: 33 | AL20: 167 | AM20: 167 | AN20: - | AO20: 55 | AP20: 37 | AQ20: 132 | AR20: 132 | AS20: - | AT20: 49 | AU20: 41 | AV20: 88 | AW20: 88 | AX20: - | AY20: 36 | AZ20: 275 | BA20: 275 | BB20: 312 | BC20: 292 | BD20: 355 | BE20: 341 | BF20: 318 | BG20: 358 | BH20: 353 | BI20: 296 | BL20: 21215 | BM20: 山県市 | BP20: - | BQ20: - | BR20: … | BS20: … | BT20: - | BU20: 251 | BV20: - | BW20: - | BX20: … | BY20: … | BZ20: - | CA20: 337 | CB20: - | CC20: - | CD20: … | CE20: … | CF20: - | CG20: 352 | CH20: - | CI20: - | CJ20: … | CK20: … | CL20: - | CM20: 300 | CN20: - | CO20: - | CP20: - | CQ20: - | CR20: - | CS20: 228 | CT20: - | CU20: - | CV20: - | CW20: - | CX20: - | CZ20: - | DA20: - | DB20: - | DC20: - | DD20: - | DE20: 310 | DF20: - | DG20: - | DH20: - | DI20: - | DJ20: - | DK20: 327
A21: 岐阜県瑞穂市 | B21: 38 | C21: 168 | D21: 168 | E21: - | F21: 64 | G21: 21 | H21: 205 | I21: 205 | J21: - | K21: 43 | L21: x | M21: x | N21: x | O21: - | P21: x | Q21: 47 | R21: 170 | S21: 170 | T21: - | U21: 80 | V21: x | W21: x | X21: x | Y21: - | Z21: x | AA21: 36 | AB21: 314 | AC21: 314 | AD21: - | AE21: 113 | AF21: 38 | AG21: 274 | AH21: 274 | AI21: - | AJ21: 104 | AK21: 42 | AL21: 295 | AM21: 295 | AN21: - | AO21: 124 | AP21: 46 | AQ21: 304 | AR21: 304 | AS21: - | AT21: 140 | AU21: 49 | AV21: 276 | AW21: 276 | AX21: - | AY21: 135 | AZ21: 275 | BA21: 275 | BB21: 312 | BC21: 292 | BD21: 355 | BE21: 341 | BF21: 318 | BG21: 358 | BH21: 353 | BI21: 296 | BL21: 21216 | BM21: 瑞穂市 | BP21: x | BQ21: x | BR21: … | BS21: … | BT21: x | BU21: 251 | BV21: x | BW21: x | BX21: … | BY21: … | BZ21: x | CA21: 337 | CB21: x | CC21: x | CD21: … | CE21: … | CF21: x | CG21: 352 | CH21: x | CI21: x | CJ21: … | CK21: … | CL21: x | CM21: 300 | CN21: 35 | CO21: 109 | CP21: 109 | CQ21: - | CR21: 38 | CS21: 228 | CT21: 30 | CU21: 210 | CV21: 210 | CW21: - | CX21: 63 | CZ21: 19 | DA21: 200 | DB21: 200 | DC21: - | DD21: 38 | DE21: 310 | DF21: 43 | DG21: 228 | DH21: 228 | DI21: - | DJ21: 98 | DK21: 327
A22: 岐阜県飛騨市 | B22: x | C22: x | D22: x | E22: - | F22: x | G22: - | H22: - | I22: - | J22: - | K22: - | L22: - | M22: - | N22: - | O22: - | P22: - | Q22: - | R22: - | S22: - | T22: - | U22: - | V22: - | W22: - | X22: - | Y22: - | Z22: - | AA22: - | AB22: - | AC22: - | AD22: - | AE22: - | AF22: - | AG22: - | AH22: - | AI22: - | AJ22: - | AK22: - | AL22: - | AM22: - | AN22: - | AO22: - | AP22: x | AQ22: x | AR22: x | AS22: - | AT22: x | AU22: x | AV22: x | AW22: x | AX22: - | AY22: x | AZ22: 275 | BA22: 275 | BB22: 312 | BC22: 292 | BD22: 355 | BE22: 341 | BF22: 318 | BG22: 358 | BH22: 353 | BI22: 296 | BL22: 21217 | BM22: 飛騨市 | BP22: - | BQ22: - | BR22: … | BS22: … | BT22: - | BU22: 251 | BV22: - | BW22: - | BX22: … | BY22: … | BZ22: - | CA22: 337 | CB22: - | CC22: - | CD22: … | CE22: … | CF22: - | CG22: 352 | CH22: - | CI22: - | CJ22: … | CK22: … | CL22: - | CM22: 300 | CN22: - | CO22: - | CP22: - | CQ22: - | CR22: - | CS22: 228 | CT22: x | CU22: x | CV22: x | CW22: - | CX22: x | CZ22: x | DA22: x | DB22: x | DC22: - | DD22: x | DE22: 310 | DF22: x | DG22: x | DH22: x | DI22: - | DJ22: x | DK22: 327
A23: 岐阜県本巣市 | B23: 116 | C23: 236 | D23: 236 | E23: - | F23: 274 | G23: 108 | H23: 246 | I23: 246 | J23: - | K23: 266 | L23: 115 | M23: 320 | N23: 320 | O23: - | P23: 368 | Q23: 123 | R23: 287 | S23: 287 | T23: - | U23: 353 | V23: 119 | W23: 396 | X23: 396 | Y23: - | Z23: 471 | AA23: 133 | AB23: 363 | AC23: 363 | AD23: - | AE23: 483 | AF23: 144 | AG23: 285 | AH23: 285 | AI23: - | AJ23: 411 | AK23: 154 | AL23: 342 | AM23: 342 | AN23: - | AO23: 527 | AP23: 155 | AQ23: 293 | AR23: 293 | AS23: - | AT23: 454 | AU23: 158 | AV23: 251 | AW23: 251 | AX23: - | AY23: 397 | AZ23: 275 | BA23: 275 | BB23: 312 | BC23: 292 | BD23: 355 | BE23: 341 | BF23: 318 | BG23: 358 | BH23: 353 | BI23: 296 | BL23: 21218 | BM23: 本巣市 | BP23: 37 | BQ23: 267 | BR23: … | BS23: … | BT23: 99 | BU23: 251 | BV23: 40 | BW23: 418 | BX23: … | BY23: … | BZ23: 167 | CA23: 337 | CB23: 64 | CC23: 313 | CD23: … | CE23: … | CF23: 200 | CG23: 352 | CH23: 75 | CI23: 332 | CJ23: … | CK23: … | CL23: 249 | CM23: 300 | CN23: 96 | CO23: 253 | CP23: 253 | CQ23: - | CR23: 243 | CS23: 228 | CT23: 110 | CU23: 283 | CV23: 283 | CW23: - | CX23: 311 | CZ23: 113 | DA23: 294 | DB23: 294 | DC23: - | DD23: 332 | DE23: 310 | DF23: 111 | DG23: 307 | DH23: 307 | DI23: - | DJ23: 341 | DK23: 327
A24: 岐阜県郡上市 | B24: - | C24: - | D24: - | E24: - | F24: - | G24: - | H24: - | I24: - | J24: - | K24: - | L24: - | M24: - | N24: - | O24: - | P24: - | Q24: - | R24: - | S24: - | T24: - | U24: - | V24: - | W24: - | X24: - | Y24: - | Z24: - | AA24: - | AB24: - | AC24: - | AD24: - | AE24: - | AF24: - | AG24: - | AH24: - | AI24: - | AJ24: - | AK24: x | AL24: x | AM24: x | AN24: - | AO24: x | AP24: x | AQ24: x | AR24: x | AS24: - | AT24: x | AU24: - | AV24: - | AW24: - | AX24: - | AY24: - | AZ24: 275 | BA24: 275 | BB24: 312 | BC24: 292 | BD24: 355 | BE24: 341 | BF24: 318 | BG24: 358 | BH24: 353 | BI24: 296 | BL24: 21219 | BM24: 郡上市 | BP24: 39 | BQ24: 150 | BR24: … | BS24: … | BT24: 59 | BU24: 251 | BV24: 33 | BW24: 203 | BX24: … | BY24: … | BZ24: 67 | CA24: 337 | CB24: 22 | CC24: 236 | CD24: … | CE24: … | CF24: 52 | CG24: 352 | CH24: 21 | CI24: 195 | CJ24: … | CK24: … | CL24: 41 | CM24: 300 | CN24: x | CO24: x | CP24: x | CQ24: - | CR24: x | CS24: 228 | CT24: - | CU24: - | CV24: - | CW24: - | CX24: - | CZ24: - | DA24: - | DB24: - | DC24: - | DD24: - | DE24: 310 | DF24: - | DG24: - | DH24: - | DI24: - | DJ24: - | DK24: 327
A25: 岐阜県下呂市 | B25: - | C25: - | D25: - | E25: - | F25: - | G25: - | H25: - | I25: - | J25: - | K25: - | L25: - | M25: - | N25: - | O25: - | P25: - | Q25: - | R25: - | S25: - | T25: - | U25: - | V25: - | W25: - | X25: - | Y25: - | Z25: - | AA25: - | AB25: - | AC25: - | AD25: - | AE25: - | AF25: - | AG25: - | AH25: - | AI25: - | AJ25: - | AK25: - | AL25: - | AM25: - | AN25: - | AO25: - | AP25: - | AQ25: - | AR25: - | AS25: - | AT25: - | AU25: - | AV25: - | AW25: - | AX25: - | AY25: - | AZ25: 275 | BA25: 275 | BB25: 312 | BC25: 292 | BD25: 355 | BE25: 341 | BF25: 318 | BG25: 358 | BH25: 353 | BI25: 296 | BL25: 21220 | BM25: 下呂市 | BP25: - | BQ25: - | BR25: … | BS25: … | BT25: - | BU25: 251 | BV25: - | BW25: - | BX25: … | BY25: … | BZ25: - | CA25: 337 | CB25: - | CC25: - | CD25: … | CE25: … | CF25: - | CG25: 352 | CH25: x | CI25: x | CJ25: … | CK25: … | CL25: x | CM25: 300 | CN25: - | CO25: - | CP25: - | CQ25: - | CR25: - | CS25: 228 | CT25: - | CU25: - | CV25: - | CW25: - | CX25: - | CZ25: - | DA25: - | DB25: - | DC25: - | DD25: - | DE25: 310 | DF25: - | DG25: - | DH25: - | DI25: - | DJ25: - | DK25: 327
A26: 岐阜県海津市 | B26: 1000 | C26: 401 | D26: 401 | E26: x | F26: 4020 | G26: 994 | H26: 367 | I26: 367 | J26: x | K26: 3650 | L26: 985 | M26: 442 | N26: 442 | O26: x | P26: 4350 | Q26: 980 | R26: 399 | S26: 399 | T26: x | U26: 3910 | V26: 1030 | W26: 451 | X26: 451 | Y26: x | Z26: 4650 | AA26: 1000 | AB26: 428 | AC26: 428 | AD26: x | AE26: 4290 | AF26: 1010 | AG26: 442 | AH26: 442 | AI26: x | AJ26: 4460 | AK26: 1040 | AL26: 447 | AM26: 448 | AN26: x | AO26: 4660 | AP26: 1050 | AQ26: 474 | AR26: 474 | AS26: x | AT26: 4980 | AU26: 1100 | AV26: 410 | AW26: 410 | AX26: x | AY26: 4500 | AZ26: 275 | BA26: 275 | BB26: 312 | BC26: 292 | BD26: 355 | BE26: 341 | BF26: 318 | BG26: 358 | BH26: 353 | BI26: 296 | BL26: 21221 | BM26: 海津市 | BP26: 904 | BQ26: 308 | BR26: … | BS26: … | BT26: 2790 | BU26: 251 | BV26: 904 | BW26: 407 | BX26: … | BY26: … | BZ26: 3680 | CA26: 337 | CB26: 952 | CC26: 446 | CD26: … | CE26: … | CF26: 4250 | CG26: 352 | CH26: 907 | CI26: 405 | CJ26: … | CK26: … | CL26: 3680 | CM26: 300 | CN26: 899 | CO26: 276 | CP26: 276 | CQ26: 350 | CR26: 2490 | CS26: 228 | CT26: 940 | CU26: 445 | CV26: 445 | CW26: 300 | CX26: 4180 | CZ26: 948 | DA26: 411 | DB26: 411 | DC26: 300 | DD26: 3900 | DE26: 310 | DF26: 948 | DG26: 440 | DH26: 440 | DI26: x | DJ26: 4170 | DK26: 327
A27: 岐阜県岐南町 | B27: - | C27: - | D27: - | E27: - | F27: - | G27: - | H27: - | I27: - | J27: - | K27: - | L27: - | M27: - | N27: - | O27: - | P27: - | Q27: - | R27: - | S27: - | T27: - | U27: - | V27: - | W27: - | X27: - | Y27: - | Z27: - | AA27: - | AB27: - | AC27: - | AD27: - | AE27: - | AF27: - | AG27: - | AH27: - | AI27: - | AJ27: - | AK27: - | AL27: - | AM27: - | AN27: - | AO27: - | AP27: - | AQ27: - | AR27: - | AS27: - | AT27: - | AU27: - | AV27: - | AW27: - | AX27: - | AY27: - | AZ27: 275 | BA27: 275 | BB27: 312 | BC27: 292 | BD27: 355 | BE27: 341 | BF27: 318 | BG27: 358 | BH27: 353 | BI27: 296 | BL27: 21302 | BM27: 岐南町 | BP27: - | BQ27: - | BR27: … | BS27: … | BT27: - | BU27: 251 | BV27: - | BW27: - | BX27: … | BY27: … | BZ27: - | CA27: 337 | CB27: - | CC27: - | CD27: … | CE27: … | CF27: - | CG27: 352 | CH27: - | CI27: - | CJ27: … | CK27: … | CL27: - | CM27: 300 | CN27: - | CO27: - | CP27: - | CQ27: - | CR27: - | CS27: 228 | CT27: - | CU27: - | CV27: - | CW27: - | CX27: - | CZ27: - | DA27: - | DB27: - | DC27: - | DD27: - | DE27: 310 | DF27: - | DG27: - | DH27: - | DI27: - | DJ27: - | DK27: 327
A28: 岐阜県笠松町 | B28: - | C28: - | D28: - | E28: - | F28: - | G28: - | H28: - | I28: - | J28: - | K28: - | L28: - | M28: - | N28: - | O28: - | P28: - | Q28: - | R28: - | S28: - | T28: - | U28: - | V28: - | W28: - | X28: - | Y28: - | Z28: - | AA28: - | AB28: - | AC28: - | AD28: - | AE28: - | AF28: - | AG28: - | AH28: - | AI28: - | AJ28: - | AK28: - | AL28: - | AM28: - | AN28: - | AO28: - | AP28: - | AQ28: - | AR28: - | AS28: - | AT28: - | AU28: - | AV28: - | AW28: - | AX28: - | AY28: - | AZ28: 275 | BA28: 275 | BB28: 312 | BC28: 292 | BD28: 355 | BE28: 341 | BF28: 318 | BG28: 358 | BH28: 353 | BI28: 296 | BL28: 21303 | BM28: 笠松町 | BP28: - | BQ28: - | BR28: … | BS28: … | BT28: - | BU28: 251 | BV28: - | BW28: - | BX28: … | BY28: … | BZ28: - | CA28: 337 | CB28: - | CC28: - | CD28: … | CE28: … | CF28: - | CG28: 352 | CH28: - | CI28: - | CJ28: … | CK28: … | CL28: - | CM28: 300 | CN28: - | CO28: - | CP28: - | CQ28: - | CR28: - | CS28: 228 | CT28: - | CU28: - | CV28: - | CW28: - | CX28: - | CZ28: - | DA28: - | DB28: - | DC28: - | DD28: - | DE28: 310 | DF28: - | DG28: - | DH28: - | DI28: - | DJ28: - | DK28: 327
A29: 岐阜県養老町 | B29: 231 | C29: 239 | D29: 239 | E29: - | F29: 552 | G29: 238 | H29: 289 | I29: 289 | J29: - | K29: 688 | L29: 238 | M29: 232 | N29: 232 | O29: - | P29: 552 | Q29: 245 | R29: 223 | S29: 223 | T29: - | U29: 546 | V29: 200 | W29: 329 | X29: 329 | Y29: - | Z29: 658 | AA29: 245 | AB29: 331 | AC29: 331 | AD29: - | AE29: 811 | AF29: 252 | AG29: 273 | AH29: 273 | AI29: - | AJ29: 688 | AK29: 246 | AL29: 346 | AM29: 346 | AN29: - | AO29: 852 | AP29: 254 | AQ29: 336 | AR29: 336 | AS29: - | AT29: 853 | AU29: 219 | AV29: 275 | AW29: 275 | AX29: - | AY29: 602 | AZ29: 275 | BA29: 275 | BB29: 312 | BC29: 292 | BD29: 355 | BE29: 341 | BF29: 318 | BG29: 358 | BH29: 353 | BI29: 296 | BL29: 21341 | BM29: 養老町 | BP29: 174 | BQ29: 174 | BR29: … | BS29: … | BT29: 303 | BU29: 251 | BV29: 145 | BW29: 328 | BX29: … | BY29: … | BZ29: 476 | CA29: 337 | CB29: 192 | CC29: 280 | CD29: … | CE29: … | CF29: 538 | CG29: 352 | CH29: 185 | CI29: 235 | CJ29: … | CK29: … | CL29: 434 | CM29: 300 | CN29: 213 | CO29: 194 | CP29: 194 | CQ29: - | CR29: 413 | CS29: 228 | CT29: 223 | CU29: 282 | CV29: 282 | CW29: - | CX29: 629 | CZ29: 221 | DA29: 258 | DB29: 258 | DC29: - | DD29: 570 | DE29: 310 | DF29: 238 | DG29: 274 | DH29: 274 | DI29: - | DJ29: 652 | DK29: 327
A30: 岐阜県垂井町 | B30: 257 | C30: 230 | D30: 230 | E30: - | F30: 591 | G30: 249 | H30: 228 | I30: 228 | J30: - | K30: 568 | L30: 251 | M30: 240 | N30: 240 | O30: - | P30: 602 | Q30: 243 | R30: 256 | S30: 256 | T30: - | U30: 622 | V30: 269 | W30: 279 | X30: 279 | Y30: - | Z30: 751 | AA30: 253 | AB30: 304 | AC30: 304 | AD30: - | AE30: 769 | AF30: 264 | AG30: 312 | AH30: 312 | AI30: - | AJ30: 824 | AK30: 256 | AL30: 319 | AM30: 319 | AN30: - | AO30: 816 | AP30: 266 | AQ30: 338 | AR30: 338 | AS30: - | AT30: 900 | AU30: 258 | AV30: 305 | AW30: 305 | AX30: - | AY30: 786 | AZ30: 275 | BA30: 275 | BB30: 312 | BC30: 292 | BD30: 355 | BE30: 341 | BF30: 318 | BG30: 358 | BH30: 353 | BI30: 296 | BL30: 21361 | BM30: 垂井町 | BP30: 139 | BQ30: 225 | BR30: … | BS30: … | BT30: 313 | BU30: 251 | BV30: 168 | BW30: 271 | BX30: … | BY30: … | BZ30: 456 | CA30: 337 | CB30: 195 | CC30: 272 | CD30: … | CE30: … | CF30: 530 | CG30: 352 | CH30: 194 | CI30: 270 | CJ30: … | CK30: … | CL30: 523 | CM30: 300 | CN30: 222 | CO30: 265 | CP30: 265 | CQ30: - | CR30: 589 | CS30: 228 | CT30: 244 | CU30: 318 | CV30: 318 | CW30: - | CX30: 776 | CZ30: 242 | DA30: 289 | DB30: 289 | DC30: - | DD30: 699 | DE30: 310 | DF30: 243 | DG30: 300 | DH30: 300 | DI30: - | DJ30: 729 | DK30: 327
A31: 岐阜県関ケ原町 | B31: x | C31: x | D31: x | E31: - | F31: x | G31: x | H31: x | I31: x | J31: - | K31: x | L31: 13 | M31: 269 | N31: 269 | O31: - | P31: 35 | Q31: 15 | R31: 333 | S31: 333 | T31: - | U31: 50 | V31: x | W31: x | X31: x | Y31: - | Z31: x | AA31: 13 | AB31: 331 | AC31: 331 | AD31: - | AE31: 43 | AF31: 14 | AG31: 302 | AH31: 302 | AI31: - | AJ31: 42 | AK31: 17 | AL31: 235 | AM31: 235 | AN31: - | AO31: 40 | AP31: 15 | AQ31: 353 | AR31: 353 | AS31: - | AT31: 53 | AU31: 12 | AV31: 339 | AW31: 339 | AX31: - | AY31: 41 | AZ31: 275 | BA31: 275 | BB31: 312 | BC31: 292 | BD31: 355 | BE31: 341 | BF31: 318 | BG31: 358 | BH31: 353 | BI31: 296 | BL31: 21362 | BM31: 関ケ原町 | BP31: x | BQ31: x | BR31: … | BS31: … | BT31: x | BU31: 251 | BV31: x | BW31: x | BX31: … | BY31: … | BZ31: x | CA31: 337 | CB31: x | CC31: x | CD31: … | CE31: … | CF31: x | CG31: 352 | CH31: x | CI31: x | CJ31: … | CK31: … | CL31: x | CM31: 300 | CN31: x | CO31: x | CP31: x | CQ31: - | CR31: x | CS31: 228 | CT31: x | CU31: x | CV31: x | CW31: - | CX31: x | CZ31: x | DA31: x | DB31: x | DC31: - | DD31: x | DE31: 310 | DF31: x | DG31: x | DH31: x | DI31: - | DJ31: x | DK31: 327
A32: 岐阜県神戸町 | B32: 180 | C32: 211 | D32: 211 | E32: - | F32: 380 | G32: 187 | H32: 213 | I32: 213 | J32: - | K32: 398 | L32: 169 | M32: 253 | N32: 253 | O32: - | P32: 428 | Q32: 181 | R32: 243 | S32: 243 | T32: - | U32: 440 | V32: 171 | W32: 331 | X32: 331 | Y32: - | Z32: 566 | AA32: 192 | AB32: 303 | AC32: 303 | AD32: - | AE32: 581 | AF32: 167 | AG32: 253 | AH32: 253 | AI32: - | AJ32: 422 | AK32: 174 | AL32: 334 | AM32: 334 | AN32: - | AO32: 581 | AP32: 186 | AQ32: 283 | AR32: 283 | AS32: - | AT32: 526 | AU32: 135 | AV32: 256 | AW32: 256 | AX32: - | AY32: 345 | AZ32: 275 | BA32: 275 | BB32: 312 | BC32: 292 | BD32: 355 | BE32: 341 | BF32: 318 | BG32: 358 | BH32: 353 | BI32: 296 | BL32: 21381 | BM32: 神戸町 | BP32: 128 | BQ32: 214 | BR32: … | BS32: … | BT32: 274 | BU32: 251 | BV32: 137 | BW32: 297 | BX32: … | BY32: … | BZ32: 407 | CA32: 337 | CB32: 138 | CC32: 321 | CD32: … | CE32: … | CF32: 443 | CG32: 352 | CH32: 146 | CI32: 265 | CJ32: … | CK32: … | CL32: 387 | CM32: 300 | CN32: 164 | CO32: 198 | CP32: 198 | CQ32: - | CR32: 324 | CS32: 228 | CT32: 168 | CU32: 268 | CV32: 268 | CW32: - | CX32: 450 | CZ32: 173 | DA32: 242 | DB32: 242 | DC32: - | DD32: 419 | DE32: 310 | DF32: 183 | DG32: 255 | DH32: 255 | DI32: - | DJ32: 467 | DK32: 327
A33: 岐阜県輪之内町 | B33: 180 | C33: 282 | D33: 282 | E33: - | F33: 508 | G33: 186 | H33: 270 | I33: 270 | J33: - | K33: 502 | L33: 189 | M33: 307 | N33: 307 | O33: - | P33: 580 | Q33: 164 | R33: 277 | S33: 277 | T33: - | U33: 454 | V33: 158 | W33: 393 | X33: 393 | Y33: - | Z33: 621 | AA33: 164 | AB33: 354 | AC33: 354 | AD33: - | AE33: 581 | AF33: 167 | AG33: 319 | AH33: 319 | AI33: - | AJ33: 532 | AK33: 169 | AL33: 381 | AM33: 381 | AN33: - | AO33: 644 | AP33: 171 | AQ33: 361 | AR33: 361 | AS33: - | AT33: 618 | AU33: 176 | AV33: 284 | AW33: 284 | AX33: - | AY33: 500 | AZ33: 275 | BA33: 275 | BB33: 312 | BC33: 292 | BD33: 355 | BE33: 341 | BF33: 318 | BG33: 358 | BH33: 353 | BI33: 296 | BL33: 21382 | BM33: 輪之内町 | BP33: 134 | BQ33: 254 | BR33: … | BS33: … | BT33: 341 | BU33: 251 | BV33: 145 | BW33: 298 | BX33: … | BY33: … | BZ33: 432 | CA33: 337 | CB33: 166 | CC33: 411 | CD33: … | CE33: … | CF33: 683 | CG33: 352 | CH33: 164 | CI33: 310 | CJ33: … | CK33: … | CL33: 508 | CM33: 300 | CN33: 177 | CO33: 281 | CP33: 281 | CQ33: - | CR33: 498 | CS33: 228 | CT33: 185 | CU33: 369 | CV33: 369 | CW33: - | CX33: 683 | CZ33: 182 | DA33: 312 | DB33: 312 | DC33: - | DD33: 568 | DE33: 310 | DF33: 180 | DG33: 348 | DH33: 348 | DI33: - | DJ33: 626 | DK33: 327
A34: 岐阜県安八町 | B34: 37 | C34: 170 | D34: 170 | E34: - | F34: 63 | G34: 35 | H34: 197 | I34: 197 | J34: - | K34: 69 | L34: 35 | M34: 243 | N34: 243 | O34: - | P34: 85 | Q34: 32 | R34: 216 | S34: 216 | T34: - | U34: 69 | V34: x | W34: x | X34: x | Y34: - | Z34: x | AA34: 23 | AB34: 336 | AC34: 336 | AD34: - | AE34: 77 | AF34: 22 | AG34: 305 | AH34: 305 | AI34: - | AJ34: 67 | AK34: 20 | AL34: 405 | AM34: 405 | AN34: - | AO34: 81 | AP34: 16 | AQ34: 319 | AR34: 319 | AS34: - | AT34: 51 | AU34: x | AV34: x | AW34: x | AX34: - | AY34: x | AZ34: 275 | BA34: 275 | BB34: 312 | BC34: 292 | BD34: 355 | BE34: 341 | BF34: 318 | BG34: 358 | BH34: 353 | BI34: 296 | BL34: 21383 | BM34: 安八町 | BP34: x | BQ34: 177 | BR34: … | BS34: … | BT34: x | BU34: 251 | BV34: x | BW34: x | BX34: … | BY34: … | BZ34: x | CA34: 337 | CB34: x | CC34: x | CD34: … | CE34: … | CF34: x | CG34: 352 | CH34: x | CI34: 270 | CJ34: … | CK34: … | CL34: x | CM34: 300 | CN34: 41 | CO34: 190 | CP34: 190 | CQ34: - | CR34: 78 | CS34: 228 | CT34: 41 | CU34: 249 | CV34: 249 | CW34: - | CX34: 102 | CZ34: 41 | DA34: 259 | DB34: 259 | DC34: - | DD34: 106 | DE34: 310 | DF34: 37 | DG34: 227 | DH34: 227 | DI34: - | DJ34: 84 | DK34: 327
A35: 岐阜県揖斐川町 | B35: 214 | C35: 174 | D35: 174 | E35: - | F35: 372 | G35: 216 | H35: 226 | I35: 226 | J35: - | K35: 488 | L35: 240 | M35: 198 | N35: 198 | O35: - | P35: 475 | Q35: 192 | R35: 172 | S35: 172 | T35: - | U35: 330 | V35: 243 | W35: 240 | X35: 240 | Y35: - | Z35: 583 | AA35: 225 | AB35: 246 | AC35: 246 | AD35: - | AE35: 553 | AF35: 227 | AG35: 189 | AH35: 189 | AI35: - | AJ35: 429 | AK35: 227 | AL35: 248 | AM35: 248 | AN35: - | AO35: 563 | AP35: 238 | AQ35: 235 | AR35: 235 | AS35: - | AT35: 560 | AU35: 267 | AV35: 175 | AW35: 175 | AX35: - | AY35: 467 | AZ35: 275 | BA35: 275 | BB35: 312 | BC35: 292 | BD35: 355 | BE35: 341 | BF35: 318 | BG35: 358 | BH35: 353 | BI35: 296 | BL35: 21401 | BM35: 揖斐川町 | BP35: 259 | BQ35: 199 | BR35: … | BS35: … | BT35: 515 | BU35: 251 | BV35: 299 | BW35: 295 | BX35: … | BY35: … | BZ35: 883 | CA35: 337 | CB35: 268 | CC35: 287 | CD35: … | CE35: … | CF35: 768 | CG35: 352 | CH35: 276 | CI35: 232 | CJ35: … | CK35: … | CL35: 639 | CM35: 300 | CN35: 259 | CO35: 174 | CP35: 174 | CQ35: - | CR35: 451 | CS35: 228 | CT35: 232 | CU35: 275 | CV35: 275 | CW35: - | CX35: 637 | CZ35: 227 | DA35: 225 | DB35: 225 | DC35: - | DD35: 511 | DE35: 310 | DF35: 207 | DG35: 259 | DH35: 259 | DI35: - | DJ35: 536 | DK35: 327
A36: 岐阜県大野町 | B36: 179 | C36: 281 | D36: 281 | E36: - | F36: 503 | G36: 192 | H36: 295 | I36: 295 | J36: - | K36: 566 | L36: 181 | M36: 287 | N36: 287 | O36: - | P36: 519 | Q36: 181 | R36: 310 | S36: 310 | T36: - | U36: 561 | V36: 196 | W36: 320 | X36: 320 | Y36: - | Z36: 627 | AA36: 211 | AB36: 329 | AC36: 329 | AD36: - | AE36: 695 | AF36: 201 | AG36: 346 | AH36: 346 | AI36: - | AJ36: 696 | AK36: 208 | AL36: 379 | AM36: 379 | AN36: - | AO36: 789 | AP36: 228 | AQ36: 369 | AR36: 369 | AS36: - | AT36: 841 | AU36: 190 | AV36: 332 | AW36: 332 | AX36: - | AY36: 630 | AZ36: 275 | BA36: 275 | BB36: 312 | BC36: 292 | BD36: 355 | BE36: 341 | BF36: 318 | BG36: 358 | BH36: 353 | BI36: 296 | BL36: 21403 | BM36: 大野町 | BP36: 84 | BQ36: 248 | BR36: … | BS36: … | BT36: 208 | BU36: 251 | BV36: 105 | BW36: 355 | BX36: … | BY36: … | BZ36: 373 | CA36: 337 | CB36: 125 | CC36: 336 | CD36: … | CE36: … | CF36: 420 | CG36: 352 | CH36: 118 | CI36: 303 | CJ36: … | CK36: … | CL36: 358 | CM36: 300 | CN36: 129 | CO36: 224 | CP36: 224 | CQ36: - | CR36: 289 | CS36: 228 | CT36: 149 | CU36: 231 | CV36: 231 | CW36: - | CX36: 344 | CZ36: 170 | DA36: 337 | DB36: 337 | DC36: - | DD36: 573 | DE36: 310 | DF36: 173 | DG36: 333 | DH36: 333 | DI36: - | DJ36: 576 | DK36: 327
A37: 岐阜県池田町 | B37: 184 | C37: 197 | D37: 197 | E37: - | F37: 362 | G37: 186 | H37: 234 | I37: 234 | J37: - | K37: 435 | L37: 149 | M37: 208 | N37: 208 | O37: - | P37: 310 | Q37: 164 | R37: 197 | S37: 197 | T37: - | U37: 323 | V37: 182 | W37: 237 | X37: 237 | Y37: - | Z37: 431 | AA37: 176 | AB37: 252 | AC37: 252 | AD37: - | AE37: 443 | AF37: 189 | AG37: 214 | AH37: 214 | AI37: - | AJ37: 405 | AK37: 215 | AL37: 255 | AM37: 255 | AN37: - | AO37: 548 | AP37: 185 | AQ37: 244 | AR37: 244 | AS37: - | AT37: 451 | AU37: 246 | AV37: 189 | AW37: 189 | AX37: - | AY37: 465 | AZ37: 275 | BA37: 275 | BB37: 312 | BC37: 292 | BD37: 355 | BE37: 341 | BF37: 318 | BG37: 358 | BH37: 353 | BI37: 296 | BL37: 21404 | BM37: 池田町 | BP37: 163 | BQ37: 206 | BR37: … | BS37: … | BT37: 335 | BU37: 251 | BV37: 172 | BW37: 301 | BX37: … | BY37: … | BZ37: 517 | CA37: 337 | CB37: 187 | CC37: 305 | CD37: … | CE37: … | CF37: 571 | CG37: 352 | CH37: 192 | CI37: 241 | CJ37: … | CK37: … | CL37: 463 | CM37: 300 | CN37: 174 | CO37: 183 | CP37: 183 | CQ37: - | CR37: 319 | CS37: 228 | CT37: 190 | CU37: 48 | CV37: 48 | CW37: - | CX37: 92 | CZ37: 193 | DA37: 233 | DB37: 233 | DC37: - | DD37: 450 | DE37: 310 | DF37: 222 | DG37: 248 | DH37: 248 | DI37: - | DJ37: 551 | DK37: 327
A38: 岐阜県北方町 | B38: 8 | C38: 350 | D38: 350 | E38: - | F38: 28 | G38: 15 | H38: 373 | I38: 373 | J38: - | K38: 56 | L38: 11 | M38: 436 | N38: 436 | O38: - | P38: 48 | Q38: 10 | R38: 380 | S38: 380 | T38: - | U38: 38 | V38: 10 | W38: 390 | X38: 390 | Y38: - | Z38: 39 | AA38: 12 | AB38: 351 | AC38: 351 | AD38: - | AE38: 42 | AF38: 11 | AG38: 356 | AH38: 356 | AI38: - | AJ38: 39 | AK38: 9 | AL38: 371 | AM38: 371 | AN38: - | AO38: 33 | AP38: 9 | AQ38: 373 | AR38: 373 | AS38: - | AT38: 32 | AU38: x | AV38: x | AW38: x | AX38: - | AY38: x | AZ38: 275 | BA38: 275 | BB38: 312 | BC38: 292 | BD38: 355 | BE38: 341 | BF38: 318 | BG38: 358 | BH38: 353 | BI38: 296 | BL38: 21421 | BM38: 北方町 | BP38: x | BQ38: 358 | BR38: … | BS38: … | BT38: x | BU38: 251 | BV38: x | BW38: x | BX38: … | BY38: … | BZ38: x | CA38: 337 | CB38: x | CC38: x | CD38: … | CE38: … | CF38: x | CG38: 352 | CH38: x | CI38: x | CJ38: … | CK38: … | CL38: x | CM38: 300 | CN38: 15 | CO38: 387 | CP38: 387 | CQ38: - | CR38: 58 | CS38: 228 | CT38: 9 | CU38: 333 | CV38: 333 | CW38: - | CX38: 30 | CZ38: 15 | DA38: 367 | DB38: 367 | DC38: - | DD38: 55 | DE38: 310 | DF38: 11 | DG38: 400 | DH38: 400 | DI38: - | DJ38: 44 | DK38: 327
A39: 岐阜県坂祝町 | B39: - | C39: - | D39: - | E39: - | F39: - | G39: - | H39: - | I39: - | J39: - | K39: - | L39: x | M39: x | N39: x | O39: - | P39: x | Q39: - | R39: - | S39: - | T39: - | U39: - | V39: x | W39: x | X39: x | Y39: - | Z39: x | AA39: x | AB39: x | AC39: x | AD39: - | AE39: x | AF39: - | AG39: - | AH39: - | AI39: - | AJ39: - | AK39: - | AL39: - | AM39: - | AN39: - | AO39: - | AP39: - | AQ39: - | AR39: - | AS39: - | AT39: - | AU39: - | AV39: - | AW39: - | AX39: - | AY39: - | AZ39: 275 | BA39: 275 | BB39: 312 | BC39: 292 | BD39: 355 | BE39: 341 | BF39: 318 | BG39: 358 | BH39: 353 | BI39: 296 | BL39: 21501 | BM39: 坂祝町 | BP39: - | BQ39: - | BR39: … | BS39: … | BT39: - | BU39: 251 | BV39: x | BW39: x | BX39: … | BY39: … | BZ39: x | CA39: 337 | CB39: - | CC39: - | CD39: … | CE39: … | CF39: - | CG39: 352 | CH39: x | CI39: x | CJ39: … | CK39: … | CL39: x | CM39: 300 | CN39: - | CO39: - | CP39: - | CQ39: - | CR39: - | CS39: 228 | CT39: - | CU39: - | CV39: - | CW39: - | CX39: - | CZ39: - | DA39: - | DB39: - | DC39: - | DD39: - | DE39: 310 | DF39: - | DG39: - | DH39: - | DI39: - | DJ39: - | DK39: 327
A40: 岐阜県富加町 | B40: x | C40: x | D40: x | E40: - | F40: x | G40: x | H40: x | I40: x | J40: - | K40: x | L40: x | M40: x | N40: x | O40: - | P40: x | Q40: x | R40: x | S40: x | T40: - | U40: x | V40: x | W40: x | X40: x | Y40: - | Z40: x | AA40: x | AB40: x | AC40: x | AD40: - | AE40: x | AF40: 17 | AG40: 240 | AH40: 240 | AI40: - | AJ40: 41 | AK40: 24 | AL40: 363 | AM40: 363 | AN40: - | AO40: 87 | AP40: 28 | AQ40: 293 | AR40: 293 | AS40: - | AT40: 82 | AU40: 24 | AV40: 202 | AW40: 202 | AX40: - | AY40: 48 | AZ40: 275 | BA40: 275 | BB40: 312 | BC40: 292 | BD40: 355 | BE40: 341 | BF40: 318 | BG40: 358 | BH40: 353 | BI40: 296 | BL40: 21502 | BM40: 富加町 | BP40: 11 | BQ40: 200 | BR40: … | BS40: … | BT40: 22 | BU40: 251 | BV40: x | BW40: x | BX40: … | BY40: … | BZ40: x | CA40: 337 | CB40: x | CC40: x | CD40: … | CE40: … | CF40: x | CG40: 352 | CH40: x | CI40: x | CJ40: … | CK40: … | CL40: x | CM40: 300 | CN40: x | CO40: x | CP40: x | CQ40: - | CR40: x | CS40: 228 | CT40: x | CU40: x | CV40: x | CW40: - | CX40: x | CZ40: x | DA40: x | DB40: x | DC40: - | DD40: x | DE40: 310 | DF40: x | DG40: x | DH40: x | DI40: - | DJ40: x | DK40: 327
A41: 岐阜県川辺町 | B41: - | C41: - | D41: - | E41: - | F41: - | G41: - | H41: - | I41: - | J41: - | K41: - | L41: - | M41: - | N41: - | O41: - | P41: - | Q41: - | R41: - | S41: - | T41: - | U41: - | V41: - | W41: - | X41: - | Y41: - | Z41: - | AA41: - | AB41: - | AC41: - | AD41: - | AE41: - | AF41: - | AG41: - | AH41: - | AI41: - | AJ41: - | AK41: - | AL41: - | AM41: - | AN41: - | AO41: - | AP41: - | AQ41: - | AR41: - | AS41: - | AT41: - | AU41: - | AV41: - | AW41: - | AX41: - | AY41: - | AZ41: 275 | BA41: 275 | BB41: 312 | BC41: 292 | BD41: 355 | BE41: 341 | BF41: 318 | BG41: 358 | BH41: 353 | BI41: 296 | BL41: 21503 | BM41: 川辺町 | BP41: x | BQ41: x | BR41: … | BS41: … | BT41: x | BU41: 251 | BV41: - | BW41: - | BX41: … | BY41: … | BZ41: - | CA41: 337 | CB41: - | CC41: - | CD41: … | CE41: … | CF41: - | CG41: 352 | CH41: - | CI41: - | CJ41: … | CK41: … | CL41: - | CM41: 300 | CN41: - | CO41: - | CP41: - | CQ41: - | CR41: - | CS41: 228 | CT41: - | CU41: - | CV41: - | CW41: - | CX41: - | CZ41: - | DA41: - | DB41: - | DC41: - | DD41: - | DE41: 310 | DF41: - | DG41: - | DH41: - | DI41: - | DJ41: - | DK41: 327
A42: 岐阜県七宗町 | B42: - | C42: - | D42: - | E42: - | F42: - | G42: - | H42: - | I42: - | J42: - | K42: - | L42: - | M42: - | N42: - | O42: - | P42: - | Q42: - | R42: - | S42: - | T42: - | U42: - | V42: - | W42: - | X42: - | Y42: - | Z42: - | AA42: - | AB42: - | AC42: - | AD42: - | AE42: - | AF42: - | AG42: - | AH42: - | AI42: - | AJ42: - | AK42: - | AL42: - | AM42: - | AN42: - | AO42: - | AP42: - | AQ42: - | AR42: - | AS42: - | AT42: - | AU42: - | AV42: - | AW42: - | AX42: - | AY42: - | AZ42: 275 | BA42: 275 | BB42: 312 | BC42: 292 | BD42: 355 | BE42: 341 | BF42: 318 | BG42: 358 | BH42: 353 | BI42: 296 | BL42: 21504 | BM42: 七宗町 | BP42: - | BQ42: - | BR42: … | BS42: … | BT42: - | BU42: 251 | BV42: - | BW42: - | BX42: … | BY42: … | BZ42: - | CA42: 337 | CB42: - | CC42: - | CD42: … | CE42: … | CF42: - | CG42: 352 | CH42: - | CI42: - | CJ42: … | CK42: … | CL42: - | CM42: 300 | CN42: - | CO42: - | CP42: - | CQ42: - | CR42: - | CS42: 228 | CT42: - | CU42: - | CV42: - | CW42: - | CX42: - | CZ42: - | DA42: - | DB42: - | DC42: - | DD42: - | DE42: 310 | DF42: - | DG42: - | DH42: - | DI42: - | DJ42: - | DK42: 327
A43: 岐阜県八百津町 | B43: - | C43: - | D43: - | E43: - | F43: - | G43: - | H43: - | I43: - | J43: - | K43: - | L43: - | M43: - | N43: - | O43: - | P43: - | Q43: - | R43: - | S43: - | T43: - | U43: - | V43: - | W43: - | X43: - | Y43: - | Z43: - | AA43: - | AB43: - | AC43: - | AD43: - | AE43: - | AF43: - | AG43: - | AH43: - | AI43: - | AJ43: - | AK43: - | AL43: - | AM43: - | AN43: - | AO43: - | AP43: - | AQ43: - | AR43: - | AS43: - | AT43: - | AU43: - | AV43: - | AW43: - | AX43: - | AY43: - | AZ43: 275 | BA43: 275 | BB43: 312 | BC43: 292 | BD43: 355 | BE43: 341 | BF43: 318 | BG43: 358 | BH43: 353 | BI43: 296 | BL43: 21505 | BM43: 八百津町 | BP43: - | BQ43: - | BR43: … | BS43: … | BT43: - | BU43: 251 | BV43: - | BW43: - | BX43: … | BY43: … | BZ43: - | CA43: 337 | CB43: - | CC43: - | CD43: … | CE43: … | CF43: - | CG43: 352 | CH43: - | CI43: - | CJ43: … | CK43: … | CL43: - | CM43: 300 | CN43: - | CO43: - | CP43: - | CQ43: - | CR43: - | CS43: 228 | CT43: - | CU43: - | CV43: - | CW43: - | CX43: - | CZ43: - | DA43: - | DB43: - | DC43: - | DD43: - | DE43: 310 | DF43: - | DG43: - | DH43: - | DI43: - | DJ43: - | DK43: 327
A44: 岐阜県白川町 | B44: x | C44: x | D44: - | E44: x | F44: x | G44: x | H44: x | I44: - | J44: x | K44: x | L44: - | M44: - | N44: - | O44: - | P44: - | Q44: - | R44: - | S44: - | T44: - | U44: - | V44: - | W44: - | X44: - | Y44: - | Z44: - | AA44: - | AB44: - | AC44: - | AD44: - | AE44: - | AF44: - | AG44: - | AH44: - | AI44: - | AJ44: - | AK44: - | AL44: - | AM44: - | AN44: - | AO44: - | AP44: - | AQ44: - | AR44: - | AS44: - | AT44: - | AU44: - | AV44: - | AW44: - | AX44: - | AY44: - | AZ44: 275 | BA44: 275 | BB44: 312 | BC44: 292 | BD44: 355 | BE44: 341 | BF44: 318 | BG44: 358 | BH44: 353 | BI44: 296 | BL44: 21506 | BM44: 白川町 | BP44: - | BQ44: - | BR44: … | BS44: … | BT44: - | BU44: 251 | BV44: - | BW44: - | BX44: … | BY44: … | BZ44: - | CA44: 337 | CB44: - | CC44: - | CD44: … | CE44: … | CF44: - | CG44: 352 | CH44: - | CI44: - | CJ44: … | CK44: … | CL44: - | CM44: 300 | CN44: x | CO44: x | CP44: - | CQ44: x | CR44: x | CS44: 228 | CT44: - | CU44: - | CV44: - | CW44: - | CX44: - | CZ44: - | DA44: - | DB44: - | DC44: - | DD44: - | DE44: 310 | DF44: - | DG44: - | DH44: - | DI44: - | DJ44: - | DK44: 327
A45: 岐阜県東白川村 | B45: - | C45: - | D45: - | E45: - | F45: - | G45: - | H45: - | I45: - | J45: - | K45: - | L45: - | M45: - | N45: - | O45: - | P45: - | Q45: - | R45: - | S45: - | T45: - | U45: - | V45: - | W45: - | X45: - | Y45: - | Z45: - | AA45: - | AB45: - | AC45: - | AD45: - | AE45: - | AF45: - | AG45: - | AH45: - | AI45: - | AJ45: - | AK45: - | AL45: - | AM45: - | AN45: - | AO45: - | AP45: x | AQ45: x | AR45: x | AS45: - | AT45: x | AU45: x | AV45: x | AW45: x | AX45: - | AY45: x | AZ45: 275 | BA45: 275 | BB45: 312 | BC45: 292 | BD45: 355 | BE45: 341 | BF45: 318 | BG45: 358 | BH45: 353 | BI45: 296 | BL45: 21507 | BM45: 東白川村 | BP45: - | BQ45: - | BR45: … | BS45: … | BT45: - | BU45: 251 | BV45: - | BW45: - | BX45: … | BY45: … | BZ45: - | CA45: 337 | CB45: - | CC45: - | CD45: … | CE45: … | CF45: - | CG45: 352 | CH45: - | CI45: - | CJ45: … | CK45: … | CL45: - | CM45: 300 | CN45: - | CO45: - | CP45: - | CQ45: - | CR45: - | CS45: 228 | CT45: - | CU45: - | CV45: - | CW45: - | CX45: - | CZ45: - | DA45: - | DB45: - | DC45: - | DD45: - | DE45: 310 | DF45: - | DG45: - | DH45: - | DI45: - | DJ45: - | DK45: 327
A46: 岐阜県御嵩町 | B46: - | C46: - | D46: - | E46: - | F46: - | G46: - | H46: - | I46: - | J46: - | K46: - | L46: - | M46: - | N46: - | O46: - | P46: - | Q46: - | R46: - | S46: - | T46: - | U46: - | V46: - | W46: - | X46: - | Y46: - | Z46: - | AA46: - | AB46: - | AC46: - | AD46: - | AE46: - | AF46: - | AG46: - | AH46: - | AI46: - | AJ46: - | AK46: - | AL46: - | AM46: - | AN46: - | AO46: - | AP46: x | AQ46: x | AR46: x | AS46: - | AT46: x | AU46: x | AV46: x | AW46: x | AX46: - | AY46: x | AZ46: 275 | BA46: 275 | BB46: 312 | BC46: 292 | BD46: 355 | BE46: 341 | BF46: 318 | BG46: 358 | BH46: 353 | BI46: 296 | BL46: 21521 | BM46: 御嵩町 | BP46: - | BQ46: - | BR46: … | BS46: … | BT46: - | BU46: 251 | BV46: - | BW46: - | BX46: … | BY46: … | BZ46: - | CA46: 337 | CB46: - | CC46: - | CD46: … | CE46: … | CF46: - | CG46: 352 | CH46: - | CI46: - | CJ46: … | CK46: … | CL46: - | CM46: 300 | CN46: - | CO46: - | CP46: - | CQ46: - | CR46: - | CS46: 228 | CT46: - | CU46: - | CV46: - | CW46: - | CX46: - | CZ46: - | DA46: - | DB46: - | DC46: - | DD46: - | DE46: 310 | DF46: - | DG46: - | DH46: - | DI46: - | DJ46: - | DK46: 327
A47: 岐阜県白川村 | B47: - | C47: - | D47: - | E47: - | F47: - | G47: - | H47: - | I47: - | J47: - | K47: - | L47: - | M47: - | N47: - | O47: - | P47: - | Q47: - | R47: - | S47: - | T47: - | U47: - | V47: - | W47: - | X47: - | Y47: - | Z47: - | AA47: - | AB47: - | AC47: - | AD47: - | AE47: - | AF47: - | AG47: - | AH47: - | AI47: - | AJ47: - | AK47: - | AL47: - | AM47: - | AN47: - | AO47: - | AP47: - | AQ47: - | AR47: - | AS47: - | AT47: - | AU47: - | AV47: - | AW47: - | AX47: - | AY47: - | AZ47: 275 | BA47: 275 | BB47: 312 | BC47: 292 | BD47: 355 | BE47: 341 | BF47: 318 | BG47: 358 | BH47: 353 | BI47: 296 | BL47: 21604 | BM47: 白川村 | BP47: - | BQ47: - | BR47: … | BS47: … | BT47: - | BU47: 251 | BV47: - | BW47: - | BX47: … | BY47: … | BZ47: - | CA47: 337 | CB47: - | CC47: - | CD47: … | CE47: … | CF47: - | CG47: 352 | CH47: x | CI47: x | CJ47: … | CK47: … | CL47: x | CM47: 300 | CN47: - | CO47: - | CP47: - | CQ47: - | CR47: - | CS47: 228 | CT47: - | CU47: - | CV47: - | CW47: - | CX47: - | CZ47: - | DA47: - | DB47: - | DC47: - | DD47: - | DE47: 310 | DF47: - | DG47: - | DH47: - | DI47: - | DJ47: - | DK47: 327
A48: 愛知県名古屋市 | B48: x | C48: x | D48: - | E48: x | F48: x | G48: x | H48: x | I48: - | J48: x | K48: x | L48: x | M48: x | N48: - | O48: x | P48: x | Q48: x | R48: x | S48: - | T48: x | U48: x | V48: x | W48: x | X48: - | Y48: x | Z48: x | AA48: x | AB48: x | AC48: - | AD48: x | AE48: x | AF48: x | AG48: x | AH48: - | AI48: x | AJ48: x | AK48: x | AL48: x | AM48: - | AN48: x | AO48: x | AP48: x | AQ48: x | AR48: x | AS48: x | AT48: x | AU48: x | AV48: x | AW48: x | AX48: x | AY48: x | AZ48: 380 | BA48: 427 | BB48: 473 | BC48: 423 | BD48: 563 | BE48: 533 | BF48: 509 | BG48: 511 | BH48: 575 | BI48: 473 | BL48: 23100 | BM48: 名古屋市 | BP48: x | BQ48: x | BR48: … | BS48: … | BT48: x | BU48: 301 | BV48: x | BW48: x | BX48: … | BY48: … | BZ48: x | CA48: 342 | CB48: x | CC48: x | CD48: … | CE48: … | CF48: x | CG48: 352 | CH48: x | CI48: x | CJ48: … | CK48: … | CL48: x | CM48: 278 | CN48: x | CO48: x | CP48: x | CQ48: - | CR48: x | CS48: 240 | CT48: - | CU48: - | CV48: - | CW48: - | CX48: - | CZ48: x | DA48: x | DB48: - | DC48: x | DD48: x | DE48: 418 | DF48: x | DG48: x | DH48: - | DI48: x | DJ48: x | DK48: 428
A49: 愛知県豊橋市 | B49: 9 | C49: 311 | D49: 311 | E49: 311 | F49: 28 | G49: 9 | H49: 410 | I49: x | J49: 360 | K49: 37 | L49: 12 | M49: 496 | N49: 496 | O49: - | P49: 60 | Q49: 14 | R49: 443 | S49: 443 | T49: - | U49: 62 | V49: 20 | W49: 515 | X49: 515 | Y49: x | Z49: 103 | AA49: 31 | AB49: 484 | AC49: 484 | AD49: x | AE49: 150 | AF49: 43 | AG49: 570 | AH49: 570 | AI49: x | AJ49: 245 | AK49: 70 | AL49: 509 | AM49: 509 | AN49: x | AO49: 356 | AP49: 84 | AQ49: 482 | AR49: 482 | AS49: x | AT49: 405 | AU49: 89 | AV49: 472 | AW49: 472 | AX49: x | AY49: 420 | AZ49: 380 | BA49: 427 | BB49: 473 | BC49: 423 | BD49: 563 | BE49: 533 | BF49: 509 | BG49: 511 | BH49: 575 | BI49: 473 | BL49: 23201 | BM49: 豊橋市 | BP49: 22 | BQ49: 214 | BR49: … | BS49: … | BT49: 47 | BU49: 301 | BV49: 19 | BW49: 218 | BX49: … | BY49: … | BZ49: 41 | CA49: 342 | CB49: 21 | CC49: 177 | CD49: … | CE49: … | CF49: 37 | CG49: 352 | CH49: 22 | CI49: 135 | CJ49: … | CK49: … | CL49: 30 | CM49: 278 | CN49: 23 | CO49: 108 | CP49: 101 | CQ49: x | CR49: 25 | CS49: 240 | CT49: 12 | CU49: 217 | CV49: x | CW49: 180 | CX49: 26 | CZ49: 12 | DA49: 200 | DB49: 200 | DC49: 200 | DD49: 24 | DE49: 418 | DF49: 12 | DG49: 200 | DH49: 200 | DI49: 200 | DJ49: 24 | DK49: 428
A50: 愛知県岡崎市 | B50: 600 | C50: 342 | D50: 342 | E50: 338 | F50: 2050 | G50: 580 | H50: 367 | I50: 367 | J50: 350 | K50: 2130 | L50: 621 | M50: 417 | N50: 417 | O50: 418 | P50: 2590 | Q50: 594 | R50: 351 | S50: 351 | T50: 360 | U50: 2090 | V50: 589 | W50: 543 | X50: 543 | Y50: x | Z50: 3200 | AA50: 553 | AB50: 477 | AC50: 477 | AD50: x | AE50: 2640 | AF50: 615 | AG50: 456 | AH50: 456 | AI50: x | AJ50: 2800 | AK50: 555 | AL50: 475 | AM50: 475 | AN50: x | AO50: 2640 | AP50: 588 | AQ50: 489 | AR50: 489 | AS50: x | AT50: 2870 | AU50: 572 | AV50: 419 | AW50: 419 | AX50: x | AY50: 2400 | AZ50: 380 | BA50: 427 | BB50: 473 | BC50: 423 | BD50: 563 | BE50: 533 | BF50: 509 | BG50: 511 | BH50: 575 | BI50: 473 | BL50: 23202 | BM50: 岡崎市 | BP50: 676 | BQ50: 308 | BR50: … | BS50: … | BT50: 2080 | BU50: 301 | BV50: 642 | BW50: 312 | BX50: … | BY50: … | BZ50: 2000 | CA50: 342 | CB50: 622 | CC50: 330 | CD50: … | CE50: … | CF50: 2050 | CG50: 352 | CH50: 651 | CI50: 249 | CJ50: … | CK50: … | CL50: 1620 | CM50: 278 | CN50: 607 | CO50: 197 | CP50: 197 | CQ50: 217 | CR50: 1200 | CS50: 240 | CT50: 560 | CU50: 327 | CV50: 327 | CW50: 290 | CX50: 1830 | CZ50: 574 | DA50: 375 | DB50: 375 | DC50: 375 | DD50: 2150 | DE50: 418 | DF50: 598 | DG50: 381 | DH50: 381 | DI50: 383 | DJ50: 2280 | DK50: 428
A51: 愛知県一宮市 | B51: x | C51: x | D51: x | E51: - | F51: x | G51: x | H51: x | I51: x | J51: - | K51: x | L51: x | M51: x | N51: x | O51: - | P51: x | Q51: x | R51: x | S51: x | T51: - | U51: x | V51: x | W51: x | X51: x | Y51: - | Z51: x | AA51: x | AB51: x | AC51: x | AD51: - | AE51: x | AF51: x | AG51: x | AH51: x | AI51: - | AJ51: x | AK51: x | AL51: x | AM51: x | AN51: - | AO51: x | AP51: x | AQ51: x | AR51: x | AS51: - | AT51: x | AU51: x | AV51: x | AW51: x | AX51: x | AY51: x | AZ51: 380 | BA51: 427 | BB51: 473 | BC51: 423 | BD51: 563 | BE51: 533 | BF51: 509 | BG51: 511 | BH51: 575 | BI51: 473 | BL51: 23203 | BM51: 一宮市 | BP51: x | BQ51: x | BR51: … | BS51: … | BT51: x | BU51: 301 | BV51: x | BW51: x | BX51: … | BY51: … | BZ51: x | CA51: 342 | CB51: x | CC51: x | CD51: … | CE51: … | CF51: x | CG51: 352 | CH51: x | CI51: x | CJ51: … | CK51: … | CL51: x | CM51: 278 | CN51: x | CO51: x | CP51: x | CQ51: - | CR51: x | CS51: 240 | CT51: x | CU51: x | CV51: x | CW51: - | CX51: x | CZ51: x | DA51: x | DB51: x | DC51: - | DD51: x | DE51: 418 | DF51: x | DG51: x | DH51: x | DI51: - | DJ51: x | DK51: 428
A52: 愛知県瀬戸市 | B52: - | C52: - | D52: - | E52: - | F52: - | G52: - | H52: - | I52: - | J52: - | K52: - | L52: - | M52: - | N52: - | O52: - | P52: - | Q52: - | R52: - | S52: - | T52: - | U52: - | V52: - | W52: - | X52: - | Y52: - | Z52: - | AA52: - | AB52: - | AC52: - | AD52: - | AE52: - | AF52: - | AG52: - | AH52: - | AI52: - | AJ52: - | AK52: x | AL52: x | AM52: x | AN52: - | AO52: x | AP52: x | AQ52: x | AR52: x | AS52: - | AT52: x | AU52: x | AV52: x | AW52: x | AX52: - | AY52: x | AZ52: 380 | BA52: 427 | BB52: 473 | BC52: 423 | BD52: 563 | BE52: 533 | BF52: 509 | BG52: 511 | BH52: 575 | BI52: 473 | BL52: 23204 | BM52: 瀬戸市 | BP52: - | BQ52: - | BR52: … | BS52: … | BT52: - | BU52: 301 | BV52: - | BW52: - | BX52: … | BY52: … | BZ52: - | CA52: 342 | CB52: - | CC52: - | CD52: … | CE52: … | CF52: - | CG52: 352 | CH52: - | CI52: - | CJ52: … | CK52: … | CL52: - | CM52: 278 | CN52: - | CO52: - | CP52: - | CQ52: - | CR52: - | CS52: 240 | CT52: - | CU52: - | CV52: - | CW52: - | CX52: - | CZ52: - | DA52: - | DB52: - | DC52: - | DD52: - | DE52: 418 | DF52: - | DG52: - | DH52: - | DI52: - | DJ52: - | DK52: 428
A53: 愛知県半田市 | B53: - | C53: - | D53: - | E53: - | F53: - | G53: - | H53: - | I53: - | J53: - | K53: - | L53: - | M53: - | N53: - | O53: - | P53: - | Q53: - | R53: - | S53: - | T53: - | U53: - | V53: - | W53: - | X53: - | Y53: - | Z53: - | AA53: - | AB53: - | AC53: - | AD53: - | AE53: - | AF53: - | AG53: - | AH53: - | AI53: - | AJ53: - | AK53: - | AL53: - | AM53: - | AN53: - | AO53: - | AP53: - | AQ53: - | AR53: - | AS53: - | AT53: - | AU53: - | AV53: - | AW53: - | AX53: - | AY53: - | AZ53: 380 | BA53: 427 | BB53: 473 | BC53: 423 | BD53: 563 | BE53: 533 | BF53: 509 | BG53: 511 | BH53: 575 | BI53: 473 | BL53: 23205 | BM53: 半田市 | BP53: - | BQ53: - | BR53: … | BS53: … | BT53: - | BU53: 301 | BV53: - | BW53: - | BX53: … | BY53: … | BZ53: - | CA53: 342 | CB53: - | CC53: - | CD53: … | CE53: … | CF53: - | CG53: 352 | CH53: - | CI53: - | CJ53: … | CK53: … | CL53: - | CM53: 278 | CN53: - | CO53: - | CP53: - | CQ53: - | CR53: - | CS53: 240 | CT53: - | CU53: - | CV53: - | CW53: - | CX53: - | CZ53: - | DA53: - | DB53: - | DC53: - | DD53: - | DE53: 418 | DF53: - | DG53: - | DH53: - | DI53: - | DJ53: - | DK53: 428
A54: 愛知県春日井市 | B54: - | C54: - | D54: - | E54: - | F54: - | G54: - | H54: - | I54: - | J54: - | K54: - | L54: - | M54: - | N54: - | O54: - | P54: - | Q54: - | R54: - | S54: - | T54: - | U54: - | V54: - | W54: - | X54: - | Y54: - | Z54: - | AA54: - | AB54: - | AC54: - | AD54: - | AE54: - | AF54: - | AG54: - | AH54: - | AI54: - | AJ54: - | AK54: - | AL54: - | AM54: - | AN54: - | AO54: - | AP54: - | AQ54: - | AR54: - | AS54: - | AT54: - | AU54: - | AV54: - | AW54: - | AX54: - | AY54: - | AZ54: 380 | BA54: 427 | BB54: 473 | BC54: 423 | BD54: 563 | BE54: 533 | BF54: 509 | BG54: 511 | BH54: 575 | BI54: 473 | BL54: 23206 | BM54: 春日井市 | BP54: x | BQ54: x | BR54: … | BS54: … | BT54: x | BU54: 301 | BV54: x | BW54: x | BX54: … | BY54: … | BZ54: x | CA54: 342 | CB54: x | CC54: x | CD54: … | CE54: … | CF54: x | CG54: 352 | CH54: - | CI54: - | CJ54: … | CK54: … | CL54: - | CM54: 278 | CN54: - | CO54: - | CP54: - | CQ54: - | CR54: - | CS54: 240 | CT54: - | CU54: - | CV54: - | CW54: - | CX54: - | CZ54: - | DA54: - | DB54: - | DC54: - | DD54: - | DE54: 418 | DF54: - | DG54: - | DH54: - | DI54: - | DJ54: - | DK54: 428
A55: 愛知県豊川市 | B55: 84 | C55: 252 | D55: 252 | E55: 252 | F55: 212 | G55: 84 | H55: 423 | I55: 423 | J55: 290 | K55: 355 | L55: 82 | M55: 471 | N55: 471 | O55: - | P55: 386 | Q55: 83 | R55: 434 | S55: 434 | T55: - | U55: 360 | V55: 84 | W55: 568 | X55: 568 | Y55: x | Z55: 477 | AA55: 83 | AB55: 492 | AC55: 492 | AD55: x | AE55: 408 | AF55: 84 | AG55: 549 | AH55: 549 | AI55: x | AJ55: 461 | AK55: 93 | AL55: 540 | AM55: 540 | AN55: x | AO55: 502 | AP55: 88 | AQ55: 485 | AR55: 485 | AS55: x | AT55: 427 | AU55: 88 | AV55: 530 | AW55: 530 | AX55: x | AY55: 466 | AZ55: 380 | BA55: 427 | BB55: 473 | BC55: 423 | BD55: 563 | BE55: 533 | BF55: 509 | BG55: 511 | BH55: 575 | BI55: 473 | BL55: 23207 | BM55: 豊川市 | BP55: 90 | BQ55: 322 | BR55: … | BS55: … | BT55: 290 | BU55: 301 | BV55: x | BW55: x | BX55: … | BY55: … | BZ55: x | CA55: 342 | CB55: x | CC55: x | CD55: … | CE55: … | CF55: x | CG55: 352 | CH55: x | CI55: x | CJ55: … | CK55: … | CL55: x | CM55: 278 | CN55: 98 | CO55: 168 | CP55: 168 | CQ55: - | CR55: 165 | CS55: 240 | CT55: 86 | CU55: 306 | CV55: 310 | CW55: x | CX55: 263 | CZ55: 93 | DA55: 273 | DB55: 274 | DC55: 250 | DD55: 254 | DE55: 418 | DF55: 87 | DG55: 278 | DH55: 279 | DI55: 250 | DJ55: 242 | DK55: 428
A56: 愛知県津島市 | B56: - | C56: - | D56: - | E56: - | F56: - | G56: x | H56: x | I56: x | J56: - | K56: x | L56: x | M56: x | N56: x | O56: - | P56: x | Q56: x | R56: x | S56: x | T56: - | U56: x | V56: x | W56: x | X56: x | Y56: - | Z56: x | AA56: x | AB56: x | AC56: x | AD56: - | AE56: x | AF56: x | AG56: x | AH56: x | AI56: - | AJ56: x | AK56: x | AL56: x | AM56: x | AN56: - | AO56: x | AP56: x | AQ56: x | AR56: x | AS56: - | AT56: x | AU56: x | AV56: x | AW56: x | AX56: - | AY56: x | AZ56: 380 | BA56: 427 | BB56: 473 | BC56: 423 | BD56: 563 | BE56: 533 | BF56: 509 | BG56: 511 | BH56: 575 | BI56: 473 | BL56: 23208 | BM56: 津島市 | BP56: - | BQ56: - | BR56: … | BS56: … | BT56: - | BU56: 301 | BV56: - | BW56: - | BX56: … | BY56: … | BZ56: - | CA56: 342 | CB56: - | CC56: - | CD56: … | CE56: … | CF56: - | CG56: 352 | CH56: - | CI56: - | CJ56: … | CK56: … | CL56: - | CM56: 278 | CN56: - | CO56: - | CP56: - | CQ56: - | CR56: - | CS56: 240 | CT56: - | CU56: - | CV56: - | CW56: - | CX56: - | CZ56: - | DA56: - | DB56: - | DC56: - | DD56: - | DE56: 418 | DF56: - | DG56: - | DH56: - | DI56: - | DJ56: - | DK56: 428
A57: 愛知県碧南市 | B57: 114 | C57: 330 | D57: 330 | E57: - | F57: 376 | G57: 103 | H57: 409 | I57: 409 | J57: - | K57: 421 | L57: 106 | M57: 388 | N57: 388 | O57: - | P57: 411 | Q57: 104 | R57: 437 | S57: 437 | T57: - | U57: 454 | V57: 109 | W57: 556 | X57: 556 | Y57: - | Z57: 606 | AA57: 104 | AB57: 544 | AC57: 544 | AD57: - | AE57: 566 | AF57: 107 | AG57: 533 | AH57: 533 | AI57: - | AJ57: 570 | AK57: 102 | AL57: 510 | AM57: 510 | AN57: - | AO57: 520 | AP57: 88 | AQ57: 600 | AR57: 600 | AS57: - | AT57: 528 | AU57: 76 | AV57: 455 | AW57: 455 | AX57: - | AY57: 346 | AZ57: 380 | BA57: 427 | BB57: 473 | BC57: 423 | BD57: 563 | BE57: 533 | BF57: 509 | BG57: 511 | BH57: 575 | BI57: 473 | BL57: 23209 | BM57: 碧南市 | BP57: 98 | BQ57: 296 | BR57: … | BS57: … | BT57: 290 | BU57: 301 | BV57: 96 | BW57: 366 | BX57: … | BY57: … | BZ57: 351 | CA57: 342 | CB57: 106 | CC57: 374 | CD57: … | CE57: … | CF57: 396 | CG57: 352 | CH57: 117 | CI57: 283 | CJ57: … | CK57: … | CL57: 331 | CM57: 278 | CN57: 106 | CO57: 227 | CP57: 227 | CQ57: - | CR57: 241 | CS57: 240 | CT57: 94 | CU57: 337 | CV57: 337 | CW57: - | CX57: 317 | CZ57: 113 | DA57: 389 | DB57: 389 | DC57: - | DD57: 440 | DE57: 418 | DF57: 112 | DG57: 395 | DH57: 395 | DI57: - | DJ57: 442 | DK57: 428
A58: 愛知県刈谷市 | B58: 238 | C58: 332 | D58: 332 | E58: - | F58: 790 | G58: 220 | H58: 412 | I58: 412 | J58: - | K58: 906 | L58: 223 | M58: 473 | N58: 473 | O58: - | P58: 1060 | Q58: 215 | R58: 413 | S58: 413 | T58: - | U58: 888 | V58: 223 | W58: 543 | X58: 543 | Y58: - | Z58: 1210 | AA58: 207 | AB58: 527 | AC58: 527 | AD58: - | AE58: 1090 | AF58: 220 | AG58: 517 | AH58: 517 | AI58: - | AJ58: 1140 | AK58: 199 | AL58: 500 | AM58: 500 | AN58: - | AO58: 995 | AP58: 236 | AQ58: 636 | AR58: 636 | AS58: - | AT58: 1500 | AU58: 244 | AV58: 504 | AW58: 504 | AX58: - | AY58: 1230 | AZ58: 380 | BA58: 427 | BB58: 473 | BC58: 423 | BD58: 563 | BE58: 533 | BF58: 509 | BG58: 511 | BH58: 575 | BI58: 473 | BL58: 23210 | BM58: 刈谷市 | BP58: 310 | BQ58: 291 | BR58: … | BS58: … | BT58: 902 | BU58: 301 | BV58: 301 | BW58: 359 | BX58: … | BY58: … | BZ58: 1080 | CA58: 342 | CB58: 306 | CC58: 370 | CD58: … | CE58: … | CF58: 1130 | CG58: 352 | CH58: 313 | CI58: 277 | CJ58: … | CK58: … | CL58: 867 | CM58: 278 | CN58: 305 | CO58: 219 | CP58: 219 | CQ58: 241 | CR58: 668 | CS58: 240 | CT58: 282 | CU58: 248 | CV58: 248 | CW58: 220 | CX58: 699 | CZ58: 239 | DA58: 381 | DB58: 381 | DC58: - | DD58: 910 | DE58: 418 | DF58: 234 | DG58: 387 | DH58: 387 | DI58: - | DJ58: 906 | DK58: 428
A59: 愛知県豊田市 | B59: 856 | C59: 392 | D59: 392 | E59: 400 | F59: 3350 | G59: 859 | H59: 407 | I59: 408 | J59: 300 | K59: 3500 | L59: 826 | M59: 439 | N59: 439 | O59: 445 | P59: 3630 | Q59: 829 | R59: 398 | S59: 398 | T59: 410 | U59: 3300 | V59: 861 | W59: 501 | X59: 501 | Y59: 510 | Z59: 4320 | AA59: 862 | AB59: 515 | AC59: 515 | AD59: 510 | AE59: 4440 | AF59: 890 | AG59: 501 | AH59: 501 | AI59: 480 | AJ59: 4460 | AK59: 894 | AL59: 498 | AM59: 498 | AN59: 440 | AO59: 4450 | AP59: 897 | AQ59: 549 | AR59: 549 | AS59: 480 | AT59: 4920 | AU59: 927 | AV59: 409 | AW59: 409 | AX59: 400 | AY59: 3790 | AZ59: 380 | BA59: 427 | BB59: 473 | BC59: 423 | BD59: 563 | BE59: 533 | BF59: 509 | BG59: 511 | BH59: 575 | BI59: 473 | BL59: 23211 | BM59: 豊田市 | BP59: 964 | BQ59: 288 | BR59: … | BS59: … | BT59: 2780 | BU59: 301 | BV59: 909 | BW59: 326 | BX59: … | BY59: … | BZ59: 2960 | CA59: 342 | CB59: 815 | CC59: 316 | CD59: … | CE59: … | CF59: 2570 | CG59: 352 | CH59: 879 | CI59: 231 | CJ59: … | CK59: … | CL59: 2030 | CM59: 278 | CN59: 783 | CO59: 201 | CP59: 201 | CQ59: 221 | CR59: 1570 | CS59: 240 | CT59: 812 | CU59: 299 | CV59: 299 | CW59: 310 | CX59: 2430 | CZ59: 803 | DA59: 327 | DB59: 327 | DC59: 333 | DD59: 2630 | DE59: 418 | DF59: 830 | DG59: 332 | DH59: 332 | DI59: 333 | DJ59: 2760 | DK59: 428
A60: 愛知県安城市 | B60: 1090 | C60: 354 | D60: 354 | E60: 354 | F60: 3840 | G60: 1080 | H60: 413 | I60: 413 | J60: 350 | K60: 4480 | L60: 1050 | M60: 463 | N60: 463 | O60: 465 | P60: 4850 | Q60: 1060 | R60: 426 | S60: 426 | T60: 440 | U60: 4500 | V60: 1090 | W60: 551 | X60: 551 | Y60: x | Z60: 6000 | AA60: 1090 | AB60: 534 | AC60: 534 | AD60: x | AE60: 5840 | AF60: 1080 | AG60: 523 | AH60: 523 | AI60: x | AJ60: 5620 | AK60: 1080 | AL60: 490 | AM60: 490 | AN60: x | AO60: 5310 | AP60: 1050 | AQ60: 618 | AR60: 618 | AS60: x | AT60: 6500 | AU60: 1090 | AV60: 480 | AW60: 480 | AX60: x | AY60: 5210 | AZ60: 380 | BA60: 427 | BB60: 473 | BC60: 423 | BD60: 563 | BE60: 533 | BF60: 509 | BG60: 511 | BH60: 575 | BI60: 473 | BL60: 23212 | BM60: 安城市 | BP60: 1280 | BQ60: 303 | BR60: … | BS60: … | BT60: 3880 | BU60: 301 | BV60: 1250 | BW60: 366 | BX60: … | BY60: … | BZ60: 4580 | CA60: 342 | CB60: 1190 | CC60: 379 | CD60: … | CE60: … | CF60: 4520 | CG60: 352 | CH60: 1080 | CI60: 282 | CJ60: … | CK60: … | CL60: 3060 | CM60: 278 | CN60: 1070 | CO60: 223 | CP60: 223 | CQ60: 245 | CR60: 2390 | CS60: 240 | CT60: 1110 | CU60: 382 | CV60: 382 | CW60: 360 | CX60: 4240 | CZ60: 1100 | DA60: 415 | DB60: 415 | DC60: 400 | DD60: 4580 | DE60: 418 | DF60: 1090 | DG60: 421 | DH60: 421 | DI60: 400 | DJ60: 4570 | DK60: 428
A61: 愛知県西尾市 | B61: 1330 | C61: 406 | D61: 407 | E61: 403 | F61: 5390 | G61: 1310 | H61: 483 | I61: 485 | J61: 450 | K61: 6330 | L61: 1290 | M61: 532 | N61: 532 | O61: 532 | P61: 6850 | Q61: 1250 | R61: 467 | S61: 467 | T61: 470 | U61: 5820 | V61: 1280 | W61: 597 | X61: 601 | Y61: 509 | Z61: 7650 | AA61: 1290 | AB61: 545 | AC61: 550 | AD61: 472 | AE61: 7050 | AF61: 1290 | AG61: 525 | AH61: 530 | AI61: 449 | AJ61: 6790 | AK61: 1290 | AL61: 509 | AM61: 514 | AN61: 434 | AO61: 6580 | AP61: 1240 | AQ61: 575 | AR61: 577 | AS61: 510 | AT61: 7150 | AU61: 1270 | AV61: 547 | AW61: 546 | AX61: 559 | AY61: 6950 | AZ61: 380 | BA61: 427 | BB61: 473 | BC61: 423 | BD61: 563 | BE61: 533 | BF61: 509 | BG61: 511 | BH61: 575 | BI61: 473 | BL61: 23213 | BM61: 西尾市 | BP61: 1250 | BQ61: 344 | BR61: … | BS61: … | BT61: 4300 | BU61: 301 | BV61: 1250 | BW61: 353 | BX61: … | BY61: … | BZ61: 4400 | CA61: 342 | CB61: 1280 | CC61: 359 | CD61: … | CE61: … | CF61: 4590 | CG61: 352 | CH61: 1260 | CI61: 317 | CJ61: … | CK61: … | CL61: 3990 | CM61: 278 | CN61: 1220 | CO61: 312 | CP61: 312 | CQ61: 312 | CR61: 3810 | CS61: 240 | CT61: 1300 | CU61: 453 | CV61: 452 | CW61: 475 | CX61: 5900 | CZ61: 1290 | DA61: 503 | DB61: 503 | DC61: 503 | DD61: 6500 | DE61: 418 | DF61: 1310 | DG61: 511 | DH61: 511 | DI61: 511 | DJ61: 6710 | DK61: 428
A62: 愛知県蒲郡市 | B62: - | C62: - | D62: - | E62: - | F62: - | G62: - | H62: - | I62: - | J62: - | K62: - | L62: - | M62: - | N62: - | O62: - | P62: - | Q62: - | R62: - | S62: - | T62: - | U62: - | V62: - | W62: - | X62: - | Y62: - | Z62: - | AA62: - | AB62: - | AC62: - | AD62: - | AE62: - | AF62: - | AG62: - | AH62: - | AI62: - | AJ62: - | AK62: - | AL62: - | AM62: - | AN62: - | AO62: - | AP62: - | AQ62: - | AR62: - | AS62: - | AT62: - | AU62: - | AV62: - | AW62: - | AX62: - | AY62: - | AZ62: 380 | BA62: 427 | BB62: 473 | BC62: 423 | BD62: 563 | BE62: 533 | BF62: 509 | BG62: 511 | BH62: 575 | BI62: 473 | BL62: 23214 | BM62: 蒲郡市 | BP62: 0 | BQ62: 235 | BR62: … | BS62: … | BT62: 0 | BU62: 301 | BV62: x | BW62: x | BX62: … | BY62: … | BZ62: x | CA62: 342 | CB62: x | CC62: x | CD62: … | CE62: … | CF62: x | CG62: 352 | CH62: x | CI62: x | CJ62: … | CK62: … | CL62: x | CM62: 278 | CN62: - | CO62: - | CP62: - | CQ62: - | CR62: - | CS62: 240 | CT62: - | CU62: - | CV62: - | CW62: - | CX62: - | CZ62: - | DA62: - | DB62: - | DC62: - | DD62: - | DE62: 418 | DF62: - | DG62: - | DH62: - | DI62: - | DJ62: - | DK62: 428
A63: 愛知県犬山市 | B63: x | C63: x | D63: x | E63: - | F63: x | G63: x | H63: x | I63: x | J63: - | K63: x | L63: x | M63: x | N63: x | O63: - | P63: x | Q63: x | R63: x | S63: x | T63: - | U63: x | V63: x | W63: x | X63: x | Y63: - | Z63: x | AA63: x | AB63: x | AC63: x | AD63: - | AE63: x | AF63: x | AG63: x | AH63: x | AI63: - | AJ63: x | AK63: x | AL63: x | AM63: x | AN63: - | AO63: x | AP63: x | AQ63: x | AR63: x | AS63: - | AT63: x | AU63: x | AV63: x | AW63: x | AX63: - | AY63: x | AZ63: 380 | BA63: 427 | BB63: 473 | BC63: 423 | BD63: 563 | BE63: 533 | BF63: 509 | BG63: 511 | BH63: 575 | BI63: 473 | BL63: 23215 | BM63: 犬山市 | BP63: x | BQ63: x | BR63: … | BS63: … | BT63: x | BU63: 301 | BV63: x | BW63: x | BX63: … | BY63: … | BZ63: x | CA63: 342 | CB63: x | CC63: x | CD63: … | CE63: … | CF63: x | CG63: 352 | CH63: x | CI63: x | CJ63: … | CK63: … | CL63: x | CM63: 278 | CN63: x | CO63: x | CP63: x | CQ63: - | CR63: x | CS63: 240 | CT63: x | CU63: x | CV63: x | CW63: - | CX63: x | CZ63: x | DA63: x | DB63: x | DC63: - | DD63: x | DE63: 418 | DF63: x | DG63: x | DH63: x | DI63: - | DJ63: x | DK63: 428
A64: 愛知県常滑市 | B64: x | C64: x | D64: - | E64: x | F64: x | G64: x | H64: x | I64: - | J64: x | K64: x | L64: x | M64: x | N64: - | O64: x | P64: x | Q64: x | R64: x | S64: - | T64: x | U64: x | V64: x | W64: x | X64: - | Y64: x | Z64: x | AA64: x | AB64: x | AC64: - | AD64: x | AE64: x | AF64: x | AG64: x | AH64: - | AI64: x | AJ64: x | AK64: - | AL64: - | AM64: - | AN64: - | AO64: - | AP64: - | AQ64: - | AR64: - | AS64: - | AT64: - | AU64: - | AV64: - | AW64: - | AX64: - | AY64: - | AZ64: 380 | BA64: 427 | BB64: 473 | BC64: 423 | BD64: 563 | BE64: 533 | BF64: 509 | BG64: 511 | BH64: 575 | BI64: 473 | BL64: 23216 | BM64: 常滑市 | BP64: x | BQ64: x | BR64: … | BS64: … | BT64: x | BU64: 301 | BV64: 5 | BW64: 250 | BX64: … | BY64: … | BZ64: 12 | CA64: 342 | CB64: 13 | CC64: 253 | CD64: … | CE64: … | CF64: 33 | CG64: 352 | CH64: 12 | CI64: 253 | CJ64: … | CK64: … | CL64: 30 | CM64: 278 | CN64: 13 | CO64: 185 | CP64: 185 | CQ64: 185 | CR64: 24 | CS64: 240 | CT64: 7 | CU64: 298 | CV64: 280 | CW64: 310 | CX64: 21 | CZ64: - | DA64: - | DB64: - | DC64: - | DD64: - | DE64: 418 | DF64: x | DG64: x | DH64: - | DI64: x | DJ64: x | DK64: 428
A65: 愛知県江南市 | B65: - | C65: - | D65: - | E65: - | F65: - | G65: - | H65: - | I65: - | J65: - | K65: - | L65: - | M65: - | N65: - | O65: - | P65: - | Q65: - | R65: - | S65: - | T65: - | U65: - | V65: - | W65: - | X65: - | Y65: - | Z65: - | AA65: - | AB65: - | AC65: - | AD65: - | AE65: - | AF65: - | AG65: - | AH65: - | AI65: - | AJ65: - | AK65: - | AL65: - | AM65: - | AN65: - | AO65: - | AP65: - | AQ65: - | AR65: - | AS65: - | AT65: - | AU65: - | AV65: - | AW65: - | AX65: - | AY65: - | AZ65: 380 | BA65: 427 | BB65: 473 | BC65: 423 | BD65: 563 | BE65: 533 | BF65: 509 | BG65: 511 | BH65: 575 | BI65: 473 | BL65: 23217 | BM65: 江南市 | BP65: x | BQ65: x | BR65: … | BS65: … | BT65: x | BU65: 301 | BV65: x | BW65: x | BX65: … | BY65: … | BZ65: x | CA65: 342 | CB65: x | CC65: x | CD65: … | CE65: … | CF65: x | CG65: 352 | CH65: - | CI65: - | CJ65: … | CK65: … | CL65: - | CM65: 278 | CN65: - | CO65: - | CP65: - | CQ65: - | CR65: - | CS65: 240 | CT65: - | CU65: - | CV65: - | CW65: - | CX65: - | CZ65: - | DA65: - | DB65: - | DC65: - | DD65: - | DE65: 418 | DF65: - | DG65: - | DH65: - | DI65: - | DJ65: - | DK65: 428
A66: 愛知県小牧市 | B66: - | C66: - | D66: - | E66: - | F66: - | G66: - | H66: - | I66: - | J66: - | K66: - | L66: - | M66: - | N66: - | O66: - | P66: - | Q66: - | R66: - | S66: - | T66: - | U66: - | V66: - | W66: - | X66: - | Y66: - | Z66: - | AA66: - | AB66: - | AC66: - | AD66: - | AE66: - | AF66: - | AG66: - | AH66: - | AI66: - | AJ66: - | AK66: x | AL66: x | AM66: x | AN66: - | AO66: x | AP66: x | AQ66: x | AR66: x | AS66: - | AT66: x | AU66: x | AV66: x | AW66: x | AX66: x | AY66: x | AZ66: 380 | BA66: 427 | BB66: 473 | BC66: 423 | BD66: 563 | BE66: 533 | BF66: 509 | BG66: 511 | BH66: 575 | BI66: 473 | BL66: 23219 | BM66: 小牧市 | BP66: x | BQ66: x | BR66: … | BS66: … | BT66: x | BU66: 301 | BV66: x | BW66: x | BX66: … | BY66: … | BZ66: x | CA66: 342 | CB66: - | CC66: - | CD66: … | CE66: … | CF66: - | CG66: 352 | CH66: - | CI66: - | CJ66: … | CK66: … | CL66: - | CM66: 278 | CN66: - | CO66: - | CP66: - | CQ66: - | CR66: - | CS66: 240 | CT66: - | CU66: - | CV66: - | CW66: - | CX66: - | CZ66: - | DA66: - | DB66: - | DC66: - | DD66: - | DE66: 418 | DF66: - | DG66: - | DH66: - | DI66: - | DJ66: - | DK66: 428
A67: 愛知県稲沢市 | B67: x | C67: x | D67: x | E67: - | F67: x | G67: x | H67: x | I67: x | J67: - | K67: x | L67: x | M67: x | N67: x | O67: - | P67: x | Q67: x | R67: x | S67: x | T67: - | U67: x | V67: x | W67: x | X67: x | Y67: x | Z67: x | AA67: 44 | AB67: 668 | AC67: 672 | AD67: x | AE67: 294 | AF67: 52 | AG67: 604 | AH67: 610 | AI67: x | AJ67: 314 | AK67: 75 | AL67: 625 | AM67: 627 | AN67: x | AO67: 469 | AP67: 108 | AQ67: 661 | AR67: 663 | AS67: x | AT67: 714 | AU67: 121 | AV67: 455 | AW67: 458 | AX67: x | AY67: 550 | AZ67: 380 | BA67: 427 | BB67: 473 | BC67: 423 | BD67: 563 | BE67: 533 | BF67: 509 | BG67: 511 | BH67: 575 | BI67: 473 | BL67: 23220 | BM67: 稲沢市 | BP67: - | BQ67: - | BR67: … | BS67: … | BT67: - | BU67: 301 | BV67: - | BW67: - | BX67: … | BY67: … | BZ67: - | CA67: 342 | CB67: - | CC67: - | CD67: … | CE67: … | CF67: - | CG67: 352 | CH67: - | CI67: - | CJ67: … | CK67: … | CL67: - | CM67: 278 | CN67: - | CO67: - | CP67: - | CQ67: - | CR67: - | CS67: 240 | CT67: - | CU67: - | CV67: - | CW67: - | CX67: - | CZ67: - | DA67: - | DB67: - | DC67: - | DD67: - | DE67: 418 | DF67: - | DG67: - | DH67: - | DI67: - | DJ67: - | DK67: 428
A68: 愛知県新城市 | B68: 0 | C68: 161 | D68: 161 | E68: - | F68: 1 | G68: x | H68: x | I68: x | J68: - | K68: x | L68: x | M68: x | N68: x | O68: - | P68: x | Q68: x | R68: x | S68: x | T68: - | U68: x | V68: x | W68: x | X68: x | Y68: - | Z68: x | AA68: x | AB68: x | AC68: x | AD68: - | AE68: x | AF68: x | AG68: x | AH68: x | AI68: - | AJ68: x | AK68: x | AL68: x | AM68: x | AN68: - | AO68: x | AP68: x | AQ68: x | AR68: x | AS68: - | AT68: x | AU68: x | AV68: x | AW68: x | AX68: - | AY68: x | AZ68: 380 | BA68: 427 | BB68: 473 | BC68: 423 | BD68: 563 | BE68: 533 | BF68: 509 | BG68: 511 | BH68: 575 | BI68: 473 | BL68: 23221 | BM68: 新城市 | BP68: 12 | BQ68: 131 | BR68: … | BS68: … | BT68: 16 | BU68: 301 | BV68: x | BW68: x | BX68: … | BY68: … | BZ68: x | CA68: 342 | CB68: x | CC68: x | CD68: … | CE68: … | CF68: x | CG68: 352 | CH68: x | CI68: x | CJ68: … | CK68: … | CL68: x | CM68: 278 | CN68: x | CO68: x | CP68: - | CQ68: x | CR68: x | CS68: 240 | CT68: x | CU68: x | CV68: - | CW68: x | CX68: x | CZ68: - | DA68: - | DB68: - | DC68: - | DD68: - | DE68: 418 | DF68: - | DG68: - | DH68: - | DI68: - | DJ68: - | DK68: 428
A69: 愛知県東海市 | B69: - | C69: - | D69: - | E69: - | F69: - | G69: - | H69: - | I69: - | J69: - | K69: - | L69: - | M69: - | N69: - | O69: - | P69: - | Q69: - | R69: - | S69: - | T69: - | U69: - | V69: - | W69: - | X69: - | Y69: - | Z69: - | AA69: - | AB69: - | AC69: - | AD69: - | AE69: - | AF69: - | AG69: - | AH69: - | AI69: - | AJ69: - | AK69: - | AL69: - | AM69: - | AN69: - | AO69: - | AP69: - | AQ69: - | AR69: - | AS69: - | AT69: - | AU69: - | AV69: - | AW69: - | AX69: - | AY69: - | AZ69: 380 | BA69: 427 | BB69: 473 | BC69: 423 | BD69: 563 | BE69: 533 | BF69: 509 | BG69: 511 | BH69: 575 | BI69: 473 | BL69: 23222 | BM69: 東海市 | BP69: - | BQ69: - | BR69: … | BS69: … | BT69: - | BU69: 301 | BV69: - | BW69: - | BX69: … | BY69: … | BZ69: - | CA69: 342 | CB69: - | CC69: - | CD69: … | CE69: … | CF69: - | CG69: 352 | CH69: - | CI69: - | CJ69: … | CK69: … | CL69: - | CM69: 278 | CN69: - | CO69: - | CP69: - | CQ69: - | CR69: - | CS69: 240 | CT69: - | CU69: - | CV69: - | CW69: - | CX69: - | CZ69: - | DA69: - | DB69: - | DC69: - | DD69: - | DE69: 418 | DF69: - | DG69: - | DH69: - | DI69: - | DJ69: - | DK69: 428
A70: 愛知県大府市 | B70: x | C70: x | D70: x | E70: - | F70: x | G70: x | H70: x | I70: x | J70: - | K70: x | L70: x | M70: x | N70: - | O70: x | P70: x | Q70: x | R70: x | S70: - | T70: x | U70: x | V70: x | W70: x | X70: - | Y70: x | Z70: x | AA70: x | AB70: x | AC70: x | AD70: x | AE70: x | AF70: x | AG70: x | AH70: x | AI70: x | AJ70: x | AK70: x | AL70: x | AM70: x | AN70: x | AO70: x | AP70: - | AQ70: - | AR70: - | AS70: - | AT70: - | AU70: - | AV70: - | AW70: - | AX70: - | AY70: - | AZ70: 380 | BA70: 427 | BB70: 473 | BC70: 423 | BD70: 563 | BE70: 533 | BF70: 509 | BG70: 511 | BH70: 575 | BI70: 473 | BL70: 23223 | BM70: 大府市 | BP70: x | BQ70: x | BR70: … | BS70: … | BT70: x | BU70: 301 | BV70: 3 | BW70: 155 | BX70: … | BY70: … | BZ70: 4 | CA70: 342 | CB70: 3 | CC70: 177 | CD70: … | CE70: … | CF70: 5 | CG70: 352 | CH70: 1 | CI70: 177 | CJ70: … | CK70: … | CL70: 2 | CM70: 278 | CN70: 1 | CO70: 125 | CP70: 125 | CQ70: - | CR70: 1 | CS70: 240 | CT70: x | CU70: x | CV70: x | CW70: - | CX70: x | CZ70: x | DA70: x | DB70: x | DC70: - | DD70: x | DE70: 418 | DF70: x | DG70: x | DH70: x | DI70: - | DJ70: x | DK70: 428
A71: 愛知県知多市 | B71: - | C71: - | D71: - | E71: - | F71: - | G71: - | H71: - | I71: - | J71: - | K71: - | L71: - | M71: - | N71: - | O71: - | P71: - | Q71: - | R71: - | S71: - | T71: - | U71: - | V71: x | W71: x | X71: x | Y71: - | Z71: x | AA71: x | AB71: x | AC71: x | AD71: - | AE71: x | AF71: x | AG71: x | AH71: x | AI71: - | AJ71: x | AK71: x | AL71: x | AM71: x | AN71: - | AO71: x | AP71: - | AQ71: - | AR71: - | AS71: - | AT71: - | AU71: x | AV71: x | AW71: - | AX71: x | AY71: x | AZ71: 380 | BA71: 427 | BB71: 473 | BC71: 423 | BD71: 563 | BE71: 533 | BF71: 509 | BG71: 511 | BH71: 575 | BI71: 473 | BL71: 23224 | BM71: 知多市 | BP71: - | BQ71: - | BR71: … | BS71: … | BT71: - | BU71: 301 | BV71: - | BW71: - | BX71: … | BY71: … | BZ71: - | CA71: 342 | CB71: - | CC71: - | CD71: … | CE71: … | CF71: - | CG71: 352 | CH71: - | CI71: - | CJ71: … | CK71: … | CL71: - | CM71: 278 | CN71: - | CO71: - | CP71: - | CQ71: - | CR71: - | CS71: 240 | CT71: - | CU71: - | CV71: - | CW71: - | CX71: - | CZ71: - | DA71: - | DB71: - | DC71: - | DD71: - | DE71: 418 | DF71: - | DG71: - | DH71: - | DI71: - | DJ71: - | DK71: 428
A72: 愛知県知立市 | B72: 122 | C72: 330 | D72: 330 | E72: - | F72: 403 | G72: 106 | H72: 414 | I72: 414 | J72: - | K72: 439 | L72: 117 | M72: 446 | N72: 446 | O72: - | P72: 522 | Q72: 108 | R72: 347 | S72: 347 | T72: - | U72: 375 | V72: 126 | W72: 513 | X72: 513 | Y72: - | Z72: 646 | AA72: 115 | AB72: 502 | AC72: 502 | AD72: - | AE72: 577 | AF72: 114 | AG72: 493 | AH72: 493 | AI72: - | AJ72: 562 | AK72: 114 | AL72: 488 | AM72: 488 | AN72: - | AO72: 556 | AP72: 108 | AQ72: 634 | AR72: 634 | AS72: - | AT72: 685 | AU72: 107 | AV72: 486 | AW72: 486 | AX72: - | AY72: 520 | AZ72: 380 | BA72: 427 | BB72: 473 | BC72: 423 | BD72: 563 | BE72: 533 | BF72: 509 | BG72: 511 | BH72: 575 | BI72: 473 | BL72: 23225 | BM72: 知立市 | BP72: 126 | BQ72: 286 | BR72: … | BS72: … | BT72: 360 | BU72: 301 | BV72: 143 | BW72: 357 | BX72: … | BY72: … | BZ72: 511 | CA72: 342 | CB72: 131 | CC72: 368 | CD72: … | CE72: … | CF72: 482 | CG72: 352 | CH72: 136 | CI72: 276 | CJ72: … | CK72: … | CL72: 375 | CM72: 278 | CN72: 129 | CO72: 220 | CP72: 220 | CQ72: - | CR72: 284 | CS72: 240 | CT72: 117 | CU72: 297 | CV72: 297 | CW72: - | CX72: 347 | CZ72: 129 | DA72: 388 | DB72: 388 | DC72: - | DD72: 500 | DE72: 418 | DF72: 118 | DG72: 394 | DH72: 394 | DI72: - | DJ72: 465 | DK72: 428
A73: 愛知県尾張旭市 | B73: - | C73: - | D73: - | E73: - | F73: - | G73: - | H73: - | I73: - | J73: - | K73: - | L73: - | M73: - | N73: - | O73: - | P73: - | Q73: - | R73: - | S73: - | T73: - | U73: - | V73: - | W73: - | X73: - | Y73: - | Z73: - | AA73: - | AB73: - | AC73: - | AD73: - | AE73: - | AF73: - | AG73: - | AH73: - | AI73: - | AJ73: - | AK73: - | AL73: - | AM73: - | AN73: - | AO73: - | AP73: - | AQ73: - | AR73: - | AS73: - | AT73: - | AU73: - | AV73: - | AW73: - | AX73: - | AY73: - | AZ73: 380 | BA73: 427 | BB73: 473 | BC73: 423 | BD73: 563 | BE73: 533 | BF73: 509 | BG73: 511 | BH73: 575 | BI73: 473 | BL73: 23226 | BM73: 尾張旭市 | BP73: - | BQ73: - | BR73: … | BS73: … | BT73: - | BU73: 301 | BV73: - | BW73: - | BX73: … | BY73: … | BZ73: - | CA73: 342 | CB73: - | CC73: - | CD73: … | CE73: … | CF73: - | CG73: 352 | CH73: - | CI73: - | CJ73: … | CK73: … | CL73: - | CM73: 278 | CN73: - | CO73: - | CP73: - | CQ73: - | CR73: - | CS73: 240 | CT73: - | CU73: - | CV73: - | CW73: - | CX73: - | CZ73: - | DA73: - | DB73: - | DC73: - | DD73: - | DE73: 418 | DF73: - | DG73: - | DH73: - | DI73: - | DJ73: - | DK73: 428
A74: 愛知県高浜市 | B74: 40 | C74: 333 | D74: 333 | E74: - | F74: 133 | G74: 40 | H74: 420 | I74: 420 | J74: - | K74: 168 | L74: 40 | M74: 463 | N74: 463 | O74: - | P74: 185 | Q74: 31 | R74: 348 | S74: 348 | T74: - | U74: 108 | V74: 42 | W74: 517 | X74: 517 | Y74: - | Z74: 217 | AA74: 40 | AB74: 505 | AC74: 505 | AD74: - | AE74: 202 | AF74: 31 | AG74: 497 | AH74: 497 | AI74: - | AJ74: 154 | AK74: 38 | AL74: 489 | AM74: 489 | AN74: - | AO74: 186 | AP74: 37 | AQ74: 638 | AR74: 638 | AS74: - | AT74: 236 | AU74: 29 | AV74: 455 | AW74: 455 | AX74: - | AY74: 132 | AZ74: 380 | BA74: 427 | BB74: 473 | BC74: 423 | BD74: 563 | BE74: 533 | BF74: 509 | BG74: 511 | BH74: 575 | BI74: 473 | BL74: 23227 | BM74: 高浜市 | BP74: 56 | BQ74: 288 | BR74: … | BS74: … | BT74: 161 | BU74: 301 | BV74: 50 | BW74: 350 | BX74: … | BY74: … | BZ74: 175 | CA74: 342 | CB74: 37 | CC74: 362 | CD74: … | CE74: … | CF74: 134 | CG74: 352 | CH74: 42 | CI74: 274 | CJ74: … | CK74: … | CL74: 115 | CM74: 278 | CN74: 31 | CO74: 219 | CP74: 219 | CQ74: - | CR74: 68 | CS74: 240 | CT74: 31 | CU74: 339 | CV74: 339 | CW74: - | CX74: 105 | CZ74: 35 | DA74: 386 | DB74: 386 | DC74: - | DD74: 135 | DE74: 418 | DF74: 42 | DG74: 393 | DH74: 393 | DI74: - | DJ74: 165 | DK74: 428
A75: 愛知県岩倉市 | B75: - | C75: - | D75: - | E75: - | F75: - | G75: - | H75: - | I75: - | J75: - | K75: - | L75: - | M75: - | N75: - | O75: - | P75: - | Q75: - | R75: - | S75: - | T75: - | U75: - | V75: - | W75: - | X75: - | Y75: - | Z75: - | AA75: - | AB75: - | AC75: - | AD75: - | AE75: - | AF75: - | AG75: - | AH75: - | AI75: - | AJ75: - | AK75: - | AL75: - | AM75: - | AN75: - | AO75: - | AP75: - | AQ75: - | AR75: - | AS75: - | AT75: - | AU75: - | AV75: - | AW75: - | AX75: - | AY75: - | AZ75: 380 | BA75: 427 | BB75: 473 | BC75: 423 | BD75: 563 | BE75: 533 | BF75: 509 | BG75: 511 | BH75: 575 | BI75: 473 | BL75: 23228 | BM75: 岩倉市 | BP75: - | BQ75: - | BR75: … | BS75: … | BT75: - | BU75: 301 | BV75: - | BW75: - | BX75: … | BY75: … | BZ75: - | CA75: 342 | CB75: - | CC75: - | CD75: … | CE75: … | CF75: - | CG75: 352 | CH75: - | CI75: - | CJ75: … | CK75: … | CL75: - | CM75: 278 | CN75: - | CO75: - | CP75: - | CQ75: - | CR75: - | CS75: 240 | CT75: - | CU75: - | CV75: - | CW75: - | CX75: - | CZ75: - | DA75: - | DB75: - | DC75: - | DD75: - | DE75: 418 | DF75: - | DG75: - | DH75: - | DI75: - | DJ75: - | DK75: 428
A76: 愛知県豊明市 | B76: x | C76: x | D76: x | E76: x | F76: x | G76: x | H76: x | I76: x | J76: x | K76: x | L76: x | M76: x | N76: x | O76: - | P76: x | Q76: x | R76: x | S76: x | T76: - | U76: x | V76: x | W76: x | X76: x | Y76: - | Z76: x | AA76: x | AB76: x | AC76: x | AD76: - | AE76: x | AF76: x | AG76: x | AH76: x | AI76: - | AJ76: x | AK76: x | AL76: x | AM76: x | AN76: - | AO76: x | AP76: x | AQ76: x | AR76: x | AS76: - | AT76: x | AU76: x | AV76: x | AW76: x | AX76: - | AY76: x | AZ76: 380 | BA76: 427 | BB76: 473 | BC76: 423 | BD76: 563 | BE76: 533 | BF76: 509 | BG76: 511 | BH76: 575 | BI76: 473 | BL76: 23229 | BM76: 豊明市 | BP76: 10 | BQ76: 132 | BR76: … | BS76: … | BT76: 13 | BU76: 301 | BV76: 5 | BW76: 260 | BX76: … | BY76: … | BZ76: 12 | CA76: 342 | CB76: 10 | CC76: 155 | CD76: … | CE76: … | CF76: 16 | CG76: 352 | CH76: 15 | CI76: 99 | CJ76: … | CK76: … | CL76: 15 | CM76: 278 | CN76: x | CO76: x | CP76: x | CQ76: x | CR76: x | CS76: 240 | CT76: x | CU76: x | CV76: x | CW76: x | CX76: x | CZ76: x | DA76: x | DB76: x | DC76: x | DD76: x | DE76: 418 | DF76: x | DG76: x | DH76: x | DI76: x | DJ76: x | DK76: 428
A77: 愛知県日進市 | B77: - | C77: - | D77: - | E77: - | F77: - | G77: - | H77: - | I77: - | J77: - | K77: - | L77: - | M77: - | N77: - | O77: - | P77: - | Q77: - | R77: - | S77: - | T77: - | U77: - | V77: - | W77: - | X77: - | Y77: - | Z77: - | AA77: - | AB77: - | AC77: - | AD77: - | AE77: - | AF77: - | AG77: - | AH77: - | AI77: - | AJ77: - | AK77: x | AL77: x | AM77: x | AN77: - | AO77: x | AP77: x | AQ77: x | AR77: x | AS77: - | AT77: x | AU77: x | AV77: x | AW77: x | AX77: - | AY77: x | AZ77: 380 | BA77: 427 | BB77: 473 | BC77: 423 | BD77: 563 | BE77: 533 | BF77: 509 | BG77: 511 | BH77: 575 | BI77: 473 | BL77: 23230 | BM77: 日進市 | BP77: - | BQ77: - | BR77: … | BS77: … | BT77: - | BU77: 301 | BV77: - | BW77: - | BX77: … | BY77: … | BZ77: - | CA77: 342 | CB77: - | CC77: - | CD77: … | CE77: … | CF77: - | CG77: 352 | CH77: - | CI77: - | CJ77: … | CK77: … | CL77: - | CM77: 278 | CN77: - | CO77: - | CP77: - | CQ77: - | CR77: - | CS77: 240 | CT77: - | CU77: - | CV77: - | CW77: - | CX77: - | CZ77: - | DA77: - | DB77: - | DC77: - | DD77: - | DE77: 418 | DF77: - | DG77: - | DH77: - | DI77: - | DJ77: - | DK77: 428
A78: 愛知県田原市 | B78: - | C78: - | D78: - | E78: - | F78: - | G78: - | H78: - | I78: - | J78: - | K78: - | L78: x | M78: x | N78: x | O78: - | P78: x | Q78: x | R78: x | S78: x | T78: - | U78: x | V78: x | W78: x | X78: x | Y78: - | Z78: x | AA78: x | AB78: x | AC78: x | AD78: - | AE78: x | AF78: x | AG78: x | AH78: x | AI78: - | AJ78: x | AK78: x | AL78: x | AM78: x | AN78: - | AO78: x | AP78: x | AQ78: x | AR78: x | AS78: - | AT78: x | AU78: x | AV78: x | AW78: x | AX78: - | AY78: x | AZ78: 380 | BA78: 427 | BB78: 473 | BC78: 423 | BD78: 563 | BE78: 533 | BF78: 509 | BG78: 511 | BH78: 575 | BI78: 473 | BL78: 23231 | BM78: 田原市 | BP78: 0 | BQ78: 130 | BR78: … | BS78: … | BT78: 0 | BU78: 301 | BV78: x | BW78: x | BX78: … | BY78: … | BZ78: x | CA78: 342 | CB78: x | CC78: x | CD78: … | CE78: … | CF78: x | CG78: 352 | CH78: x | CI78: x | CJ78: … | CK78: … | CL78: x | CM78: 278 | CN78: - | CO78: - | CP78: - | CQ78: - | CR78: - | CS78: 240 | CT78: - | CU78: - | CV78: - | CW78: - | CX78: - | CZ78: - | DA78: - | DB78: - | DC78: - | DD78: - | DE78: 418 | DF78: - | DG78: - | DH78: - | DI78: - | DJ78: - | DK78: 428
A79: 愛知県愛西市 | B79: 240 | C79: 447 | D79: 448 | E79: 349 | F79: 1070 | G79: 241 | H79: 414 | I79: 415 | J79: 350 | K79: 998 | L79: 233 | M79: 502 | N79: 503 | O79: 460 | P79: 1170 | Q79: 218 | R79: 410 | S79: 408 | T79: 460 | U79: 893 | V79: 231 | W79: 594 | X79: 594 | Y79: 580 | Z79: 1370 | AA79: 241 | AB79: 511 | AC79: 511 | AD79: 510 | AE79: 1230 | AF79: 275 | AG79: 451 | AH79: 450 | AI79: 500 | AJ79: 1240 | AK79: 313 | AL79: 540 | AM79: 540 | AN79: 520 | AO79: 1690 | AP79: 324 | AQ79: 554 | AR79: 555 | AS79: 520 | AT79: 1800 | AU79: 346 | AV79: 398 | AW79: 398 | AX79: 420 | AY79: 1380 | AZ79: 380 | BA79: 427 | BB79: 473 | BC79: 423 | BD79: 563 | BE79: 533 | BF79: 509 | BG79: 511 | BH79: 575 | BI79: 473 | BL79: 23232 | BM79: 愛西市 | BP79: 48 | BQ79: 192 | BR79: … | BS79: … | BT79: 92 | BU79: 301 | BV79: 39 | BW79: 274 | BX79: … | BY79: … | BZ79: 107 | CA79: 342 | CB79: 19 | CC79: 230 | CD79: … | CE79: … | CF79: 43 | CG79: 352 | CH79: 35 | CI79: 297 | CJ79: … | CK79: … | CL79: 103 | CM79: 278 | CN79: 33 | CO79: 252 | CP79: 252 | CQ79: x | CR79: 82 | CS79: 240 | CT79: 41 | CU79: 345 | CV79: 345 | CW79: x | CX79: 140 | CZ79: 48 | DA79: 342 | DB79: 342 | DC79: x | DD79: 165 | DE79: 418 | DF79: 159 | DG79: 470 | DH79: 470 | DI79: 500 | DJ79: 747 | DK79: 428
A80: 愛知県清須市 | B80: - | C80: - | D80: - | E80: - | F80: - | G80: - | H80: - | I80: - | J80: - | K80: - | L80: - | M80: - | N80: - | O80: - | P80: - | Q80: x | R80: x | S80: x | T80: - | U80: x | V80: x | W80: x | X80: x | Y80: - | Z80: x | AA80: x | AB80: x | AC80: x | AD80: - | AE80: x | AF80: x | AG80: x | AH80: x | AI80: - | AJ80: x | AK80: x | AL80: x | AM80: x | AN80: - | AO80: x | AP80: x | AQ80: x | AR80: x | AS80: - | AT80: x | AU80: x | AV80: x | AW80: x | AX80: x | AY80: x | AZ80: 380 | BA80: 427 | BB80: 473 | BC80: 423 | BD80: 563 | BE80: 533 | BF80: 509 | BG80: 511 | BH80: 575 | BI80: 473 | BL80: 23233 | BM80: 清須市 | BP80: 0 | BQ80: 190 | BR80: … | BS80: … | BT80: 0 | BU80: 301 | BV80: x | BW80: x | BX80: … | BY80: … | BZ80: x | CA80: 342 | CB80: - | CC80: - | CD80: … | CE80: … | CF80: - | CG80: 352 | CH80: - | CI80: - | CJ80: … | CK80: … | CL80: - | CM80: 278 | CN80: - | CO80: - | CP80: - | CQ80: - | CR80: - | CS80: 240 | CT80: - | CU80: - | CV80: - | CW80: - | CX80: - | CZ80: - | DA80: - | DB80: - | DC80: - | DD80: - | DE80: 418 | DF80: - | DG80: - | DH80: - | DI80: - | DJ80: - | DK80: 428
A81: 愛知県北名古屋市 | B81: - | C81: - | D81: - | E81: - | F81: - | G81: - | H81: - | I81: - | J81: - | K81: - | L81: - | M81: - | N81: - | O81: - | P81: - | Q81: - | R81: - | S81: - | T81: - | U81: - | V81: - | W81: - | X81: - | Y81: - | Z81: - | AA81: - | AB81: - | AC81: - | AD81: - | AE81: - | AF81: - | AG81: - | AH81: - | AI81: - | AJ81: - | AK81: - | AL81: - | AM81: - | AN81: - | AO81: - | AP81: - | AQ81: - | AR81: - | AS81: - | AT81: - | AU81: - | AV81: - | AW81: - | AX81: - | AY81: - | AZ81: 380 | BA81: 427 | BB81: 473 | BC81: 423 | BD81: 563 | BE81: 533 | BF81: 509 | BG81: 511 | BH81: 575 | BI81: 473 | BL81: 23234 | BM81: 北名古屋市 | BP81: - | BQ81: - | BR81: … | BS81: … | BT81: - | BU81: 301 | BV81: - | BW81: - | BX81: … | BY81: … | BZ81: - | CA81: 342 | CB81: - | CC81: - | CD81: … | CE81: … | CF81: - | CG81: 352 | CH81: - | CI81: - | CJ81: … | CK81: … | CL81: - | CM81: 278 | CN81: - | CO81: - | CP81: - | CQ81: - | CR81: - | CS81: 240 | CT81: - | CU81: - | CV81: - | CW81: - | CX81: - | CZ81: - | DA81: - | DB81: - | DC81: - | DD81: - | DE81: 418 | DF81: - | DG81: - | DH81: - | DI81: - | DJ81: - | DK81: 428
A82: 愛知県弥富市 | B82: 368 | C82: 462 | D82: x | E82: x | F82: 1700 | G82: 389 | H82: 482 | I82: 482 | J82: - | K82: 1870 | L82: 394 | M82: 506 | N82: 506 | O82: - | P82: 1990 | Q82: 395 | R82: 463 | S82: 463 | T82: - | U82: 1830 | V82: 433 | W82: 625 | X82: 625 | Y82: - | Z82: 2710 | AA82: 431 | AB82: 615 | AC82: 615 | AD82: - | AE82: 2650 | AF82: 448 | AG82: 541 | AH82: 541 | AI82: - | AJ82: 2420 | AK82: 462 | AL82: 600 | AM82: 600 | AN82: - | AO82: 2770 | AP82: 462 | AQ82: 631 | AR82: 631 | AS82: - | AT82: 2920 | AU82: 459 | AV82: 482 | AW82: 482 | AX82: - | AY82: 2210 | AZ82: 380 | BA82: 427 | BB82: 473 | BC82: 423 | BD82: 563 | BE82: 533 | BF82: 509 | BG82: 511 | BH82: 575 | BI82: 473 | BL82: 23235 | BM82: 弥富市 | BP82: 177 | BQ82: 245 | BR82: … | BS82: … | BT82: 434 | BU82: 301 | BV82: 222 | BW82: 395 | BX82: … | BY82: … | BZ82: 875 | CA82: 342 | CB82: 224 | CC82: 468 | CD82: … | CE82: … | CF82: 1050 | CG82: 352 | CH82: 252 | CI82: 386 | CJ82: … | CK82: … | CL82: 973 | CM82: 278 | CN82: 275 | CO82: 332 | CP82: 332 | CQ82: x | CR82: 915 | CS82: 240 | CT82: 325 | CU82: 484 | CV82: 484 | CW82: x | CX82: 1570 | CZ82: 333 | DA82: 503 | DB82: 503 | DC82: x | DD82: 1670 | DE82: 418 | DF82: 332 | DG82: 527 | DH82: 527 | DI82: x | DJ82: 1750 | DK82: 428
A83: 愛知県みよし市 | B83: 26 | C83: 369 | D83: 369 | E83: - | F83: 96 | G83: 40 | H83: 415 | I83: 415 | J83: - | K83: 166 | L83: 30 | M83: 433 | N83: 433 | O83: - | P83: 130 | Q83: 38 | R83: 395 | S83: 395 | T83: - | U83: 150 | V83: 44 | W83: 491 | X83: 491 | Y83: - | Z83: 216 | AA83: 42 | AB83: 509 | AC83: 509 | AD83: - | AE83: 214 | AF83: 47 | AG83: 494 | AH83: 494 | AI83: - | AJ83: 232 | AK83: 59 | AL83: 486 | AM83: 486 | AN83: - | AO83: 287 | AP83: 77 | AQ83: 500 | AR83: 500 | AS83: - | AT83: 385 | AU83: 84 | AV83: 383 | AW83: 383 | AX83: - | AY83: 322 | AZ83: 380 | BA83: 427 | BB83: 473 | BC83: 423 | BD83: 563 | BE83: 533 | BF83: 509 | BG83: 511 | BH83: 575 | BI83: 473 | BL83: 23236 | BM83: みよし市 | BP83: 39 | BQ83: 238 | BT83: 93 | BU83: 301 | BV83: 41 | BW83: 280 | BZ83: 115 | CA83: 342 | CB83: 45 | CC83: 273 | CD83: … | CE83: … | CF83: 123 | CG83: 352 | CH83: 46 | CI83: 202 | CJ83: … | CK83: … | CL83: 93 | CM83: 278 | CN83: 48 | CO83: 179 | CP83: 179 | CQ83: - | CR83: 86 | CS83: 240 | CT83: 37 | CU83: 251 | CV83: 251 | CW83: - | CX83: 93 | CZ83: 36 | DA83: 281 | DB83: 281 | DC83: - | DD83: 101 | DE83: 418 | DF83: 33 | DG83: 285 | DH83: 285 | DI83: - | DJ83: 94 | DK83: 428
A84: 愛知県あま市 | B84: - | C84: - | D84: - | E84: - | F84: - | G84: - | H84: - | I84: - | J84: - | K84: - | L84: - | M84: - | N84: - | O84: - | P84: - | Q84: x | R84: x | S84: x | T84: - | U84: x | V84: x | W84: x | X84: x | Y84: - | Z84: x | AA84: x | AB84: x | AC84: x | AD84: - | AE84: x | AF84: 27 | AG84: 593 | AH84: x | AI84: 400 | AJ84: 160 | AK84: 41 | AL84: 612 | AM84: x | AN84: 500 | AO84: 251 | AP84: 67 | AQ84: 557 | AR84: x | AS84: 500 | AT84: 373 | AU84: 87 | AV84: 446 | AW84: x | AX84: 420 | AY84: 388 | AZ84: 380 | BA84: 427 | BB84: 473 | BC84: 423 | BD84: 563 | BE84: 533 | BF84: 509 | BG84: 511 | BH84: 575 | BI84: 473 | BL84: 23237 | BM84: あま市 | BP84: - | BQ84: - | BR84: … | BS84: … | BT84: - | BU84: 301 | BV84: - | BW84: - | BX84: … | BY84: … | BZ84: - | CA84: 342 | CB84: - | CC84: - | CD84: … | CE84: … | CF84: - | CG84: 352 | CH84: - | CI84: - | CJ84: … | CK84: … | CL84: - | CM84: 278 | CN84: - | CO84: - | CP84: - | CQ84: - | CR84: - | CS84: 240 | CT84: - | CU84: - | CV84: - | CW84: - | CX84: - | CZ84: - | DA84: - | DB84: - | DC84: - | DD84: - | DE84: 418 | DF84: - | DG84: - | DH84: - | DI84: - | DJ84: - | DK84: 428
A85: 愛知県長久手市 | B85: x | C85: x | D85: x | E85: x | F85: x | G85: x | H85: x | I85: x | J85: x | K85: x | L85: x | M85: x | N85: x | O85: x | P85: x | Q85: x | R85: x | S85: x | T85: x | U85: x | V85: x | W85: x | X85: x | Y85: x | Z85: x | AA85: x | AB85: x | AC85: x | AD85: x | AE85: x | AF85: x | AG85: x | AH85: x | AI85: x | AJ85: x | AK85: x | AL85: x | AM85: x | AN85: x | AO85: x | AP85: x | AQ85: x | AR85: x | AS85: x | AT85: x | AU85: x | AV85: x | AW85: x | AX85: x | AY85: x | AZ85: 380 | BA85: 427 | BB85: 473 | BC85: 423 | BD85: 563 | BE85: 533 | BF85: 509 | BG85: 511 | BH85: 575 | BI85: 473 | BL85: 23238 | BM85: 長久手市 | BP85: 3 | BQ85: 112 | BR85: … | BS85: … | BT85: 3 | BU85: 301 | BV85: 3 | BW85: 115 | BX85: … | BY85: … | BZ85: 4 | CA85: 342 | CB85: x | CC85: x | CD85: … | CE85: … | CF85: x | CG85: 352 | CH85: x | CI85: x | CJ85: … | CK85: … | CL85: x | CM85: 278 | CN85: x | CO85: x | CP85: x | CQ85: x | CR85: x | CS85: 240 | CT85: x | CU85: x | CV85: x | CW85: x | CX85: x | CZ85: x | DA85: x | DB85: x | DC85: x | DD85: x | DE85: 418 | DF85: x | DG85: x | DH85: x | DI85: x | DJ85: x | DK85: 428
