Workbook
Name そば: OFFSET('そば (2)'!$A$5,参照!$D$127,1,1,10)
Name 愛知県: 市町村!$B$2:$B$55
Name 岐阜県: 市町村!$A$2:$A$43
Name 県名: 市町村!$A$1:$C$1
Name 三重県: 市町村!$C$2:$C$30
Name 小麦: OFFSET('小麦 (2)'!$A$5,参照!$D$127,1,1,10)
Name 大豆: OFFSET('大豆 (2)'!$A$5,参照!$D$127,1,1,10)
Name 六条: OFFSET('六条 (2)'!$A$5,参照!$D$127,1,1,10)

Sheet 市町村別統計累年ファイル
C4: 県 | F4: 市町村
C5: 岐阜県 | F5: 岐阜市
B8: １ 耕地面積 | P8: 単位 ： 面積（ha）、10ａ当たり収量（kg）、収穫量（ｔ）
P11: 区分 | Q11: 計 | U11: 田 | AC11: 畑
Y12: 本地
P13: =GRAPHDATA!A4 -> 平成 27年 | Q13: =IF(COUNTIF(参照!$C$1:$C$125,$C$5&$F$5)=1,VLOOKUP($C$5&$F$5,耕地!$A$6:$AO$130,2,FALSE),"") -> 4030 | U13: =IF(COUNTIF(参照!$C$1:$C$125,$C$5&$F$5)=1,VLOOKUP($C$5&$F$5,耕地!$A$6:$AO$130,3,FALSE),"") -> 2990 | Y13: =IF(COUNTIF(参照!$C$1:$C$125,$C$5&$F$5)=1,VLOOKUP($C$5&$F$5,耕地!$A$6:$AO$130,4,FALSE),"") -> 2910 | AC13: =IF(COUNTIF(参照!$C$1:$C$125,$C$5&$F$5)=1,VLOOKUP($C$5&$F$5,耕地!$A$6:$AO$130,5,FALSE),"") -> 1040
P14: =GRAPHDATA!A5 -> 28 | Q14: =IF(COUNTIF(参照!$C$1:$C$125,$C$5&$F$5)=1,VLOOKUP($C$5&$F$5,耕地!$A$6:$AO$130,6,FALSE),"") -> 4010 | U14: =IF(COUNTIF(参照!$C$1:$C$125,$C$5&$F$5)=1,VLOOKUP($C$5&$F$5,耕地!$A$6:$AO$130,7,FALSE),"") -> 2950 | Y14: =IF(COUNTIF(参照!$C$1:$C$125,$C$5&$F$5)=1,VLOOKUP($C$5&$F$5,耕地!$A$6:$AO$130,8,FALSE),"") -> 2880 | AC14: =IF(COUNTIF(参照!$C$1:$C$125,$C$5&$F$5)=1,VLOOKUP($C$5&$F$5,耕地!$A$6:$AO$130,9,FALSE),"") -> 1060
P15: =GRAPHDATA!A6 -> 29 | Q15: =IF(COUNTIF(参照!$C$1:$C$125,$C$5&$F$5)=1,VLOOKUP($C$5&$F$5,耕地!$A$6:$AO$130,10,FALSE),"") -> 3950 | U15: =IF(COUNTIF(参照!$C$1:$C$125,$C$5&$F$5)=1,VLOOKUP($C$5&$F$5,耕地!$A$6:$AO$130,11,FALSE),"") -> 2900 | Y15: =IF(COUNTIF(参照!$C$1:$C$125,$C$5&$F$5)=1,VLOOKUP($C$5&$F$5,耕地!$A$6:$AO$130,12,FALSE),"") -> 2820 | AC15: =IF(COUNTIF(参照!$C$1:$C$125,$C$5&$F$5)=1,VLOOKUP($C$5&$F$5,耕地!$A$6:$AO$130,13,FALSE),"") -> 1060
P16: =GRAPHDATA!A7 -> 30 | Q16: =IF(COUNTIF(参照!$C$1:$C$125,$C$5&$F$5)=1,VLOOKUP($C$5&$F$5,耕地!$A$6:$AO$130,14,FALSE),"") -> 3950 | U16: =IF(COUNTIF(参照!$C$1:$C$125,$C$5&$F$5)=1,VLOOKUP($C$5&$F$5,耕地!$A$6:$AO$130,15,FALSE),"") -> 2880 | Y16: =IF(COUNTIF(参照!$C$1:$C$125,$C$5&$F$5)=1,VLOOKUP($C$5&$F$5,耕地!$A$6:$AO$130,16,FALSE),"") -> 2810 | AC16: =IF(COUNTIF(参照!$C$1:$C$125,$C$5&$F$5)=1,VLOOKUP($C$5&$F$5,耕地!$A$6:$AO$130,17,FALSE),"") -> 1070
P17: =GRAPHDATA!A8 -> 令和 元年 | Q17: =IF(COUNTIF(参照!$C$1:$C$125,$C$5&$F$5)=1,VLOOKUP($C$5&$F$5,耕地!$A$6:$AO$130,18,FALSE),"") -> 3930 | U17: =IF(COUNTIF(参照!$C$1:$C$125,$C$5&$F$5)=1,VLOOKUP($C$5&$F$5,耕地!$A$6:$AO$130,19,FALSE),"") -> 2860 | Y17: =IF(COUNTIF(参照!$C$1:$C$125,$C$5&$F$5)=1,VLOOKUP($C$5&$F$5,耕地!$A$6:$AO$130,20,FALSE),"") -> 2790 | AC17: =IF(COUNTIF(参照!$C$1:$C$125,$C$5&$F$5)=1,VLOOKUP($C$5&$F$5,耕地!$A$6:$AO$130,21,FALSE),"") -> 1070
P18: =GRAPHDATA!A9 -> 2 | Q18: =IF(COUNTIF(参照!$C$1:$C$125,$C$5&$F$5)=1,VLOOKUP($C$5&$F$5,耕地!$A$6:$AO$130,22,FALSE),"") -> 3930 | U18: =IF(COUNTIF(参照!$C$1:$C$125,$C$5&$F$5)=1,VLOOKUP($C$5&$F$5,耕地!$A$6:$AO$130,23,FALSE),"") -> 2850 | Y18: =IF(COUNTIF(参照!$C$1:$C$125,$C$5&$F$5)=1,VLOOKUP($C$5&$F$5,耕地!$A$6:$AO$130,24,FALSE),"") -> 2780 | AC18: =IF(COUNTIF(参照!$C$1:$C$125,$C$5&$F$5)=1,VLOOKUP($C$5&$F$5,耕地!$A$6:$AO$130,25,FALSE),"") -> 1080
P19: =GRAPHDATA!A10 -> 3 | Q19: =IF(COUNTIF(参照!$C$1:$C$125,$C$5&$F$5)=1,VLOOKUP($C$5&$F$5,耕地!$A$6:$AO$130,26,FALSE),"") -> 3930 | U19: =IF(COUNTIF(参照!$C$1:$C$125,$C$5&$F$5)=1,VLOOKUP($C$5&$F$5,耕地!$A$6:$AO$130,27,FALSE),"") -> 2850 | Y19: =IF(COUNTIF(参照!$C$1:$C$125,$C$5&$F$5)=1,VLOOKUP($C$5&$F$5,耕地!$A$6:$AO$130,28,FALSE),"") -> 2770 | AC19: =IF(COUNTIF(参照!$C$1:$C$125,$C$5&$F$5)=1,VLOOKUP($C$5&$F$5,耕地!$A$6:$AO$130,29,FALSE),"") -> 1080
P20: =GRAPHDATA!A11 -> 4 | Q20: =IF(COUNTIF(参照!$C$1:$C$125,$C$5&$F$5)=1,VLOOKUP($C$5&$F$5,耕地!$A$6:$AO$130,30,FALSE),"") -> 3900 | U20: =IF(COUNTIF(参照!$C$1:$C$125,$C$5&$F$5)=1,VLOOKUP($C$5&$F$5,耕地!$A$6:$AO$130,31,FALSE),"") -> 2830 | Y20: =IF(COUNTIF(参照!$C$1:$C$125,$C$5&$F$5)=1,VLOOKUP($C$5&$F$5,耕地!$A$6:$AO$130,32,FALSE),"") -> 2760 | AC20: =IF(COUNTIF(参照!$C$1:$C$125,$C$5&$F$5)=1,VLOOKUP($C$5&$F$5,耕地!$A$6:$AO$130,33,FALSE),"") -> 1070
P21: =GRAPHDATA!A12 -> 5 | Q21: =IF(COUNTIF(参照!$C$1:$C$125,$C$5&$F$5)=1,VLOOKUP($C$5&$F$5,耕地!$A$6:$AO$130,34,FALSE),"") -> 3880 | U21: =IF(COUNTIF(参照!$C$1:$C$125,$C$5&$F$5)=1,VLOOKUP($C$5&$F$5,耕地!$A$6:$AO$130,35,FALSE),"") -> 2810 | Y21: =IF(COUNTIF(参照!$C$1:$C$125,$C$5&$F$5)=1,VLOOKUP($C$5&$F$5,耕地!$A$6:$AO$130,36,FALSE),"") -> 2740 | AC21: =IF(COUNTIF(参照!$C$1:$C$125,$C$5&$F$5)=1,VLOOKUP($C$5&$F$5,耕地!$A$6:$AO$130,37,FALSE),"") -> 1070
P22: =GRAPHDATA!A13 -> 6 | Q22: =IF(COUNTIF(参照!$C$1:$C$125,$C$5&$F$5)=1,VLOOKUP($C$5&$F$5,耕地!$A$6:$AO$130,38,FALSE),"") -> 3770 | U22: =IF(COUNTIF(参照!$C$1:$C$125,$C$5&$F$5)=1,VLOOKUP($C$5&$F$5,耕地!$A$6:$AO$130,39,FALSE),"") -> 2720 | Y22: =IF(COUNTIF(参照!$C$1:$C$125,$C$5&$F$5)=1,VLOOKUP($C$5&$F$5,耕地!$A$6:$AO$130,40,FALSE),"") -> 2650 | AC22: =IF(COUNTIF(参照!$C$1:$C$125,$C$5&$F$5)=1,VLOOKUP($C$5&$F$5,耕地!$A$6:$AO$130,41,FALSE),"") -> 1060
B25: ２ 水稲
P28: 区分 | Q28: 作付 面積 | V28: 10ａ当たり 収量 | AA28: 収穫量
P30: =GRAPHDATA!G4 -> 平成 27年産 | Q30: =IF(COUNTIF(参照!$C$1:$C$125,$C$5&$F$5)=1,VLOOKUP($C$5&$F$5,水稲!$A$6:$AE$130,2,FALSE),"") -> 1580 | V30: =IF(COUNTIF(参照!$C$1:$C$125,$C$5&$F$5)=1,VLOOKUP($C$5&$F$5,水稲!$A$6:$AE$130,3,FALSE),"") -> 469 | AA30: =IF(COUNTIF(参照!$C$1:$C$125,$C$5&$F$5)=1,VLOOKUP($C$5&$F$5,水稲!$A$6:$AE$130,4,FALSE),"") -> 7390
P31: =GRAPHDATA!G5 -> 28 | Q31: =IF(COUNTIF(参照!$C$1:$C$125,$C$5&$F$5)=1,VLOOKUP($C$5&$F$5,水稲!$A$6:$AE$130,5,FALSE),"") -> 1500 | V31: =IF(COUNTIF(参照!$C$1:$C$125,$C$5&$F$5)=1,VLOOKUP($C$5&$F$5,水稲!$A$6:$AE$130,6,FALSE),"") -> 475 | AA31: =IF(COUNTIF(参照!$C$1:$C$125,$C$5&$F$5)=1,VLOOKUP($C$5&$F$5,水稲!$A$6:$AE$130,7,FALSE),"") -> 7130
P32: =GRAPHDATA!G6 -> 29 | Q32: =IF(COUNTIF(参照!$C$1:$C$125,$C$5&$F$5)=1,VLOOKUP($C$5&$F$5,水稲!$A$6:$AE$130,8,FALSE),"") -> 1470 | V32: =IF(COUNTIF(参照!$C$1:$C$125,$C$5&$F$5)=1,VLOOKUP($C$5&$F$5,水稲!$A$6:$AE$130,9,FALSE),"") -> 475 | AA32: =IF(COUNTIF(参照!$C$1:$C$125,$C$5&$F$5)=1,VLOOKUP($C$5&$F$5,水稲!$A$6:$AE$130,10,FALSE),"") -> 7000
P33: =GRAPHDATA!G7 -> 30 | Q33: =IF(COUNTIF(参照!$C$1:$C$125,$C$5&$F$5)=1,VLOOKUP($C$5&$F$5,水稲!$A$6:$AE$130,11,FALSE),"") -> 1490 | V33: =IF(COUNTIF(参照!$C$1:$C$125,$C$5&$F$5)=1,VLOOKUP($C$5&$F$5,水稲!$A$6:$AE$130,12,FALSE),"") -> 461 | AA33: =IF(COUNTIF(参照!$C$1:$C$125,$C$5&$F$5)=1,VLOOKUP($C$5&$F$5,水稲!$A$6:$AE$130,13,FALSE),"") -> 6870
P34: =GRAPHDATA!G8 -> 令和 元年産 | Q34: =IF(COUNTIF(参照!$C$1:$C$125,$C$5&$F$5)=1,VLOOKUP($C$5&$F$5,水稲!$A$6:$AE$130,14,FALSE),"") -> 1550 | V34: =IF(COUNTIF(参照!$C$1:$C$125,$C$5&$F$5)=1,VLOOKUP($C$5&$F$5,水稲!$A$6:$AE$130,15,FALSE),"") -> 468 | AA34: =IF(COUNTIF(参照!$C$1:$C$125,$C$5&$F$5)=1,VLOOKUP($C$5&$F$5,水稲!$A$6:$AE$130,16,FALSE),"") -> 7230
P35: =GRAPHDATA!G9 -> 2 | Q35: =IF(COUNTIF(参照!$C$1:$C$125,$C$5&$F$5)=1,VLOOKUP($C$5&$F$5,水稲!$A$6:$AE$130,17,FALSE),"") -> 1550 | V35: =IF(COUNTIF(参照!$C$1:$C$125,$C$5&$F$5)=1,VLOOKUP($C$5&$F$5,水稲!$A$6:$AE$130,18,FALSE),"") -> 451 | AA35: =IF(COUNTIF(参照!$C$1:$C$125,$C$5&$F$5)=1,VLOOKUP($C$5&$F$5,水稲!$A$6:$AE$130,19,FALSE),"") -> 6990
P36: =GRAPHDATA!G10 -> 3 | Q36: =IF(COUNTIF(参照!$C$1:$C$125,$C$5&$F$5)=1,VLOOKUP($C$5&$F$5,水稲!$A$6:$AE$130,20,FALSE),"") -> 1560 | V36: =IF(COUNTIF(参照!$C$1:$C$125,$C$5&$F$5)=1,VLOOKUP($C$5&$F$5,水稲!$A$6:$AE$130,21,FALSE),"") -> 467 | AA36: =IF(COUNTIF(参照!$C$1:$C$125,$C$5&$F$5)=1,VLOOKUP($C$5&$F$5,水稲!$A$6:$AE$130,22,FALSE),"") -> 7300
P37: =GRAPHDATA!G11 -> 4 | Q37: =IF(COUNTIF(参照!$C$1:$C$125,$C$5&$F$5)=1,VLOOKUP($C$5&$F$5,水稲!$A$6:$AE$130,23,FALSE),"") -> 1460 | V37: =IF(COUNTIF(参照!$C$1:$C$125,$C$5&$F$5)=1,VLOOKUP($C$5&$F$5,水稲!$A$6:$AE$130,24,FALSE),"") -> 481 | AA37: =IF(COUNTIF(参照!$C$1:$C$125,$C$5&$F$5)=1,VLOOKUP($C$5&$F$5,水稲!$A$6:$AE$130,25,FALSE),"") -> 7010
P38: =GRAPHDATA!G12 -> 5 | Q38: =IF(COUNTIF(参照!$C$1:$C$125,$C$5&$F$5)=1,VLOOKUP($C$5&$F$5,水稲!$A$6:$AE$130,26,FALSE),"") -> 1580 | V38: =IF(COUNTIF(参照!$C$1:$C$125,$C$5&$F$5)=1,VLOOKUP($C$5&$F$5,水稲!$A$6:$AE$130,27,FALSE),"") -> 475 | AA38: =IF(COUNTIF(参照!$C$1:$C$125,$C$5&$F$5)=1,VLOOKUP($C$5&$F$5,水稲!$A$6:$AE$130,28,FALSE),"") -> 7490
P39: =GRAPHDATA!G13 -> 6 | Q39: =IF(COUNTIF(参照!$C$1:$C$125,$C$5&$F$5)=1,VLOOKUP($C$5&$F$5,水稲!$A$6:$AE$130,29,FALSE),"") -> 1540 | V39: =IF(COUNTIF(参照!$C$1:$C$125,$C$5&$F$5)=1,VLOOKUP($C$5&$F$5,水稲!$A$6:$AE$130,30,FALSE),"") -> 474 | AA39: =IF(COUNTIF(参照!$C$1:$C$125,$C$5&$F$5)=1,VLOOKUP($C$5&$F$5,水稲!$A$6:$AE$130,31,FALSE),"") -> 7300
B42: ３ 小麦
P45: 区分 | Q45: 作付 面積 | T45: 10ａ当たり収量 | AC45: 収穫量
W46: 田 | Z46: 畑
P47: =GRAPHDATA!M4 -> 平成 27年産 | Q47: =IF(COUNTIF(参照!$C$1:$C$125,$C$5&$F$5)=1,VLOOKUP($C$5&$F$5,小麦!$A$6:$AY$130,2,FALSE),"") -> 96 | T47: =IF(COUNTIF(参照!$C$1:$C$125,$C$5&$F$5)=1,VLOOKUP($C$5&$F$5,小麦!$A$6:$AY$130,3,FALSE),"") -> 190 | W47: =IF(COUNTIF(参照!$C$1:$C$125,$C$5&$F$5)=1,VLOOKUP($C$5&$F$5,小麦!$A$6:$AY$130,4,FALSE),"") -> 190 | Z47: =IF(COUNTIF(参照!$C$1:$C$125,$C$5&$F$5)=1,VLOOKUP($C$5&$F$5,小麦!$A$6:$AY$130,5,FALSE),"") -> - | AC47: =IF(COUNTIF(参照!$C$1:$C$125,$C$5&$F$5)=1,VLOOKUP($C$5&$F$5,小麦!$A$6:$AY$130,6,FALSE),"") -> 182
P48: =GRAPHDATA!M5 -> 28 | Q48: =IF(COUNTIF(参照!$C$1:$C$125,$C$5&$F$5)=1,VLOOKUP($C$5&$F$5,小麦!$A$6:$AY$130,7,FALSE),"") -> 106 | T48: =IF(COUNTIF(参照!$C$1:$C$125,$C$5&$F$5)=1,VLOOKUP($C$5&$F$5,小麦!$A$6:$AY$130,8,FALSE),"") -> 221 | W48: =IF(COUNTIF(参照!$C$1:$C$125,$C$5&$F$5)=1,VLOOKUP($C$5&$F$5,小麦!$A$6:$AY$130,9,FALSE),"") -> 221 | Z48: =IF(COUNTIF(参照!$C$1:$C$125,$C$5&$F$5)=1,VLOOKUP($C$5&$F$5,小麦!$A$6:$AY$130,10,FALSE),"") -> - | AC48: =IF(COUNTIF(参照!$C$1:$C$125,$C$5&$F$5)=1,VLOOKUP($C$5&$F$5,小麦!$A$6:$AY$130,11,FALSE),"") -> 234
P49: =GRAPHDATA!M6 -> 29 | Q49: =IF(COUNTIF(参照!$C$1:$C$125,$C$5&$F$5)=1,VLOOKUP($C$5&$F$5,小麦!$A$6:$AY$130,12,FALSE),"") -> 114 | T49: =IF(COUNTIF(参照!$C$1:$C$125,$C$5&$F$5)=1,VLOOKUP($C$5&$F$5,小麦!$A$6:$AY$130,13,FALSE),"") -> 292 | W49: =IF(COUNTIF(参照!$C$1:$C$125,$C$5&$F$5)=1,VLOOKUP($C$5&$F$5,小麦!$A$6:$AY$130,14,FALSE),"") -> 292 | Z49: =IF(COUNTIF(参照!$C$1:$C$125,$C$5&$F$5)=1,VLOOKUP($C$5&$F$5,小麦!$A$6:$AY$130,15,FALSE),"") -> - | AC49: =IF(COUNTIF(参照!$C$1:$C$125,$C$5&$F$5)=1,VLOOKUP($C$5&$F$5,小麦!$A$6:$AY$130,16,FALSE),"") -> 333
P50: =GRAPHDATA!M7 -> 30 | Q50: =IF(COUNTIF(参照!$C$1:$C$125,$C$5&$F$5)=1,VLOOKUP($C$5&$F$5,小麦!$A$6:$AY$130,17,FALSE),"") -> 127 | T50: =IF(COUNTIF(参照!$C$1:$C$125,$C$5&$F$5)=1,VLOOKUP($C$5&$F$5,小麦!$A$6:$AY$130,18,FALSE),"") -> 295 | W50: =IF(COUNTIF(参照!$C$1:$C$125,$C$5&$F$5)=1,VLOOKUP($C$5&$F$5,小麦!$A$6:$AY$130,19,FALSE),"") -> 295 | Z50: =IF(COUNTIF(参照!$C$1:$C$125,$C$5&$F$5)=1,VLOOKUP($C$5&$F$5,小麦!$A$6:$AY$130,20,FALSE),"") -> - | AC50: =IF(COUNTIF(参照!$C$1:$C$125,$C$5&$F$5)=1,VLOOKUP($C$5&$F$5,小麦!$A$6:$AY$130,21,FALSE),"") -> 375
P51: =GRAPHDATA!M8 -> 令和 元年産 | Q51: =IF(COUNTIF(参照!$C$1:$C$125,$C$5&$F$5)=1,VLOOKUP($C$5&$F$5,小麦!$A$6:$AY$130,22,FALSE),"") -> 133 | T51: =IF(COUNTIF(参照!$C$1:$C$125,$C$5&$F$5)=1,VLOOKUP($C$5&$F$5,小麦!$A$6:$AY$130,23,FALSE),"") -> 363 | W51: =IF(COUNTIF(参照!$C$1:$C$125,$C$5&$F$5)=1,VLOOKUP($C$5&$F$5,小麦!$A$6:$AY$130,24,FALSE),"") -> 363 | Z51: =IF(COUNTIF(参照!$C$1:$C$125,$C$5&$F$5)=1,VLOOKUP($C$5&$F$5,小麦!$A$6:$AY$130,25,FALSE),"") -> - | AC51: =IF(COUNTIF(参照!$C$1:$C$125,$C$5&$F$5)=1,VLOOKUP($C$5&$F$5,小麦!$A$6:$AY$130,26,FALSE),"") -> 483
P52: =GRAPHDATA!M9 -> 2 | Q52: =IF(COUNTIF(参照!$C$1:$C$125,$C$5&$F$5)=1,VLOOKUP($C$5&$F$5,小麦!$A$6:$AY$130,27,FALSE),"") -> 140 | T52: =IF(COUNTIF(参照!$C$1:$C$125,$C$5&$F$5)=1,VLOOKUP($C$5&$F$5,小麦!$A$6:$AY$130,28,FALSE),"") -> 318 | W52: =IF(COUNTIF(参照!$C$1:$C$125,$C$5&$F$5)=1,VLOOKUP($C$5&$F$5,小麦!$A$6:$AY$130,29,FALSE),"") -> 318 | Z52: =IF(COUNTIF(参照!$C$1:$C$125,$C$5&$F$5)=1,VLOOKUP($C$5&$F$5,小麦!$A$6:$AY$130,30,FALSE),"") -> - | AC52: =IF(COUNTIF(参照!$C$1:$C$125,$C$5&$F$5)=1,VLOOKUP($C$5&$F$5,小麦!$A$6:$AY$130,31,FALSE),"") -> 445
P53: =GRAPHDATA!M10 -> 3 | Q53: =IF(COUNTIF(参照!$C$1:$C$125,$C$5&$F$5)=1,VLOOKUP($C$5&$F$5,小麦!$A$6:$AY$130,32,FALSE),"") -> 158 | T53: =IF(COUNTIF(参照!$C$1:$C$125,$C$5&$F$5)=1,VLOOKUP($C$5&$F$5,小麦!$A$6:$AY$130,33,FALSE),"") -> 277 | W53: =IF(COUNTIF(参照!$C$1:$C$125,$C$5&$F$5)=1,VLOOKUP($C$5&$F$5,小麦!$A$6:$AY$130,34,FALSE),"") -> 277 | Z53: =IF(COUNTIF(参照!$C$1:$C$125,$C$5&$F$5)=1,VLOOKUP($C$5&$F$5,小麦!$A$6:$AY$130,35,FALSE),"") -> - | AC53: =IF(COUNTIF(参照!$C$1:$C$125,$C$5&$F$5)=1,VLOOKUP($C$5&$F$5,小麦!$A$6:$AY$130,36,FALSE),"") -> 438
P54: =GRAPHDATA!M11 -> 4 | Q54: =IF(COUNTIF(参照!$C$1:$C$125,$C$5&$F$5)=1,VLOOKUP($C$5&$F$5,小麦!$A$6:$AY$130,37,FALSE),"") -> 159 | T54: =IF(COUNTIF(参照!$C$1:$C$125,$C$5&$F$5)=1,VLOOKUP($C$5&$F$5,小麦!$A$6:$AY$130,38,FALSE),"") -> 321 | W54: =IF(COUNTIF(参照!$C$1:$C$125,$C$5&$F$5)=1,VLOOKUP($C$5&$F$5,小麦!$A$6:$AY$130,39,FALSE),"") -> 321 | Z54: =IF(COUNTIF(参照!$C$1:$C$125,$C$5&$F$5)=1,VLOOKUP($C$5&$F$5,小麦!$A$6:$AY$130,40,FALSE),"") -> - | AC54: =IF(COUNTIF(参照!$C$1:$C$125,$C$5&$F$5)=1,VLOOKUP($C$5&$F$5,小麦!$A$6:$AY$130,41,FALSE),"") -> 511
P55: =GRAPHDATA!M12 -> 5 | Q55: =IF(COUNTIF(参照!$C$1:$C$125,$C$5&$F$5)=1,VLOOKUP($C$5&$F$5,小麦!$A$6:$AY$130,42,FALSE),"") -> 176 | T55: =IF(COUNTIF(参照!$C$1:$C$125,$C$5&$F$5)=1,VLOOKUP($C$5&$F$5,小麦!$A$6:$AY$130,43,FALSE),"") -> 310 | W55: =IF(COUNTIF(参照!$C$1:$C$125,$C$5&$F$5)=1,VLOOKUP($C$5&$F$5,小麦!$A$6:$AY$130,44,FALSE),"") -> 310 | Z55: =IF(COUNTIF(参照!$C$1:$C$125,$C$5&$F$5)=1,VLOOKUP($C$5&$F$5,小麦!$A$6:$AY$130,45,FALSE),"") -> - | AC55: =IF(COUNTIF(参照!$C$1:$C$125,$C$5&$F$5)=1,VLOOKUP($C$5&$F$5,小麦!$A$6:$AY$130,46,FALSE),"") -> 546
P56: =GRAPHDATA!M13 -> 6 | Q56: =IF(COUNTIF(参照!$C$1:$C$125,$C$5&$F$5)=1,VLOOKUP($C$5&$F$5,小麦!$A$6:$AY$130,47,FALSE),"") -> 187 | T56: =IF(COUNTIF(参照!$C$1:$C$125,$C$5&$F$5)=1,VLOOKUP($C$5&$F$5,小麦!$A$6:$AY$130,48,FALSE),"") -> 222 | W56: =IF(COUNTIF(参照!$C$1:$C$125,$C$5&$F$5)=1,VLOOKUP($C$5&$F$5,小麦!$A$6:$AY$130,49,FALSE),"") -> 222 | Z56: =IF(COUNTIF(参照!$C$1:$C$125,$C$5&$F$5)=1,VLOOKUP($C$5&$F$5,小麦!$A$6:$AY$130,50,FALSE),"") -> - | AC56: =IF(COUNTIF(参照!$C$1:$C$125,$C$5&$F$5)=1,VLOOKUP($C$5&$F$5,小麦!$A$6:$AY$130,51,FALSE),"") -> 415
...

Sheet GRAPHDATA
A1: 耕地面積 | G1: 水稲 | M1: 小麦
A2: 区分 | B2: 田 | C2: 畑 | D2: ダミーDATA用 | G2: 区分 | H2: 作付 面積 | I2: 10ａ当たり 収量 | K2: ダミーDATA用 | M2: 区分 | N2: 作付 面積 | O2: 10ａ当たり 収量 | Q2: ダミーDATA用
D3: 田 | E3: 畑 | I3: 市町村 | J3: 県 | K3: 作付面積 | O3: 市町村 | P3: 県 | Q3: 作付面積
A4: 平成 27年 | B4: =IF(市町村別統計累年ファイル!U13="",NA(),IF(市町村別統計累年ファイル!U13="…",NA(),IF(市町村別統計累年ファイル!U13="-",NA(),IF(市町村別統計累年ファイル!U13="x",NA(),市町村別統計累年ファイル!U13)))) -> 2990 | C4: =IF(市町村別統計累年ファイル!AC13="",NA(),IF(市町村別統計累年ファイル!AC13="…",NA(),IF(市町村別統計累年ファイル!AC13="-",NA(),IF(市町村別統計累年ファイル!AC13="x",NA(),市町村別統計累年ファイル!AC13)))) -> 1040 | D4: =IF(市町村別統計累年ファイル!U13="",0,IF(市町村別統計累年ファイル!U13="…",0,IF(市町村別統計累年ファイル!U13="-",0,IF(市町村別統計累年ファイル!U13="x",0,市町村別統計累年ファイル!U13)))) -> 2990 | E4: =IF(市町村別統計累年ファイル!AC13="",0,IF(市町村別統計累年ファイル!AC13="…",0,IF(市町村別統計累年ファイル!AC13="-",0,IF(市町村別統計累年ファイル!AC13="x",0,市町村別統計累年ファイル!AC13)))) -> 1040 | G4: 平成 27年産 | H4: =IF(市町村別統計累年ファイル!Q30="",NA(),IF(市町村別統計累年ファイル!Q30="…",NA(),IF(市町村別統計累年ファイル!Q30="-",NA(),IF(市町村別統計累年ファイル!Q30="x",NA(),市町村別統計累年ファイル!Q30)))) -> 1580 | I4: =IF(市町村別統計累年ファイル!V30="",NA(),IF(市町村別統計累年ファイル!V30="…",NA(),IF(市町村別統計累年ファイル!V30="-",NA(),IF(市町村別統計累年ファイル!V30="x",NA(),市町村別統計累年ファイル!V30)))) -> 469 | J4: =IF(参照!$C$127="",NA(),IF(VLOOKUP(市町村別統計累年ファイル!$C$5&市町村別統計累年ファイル!$F$5,水稲!$A$6:$BH$130,32,FALSE)="-",NA(),IF(VLOOKUP(市町村別統計累年ファイル!$C$5&市町村別統計累年ファイル!$F$5,水稲!$A$6:$BH$130,32,FALSE)="…",NA(),IF(VLOOKUP(市町村別統計累年ファイル!$C$5&市町村別統計累年ファイル!$F$5,水稲!$A$6:$BH$130,32,FALSE)="x",NA(),VLOOKUP(市町村別統計累年ファイル!$C$5&市町村別統計累年ファイル!$F$5,水稲!$A$6:$BH$130,32,FALSE))))) -> 490 | K4: =IF(市町村別統計累年ファイル!Q30="",0,IF(市町村別統計累年ファイル!Q30="…",0,IF(市町村別統計累年ファイル!Q30="-",0,IF(市町村別統計累年ファイル!Q30="x",0,市町村別統計累年ファイル!Q30)))) -> 1580 | M4: =G4 -> 平成 27年産 | N4: =IF(市町村別統計累年ファイル!Q47="",NA(),IF(市町村別統計累年ファイル!Q47="…",NA(),IF(市町村別統計累年ファイル!Q47="-",NA(),IF(市町村別統計累年ファイル!Q47="x",NA(),市町村別統計累年ファイル!Q47)))) -> 96 | O4: =IF(市町村別統計累年ファイル!T47="",NA(),IF(市町村別統計累年ファイル!T47="…",NA(),IF(市町村別統計累年ファイル!T47="-",NA(),IF(市町村別統計累年ファイル!T47="x",NA(),市町村別統計累年ファイル!T47)))) -> 190 | P4: =IF(参照!$C$127="",NA(),IF(VLOOKUP(市町村別統計累年ファイル!$C$5&市町村別統計累年ファイル!$F$5,小麦!$A$6:$BH$130,52,FALSE)="-",NA(),IF(VLOOKUP(市町村別統計累年ファイル!$C$5&市町村別統計累年ファイル!$F$5,小麦!$A$6:$BH$130,52,FALSE)="…",NA(),IF(VLOOKUP(市町村別統計累年ファイル!$C$5&市町村別統計累年ファイル!$F$5,小麦!$A$6:$BH$130,52,FALSE)="x",NA(),VLOOKUP(市町村別統計累年ファイル!$C$5&市町村別統計累年ファイル!$F$5,小麦!$A$6:$BH$130,52,FALSE))))) -> 275 | Q4: =IF(市町村別統計累年ファイル!Q47="",0,IF(市町村別統計累年ファイル!Q47="…",0,IF(市町村別統計累年ファイル!Q47="-",0,IF(市町村別統計累年ファイル!Q47="x",0,市町村別統計累年ファイル!Q47)))) -> 96
A5: 28 | B5: =IF(市町村別統計累年ファイル!U14="",NA(),IF(市町村別統計累年ファイル!U14="…",NA(),IF(市町村別統計累年ファイル!U14="-",NA(),IF(市町村別統計累年ファイル!U14="x",NA(),市町村別統計累年ファイル!U14)))) -> 2950 | C5: =IF(市町村別統計累年ファイル!AC14="",NA(),IF(市町村別統計累年ファイル!AC14="…",NA(),IF(市町村別統計累年ファイル!AC14="-",NA(),IF(市町村別統計累年ファイル!AC14="x",NA(),市町村別統計累年ファイル!AC14)))) -> 1060 | D5: =IF(市町村別統計累年ファイル!U14="",0,IF(市町村別統計累年ファイル!U14="…",0,IF(市町村別統計累年ファイル!U14="-",0,IF(市町村別統計累年ファイル!U14="x",0,市町村別統計累年ファイル!U14)))) -> 2950 | E5: =IF(市町村別統計累年ファイル!AC14="",0,IF(市町村別統計累年ファイル!AC14="…",0,IF(市町村別統計累年ファイル!AC14="-",0,IF(市町村別統計累年ファイル!AC14="x",0,市町村別統計累年ファイル!AC14)))) -> 1060 | G5: 28 | H5: =IF(市町村別統計累年ファイル!Q31="",NA(),IF(市町村別統計累年ファイル!Q31="…",NA(),IF(市町村別統計累年ファイル!Q31="-",NA(),IF(市町村別統計累年ファイル!Q31="x",NA(),市町村別統計累年ファイル!Q31)))) -> 1500 | I5: =IF(市町村別統計累年ファイル!V31="",NA(),IF(市町村別統計累年ファイル!V31="…",NA(),IF(市町村別統計累年ファイル!V31="-",NA(),IF(市町村別統計累年ファイル!V31="x",NA(),市町村別統計累年ファイル!V31)))) -> 475 | J5: =IF(参照!$C$127="",NA(),IF(VLOOKUP(市町村別統計累年ファイル!$C$5&市町村別統計累年ファイル!$F$5,水稲!$A$6:$BH$130,33,FALSE)="-",NA(),IF(VLOOKUP(市町村別統計累年ファイル!$C$5&市町村別統計累年ファイル!$F$5,水稲!$A$6:$BH$130,33,FALSE)="…",NA(),IF(VLOOKUP(市町村別統計累年ファイル!$C$5&市町村別統計累年ファイル!$F$5,水稲!$A$6:$BH$130,33,FALSE)="x",NA(),VLOOKUP(市町村別統計累年ファイル!$C$5&市町村別統計累年ファイル!$F$5,水稲!$A$6:$BH$130,33,FALSE))))) -> 460 | K5: =IF(市町村別統計累年ファイル!Q31="",0,IF(市町村別統計累年ファイル!Q31="…",0,IF(市町村別統計累年ファイル!Q31="-",0,IF(市町村別統計累年ファイル!Q31="x",0,市町村別統計累年ファイル!Q31)))) -> 1500 | M5: =G5 -> 28 | N5: =IF(市町村別統計累年ファイル!Q48="",NA(),IF(市町村別統計累年ファイル!Q48="…",NA(),IF(市町村別統計累年ファイル!Q48="-",NA(),IF(市町村別統計累年ファイル!Q48="x",NA(),市町村別統計累年ファイル!Q48)))) -> 106 | O5: =IF(市町村別統計累年ファイル!T48="",NA(),IF(市町村別統計累年ファイル!T48="…",NA(),IF(市町村別統計累年ファイル!T48="-",NA(),IF(市町村別統計累年ファイル!T48="x",NA(),市町村別統計累年ファイル!T48)))) -> 221 | P5: =IF(参照!$C$127="",NA(),IF(VLOOKUP(市町村別統計累年ファイル!$C$5&市町村別統計累年ファイル!$F$5,小麦!$A$6:$BH$130,53,FALSE)="-",NA(),IF(VLOOKUP(市町村別統計累年ファイル!$C$5&市町村別統計累年ファイル!$F$5,小麦!$A$6:$BH$130,53,FALSE)="…",NA(),IF(VLOOKUP(市町村別統計累年ファイル!$C$5&市町村別統計累年ファイル!$F$5,小麦!$A$6:$BH$130,53,FALSE)="x",NA(),VLOOKUP(市町村別統計累年ファイル!$C$5&市町村別統計累年ファイル!$F$5,小麦!$A$6:$BH$130,53,FALSE))))) -> 275 | Q5: =IF(市町村別統計累年ファイル!Q48="",0,IF(市町村別統計累年ファイル!Q48="…",0,IF(市町村別統計累年ファイル!Q48="-",0,IF(市町村別統計累年ファイル!Q48="x",0,市町村別統計累年ファイル!Q48)))) -> 106
A6: =A5+1 -> 29 | B6: =IF(市町村別統計累年ファイル!U15="",NA(),IF(市町村別統計累年ファイル!U15="…",NA(),IF(市町村別統計累年ファイル!U15="-",NA(),IF(市町村別統計累年ファイル!U15="x",NA(),市町村別統計累年ファイル!U15)))) -> 2900 | C6: =IF(市町村別統計累年ファイル!AC15="",NA(),IF(市町村別統計累年ファイル!AC15="…",NA(),IF(市町村別統計累年ファイル!AC15="-",NA(),IF(市町村別統計累年ファイル!AC15="x",NA(),市町村別統計累年ファイル!AC15)))) -> 1060 | D6: =IF(市町村別統計累年ファイル!U15="",0,IF(市町村別統計累年ファイル!U15="…",0,IF(市町村別統計累年ファイル!U15="-",0,IF(市町村別統計累年ファイル!U15="x",0,市町村別統計累年ファイル!U15)))) -> 2900 | E6: =IF(市町村別統計累年ファイル!AC15="",0,IF(市町村別統計累年ファイル!AC15="…",0,IF(市町村別統計累年ファイル!AC15="-",0,IF(市町村別統計累年ファイル!AC15="x",0,市町村別統計累年ファイル!AC15)))) -> 1060 | G6: =G5+1 -> 29 | H6: =IF(市町村別統計累年ファイル!Q32="",NA(),IF(市町村別統計累年ファイル!Q32="…",NA(),IF(市町村別統計累年ファイル!Q32="-",NA(),IF(市町村別統計累年ファイル!Q32="x",NA(),市町村別統計累年ファイル!Q32)))) -> 1470 | I6: =IF(市町村別統計累年ファイル!V32="",NA(),IF(市町村別統計累年ファイル!V32="…",NA(),IF(市町村別統計累年ファイル!V32="-",NA(),IF(市町村別統計累年ファイル!V32="x",NA(),市町村別統計累年ファイル!V32)))) -> 475 | J6: =IF(参照!$C$127="",NA(),IF(VLOOKUP(市町村別統計累年ファイル!$C$5&市町村別統計累年ファイル!$F$5,水稲!$A$6:$BH$130,34,FALSE)="-",NA(),IF(VLOOKUP(市町村別統計累年ファイル!$C$5&市町村別統計累年ファイル!$F$5,水稲!$A$6:$BH$130,34,FALSE)="…",NA(),IF(VLOOKUP(市町村別統計累年ファイル!$C$5&市町村別統計累年ファイル!$F$5,水稲!$A$6:$BH$130,34,FALSE)="x",NA(),VLOOKUP(市町村別統計累年ファイル!$C$5&市町村別統計累年ファイル!$F$5,水稲!$A$6:$BH$130,34,FALSE))))) -> 475 | K6: =IF(市町村別統計累年ファイル!Q32="",0,IF(市町村別統計累年ファイル!Q32="…",0,IF(市町村別統計累年ファイル!Q32="-",0,IF(市町村別統計累年ファイル!Q32="x",0,市町村別統計累年ファイル!Q32)))) -> 1470 | M6: =G6 -> 29 | N6: =IF(市町村別統計累年ファイル!Q49="",NA(),IF(市町村別統計累年ファイル!Q49="…",NA(),IF(市町村別統計累年ファイル!Q49="-",NA(),IF(市町村別統計累年ファイル!Q49="x",NA(),市町村別統計累年ファイル!Q49)))) -> 114 | O6: =IF(市町村別統計累年ファイル!T49="",NA(),IF(市町村別統計累年ファイル!T49="…",NA(),IF(市町村別統計累年ファイル!T49="-",NA(),IF(市町村別統計累年ファイル!T49="x",NA(),市町村別統計累年ファイル!T49)))) -> 292 | P6: =IF(参照!$C$127="",NA(),IF(VLOOKUP(市町村別統計累年ファイル!$C$5&市町村別統計累年ファイル!$F$5,小麦!$A$6:$BH$130,54,FALSE)="-",NA(),IF(VLOOKUP(市町村別統計累年ファイル!$C$5&市町村別統計累年ファイル!$F$5,小麦!$A$6:$BH$130,54,FALSE)="…",NA(),IF(VLOOKUP(市町村別統計累年ファイル!$C$5&市町村別統計累年ファイル!$F$5,小麦!$A$6:$BH$130,54,FALSE)="x",NA(),VLOOKUP(市町村別統計累年ファイル!$C$5&市町村別統計累年ファイル!$F$5,小麦!$A$6:$BH$130,54,FALSE))))) -> 312 | Q6: =IF(市町村別統計累年ファイル!Q49="",0,IF(市町村別統計累年ファイル!Q49="…",0,IF(市町村別統計累年ファイル!Q49="-",0,IF(市町村別統計累年ファイル!Q49="x",0,市町村別統計累年ファイル!Q49)))) -> 114
A7: =A6+1 -> 30 | B7: =IF(市町村別統計累年ファイル!U16="",NA(),IF(市町村別統計累年ファイル!U16="…",NA(),IF(市町村別統計累年ファイル!U16="-",NA(),IF(市町村別統計累年ファイル!U16="x",NA(),市町村別統計累年ファイル!U16)))) -> 2880 | C7: =IF(市町村別統計累年ファイル!AC16="",NA(),IF(市町村別統計累年ファイル!AC16="…",NA(),IF(市町村別統計累年ファイル!AC16="-",NA(),IF(市町村別統計累年ファイル!AC16="x",NA(),市町村別統計累年ファイル!AC16)))) -> 1070 | D7: =IF(市町村別統計累年ファイル!U16="",0,IF(市町村別統計累年ファイル!U16="…",0,IF(市町村別統計累年ファイル!U16="-",0,IF(市町村別統計累年ファイル!U16="x",0,市町村別統計累年ファイル!U16)))) -> 2880 | E7: =IF(市町村別統計累年ファイル!AC16="",0,IF(市町村別統計累年ファイル!AC16="…",0,IF(市町村別統計累年ファイル!AC16="-",0,IF(市町村別統計累年ファイル!AC16="x",0,市町村別統計累年ファイル!AC16)))) -> 1070 | G7: =G6+1 -> 30 | H7: =IF(市町村別統計累年ファイル!Q33="",NA(),IF(市町村別統計累年ファイル!Q33="…",NA(),IF(市町村別統計累年ファイル!Q33="-",NA(),IF(市町村別統計累年ファイル!Q33="x",NA(),市町村別統計累年ファイル!Q33)))) -> 1490 | I7: =IF(市町村別統計累年ファイル!V33="",NA(),IF(市町村別統計累年ファイル!V33="…",NA(),IF(市町村別統計累年ファイル!V33="-",NA(),IF(市町村別統計累年ファイル!V33="x",NA(),市町村別統計累年ファイル!V33)))) -> 461 | J7: =IF(参照!$C$127="",NA(),IF(VLOOKUP(市町村別統計累年ファイル!$C$5&市町村別統計累年ファイル!$F$5,水稲!$A$6:$BH$130,35,FALSE)="-",NA(),IF(VLOOKUP(市町村別統計累年ファイル!$C$5&市町村別統計累年ファイル!$F$5,水稲!$A$6:$BH$130,35,FALSE)="…",NA(),IF(VLOOKUP(市町村別統計累年ファイル!$C$5&市町村別統計累年ファイル!$F$5,水稲!$A$6:$BH$130,35,FALSE)="x",NA(),VLOOKUP(市町村別統計累年ファイル!$C$5&市町村別統計累年ファイル!$F$5,水稲!$A$6:$BH$130,35,FALSE))))) -> 485 | K7: =IF(市町村別統計累年ファイル!Q33="",0,IF(市町村別統計累年ファイル!Q33="…",0,IF(市町村別統計累年ファイル!Q33="-",0,IF(市町村別統計累年ファイル!Q33="x",0,市町村別統計累年ファイル!Q33)))) -> 1490 | M7: =G7 -> 30 | N7: =IF(市町村別統計累年ファイル!Q50="",NA(),IF(市町村別統計累年ファイル!Q50="…",NA(),IF(市町村別統計累年ファイル!Q50="-",NA(),IF(市町村別統計累年ファイル!Q50="x",NA(),市町村別統計累年ファイル!Q50)))) -> 127 | O7: =IF(市町村別統計累年ファイル!T50="",NA(),IF(市町村別統計累年ファイル!T50="…",NA(),IF(市町村別統計累年ファイル!T50="-",NA(),IF(市町村別統計累年ファイル!T50="x",NA(),市町村別統計累年ファイル!T50)))) -> 295 | P7: =IF(参照!$C$127="",NA(),IF(VLOOKUP(市町村別統計累年ファイル!$C$5&市町村別統計累年ファイル!$F$5,小麦!$A$6:$BH$130,55,FALSE)="-",NA(),IF(VLOOKUP(市町村別統計累年ファイル!$C$5&市町村別統計累年ファイル!$F$5,小麦!$A$6:$BH$130,55,FALSE)="…",NA(),IF(VLOOKUP(市町村別統計累年ファイル!$C$5&市町村別統計累年ファイル!$F$5,小麦!$A$6:$BH$130,55,FALSE)="x",NA(),VLOOKUP(市町村別統計累年ファイル!$C$5&市町村別統計累年ファイル!$F$5,小麦!$A$6:$BH$130,55,FALSE))))) -> 292 | Q7: =IF(市町村別統計累年ファイル!Q50="",0,IF(市町村別統計累年ファイル!Q50="…",0,IF(市町村別統計累年ファイル!Q50="-",0,IF(市町村別統計累年ファイル!Q50="x",0,市町村別統計累年ファイル!Q50)))) -> 127
A8: 令和 元年 | B8: =IF(市町村別統計累年ファイル!U17="",NA(),IF(市町村別統計累年ファイル!U17="…",NA(),IF(市町村別統計累年ファイル!U17="-",NA(),IF(市町村別統計累年ファイル!U17="x",NA(),市町村別統計累年ファイル!U17)))) -> 2860 | C8: =IF(市町村別統計累年ファイル!AC17="",NA(),IF(市町村別統計累年ファイル!AC17="…",NA(),IF(市町村別統計累年ファイル!AC17="-",NA(),IF(市町村別統計累年ファイル!AC17="x",NA(),市町村別統計累年ファイル!AC17)))) -> 1070 | D8: =IF(市町村別統計累年ファイル!U17="",0,IF(市町村別統計累年ファイル!U17="…",0,IF(市町村別統計累年ファイル!U17="-",0,IF(市町村別統計累年ファイル!U17="x",0,市町村別統計累年ファイル!U17)))) -> 2860 | E8: =IF(市町村別統計累年ファイル!AC17="",0,IF(市町村別統計累年ファイル!AC17="…",0,IF(市町村別統計累年ファイル!AC17="-",0,IF(市町村別統計累年ファイル!AC17="x",0,市町村別統計累年ファイル!AC17)))) -> 1070 | G8: 令和 元年産 | H8: =IF(市町村別統計累年ファイル!Q34="",NA(),IF(市町村別統計累年ファイル!Q34="…",NA(),IF(市町村別統計累年ファイル!Q34="-",NA(),IF(市町村別統計累年ファイル!Q34="x",NA(),市町村別統計累年ファイル!Q34)))) -> 1550 | I8: =IF(市町村別統計累年ファイル!V34="",NA(),IF(市町村別統計累年ファイル!V34="…",NA(),IF(市町村別統計累年ファイル!V34="-",NA(),IF(市町村別統計累年ファイル!V34="x",NA(),市町村別統計累年ファイル!V34)))) -> 468 | J8: =IF(参照!$C$127="",NA(),IF(VLOOKUP(市町村別統計累年ファイル!$C$5&市町村別統計累年ファイル!$F$5,水稲!$A$6:$BH$130,36,FALSE)="-",NA(),IF(VLOOKUP(市町村別統計累年ファイル!$C$5&市町村別統計累年ファイル!$F$5,水稲!$A$6:$BH$130,36,FALSE)="…",NA(),IF(VLOOKUP(市町村別統計累年ファイル!$C$5&市町村別統計累年ファイル!$F$5,水稲!$A$6:$BH$130,36,FALSE)="x",NA(),VLOOKUP(市町村別統計累年ファイル!$C$5&市町村別統計累年ファイル!$F$5,水稲!$A$6:$BH$130,36,FALSE))))) -> 492 | K8: =IF(市町村別統計累年ファイル!Q34="",0,IF(市町村別統計累年ファイル!Q34="…",0,IF(市町村別統計累年ファイル!Q34="-",0,IF(市町村別統計累年ファイル!Q34="x",0,市町村別統計累年ファイル!Q34)))) -> 1550 | M8: =G8 -> 令和 元年産 | N8: =IF(市町村別統計累年ファイル!Q51="",NA(),IF(市町村別統計累年ファイル!Q51="…",NA(),IF(市町村別統計累年ファイル!Q51="-",NA(),IF(市町村別統計累年ファイル!Q51="x",NA(),市町村別統計累年ファイル!Q51)))) -> 133 | O8: =IF(市町村別統計累年ファイル!T51="",NA(),IF(市町村別統計累年ファイル!T51="…",NA(),IF(市町村別統計累年ファイル!T51="-",NA(),IF(市町村別統計累年ファイル!T51="x",NA(),市町村別統計累年ファイル!T51)))) -> 363 | P8: =IF(参照!$C$127="",NA(),IF(VLOOKUP(市町村別統計累年ファイル!$C$5&市町村別統計累年ファイル!$F$5,小麦!$A$6:$BH$130,56,FALSE)="-",NA(),IF(VLOOKUP(市町村別統計累年ファイル!$C$5&市町村別統計累年ファイル!$F$5,小麦!$A$6:$BH$130,56,FALSE)="…",NA(),IF(VLOOKUP(市町村別統計累年ファイル!$C$5&市町村別統計累年ファイル!$F$5,小麦!$A$6:$BH$130,56,FALSE)="x",NA(),VLOOKUP(市町村別統計累年ファイル!$C$5&市町村別統計累年ファイル!$F$5,小麦!$A$6:$BH$130,56,FALSE))))) -> 355 | Q8: =IF(市町村別統計累年ファイル!Q51="",0,IF(市町村別統計累年ファイル!Q51="…",0,IF(市町村別統計累年ファイル!Q51="-",0,IF(市町村別統計累年ファイル!Q51="x",0,市町村別統計累年ファイル!Q51)))) -> 133
A9: 2 | B9: =IF(市町村別統計累年ファイル!U18="",NA(),IF(市町村別統計累年ファイル!U18="…",NA(),IF(市町村別統計累年ファイル!U18="-",NA(),IF(市町村別統計累年ファイル!U18="x",NA(),市町村別統計累年ファイル!U18)))) -> 2850 | C9: =IF(市町村別統計累年ファイル!AC18="",NA(),IF(市町村別統計累年ファイル!AC18="…",NA(),IF(市町村別統計累年ファイル!AC18="-",NA(),IF(市町村別統計累年ファイル!AC18="x",NA(),市町村別統計累年ファイル!AC18)))) -> 1080 | D9: =IF(市町村別統計累年ファイル!U18="",0,IF(市町村別統計累年ファイル!U18="…",0,IF(市町村別統計累年ファイル!U18="-",0,IF(市町村別統計累年ファイル!U18="x",0,市町村別統計累年ファイル!U18)))) -> 2850 | E9: =IF(市町村別統計累年ファイル!AC18="",0,IF(市町村別統計累年ファイル!AC18="…",0,IF(市町村別統計累年ファイル!AC18="-",0,IF(市町村別統計累年ファイル!AC18="x",0,市町村別統計累年ファイル!AC18)))) -> 1080 | G9: 2 | H9: =IF(市町村別統計累年ファイル!Q35="",NA(),IF(市町村別統計累年ファイル!Q35="…",NA(),IF(市町村別統計累年ファイル!Q35="-",NA(),IF(市町村別統計累年ファイル!Q35="x",NA(),市町村別統計累年ファイル!Q35)))) -> 1550 | I9: =IF(市町村別統計累年ファイル!V35="",NA(),IF(市町村別統計累年ファイル!V35="…",NA(),IF(市町村別統計累年ファイル!V35="-",NA(),IF(市町村別統計累年ファイル!V35="x",NA(),市町村別統計累年ファイル!V35)))) -> 451 | J9: =IF(参照!$C$127="",NA(),IF(VLOOKUP(市町村別統計累年ファイル!$C$5&市町村別統計累年ファイル!$F$5,水稲!$A$6:$BH$130,37,FALSE)="-",NA(),IF(VLOOKUP(市町村別統計累年ファイル!$C$5&市町村別統計累年ファイル!$F$5,水稲!$A$6:$BH$130,37,FALSE)="…",NA(),IF(VLOOKUP(市町村別統計累年ファイル!$C$5&市町村別統計累年ファイル!$F$5,水稲!$A$6:$BH$130,37,FALSE)="x",NA(),VLOOKUP(市町村別統計累年ファイル!$C$5&市町村別統計累年ファイル!$F$5,水稲!$A$6:$BH$130,37,FALSE))))) -> 495 | K9: =IF(市町村別統計累年ファイル!Q35="",0,IF(市町村別統計累年ファイル!Q35="…",0,IF(市町村別統計累年ファイル!Q35="-",0,IF(市町村別統計累年ファイル!Q35="x",0,市町村別統計累年ファイル!Q35)))) -> 1550 | M9: =G9 -> 2 | N9: =IF(市町村別統計累年ファイル!Q52="",NA(),IF(市町村別統計累年ファイル!Q52="…",NA(),IF(市町村別統計累年ファイル!Q52="-",NA(),IF(市町村別統計累年ファイル!Q52="x",NA(),市町村別統計累年ファイル!Q52)))) -> 140 | O9: =IF(市町村別統計累年ファイル!T52="",NA(),IF(市町村別統計累年ファイル!T52="…",NA(),IF(市町村別統計累年ファイル!T52="-",NA(),IF(市町村別統計累年ファイル!T52="x",NA(),市町村別統計累年ファイル!T52)))) -> 318 | P9: =IF(参照!$C$127="",NA(),IF(VLOOKUP(市町村別統計累年ファイル!$C$5&市町村別統計累年ファイル!$F$5,小麦!$A$6:$BH$130,57,FALSE)="-",NA(),IF(VLOOKUP(市町村別統計累年ファイル!$C$5&市町村別統計累年ファイル!$F$5,小麦!$A$6:$BH$130,57,FALSE)="…",NA(),IF(VLOOKUP(市町村別統計累年ファイル!$C$5&市町村別統計累年ファイル!$F$5,小麦!$A$6:$BH$130,57,FALSE)="x",NA(),VLOOKUP(市町村別統計累年ファイル!$C$5&市町村別統計累年ファイル!$F$5,小麦!$A$6:$BH$130,57,FALSE))))) -> 341 | Q9: =IF(市町村別統計累年ファイル!Q52="",0,IF(市町村別統計累年ファイル!Q52="…",0,IF(市町村別統計累年ファイル!Q52="-",0,IF(市町村別統計累年ファイル!Q52="x",0,市町村別統計累年ファイル!Q52)))) -> 140
A10: 3 | B10: =IF(市町村別統計累年ファイル!U19="",NA(),IF(市町村別統計累年ファイル!U19="…",NA(),IF(市町村別統計累年ファイル!U19="-",NA(),IF(市町村別統計累年ファイル!U19="x",NA(),市町村別統計累年ファイル!U19)))) -> 2850 | C10: =IF(市町村別統計累年ファイル!AC19="",NA(),IF(市町村別統計累年ファイル!AC19="…",NA(),IF(市町村別統計累年ファイル!AC19="-",NA(),IF(市町村別統計累年ファイル!AC19="x",NA(),市町村別統計累年ファイル!AC19)))) -> 1080 | D10: =IF(市町村別統計累年ファイル!U19="",0,IF(市町村別統計累年ファイル!U19="…",0,IF(市町村別統計累年ファイル!U19="-",0,IF(市町村別統計累年ファイル!U19="x",0,市町村別統計累年ファイル!U19)))) -> 2850 | E10: =IF(市町村別統計累年ファイル!AC19="",0,IF(市町村別統計累年ファイル!AC19="…",0,IF(市町村別統計累年ファイル!AC19="-",0,IF(市町村別統計累年ファイル!AC19="x",0,市町村別統計累年ファイル!AC19)))) -> 1080 | G10: 3 | H10: =IF(市町村別統計累年ファイル!Q36="",NA(),IF(市町村別統計累年ファイル!Q36="…",NA(),IF(市町村別統計累年ファイル!Q36="-",NA(),IF(市町村別統計累年ファイル!Q36="x",NA(),市町村別統計累年ファイル!Q36)))) -> 1560 | I10: =IF(市町村別統計累年ファイル!V36="",NA(),IF(市町村別統計累年ファイル!V36="…",NA(),IF(市町村別統計累年ファイル!V36="-",NA(),IF(市町村別統計累年ファイル!V36="x",NA(),市町村別統計累年ファイル!V36)))) -> 467 | J10: =IF(参照!$C$127="",NA(),IF(VLOOKUP(市町村別統計累年ファイル!$C$5&市町村別統計累年ファイル!$F$5,水稲!$A$6:$BH$130,38,FALSE)="-",NA(),IF(VLOOKUP(市町村別統計累年ファイル!$C$5&市町村別統計累年ファイル!$F$5,水稲!$A$6:$BH$130,38,FALSE)="…",NA(),IF(VLOOKUP(市町村別統計累年ファイル!$C$5&市町村別統計累年ファイル!$F$5,水稲!$A$6:$BH$130,38,FALSE)="x",NA(),VLOOKUP(市町村別統計累年ファイル!$C$5&市町村別統計累年ファイル!$F$5,水稲!$A$6:$BH$130,38,FALSE))))) -> 478 | K10: =IF(市町村別統計累年ファイル!Q36="",0,IF(市町村別統計累年ファイル!Q36="…",0,IF(市町村別統計累年ファイル!Q36="-",0,IF(市町村別統計累年ファイル!Q36="x",0,市町村別統計累年ファイル!Q36)))) -> 1560 | M10: =G10 -> 3 | N10: =IF(市町村別統計累年ファイル!Q53="",NA(),IF(市町村別統計累年ファイル!Q53="…",NA(),IF(市町村別統計累年ファイル!Q53="-",NA(),IF(市町村別統計累年ファイル!Q53="x",NA(),市町村別統計累年ファイル!Q53)))) -> 158 | O10: =IF(市町村別統計累年ファイル!T53="",NA(),IF(市町村別統計累年ファイル!T53="…",NA(),IF(市町村別統計累年ファイル!T53="-",NA(),IF(市町村別統計累年ファイル!T53="x",NA(),市町村別統計累年ファイル!T53)))) -> 277 | P10: =IF(参照!$C$127="",NA(),IF(VLOOKUP(市町村別統計累年ファイル!$C$5&市町村別統計累年ファイル!$F$5,小麦!$A$6:$BH$130,58,FALSE)="-",NA(),IF(VLOOKUP(市町村別統計累年ファイル!$C$5&市町村別統計累年ファイル!$F$5,小麦!$A$6:$BH$130,58,FALSE)="…",NA(),IF(VLOOKUP(市町村別統計累年ファイル!$C$5&市町村別統計累年ファイル!$F$5,小麦!$A$6:$BH$130,58,FALSE)="x",NA(),VLOOKUP(市町村別統計累年ファイル!$C$5&市町村別統計累年ファイル!$F$5,小麦!$A$6:$BH$130,58,FALSE))))) -> 318 | Q10: =IF(市町村別統計累年ファイル!Q53="",0,IF(市町村別統計累年ファイル!Q53="…",0,IF(市町村別統計累年ファイル!Q53="-",0,IF(市町村別統計累年ファイル!Q53="x",0,市町村別統計累年ファイル!Q53)))) -> 158
A11: 4 | B11: =IF(市町村別統計累年ファイル!U20="",NA(),IF(市町村別統計累年ファイル!U20="…",NA(),IF(市町村別統計累年ファイル!U20="-",NA(),IF(市町村別統計累年ファイル!U20="x",NA(),市町村別統計累年ファイル!U20)))) -> 2830 | C11: =IF(市町村別統計累年ファイル!AC20="",NA(),IF(市町村別統計累年ファイル!AC20="…",NA(),IF(市町村別統計累年ファイル!AC20="-",NA(),IF(市町村別統計累年ファイル!AC20="x",NA(),市町村別統計累年ファイル!AC20)))) -> 1070 | D11: =IF(市町村別統計累年ファイル!U20="",0,IF(市町村別統計累年ファイル!U20="…",0,IF(市町村別統計累年ファイル!U20="-",0,IF(市町村別統計累年ファイル!U20="x",0,市町村別統計累年ファイル!U20)))) -> 2830 | E11: =IF(市町村別統計累年ファイル!AC20="",0,IF(市町村別統計累年ファイル!AC20="…",0,IF(市町村別統計累年ファイル!AC20="-",0,IF(市町村別統計累年ファイル!AC20="x",0,市町村別統計累年ファイル!AC20)))) -> 1070 | G11: 4 | H11: =IF(市町村別統計累年ファイル!Q37="",NA(),IF(市町村別統計累年ファイル!Q37="…",NA(),IF(市町村別統計累年ファイル!Q37="-",NA(),IF(市町村別統計累年ファイル!Q37="x",NA(),市町村別統計累年ファイル!Q37)))) -> 1460 | I11: =IF(市町村別統計累年ファイル!V37="",NA(),IF(市町村別統計累年ファイル!V37="…",NA(),IF(市町村別統計累年ファイル!V37="-",NA(),IF(市町村別統計累年ファイル!V37="x",NA(),市町村別統計累年ファイル!V37)))) -> 481 | J11: =IF(参照!$C$127="",NA(),IF(VLOOKUP(市町村別統計累年ファイル!$C$5&市町村別統計累年ファイル!$F$5,水稲!$A$6:$BH$130,39,FALSE)="-",NA(),IF(VLOOKUP(市町村別統計累年ファイル!$C$5&市町村別統計累年ファイル!$F$5,水稲!$A$6:$BH$130,39,FALSE)="…",NA(),IF(VLOOKUP(市町村別統計累年ファイル!$C$5&市町村別統計累年ファイル!$F$5,水稲!$A$6:$BH$130,39,FALSE)="x",NA(),VLOOKUP(市町村別統計累年ファイル!$C$5&市町村別統計累年ファイル!$F$5,水稲!$A$6:$BH$130,39,FALSE))))) -> 487 | K11: =IF(市町村別統計累年ファイル!Q37="",0,IF(市町村別統計累年ファイル!Q37="…",0,IF(市町村別統計累年ファイル!Q37="-",0,IF(市町村別統計累年ファイル!Q37="x",0,市町村別統計累年ファイル!Q37)))) -> 1460 | M11: =G11 -> 4 | N11: =IF(市町村別統計累年ファイル!Q54="",NA(),IF(市町村別統計累年ファイル!Q54="…",NA(),IF(市町村別統計累年ファイル!Q54="-",NA(),IF(市町村別統計累年ファイル!Q54="x",NA(),市町村別統計累年ファイル!Q54)))) -> 159 | O11: =IF(市町村別統計累年ファイル!T54="",NA(),IF(市町村別統計累年ファイル!T54="…",NA(),IF(市町村別統計累年ファイル!T54="-",NA(),IF(市町村別統計累年ファイル!T54="x",NA(),市町村別統計累年ファイル!T54)))) -> 321 | P11: =IF(参照!$C$127="",NA(),IF(VLOOKUP(市町村別統計累年ファイル!$C$5&市町村別統計累年ファイル!$F$5,小麦!$A$6:$BH$130,59,FALSE)="-",NA(),IF(VLOOKUP(市町村別統計累年ファイル!$C$5&市町村別統計累年ファイル!$F$5,小麦!$A$6:$BH$130,59,FALSE)="…",NA(),IF(VLOOKUP(市町村別統計累年ファイル!$C$5&市町村別統計累年ファイル!$F$5,小麦!$A$6:$BH$130,59,FALSE)="x",NA(),VLOOKUP(市町村別統計累年ファイル!$C$5&市町村別統計累年ファイル!$F$5,小麦!$A$6:$BH$130,59,FALSE))))) -> 358 | Q11: =IF(市町村別統計累年ファイル!Q54="",0,IF(市町村別統計累年ファイル!Q54="…",0,IF(市町村別統計累年ファイル!Q54="-",0,IF(市町村別統計累年ファイル!Q54="x",0,市町村別統計累年ファイル!Q54)))) -> 159
A12: 5 | B12: =IF(市町村別統計累年ファイル!U21="",NA(),IF(市町村別統計累年ファイル!U21="…",NA(),IF(市町村別統計累年ファイル!U21="-",NA(),IF(市町村別統計累年ファイル!U21="x",NA(),市町村別統計累年ファイル!U21)))) -> 2810 | C12: =IF(市町村別統計累年ファイル!AC21="",NA(),IF(市町村別統計累年ファイル!AC21="…",NA(),IF(市町村別統計累年ファイル!AC21="-",NA(),IF(市町村別統計累年ファイル!AC21="x",NA(),市町村別統計累年ファイル!AC21)))) -> 1070 | D12: =IF(市町村別統計累年ファイル!U21="",0,IF(市町村別統計累年ファイル!U21="…",0,IF(市町村別統計累年ファイル!U21="-",0,IF(市町村別統計累年ファイル!U21="x",0,市町村別統計累年ファイル!U21)))) -> 2810 | E12: =IF(市町村別統計累年ファイル!AC21="",0,IF(市町村別統計累年ファイル!AC21="…",0,IF(市町村別統計累年ファイル!AC21="-",0,IF(市町村別統計累年ファイル!AC21="x",0,市町村別統計累年ファイル!AC21)))) -> 1070 | G12: 5 | H12: =IF(市町村別統計累年ファイル!Q38="",NA(),IF(市町村別統計累年ファイル!Q38="…",NA(),IF(市町村別統計累年ファイル!Q38="-",NA(),IF(市町村別統計累年ファイル!Q38="x",NA(),市町村別統計累年ファイル!Q38)))) -> 1580 | I12: =IF(市町村別統計累年ファイル!V38="",NA(),IF(市町村別統計累年ファイル!V38="…",NA(),IF(市町村別統計累年ファイル!V38="-",NA(),IF(市町村別統計累年ファイル!V38="x",NA(),市町村別統計累年ファイル!V38)))) -> 475 | J12: =IF(参照!$C$127="",NA(),IF(VLOOKUP(市町村別統計累年ファイル!$C$5&市町村別統計累年ファイル!$F$5,水稲!$A$6:$BH$130,40,FALSE)="-",NA(),IF(VLOOKUP(市町村別統計累年ファイル!$C$5&市町村別統計累年ファイル!$F$5,水稲!$A$6:$BH$130,40,FALSE)="…",NA(),IF(VLOOKUP(市町村別統計累年ファイル!$C$5&市町村別統計累年ファイル!$F$5,水稲!$A$6:$BH$130,40,FALSE)="x",NA(),VLOOKUP(市町村別統計累年ファイル!$C$5&市町村別統計累年ファイル!$F$5,水稲!$A$6:$BH$130,40,FALSE))))) -> 484 | K12: =IF(市町村別統計累年ファイル!Q38="",0,IF(市町村別統計累年ファイル!Q38="…",0,IF(市町村別統計累年ファイル!Q38="-",0,IF(市町村別統計累年ファイル!Q38="x",0,市町村別統計累年ファイル!Q38)))) -> 1580 | M12: =G12 -> 5 | N12: =IF(市町村別統計累年ファイル!Q55="",NA(),IF(市町村別統計累年ファイル!Q55="…",NA(),IF(市町村別統計累年ファイル!Q55="-",NA(),IF(市町村別統計累年ファイル!Q55="x",NA(),市町村別統計累年ファイル!Q55)))) -> 176 | O12: =IF(市町村別統計累年ファイル!T55="",NA(),IF(市町村別統計累年ファイル!T55="…",NA(),IF(市町村別統計累年ファイル!T55="-",NA(),IF(市町村別統計累年ファイル!T55="x",NA(),市町村別統計累年ファイル!T55)))) -> 310 | P12: =IF(参照!$C$127="",NA(),IF(VLOOKUP(市町村別統計累年ファイル!$C$5&市町村別統計累年ファイル!$F$5,小麦!$A$6:$BH$130,60,FALSE)="-",NA(),IF(VLOOKUP(市町村別統計累年ファイル!$C$5&市町村別統計累年ファイル!$F$5,小麦!$A$6:$BH$130,60,FALSE)="…",NA(),IF(VLOOKUP(市町村別統計累年ファイル!$C$5&市町村別統計累年ファイル!$F$5,小麦!$A$6:$BH$130,60,FALSE)="x",NA(),VLOOKUP(市町村別統計累年ファイル!$C$5&市町村別統計累年ファイル!$F$5,小麦!$A$6:$BH$130,60,FALSE))))) -> 353 | Q12: =IF(市町村別統計累年ファイル!Q55="",0,IF(市町村別統計累年ファイル!Q55="…",0,IF(市町村別統計累年ファイル!Q55="-",0,IF(市町村別統計累年ファイル!Q55="x",0,市町村別統計累年ファイル!Q55)))) -> 176
A13: 6 | B13: =IF(市町村別統計累年ファイル!U22="",NA(),IF(市町村別統計累年ファイル!U22="…",NA(),IF(市町村別統計累年ファイル!U22="-",NA(),IF(市町村別統計累年ファイル!U22="x",NA(),市町村別統計累年ファイル!U22)))) -> 2720 | C13: =IF(市町村別統計累年ファイル!AC22="",NA(),IF(市町村別統計累年ファイル!AC22="…",NA(),IF(市町村別統計累年ファイル!AC22="-",NA(),IF(市町村別統計累年ファイル!AC22="x",NA(),市町村別統計累年ファイル!AC22)))) -> 1060 | D13: =IF(市町村別統計累年ファイル!U22="",0,IF(市町村別統計累年ファイル!U22="…",0,IF(市町村別統計累年ファイル!U22="-",0,IF(市町村別統計累年ファイル!U22="x",0,市町村別統計累年ファイル!U22)))) -> 2720 | E13: =IF(市町村別統計累年ファイル!AC22="",0,IF(市町村別統計累年ファイル!AC22="…",0,IF(市町村別統計累年ファイル!AC22="-",0,IF(市町村別統計累年ファイル!AC22="x",0,市町村別統計累年ファイル!AC22)))) -> 1060 | G13: 6 | H13: =IF(市町村別統計累年ファイル!Q39="",NA(),IF(市町村別統計累年ファイル!Q39="…",NA(),IF(市町村別統計累年ファイル!Q39="-",NA(),IF(市町村別統計累年ファイル!Q39="x",NA(),市町村別統計累年ファイル!Q39)))) -> 1540 | I13: =IF(市町村別統計累年ファイル!V39="",NA(),IF(市町村別統計累年ファイル!V39="…",NA(),IF(市町村別統計累年ファイル!V39="-",NA(),IF(市町村別統計累年ファイル!V39="x",NA(),市町村別統計累年ファイル!V39)))) -> 474 | J13: =IF(参照!$C$127="",NA(),IF(VLOOKUP(市町村別統計累年ファイル!$C$5&市町村別統計累年ファイル!$F$5,水稲!$A$6:$BH$130,41,FALSE)="-",NA(),IF(VLOOKUP(市町村別統計累年ファイル!$C$5&市町村別統計累年ファイル!$F$5,水稲!$A$6:$BH$130,41,FALSE)="…",NA(),IF(VLOOKUP(市町村別統計累年ファイル!$C$5&市町村別統計累年ファイル!$F$5,水稲!$A$6:$BH$130,41,FALSE)="x",NA(),VLOOKUP(市町村別統計累年ファイル!$C$5&市町村別統計累年ファイル!$F$5,水稲!$A$6:$BH$130,41,FALSE))))) -> 483 | K13: =IF(市町村別統計累年ファイル!Q39="",0,IF(市町村別統計累年ファイル!Q39="…",0,IF(市町村別統計累年ファイル!Q39="-",0,IF(市町村別統計累年ファイル!Q39="x",0,市町村別統計累年ファイル!Q39)))) -> 1540 | M13: =G13 -> 6 | N13: =IF(市町村別統計累年ファイル!Q56="",NA(),IF(市町村別統計累年ファイル!Q56="…",NA(),IF(市町村別統計累年ファイル!Q56="-",NA(),IF(市町村別統計累年ファイル!Q56="x",NA(),市町村別統計累年ファイル!Q56)))) -> 187 | O13: =IF(市町村別統計累年ファイル!T56="",NA(),IF(市町村別統計累年ファイル!T56="…",NA(),IF(市町村別統計累年ファイル!T56="-",NA(),IF(市町村別統計累年ファイル!T56="x",NA(),市町村別統計累年ファイル!T56)))) -> 222 | P13: =IF(参照!$C$127="",NA(),IF(VLOOKUP(市町村別統計累年ファイル!$C$5&市町村別統計累年ファイル!$F$5,小麦!$A$6:$BI$130,61,FALSE)="-",NA(),IF(VLOOKUP(市町村別統計累年ファイル!$C$5&市町村別統計累年ファイル!$F$5,小麦!$A$6:$BI$130,61,FALSE)="…",NA(),IF(VLOOKUP(市町村別統計累年ファイル!$C$5&市町村別統計累年ファイル!$F$5,小麦!$A$6:$BI$130,61,FALSE)="x",NA(),VLOOKUP(市町村別統計累年ファイル!$C$5&市町村別統計累年ファイル!$F$5,小麦!$A$6:$BI$130,61,FALSE))))) -> 296 | Q13: =IF(市町村別統計累年ファイル!Q56="",0,IF(市町村別統計累年ファイル!Q56="…",0,IF(市町村別統計累年ファイル!Q56="-",0,IF(市町村別統計累年ファイル!Q56="x",0,市町村別統計累年ファイル!Q56)))) -> 187
A14: ダミーDATA | B14: =IF(MAX(D4:D13)<5,5,NA()) -> #N/A | G14: ダミーDATA | H14: =IF(MAX(K4:K13)<5,5,NA()) -> #N/A | M14: ダミーDATA | N14: =IF(MAX(Q4:Q13)<5,5,NA()) -> #N/A
A16: 六条大麦 | G16: 大豆 | M16: そば
A17: 区分 | B17: 作付 面積 | C17: 10ａ当たり 収量 | E17: ダミーDATA用 | G17: 区分 | H17: 作付 面積 | I17: 10ａ当たり 収量 | K17: ダミーDATA用 | M17: 区分 | N17: 作付 面積 | O17: 10ａ当たり 収量 | Q17: ダミーDATA用
C18: 市町村 | D18: 県 | E18: 作付面積 | I18: 市町村 | J18: 県 | K18: 作付面積 | O18: 市町村 | P18: 県 | Q18: 作付面積
A19: =G4 -> 平成 27年産 | B19: =IF(市町村別統計累年ファイル!Q64="",NA(),IF(市町村別統計累年ファイル!Q64="…",NA(),IF(市町村別統計累年ファイル!Q64="-",NA(),IF(市町村別統計累年ファイル!Q64="x",NA(),市町村別統計累年ファイル!Q64)))) -> #N/A | C19: =IF(市町村別統計累年ファイル!T64="",NA(),IF(市町村別統計累年ファイル!T64="…",NA(),IF(市町村別統計累年ファイル!T64="-",NA(),IF(市町村別統計累年ファイル!T64="x",NA(),市町村別統計累年ファイル!T64)))) -> #N/A | D19: =IF(参照!$C$127="",NA(),IF(VLOOKUP(市町村別統計累年ファイル!$C$5&市町村別統計累年ファイル!$F$5,六条!$A$6:$BI$130,52,FALSE)="-",NA(),IF(VLOOKUP(市町村別統計累年ファイル!$C$5&市町村別統計累年ファイル!$F$5,六条!$A$6:$BI$130,52,FALSE)="…",NA(),IF(VLOOKUP(市町村別統計累年ファイル!$C$5&市町村別統計累年ファイル!$F$5,六条!$A$6:$BI$130,52,FALSE)="x",NA(),VLOOKUP(市町村別統計累年ファイル!$C$5&市町村別統計累年ファイル!$F$5,六条!$A$6:$BI$130,52,FALSE))))) -> 126 | E19: =IF(市町村別統計累年ファイル!Q64="",0,IF(市町村別統計累年ファイル!Q64="…",0,IF(市町村別統計累年ファイル!Q64="-",0,IF(市町村別統計累年ファイル!Q64="x",0,市町村別統計累年ファイル!Q64)))) -> 0 | G19: =G4 -> 平成 27年産 | H19: =IF(市町村別統計累年ファイル!Q81="",NA(),IF(市町村別統計累年ファイル!Q81="…",NA(),IF(市町村別統計累年ファイル!Q81="-",NA(),IF(市町村別統計累年ファイル!Q81="x",NA(),市町村別統計累年ファイル!Q81)))) -> 53 | I19: =IF(市町村別統計累年ファイル!T81="",NA(),IF(市町村別統計累年ファイル!T81="…",NA(),IF(市町村別統計累年ファイル!T81="-",NA(),IF(市町村別統計累年ファイル!T81="x",NA(),市町村別統計累年ファイル!T81)))) -> 100 | J19: =IF(参照!$C$127="",NA(),IF(VLOOKUP(市町村別統計累年ファイル!$C$5&市町村別統計累年ファイル!$F$5,大豆!$A$6:$BI$130,52,FALSE)="-",NA(),IF(VLOOKUP(市町村別統計累年ファイル!$C$5&市町村別統計累年ファイル!$F$5,大豆!$A$6:$BI$130,52,FALSE)="…",NA(),IF(VLOOKUP(市町村別統計累年ファイル!$C$5&市町村別統計累年ファイル!$F$5,大豆!$A$6:$BI$130,52,FALSE)="x",NA(),VLOOKUP(市町村別統計累年ファイル!$C$5&市町村別統計累年ファイル!$F$5,大豆!$A$6:$BI$130,52,FALSE))))) -> 103 | K19: =IF(市町村別統計累年ファイル!Q81="",0,IF(市町村別統計累年ファイル!Q81="…",0,IF(市町村別統計累年ファイル!Q81="-",0,IF(市町村別統計累年ファイル!Q81="x",0,市町村別統計累年ファイル!Q81)))) -> 53 | M19: =G4 -> 平成 27年産 | N19: =IF(市町村別統計累年ファイル!Q98="",NA(),IF(市町村別統計累年ファイル!Q98="…",NA(),IF(市町村別統計累年ファイル!Q98="-",NA(),IF(市町村別統計累年ファイル!Q98="x",NA(),市町村別統計累年ファイル!Q98)))) -> #N/A | O19: =IF(市町村別統計累年ファイル!T98="",NA(),IF(市町村別統計累年ファイル!T98="…",NA(),IF(市町村別統計累年ファイル!T98="-",NA(),IF(市町村別統計累年ファイル!T98="x",NA(),市町村別統計累年ファイル!T98)))) -> #N/A | P19: =IF(参照!$C$127="",NA(),IF(VLOOKUP(市町村別統計累年ファイル!$C$5&市町村別統計累年ファイル!$F$5,そば!$A$6:$BI$130,52,FALSE)="-",NA(),IF(VLOOKUP(市町村別統計累年ファイル!$C$5&市町村別統計累年ファイル!$F$5,そば!$A$6:$BI$130,52,FALSE)="…",NA(),IF(VLOOKUP(市町村別統計累年ファイル!$C$5&市町村別統計累年ファイル!$F$5,そば!$A$6:$BI$130,52,FALSE)="x",NA(),VLOOKUP(市町村別統計累年ファイル!$C$5&市町村別統計累年ファイル!$F$5,そば!$A$6:$BI$130,52,FALSE))))) -> 35 | Q19: =IF(市町村別統計累年ファイル!Q98="",0,IF(市町村別統計累年ファイル!Q98="…",0,IF(市町村別統計累年ファイル!Q98="-",0,IF(市町村別統計累年ファイル!Q98="x",0,市町村別統計累年ファイル!Q98)))) -> 0
A20: =G5 -> 28 | B20: =IF(市町村別統計累年ファイル!Q65="",NA(),IF(市町村別統計累年ファイル!Q65="…",NA(),IF(市町村別統計累年ファイル!Q65="-",NA(),IF(市町村別統計累年ファイル!Q65="x",NA(),市町村別統計累年ファイル!Q65)))) -> #N/A | C20: =IF(市町村別統計累年ファイル!T65="",NA(),IF(市町村別統計累年ファイル!T65="…",NA(),IF(市町村別統計累年ファイル!T65="-",NA(),IF(市町村別統計累年ファイル!T65="x",NA(),市町村別統計累年ファイル!T65)))) -> #N/A | D20: =IF(参照!$C$127="",NA(),IF(VLOOKUP(市町村別統計累年ファイル!$C$5&市町村別統計累年ファイル!$F$5,六条!$A$6:$BI$130,53,FALSE)="-",NA(),IF(VLOOKUP(市町村別統計累年ファイル!$C$5&市町村別統計累年ファイル!$F$5,六条!$A$6:$BI$130,53,FALSE)="…",NA(),IF(VLOOKUP(市町村別統計累年ファイル!$C$5&市町村別統計累年ファイル!$F$5,六条!$A$6:$BI$130,53,FALSE)="x",NA(),VLOOKUP(市町村別統計累年ファイル!$C$5&市町村別統計累年ファイル!$F$5,六条!$A$6:$BI$130,53,FALSE))))) -> 173 | E20: =IF(市町村別統計累年ファイル!Q65="",0,IF(市町村別統計累年ファイル!Q65="…",0,IF(市町村別統計累年ファイル!Q65="-",0,IF(市町村別統計累年ファイル!Q65="x",0,市町村別統計累年ファイル!Q65)))) -> 0 | G20: =G5 -> 28 | H20: =IF(市町村別統計累年ファイル!Q82="",NA(),IF(市町村別統計累年ファイル!Q82="…",NA(),IF(市町村別統計累年ファイル!Q82="-",NA(),IF(市町村別統計累年ファイル!Q82="x",NA(),市町村別統計累年ファイル!Q82)))) -> 57 | I20: =IF(市町村別統計累年ファイル!T82="",NA(),IF(市町村別統計累年ファイル!T82="…",NA(),IF(市町村別統計累年ファイル!T82="-",NA(),IF(市町村別統計累年ファイル!T82="x",NA(),市町村別統計累年ファイル!T82)))) -> 100 | J20: =IF(参照!$C$127="",NA(),IF(VLOOKUP(市町村別統計累年ファイル!$C$5&市町村別統計累年ファイル!$F$5,大豆!$A$6:$BI$130,53,FALSE)="-",NA(),IF(VLOOKUP(市町村別統計累年ファイル!$C$5&市町村別統計累年ファイル!$F$5,大豆!$A$6:$BI$130,53,FALSE)="…",NA(),IF(VLOOKUP(市町村別統計累年ファイル!$C$5&市町村別統計累年ファイル!$F$5,大豆!$A$6:$BI$130,53,FALSE)="x",NA(),VLOOKUP(市町村別統計累年ファイル!$C$5&市町村別統計累年ファイル!$F$5,大豆!$A$6:$BI$130,53,FALSE))))) -> 104 | K20: =IF(市町村別統計累年ファイル!Q82="",0,IF(市町村別統計累年ファイル!Q82="…",0,IF(市町村別統計累年ファイル!Q82="-",0,IF(市町村別統計累年ファイル!Q82="x",0,市町村別統計累年ファイル!Q82)))) -> 57 | M20: =G5 -> 28 | N20: =IF(市町村別統計累年ファイル!Q99="",NA(),IF(市町村別統計累年ファイル!Q99="…",NA(),IF(市町村別統計累年ファイル!Q99="-",NA(),IF(市町村別統計累年ファイル!Q99="x",NA(),市町村別統計累年ファイル!Q99)))) -> #N/A | O20: =IF(市町村別統計累年ファイル!T99="",NA(),IF(市町村別統計累年ファイル!T99="…",NA(),IF(市町村別統計累年ファイル!T99="-",NA(),IF(市町村別統計累年ファイル!T99="x",NA(),市町村別統計累年ファイル!T99)))) -> #N/A | P20: =IF(参照!$C$127="",NA(),IF(VLOOKUP(市町村別統計累年ファイル!$C$5&市町村別統計累年ファイル!$F$5,そば!$A$6:$BI$130,53,FALSE)="-",NA(),IF(VLOOKUP(市町村別統計累年ファイル!$C$5&市町村別統計累年ファイル!$F$5,そば!$A$6:$BI$130,53,FALSE)="…",NA(),IF(VLOOKUP(市町村別統計累年ファイル!$C$5&市町村別統計累年ファイル!$F$5,そば!$A$6:$BI$130,53,FALSE)="x",NA(),VLOOKUP(市町村別統計累年ファイル!$C$5&市町村別統計累年ファイル!$F$5,そば!$A$6:$BI$130,53,FALSE))))) -> 36 | Q20: =IF(市町村別統計累年ファイル!Q99="",0,IF(市町村別統計累年ファイル!Q99="…",0,IF(市町村別統計累年ファイル!Q99="-",0,IF(市町村別統計累年ファイル!Q99="x",0,市町村別統計累年ファイル!Q99)))) -> 0
A21: =G6 -> 29 | B21: =IF(市町村別統計累年ファイル!Q66="",NA(),IF(市町村別統計累年ファイル!Q66="…",NA(),IF(市町村別統計累年ファイル!Q66="-",NA(),IF(市町村別統計累年ファイル!Q66="x",NA(),市町村別統計累年ファイル!Q66)))) -> #N/A | C21: =IF(市町村別統計累年ファイル!T66="",NA(),IF(市町村別統計累年ファイル!T66="…",NA(),IF(市町村別統計累年ファイル!T66="-",NA(),IF(市町村別統計累年ファイル!T66="x",NA(),市町村別統計累年ファイル!T66)))) -> #N/A | D21: =IF(参照!$C$127="",NA(),IF(VLOOKUP(市町村別統計累年ファイル!$C$5&市町村別統計累年ファイル!$F$5,六条!$A$6:$BI$130,54,FALSE)="-",NA(),IF(VLOOKUP(市町村別統計累年ファイル!$C$5&市町村別統計累年ファイル!$F$5,六条!$A$6:$BI$130,54,FALSE)="…",NA(),IF(VLOOKUP(市町村別統計累年ファイル!$C$5&市町村別統計累年ファイル!$F$5,六条!$A$6:$BI$130,54,FALSE)="x",NA(),VLOOKUP(市町村別統計累年ファイル!$C$5&市町村別統計累年ファイル!$F$5,六条!$A$6:$BI$130,54,FALSE))))) -> 161 | E21: =IF(市町村別統計累年ファイル!Q66="",0,IF(市町村別統計累年ファイル!Q66="…",0,IF(市町村別統計累年ファイル!Q66="-",0,IF(市町村別統計累年ファイル!Q66="x",0,市町村別統計累年ファイル!Q66)))) -> 0 | G21: =G6 -> 29 | H21: =IF(市町村別統計累年ファイル!Q83="",NA(),IF(市町村別統計累年ファイル!Q83="…",NA(),IF(市町村別統計累年ファイル!Q83="-",NA(),IF(市町村別統計累年ファイル!Q83="x",NA(),市町村別統計累年ファイル!Q83)))) -> 67 | I21: =IF(市町村別統計累年ファイル!T83="",NA(),IF(市町村別統計累年ファイル!T83="…",NA(),IF(市町村別統計累年ファイル!T83="-",NA(),IF(市町村別統計累年ファイル!T83="x",NA(),市町村別統計累年ファイル!T83)))) -> 78 | J21: =IF(参照!$C$127="",NA(),IF(VLOOKUP(市町村別統計累年ファイル!$C$5&市町村別統計累年ファイル!$F$5,大豆!$A$6:$BI$130,54,FALSE)="-",NA(),IF(VLOOKUP(市町村別統計累年ファイル!$C$5&市町村別統計累年ファイル!$F$5,大豆!$A$6:$BI$130,54,FALSE)="…",NA(),IF(VLOOKUP(市町村別統計累年ファイル!$C$5&市町村別統計累年ファイル!$F$5,大豆!$A$6:$BI$130,54,FALSE)="x",NA(),VLOOKUP(市町村別統計累年ファイル!$C$5&市町村別統計累年ファイル!$F$5,大豆!$A$6:$BI$130,54,FALSE))))) -> 117 | K21: =IF(市町村別統計累年ファイル!Q83="",0,IF(市町村別統計累年ファイル!Q83="…",0,IF(市町村別統計累年ファイル!Q83="-",0,IF(市町村別統計累年ファイル!Q83="x",0,市町村別統計累年ファイル!Q83)))) -> 67 | M21: =G6 -> 29 | N21: =IF(市町村別統計累年ファイル!Q100="",NA(),IF(市町村別統計累年ファイル!Q100="…",NA(),IF(市町村別統計累年ファイル!Q100="-",NA(),IF(市町村別統計累年ファイル!Q100="x",NA(),市町村別統計累年ファイル!Q100)))) -> #N/A | O21: =IF(市町村別統計累年ファイル!T100="",NA(),IF(市町村別統計累年ファイル!T100="…",NA(),IF(市町村別統計累年ファイル!T100="-",NA(),IF(市町村別統計累年ファイル!T100="x",NA(),市町村別統計累年ファイル!T100)))) -> #N/A | P21: =IF(参照!$C$127="",NA(),IF(VLOOKUP(市町村別統計累年ファイル!$C$5&市町村別統計累年ファイル!$F$5,そば!$A$6:$BI$130,54,FALSE)="-",NA(),IF(VLOOKUP(市町村別統計累年ファイル!$C$5&市町村別統計累年ファイル!$F$5,そば!$A$6:$BI$130,54,FALSE)="…",NA(),IF(VLOOKUP(市町村別統計累年ファイル!$C$5&市町村別統計累年ファイル!$F$5,そば!$A$6:$BI$130,54,FALSE)="x",NA(),VLOOKUP(市町村別統計累年ファイル!$C$5&市町村別統計累年ファイル!$F$5,そば!$A$6:$BI$130,54,FALSE))))) -> 30 | Q21: =IF(市町村別統計累年ファイル!Q100="",0,IF(市町村別統計累年ファイル!Q100="…",0,IF(市町村別統計累年ファイル!Q100="-",0,IF(市町村別統計累年ファイル!Q100="x",0,市町村別統計累年ファイル!Q100)))) -> 0
A22: =G7 -> 30 | B22: =IF(市町村別統計累年ファイル!Q67="",NA(),IF(市町村別統計累年ファイル!Q67="…",NA(),IF(市町村別統計累年ファイル!Q67="-",NA(),IF(市町村別統計累年ファイル!Q67="x",NA(),市町村別統計累年ファイル!Q67)))) -> #N/A | C22: =IF(市町村別統計累年ファイル!T67="",NA(),IF(市町村別統計累年ファイル!T67="…",NA(),IF(市町村別統計累年ファイル!T67="-",NA(),IF(市町村別統計累年ファイル!T67="x",NA(),市町村別統計累年ファイル!T67)))) -> #N/A | D22: =IF(参照!$C$127="",NA(),IF(VLOOKUP(市町村別統計累年ファイル!$C$5&市町村別統計累年ファイル!$F$5,六条!$A$6:$BI$130,55,FALSE)="-",NA(),IF(VLOOKUP(市町村別統計累年ファイル!$C$5&市町村別統計累年ファイル!$F$5,六条!$A$6:$BI$130,55,FALSE)="…",NA(),IF(VLOOKUP(市町村別統計累年ファイル!$C$5&市町村別統計累年ファイル!$F$5,六条!$A$6:$BI$130,55,FALSE)="x",NA(),VLOOKUP(市町村別統計累年ファイル!$C$5&市町村別統計累年ファイル!$F$5,六条!$A$6:$BI$130,55,FALSE))))) -> 163 | E22: =IF(市町村別統計累年ファイル!Q67="",0,IF(市町村別統計累年ファイル!Q67="…",0,IF(市町村別統計累年ファイル!Q67="-",0,IF(市町村別統計累年ファイル!Q67="x",0,市町村別統計累年ファイル!Q67)))) -> 0 | G22: =G7 -> 30 | H22: =IF(市町村別統計累年ファイル!Q84="",NA(),IF(市町村別統計累年ファイル!Q84="…",NA(),IF(市町村別統計累年ファイル!Q84="-",NA(),IF(市町村別統計累年ファイル!Q84="x",NA(),市町村別統計累年ファイル!Q84)))) -> 65 | I22: =IF(市町村別統計累年ファイル!T84="",NA(),IF(市町村別統計累年ファイル!T84="…",NA(),IF(市町村別統計累年ファイル!T84="-",NA(),IF(市町村別統計累年ファイル!T84="x",NA(),市町村別統計累年ファイル!T84)))) -> 47 | J22: =IF(参照!$C$127="",NA(),IF(VLOOKUP(市町村別統計累年ファイル!$C$5&市町村別統計累年ファイル!$F$5,大豆!$A$6:$BI$130,55,FALSE)="-",NA(),IF(VLOOKUP(市町村別統計累年ファイル!$C$5&市町村別統計累年ファイル!$F$5,大豆!$A$6:$BI$130,55,FALSE)="…",NA(),IF(VLOOKUP(市町村別統計累年ファイル!$C$5&市町村別統計累年ファイル!$F$5,大豆!$A$6:$BI$130,55,FALSE)="x",NA(),VLOOKUP(市町村別統計累年ファイル!$C$5&市町村別統計累年ファイル!$F$5,大豆!$A$6:$BI$130,55,FALSE))))) -> 50 | K22: =IF(市町村別統計累年ファイル!Q84="",0,IF(市町村別統計累年ファイル!Q84="…",0,IF(市町村別統計累年ファイル!Q84="-",0,IF(市町村別統計累年ファイル!Q84="x",0,市町村別統計累年ファイル!Q84)))) -> 65 | M22: =G7 -> 30 | N22: =IF(市町村別統計累年ファイル!Q101="",NA(),IF(市町村別統計累年ファイル!Q101="…",NA(),IF(市町村別統計累年ファイル!Q101="-",NA(),IF(市町村別統計累年ファイル!Q101="x",NA(),市町村別統計累年ファイル!Q101)))) -> #N/A | O22: =IF(市町村別統計累年ファイル!T101="",NA(),IF(市町村別統計累年ファイル!T101="…",NA(),IF(市町村別統計累年ファイル!T101="-",NA(),IF(市町村別統計累年ファイル!T101="x",NA(),市町村別統計累年ファイル!T101)))) -> #N/A | P22: =IF(参照!$C$127="",NA(),IF(VLOOKUP(市町村別統計累年ファイル!$C$5&市町村別統計累年ファイル!$F$5,そば!$A$6:$BI$130,55,FALSE)="-",NA(),IF(VLOOKUP(市町村別統計累年ファイル!$C$5&市町村別統計累年ファイル!$F$5,そば!$A$6:$BI$130,55,FALSE)="…",NA(),IF(VLOOKUP(市町村別統計累年ファイル!$C$5&市町村別統計累年ファイル!$F$5,そば!$A$6:$BI$130,55,FALSE)="x",NA(),VLOOKUP(市町村別統計累年ファイル!$C$5&市町村別統計累年ファイル!$F$5,そば!$A$6:$BI$130,55,FALSE))))) -> 29 | Q22: =IF(市町村別統計累年ファイル!Q101="",0,IF(市町村別統計累年ファイル!Q101="…",0,IF(市町村別統計累年ファイル!Q101="-",0,IF(市町村別統計累年ファイル!Q101="x",0,市町村別統計累年ファイル!Q101)))) -> 0
A23: =G8 -> 令和 元年産 | B23: =IF(市町村別統計累年ファイル!Q68="",NA(),IF(市町村別統計累年ファイル!Q68="…",NA(),IF(市町村別統計累年ファイル!Q68="-",NA(),IF(市町村別統計累年ファイル!Q68="x",NA(),市町村別統計累年ファイル!Q68)))) -> #N/A | C23: =IF(市町村別統計累年ファイル!T68="",NA(),IF(市町村別統計累年ファイル!T68="…",NA(),IF(市町村別統計累年ファイル!T68="-",NA(),IF(市町村別統計累年ファイル!T68="x",NA(),市町村別統計累年ファイル!T68)))) -> #N/A | D23: =IF(参照!$C$127="",NA(),IF(VLOOKUP(市町村別統計累年ファイル!$C$5&市町村別統計累年ファイル!$F$5,六条!$A$6:$BI$130,56,FALSE)="-",NA(),IF(VLOOKUP(市町村別統計累年ファイル!$C$5&市町村別統計累年ファイル!$F$5,六条!$A$6:$BI$130,56,FALSE)="…",NA(),IF(VLOOKUP(市町村別統計累年ファイル!$C$5&市町村別統計累年ファイル!$F$5,六条!$A$6:$BI$130,56,FALSE)="x",NA(),VLOOKUP(市町村別統計累年ファイル!$C$5&市町村別統計累年ファイル!$F$5,六条!$A$6:$BI$130,56,FALSE))))) -> 214 | E23: =IF(市町村別統計累年ファイル!Q68="",0,IF(市町村別統計累年ファイル!Q68="…",0,IF(市町村別統計累年ファイル!Q68="-",0,IF(市町村別統計累年ファイル!Q68="x",0,市町村別統計累年ファイル!Q68)))) -> 0 | G23: =G8 -> 令和 元年産 | H23: =IF(市町村別統計累年ファイル!Q85="",NA(),IF(市町村別統計累年ファイル!Q85="…",NA(),IF(市町村別統計累年ファイル!Q85="-",NA(),IF(市町村別統計累年ファイル!Q85="x",NA(),市町村別統計累年ファイル!Q85)))) -> 61 | I23: =IF(市町村別統計累年ファイル!T85="",NA(),IF(市町村別統計累年ファイル!T85="…",NA(),IF(市町村別統計累年ファイル!T85="-",NA(),IF(市町村別統計累年ファイル!T85="x",NA(),市町村別統計累年ファイル!T85)))) -> 94 | J23: =IF(参照!$C$127="",NA(),IF(VLOOKUP(市町村別統計累年ファイル!$C$5&市町村別統計累年ファイル!$F$5,大豆!$A$6:$BI$130,56,FALSE)="-",NA(),IF(VLOOKUP(市町村別統計累年ファイル!$C$5&市町村別統計累年ファイル!$F$5,大豆!$A$6:$BI$130,56,FALSE)="…",NA(),IF(VLOOKUP(市町村別統計累年ファイル!$C$5&市町村別統計累年ファイル!$F$5,大豆!$A$6:$BI$130,56,FALSE)="x",NA(),VLOOKUP(市町村別統計累年ファイル!$C$5&市町村別統計累年ファイル!$F$5,大豆!$A$6:$BI$130,56,FALSE))))) -> 113 | K23: =IF(市町村別統計累年ファイル!Q85="",0,IF(市町村別統計累年ファイル!Q85="…",0,IF(市町村別統計累年ファイル!Q85="-",0,IF(市町村別統計累年ファイル!Q85="x",0,市町村別統計累年ファイル!Q85)))) -> 61 | M23: =G8 -> 令和 元年産 | N23: =IF(市町村別統計累年ファイル!Q102="",NA(),IF(市町村別統計累年ファイル!Q102="…",NA(),IF(市町村別統計累年ファイル!Q102="-",NA(),IF(市町村別統計累年ファイル!Q102="x",NA(),市町村別統計累年ファイル!Q102)))) -> #N/A | O23: =IF(市町村別統計累年ファイル!T102="",NA(),IF(市町村別統計累年ファイル!T102="…",NA(),IF(市町村別統計累年ファイル!T102="-",NA(),IF(市町村別統計累年ファイル!T102="x",NA(),市町村別統計累年ファイル!T102)))) -> #N/A | P23: =IF(参照!$C$127="",NA(),IF(VLOOKUP(市町村別統計累年ファイル!$C$5&市町村別統計累年ファイル!$F$5,そば!$A$6:$BI$130,56,FALSE)="-",NA(),IF(VLOOKUP(市町村別統計累年ファイル!$C$5&市町村別統計累年ファイル!$F$5,そば!$A$6:$BI$130,56,FALSE)="…",NA(),IF(VLOOKUP(市町村別統計累年ファイル!$C$5&市町村別統計累年ファイル!$F$5,そば!$A$6:$BI$130,56,FALSE)="x",NA(),VLOOKUP(市町村別統計累年ファイル!$C$5&市町村別統計累年ファイル!$F$5,そば!$A$6:$BI$130,56,FALSE))))) -> 48 | Q23: =IF(市町村別統計累年ファイル!Q102="",0,IF(市町村別統計累年ファイル!Q102="…",0,IF(市町村別統計累年ファイル!Q102="-",0,IF(市町村別統計累年ファイル!Q102="x",0,市町村別統計累年ファイル!Q102)))) -> 0
A24: =G9 -> 2 | B24: =IF(市町村別統計累年ファイル!Q69="",NA(),IF(市町村別統計累年ファイル!Q69="…",NA(),IF(市町村別統計累年ファイル!Q69="-",NA(),IF(市町村別統計累年ファイル!Q69="x",NA(),市町村別統計累年ファイル!Q69)))) -> #N/A | C24: =IF(市町村別統計累年ファイル!T69="",NA(),IF(市町村別統計累年ファイル!T69="…",NA(),IF(市町村別統計累年ファイル!T69="-",NA(),IF(市町村別統計累年ファイル!T69="x",NA(),市町村別統計累年ファイル!T69)))) -> #N/A | D24: =IF(参照!$C$127="",NA(),IF(VLOOKUP(市町村別統計累年ファイル!$C$5&市町村別統計累年ファイル!$F$5,六条!$A$6:$BI$130,57,FALSE)="-",NA(),IF(VLOOKUP(市町村別統計累年ファイル!$C$5&市町村別統計累年ファイル!$F$5,六条!$A$6:$BI$130,57,FALSE)="…",NA(),IF(VLOOKUP(市町村別統計累年ファイル!$C$5&市町村別統計累年ファイル!$F$5,六条!$A$6:$BI$130,57,FALSE)="x",NA(),VLOOKUP(市町村別統計累年ファイル!$C$5&市町村別統計累年ファイル!$F$5,六条!$A$6:$BI$130,57,FALSE))))) -> 243 | E24: =IF(市町村別統計累年ファイル!Q69="",0,IF(市町村別統計累年ファイル!Q69="…",0,IF(市町村別統計累年ファイル!Q69="-",0,IF(市町村別統計累年ファイル!Q69="x",0,市町村別統計累年ファイル!Q69)))) -> 0 | G24: =G9 -> 2 | H24: =IF(市町村別統計累年ファイル!Q86="",NA(),IF(市町村別統計累年ファイル!Q86="…",NA(),IF(市町村別統計累年ファイル!Q86="-",NA(),IF(市町村別統計累年ファイル!Q86="x",NA(),市町村別統計累年ファイル!Q86)))) -> 55 | I24: =IF(市町村別統計累年ファイル!T86="",NA(),IF(市町村別統計累年ファイル!T86="…",NA(),IF(市町村別統計累年ファイル!T86="-",NA(),IF(市町村別統計累年ファイル!T86="x",NA(),市町村別統計累年ファイル!T86)))) -> 94 | J24: =IF(参照!$C$127="",NA(),IF(VLOOKUP(市町村別統計累年ファイル!$C$5&市町村別統計累年ファイル!$F$5,大豆!$A$6:$BI$130,57,FALSE)="-",NA(),IF(VLOOKUP(市町村別統計累年ファイル!$C$5&市町村別統計累年ファイル!$F$5,大豆!$A$6:$BI$130,57,FALSE)="…",NA(),IF(VLOOKUP(市町村別統計累年ファイル!$C$5&市町村別統計累年ファイル!$F$5,大豆!$A$6:$BI$130,57,FALSE)="x",NA(),VLOOKUP(市町村別統計累年ファイル!$C$5&市町村別統計累年ファイル!$F$5,大豆!$A$6:$BI$130,57,FALSE))))) -> 99 | K24: =IF(市町村別統計累年ファイル!Q86="",0,IF(市町村別統計累年ファイル!Q86="…",0,IF(市町村別統計累年ファイル!Q86="-",0,IF(市町村別統計累年ファイル!Q86="x",0,市町村別統計累年ファイル!Q86)))) -> 55 | M24: =G9 -> 2 | N24: =IF(市町村別統計累年ファイル!Q103="",NA(),IF(市町村別統計累年ファイル!Q103="…",NA(),IF(市町村別統計累年ファイル!Q103="-",NA(),IF(市町村別統計累年ファイル!Q103="x",NA(),市町村別統計累年ファイル!Q103)))) -> #N/A | O24: =IF(市町村別統計累年ファイル!T103="",NA(),IF(市町村別統計累年ファイル!T103="…",NA(),IF(市町村別統計累年ファイル!T103="-",NA(),IF(市町村別統計累年ファイル!T103="x",NA(),市町村別統計累年ファイル!T103)))) -> #N/A | P24: =IF(参照!$C$127="",NA(),IF(VLOOKUP(市町村別統計累年ファイル!$C$5&市町村別統計累年ファイル!$F$5,そば!$A$6:$BI$130,57,FALSE)="-",NA(),IF(VLOOKUP(市町村別統計累年ファイル!$C$5&市町村別統計累年ファイル!$F$5,そば!$A$6:$BI$130,57,FALSE)="…",NA(),IF(VLOOKUP(市町村別統計累年ファイル!$C$5&市町村別統計累年ファイル!$F$5,そば!$A$6:$BI$130,57,FALSE)="x",NA(),VLOOKUP(市町村別統計累年ファイル!$C$5&市町村別統計累年ファイル!$F$5,そば!$A$6:$BI$130,57,FALSE))))) -> 63 | Q24: =IF(市町村別統計累年ファイル!Q103="",0,IF(市町村別統計累年ファイル!Q103="…",0,IF(市町村別統計累年ファイル!Q103="-",0,IF(市町村別統計累年ファイル!Q103="x",0,市町村別統計累年ファイル!Q103)))) -> 0
A25: =G10 -> 3 | B25: =IF(市町村別統計累年ファイル!Q70="",NA(),IF(市町村別統計累年ファイル!Q70="…",NA(),IF(市町村別統計累年ファイル!Q70="-",NA(),IF(市町村別統計累年ファイル!Q70="x",NA(),市町村別統計累年ファイル!Q70)))) -> #N/A | C25: =IF(市町村別統計累年ファイル!T70="",NA(),IF(市町村別統計累年ファイル!T70="…",NA(),IF(市町村別統計累年ファイル!T70="-",NA(),IF(市町村別統計累年ファイル!T70="x",NA(),市町村別統計累年ファイル!T70)))) -> #N/A | D25: =IF(参照!$C$127="",NA(),IF(VLOOKUP(市町村別統計累年ファイル!$C$5&市町村別統計累年ファイル!$F$5,六条!$A$6:$BI$130,58,FALSE)="-",NA(),IF(VLOOKUP(市町村別統計累年ファイル!$C$5&市町村別統計累年ファイル!$F$5,六条!$A$6:$BI$130,58,FALSE)="…",NA(),IF(VLOOKUP(市町村別統計累年ファイル!$C$5&市町村別統計累年ファイル!$F$5,六条!$A$6:$BI$130,58,FALSE)="x",NA(),VLOOKUP(市町村別統計累年ファイル!$C$5&市町村別統計累年ファイル!$F$5,六条!$A$6:$BI$130,58,FALSE))))) -> 175 | E25: =IF(市町村別統計累年ファイル!Q70="",0,IF(市町村別統計累年ファイル!Q70="…",0,IF(市町村別統計累年ファイル!Q70="-",0,IF(市町村別統計累年ファイル!Q70="x",0,市町村別統計累年ファイル!Q70)))) -> 0 | G25: =G10 -> 3 | H25: =IF(市町村別統計累年ファイル!Q87="",NA(),IF(市町村別統計累年ファイル!Q87="…",NA(),IF(市町村別統計累年ファイル!Q87="-",NA(),IF(市町村別統計累年ファイル!Q87="x",NA(),市町村別統計累年ファイル!Q87)))) -> 74 | I25: =IF(市町村別統計累年ファイル!T87="",NA(),IF(市町村別統計累年ファイル!T87="…",NA(),IF(市町村別統計累年ファイル!T87="-",NA(),IF(市町村別統計累年ファイル!T87="x",NA(),市町村別統計累年ファイル!T87)))) -> 122 | J25: =IF(参照!$C$127="",NA(),IF(VLOOKUP(市町村別統計累年ファイル!$C$5&市町村別統計累年ファイル!$F$5,大豆!$A$6:$BI$130,58,FALSE)="-",NA(),IF(VLOOKUP(市町村別統計累年ファイル!$C$5&市町村別統計累年ファイル!$F$5,大豆!$A$6:$BI$130,58,FALSE)="…",NA(),IF(VLOOKUP(市町村別統計累年ファイル!$C$5&市町村別統計累年ファイル!$F$5,大豆!$A$6:$BI$130,58,FALSE)="x",NA(),VLOOKUP(市町村別統計累年ファイル!$C$5&市町村別統計累年ファイル!$F$5,大豆!$A$6:$BI$130,58,FALSE))))) -> 102 | K25: =IF(市町村別統計累年ファイル!Q87="",0,IF(市町村別統計累年ファイル!Q87="…",0,IF(市町村別統計累年ファイル!Q87="-",0,IF(市町村別統計累年ファイル!Q87="x",0,市町村別統計累年ファイル!Q87)))) -> 74 | M25: =G10 -> 3 | N25: =IF(市町村別統計累年ファイル!Q104="",NA(),IF(市町村別統計累年ファイル!Q104="…",NA(),IF(市町村別統計累年ファイル!Q104="-",NA(),IF(市町村別統計累年ファイル!Q104="x",NA(),市町村別統計累年ファイル!Q104)))) -> #N/A | O25: =IF(市町村別統計累年ファイル!T104="",NA(),IF(市町村別統計累年ファイル!T104="…",NA(),IF(市町村別統計累年ファイル!T104="-",NA(),IF(市町村別統計累年ファイル!T104="x",NA(),市町村別統計累年ファイル!T104)))) -> #N/A | P25: =IF(参照!$C$127="",NA(),IF(VLOOKUP(市町村別統計累年ファイル!$C$5&市町村別統計累年ファイル!$F$5,そば!$A$6:$BI$130,58,FALSE)="-",NA(),IF(VLOOKUP(市町村別統計累年ファイル!$C$5&市町村別統計累年ファイル!$F$5,そば!$A$6:$BI$130,58,FALSE)="…",NA(),IF(VLOOKUP(市町村別統計累年ファイル!$C$5&市町村別統計累年ファイル!$F$5,そば!$A$6:$BI$130,58,FALSE)="x",NA(),VLOOKUP(市町村別統計累年ファイル!$C$5&市町村別統計累年ファイル!$F$5,そば!$A$6:$BI$130,58,FALSE))))) -> 36 | Q25: =IF(市町村別統計累年ファイル!Q104="",0,IF(市町村別統計累年ファイル!Q104="…",0,IF(市町村別統計累年ファイル!Q104="-",0,IF(市町村別統計累年ファイル!Q104="x",0,市町村別統計累年ファイル!Q104)))) -> 0
A26: =G11 -> 4 | B26: =IF(市町村別統計累年ファイル!Q71="",NA(),IF(市町村別統計累年ファイル!Q71="…",NA(),IF(市町村別統計累年ファイル!Q71="-",NA(),IF(市町村別統計累年ファイル!Q71="x",NA(),市町村別統計累年ファイル!Q71)))) -> #N/A | C26: =IF(市町村別統計累年ファイル!T71="",NA(),IF(市町村別統計累年ファイル!T71="…",NA(),IF(市町村別統計累年ファイル!T71="-",NA(),IF(市町村別統計累年ファイル!T71="x",NA(),市町村別統計累年ファイル!T71)))) -> #N/A | D26: =IF(参照!$C$127="",NA(),IF(VLOOKUP(市町村別統計累年ファイル!$C$5&市町村別統計累年ファイル!$F$5,六条!$A$6:$BI$130,59,FALSE)="-",NA(),IF(VLOOKUP(市町村別統計累年ファイル!$C$5&市町村別統計累年ファイル!$F$5,六条!$A$6:$BI$130,59,FALSE)="…",NA(),IF(VLOOKUP(市町村別統計累年ファイル!$C$5&市町村別統計累年ファイル!$F$5,六条!$A$6:$BI$130,59,FALSE)="x",NA(),VLOOKUP(市町村別統計累年ファイル!$C$5&市町村別統計累年ファイル!$F$5,六条!$A$6:$BI$130,59,FALSE))))) -> 232 | E26: =IF(市町村別統計累年ファイル!Q71="",0,IF(市町村別統計累年ファイル!Q71="…",0,IF(市町村別統計累年ファイル!Q71="-",0,IF(市町村別統計累年ファイル!Q71="x",0,市町村別統計累年ファイル!Q71)))) -> 0 | G26: =G11 -> 4 | H26: =IF(市町村別統計累年ファイル!Q88="",NA(),IF(市町村別統計累年ファイル!Q88="…",NA(),IF(市町村別統計累年ファイル!Q88="-",NA(),IF(市町村別統計累年ファイル!Q88="x",NA(),市町村別統計累年ファイル!Q88)))) -> 59 | I26: =IF(市町村別統計累年ファイル!T88="",NA(),IF(市町村別統計累年ファイル!T88="…",NA(),IF(市町村別統計累年ファイル!T88="-",NA(),IF(市町村別統計累年ファイル!T88="x",NA(),市町村別統計累年ファイル!T88)))) -> 129 | J26: =IF(参照!$C$127="",NA(),IF(VLOOKUP(市町村別統計累年ファイル!$C$5&市町村別統計累年ファイル!$F$5,大豆!$A$6:$BI$130,59,FALSE)="-",NA(),IF(VLOOKUP(市町村別統計累年ファイル!$C$5&市町村別統計累年ファイル!$F$5,大豆!$A$6:$BI$130,59,FALSE)="…",NA(),IF(VLOOKUP(市町村別統計累年ファイル!$C$5&市町村別統計累年ファイル!$F$5,大豆!$A$6:$BI$130,59,FALSE)="x",NA(),VLOOKUP(市町村別統計累年ファイル!$C$5&市町村別統計累年ファイル!$F$5,大豆!$A$6:$BI$130,59,FALSE))))) -> 115 | K26: =IF(市町村別統計累年ファイル!Q88="",0,IF(市町村別統計累年ファイル!Q88="…",0,IF(市町村別統計累年ファイル!Q88="-",0,IF(市町村別統計累年ファイル!Q88="x",0,市町村別統計累年ファイル!Q88)))) -> 59 | M26: =G11 -> 4 | N26: =IF(市町村別統計累年ファイル!Q105="",NA(),IF(市町村別統計累年ファイル!Q105="…",NA(),IF(市町村別統計累年ファイル!Q105="-",NA(),IF(市町村別統計累年ファイル!Q105="x",NA(),市町村別統計累年ファイル!Q105)))) -> #N/A | O26: =IF(市町村別統計累年ファイル!T105="",NA(),IF(市町村別統計累年ファイル!T105="…",NA(),IF(市町村別統計累年ファイル!T105="-",NA(),IF(市町村別統計累年ファイル!T105="x",NA(),市町村別統計累年ファイル!T105)))) -> #N/A | P26: =IF(参照!$C$127="",NA(),IF(VLOOKUP(市町村別統計累年ファイル!$C$5&市町村別統計累年ファイル!$F$5,そば!$A$6:$BI$130,59,FALSE)="-",NA(),IF(VLOOKUP(市町村別統計累年ファイル!$C$5&市町村別統計累年ファイル!$F$5,そば!$A$6:$BI$130,59,FALSE)="…",NA(),IF(VLOOKUP(市町村別統計累年ファイル!$C$5&市町村別統計累年ファイル!$F$5,そば!$A$6:$BI$130,59,FALSE)="x",NA(),VLOOKUP(市町村別統計累年ファイル!$C$5&市町村別統計累年ファイル!$F$5,そば!$A$6:$BI$130,59,FALSE))))) -> 34 | Q26: =IF(市町村別統計累年ファイル!Q105="",0,IF(市町村別統計累年ファイル!Q105="…",0,IF(市町村別統計累年ファイル!Q105="-",0,IF(市町村別統計累年ファイル!Q105="x",0,市町村別統計累年ファイル!Q105)))) -> 0
A27: =G12 -> 5 | B27: =IF(市町村別統計累年ファイル!Q72="",NA(),IF(市町村別統計累年ファイル!Q72="…",NA(),IF(市町村別統計累年ファイル!Q72="-",NA(),IF(市町村別統計累年ファイル!Q72="x",NA(),市町村別統計累年ファイル!Q72)))) -> #N/A | C27: =IF(市町村別統計累年ファイル!T72="",NA(),IF(市町村別統計累年ファイル!T72="…",NA(),IF(市町村別統計累年ファイル!T72="-",NA(),IF(市町村別統計累年ファイル!T72="x",NA(),市町村別統計累年ファイル!T72)))) -> #N/A | D27: =IF(参照!$C$127="",NA(),IF(VLOOKUP(市町村別統計累年ファイル!$C$5&市町村別統計累年ファイル!$F$5,六条!$A$6:$BI$130,60,FALSE)="-",NA(),IF(VLOOKUP(市町村別統計累年ファイル!$C$5&市町村別統計累年ファイル!$F$5,六条!$A$6:$BI$130,60,FALSE)="…",NA(),IF(VLOOKUP(市町村別統計累年ファイル!$C$5&市町村別統計累年ファイル!$F$5,六条!$A$6:$BI$130,60,FALSE)="x",NA(),VLOOKUP(市町村別統計累年ファイル!$C$5&市町村別統計累年ファイル!$F$5,六条!$A$6:$BI$130,60,FALSE))))) -> 190 | E27: =IF(市町村別統計累年ファイル!Q72="",0,IF(市町村別統計累年ファイル!Q72="…",0,IF(市町村別統計累年ファイル!Q72="-",0,IF(市町村別統計累年ファイル!Q72="x",0,市町村別統計累年ファイル!Q72)))) -> 0 | G27: =G12 -> 5 | H27: =IF(市町村別統計累年ファイル!Q89="",NA(),IF(市町村別統計累年ファイル!Q89="…",NA(),IF(市町村別統計累年ファイル!Q89="-",NA(),IF(市町村別統計累年ファイル!Q89="x",NA(),市町村別統計累年ファイル!Q89)))) -> 76 | I27: =IF(市町村別統計累年ファイル!T89="",NA(),IF(市町村別統計累年ファイル!T89="…",NA(),IF(市町村別統計累年ファイル!T89="-",NA(),IF(市町村別統計累年ファイル!T89="x",NA(),市町村別統計累年ファイル!T89)))) -> 142 | J27: =IF(参照!$C$127="",NA(),IF(VLOOKUP(市町村別統計累年ファイル!$C$5&市町村別統計累年ファイル!$F$5,大豆!$A$6:$BI$130,60,FALSE)="-",NA(),IF(VLOOKUP(市町村別統計累年ファイル!$C$5&市町村別統計累年ファイル!$F$5,大豆!$A$6:$BI$130,60,FALSE)="…",NA(),IF(VLOOKUP(市町村別統計累年ファイル!$C$5&市町村別統計累年ファイル!$F$5,大豆!$A$6:$BI$130,60,FALSE)="x",NA(),VLOOKUP(市町村別統計累年ファイル!$C$5&市町村別統計累年ファイル!$F$5,大豆!$A$6:$BI$130,60,FALSE))))) -> 122 | K27: =IF(市町村別統計累年ファイル!Q89="",0,IF(市町村別統計累年ファイル!Q89="…",0,IF(市町村別統計累年ファイル!Q89="-",0,IF(市町村別統計累年ファイル!Q89="x",0,市町村別統計累年ファイル!Q89)))) -> 76 | M27: =G12 -> 5 | N27: =IF(市町村別統計累年ファイル!Q106="",NA(),IF(市町村別統計累年ファイル!Q106="…",NA(),IF(市町村別統計累年ファイル!Q106="-",NA(),IF(市町村別統計累年ファイル!Q106="x",NA(),市町村別統計累年ファイル!Q106)))) -> #N/A | O27: =IF(市町村別統計累年ファイル!T106="",NA(),IF(市町村別統計累年ファイル!T106="…",NA(),IF(市町村別統計累年ファイル!T106="-",NA(),IF(市町村別統計累年ファイル!T106="x",NA(),市町村別統計累年ファイル!T106)))) -> #N/A | P27: =IF(参照!$C$127="",NA(),IF(VLOOKUP(市町村別統計累年ファイル!$C$5&市町村別統計累年ファイル!$F$5,そば!$A$6:$BI$130,60,FALSE)="-",NA(),IF(VLOOKUP(市町村別統計累年ファイル!$C$5&市町村別統計累年ファイル!$F$5,そば!$A$6:$BI$130,60,FALSE)="…",NA(),IF(VLOOKUP(市町村別統計累年ファイル!$C$5&市町村別統計累年ファイル!$F$5,そば!$A$6:$BI$130,60,FALSE)="x",NA(),VLOOKUP(市町村別統計累年ファイル!$C$5&市町村別統計累年ファイル!$F$5,そば!$A$6:$BI$130,60,FALSE))))) -> 45 | Q27: =IF(市町村別統計累年ファイル!Q106="",0,IF(市町村別統計累年ファイル!Q106="…",0,IF(市町村別統計累年ファイル!Q106="-",0,IF(市町村別統計累年ファイル!Q106="x",0,市町村別統計累年ファイル!Q106)))) -> 0
